{"text_format":"1","workbook":"xlsx","n_sheets":7,"sheets":["Program","Programska_aktivnost","Sheet1","Захтев за додатна сред.","Projekat","Sheet2","Uputstvo"],"not_rendered":{"charts":0,"images":6,"macros":1,"external_links":0,"defined_names":263,"comments":4,"pivot_tables":0},"unopened":[],"bounds":{"document_bytes":16777216,"sheet_cells":100000,"rows_first":2000,"rows_last":500,"rows_between":2000,"halvings":0,"cell_chars":16384,"cell_head_chars":4096},"cells_cut":0,"cells_raw":0,"read":"whole","date_system":"1900"}

{"sheet":"Program","index":0,"n_rows":532,"n_cols":41,"rows_kept":532,"cut":false,"hidden":false,"merged":[[0,0,0,14],[1,0,1,14],[6,3,6,14],[7,3,7,14],[7,0,7,2],[6,0,6,2],[5,3,5,10],[5,0,5,2],[4,0,4,2],[3,3,3,10],[3,0,3,2],[12,0,13,0],[12,3,12,14],[13,11,13,14],[13,3,13,5],[19,11,19,14],[22,11,22,14],[20,0,22,0],[20,3,20,5],[22,3,22,5],[21,3,21,5],[12,1,13,2],[25,3,25,5],[30,3,30,14],[31,11,31,14],[24,3,24,14],[8,3,8,14],[9,3,9,14],[10,3,10,14],[8,0,8,2],[19,3,19,5],[20,1,22,2],[10,0,10,2],[18,1,19,2],[18,3,18,14],[14,1,16,2],[14,11,14,14],[15,11,15,14],[16,11,16,14],[14,3,14,5],[15,3,15,5],[16,3,16,5],[21,11,21,14],[9,0,9,2],[14,0,16,0],[18,0,19,0],[36,0,37,0],[458,1,458,2],[470,1,470,2],[44,1,45,1],[28,11,28,14],[26,3,26,5],[20,11,20,14],[44,0,45,0],[38,3,38,5],[33,3,33,5],[30,1,31,2],[32,1,34,2],[32,3,32,5],[31,3,31,5],[28,3,28,5],[26,1,28,2],[44,2,45,2],[26,11,26,14],[27,11,27,14],[27,3,27,5],[25,11,25,14],[24,1,25,2],[24,0,25,0],[26,0,28,0],[465,9,465,10],[466,9,466,10],[467,9,467,10],[467,5,467,6],[467,7,467,8],[38,1,40,2],[471,7,471,8],[30,0,31,0],[32,0,34,0],[468,1,468,2],[471,3,471,4],[36,1,37,2],[34,3,34,5],[37,3,37,5],[36,3,36,14],[37,11,37,14],[38,0,40,0],[460,5,460,6],[454,3,454,4],[454,5,454,6],[459,3,459,4],[465,3,465,4],[464,3,464,4],[463,1,463,2],[462,5,462,6],[462,3,462,4],[44,7,44,8],[454,13,454,14],[32,11,32,14],[33,11,33,14],[34,11,34,14],[40,3,40,5],[39,11,39,14],[40,11,40,14],[38,11,38,14],[39,3,39,5],[460,3,460,4],[459,5,459,6],[458,3,458,4],[458,5,458,6],[44,5,44,6],[456,3,456,4],[465,5,465,6],[466,5,466,6],[469,5,469,6],[468,3,468,4],[468,5,468,6],[471,5,471,6],[472,5,472,6],[43,0,43,14],[44,3,44,4],[461,7,461,8],[462,7,462,8],[44,9,44,10],[454,1,454,2],[44,13,44,14],[44,11,44,12],[460,11,460,12],[455,11,455,12],[460,13,460,14],[462,13,462,14],[460,1,460,2],[462,1,462,2],[459,1,459,2],[461,1,461,2],[461,5,461,6],[481,1,481,2],[478,5,478,6],[478,3,478,4],[478,1,479,2],[474,3,474,4],[482,1,482,2],[467,1,467,2],[473,0,473,1],[472,1,472,2],[478,0,479,0],[472,3,472,4],[470,5,470,6],[526,12,526,13],[461,13,461,14],[463,13,463,14],[468,13,468,14],[467,11,467,12],[466,13,466,14],[476,0,476,14],[480,1,480,2],[467,13,467,14],[473,5,473,6],[485,1,485,2],[478,9,478,10],[470,11,470,12],[472,13,472,14],[464,13,464,14],[465,13,465,14],[465,11,465,12],[478,13,478,14],[464,9,464,10],[473,11,473,12],[473,9,473,10],[463,9,463,10],[468,9,468,10],[471,11,471,12],[473,13,473,14],[468,11,468,12],[478,11,478,12],[471,1,471,2],[470,7,470,8],[478,7,478,8],[473,3,473,4],[474,5,474,6],[474,9,474,10],[474,11,474,12],[472,11,472,12],[474,13,474,14],[470,9,470,10],[469,9,469,10],[470,13,470,14],[471,13,471,14],[474,7,474,8],[473,7,473,8],[468,7,468,8],[472,7,472,8],[471,9,471,10],[472,9,472,10],[512,1,512,2],[513,1,513,2],[507,1,507,2],[456,5,456,6],[457,1,457,2],[457,3,457,4],[470,3,470,4],[456,1,456,2],[521,0,521,1],[518,1,518,2],[519,1,519,2],[520,1,520,2],[517,1,517,2],[508,1,508,2],[514,1,514,2],[515,1,515,2],[516,1,516,2],[509,1,509,2],[487,1,487,2],[500,1,500,2],[497,1,497,2],[498,1,498,2],[499,1,499,2],[506,1,506,2],[495,1,495,2],[456,7,456,8],[456,9,456,10],[467,3,467,4],[466,3,466,4],[464,7,464,8],[486,1,486,2],[510,1,510,2],[511,1,511,2],[494,1,494,2],[503,1,503,2],[504,1,504,2],[505,1,505,2],[502,1,502,2],[483,1,483,2],[501,1,501,2],[490,1,490,2],[491,1,491,2],[492,1,492,2],[493,1,493,2],[488,1,488,2],[489,1,489,2],[484,1,484,2],[496,1,496,2],[464,1,464,2],[457,5,457,6],[454,9,454,10],[455,7,455,8],[454,7,454,8],[469,11,469,12],[463,11,463,12],[458,7,458,8],[459,11,459,12],[458,9,458,10],[461,9,461,10],[462,9,462,10],[464,11,464,12],[454,11,454,12],[459,7,459,8],[469,7,469,8],[465,7,465,8],[466,7,466,8],[463,3,463,4],[461,3,461,4],[465,1,465,2],[466,1,466,2],[463,5,463,6],[464,5,464,6],[463,7,463,8],[460,7,460,8],[456,11,456,12],[457,9,457,10],[457,11,457,12],[457,7,457,8],[469,13,469,14],[455,1,455,2],[455,3,455,4],[455,5,455,6],[459,9,459,10],[459,13,459,14],[460,9,460,10],[458,11,458,12],[455,9,455,10],[469,3,469,4],[457,13,457,14],[456,13,456,14],[466,11,466,12],[461,11,461,12],[462,11,462,12],[458,13,458,14],[455,13,455,14],[469,1,469,2]]}
["Обрасци за припрему програмског буџета",null,null,null,null,null,null,null,null,null,null,null,null,null,null,null,null,null,null,null,null,null,null,{"$f":"COUNT(#REF!)","v":0},0,null,null,"Kontrole","p/r",{"$f":"D193-D452","v":0},{"$f":"E193-E452","v":0},0,0,0,0,0,0,0,0,{"$f":"N193-N452","v":0},{"$f":"O193-O452","v":0}]
["1. ПРОГРАМ ",null,null,null,null,null,null,null,null,null,null,null,null,null,null,null,null,null,null,null,null,null,null,null,null,null,null,null,"p+r/i",{"$f":"D452+E452-D474","v":0},{"$f":"F452+G452-F474","v":0},{"$f":"H452+I452-H474","v":0},{"$f":"J452+K452-J474","v":0},{"$f":"L452+M452-L474","v":0},{"$f":"N452+O452-N474","v":0}]
[null,null,null,null,null,null,null,null,null,null,null,null,null,null,null,null,null,null,null,null,null,{"$f":"VLOOKUP($D$4,Uputstvo!$C$38:$D$54,2,FALSE)","v":"п8"}]
["Назив програма:",null,null,"Програм 8.  Предшколско васпитање и образовање",null,null,null,null,null,null,null,null,null,null,null,null,null,null,null,null,null,{"$f":"VLOOKUP($D$5,Uputstvo!$B$76:$C$92,2,FALSE)","v":"ПГ_8"},null,null,null,null,null,null,null,{"$f":"D127-D457","v":0},{"$f":"F127-F457","v":0},{"$f":"H127-H457","v":0},{"$f":"J127-J457","v":0},{"$f":"L127-L457","v":0},{"$f":"N127-N457","v":0}]
["Шифра програма:",null,null,{"$f":"IF(D4=\"\",\"\",VLOOKUP(D4,Uputstvo!B2:C20,2,FALSE))","v":"2001"},null,null,null,null,null,null,null,null,null,null,null,null,null,null,null,null,null,{"$f":"VLOOKUP($B$15,Uputstvo!$B$93:$C$133,2,FALSE)","v":"ПГЦ_21"}]
["Сектор:",null,null,{"$f":"IF(D4=\"\",\"\",VLOOKUP(D4,Uputstvo!$B$357:$C$373,2,FALSE))","v":"Образовање"},null,null,null,null,null,null,null,null,null,null,null,null,null,null,null,null,null,{"$f":"VLOOKUP($B$21,Uputstvo!$B$93:$C$133,2,FALSE)","v":"ПГЦ_22"}]
["Сврха:",null,null,{"$f":"IF(D5=\"\",\"\",VLOOKUP(D5,Uputstvo!$C$2:$D$20,2,FALSE))","v":"Омогућавање обухвата предшколске деце у вртићима."},null,null,null,null,null,null,null,null,null,null,null,null,null,null,null,null,null,{"$f":"VLOOKUP($B$27,Uputstvo!$B$93:$C$133,2,FALSE)","v":{"$error":"#N/A"}}]
["Основ:",null,null,null,null,null,null,null,null,null,null,null,null,null,null,null,null,null,null,null,null,{"$f":"VLOOKUP($B$33,Uputstvo!$B$93:$C$133,2,FALSE)","v":{"$error":"#N/A"}}]
["Опис: ",null,null,null,null,null,null,null,null,null,null,null,null,null,null,null,null,null,null,null,null,{"$f":"VLOOKUP($B$39,Uputstvo!$B$93:$C$133,2,FALSE)","v":{"$error":"#N/A"}}]
["Назив организационе јединице/Буџетски корисник:",null,null,null,null,null,null,null,null,null,null,null,null,null,null,null,null,null,null,null,null,null,null,null,null,null,"приходи из буџета",{"$f":"D127-D457","v":0},{"$f":"F127-F457","v":0},{"$f":"H127-H457","v":0},{"$f":"J127-J457","v":0},{"$f":"L127-L457","v":0},{"$f":"N127-N457","v":0}]
["Одговорно лице за спровођење програмa:",null,null,null,null,null,null,null,null,null,null,null,null,null,null,null,null,null,null,null,null,null,null,null,null,null,"transferi",{"$f":"D123-$D$458","v":0},{"$f":"F123-$F$458","v":0},{"$f":"H123-$H$458","v":0},{"$f":"J123-$J$458","v":0},{"$f":"L123-$L$458","v":0},{"$f":"N123-$N$458","v":0}]
[]
[null,"Циљ*",null,"Индикатори**",null,null,null,null,null,null,null,null,null,null,null,null,null,null,null,null,null,null,null,null,null,781111,{"$f":"D123+F123+H123+J123+L123+N123","v":0}]
[null,null,null,"Назив индикатора",null,null,"Вредност у базној години (2018)","Очекивана вредност у 2019. години","Циљана вредност у 2020. години","Циљана вредност у 2021. години","Циљана вредност у 2022. години","Извор верификације",null,null,null,null,null,null,null,null,null,null,null,null,null,791111,{"$f":"D127+F127+H127+J127+L127+N127","v":1461381000}]
[1,"Повећање  обухвата деце предшколским васпитањем  и  образовањем",null,"Проценат деце која су уписана у предшколске установе (Број деце која су уписана у предшколске установе у односу на укупан број деце у граду/општини (јаслена група, предшколска група и ППП)"]
[null,null,null,"Проценат уписане деце у односу на број укупно пријављене деце"]
[]
[]
[null,"Циљ",null,"Индикатори "]
[null,null,null,"Назив индикатора",null,null,"Вредност у базној години (2018)","Очекивана вредност у 2019. години","Циљана вредност у 2020. години","Циљана вредност у 2021. години","Циљана вредност у 2022. години","Извор верификације"]
[2,"Унапређење доступности предшколског васпитања за децу из осетљивих група",null,"Проценат деце са додатним образовним потребама која су укључена у редовне  програме ПОВ у односу на укупан број деце"]
[null,null,null,"Проценат објеката који су прилагодили простор за децу са инвалидитетом у односу на укупан број објеката ПУ"]
[null,null,null,"Проценат Рома који похађају предшколски програм у односу на укупан број ромске деце"]
[]
[null,"Циљ",null,"Индикатори"]
[null,null,null,"Назив индикатора",null,null,"Вредност у базној години (2018)","Очекивана вредност у 2019. години","Циљана вредност у 2020. години","Циљана вредност у 2021. години","Циљана вредност у 2022. години","Извор верификације"]
[3]
[]
[null,null,null,null,null,null,null,null,null,null,null,null,null,null,null,null,"Између 30. и 42. реда се налазе још 2 циља уколико је потребно . Активирају се маркирањем целог  30. и 42. реда > десни клик> опција \"Unhide\". Графичку илустрацију поступка видети у Упутству."]
[]
[null,"Циљ",null,"Индикатори"]
[null,null,null,"Назив индикатора",null,null,"Вредност у базној години (2018)","Очекивана вредност у 2019. години","Циљана вредност у 2020. години","Циљана вредност у 2021. години","Циљана вредност у 2022. години","Извор верификације"]
[4]
[]
[]
[]
[null,"Циљ",null,"Индикатори"]
[null,null,null,"Назив индикатора",null,null,"Вредност у базној години (2018)","Очекивана вредност у 2019. години","Циљана вредност у 2020. години","Циљана вредност у 2021. години","Циљана вредност у 2022. години","Извор верификације"]
[5]
[]
[]
[]
[]
["ПЛАНИРАНА СРЕДСТВА ЗА ПРОГРАМ"]
["Рбр.","Конто","ОПИС","Вредност у базној години (2018)",null,"Очекивана вредност у 2019. години",null,"Вредност у 2020. години",null,"Вредност у 2021. години",null,"Вредност у 2022. години",null,"Укупно (2020-2022)",null,null,null,null,null,null,null,null,null,null,1]
[null,null,null,"Приходи из буџета","Приходи из осталих извора","Приходи из буџета","Приходи из осталих извора","Приходи из буџета","Приходи из осталих извора","Приходи из буџета","Приходи из осталих извора","Приходи из буџета","Приходи из осталих извора","Приходи из буџета","Приходи из осталих извора",null,null,null,null,null,null,null,null,null,1]
[1,2,3,4,5,6,7,8,9,10,11,12,13,"14=(8+10+12)","15=(9+11+13)",null,null,null,null,null,null,null,null,null,1]
[1,300000,"КАПИТАЛ, УТВРЂИВАЊЕ РЕЗУЛТАТА ПОСЛОВАЊА И ВАНБИЛАНСНА ЕВИДЕНЦИЈА\n(2 + 5)",{"$f":"SUM(D49,D52)","v":0},{"$f":"SUM(E49,E52)","v":0},0,0,0,0,0,0,0,0,{"$f":"SUM(H48,J48,L48)","v":0},0,null,null,null,null,null,null,null,null,null,{"$f":"SUM(D48:O48)","v":0}]
[2,310000,"КАПИТАЛ (3)",{"$f":"SUM(D50)","v":0},{"$f":"SUM(E50)","v":0},0,0,0,0,0,0,0,0,0,0,null,null,null,null,null,null,null,null,null,0]
[3,311000,"КАПИТАЛ (4)",{"$f":"SUM(D51)","v":0},0,0,0,0,0,0,0,0,0,0,0,null,null,null,null,null,null,null,null,null,0]
[4,311700,"Пренета неутрошена средства из ранијих година",{"$f":"+Programska_aktivnost!D51+Sheet1!D51+'Захтев за додатна сред.'!D51+Projekat!D51+Sheet2!D51","v":0},{"$f":"+Programska_aktivnost!E51+Sheet1!E51+'Захтев за додатна сред.'!E51+Projekat!E51+Sheet2!E51","v":0},{"$f":"+Programska_aktivnost!F51+Sheet1!F51+'Захтев за додатна сред.'!F51+Projekat!F51+Sheet2!F51","v":0},{"$f":"+Programska_aktivnost!G51+Sheet1!G51+'Захтев за додатна сред.'!G51+Projekat!G51+Sheet2!G51","v":0},{"$f":"+Programska_aktivnost!H51+Sheet1!H51+'Захтев за додатна сред.'!H51+Projekat!H51+Sheet2!H51","v":0},{"$f":"+Programska_aktivnost!I51+Sheet1!I51+'Захтев за додатна сред.'!I51+Projekat!I51+Sheet2!I51","v":0},{"$f":"+Programska_aktivnost!J51+Sheet1!J51+'Захтев за додатна сред.'!J51+Projekat!J51+Sheet2!J51","v":0},{"$f":"+Programska_aktivnost!K51+Sheet1!K51+'Захтев за додатна сред.'!K51+Projekat!K51+Sheet2!K51","v":0},{"$f":"+Programska_aktivnost!L51+Sheet1!L51+'Захтев за додатна сред.'!L51+Projekat!L51+Sheet2!L51","v":0},{"$f":"+Programska_aktivnost!M51+Sheet1!M51+'Захтев за додатна сред.'!M51+Projekat!M51+Sheet2!M51","v":0},{"$f":"+Programska_aktivnost!N51+Sheet1!N51+'Захтев за додатна сред.'!N51+Projekat!N51+Sheet2!N51","v":0},{"$f":"+Programska_aktivnost!O51+Sheet1!O51+'Захтев за додатна сред.'!O51+Projekat!O51+Sheet2!O51","v":0},null,null,null,null,null,null,null,null,null,0]
[5,320000,"УТВРЂИВАЊЕ РЕЗУЛТАТА ПОСЛОВАЊА (6)",{"$f":"+Programska_aktivnost!D52+Sheet1!D52+'Захтев за додатна сред.'!D52+Projekat!D52+Sheet2!D52","v":0},{"$f":"+Programska_aktivnost!E52+Sheet1!E52+'Захтев за додатна сред.'!E52+Projekat!E52+Sheet2!E52","v":0},{"$f":"+Programska_aktivnost!F52+Sheet1!F52+'Захтев за додатна сред.'!F52+Projekat!F52+Sheet2!F52","v":0},{"$f":"+Programska_aktivnost!G52+Sheet1!G52+'Захтев за додатна сред.'!G52+Projekat!G52+Sheet2!G52","v":0},{"$f":"+Programska_aktivnost!H52+Sheet1!H52+'Захтев за додатна сред.'!H52+Projekat!H52+Sheet2!H52","v":0},{"$f":"+Programska_aktivnost!I52+Sheet1!I52+'Захтев за додатна сред.'!I52+Projekat!I52+Sheet2!I52","v":0},{"$f":"+Programska_aktivnost!J52+Sheet1!J52+'Захтев за додатна сред.'!J52+Projekat!J52+Sheet2!J52","v":0},{"$f":"+Programska_aktivnost!K52+Sheet1!K52+'Захтев за додатна сред.'!K52+Projekat!K52+Sheet2!K52","v":0},{"$f":"+Programska_aktivnost!L52+Sheet1!L52+'Захтев за додатна сред.'!L52+Projekat!L52+Sheet2!L52","v":0},{"$f":"+Programska_aktivnost!M52+Sheet1!M52+'Захтев за додатна сред.'!M52+Projekat!M52+Sheet2!M52","v":0},{"$f":"SUM(N53)","v":0},{"$f":"SUM(O53)","v":0},null,null,null,null,null,null,null,null,null,0]
[6,321000,"УТВРЂИВАЊЕ РЕЗУЛТАТА ПОСЛОВАЊА (7)",{"$f":"+Programska_aktivnost!D53+Sheet1!D53+'Захтев за додатна сред.'!D53+Projekat!D53+Sheet2!D53","v":0},{"$f":"+Programska_aktivnost!E53+Sheet1!E53+'Захтев за додатна сред.'!E53+Projekat!E53+Sheet2!E53","v":0},{"$f":"+Programska_aktivnost!F53+Sheet1!F53+'Захтев за додатна сред.'!F53+Projekat!F53+Sheet2!F53","v":0},{"$f":"+Programska_aktivnost!G53+Sheet1!G53+'Захтев за додатна сред.'!G53+Projekat!G53+Sheet2!G53","v":0},{"$f":"+Programska_aktivnost!H53+Sheet1!H53+'Захтев за додатна сред.'!H53+Projekat!H53+Sheet2!H53","v":0},{"$f":"+Programska_aktivnost!I53+Sheet1!I53+'Захтев за додатна сред.'!I53+Projekat!I53+Sheet2!I53","v":0},{"$f":"+Programska_aktivnost!J53+Sheet1!J53+'Захтев за додатна сред.'!J53+Projekat!J53+Sheet2!J53","v":0},{"$f":"+Programska_aktivnost!K53+Sheet1!K53+'Захтев за додатна сред.'!K53+Projekat!K53+Sheet2!K53","v":0},{"$f":"+Programska_aktivnost!L53+Sheet1!L53+'Захтев за додатна сред.'!L53+Projekat!L53+Sheet2!L53","v":0},{"$f":"+Programska_aktivnost!M53+Sheet1!M53+'Захтев за додатна сред.'!M53+Projekat!M53+Sheet2!M53","v":0},{"$f":"SUM(N54)","v":0},{"$f":"SUM(O54)","v":0},null,null,null,null,null,null,null,null,null,0]
[7,321300,"Нераспоређени вишак прихода и примања или дефицит из ранијих година",{"$f":"+Programska_aktivnost!D54+Sheet1!D54+'Захтев за додатна сред.'!D54+Projekat!D54+Sheet2!D54","v":0},{"$f":"+Programska_aktivnost!E54+Sheet1!E54+'Захтев за додатна сред.'!E54+Projekat!E54+Sheet2!E54","v":0},{"$f":"+Programska_aktivnost!F54+Sheet1!F54+'Захтев за додатна сред.'!F54+Projekat!F54+Sheet2!F54","v":0},{"$f":"+Programska_aktivnost!G54+Sheet1!G54+'Захтев за додатна сред.'!G54+Projekat!G54+Sheet2!G54","v":0},{"$f":"+Programska_aktivnost!H54+Sheet1!H54+'Захтев за додатна сред.'!H54+Projekat!H54+Sheet2!H54","v":0},{"$f":"+Programska_aktivnost!I54+Sheet1!I54+'Захтев за додатна сред.'!I54+Projekat!I54+Sheet2!I54","v":0},{"$f":"+Programska_aktivnost!J54+Sheet1!J54+'Захтев за додатна сред.'!J54+Projekat!J54+Sheet2!J54","v":0},{"$f":"+Programska_aktivnost!K54+Sheet1!K54+'Захтев за додатна сред.'!K54+Projekat!K54+Sheet2!K54","v":0},{"$f":"+Programska_aktivnost!L54+Sheet1!L54+'Захтев за додатна сред.'!L54+Projekat!L54+Sheet2!L54","v":0},{"$f":"+Programska_aktivnost!M54+Sheet1!M54+'Захтев за додатна сред.'!M54+Projekat!M54+Sheet2!M54","v":0},{"$f":"SUM(H54,J54,L54)","v":0},{"$f":"SUM(I54,K54,M54)","v":0},null,null,null,null,null,null,null,null,null,0]
[{"$f":"A54+1","v":8},700000,"ТЕКУЋИ ПРИХОДИ \n(9 + 32 + 44 + 69 + 74 +78)",{"$f":"+Programska_aktivnost!D55+Sheet1!D55+'Захтев за додатна сред.'!D55+Projekat!D55+Sheet2!D55","v":151754000},{"$f":"+Programska_aktivnost!E55+Sheet1!E55+'Захтев за додатна сред.'!E55+Projekat!E55+Sheet2!E55","v":12343000},{"$f":"+Programska_aktivnost!F55+Sheet1!F55+'Захтев за додатна сред.'!F55+Projekat!F55+Sheet2!F55","v":170977000},{"$f":"+Programska_aktivnost!G55+Sheet1!G55+'Захтев за додатна сред.'!G55+Projekat!G55+Sheet2!G55","v":12368000},{"$f":"+Programska_aktivnost!H55+Sheet1!H55+'Захтев за додатна сред.'!H55+Projekat!H55+Sheet2!H55","v":202171000},{"$f":"+Programska_aktivnost!I55+Sheet1!I55+'Захтев за додатна сред.'!I55+Projekat!I55+Sheet2!I55","v":2600000},{"$f":"+Programska_aktivnost!J55+Sheet1!J55+'Захтев за додатна сред.'!J55+Projekat!J55+Sheet2!J55","v":180321000},{"$f":"+Programska_aktivnost!K55+Sheet1!K55+'Захтев за додатна сред.'!K55+Projekat!K55+Sheet2!K55","v":2800000},{"$f":"+Programska_aktivnost!L55+Sheet1!L55+'Захтев за додатна сред.'!L55+Projekat!L55+Sheet2!L55","v":186833000},{"$f":"+Programska_aktivnost!M55+Sheet1!M55+'Захтев за додатна сред.'!M55+Projekat!M55+Sheet2!M55","v":2900000},{"$f":"N56+N79+N91+N116+N121+N125","v":569325000},{"$f":"O56+O79+O91+O116+O121+O125","v":8300000},null,null,null,null,null,null,null,null,null,{"$f":"SUM(D55:O55)","v":1502692000}]
[{"$f":"A55+1","v":9},710000,"ПОРЕЗИ \n(10 + 14 + 16 + 23 + 29)",{"$f":"+Programska_aktivnost!D56+Sheet1!D56+'Захтев за додатна сред.'!D56+Projekat!D56+Sheet2!D56","v":0},{"$f":"+Programska_aktivnost!E56+Sheet1!E56+'Захтев за додатна сред.'!E56+Projekat!E56+Sheet2!E56","v":0},{"$f":"+Programska_aktivnost!F56+Sheet1!F56+'Захтев за додатна сред.'!F56+Projekat!F56+Sheet2!F56","v":0},{"$f":"+Programska_aktivnost!G56+Sheet1!G56+'Захтев за додатна сред.'!G56+Projekat!G56+Sheet2!G56","v":0},{"$f":"+Programska_aktivnost!H56+Sheet1!H56+'Захтев за додатна сред.'!H56+Projekat!H56+Sheet2!H56","v":0},{"$f":"+Programska_aktivnost!I56+Sheet1!I56+'Захтев за додатна сред.'!I56+Projekat!I56+Sheet2!I56","v":0},{"$f":"+Programska_aktivnost!J56+Sheet1!J56+'Захтев за додатна сред.'!J56+Projekat!J56+Sheet2!J56","v":0},{"$f":"+Programska_aktivnost!K56+Sheet1!K56+'Захтев за додатна сред.'!K56+Projekat!K56+Sheet2!K56","v":0},{"$f":"+Programska_aktivnost!L56+Sheet1!L56+'Захтев за додатна сред.'!L56+Projekat!L56+Sheet2!L56","v":0},{"$f":"+Programska_aktivnost!M56+Sheet1!M56+'Захтев за додатна сред.'!M56+Projekat!M56+Sheet2!M56","v":0},{"$f":"N57+N61+N63+N70+N76","v":0},{"$f":"O57+O61+O63+O70+O76","v":0},null,null,null,null,null,null,null,null,null,{"$f":"SUM(D56:O56)","v":0}]
[10,711000,"ПОРЕЗ НА ДОХОДАК, ДОБИТ И КАПИТАЛНЕ ДОБИТКЕ (од 11 до 13)",{"$f":"+Programska_aktivnost!D57+Sheet1!D57+'Захтев за додатна сред.'!D57+Projekat!D57+Sheet2!D57","v":0},{"$f":"+Programska_aktivnost!E57+Sheet1!E57+'Захтев за додатна сред.'!E57+Projekat!E57+Sheet2!E57","v":0},{"$f":"+Programska_aktivnost!F57+Sheet1!F57+'Захтев за додатна сред.'!F57+Projekat!F57+Sheet2!F57","v":0},{"$f":"+Programska_aktivnost!G57+Sheet1!G57+'Захтев за додатна сред.'!G57+Projekat!G57+Sheet2!G57","v":0},{"$f":"+Programska_aktivnost!H57+Sheet1!H57+'Захтев за додатна сред.'!H57+Projekat!H57+Sheet2!H57","v":0},{"$f":"+Programska_aktivnost!I57+Sheet1!I57+'Захтев за додатна сред.'!I57+Projekat!I57+Sheet2!I57","v":0},{"$f":"+Programska_aktivnost!J57+Sheet1!J57+'Захтев за додатна сред.'!J57+Projekat!J57+Sheet2!J57","v":0},{"$f":"+Programska_aktivnost!K57+Sheet1!K57+'Захтев за додатна сред.'!K57+Projekat!K57+Sheet2!K57","v":0},{"$f":"+Programska_aktivnost!L57+Sheet1!L57+'Захтев за додатна сред.'!L57+Projekat!L57+Sheet2!L57","v":0},{"$f":"+Programska_aktivnost!M57+Sheet1!M57+'Захтев за додатна сред.'!M57+Projekat!M57+Sheet2!M57","v":0},{"$f":"SUM(H57,J57,L57)","v":0},0,null,null,null,null,null,null,null,null,null,0]
[11,711100,"Порези на доходак и капиталнe добиткe које плаћају физичка лица",{"$f":"+Programska_aktivnost!D58+Sheet1!D58+'Захтев за додатна сред.'!D58+Projekat!D58+Sheet2!D58","v":0},{"$f":"+Programska_aktivnost!E58+Sheet1!E58+'Захтев за додатна сред.'!E58+Projekat!E58+Sheet2!E58","v":0},{"$f":"+Programska_aktivnost!F58+Sheet1!F58+'Захтев за додатна сред.'!F58+Projekat!F58+Sheet2!F58","v":0},{"$f":"+Programska_aktivnost!G58+Sheet1!G58+'Захтев за додатна сред.'!G58+Projekat!G58+Sheet2!G58","v":0},{"$f":"+Programska_aktivnost!H58+Sheet1!H58+'Захтев за додатна сред.'!H58+Projekat!H58+Sheet2!H58","v":0},{"$f":"+Programska_aktivnost!I58+Sheet1!I58+'Захтев за додатна сред.'!I58+Projekat!I58+Sheet2!I58","v":0},{"$f":"+Programska_aktivnost!J58+Sheet1!J58+'Захтев за додатна сред.'!J58+Projekat!J58+Sheet2!J58","v":0},{"$f":"+Programska_aktivnost!K58+Sheet1!K58+'Захтев за додатна сред.'!K58+Projekat!K58+Sheet2!K58","v":0},{"$f":"+Programska_aktivnost!L58+Sheet1!L58+'Захтев за додатна сред.'!L58+Projekat!L58+Sheet2!L58","v":0},{"$f":"+Programska_aktivnost!M58+Sheet1!M58+'Захтев за додатна сред.'!M58+Projekat!M58+Sheet2!M58","v":0},{"$f":"SUM(H58,J58,L58)","v":0},{"$f":"SUM(I58,K58,M58)","v":0},null,null,null,null,null,null,null,null,null,0]
[12,711200,"Порези на добит и капиталне добитке које плаћају предузећа и друга правна лица",{"$f":"+Programska_aktivnost!D59+Sheet1!D59+'Захтев за додатна сред.'!D59+Projekat!D59+Sheet2!D59","v":0},{"$f":"+Programska_aktivnost!E59+Sheet1!E59+'Захтев за додатна сред.'!E59+Projekat!E59+Sheet2!E59","v":0},{"$f":"+Programska_aktivnost!F59+Sheet1!F59+'Захтев за додатна сред.'!F59+Projekat!F59+Sheet2!F59","v":0},{"$f":"+Programska_aktivnost!G59+Sheet1!G59+'Захтев за додатна сред.'!G59+Projekat!G59+Sheet2!G59","v":0},{"$f":"+Programska_aktivnost!H59+Sheet1!H59+'Захтев за додатна сред.'!H59+Projekat!H59+Sheet2!H59","v":0},{"$f":"+Programska_aktivnost!I59+Sheet1!I59+'Захтев за додатна сред.'!I59+Projekat!I59+Sheet2!I59","v":0},{"$f":"+Programska_aktivnost!J59+Sheet1!J59+'Захтев за додатна сред.'!J59+Projekat!J59+Sheet2!J59","v":0},{"$f":"+Programska_aktivnost!K59+Sheet1!K59+'Захтев за додатна сред.'!K59+Projekat!K59+Sheet2!K59","v":0},{"$f":"+Programska_aktivnost!L59+Sheet1!L59+'Захтев за додатна сред.'!L59+Projekat!L59+Sheet2!L59","v":0},{"$f":"+Programska_aktivnost!M59+Sheet1!M59+'Захтев за додатна сред.'!M59+Projekat!M59+Sheet2!M59","v":0},0,{"$f":"SUM(I59,K59,M59)","v":0},null,null,null,null,null,null,null,null,null,0]
[13,711300,"Порези на доходак, добит и капиталне добитке који се не могу разврстати између физичких и правних лица",{"$f":"+Programska_aktivnost!D60+Sheet1!D60+'Захтев за додатна сред.'!D60+Projekat!D60+Sheet2!D60","v":0},{"$f":"+Programska_aktivnost!E60+Sheet1!E60+'Захтев за додатна сред.'!E60+Projekat!E60+Sheet2!E60","v":0},{"$f":"+Programska_aktivnost!F60+Sheet1!F60+'Захтев за додатна сред.'!F60+Projekat!F60+Sheet2!F60","v":0},{"$f":"+Programska_aktivnost!G60+Sheet1!G60+'Захтев за додатна сред.'!G60+Projekat!G60+Sheet2!G60","v":0},{"$f":"+Programska_aktivnost!H60+Sheet1!H60+'Захтев за додатна сред.'!H60+Projekat!H60+Sheet2!H60","v":0},{"$f":"+Programska_aktivnost!I60+Sheet1!I60+'Захтев за додатна сред.'!I60+Projekat!I60+Sheet2!I60","v":0},{"$f":"+Programska_aktivnost!J60+Sheet1!J60+'Захтев за додатна сред.'!J60+Projekat!J60+Sheet2!J60","v":0},{"$f":"+Programska_aktivnost!K60+Sheet1!K60+'Захтев за додатна сред.'!K60+Projekat!K60+Sheet2!K60","v":0},{"$f":"+Programska_aktivnost!L60+Sheet1!L60+'Захтев за додатна сред.'!L60+Projekat!L60+Sheet2!L60","v":0},{"$f":"+Programska_aktivnost!M60+Sheet1!M60+'Захтев за додатна сред.'!M60+Projekat!M60+Sheet2!M60","v":0},0,0,null,null,null,null,null,null,null,null,null,0]
[14,712000,"ПОРЕЗ НА ФОНД ЗАРАДА (15)",{"$f":"+Programska_aktivnost!D61+Sheet1!D61+'Захтев за додатна сред.'!D61+Projekat!D61+Sheet2!D61","v":0},{"$f":"+Programska_aktivnost!E61+Sheet1!E61+'Захтев за додатна сред.'!E61+Projekat!E61+Sheet2!E61","v":0},{"$f":"+Programska_aktivnost!F61+Sheet1!F61+'Захтев за додатна сред.'!F61+Projekat!F61+Sheet2!F61","v":0},{"$f":"+Programska_aktivnost!G61+Sheet1!G61+'Захтев за додатна сред.'!G61+Projekat!G61+Sheet2!G61","v":0},{"$f":"+Programska_aktivnost!H61+Sheet1!H61+'Захтев за додатна сред.'!H61+Projekat!H61+Sheet2!H61","v":0},{"$f":"+Programska_aktivnost!I61+Sheet1!I61+'Захтев за додатна сред.'!I61+Projekat!I61+Sheet2!I61","v":0},{"$f":"+Programska_aktivnost!J61+Sheet1!J61+'Захтев за додатна сред.'!J61+Projekat!J61+Sheet2!J61","v":0},{"$f":"+Programska_aktivnost!K61+Sheet1!K61+'Захтев за додатна сред.'!K61+Projekat!K61+Sheet2!K61","v":0},{"$f":"+Programska_aktivnost!L61+Sheet1!L61+'Захтев за додатна сред.'!L61+Projekat!L61+Sheet2!L61","v":0},{"$f":"+Programska_aktivnost!M61+Sheet1!M61+'Захтев за додатна сред.'!M61+Projekat!M61+Sheet2!M61","v":0},0,0,null,null,null,null,null,null,null,null,null,0]
[15,712100,"Порез на фонд зарада",{"$f":"+Programska_aktivnost!D62+Sheet1!D62+'Захтев за додатна сред.'!D62+Projekat!D62+Sheet2!D62","v":0},{"$f":"+Programska_aktivnost!E62+Sheet1!E62+'Захтев за додатна сред.'!E62+Projekat!E62+Sheet2!E62","v":0},{"$f":"+Programska_aktivnost!F62+Sheet1!F62+'Захтев за додатна сред.'!F62+Projekat!F62+Sheet2!F62","v":0},{"$f":"+Programska_aktivnost!G62+Sheet1!G62+'Захтев за додатна сред.'!G62+Projekat!G62+Sheet2!G62","v":0},{"$f":"+Programska_aktivnost!H62+Sheet1!H62+'Захтев за додатна сред.'!H62+Projekat!H62+Sheet2!H62","v":0},{"$f":"+Programska_aktivnost!I62+Sheet1!I62+'Захтев за додатна сред.'!I62+Projekat!I62+Sheet2!I62","v":0},{"$f":"+Programska_aktivnost!J62+Sheet1!J62+'Захтев за додатна сред.'!J62+Projekat!J62+Sheet2!J62","v":0},{"$f":"+Programska_aktivnost!K62+Sheet1!K62+'Захтев за додатна сред.'!K62+Projekat!K62+Sheet2!K62","v":0},{"$f":"+Programska_aktivnost!L62+Sheet1!L62+'Захтев за додатна сред.'!L62+Projekat!L62+Sheet2!L62","v":0},{"$f":"+Programska_aktivnost!M62+Sheet1!M62+'Захтев за додатна сред.'!M62+Projekat!M62+Sheet2!M62","v":0},0,0,null,null,null,null,null,null,null,null,null,0]
[16,713000,"ПОРЕЗ НА ИМОВИНУ (од 17 до 22)",{"$f":"+Programska_aktivnost!D63+Sheet1!D63+'Захтев за додатна сред.'!D63+Projekat!D63+Sheet2!D63","v":0},{"$f":"+Programska_aktivnost!E63+Sheet1!E63+'Захтев за додатна сред.'!E63+Projekat!E63+Sheet2!E63","v":0},{"$f":"+Programska_aktivnost!F63+Sheet1!F63+'Захтев за додатна сред.'!F63+Projekat!F63+Sheet2!F63","v":0},{"$f":"+Programska_aktivnost!G63+Sheet1!G63+'Захтев за додатна сред.'!G63+Projekat!G63+Sheet2!G63","v":0},{"$f":"+Programska_aktivnost!H63+Sheet1!H63+'Захтев за додатна сред.'!H63+Projekat!H63+Sheet2!H63","v":0},{"$f":"+Programska_aktivnost!I63+Sheet1!I63+'Захтев за додатна сред.'!I63+Projekat!I63+Sheet2!I63","v":0},{"$f":"+Programska_aktivnost!J63+Sheet1!J63+'Захтев за додатна сред.'!J63+Projekat!J63+Sheet2!J63","v":0},{"$f":"+Programska_aktivnost!K63+Sheet1!K63+'Захтев за додатна сред.'!K63+Projekat!K63+Sheet2!K63","v":0},{"$f":"+Programska_aktivnost!L63+Sheet1!L63+'Захтев за додатна сред.'!L63+Projekat!L63+Sheet2!L63","v":0},{"$f":"+Programska_aktivnost!M63+Sheet1!M63+'Захтев за додатна сред.'!M63+Projekat!M63+Sheet2!M63","v":0},0,0,null,null,null,null,null,null,null,null,null,0]
[17,713100,"Периодични порези на непокретности",{"$f":"+Programska_aktivnost!D64+Sheet1!D64+'Захтев за додатна сред.'!D64+Projekat!D64+Sheet2!D64","v":0},{"$f":"+Programska_aktivnost!E64+Sheet1!E64+'Захтев за додатна сред.'!E64+Projekat!E64+Sheet2!E64","v":0},{"$f":"+Programska_aktivnost!F64+Sheet1!F64+'Захтев за додатна сред.'!F64+Projekat!F64+Sheet2!F64","v":0},{"$f":"+Programska_aktivnost!G64+Sheet1!G64+'Захтев за додатна сред.'!G64+Projekat!G64+Sheet2!G64","v":0},{"$f":"+Programska_aktivnost!H64+Sheet1!H64+'Захтев за додатна сред.'!H64+Projekat!H64+Sheet2!H64","v":0},{"$f":"+Programska_aktivnost!I64+Sheet1!I64+'Захтев за додатна сред.'!I64+Projekat!I64+Sheet2!I64","v":0},{"$f":"+Programska_aktivnost!J64+Sheet1!J64+'Захтев за додатна сред.'!J64+Projekat!J64+Sheet2!J64","v":0},{"$f":"+Programska_aktivnost!K64+Sheet1!K64+'Захтев за додатна сред.'!K64+Projekat!K64+Sheet2!K64","v":0},{"$f":"+Programska_aktivnost!L64+Sheet1!L64+'Захтев за додатна сред.'!L64+Projekat!L64+Sheet2!L64","v":0},{"$f":"+Programska_aktivnost!M64+Sheet1!M64+'Захтев за додатна сред.'!M64+Projekat!M64+Sheet2!M64","v":0},0,0,null,null,null,null,null,null,null,null,null,0]
[18,713200,"Периодични порези на нето имовину",{"$f":"+Programska_aktivnost!D65+Sheet1!D65+'Захтев за додатна сред.'!D65+Projekat!D65+Sheet2!D65","v":0},{"$f":"+Programska_aktivnost!E65+Sheet1!E65+'Захтев за додатна сред.'!E65+Projekat!E65+Sheet2!E65","v":0},{"$f":"+Programska_aktivnost!F65+Sheet1!F65+'Захтев за додатна сред.'!F65+Projekat!F65+Sheet2!F65","v":0},{"$f":"+Programska_aktivnost!G65+Sheet1!G65+'Захтев за додатна сред.'!G65+Projekat!G65+Sheet2!G65","v":0},{"$f":"+Programska_aktivnost!H65+Sheet1!H65+'Захтев за додатна сред.'!H65+Projekat!H65+Sheet2!H65","v":0},{"$f":"+Programska_aktivnost!I65+Sheet1!I65+'Захтев за додатна сред.'!I65+Projekat!I65+Sheet2!I65","v":0},{"$f":"+Programska_aktivnost!J65+Sheet1!J65+'Захтев за додатна сред.'!J65+Projekat!J65+Sheet2!J65","v":0},{"$f":"+Programska_aktivnost!K65+Sheet1!K65+'Захтев за додатна сред.'!K65+Projekat!K65+Sheet2!K65","v":0},{"$f":"+Programska_aktivnost!L65+Sheet1!L65+'Захтев за додатна сред.'!L65+Projekat!L65+Sheet2!L65","v":0},{"$f":"+Programska_aktivnost!M65+Sheet1!M65+'Захтев за додатна сред.'!M65+Projekat!M65+Sheet2!M65","v":0},0,0,null,null,null,null,null,null,null,null,null,0]
[19,713300,"Порези на заоставштину, наслеђе и поклон",{"$f":"+Programska_aktivnost!D66+Sheet1!D66+'Захтев за додатна сред.'!D66+Projekat!D66+Sheet2!D66","v":0},{"$f":"+Programska_aktivnost!E66+Sheet1!E66+'Захтев за додатна сред.'!E66+Projekat!E66+Sheet2!E66","v":0},{"$f":"+Programska_aktivnost!F66+Sheet1!F66+'Захтев за додатна сред.'!F66+Projekat!F66+Sheet2!F66","v":0},{"$f":"+Programska_aktivnost!G66+Sheet1!G66+'Захтев за додатна сред.'!G66+Projekat!G66+Sheet2!G66","v":0},{"$f":"+Programska_aktivnost!H66+Sheet1!H66+'Захтев за додатна сред.'!H66+Projekat!H66+Sheet2!H66","v":0},{"$f":"+Programska_aktivnost!I66+Sheet1!I66+'Захтев за додатна сред.'!I66+Projekat!I66+Sheet2!I66","v":0},{"$f":"+Programska_aktivnost!J66+Sheet1!J66+'Захтев за додатна сред.'!J66+Projekat!J66+Sheet2!J66","v":0},{"$f":"+Programska_aktivnost!K66+Sheet1!K66+'Захтев за додатна сред.'!K66+Projekat!K66+Sheet2!K66","v":0},{"$f":"+Programska_aktivnost!L66+Sheet1!L66+'Захтев за додатна сред.'!L66+Projekat!L66+Sheet2!L66","v":0},{"$f":"+Programska_aktivnost!M66+Sheet1!M66+'Захтев за додатна сред.'!M66+Projekat!M66+Sheet2!M66","v":0},0,0,null,null,null,null,null,null,null,null,null,0]
[20,713400,"Порези на финансијске и капиталне трансакције",{"$f":"+Programska_aktivnost!D67+Sheet1!D67+'Захтев за додатна сред.'!D67+Projekat!D67+Sheet2!D67","v":0},{"$f":"+Programska_aktivnost!E67+Sheet1!E67+'Захтев за додатна сред.'!E67+Projekat!E67+Sheet2!E67","v":0},{"$f":"+Programska_aktivnost!F67+Sheet1!F67+'Захтев за додатна сред.'!F67+Projekat!F67+Sheet2!F67","v":0},{"$f":"+Programska_aktivnost!G67+Sheet1!G67+'Захтев за додатна сред.'!G67+Projekat!G67+Sheet2!G67","v":0},{"$f":"+Programska_aktivnost!H67+Sheet1!H67+'Захтев за додатна сред.'!H67+Projekat!H67+Sheet2!H67","v":0},{"$f":"+Programska_aktivnost!I67+Sheet1!I67+'Захтев за додатна сред.'!I67+Projekat!I67+Sheet2!I67","v":0},{"$f":"+Programska_aktivnost!J67+Sheet1!J67+'Захтев за додатна сред.'!J67+Projekat!J67+Sheet2!J67","v":0},{"$f":"+Programska_aktivnost!K67+Sheet1!K67+'Захтев за додатна сред.'!K67+Projekat!K67+Sheet2!K67","v":0},{"$f":"+Programska_aktivnost!L67+Sheet1!L67+'Захтев за додатна сред.'!L67+Projekat!L67+Sheet2!L67","v":0},{"$f":"+Programska_aktivnost!M67+Sheet1!M67+'Захтев за додатна сред.'!M67+Projekat!M67+Sheet2!M67","v":0},0,0,null,null,null,null,null,null,null,null,null,0]
[21,713500,"Други једнократни порези на имовину",{"$f":"+Programska_aktivnost!D68+Sheet1!D68+'Захтев за додатна сред.'!D68+Projekat!D68+Sheet2!D68","v":0},{"$f":"+Programska_aktivnost!E68+Sheet1!E68+'Захтев за додатна сред.'!E68+Projekat!E68+Sheet2!E68","v":0},{"$f":"+Programska_aktivnost!F68+Sheet1!F68+'Захтев за додатна сред.'!F68+Projekat!F68+Sheet2!F68","v":0},{"$f":"+Programska_aktivnost!G68+Sheet1!G68+'Захтев за додатна сред.'!G68+Projekat!G68+Sheet2!G68","v":0},{"$f":"+Programska_aktivnost!H68+Sheet1!H68+'Захтев за додатна сред.'!H68+Projekat!H68+Sheet2!H68","v":0},{"$f":"+Programska_aktivnost!I68+Sheet1!I68+'Захтев за додатна сред.'!I68+Projekat!I68+Sheet2!I68","v":0},{"$f":"+Programska_aktivnost!J68+Sheet1!J68+'Захтев за додатна сред.'!J68+Projekat!J68+Sheet2!J68","v":0},{"$f":"+Programska_aktivnost!K68+Sheet1!K68+'Захтев за додатна сред.'!K68+Projekat!K68+Sheet2!K68","v":0},{"$f":"+Programska_aktivnost!L68+Sheet1!L68+'Захтев за додатна сред.'!L68+Projekat!L68+Sheet2!L68","v":0},{"$f":"+Programska_aktivnost!M68+Sheet1!M68+'Захтев за додатна сред.'!M68+Projekat!M68+Sheet2!M68","v":0},0,0,null,null,null,null,null,null,null,null,null,0]
[22,713600,"Други периодични порези на имовину",{"$f":"+Programska_aktivnost!D69+Sheet1!D69+'Захтев за додатна сред.'!D69+Projekat!D69+Sheet2!D69","v":0},{"$f":"+Programska_aktivnost!E69+Sheet1!E69+'Захтев за додатна сред.'!E69+Projekat!E69+Sheet2!E69","v":0},{"$f":"+Programska_aktivnost!F69+Sheet1!F69+'Захтев за додатна сред.'!F69+Projekat!F69+Sheet2!F69","v":0},{"$f":"+Programska_aktivnost!G69+Sheet1!G69+'Захтев за додатна сред.'!G69+Projekat!G69+Sheet2!G69","v":0},{"$f":"+Programska_aktivnost!H69+Sheet1!H69+'Захтев за додатна сред.'!H69+Projekat!H69+Sheet2!H69","v":0},{"$f":"+Programska_aktivnost!I69+Sheet1!I69+'Захтев за додатна сред.'!I69+Projekat!I69+Sheet2!I69","v":0},{"$f":"+Programska_aktivnost!J69+Sheet1!J69+'Захтев за додатна сред.'!J69+Projekat!J69+Sheet2!J69","v":0},{"$f":"+Programska_aktivnost!K69+Sheet1!K69+'Захтев за додатна сред.'!K69+Projekat!K69+Sheet2!K69","v":0},{"$f":"+Programska_aktivnost!L69+Sheet1!L69+'Захтев за додатна сред.'!L69+Projekat!L69+Sheet2!L69","v":0},{"$f":"+Programska_aktivnost!M69+Sheet1!M69+'Захтев за додатна сред.'!M69+Projekat!M69+Sheet2!M69","v":0},0,0,null,null,null,null,null,null,null,null,null,0]
[23,714000,"ПОРЕЗ НА ДОБРА И УСЛУГЕ (од 24 до 28)",{"$f":"+Programska_aktivnost!D70+Sheet1!D70+'Захтев за додатна сред.'!D70+Projekat!D70+Sheet2!D70","v":0},{"$f":"+Programska_aktivnost!E70+Sheet1!E70+'Захтев за додатна сред.'!E70+Projekat!E70+Sheet2!E70","v":0},{"$f":"+Programska_aktivnost!F70+Sheet1!F70+'Захтев за додатна сред.'!F70+Projekat!F70+Sheet2!F70","v":0},{"$f":"+Programska_aktivnost!G70+Sheet1!G70+'Захтев за додатна сред.'!G70+Projekat!G70+Sheet2!G70","v":0},{"$f":"+Programska_aktivnost!H70+Sheet1!H70+'Захтев за додатна сред.'!H70+Projekat!H70+Sheet2!H70","v":0},{"$f":"+Programska_aktivnost!I70+Sheet1!I70+'Захтев за додатна сред.'!I70+Projekat!I70+Sheet2!I70","v":0},{"$f":"+Programska_aktivnost!J70+Sheet1!J70+'Захтев за додатна сред.'!J70+Projekat!J70+Sheet2!J70","v":0},{"$f":"+Programska_aktivnost!K70+Sheet1!K70+'Захтев за додатна сред.'!K70+Projekat!K70+Sheet2!K70","v":0},{"$f":"+Programska_aktivnost!L70+Sheet1!L70+'Захтев за додатна сред.'!L70+Projekat!L70+Sheet2!L70","v":0},{"$f":"+Programska_aktivnost!M70+Sheet1!M70+'Захтев за додатна сред.'!M70+Projekat!M70+Sheet2!M70","v":0},0,0,null,null,null,null,null,null,null,null,null,0]
[24,714100,"Општи порези на добра и услуге",{"$f":"+Programska_aktivnost!D71+Sheet1!D71+'Захтев за додатна сред.'!D71+Projekat!D71+Sheet2!D71","v":0},{"$f":"+Programska_aktivnost!E71+Sheet1!E71+'Захтев за додатна сред.'!E71+Projekat!E71+Sheet2!E71","v":0},{"$f":"+Programska_aktivnost!F71+Sheet1!F71+'Захтев за додатна сред.'!F71+Projekat!F71+Sheet2!F71","v":0},{"$f":"+Programska_aktivnost!G71+Sheet1!G71+'Захтев за додатна сред.'!G71+Projekat!G71+Sheet2!G71","v":0},{"$f":"+Programska_aktivnost!H71+Sheet1!H71+'Захтев за додатна сред.'!H71+Projekat!H71+Sheet2!H71","v":0},{"$f":"+Programska_aktivnost!I71+Sheet1!I71+'Захтев за додатна сред.'!I71+Projekat!I71+Sheet2!I71","v":0},{"$f":"+Programska_aktivnost!J71+Sheet1!J71+'Захтев за додатна сред.'!J71+Projekat!J71+Sheet2!J71","v":0},{"$f":"+Programska_aktivnost!K71+Sheet1!K71+'Захтев за додатна сред.'!K71+Projekat!K71+Sheet2!K71","v":0},{"$f":"+Programska_aktivnost!L71+Sheet1!L71+'Захтев за додатна сред.'!L71+Projekat!L71+Sheet2!L71","v":0},{"$f":"+Programska_aktivnost!M71+Sheet1!M71+'Захтев за додатна сред.'!M71+Projekat!M71+Sheet2!M71","v":0},0,0,null,null,null,null,null,null,null,null,null,0]
[25,714300,"Добит фискалних монопола",{"$f":"+Programska_aktivnost!D72+Sheet1!D72+'Захтев за додатна сред.'!D72+Projekat!D72+Sheet2!D72","v":0},{"$f":"+Programska_aktivnost!E72+Sheet1!E72+'Захтев за додатна сред.'!E72+Projekat!E72+Sheet2!E72","v":0},{"$f":"+Programska_aktivnost!F72+Sheet1!F72+'Захтев за додатна сред.'!F72+Projekat!F72+Sheet2!F72","v":0},{"$f":"+Programska_aktivnost!G72+Sheet1!G72+'Захтев за додатна сред.'!G72+Projekat!G72+Sheet2!G72","v":0},{"$f":"+Programska_aktivnost!H72+Sheet1!H72+'Захтев за додатна сред.'!H72+Projekat!H72+Sheet2!H72","v":0},{"$f":"+Programska_aktivnost!I72+Sheet1!I72+'Захтев за додатна сред.'!I72+Projekat!I72+Sheet2!I72","v":0},{"$f":"+Programska_aktivnost!J72+Sheet1!J72+'Захтев за додатна сред.'!J72+Projekat!J72+Sheet2!J72","v":0},{"$f":"+Programska_aktivnost!K72+Sheet1!K72+'Захтев за додатна сред.'!K72+Projekat!K72+Sheet2!K72","v":0},{"$f":"+Programska_aktivnost!L72+Sheet1!L72+'Захтев за додатна сред.'!L72+Projekat!L72+Sheet2!L72","v":0},{"$f":"+Programska_aktivnost!M72+Sheet1!M72+'Захтев за додатна сред.'!M72+Projekat!M72+Sheet2!M72","v":0},0,0,null,null,null,null,null,null,null,null,null,0]
[26,714400,"Порези на појединачне услуге",{"$f":"+Programska_aktivnost!D73+Sheet1!D73+'Захтев за додатна сред.'!D73+Projekat!D73+Sheet2!D73","v":0},{"$f":"+Programska_aktivnost!E73+Sheet1!E73+'Захтев за додатна сред.'!E73+Projekat!E73+Sheet2!E73","v":0},{"$f":"+Programska_aktivnost!F73+Sheet1!F73+'Захтев за додатна сред.'!F73+Projekat!F73+Sheet2!F73","v":0},{"$f":"+Programska_aktivnost!G73+Sheet1!G73+'Захтев за додатна сред.'!G73+Projekat!G73+Sheet2!G73","v":0},{"$f":"+Programska_aktivnost!H73+Sheet1!H73+'Захтев за додатна сред.'!H73+Projekat!H73+Sheet2!H73","v":0},{"$f":"+Programska_aktivnost!I73+Sheet1!I73+'Захтев за додатна сред.'!I73+Projekat!I73+Sheet2!I73","v":0},{"$f":"+Programska_aktivnost!J73+Sheet1!J73+'Захтев за додатна сред.'!J73+Projekat!J73+Sheet2!J73","v":0},{"$f":"+Programska_aktivnost!K73+Sheet1!K73+'Захтев за додатна сред.'!K73+Projekat!K73+Sheet2!K73","v":0},{"$f":"+Programska_aktivnost!L73+Sheet1!L73+'Захтев за додатна сред.'!L73+Projekat!L73+Sheet2!L73","v":0},{"$f":"+Programska_aktivnost!M73+Sheet1!M73+'Захтев за додатна сред.'!M73+Projekat!M73+Sheet2!M73","v":0},0,0,null,null,null,null,null,null,null,null,null,0]
[27,714500,"Порези, таксе и накнаде на употребу добара, на дозволу да се добра употребљавају или делатности обављају",{"$f":"+Programska_aktivnost!D74+Sheet1!D74+'Захтев за додатна сред.'!D74+Projekat!D74+Sheet2!D74","v":0},{"$f":"+Programska_aktivnost!E74+Sheet1!E74+'Захтев за додатна сред.'!E74+Projekat!E74+Sheet2!E74","v":0},{"$f":"+Programska_aktivnost!F74+Sheet1!F74+'Захтев за додатна сред.'!F74+Projekat!F74+Sheet2!F74","v":0},{"$f":"+Programska_aktivnost!G74+Sheet1!G74+'Захтев за додатна сред.'!G74+Projekat!G74+Sheet2!G74","v":0},{"$f":"+Programska_aktivnost!H74+Sheet1!H74+'Захтев за додатна сред.'!H74+Projekat!H74+Sheet2!H74","v":0},{"$f":"+Programska_aktivnost!I74+Sheet1!I74+'Захтев за додатна сред.'!I74+Projekat!I74+Sheet2!I74","v":0},{"$f":"+Programska_aktivnost!J74+Sheet1!J74+'Захтев за додатна сред.'!J74+Projekat!J74+Sheet2!J74","v":0},{"$f":"+Programska_aktivnost!K74+Sheet1!K74+'Захтев за додатна сред.'!K74+Projekat!K74+Sheet2!K74","v":0},{"$f":"+Programska_aktivnost!L74+Sheet1!L74+'Захтев за додатна сред.'!L74+Projekat!L74+Sheet2!L74","v":0},{"$f":"+Programska_aktivnost!M74+Sheet1!M74+'Захтев за додатна сред.'!M74+Projekat!M74+Sheet2!M74","v":0},0,0,null,null,null,null,null,null,null,null,null,0]
[28,714600,"Други порези на добра и услуге",{"$f":"+Programska_aktivnost!D75+Sheet1!D75+'Захтев за додатна сред.'!D75+Projekat!D75+Sheet2!D75","v":0},{"$f":"+Programska_aktivnost!E75+Sheet1!E75+'Захтев за додатна сред.'!E75+Projekat!E75+Sheet2!E75","v":0},{"$f":"+Programska_aktivnost!F75+Sheet1!F75+'Захтев за додатна сред.'!F75+Projekat!F75+Sheet2!F75","v":0},{"$f":"+Programska_aktivnost!G75+Sheet1!G75+'Захтев за додатна сред.'!G75+Projekat!G75+Sheet2!G75","v":0},{"$f":"+Programska_aktivnost!H75+Sheet1!H75+'Захтев за додатна сред.'!H75+Projekat!H75+Sheet2!H75","v":0},{"$f":"+Programska_aktivnost!I75+Sheet1!I75+'Захтев за додатна сред.'!I75+Projekat!I75+Sheet2!I75","v":0},{"$f":"+Programska_aktivnost!J75+Sheet1!J75+'Захтев за додатна сред.'!J75+Projekat!J75+Sheet2!J75","v":0},{"$f":"+Programska_aktivnost!K75+Sheet1!K75+'Захтев за додатна сред.'!K75+Projekat!K75+Sheet2!K75","v":0},{"$f":"+Programska_aktivnost!L75+Sheet1!L75+'Захтев за додатна сред.'!L75+Projekat!L75+Sheet2!L75","v":0},{"$f":"+Programska_aktivnost!M75+Sheet1!M75+'Захтев за додатна сред.'!M75+Projekat!M75+Sheet2!M75","v":0},0,0,null,null,null,null,null,null,null,null,null,0]
[29,716000,"ДРУГИ ПОРЕЗИ (30 + 31)",{"$f":"+Programska_aktivnost!D76+Sheet1!D76+'Захтев за додатна сред.'!D76+Projekat!D76+Sheet2!D76","v":0},{"$f":"+Programska_aktivnost!E76+Sheet1!E76+'Захтев за додатна сред.'!E76+Projekat!E76+Sheet2!E76","v":0},{"$f":"+Programska_aktivnost!F76+Sheet1!F76+'Захтев за додатна сред.'!F76+Projekat!F76+Sheet2!F76","v":0},{"$f":"+Programska_aktivnost!G76+Sheet1!G76+'Захтев за додатна сред.'!G76+Projekat!G76+Sheet2!G76","v":0},{"$f":"+Programska_aktivnost!H76+Sheet1!H76+'Захтев за додатна сред.'!H76+Projekat!H76+Sheet2!H76","v":0},{"$f":"+Programska_aktivnost!I76+Sheet1!I76+'Захтев за додатна сред.'!I76+Projekat!I76+Sheet2!I76","v":0},{"$f":"+Programska_aktivnost!J76+Sheet1!J76+'Захтев за додатна сред.'!J76+Projekat!J76+Sheet2!J76","v":0},{"$f":"+Programska_aktivnost!K76+Sheet1!K76+'Захтев за додатна сред.'!K76+Projekat!K76+Sheet2!K76","v":0},{"$f":"+Programska_aktivnost!L76+Sheet1!L76+'Захтев за додатна сред.'!L76+Projekat!L76+Sheet2!L76","v":0},{"$f":"+Programska_aktivnost!M76+Sheet1!M76+'Захтев за додатна сред.'!M76+Projekat!M76+Sheet2!M76","v":0},0,0,null,null,null,null,null,null,null,null,null,0]
[30,716100,"Други порези које искључиво плаћају предузећа, односно предузетници",{"$f":"+Programska_aktivnost!D77+Sheet1!D77+'Захтев за додатна сред.'!D77+Projekat!D77+Sheet2!D77","v":0},{"$f":"+Programska_aktivnost!E77+Sheet1!E77+'Захтев за додатна сред.'!E77+Projekat!E77+Sheet2!E77","v":0},{"$f":"+Programska_aktivnost!F77+Sheet1!F77+'Захтев за додатна сред.'!F77+Projekat!F77+Sheet2!F77","v":0},{"$f":"+Programska_aktivnost!G77+Sheet1!G77+'Захтев за додатна сред.'!G77+Projekat!G77+Sheet2!G77","v":0},{"$f":"+Programska_aktivnost!H77+Sheet1!H77+'Захтев за додатна сред.'!H77+Projekat!H77+Sheet2!H77","v":0},{"$f":"+Programska_aktivnost!I77+Sheet1!I77+'Захтев за додатна сред.'!I77+Projekat!I77+Sheet2!I77","v":0},{"$f":"+Programska_aktivnost!J77+Sheet1!J77+'Захтев за додатна сред.'!J77+Projekat!J77+Sheet2!J77","v":0},{"$f":"+Programska_aktivnost!K77+Sheet1!K77+'Захтев за додатна сред.'!K77+Projekat!K77+Sheet2!K77","v":0},{"$f":"+Programska_aktivnost!L77+Sheet1!L77+'Захтев за додатна сред.'!L77+Projekat!L77+Sheet2!L77","v":0},{"$f":"+Programska_aktivnost!M77+Sheet1!M77+'Захтев за додатна сред.'!M77+Projekat!M77+Sheet2!M77","v":0},0,0,null,null,null,null,null,null,null,null,null,0]
[31,716200,"Други порези које плаћају остала лица или који се не могу идентификовати",{"$f":"+Programska_aktivnost!D78+Sheet1!D78+'Захтев за додатна сред.'!D78+Projekat!D78+Sheet2!D78","v":0},{"$f":"+Programska_aktivnost!E78+Sheet1!E78+'Захтев за додатна сред.'!E78+Projekat!E78+Sheet2!E78","v":0},{"$f":"+Programska_aktivnost!F78+Sheet1!F78+'Захтев за додатна сред.'!F78+Projekat!F78+Sheet2!F78","v":0},{"$f":"+Programska_aktivnost!G78+Sheet1!G78+'Захтев за додатна сред.'!G78+Projekat!G78+Sheet2!G78","v":0},{"$f":"+Programska_aktivnost!H78+Sheet1!H78+'Захтев за додатна сред.'!H78+Projekat!H78+Sheet2!H78","v":0},{"$f":"+Programska_aktivnost!I78+Sheet1!I78+'Захтев за додатна сред.'!I78+Projekat!I78+Sheet2!I78","v":0},{"$f":"+Programska_aktivnost!J78+Sheet1!J78+'Захтев за додатна сред.'!J78+Projekat!J78+Sheet2!J78","v":0},{"$f":"+Programska_aktivnost!K78+Sheet1!K78+'Захтев за додатна сред.'!K78+Projekat!K78+Sheet2!K78","v":0},{"$f":"+Programska_aktivnost!L78+Sheet1!L78+'Захтев за додатна сред.'!L78+Projekat!L78+Sheet2!L78","v":0},{"$f":"+Programska_aktivnost!M78+Sheet1!M78+'Захтев за додатна сред.'!M78+Projekat!M78+Sheet2!M78","v":0},0,0,null,null,null,null,null,null,null,null,null,0]
[32,730000,"ДОНАЦИЈЕ, ПОМОЋИ И ТРАНСФЕРИ \n(33 + 36 + 41)",{"$f":"+Programska_aktivnost!D79+Sheet1!D79+'Захтев за додатна сред.'!D79+Projekat!D79+Sheet2!D79","v":0},{"$f":"+Programska_aktivnost!E79+Sheet1!E79+'Захтев за додатна сред.'!E79+Projekat!E79+Sheet2!E79","v":11580000},{"$f":"+Programska_aktivnost!F79+Sheet1!F79+'Захтев за додатна сред.'!F79+Projekat!F79+Sheet2!F79","v":0},{"$f":"+Programska_aktivnost!G79+Sheet1!G79+'Захтев за додатна сред.'!G79+Projekat!G79+Sheet2!G79","v":11700000},{"$f":"+Programska_aktivnost!H79+Sheet1!H79+'Захтев за додатна сред.'!H79+Projekat!H79+Sheet2!H79","v":0},{"$f":"+Programska_aktivnost!I79+Sheet1!I79+'Захтев за додатна сред.'!I79+Projekat!I79+Sheet2!I79","v":2600000},{"$f":"+Programska_aktivnost!J79+Sheet1!J79+'Захтев за додатна сред.'!J79+Projekat!J79+Sheet2!J79","v":0},{"$f":"+Programska_aktivnost!K79+Sheet1!K79+'Захтев за додатна сред.'!K79+Projekat!K79+Sheet2!K79","v":2800000},{"$f":"+Programska_aktivnost!L79+Sheet1!L79+'Захтев за додатна сред.'!L79+Projekat!L79+Sheet2!L79","v":0},{"$f":"+Programska_aktivnost!M79+Sheet1!M79+'Захтев за додатна сред.'!M79+Projekat!M79+Sheet2!M79","v":2900000},0,8300000,null,null,null,null,null,null,null,null,null,39880000]
[33,731000,"ДОНАЦИЈЕ ОД ИНОСТРАНИХ ДРЖАВА (34 + 35)",{"$f":"+Programska_aktivnost!D80+Sheet1!D80+'Захтев за додатна сред.'!D80+Projekat!D80+Sheet2!D80","v":0},{"$f":"+Programska_aktivnost!E80+Sheet1!E80+'Захтев за додатна сред.'!E80+Projekat!E80+Sheet2!E80","v":0},{"$f":"+Programska_aktivnost!F80+Sheet1!F80+'Захтев за додатна сред.'!F80+Projekat!F80+Sheet2!F80","v":0},{"$f":"+Programska_aktivnost!G80+Sheet1!G80+'Захтев за додатна сред.'!G80+Projekat!G80+Sheet2!G80","v":0},{"$f":"+Programska_aktivnost!H80+Sheet1!H80+'Захтев за додатна сред.'!H80+Projekat!H80+Sheet2!H80","v":0},{"$f":"+Programska_aktivnost!I80+Sheet1!I80+'Захтев за додатна сред.'!I80+Projekat!I80+Sheet2!I80","v":0},{"$f":"+Programska_aktivnost!J80+Sheet1!J80+'Захтев за додатна сред.'!J80+Projekat!J80+Sheet2!J80","v":0},{"$f":"+Programska_aktivnost!K80+Sheet1!K80+'Захтев за додатна сред.'!K80+Projekat!K80+Sheet2!K80","v":0},{"$f":"+Programska_aktivnost!L80+Sheet1!L80+'Захтев за додатна сред.'!L80+Projekat!L80+Sheet2!L80","v":0},{"$f":"+Programska_aktivnost!M80+Sheet1!M80+'Захтев за додатна сред.'!M80+Projekat!M80+Sheet2!M80","v":0},0,0,null,null,null,null,null,null,null,null,null,0]
[34,731100,"Текуће донације од иностраних држава",{"$f":"+Programska_aktivnost!D81+Sheet1!D81+'Захтев за додатна сред.'!D81+Projekat!D81+Sheet2!D81","v":0},{"$f":"+Programska_aktivnost!E81+Sheet1!E81+'Захтев за додатна сред.'!E81+Projekat!E81+Sheet2!E81","v":0},{"$f":"+Programska_aktivnost!F81+Sheet1!F81+'Захтев за додатна сред.'!F81+Projekat!F81+Sheet2!F81","v":0},{"$f":"+Programska_aktivnost!G81+Sheet1!G81+'Захтев за додатна сред.'!G81+Projekat!G81+Sheet2!G81","v":0},{"$f":"+Programska_aktivnost!H81+Sheet1!H81+'Захтев за додатна сред.'!H81+Projekat!H81+Sheet2!H81","v":0},{"$f":"+Programska_aktivnost!I81+Sheet1!I81+'Захтев за додатна сред.'!I81+Projekat!I81+Sheet2!I81","v":0},{"$f":"+Programska_aktivnost!J81+Sheet1!J81+'Захтев за додатна сред.'!J81+Projekat!J81+Sheet2!J81","v":0},{"$f":"+Programska_aktivnost!K81+Sheet1!K81+'Захтев за додатна сред.'!K81+Projekat!K81+Sheet2!K81","v":0},{"$f":"+Programska_aktivnost!L81+Sheet1!L81+'Захтев за додатна сред.'!L81+Projekat!L81+Sheet2!L81","v":0},{"$f":"+Programska_aktivnost!M81+Sheet1!M81+'Захтев за додатна сред.'!M81+Projekat!M81+Sheet2!M81","v":0},0,0,null,null,null,null,null,null,null,null,null,0]
[35,731200,"Капиталне донације од иностраних држава",{"$f":"+Programska_aktivnost!D82+Sheet1!D82+'Захтев за додатна сред.'!D82+Projekat!D82+Sheet2!D82","v":0},{"$f":"+Programska_aktivnost!E82+Sheet1!E82+'Захтев за додатна сред.'!E82+Projekat!E82+Sheet2!E82","v":0},{"$f":"+Programska_aktivnost!F82+Sheet1!F82+'Захтев за додатна сред.'!F82+Projekat!F82+Sheet2!F82","v":0},{"$f":"+Programska_aktivnost!G82+Sheet1!G82+'Захтев за додатна сред.'!G82+Projekat!G82+Sheet2!G82","v":0},{"$f":"+Programska_aktivnost!H82+Sheet1!H82+'Захтев за додатна сред.'!H82+Projekat!H82+Sheet2!H82","v":0},{"$f":"+Programska_aktivnost!I82+Sheet1!I82+'Захтев за додатна сред.'!I82+Projekat!I82+Sheet2!I82","v":0},{"$f":"+Programska_aktivnost!J82+Sheet1!J82+'Захтев за додатна сред.'!J82+Projekat!J82+Sheet2!J82","v":0},{"$f":"+Programska_aktivnost!K82+Sheet1!K82+'Захтев за додатна сред.'!K82+Projekat!K82+Sheet2!K82","v":0},{"$f":"+Programska_aktivnost!L82+Sheet1!L82+'Захтев за додатна сред.'!L82+Projekat!L82+Sheet2!L82","v":0},{"$f":"+Programska_aktivnost!M82+Sheet1!M82+'Захтев за додатна сред.'!M82+Projekat!M82+Sheet2!M82","v":0},0,0,null,null,null,null,null,null,null,null,null,0]
[36,732000,"ДОНАЦИЈЕ И ПОМОЋИ ОД МЕЂУНАРОДНИХ ОРГАНИЗАЦИЈА (од 37 до 40)",{"$f":"+Programska_aktivnost!D83+Sheet1!D83+'Захтев за додатна сред.'!D83+Projekat!D83+Sheet2!D83","v":0},{"$f":"+Programska_aktivnost!E83+Sheet1!E83+'Захтев за додатна сред.'!E83+Projekat!E83+Sheet2!E83","v":0},{"$f":"+Programska_aktivnost!F83+Sheet1!F83+'Захтев за додатна сред.'!F83+Projekat!F83+Sheet2!F83","v":0},{"$f":"+Programska_aktivnost!G83+Sheet1!G83+'Захтев за додатна сред.'!G83+Projekat!G83+Sheet2!G83","v":0},{"$f":"+Programska_aktivnost!H83+Sheet1!H83+'Захтев за додатна сред.'!H83+Projekat!H83+Sheet2!H83","v":0},{"$f":"+Programska_aktivnost!I83+Sheet1!I83+'Захтев за додатна сред.'!I83+Projekat!I83+Sheet2!I83","v":0},{"$f":"+Programska_aktivnost!J83+Sheet1!J83+'Захтев за додатна сред.'!J83+Projekat!J83+Sheet2!J83","v":0},{"$f":"+Programska_aktivnost!K83+Sheet1!K83+'Захтев за додатна сред.'!K83+Projekat!K83+Sheet2!K83","v":0},{"$f":"+Programska_aktivnost!L83+Sheet1!L83+'Захтев за додатна сред.'!L83+Projekat!L83+Sheet2!L83","v":0},{"$f":"+Programska_aktivnost!M83+Sheet1!M83+'Захтев за додатна сред.'!M83+Projekat!M83+Sheet2!M83","v":0},0,0,null,null,null,null,null,null,null,null,null,0]
[37,732100,"Текуће донације од међународних организација",{"$f":"+Programska_aktivnost!D84+Sheet1!D84+'Захтев за додатна сред.'!D84+Projekat!D84+Sheet2!D84","v":0},{"$f":"+Programska_aktivnost!E84+Sheet1!E84+'Захтев за додатна сред.'!E84+Projekat!E84+Sheet2!E84","v":0},{"$f":"+Programska_aktivnost!F84+Sheet1!F84+'Захтев за додатна сред.'!F84+Projekat!F84+Sheet2!F84","v":0},{"$f":"+Programska_aktivnost!G84+Sheet1!G84+'Захтев за додатна сред.'!G84+Projekat!G84+Sheet2!G84","v":0},{"$f":"+Programska_aktivnost!H84+Sheet1!H84+'Захтев за додатна сред.'!H84+Projekat!H84+Sheet2!H84","v":0},{"$f":"+Programska_aktivnost!I84+Sheet1!I84+'Захтев за додатна сред.'!I84+Projekat!I84+Sheet2!I84","v":0},{"$f":"+Programska_aktivnost!J84+Sheet1!J84+'Захтев за додатна сред.'!J84+Projekat!J84+Sheet2!J84","v":0},{"$f":"+Programska_aktivnost!K84+Sheet1!K84+'Захтев за додатна сред.'!K84+Projekat!K84+Sheet2!K84","v":0},{"$f":"+Programska_aktivnost!L84+Sheet1!L84+'Захтев за додатна сред.'!L84+Projekat!L84+Sheet2!L84","v":0},{"$f":"+Programska_aktivnost!M84+Sheet1!M84+'Захтев за додатна сред.'!M84+Projekat!M84+Sheet2!M84","v":0},0,0,null,null,null,null,null,null,null,null,null,0]
[38,732200,"Капиталне донације од међународних организација",{"$f":"+Programska_aktivnost!D85+Sheet1!D85+'Захтев за додатна сред.'!D85+Projekat!D85+Sheet2!D85","v":0},{"$f":"+Programska_aktivnost!E85+Sheet1!E85+'Захтев за додатна сред.'!E85+Projekat!E85+Sheet2!E85","v":0},{"$f":"+Programska_aktivnost!F85+Sheet1!F85+'Захтев за додатна сред.'!F85+Projekat!F85+Sheet2!F85","v":0},{"$f":"+Programska_aktivnost!G85+Sheet1!G85+'Захтев за додатна сред.'!G85+Projekat!G85+Sheet2!G85","v":0},{"$f":"+Programska_aktivnost!H85+Sheet1!H85+'Захтев за додатна сред.'!H85+Projekat!H85+Sheet2!H85","v":0},{"$f":"+Programska_aktivnost!I85+Sheet1!I85+'Захтев за додатна сред.'!I85+Projekat!I85+Sheet2!I85","v":0},{"$f":"+Programska_aktivnost!J85+Sheet1!J85+'Захтев за додатна сред.'!J85+Projekat!J85+Sheet2!J85","v":0},{"$f":"+Programska_aktivnost!K85+Sheet1!K85+'Захтев за додатна сред.'!K85+Projekat!K85+Sheet2!K85","v":0},{"$f":"+Programska_aktivnost!L85+Sheet1!L85+'Захтев за додатна сред.'!L85+Projekat!L85+Sheet2!L85","v":0},{"$f":"+Programska_aktivnost!M85+Sheet1!M85+'Захтев за додатна сред.'!M85+Projekat!M85+Sheet2!M85","v":0},0,0,null,null,null,null,null,null,null,null,null,0]
[39,732300,"Текуће помоћи од ЕУ",{"$f":"+Programska_aktivnost!D86+Sheet1!D86+'Захтев за додатна сред.'!D86+Projekat!D86+Sheet2!D86","v":0},{"$f":"+Programska_aktivnost!E86+Sheet1!E86+'Захтев за додатна сред.'!E86+Projekat!E86+Sheet2!E86","v":0},{"$f":"+Programska_aktivnost!F86+Sheet1!F86+'Захтев за додатна сред.'!F86+Projekat!F86+Sheet2!F86","v":0},{"$f":"+Programska_aktivnost!G86+Sheet1!G86+'Захтев за додатна сред.'!G86+Projekat!G86+Sheet2!G86","v":0},{"$f":"+Programska_aktivnost!H86+Sheet1!H86+'Захтев за додатна сред.'!H86+Projekat!H86+Sheet2!H86","v":0},{"$f":"+Programska_aktivnost!I86+Sheet1!I86+'Захтев за додатна сред.'!I86+Projekat!I86+Sheet2!I86","v":0},{"$f":"+Programska_aktivnost!J86+Sheet1!J86+'Захтев за додатна сред.'!J86+Projekat!J86+Sheet2!J86","v":0},{"$f":"+Programska_aktivnost!K86+Sheet1!K86+'Захтев за додатна сред.'!K86+Projekat!K86+Sheet2!K86","v":0},{"$f":"+Programska_aktivnost!L86+Sheet1!L86+'Захтев за додатна сред.'!L86+Projekat!L86+Sheet2!L86","v":0},{"$f":"+Programska_aktivnost!M86+Sheet1!M86+'Захтев за додатна сред.'!M86+Projekat!M86+Sheet2!M86","v":0},0,0,null,null,null,null,null,null,null,null,null,0]
[40,732400,"Капиталне помоћи од ЕУ",{"$f":"+Programska_aktivnost!D87+Sheet1!D87+'Захтев за додатна сред.'!D87+Projekat!D87+Sheet2!D87","v":0},{"$f":"+Programska_aktivnost!E87+Sheet1!E87+'Захтев за додатна сред.'!E87+Projekat!E87+Sheet2!E87","v":0},{"$f":"+Programska_aktivnost!F87+Sheet1!F87+'Захтев за додатна сред.'!F87+Projekat!F87+Sheet2!F87","v":0},{"$f":"+Programska_aktivnost!G87+Sheet1!G87+'Захтев за додатна сред.'!G87+Projekat!G87+Sheet2!G87","v":0},{"$f":"+Programska_aktivnost!H87+Sheet1!H87+'Захтев за додатна сред.'!H87+Projekat!H87+Sheet2!H87","v":0},{"$f":"+Programska_aktivnost!I87+Sheet1!I87+'Захтев за додатна сред.'!I87+Projekat!I87+Sheet2!I87","v":0},{"$f":"+Programska_aktivnost!J87+Sheet1!J87+'Захтев за додатна сред.'!J87+Projekat!J87+Sheet2!J87","v":0},{"$f":"+Programska_aktivnost!K87+Sheet1!K87+'Захтев за додатна сред.'!K87+Projekat!K87+Sheet2!K87","v":0},{"$f":"+Programska_aktivnost!L87+Sheet1!L87+'Захтев за додатна сред.'!L87+Projekat!L87+Sheet2!L87","v":0},{"$f":"+Programska_aktivnost!M87+Sheet1!M87+'Захтев за додатна сред.'!M87+Projekat!M87+Sheet2!M87","v":0},0,0,null,null,null,null,null,null,null,null,null,0]
[41,733000,"ТРАНСФЕРИ ОД ДРУГИХ НИВОА ВЛАСТИ (42 + 43)",{"$f":"+Programska_aktivnost!D88+Sheet1!D88+'Захтев за додатна сред.'!D88+Projekat!D88+Sheet2!D88","v":0},{"$f":"+Programska_aktivnost!E88+Sheet1!E88+'Захтев за додатна сред.'!E88+Projekat!E88+Sheet2!E88","v":11580000},{"$f":"+Programska_aktivnost!F88+Sheet1!F88+'Захтев за додатна сред.'!F88+Projekat!F88+Sheet2!F88","v":0},{"$f":"+Programska_aktivnost!G88+Sheet1!G88+'Захтев за додатна сред.'!G88+Projekat!G88+Sheet2!G88","v":11700000},{"$f":"+Programska_aktivnost!H88+Sheet1!H88+'Захтев за додатна сред.'!H88+Projekat!H88+Sheet2!H88","v":0},{"$f":"+Programska_aktivnost!I88+Sheet1!I88+'Захтев за додатна сред.'!I88+Projekat!I88+Sheet2!I88","v":2600000},{"$f":"+Programska_aktivnost!J88+Sheet1!J88+'Захтев за додатна сред.'!J88+Projekat!J88+Sheet2!J88","v":0},{"$f":"+Programska_aktivnost!K88+Sheet1!K88+'Захтев за додатна сред.'!K88+Projekat!K88+Sheet2!K88","v":2800000},{"$f":"+Programska_aktivnost!L88+Sheet1!L88+'Захтев за додатна сред.'!L88+Projekat!L88+Sheet2!L88","v":0},{"$f":"+Programska_aktivnost!M88+Sheet1!M88+'Захтев за додатна сред.'!M88+Projekat!M88+Sheet2!M88","v":2900000},{"$f":"SUM(H88,J88,L88)","v":0},8300000,null,null,null,null,null,null,null,null,null,39880000]
[42,733100,"Текући трансфери од других нивоа власти",{"$f":"+Programska_aktivnost!D89+Sheet1!D89+'Захтев за додатна сред.'!D89+Projekat!D89+Sheet2!D89","v":0},{"$f":"+Programska_aktivnost!E89+Sheet1!E89+'Захтев за додатна сред.'!E89+Projekat!E89+Sheet2!E89","v":11580000},{"$f":"+Programska_aktivnost!F89+Sheet1!F89+'Захтев за додатна сред.'!F89+Projekat!F89+Sheet2!F89","v":0},{"$f":"+Programska_aktivnost!G89+Sheet1!G89+'Захтев за додатна сред.'!G89+Projekat!G89+Sheet2!G89","v":11700000},{"$f":"+Programska_aktivnost!H89+Sheet1!H89+'Захтев за додатна сред.'!H89+Projekat!H89+Sheet2!H89","v":0},{"$f":"+Programska_aktivnost!I89+Sheet1!I89+'Захтев за додатна сред.'!I89+Projekat!I89+Sheet2!I89","v":2600000},{"$f":"+Programska_aktivnost!J89+Sheet1!J89+'Захтев за додатна сред.'!J89+Projekat!J89+Sheet2!J89","v":0},{"$f":"+Programska_aktivnost!K89+Sheet1!K89+'Захтев за додатна сред.'!K89+Projekat!K89+Sheet2!K89","v":2800000},{"$f":"+Programska_aktivnost!L89+Sheet1!L89+'Захтев за додатна сред.'!L89+Projekat!L89+Sheet2!L89","v":0},{"$f":"+Programska_aktivnost!M89+Sheet1!M89+'Захтев за додатна сред.'!M89+Projekat!M89+Sheet2!M89","v":2900000},0,8300000,null,null,null,null,null,null,null,null,null,39880000]
[43,733200,"Капитални трансфери од других нивоа власти",{"$f":"+Programska_aktivnost!D90+Sheet1!D90+'Захтев за додатна сред.'!D90+Projekat!D90+Sheet2!D90","v":0},{"$f":"+Programska_aktivnost!E90+Sheet1!E90+'Захтев за додатна сред.'!E90+Projekat!E90+Sheet2!E90","v":0},{"$f":"+Programska_aktivnost!F90+Sheet1!F90+'Захтев за додатна сред.'!F90+Projekat!F90+Sheet2!F90","v":0},{"$f":"+Programska_aktivnost!G90+Sheet1!G90+'Захтев за додатна сред.'!G90+Projekat!G90+Sheet2!G90","v":0},{"$f":"+Programska_aktivnost!H90+Sheet1!H90+'Захтев за додатна сред.'!H90+Projekat!H90+Sheet2!H90","v":0},{"$f":"+Programska_aktivnost!I90+Sheet1!I90+'Захтев за додатна сред.'!I90+Projekat!I90+Sheet2!I90","v":0},{"$f":"+Programska_aktivnost!J90+Sheet1!J90+'Захтев за додатна сред.'!J90+Projekat!J90+Sheet2!J90","v":0},{"$f":"+Programska_aktivnost!K90+Sheet1!K90+'Захтев за додатна сред.'!K90+Projekat!K90+Sheet2!K90","v":0},{"$f":"+Programska_aktivnost!L90+Sheet1!L90+'Захтев за додатна сред.'!L90+Projekat!L90+Sheet2!L90","v":0},{"$f":"+Programska_aktivnost!M90+Sheet1!M90+'Захтев за додатна сред.'!M90+Projekat!M90+Sheet2!M90","v":0},0,0,null,null,null,null,null,null,null,null,null,0]
[44,740000,"ДРУГИ ПРИХОДИ (45 + 52 + 57 + 64 + 67)",{"$f":"+Programska_aktivnost!D91+Sheet1!D91+'Захтев за додатна сред.'!D91+Projekat!D91+Sheet2!D91","v":0},{"$f":"+Programska_aktivnost!E91+Sheet1!E91+'Захтев за додатна сред.'!E91+Projekat!E91+Sheet2!E91","v":0},{"$f":"+Programska_aktivnost!F91+Sheet1!F91+'Захтев за додатна сред.'!F91+Projekat!F91+Sheet2!F91","v":0},{"$f":"+Programska_aktivnost!G91+Sheet1!G91+'Захтев за додатна сред.'!G91+Projekat!G91+Sheet2!G91","v":0},{"$f":"+Programska_aktivnost!H91+Sheet1!H91+'Захтев за додатна сред.'!H91+Projekat!H91+Sheet2!H91","v":0},{"$f":"+Programska_aktivnost!I91+Sheet1!I91+'Захтев за додатна сред.'!I91+Projekat!I91+Sheet2!I91","v":0},{"$f":"+Programska_aktivnost!J91+Sheet1!J91+'Захтев за додатна сред.'!J91+Projekat!J91+Sheet2!J91","v":0},{"$f":"+Programska_aktivnost!K91+Sheet1!K91+'Захтев за додатна сред.'!K91+Projekat!K91+Sheet2!K91","v":0},{"$f":"+Programska_aktivnost!L91+Sheet1!L91+'Захтев за додатна сред.'!L91+Projekat!L91+Sheet2!L91","v":0},{"$f":"+Programska_aktivnost!M91+Sheet1!M91+'Захтев за додатна сред.'!M91+Projekat!M91+Sheet2!M91","v":0},0,0,null,null,null,null,null,null,null,null,null,0]
[45,741000,"ПРИХОДИ ОД ИМОВИНЕ (од 46 до 51)",{"$f":"+Programska_aktivnost!D92+Sheet1!D92+'Захтев за додатна сред.'!D92+Projekat!D92+Sheet2!D92","v":0},{"$f":"+Programska_aktivnost!E92+Sheet1!E92+'Захтев за додатна сред.'!E92+Projekat!E92+Sheet2!E92","v":0},{"$f":"+Programska_aktivnost!F92+Sheet1!F92+'Захтев за додатна сред.'!F92+Projekat!F92+Sheet2!F92","v":0},{"$f":"+Programska_aktivnost!G92+Sheet1!G92+'Захтев за додатна сред.'!G92+Projekat!G92+Sheet2!G92","v":0},{"$f":"+Programska_aktivnost!H92+Sheet1!H92+'Захтев за додатна сред.'!H92+Projekat!H92+Sheet2!H92","v":0},{"$f":"+Programska_aktivnost!I92+Sheet1!I92+'Захтев за додатна сред.'!I92+Projekat!I92+Sheet2!I92","v":0},{"$f":"+Programska_aktivnost!J92+Sheet1!J92+'Захтев за додатна сред.'!J92+Projekat!J92+Sheet2!J92","v":0},{"$f":"+Programska_aktivnost!K92+Sheet1!K92+'Захтев за додатна сред.'!K92+Projekat!K92+Sheet2!K92","v":0},{"$f":"+Programska_aktivnost!L92+Sheet1!L92+'Захтев за додатна сред.'!L92+Projekat!L92+Sheet2!L92","v":0},{"$f":"+Programska_aktivnost!M92+Sheet1!M92+'Захтев за додатна сред.'!M92+Projekat!M92+Sheet2!M92","v":0},0,0,null,null,null,null,null,null,null,null,null,0]
[46,741100,"Камате",{"$f":"+Programska_aktivnost!D93+Sheet1!D93+'Захтев за додатна сред.'!D93+Projekat!D93+Sheet2!D93","v":0},{"$f":"+Programska_aktivnost!E93+Sheet1!E93+'Захтев за додатна сред.'!E93+Projekat!E93+Sheet2!E93","v":0},{"$f":"+Programska_aktivnost!F93+Sheet1!F93+'Захтев за додатна сред.'!F93+Projekat!F93+Sheet2!F93","v":0},{"$f":"+Programska_aktivnost!G93+Sheet1!G93+'Захтев за додатна сред.'!G93+Projekat!G93+Sheet2!G93","v":0},{"$f":"+Programska_aktivnost!H93+Sheet1!H93+'Захтев за додатна сред.'!H93+Projekat!H93+Sheet2!H93","v":0},{"$f":"+Programska_aktivnost!I93+Sheet1!I93+'Захтев за додатна сред.'!I93+Projekat!I93+Sheet2!I93","v":0},{"$f":"+Programska_aktivnost!J93+Sheet1!J93+'Захтев за додатна сред.'!J93+Projekat!J93+Sheet2!J93","v":0},{"$f":"+Programska_aktivnost!K93+Sheet1!K93+'Захтев за додатна сред.'!K93+Projekat!K93+Sheet2!K93","v":0},{"$f":"+Programska_aktivnost!L93+Sheet1!L93+'Захтев за додатна сред.'!L93+Projekat!L93+Sheet2!L93","v":0},{"$f":"+Programska_aktivnost!M93+Sheet1!M93+'Захтев за додатна сред.'!M93+Projekat!M93+Sheet2!M93","v":0},0,0,null,null,null,null,null,null,null,null,null,0]
[47,741200,"Дивиденде",{"$f":"+Programska_aktivnost!D94+Sheet1!D94+'Захтев за додатна сред.'!D94+Projekat!D94+Sheet2!D94","v":0},{"$f":"+Programska_aktivnost!E94+Sheet1!E94+'Захтев за додатна сред.'!E94+Projekat!E94+Sheet2!E94","v":0},{"$f":"+Programska_aktivnost!F94+Sheet1!F94+'Захтев за додатна сред.'!F94+Projekat!F94+Sheet2!F94","v":0},{"$f":"+Programska_aktivnost!G94+Sheet1!G94+'Захтев за додатна сред.'!G94+Projekat!G94+Sheet2!G94","v":0},{"$f":"+Programska_aktivnost!H94+Sheet1!H94+'Захтев за додатна сред.'!H94+Projekat!H94+Sheet2!H94","v":0},{"$f":"+Programska_aktivnost!I94+Sheet1!I94+'Захтев за додатна сред.'!I94+Projekat!I94+Sheet2!I94","v":0},{"$f":"+Programska_aktivnost!J94+Sheet1!J94+'Захтев за додатна сред.'!J94+Projekat!J94+Sheet2!J94","v":0},{"$f":"+Programska_aktivnost!K94+Sheet1!K94+'Захтев за додатна сред.'!K94+Projekat!K94+Sheet2!K94","v":0},{"$f":"+Programska_aktivnost!L94+Sheet1!L94+'Захтев за додатна сред.'!L94+Projekat!L94+Sheet2!L94","v":0},{"$f":"+Programska_aktivnost!M94+Sheet1!M94+'Захтев за додатна сред.'!M94+Projekat!M94+Sheet2!M94","v":0},0,0,null,null,null,null,null,null,null,null,null,0]
[48,741300,"Повлачење прихода од квази корпорација",{"$f":"+Programska_aktivnost!D95+Sheet1!D95+'Захтев за додатна сред.'!D95+Projekat!D95+Sheet2!D95","v":0},{"$f":"+Programska_aktivnost!E95+Sheet1!E95+'Захтев за додатна сред.'!E95+Projekat!E95+Sheet2!E95","v":0},{"$f":"+Programska_aktivnost!F95+Sheet1!F95+'Захтев за додатна сред.'!F95+Projekat!F95+Sheet2!F95","v":0},{"$f":"+Programska_aktivnost!G95+Sheet1!G95+'Захтев за додатна сред.'!G95+Projekat!G95+Sheet2!G95","v":0},{"$f":"+Programska_aktivnost!H95+Sheet1!H95+'Захтев за додатна сред.'!H95+Projekat!H95+Sheet2!H95","v":0},{"$f":"+Programska_aktivnost!I95+Sheet1!I95+'Захтев за додатна сред.'!I95+Projekat!I95+Sheet2!I95","v":0},{"$f":"+Programska_aktivnost!J95+Sheet1!J95+'Захтев за додатна сред.'!J95+Projekat!J95+Sheet2!J95","v":0},{"$f":"+Programska_aktivnost!K95+Sheet1!K95+'Захтев за додатна сред.'!K95+Projekat!K95+Sheet2!K95","v":0},{"$f":"+Programska_aktivnost!L95+Sheet1!L95+'Захтев за додатна сред.'!L95+Projekat!L95+Sheet2!L95","v":0},{"$f":"+Programska_aktivnost!M95+Sheet1!M95+'Захтев за додатна сред.'!M95+Projekat!M95+Sheet2!M95","v":0},0,0,null,null,null,null,null,null,null,null,null,0]
[49,741400,"Приход од имовине који припада имаоцима полиса осигурања",{"$f":"+Programska_aktivnost!D96+Sheet1!D96+'Захтев за додатна сред.'!D96+Projekat!D96+Sheet2!D96","v":0},{"$f":"+Programska_aktivnost!E96+Sheet1!E96+'Захтев за додатна сред.'!E96+Projekat!E96+Sheet2!E96","v":0},{"$f":"+Programska_aktivnost!F96+Sheet1!F96+'Захтев за додатна сред.'!F96+Projekat!F96+Sheet2!F96","v":0},{"$f":"+Programska_aktivnost!G96+Sheet1!G96+'Захтев за додатна сред.'!G96+Projekat!G96+Sheet2!G96","v":0},{"$f":"+Programska_aktivnost!H96+Sheet1!H96+'Захтев за додатна сред.'!H96+Projekat!H96+Sheet2!H96","v":0},{"$f":"+Programska_aktivnost!I96+Sheet1!I96+'Захтев за додатна сред.'!I96+Projekat!I96+Sheet2!I96","v":0},{"$f":"+Programska_aktivnost!J96+Sheet1!J96+'Захтев за додатна сред.'!J96+Projekat!J96+Sheet2!J96","v":0},{"$f":"+Programska_aktivnost!K96+Sheet1!K96+'Захтев за додатна сред.'!K96+Projekat!K96+Sheet2!K96","v":0},{"$f":"+Programska_aktivnost!L96+Sheet1!L96+'Захтев за додатна сред.'!L96+Projekat!L96+Sheet2!L96","v":0},{"$f":"+Programska_aktivnost!M96+Sheet1!M96+'Захтев за додатна сред.'!M96+Projekat!M96+Sheet2!M96","v":0},0,0,null,null,null,null,null,null,null,null,null,0]
[50,741500,"Закуп непроизведене имовине",{"$f":"+Programska_aktivnost!D97+Sheet1!D97+'Захтев за додатна сред.'!D97+Projekat!D97+Sheet2!D97","v":0},{"$f":"+Programska_aktivnost!E97+Sheet1!E97+'Захтев за додатна сред.'!E97+Projekat!E97+Sheet2!E97","v":0},{"$f":"+Programska_aktivnost!F97+Sheet1!F97+'Захтев за додатна сред.'!F97+Projekat!F97+Sheet2!F97","v":0},{"$f":"+Programska_aktivnost!G97+Sheet1!G97+'Захтев за додатна сред.'!G97+Projekat!G97+Sheet2!G97","v":0},{"$f":"+Programska_aktivnost!H97+Sheet1!H97+'Захтев за додатна сред.'!H97+Projekat!H97+Sheet2!H97","v":0},{"$f":"+Programska_aktivnost!I97+Sheet1!I97+'Захтев за додатна сред.'!I97+Projekat!I97+Sheet2!I97","v":0},{"$f":"+Programska_aktivnost!J97+Sheet1!J97+'Захтев за додатна сред.'!J97+Projekat!J97+Sheet2!J97","v":0},{"$f":"+Programska_aktivnost!K97+Sheet1!K97+'Захтев за додатна сред.'!K97+Projekat!K97+Sheet2!K97","v":0},{"$f":"+Programska_aktivnost!L97+Sheet1!L97+'Захтев за додатна сред.'!L97+Projekat!L97+Sheet2!L97","v":0},{"$f":"+Programska_aktivnost!M97+Sheet1!M97+'Захтев за додатна сред.'!M97+Projekat!M97+Sheet2!M97","v":0},0,0,null,null,null,null,null,null,null,null,null,0]
[51,741600,"Финансијске промене на финансијским лизинзима",{"$f":"+Programska_aktivnost!D98+Sheet1!D98+'Захтев за додатна сред.'!D98+Projekat!D98+Sheet2!D98","v":0},{"$f":"+Programska_aktivnost!E98+Sheet1!E98+'Захтев за додатна сред.'!E98+Projekat!E98+Sheet2!E98","v":0},{"$f":"+Programska_aktivnost!F98+Sheet1!F98+'Захтев за додатна сред.'!F98+Projekat!F98+Sheet2!F98","v":0},{"$f":"+Programska_aktivnost!G98+Sheet1!G98+'Захтев за додатна сред.'!G98+Projekat!G98+Sheet2!G98","v":0},{"$f":"+Programska_aktivnost!H98+Sheet1!H98+'Захтев за додатна сред.'!H98+Projekat!H98+Sheet2!H98","v":0},{"$f":"+Programska_aktivnost!I98+Sheet1!I98+'Захтев за додатна сред.'!I98+Projekat!I98+Sheet2!I98","v":0},{"$f":"+Programska_aktivnost!J98+Sheet1!J98+'Захтев за додатна сред.'!J98+Projekat!J98+Sheet2!J98","v":0},{"$f":"+Programska_aktivnost!K98+Sheet1!K98+'Захтев за додатна сред.'!K98+Projekat!K98+Sheet2!K98","v":0},{"$f":"+Programska_aktivnost!L98+Sheet1!L98+'Захтев за додатна сред.'!L98+Projekat!L98+Sheet2!L98","v":0},{"$f":"+Programska_aktivnost!M98+Sheet1!M98+'Захтев за додатна сред.'!M98+Projekat!M98+Sheet2!M98","v":0},0,0,null,null,null,null,null,null,null,null,null,0]
[52,742000,"ПРИХОДИ ОД ПРОДАЈЕ ДОБАРА И УСЛУГА (од 53 до 56)",{"$f":"+Programska_aktivnost!D99+Sheet1!D99+'Захтев за додатна сред.'!D99+Projekat!D99+Sheet2!D99","v":0},{"$f":"+Programska_aktivnost!E99+Sheet1!E99+'Захтев за додатна сред.'!E99+Projekat!E99+Sheet2!E99","v":0},{"$f":"+Programska_aktivnost!F99+Sheet1!F99+'Захтев за додатна сред.'!F99+Projekat!F99+Sheet2!F99","v":0},{"$f":"+Programska_aktivnost!G99+Sheet1!G99+'Захтев за додатна сред.'!G99+Projekat!G99+Sheet2!G99","v":0},{"$f":"+Programska_aktivnost!H99+Sheet1!H99+'Захтев за додатна сред.'!H99+Projekat!H99+Sheet2!H99","v":0},{"$f":"+Programska_aktivnost!I99+Sheet1!I99+'Захтев за додатна сред.'!I99+Projekat!I99+Sheet2!I99","v":0},{"$f":"+Programska_aktivnost!J99+Sheet1!J99+'Захтев за додатна сред.'!J99+Projekat!J99+Sheet2!J99","v":0},{"$f":"+Programska_aktivnost!K99+Sheet1!K99+'Захтев за додатна сред.'!K99+Projekat!K99+Sheet2!K99","v":0},{"$f":"+Programska_aktivnost!L99+Sheet1!L99+'Захтев за додатна сред.'!L99+Projekat!L99+Sheet2!L99","v":0},{"$f":"+Programska_aktivnost!M99+Sheet1!M99+'Захтев за додатна сред.'!M99+Projekat!M99+Sheet2!M99","v":0},0,0,null,null,null,null,null,null,null,null,null,0]
[53,742100,"Приходи од продаје добара и услуга или закупа од стране тржишних организација",{"$f":"+Programska_aktivnost!D100+Sheet1!D100+'Захтев за додатна сред.'!D100+Projekat!D100+Sheet2!D100","v":0},{"$f":"+Programska_aktivnost!E100+Sheet1!E100+'Захтев за додатна сред.'!E100+Projekat!E100+Sheet2!E100","v":0},{"$f":"+Programska_aktivnost!F100+Sheet1!F100+'Захтев за додатна сред.'!F100+Projekat!F100+Sheet2!F100","v":0},{"$f":"+Programska_aktivnost!G100+Sheet1!G100+'Захтев за додатна сред.'!G100+Projekat!G100+Sheet2!G100","v":0},{"$f":"+Programska_aktivnost!H100+Sheet1!H100+'Захтев за додатна сред.'!H100+Projekat!H100+Sheet2!H100","v":0},{"$f":"+Programska_aktivnost!I100+Sheet1!I100+'Захтев за додатна сред.'!I100+Projekat!I100+Sheet2!I100","v":0},{"$f":"+Programska_aktivnost!J100+Sheet1!J100+'Захтев за додатна сред.'!J100+Projekat!J100+Sheet2!J100","v":0},{"$f":"+Programska_aktivnost!K100+Sheet1!K100+'Захтев за додатна сред.'!K100+Projekat!K100+Sheet2!K100","v":0},{"$f":"+Programska_aktivnost!L100+Sheet1!L100+'Захтев за додатна сред.'!L100+Projekat!L100+Sheet2!L100","v":0},{"$f":"+Programska_aktivnost!M100+Sheet1!M100+'Захтев за додатна сред.'!M100+Projekat!M100+Sheet2!M100","v":0},0,0,null,null,null,null,null,null,null,null,null,0]
[54,742200,"Таксе и накнаде",{"$f":"+Programska_aktivnost!D101+Sheet1!D101+'Захтев за додатна сред.'!D101+Projekat!D101+Sheet2!D101","v":0},{"$f":"+Programska_aktivnost!E101+Sheet1!E101+'Захтев за додатна сред.'!E101+Projekat!E101+Sheet2!E101","v":0},{"$f":"+Programska_aktivnost!F101+Sheet1!F101+'Захтев за додатна сред.'!F101+Projekat!F101+Sheet2!F101","v":0},{"$f":"+Programska_aktivnost!G101+Sheet1!G101+'Захтев за додатна сред.'!G101+Projekat!G101+Sheet2!G101","v":0},{"$f":"+Programska_aktivnost!H101+Sheet1!H101+'Захтев за додатна сред.'!H101+Projekat!H101+Sheet2!H101","v":0},{"$f":"+Programska_aktivnost!I101+Sheet1!I101+'Захтев за додатна сред.'!I101+Projekat!I101+Sheet2!I101","v":0},{"$f":"+Programska_aktivnost!J101+Sheet1!J101+'Захтев за додатна сред.'!J101+Projekat!J101+Sheet2!J101","v":0},{"$f":"+Programska_aktivnost!K101+Sheet1!K101+'Захтев за додатна сред.'!K101+Projekat!K101+Sheet2!K101","v":0},{"$f":"+Programska_aktivnost!L101+Sheet1!L101+'Захтев за додатна сред.'!L101+Projekat!L101+Sheet2!L101","v":0},{"$f":"+Programska_aktivnost!M101+Sheet1!M101+'Захтев за додатна сред.'!M101+Projekat!M101+Sheet2!M101","v":0},0,0,null,null,null,null,null,null,null,null,null,0]
[55,742300,"Споредне продаје добара и услуга које врше државне нетржишне јединице",{"$f":"+Programska_aktivnost!D102+Sheet1!D102+'Захтев за додатна сред.'!D102+Projekat!D102+Sheet2!D102","v":0},{"$f":"+Programska_aktivnost!E102+Sheet1!E102+'Захтев за додатна сред.'!E102+Projekat!E102+Sheet2!E102","v":0},{"$f":"+Programska_aktivnost!F102+Sheet1!F102+'Захтев за додатна сред.'!F102+Projekat!F102+Sheet2!F102","v":0},{"$f":"+Programska_aktivnost!G102+Sheet1!G102+'Захтев за додатна сред.'!G102+Projekat!G102+Sheet2!G102","v":0},{"$f":"+Programska_aktivnost!H102+Sheet1!H102+'Захтев за додатна сред.'!H102+Projekat!H102+Sheet2!H102","v":0},{"$f":"+Programska_aktivnost!I102+Sheet1!I102+'Захтев за додатна сред.'!I102+Projekat!I102+Sheet2!I102","v":0},{"$f":"+Programska_aktivnost!J102+Sheet1!J102+'Захтев за додатна сред.'!J102+Projekat!J102+Sheet2!J102","v":0},{"$f":"+Programska_aktivnost!K102+Sheet1!K102+'Захтев за додатна сред.'!K102+Projekat!K102+Sheet2!K102","v":0},{"$f":"+Programska_aktivnost!L102+Sheet1!L102+'Захтев за додатна сред.'!L102+Projekat!L102+Sheet2!L102","v":0},{"$f":"+Programska_aktivnost!M102+Sheet1!M102+'Захтев за додатна сред.'!M102+Projekat!M102+Sheet2!M102","v":0},0,0,null,null,null,null,null,null,null,null,null,0]
[56,742400,"Импутиране продаје добара и услуга",{"$f":"+Programska_aktivnost!D103+Sheet1!D103+'Захтев за додатна сред.'!D103+Projekat!D103+Sheet2!D103","v":0},{"$f":"+Programska_aktivnost!E103+Sheet1!E103+'Захтев за додатна сред.'!E103+Projekat!E103+Sheet2!E103","v":0},{"$f":"+Programska_aktivnost!F103+Sheet1!F103+'Захтев за додатна сред.'!F103+Projekat!F103+Sheet2!F103","v":0},{"$f":"+Programska_aktivnost!G103+Sheet1!G103+'Захтев за додатна сред.'!G103+Projekat!G103+Sheet2!G103","v":0},{"$f":"+Programska_aktivnost!H103+Sheet1!H103+'Захтев за додатна сред.'!H103+Projekat!H103+Sheet2!H103","v":0},{"$f":"+Programska_aktivnost!I103+Sheet1!I103+'Захтев за додатна сред.'!I103+Projekat!I103+Sheet2!I103","v":0},{"$f":"+Programska_aktivnost!J103+Sheet1!J103+'Захтев за додатна сред.'!J103+Projekat!J103+Sheet2!J103","v":0},{"$f":"+Programska_aktivnost!K103+Sheet1!K103+'Захтев за додатна сред.'!K103+Projekat!K103+Sheet2!K103","v":0},{"$f":"+Programska_aktivnost!L103+Sheet1!L103+'Захтев за додатна сред.'!L103+Projekat!L103+Sheet2!L103","v":0},{"$f":"+Programska_aktivnost!M103+Sheet1!M103+'Захтев за додатна сред.'!M103+Projekat!M103+Sheet2!M103","v":0},0,0,null,null,null,null,null,null,null,null,null,0]
[57,743000,"НОВЧАНЕ КАЗНЕ И ОДУЗЕТА ИМОВИНСКА КОРИСТ (од 58 до 63)",{"$f":"+Programska_aktivnost!D104+Sheet1!D104+'Захтев за додатна сред.'!D104+Projekat!D104+Sheet2!D104","v":0},{"$f":"+Programska_aktivnost!E104+Sheet1!E104+'Захтев за додатна сред.'!E104+Projekat!E104+Sheet2!E104","v":0},{"$f":"+Programska_aktivnost!F104+Sheet1!F104+'Захтев за додатна сред.'!F104+Projekat!F104+Sheet2!F104","v":0},{"$f":"+Programska_aktivnost!G104+Sheet1!G104+'Захтев за додатна сред.'!G104+Projekat!G104+Sheet2!G104","v":0},{"$f":"+Programska_aktivnost!H104+Sheet1!H104+'Захтев за додатна сред.'!H104+Projekat!H104+Sheet2!H104","v":0},{"$f":"+Programska_aktivnost!I104+Sheet1!I104+'Захтев за додатна сред.'!I104+Projekat!I104+Sheet2!I104","v":0},{"$f":"+Programska_aktivnost!J104+Sheet1!J104+'Захтев за додатна сред.'!J104+Projekat!J104+Sheet2!J104","v":0},{"$f":"+Programska_aktivnost!K104+Sheet1!K104+'Захтев за додатна сред.'!K104+Projekat!K104+Sheet2!K104","v":0},{"$f":"+Programska_aktivnost!L104+Sheet1!L104+'Захтев за додатна сред.'!L104+Projekat!L104+Sheet2!L104","v":0},{"$f":"+Programska_aktivnost!M104+Sheet1!M104+'Захтев за додатна сред.'!M104+Projekat!M104+Sheet2!M104","v":0},0,0,null,null,null,null,null,null,null,null,null,0]
[58,743100,"Приходи од новчаних казни за кривична дела",{"$f":"+Programska_aktivnost!D105+Sheet1!D105+'Захтев за додатна сред.'!D105+Projekat!D105+Sheet2!D105","v":0},{"$f":"+Programska_aktivnost!E105+Sheet1!E105+'Захтев за додатна сред.'!E105+Projekat!E105+Sheet2!E105","v":0},{"$f":"+Programska_aktivnost!F105+Sheet1!F105+'Захтев за додатна сред.'!F105+Projekat!F105+Sheet2!F105","v":0},{"$f":"+Programska_aktivnost!G105+Sheet1!G105+'Захтев за додатна сред.'!G105+Projekat!G105+Sheet2!G105","v":0},{"$f":"+Programska_aktivnost!H105+Sheet1!H105+'Захтев за додатна сред.'!H105+Projekat!H105+Sheet2!H105","v":0},{"$f":"+Programska_aktivnost!I105+Sheet1!I105+'Захтев за додатна сред.'!I105+Projekat!I105+Sheet2!I105","v":0},{"$f":"+Programska_aktivnost!J105+Sheet1!J105+'Захтев за додатна сред.'!J105+Projekat!J105+Sheet2!J105","v":0},{"$f":"+Programska_aktivnost!K105+Sheet1!K105+'Захтев за додатна сред.'!K105+Projekat!K105+Sheet2!K105","v":0},{"$f":"+Programska_aktivnost!L105+Sheet1!L105+'Захтев за додатна сред.'!L105+Projekat!L105+Sheet2!L105","v":0},{"$f":"+Programska_aktivnost!M105+Sheet1!M105+'Захтев за додатна сред.'!M105+Projekat!M105+Sheet2!M105","v":0},0,0,null,null,null,null,null,null,null,null,null,0]
[59,743200,"Приходи од новчаних казни за привредне преступе",{"$f":"+Programska_aktivnost!D106+Sheet1!D106+'Захтев за додатна сред.'!D106+Projekat!D106+Sheet2!D106","v":0},{"$f":"+Programska_aktivnost!E106+Sheet1!E106+'Захтев за додатна сред.'!E106+Projekat!E106+Sheet2!E106","v":0},{"$f":"+Programska_aktivnost!F106+Sheet1!F106+'Захтев за додатна сред.'!F106+Projekat!F106+Sheet2!F106","v":0},{"$f":"+Programska_aktivnost!G106+Sheet1!G106+'Захтев за додатна сред.'!G106+Projekat!G106+Sheet2!G106","v":0},{"$f":"+Programska_aktivnost!H106+Sheet1!H106+'Захтев за додатна сред.'!H106+Projekat!H106+Sheet2!H106","v":0},{"$f":"+Programska_aktivnost!I106+Sheet1!I106+'Захтев за додатна сред.'!I106+Projekat!I106+Sheet2!I106","v":0},{"$f":"+Programska_aktivnost!J106+Sheet1!J106+'Захтев за додатна сред.'!J106+Projekat!J106+Sheet2!J106","v":0},{"$f":"+Programska_aktivnost!K106+Sheet1!K106+'Захтев за додатна сред.'!K106+Projekat!K106+Sheet2!K106","v":0},{"$f":"+Programska_aktivnost!L106+Sheet1!L106+'Захтев за додатна сред.'!L106+Projekat!L106+Sheet2!L106","v":0},{"$f":"+Programska_aktivnost!M106+Sheet1!M106+'Захтев за додатна сред.'!M106+Projekat!M106+Sheet2!M106","v":0},0,0,null,null,null,null,null,null,null,null,null,0]
[60,743300,"Приходи од новчаних казни за прекршаје",{"$f":"+Programska_aktivnost!D107+Sheet1!D107+'Захтев за додатна сред.'!D107+Projekat!D107+Sheet2!D107","v":0},{"$f":"+Programska_aktivnost!E107+Sheet1!E107+'Захтев за додатна сред.'!E107+Projekat!E107+Sheet2!E107","v":0},{"$f":"+Programska_aktivnost!F107+Sheet1!F107+'Захтев за додатна сред.'!F107+Projekat!F107+Sheet2!F107","v":0},{"$f":"+Programska_aktivnost!G107+Sheet1!G107+'Захтев за додатна сред.'!G107+Projekat!G107+Sheet2!G107","v":0},{"$f":"+Programska_aktivnost!H107+Sheet1!H107+'Захтев за додатна сред.'!H107+Projekat!H107+Sheet2!H107","v":0},{"$f":"+Programska_aktivnost!I107+Sheet1!I107+'Захтев за додатна сред.'!I107+Projekat!I107+Sheet2!I107","v":0},{"$f":"+Programska_aktivnost!J107+Sheet1!J107+'Захтев за додатна сред.'!J107+Projekat!J107+Sheet2!J107","v":0},{"$f":"+Programska_aktivnost!K107+Sheet1!K107+'Захтев за додатна сред.'!K107+Projekat!K107+Sheet2!K107","v":0},{"$f":"+Programska_aktivnost!L107+Sheet1!L107+'Захтев за додатна сред.'!L107+Projekat!L107+Sheet2!L107","v":0},{"$f":"+Programska_aktivnost!M107+Sheet1!M107+'Захтев за додатна сред.'!M107+Projekat!M107+Sheet2!M107","v":0},0,0,null,null,null,null,null,null,null,null,null,0]
[61,743400,"Приходи од пенала",{"$f":"+Programska_aktivnost!D108+Sheet1!D108+'Захтев за додатна сред.'!D108+Projekat!D108+Sheet2!D108","v":0},{"$f":"+Programska_aktivnost!E108+Sheet1!E108+'Захтев за додатна сред.'!E108+Projekat!E108+Sheet2!E108","v":0},{"$f":"+Programska_aktivnost!F108+Sheet1!F108+'Захтев за додатна сред.'!F108+Projekat!F108+Sheet2!F108","v":0},{"$f":"+Programska_aktivnost!G108+Sheet1!G108+'Захтев за додатна сред.'!G108+Projekat!G108+Sheet2!G108","v":0},{"$f":"+Programska_aktivnost!H108+Sheet1!H108+'Захтев за додатна сред.'!H108+Projekat!H108+Sheet2!H108","v":0},{"$f":"+Programska_aktivnost!I108+Sheet1!I108+'Захтев за додатна сред.'!I108+Projekat!I108+Sheet2!I108","v":0},{"$f":"+Programska_aktivnost!J108+Sheet1!J108+'Захтев за додатна сред.'!J108+Projekat!J108+Sheet2!J108","v":0},{"$f":"+Programska_aktivnost!K108+Sheet1!K108+'Захтев за додатна сред.'!K108+Projekat!K108+Sheet2!K108","v":0},{"$f":"+Programska_aktivnost!L108+Sheet1!L108+'Захтев за додатна сред.'!L108+Projekat!L108+Sheet2!L108","v":0},{"$f":"+Programska_aktivnost!M108+Sheet1!M108+'Захтев за додатна сред.'!M108+Projekat!M108+Sheet2!M108","v":0},0,0,null,null,null,null,null,null,null,null,null,0]
[62,743500,"Приходи од одузете имовинске користи",{"$f":"+Programska_aktivnost!D109+Sheet1!D109+'Захтев за додатна сред.'!D109+Projekat!D109+Sheet2!D109","v":0},{"$f":"+Programska_aktivnost!E109+Sheet1!E109+'Захтев за додатна сред.'!E109+Projekat!E109+Sheet2!E109","v":0},{"$f":"+Programska_aktivnost!F109+Sheet1!F109+'Захтев за додатна сред.'!F109+Projekat!F109+Sheet2!F109","v":0},{"$f":"+Programska_aktivnost!G109+Sheet1!G109+'Захтев за додатна сред.'!G109+Projekat!G109+Sheet2!G109","v":0},{"$f":"+Programska_aktivnost!H109+Sheet1!H109+'Захтев за додатна сред.'!H109+Projekat!H109+Sheet2!H109","v":0},{"$f":"+Programska_aktivnost!I109+Sheet1!I109+'Захтев за додатна сред.'!I109+Projekat!I109+Sheet2!I109","v":0},{"$f":"+Programska_aktivnost!J109+Sheet1!J109+'Захтев за додатна сред.'!J109+Projekat!J109+Sheet2!J109","v":0},{"$f":"+Programska_aktivnost!K109+Sheet1!K109+'Захтев за додатна сред.'!K109+Projekat!K109+Sheet2!K109","v":0},{"$f":"+Programska_aktivnost!L109+Sheet1!L109+'Захтев за додатна сред.'!L109+Projekat!L109+Sheet2!L109","v":0},{"$f":"+Programska_aktivnost!M109+Sheet1!M109+'Захтев за додатна сред.'!M109+Projekat!M109+Sheet2!M109","v":0},0,0,null,null,null,null,null,null,null,null,null,0]
[63,743900,"Остале новчане казне, пенали и приходи од одузете имовинске користи",{"$f":"+Programska_aktivnost!D110+Sheet1!D110+'Захтев за додатна сред.'!D110+Projekat!D110+Sheet2!D110","v":0},{"$f":"+Programska_aktivnost!E110+Sheet1!E110+'Захтев за додатна сред.'!E110+Projekat!E110+Sheet2!E110","v":0},{"$f":"+Programska_aktivnost!F110+Sheet1!F110+'Захтев за додатна сред.'!F110+Projekat!F110+Sheet2!F110","v":0},{"$f":"+Programska_aktivnost!G110+Sheet1!G110+'Захтев за додатна сред.'!G110+Projekat!G110+Sheet2!G110","v":0},{"$f":"+Programska_aktivnost!H110+Sheet1!H110+'Захтев за додатна сред.'!H110+Projekat!H110+Sheet2!H110","v":0},{"$f":"+Programska_aktivnost!I110+Sheet1!I110+'Захтев за додатна сред.'!I110+Projekat!I110+Sheet2!I110","v":0},{"$f":"+Programska_aktivnost!J110+Sheet1!J110+'Захтев за додатна сред.'!J110+Projekat!J110+Sheet2!J110","v":0},{"$f":"+Programska_aktivnost!K110+Sheet1!K110+'Захтев за додатна сред.'!K110+Projekat!K110+Sheet2!K110","v":0},{"$f":"+Programska_aktivnost!L110+Sheet1!L110+'Захтев за додатна сред.'!L110+Projekat!L110+Sheet2!L110","v":0},{"$f":"+Programska_aktivnost!M110+Sheet1!M110+'Захтев за додатна сред.'!M110+Projekat!M110+Sheet2!M110","v":0},0,0,null,null,null,null,null,null,null,null,null,0]
[64,744000,"ДОБРОВОЉНИ ТРАНСФЕРИ ОД ФИЗИЧКИХ И ПРАВНИХ ЛИЦА (65 + 66)",{"$f":"+Programska_aktivnost!D111+Sheet1!D111+'Захтев за додатна сред.'!D111+Projekat!D111+Sheet2!D111","v":0},{"$f":"+Programska_aktivnost!E111+Sheet1!E111+'Захтев за додатна сред.'!E111+Projekat!E111+Sheet2!E111","v":0},{"$f":"+Programska_aktivnost!F111+Sheet1!F111+'Захтев за додатна сред.'!F111+Projekat!F111+Sheet2!F111","v":0},{"$f":"+Programska_aktivnost!G111+Sheet1!G111+'Захтев за додатна сред.'!G111+Projekat!G111+Sheet2!G111","v":0},{"$f":"+Programska_aktivnost!H111+Sheet1!H111+'Захтев за додатна сред.'!H111+Projekat!H111+Sheet2!H111","v":0},{"$f":"+Programska_aktivnost!I111+Sheet1!I111+'Захтев за додатна сред.'!I111+Projekat!I111+Sheet2!I111","v":0},{"$f":"+Programska_aktivnost!J111+Sheet1!J111+'Захтев за додатна сред.'!J111+Projekat!J111+Sheet2!J111","v":0},{"$f":"+Programska_aktivnost!K111+Sheet1!K111+'Захтев за додатна сред.'!K111+Projekat!K111+Sheet2!K111","v":0},{"$f":"+Programska_aktivnost!L111+Sheet1!L111+'Захтев за додатна сред.'!L111+Projekat!L111+Sheet2!L111","v":0},{"$f":"+Programska_aktivnost!M111+Sheet1!M111+'Захтев за додатна сред.'!M111+Projekat!M111+Sheet2!M111","v":0},0,0,null,null,null,null,null,null,null,null,null,0]
[65,744100,"Текући добровољни трансфери од физичких и правних лица",{"$f":"+Programska_aktivnost!D112+Sheet1!D112+'Захтев за додатна сред.'!D112+Projekat!D112+Sheet2!D112","v":0},{"$f":"+Programska_aktivnost!E112+Sheet1!E112+'Захтев за додатна сред.'!E112+Projekat!E112+Sheet2!E112","v":0},{"$f":"+Programska_aktivnost!F112+Sheet1!F112+'Захтев за додатна сред.'!F112+Projekat!F112+Sheet2!F112","v":0},{"$f":"+Programska_aktivnost!G112+Sheet1!G112+'Захтев за додатна сред.'!G112+Projekat!G112+Sheet2!G112","v":0},{"$f":"+Programska_aktivnost!H112+Sheet1!H112+'Захтев за додатна сред.'!H112+Projekat!H112+Sheet2!H112","v":0},{"$f":"+Programska_aktivnost!I112+Sheet1!I112+'Захтев за додатна сред.'!I112+Projekat!I112+Sheet2!I112","v":0},{"$f":"+Programska_aktivnost!J112+Sheet1!J112+'Захтев за додатна сред.'!J112+Projekat!J112+Sheet2!J112","v":0},{"$f":"+Programska_aktivnost!K112+Sheet1!K112+'Захтев за додатна сред.'!K112+Projekat!K112+Sheet2!K112","v":0},{"$f":"+Programska_aktivnost!L112+Sheet1!L112+'Захтев за додатна сред.'!L112+Projekat!L112+Sheet2!L112","v":0},{"$f":"+Programska_aktivnost!M112+Sheet1!M112+'Захтев за додатна сред.'!M112+Projekat!M112+Sheet2!M112","v":0},0,0,null,null,null,null,null,null,null,null,null,0]
[66,744200,"Капитални добровољни трансфери од физичких и правних лица",{"$f":"+Programska_aktivnost!D113+Sheet1!D113+'Захтев за додатна сред.'!D113+Projekat!D113+Sheet2!D113","v":0},{"$f":"+Programska_aktivnost!E113+Sheet1!E113+'Захтев за додатна сред.'!E113+Projekat!E113+Sheet2!E113","v":0},{"$f":"+Programska_aktivnost!F113+Sheet1!F113+'Захтев за додатна сред.'!F113+Projekat!F113+Sheet2!F113","v":0},{"$f":"+Programska_aktivnost!G113+Sheet1!G113+'Захтев за додатна сред.'!G113+Projekat!G113+Sheet2!G113","v":0},{"$f":"+Programska_aktivnost!H113+Sheet1!H113+'Захтев за додатна сред.'!H113+Projekat!H113+Sheet2!H113","v":0},{"$f":"+Programska_aktivnost!I113+Sheet1!I113+'Захтев за додатна сред.'!I113+Projekat!I113+Sheet2!I113","v":0},{"$f":"+Programska_aktivnost!J113+Sheet1!J113+'Захтев за додатна сред.'!J113+Projekat!J113+Sheet2!J113","v":0},{"$f":"+Programska_aktivnost!K113+Sheet1!K113+'Захтев за додатна сред.'!K113+Projekat!K113+Sheet2!K113","v":0},{"$f":"+Programska_aktivnost!L113+Sheet1!L113+'Захтев за додатна сред.'!L113+Projekat!L113+Sheet2!L113","v":0},{"$f":"+Programska_aktivnost!M113+Sheet1!M113+'Захтев за додатна сред.'!M113+Projekat!M113+Sheet2!M113","v":0},0,0,null,null,null,null,null,null,null,null,null,0]
[67,745000,"МЕШОВИТИ И НЕОДРЕЂЕНИ ПРИХОДИ (68)",{"$f":"+Programska_aktivnost!D114+Sheet1!D114+'Захтев за додатна сред.'!D114+Projekat!D114+Sheet2!D114","v":0},{"$f":"+Programska_aktivnost!E114+Sheet1!E114+'Захтев за додатна сред.'!E114+Projekat!E114+Sheet2!E114","v":0},{"$f":"+Programska_aktivnost!F114+Sheet1!F114+'Захтев за додатна сред.'!F114+Projekat!F114+Sheet2!F114","v":0},{"$f":"+Programska_aktivnost!G114+Sheet1!G114+'Захтев за додатна сред.'!G114+Projekat!G114+Sheet2!G114","v":0},{"$f":"+Programska_aktivnost!H114+Sheet1!H114+'Захтев за додатна сред.'!H114+Projekat!H114+Sheet2!H114","v":0},{"$f":"+Programska_aktivnost!I114+Sheet1!I114+'Захтев за додатна сред.'!I114+Projekat!I114+Sheet2!I114","v":0},{"$f":"+Programska_aktivnost!J114+Sheet1!J114+'Захтев за додатна сред.'!J114+Projekat!J114+Sheet2!J114","v":0},{"$f":"+Programska_aktivnost!K114+Sheet1!K114+'Захтев за додатна сред.'!K114+Projekat!K114+Sheet2!K114","v":0},{"$f":"+Programska_aktivnost!L114+Sheet1!L114+'Захтев за додатна сред.'!L114+Projekat!L114+Sheet2!L114","v":0},{"$f":"+Programska_aktivnost!M114+Sheet1!M114+'Захтев за додатна сред.'!M114+Projekat!M114+Sheet2!M114","v":0},0,0,null,null,null,null,null,null,null,null,null,0]
[68,745100,"Мешовити и неодређени приходи",{"$f":"+Programska_aktivnost!D115+Sheet1!D115+'Захтев за додатна сред.'!D115+Projekat!D115+Sheet2!D115","v":0},{"$f":"+Programska_aktivnost!E115+Sheet1!E115+'Захтев за додатна сред.'!E115+Projekat!E115+Sheet2!E115","v":0},{"$f":"+Programska_aktivnost!F115+Sheet1!F115+'Захтев за додатна сред.'!F115+Projekat!F115+Sheet2!F115","v":0},{"$f":"+Programska_aktivnost!G115+Sheet1!G115+'Захтев за додатна сред.'!G115+Projekat!G115+Sheet2!G115","v":0},{"$f":"+Programska_aktivnost!H115+Sheet1!H115+'Захтев за додатна сред.'!H115+Projekat!H115+Sheet2!H115","v":0},{"$f":"+Programska_aktivnost!I115+Sheet1!I115+'Захтев за додатна сред.'!I115+Projekat!I115+Sheet2!I115","v":0},{"$f":"+Programska_aktivnost!J115+Sheet1!J115+'Захтев за додатна сред.'!J115+Projekat!J115+Sheet2!J115","v":0},{"$f":"+Programska_aktivnost!K115+Sheet1!K115+'Захтев за додатна сред.'!K115+Projekat!K115+Sheet2!K115","v":0},{"$f":"+Programska_aktivnost!L115+Sheet1!L115+'Захтев за додатна сред.'!L115+Projekat!L115+Sheet2!L115","v":0},{"$f":"+Programska_aktivnost!M115+Sheet1!M115+'Захтев за додатна сред.'!M115+Projekat!M115+Sheet2!M115","v":0},0,0,null,null,null,null,null,null,null,null,null,0]
[69,770000,"МЕМОРАНДУМСКЕ СТАВКЕ ЗА РЕФУНДАЦИЈУ РАСХОДА (70 + 72)",{"$f":"+Programska_aktivnost!D116+Sheet1!D116+'Захтев за додатна сред.'!D116+Projekat!D116+Sheet2!D116","v":0},{"$f":"+Programska_aktivnost!E116+Sheet1!E116+'Захтев за додатна сред.'!E116+Projekat!E116+Sheet2!E116","v":763000},{"$f":"+Programska_aktivnost!F116+Sheet1!F116+'Захтев за додатна сред.'!F116+Projekat!F116+Sheet2!F116","v":0},{"$f":"+Programska_aktivnost!G116+Sheet1!G116+'Захтев за додатна сред.'!G116+Projekat!G116+Sheet2!G116","v":668000},{"$f":"+Programska_aktivnost!H116+Sheet1!H116+'Захтев за додатна сред.'!H116+Projekat!H116+Sheet2!H116","v":0},{"$f":"+Programska_aktivnost!I116+Sheet1!I116+'Захтев за додатна сред.'!I116+Projekat!I116+Sheet2!I116","v":0},{"$f":"+Programska_aktivnost!J116+Sheet1!J116+'Захтев за додатна сред.'!J116+Projekat!J116+Sheet2!J116","v":0},{"$f":"+Programska_aktivnost!K116+Sheet1!K116+'Захтев за додатна сред.'!K116+Projekat!K116+Sheet2!K116","v":0},{"$f":"+Programska_aktivnost!L116+Sheet1!L116+'Захтев за додатна сред.'!L116+Projekat!L116+Sheet2!L116","v":0},{"$f":"+Programska_aktivnost!M116+Sheet1!M116+'Захтев за додатна сред.'!M116+Projekat!M116+Sheet2!M116","v":0},0,0,null,null,null,null,null,null,null,null,null,1431000]
[70,771000,"МЕМОРАНДУМСКЕ СТАВКЕ ЗА РЕФУНДАЦИЈУ РАСХОДА (71)",{"$f":"+Programska_aktivnost!D117+Sheet1!D117+'Захтев за додатна сред.'!D117+Projekat!D117+Sheet2!D117","v":0},{"$f":"+Programska_aktivnost!E117+Sheet1!E117+'Захтев за додатна сред.'!E117+Projekat!E117+Sheet2!E117","v":0},{"$f":"+Programska_aktivnost!F117+Sheet1!F117+'Захтев за додатна сред.'!F117+Projekat!F117+Sheet2!F117","v":0},{"$f":"+Programska_aktivnost!G117+Sheet1!G117+'Захтев за додатна сред.'!G117+Projekat!G117+Sheet2!G117","v":0},{"$f":"+Programska_aktivnost!H117+Sheet1!H117+'Захтев за додатна сред.'!H117+Projekat!H117+Sheet2!H117","v":0},{"$f":"+Programska_aktivnost!I117+Sheet1!I117+'Захтев за додатна сред.'!I117+Projekat!I117+Sheet2!I117","v":0},{"$f":"+Programska_aktivnost!J117+Sheet1!J117+'Захтев за додатна сред.'!J117+Projekat!J117+Sheet2!J117","v":0},{"$f":"+Programska_aktivnost!K117+Sheet1!K117+'Захтев за додатна сред.'!K117+Projekat!K117+Sheet2!K117","v":0},{"$f":"+Programska_aktivnost!L117+Sheet1!L117+'Захтев за додатна сред.'!L117+Projekat!L117+Sheet2!L117","v":0},{"$f":"+Programska_aktivnost!M117+Sheet1!M117+'Захтев за додатна сред.'!M117+Projekat!M117+Sheet2!M117","v":0},0,0,null,null,null,null,null,null,null,null,null,0]
[71,771100,"Меморандумске ставке за рефундацију расхода",{"$f":"+Programska_aktivnost!D118+Sheet1!D118+'Захтев за додатна сред.'!D118+Projekat!D118+Sheet2!D118","v":0},{"$f":"+Programska_aktivnost!E118+Sheet1!E118+'Захтев за додатна сред.'!E118+Projekat!E118+Sheet2!E118","v":0},{"$f":"+Programska_aktivnost!F118+Sheet1!F118+'Захтев за додатна сред.'!F118+Projekat!F118+Sheet2!F118","v":0},{"$f":"+Programska_aktivnost!G118+Sheet1!G118+'Захтев за додатна сред.'!G118+Projekat!G118+Sheet2!G118","v":0},{"$f":"+Programska_aktivnost!H118+Sheet1!H118+'Захтев за додатна сред.'!H118+Projekat!H118+Sheet2!H118","v":0},{"$f":"+Programska_aktivnost!I118+Sheet1!I118+'Захтев за додатна сред.'!I118+Projekat!I118+Sheet2!I118","v":0},{"$f":"+Programska_aktivnost!J118+Sheet1!J118+'Захтев за додатна сред.'!J118+Projekat!J118+Sheet2!J118","v":0},{"$f":"+Programska_aktivnost!K118+Sheet1!K118+'Захтев за додатна сред.'!K118+Projekat!K118+Sheet2!K118","v":0},{"$f":"+Programska_aktivnost!L118+Sheet1!L118+'Захтев за додатна сред.'!L118+Projekat!L118+Sheet2!L118","v":0},{"$f":"+Programska_aktivnost!M118+Sheet1!M118+'Захтев за додатна сред.'!M118+Projekat!M118+Sheet2!M118","v":0},0,0,null,null,null,null,null,null,null,null,null,0]
[72,772000,"МЕМОРАНДУМСКЕ СТАВКЕ ЗА РЕФУНДАЦИЈУ РАСХОДА ИЗ ПРЕТХОДНЕ ГОДИНЕ (73)",{"$f":"+Programska_aktivnost!D119+Sheet1!D119+'Захтев за додатна сред.'!D119+Projekat!D119+Sheet2!D119","v":0},{"$f":"+Programska_aktivnost!E119+Sheet1!E119+'Захтев за додатна сред.'!E119+Projekat!E119+Sheet2!E119","v":763000},{"$f":"+Programska_aktivnost!F119+Sheet1!F119+'Захтев за додатна сред.'!F119+Projekat!F119+Sheet2!F119","v":0},{"$f":"+Programska_aktivnost!G119+Sheet1!G119+'Захтев за додатна сред.'!G119+Projekat!G119+Sheet2!G119","v":668000},{"$f":"+Programska_aktivnost!H119+Sheet1!H119+'Захтев за додатна сред.'!H119+Projekat!H119+Sheet2!H119","v":0},{"$f":"+Programska_aktivnost!I119+Sheet1!I119+'Захтев за додатна сред.'!I119+Projekat!I119+Sheet2!I119","v":0},{"$f":"+Programska_aktivnost!J119+Sheet1!J119+'Захтев за додатна сред.'!J119+Projekat!J119+Sheet2!J119","v":0},{"$f":"+Programska_aktivnost!K119+Sheet1!K119+'Захтев за додатна сред.'!K119+Projekat!K119+Sheet2!K119","v":0},{"$f":"+Programska_aktivnost!L119+Sheet1!L119+'Захтев за додатна сред.'!L119+Projekat!L119+Sheet2!L119","v":0},{"$f":"+Programska_aktivnost!M119+Sheet1!M119+'Захтев за додатна сред.'!M119+Projekat!M119+Sheet2!M119","v":0},0,0,null,null,null,null,null,null,null,null,null,1431000]
[{"$f":"A119+1","v":73},772100,"Меморандумске ставке за рефундацију расхода из претходне године",{"$f":"+Programska_aktivnost!D120+Sheet1!D120+'Захтев за додатна сред.'!D120+Projekat!D120+Sheet2!D120","v":0},{"$f":"+Programska_aktivnost!E120+Sheet1!E120+'Захтев за додатна сред.'!E120+Projekat!E120+Sheet2!E120","v":763000},{"$f":"+Programska_aktivnost!F120+Sheet1!F120+'Захтев за додатна сред.'!F120+Projekat!F120+Sheet2!F120","v":0},{"$f":"+Programska_aktivnost!G120+Sheet1!G120+'Захтев за додатна сред.'!G120+Projekat!G120+Sheet2!G120","v":668000},{"$f":"+Programska_aktivnost!H120+Sheet1!H120+'Захтев за додатна сред.'!H120+Projekat!H120+Sheet2!H120","v":0},{"$f":"+Programska_aktivnost!I120+Sheet1!I120+'Захтев за додатна сред.'!I120+Projekat!I120+Sheet2!I120","v":0},{"$f":"+Programska_aktivnost!J120+Sheet1!J120+'Захтев за додатна сред.'!J120+Projekat!J120+Sheet2!J120","v":0},{"$f":"+Programska_aktivnost!K120+Sheet1!K120+'Захтев за додатна сред.'!K120+Projekat!K120+Sheet2!K120","v":0},{"$f":"+Programska_aktivnost!L120+Sheet1!L120+'Захтев за додатна сред.'!L120+Projekat!L120+Sheet2!L120","v":0},{"$f":"+Programska_aktivnost!M120+Sheet1!M120+'Захтев за додатна сред.'!M120+Projekat!M120+Sheet2!M120","v":0},0,0,null,null,null,null,null,null,null,null,null,{"$f":"SUM(D120:O120)","v":1431000}]
[74,780000,"ТРАНСФЕРИ ИЗМЕЂУ БУЏЕТСКИХ КОРИСНИКА НА ИСТОМ НИВОУ (75)",{"$f":"+Programska_aktivnost!D121+Sheet1!D121+'Захтев за додатна сред.'!D121+Projekat!D121+Sheet2!D121","v":0},{"$f":"+Programska_aktivnost!E121+Sheet1!E121+'Захтев за додатна сред.'!E121+Projekat!E121+Sheet2!E121","v":0},{"$f":"+Programska_aktivnost!F121+Sheet1!F121+'Захтев за додатна сред.'!F121+Projekat!F121+Sheet2!F121","v":0},{"$f":"+Programska_aktivnost!G121+Sheet1!G121+'Захтев за додатна сред.'!G121+Projekat!G121+Sheet2!G121","v":0},{"$f":"+Programska_aktivnost!H121+Sheet1!H121+'Захтев за додатна сред.'!H121+Projekat!H121+Sheet2!H121","v":0},{"$f":"+Programska_aktivnost!I121+Sheet1!I121+'Захтев за додатна сред.'!I121+Projekat!I121+Sheet2!I121","v":0},{"$f":"+Programska_aktivnost!J121+Sheet1!J121+'Захтев за додатна сред.'!J121+Projekat!J121+Sheet2!J121","v":0},{"$f":"+Programska_aktivnost!K121+Sheet1!K121+'Захтев за додатна сред.'!K121+Projekat!K121+Sheet2!K121","v":0},{"$f":"+Programska_aktivnost!L121+Sheet1!L121+'Захтев за додатна сред.'!L121+Projekat!L121+Sheet2!L121","v":0},{"$f":"+Programska_aktivnost!M121+Sheet1!M121+'Захтев за додатна сред.'!M121+Projekat!M121+Sheet2!M121","v":0},0,0,null,null,null,null,null,null,null,null,null,0]
[75,781000,"ТРАНСФЕРИ ИЗМЕЂУ БУЏЕТСКИХ КОРИСНИКА НА ИСТОМ НИВОУ (76 + 77)",{"$f":"+Programska_aktivnost!D122+Sheet1!D122+'Захтев за додатна сред.'!D122+Projekat!D122+Sheet2!D122","v":0},{"$f":"+Programska_aktivnost!E122+Sheet1!E122+'Захтев за додатна сред.'!E122+Projekat!E122+Sheet2!E122","v":0},{"$f":"+Programska_aktivnost!F122+Sheet1!F122+'Захтев за додатна сред.'!F122+Projekat!F122+Sheet2!F122","v":0},{"$f":"+Programska_aktivnost!G122+Sheet1!G122+'Захтев за додатна сред.'!G122+Projekat!G122+Sheet2!G122","v":0},{"$f":"+Programska_aktivnost!H122+Sheet1!H122+'Захтев за додатна сред.'!H122+Projekat!H122+Sheet2!H122","v":0},{"$f":"+Programska_aktivnost!I122+Sheet1!I122+'Захтев за додатна сред.'!I122+Projekat!I122+Sheet2!I122","v":0},{"$f":"+Programska_aktivnost!J122+Sheet1!J122+'Захтев за додатна сред.'!J122+Projekat!J122+Sheet2!J122","v":0},{"$f":"+Programska_aktivnost!K122+Sheet1!K122+'Захтев за додатна сред.'!K122+Projekat!K122+Sheet2!K122","v":0},{"$f":"+Programska_aktivnost!L122+Sheet1!L122+'Захтев за додатна сред.'!L122+Projekat!L122+Sheet2!L122","v":0},{"$f":"+Programska_aktivnost!M122+Sheet1!M122+'Захтев за додатна сред.'!M122+Projekat!M122+Sheet2!M122","v":0},0,0,null,null,null,null,null,null,null,null,null,0]
[76,781100,"Трансфери између буџетских корисника на истом нивоу",{"$f":"+Programska_aktivnost!D123+Sheet1!D123+'Захтев за додатна сред.'!D123+Projekat!D123+Sheet2!D123","v":0},{"$f":"+Programska_aktivnost!E123+Sheet1!E123+'Захтев за додатна сред.'!E123+Projekat!E123+Sheet2!E123","v":0},{"$f":"+Programska_aktivnost!F123+Sheet1!F123+'Захтев за додатна сред.'!F123+Projekat!F123+Sheet2!F123","v":0},{"$f":"+Programska_aktivnost!G123+Sheet1!G123+'Захтев за додатна сред.'!G123+Projekat!G123+Sheet2!G123","v":0},{"$f":"+Programska_aktivnost!H123+Sheet1!H123+'Захтев за додатна сред.'!H123+Projekat!H123+Sheet2!H123","v":0},{"$f":"+Programska_aktivnost!I123+Sheet1!I123+'Захтев за додатна сред.'!I123+Projekat!I123+Sheet2!I123","v":0},{"$f":"+Programska_aktivnost!J123+Sheet1!J123+'Захтев за додатна сред.'!J123+Projekat!J123+Sheet2!J123","v":0},{"$f":"+Programska_aktivnost!K123+Sheet1!K123+'Захтев за додатна сред.'!K123+Projekat!K123+Sheet2!K123","v":0},{"$f":"+Programska_aktivnost!L123+Sheet1!L123+'Захтев за додатна сред.'!L123+Projekat!L123+Sheet2!L123","v":0},{"$f":"+Programska_aktivnost!M123+Sheet1!M123+'Захтев за додатна сред.'!M123+Projekat!M123+Sheet2!M123","v":0},0,0,null,null,null,null,null,null,null,null,null,0]
[77,781300,"Трансфери између организација обавезног социјалног осигурања",{"$f":"+Programska_aktivnost!D124+Sheet1!D124+'Захтев за додатна сред.'!D124+Projekat!D124+Sheet2!D124","v":0},{"$f":"+Programska_aktivnost!E124+Sheet1!E124+'Захтев за додатна сред.'!E124+Projekat!E124+Sheet2!E124","v":0},{"$f":"+Programska_aktivnost!F124+Sheet1!F124+'Захтев за додатна сред.'!F124+Projekat!F124+Sheet2!F124","v":0},{"$f":"+Programska_aktivnost!G124+Sheet1!G124+'Захтев за додатна сред.'!G124+Projekat!G124+Sheet2!G124","v":0},{"$f":"+Programska_aktivnost!H124+Sheet1!H124+'Захтев за додатна сред.'!H124+Projekat!H124+Sheet2!H124","v":0},{"$f":"+Programska_aktivnost!I124+Sheet1!I124+'Захтев за додатна сред.'!I124+Projekat!I124+Sheet2!I124","v":0},{"$f":"+Programska_aktivnost!J124+Sheet1!J124+'Захтев за додатна сред.'!J124+Projekat!J124+Sheet2!J124","v":0},{"$f":"+Programska_aktivnost!K124+Sheet1!K124+'Захтев за додатна сред.'!K124+Projekat!K124+Sheet2!K124","v":0},{"$f":"+Programska_aktivnost!L124+Sheet1!L124+'Захтев за додатна сред.'!L124+Projekat!L124+Sheet2!L124","v":0},{"$f":"+Programska_aktivnost!M124+Sheet1!M124+'Захтев за додатна сред.'!M124+Projekat!M124+Sheet2!M124","v":0},0,0,null,null,null,null,null,null,null,null,null,0]
[78,790000,"ПРИХОДИ ИЗ БУЏЕТА (79)",{"$f":"+Programska_aktivnost!D125+Sheet1!D125+'Захтев за додатна сред.'!D125+Projekat!D125+Sheet2!D125","v":151754000},{"$f":"+Programska_aktivnost!E125+Sheet1!E125+'Захтев за додатна сред.'!E125+Projekat!E125+Sheet2!E125","v":0},{"$f":"+Programska_aktivnost!F125+Sheet1!F125+'Захтев за додатна сред.'!F125+Projekat!F125+Sheet2!F125","v":170977000},{"$f":"+Programska_aktivnost!G125+Sheet1!G125+'Захтев за додатна сред.'!G125+Projekat!G125+Sheet2!G125","v":0},{"$f":"+Programska_aktivnost!H125+Sheet1!H125+'Захтев за додатна сред.'!H125+Projekat!H125+Sheet2!H125","v":202171000},{"$f":"+Programska_aktivnost!I125+Sheet1!I125+'Захтев за додатна сред.'!I125+Projekat!I125+Sheet2!I125","v":0},{"$f":"+Programska_aktivnost!J125+Sheet1!J125+'Захтев за додатна сред.'!J125+Projekat!J125+Sheet2!J125","v":180321000},{"$f":"+Programska_aktivnost!K125+Sheet1!K125+'Захтев за додатна сред.'!K125+Projekat!K125+Sheet2!K125","v":0},{"$f":"+Programska_aktivnost!L125+Sheet1!L125+'Захтев за додатна сред.'!L125+Projekat!L125+Sheet2!L125","v":186833000},{"$f":"+Programska_aktivnost!M125+Sheet1!M125+'Захтев за додатна сред.'!M125+Projekat!M125+Sheet2!M125","v":0},569325000,0,null,null,null,null,null,null,null,null,null,1461381000]
[79,791000,"ПРИХОДИ ИЗ БУЏЕТА (80)",{"$f":"+Programska_aktivnost!D126+Sheet1!D126+'Захтев за додатна сред.'!D126+Projekat!D126+Sheet2!D126","v":151754000},{"$f":"+Programska_aktivnost!E126+Sheet1!E126+'Захтев за додатна сред.'!E126+Projekat!E126+Sheet2!E126","v":0},{"$f":"+Programska_aktivnost!F126+Sheet1!F126+'Захтев за додатна сред.'!F126+Projekat!F126+Sheet2!F126","v":170977000},{"$f":"+Programska_aktivnost!G126+Sheet1!G126+'Захтев за додатна сред.'!G126+Projekat!G126+Sheet2!G126","v":0},{"$f":"+Programska_aktivnost!H126+Sheet1!H126+'Захтев за додатна сред.'!H126+Projekat!H126+Sheet2!H126","v":202171000},{"$f":"+Programska_aktivnost!I126+Sheet1!I126+'Захтев за додатна сред.'!I126+Projekat!I126+Sheet2!I126","v":0},{"$f":"+Programska_aktivnost!J126+Sheet1!J126+'Захтев за додатна сред.'!J126+Projekat!J126+Sheet2!J126","v":180321000},{"$f":"+Programska_aktivnost!K126+Sheet1!K126+'Захтев за додатна сред.'!K126+Projekat!K126+Sheet2!K126","v":0},{"$f":"+Programska_aktivnost!L126+Sheet1!L126+'Захтев за додатна сред.'!L126+Projekat!L126+Sheet2!L126","v":186833000},{"$f":"+Programska_aktivnost!M126+Sheet1!M126+'Захтев за додатна сред.'!M126+Projekat!M126+Sheet2!M126","v":0},569325000,0,null,null,null,null,null,null,null,null,null,1461381000]
[80,791100,"Приходи из буџета",{"$f":"+Programska_aktivnost!D127+Sheet1!D127+'Захтев за додатна сред.'!D127+Projekat!D127+Sheet2!D127","v":151754000},{"$f":"+Programska_aktivnost!E127+Sheet1!E127+'Захтев за додатна сред.'!E127+Projekat!E127+Sheet2!E127","v":0},{"$f":"+Programska_aktivnost!F127+Sheet1!F127+'Захтев за додатна сред.'!F127+Projekat!F127+Sheet2!F127","v":170977000},{"$f":"+Programska_aktivnost!G127+Sheet1!G127+'Захтев за додатна сред.'!G127+Projekat!G127+Sheet2!G127","v":0},{"$f":"+Programska_aktivnost!H127+Sheet1!H127+'Захтев за додатна сред.'!H127+Projekat!H127+Sheet2!H127","v":202171000},{"$f":"+Programska_aktivnost!I127+Sheet1!I127+'Захтев за додатна сред.'!I127+Projekat!I127+Sheet2!I127","v":0},{"$f":"+Programska_aktivnost!J127+Sheet1!J127+'Захтев за додатна сред.'!J127+Projekat!J127+Sheet2!J127","v":180321000},{"$f":"+Programska_aktivnost!K127+Sheet1!K127+'Захтев за додатна сред.'!K127+Projekat!K127+Sheet2!K127","v":0},{"$f":"+Programska_aktivnost!L127+Sheet1!L127+'Захтев за додатна сред.'!L127+Projekat!L127+Sheet2!L127","v":186833000},{"$f":"+Programska_aktivnost!M127+Sheet1!M127+'Захтев за додатна сред.'!M127+Projekat!M127+Sheet2!M127","v":0},{"$f":"SUM(H127,J127,L127)","v":569325000},0,null,null,null,null,null,null,null,null,null,1461381000]
[81,800000,"ПРИМАЊА ОД ПРОДАЈЕ НЕФИНАНСИЈСКЕ ИМОВИНЕ (82 + 89 + 96 + 99)",{"$f":"+Programska_aktivnost!D128+Sheet1!D128+'Захтев за додатна сред.'!D128+Projekat!D128+Sheet2!D128","v":0},{"$f":"+Programska_aktivnost!E128+Sheet1!E128+'Захтев за додатна сред.'!E128+Projekat!E128+Sheet2!E128","v":0},{"$f":"+Programska_aktivnost!F128+Sheet1!F128+'Захтев за додатна сред.'!F128+Projekat!F128+Sheet2!F128","v":0},{"$f":"+Programska_aktivnost!G128+Sheet1!G128+'Захтев за додатна сред.'!G128+Projekat!G128+Sheet2!G128","v":0},{"$f":"+Programska_aktivnost!H128+Sheet1!H128+'Захтев за додатна сред.'!H128+Projekat!H128+Sheet2!H128","v":0},{"$f":"+Programska_aktivnost!I128+Sheet1!I128+'Захтев за додатна сред.'!I128+Projekat!I128+Sheet2!I128","v":0},{"$f":"+Programska_aktivnost!J128+Sheet1!J128+'Захтев за додатна сред.'!J128+Projekat!J128+Sheet2!J128","v":0},{"$f":"+Programska_aktivnost!K128+Sheet1!K128+'Захтев за додатна сред.'!K128+Projekat!K128+Sheet2!K128","v":0},{"$f":"+Programska_aktivnost!L128+Sheet1!L128+'Захтев за додатна сред.'!L128+Projekat!L128+Sheet2!L128","v":0},{"$f":"+Programska_aktivnost!M128+Sheet1!M128+'Захтев за додатна сред.'!M128+Projekat!M128+Sheet2!M128","v":0},0,0,null,null,null,null,null,null,null,null,null,0]
[82,810000,"ПРИМАЊА ОД ПРОДАЈЕ ОСНОВНИХ СРЕДСТАВА (83 + 85 + 87)",{"$f":"+Programska_aktivnost!D129+Sheet1!D129+'Захтев за додатна сред.'!D129+Projekat!D129+Sheet2!D129","v":0},{"$f":"+Programska_aktivnost!E129+Sheet1!E129+'Захтев за додатна сред.'!E129+Projekat!E129+Sheet2!E129","v":0},{"$f":"+Programska_aktivnost!F129+Sheet1!F129+'Захтев за додатна сред.'!F129+Projekat!F129+Sheet2!F129","v":0},{"$f":"+Programska_aktivnost!G129+Sheet1!G129+'Захтев за додатна сред.'!G129+Projekat!G129+Sheet2!G129","v":0},{"$f":"+Programska_aktivnost!H129+Sheet1!H129+'Захтев за додатна сред.'!H129+Projekat!H129+Sheet2!H129","v":0},{"$f":"+Programska_aktivnost!I129+Sheet1!I129+'Захтев за додатна сред.'!I129+Projekat!I129+Sheet2!I129","v":0},{"$f":"+Programska_aktivnost!J129+Sheet1!J129+'Захтев за додатна сред.'!J129+Projekat!J129+Sheet2!J129","v":0},{"$f":"+Programska_aktivnost!K129+Sheet1!K129+'Захтев за додатна сред.'!K129+Projekat!K129+Sheet2!K129","v":0},{"$f":"+Programska_aktivnost!L129+Sheet1!L129+'Захтев за додатна сред.'!L129+Projekat!L129+Sheet2!L129","v":0},{"$f":"+Programska_aktivnost!M129+Sheet1!M129+'Захтев за додатна сред.'!M129+Projekat!M129+Sheet2!M129","v":0},0,0,null,null,null,null,null,null,null,null,null,0]
[83,811000,"ПРИМАЊА ОД ПРОДАЈЕ НЕПОКРЕТНОСТИ (84)",{"$f":"+Programska_aktivnost!D130+Sheet1!D130+'Захтев за додатна сред.'!D130+Projekat!D130+Sheet2!D130","v":0},{"$f":"+Programska_aktivnost!E130+Sheet1!E130+'Захтев за додатна сред.'!E130+Projekat!E130+Sheet2!E130","v":0},{"$f":"+Programska_aktivnost!F130+Sheet1!F130+'Захтев за додатна сред.'!F130+Projekat!F130+Sheet2!F130","v":0},{"$f":"+Programska_aktivnost!G130+Sheet1!G130+'Захтев за додатна сред.'!G130+Projekat!G130+Sheet2!G130","v":0},{"$f":"+Programska_aktivnost!H130+Sheet1!H130+'Захтев за додатна сред.'!H130+Projekat!H130+Sheet2!H130","v":0},{"$f":"+Programska_aktivnost!I130+Sheet1!I130+'Захтев за додатна сред.'!I130+Projekat!I130+Sheet2!I130","v":0},{"$f":"+Programska_aktivnost!J130+Sheet1!J130+'Захтев за додатна сред.'!J130+Projekat!J130+Sheet2!J130","v":0},{"$f":"+Programska_aktivnost!K130+Sheet1!K130+'Захтев за додатна сред.'!K130+Projekat!K130+Sheet2!K130","v":0},{"$f":"+Programska_aktivnost!L130+Sheet1!L130+'Захтев за додатна сред.'!L130+Projekat!L130+Sheet2!L130","v":0},{"$f":"+Programska_aktivnost!M130+Sheet1!M130+'Захтев за додатна сред.'!M130+Projekat!M130+Sheet2!M130","v":0},0,0,null,null,null,null,null,null,null,null,null,0]
[84,811100,"Примања од продаје непокретности",{"$f":"+Programska_aktivnost!D131+Sheet1!D131+'Захтев за додатна сред.'!D131+Projekat!D131+Sheet2!D131","v":0},{"$f":"+Programska_aktivnost!E131+Sheet1!E131+'Захтев за додатна сред.'!E131+Projekat!E131+Sheet2!E131","v":0},{"$f":"+Programska_aktivnost!F131+Sheet1!F131+'Захтев за додатна сред.'!F131+Projekat!F131+Sheet2!F131","v":0},{"$f":"+Programska_aktivnost!G131+Sheet1!G131+'Захтев за додатна сред.'!G131+Projekat!G131+Sheet2!G131","v":0},{"$f":"+Programska_aktivnost!H131+Sheet1!H131+'Захтев за додатна сред.'!H131+Projekat!H131+Sheet2!H131","v":0},{"$f":"+Programska_aktivnost!I131+Sheet1!I131+'Захтев за додатна сред.'!I131+Projekat!I131+Sheet2!I131","v":0},{"$f":"+Programska_aktivnost!J131+Sheet1!J131+'Захтев за додатна сред.'!J131+Projekat!J131+Sheet2!J131","v":0},{"$f":"+Programska_aktivnost!K131+Sheet1!K131+'Захтев за додатна сред.'!K131+Projekat!K131+Sheet2!K131","v":0},{"$f":"+Programska_aktivnost!L131+Sheet1!L131+'Захтев за додатна сред.'!L131+Projekat!L131+Sheet2!L131","v":0},{"$f":"+Programska_aktivnost!M131+Sheet1!M131+'Захтев за додатна сред.'!M131+Projekat!M131+Sheet2!M131","v":0},0,0,null,null,null,null,null,null,null,null,null,0]
[85,812000,"ПРИМАЊА ОД ПРОДАЈЕ ПОКРЕТНЕ ИМОВИНЕ (86)",{"$f":"+Programska_aktivnost!D132+Sheet1!D132+'Захтев за додатна сред.'!D132+Projekat!D132+Sheet2!D132","v":0},{"$f":"+Programska_aktivnost!E132+Sheet1!E132+'Захтев за додатна сред.'!E132+Projekat!E132+Sheet2!E132","v":0},{"$f":"+Programska_aktivnost!F132+Sheet1!F132+'Захтев за додатна сред.'!F132+Projekat!F132+Sheet2!F132","v":0},{"$f":"+Programska_aktivnost!G132+Sheet1!G132+'Захтев за додатна сред.'!G132+Projekat!G132+Sheet2!G132","v":0},{"$f":"+Programska_aktivnost!H132+Sheet1!H132+'Захтев за додатна сред.'!H132+Projekat!H132+Sheet2!H132","v":0},{"$f":"+Programska_aktivnost!I132+Sheet1!I132+'Захтев за додатна сред.'!I132+Projekat!I132+Sheet2!I132","v":0},{"$f":"+Programska_aktivnost!J132+Sheet1!J132+'Захтев за додатна сред.'!J132+Projekat!J132+Sheet2!J132","v":0},{"$f":"+Programska_aktivnost!K132+Sheet1!K132+'Захтев за додатна сред.'!K132+Projekat!K132+Sheet2!K132","v":0},{"$f":"+Programska_aktivnost!L132+Sheet1!L132+'Захтев за додатна сред.'!L132+Projekat!L132+Sheet2!L132","v":0},{"$f":"+Programska_aktivnost!M132+Sheet1!M132+'Захтев за додатна сред.'!M132+Projekat!M132+Sheet2!M132","v":0},0,0,null,null,null,null,null,null,null,null,null,0]
[86,812100,"Примања од продаје покретне имовине",{"$f":"+Programska_aktivnost!D133+Sheet1!D133+'Захтев за додатна сред.'!D133+Projekat!D133+Sheet2!D133","v":0},{"$f":"+Programska_aktivnost!E133+Sheet1!E133+'Захтев за додатна сред.'!E133+Projekat!E133+Sheet2!E133","v":0},{"$f":"+Programska_aktivnost!F133+Sheet1!F133+'Захтев за додатна сред.'!F133+Projekat!F133+Sheet2!F133","v":0},{"$f":"+Programska_aktivnost!G133+Sheet1!G133+'Захтев за додатна сред.'!G133+Projekat!G133+Sheet2!G133","v":0},{"$f":"+Programska_aktivnost!H133+Sheet1!H133+'Захтев за додатна сред.'!H133+Projekat!H133+Sheet2!H133","v":0},{"$f":"+Programska_aktivnost!I133+Sheet1!I133+'Захтев за додатна сред.'!I133+Projekat!I133+Sheet2!I133","v":0},{"$f":"+Programska_aktivnost!J133+Sheet1!J133+'Захтев за додатна сред.'!J133+Projekat!J133+Sheet2!J133","v":0},{"$f":"+Programska_aktivnost!K133+Sheet1!K133+'Захтев за додатна сред.'!K133+Projekat!K133+Sheet2!K133","v":0},{"$f":"+Programska_aktivnost!L133+Sheet1!L133+'Захтев за додатна сред.'!L133+Projekat!L133+Sheet2!L133","v":0},{"$f":"+Programska_aktivnost!M133+Sheet1!M133+'Захтев за додатна сред.'!M133+Projekat!M133+Sheet2!M133","v":0},0,0,null,null,null,null,null,null,null,null,null,0]
[87,813000,"ПРИМАЊА ОД ПРОДАЈЕ ОСТАЛИХ ОСНОВНИХ СРЕДСТАВА (88)",{"$f":"+Programska_aktivnost!D134+Sheet1!D134+'Захтев за додатна сред.'!D134+Projekat!D134+Sheet2!D134","v":0},{"$f":"+Programska_aktivnost!E134+Sheet1!E134+'Захтев за додатна сред.'!E134+Projekat!E134+Sheet2!E134","v":0},{"$f":"+Programska_aktivnost!F134+Sheet1!F134+'Захтев за додатна сред.'!F134+Projekat!F134+Sheet2!F134","v":0},{"$f":"+Programska_aktivnost!G134+Sheet1!G134+'Захтев за додатна сред.'!G134+Projekat!G134+Sheet2!G134","v":0},{"$f":"+Programska_aktivnost!H134+Sheet1!H134+'Захтев за додатна сред.'!H134+Projekat!H134+Sheet2!H134","v":0},{"$f":"+Programska_aktivnost!I134+Sheet1!I134+'Захтев за додатна сред.'!I134+Projekat!I134+Sheet2!I134","v":0},{"$f":"+Programska_aktivnost!J134+Sheet1!J134+'Захтев за додатна сред.'!J134+Projekat!J134+Sheet2!J134","v":0},{"$f":"+Programska_aktivnost!K134+Sheet1!K134+'Захтев за додатна сред.'!K134+Projekat!K134+Sheet2!K134","v":0},{"$f":"+Programska_aktivnost!L134+Sheet1!L134+'Захтев за додатна сред.'!L134+Projekat!L134+Sheet2!L134","v":0},{"$f":"+Programska_aktivnost!M134+Sheet1!M134+'Захтев за додатна сред.'!M134+Projekat!M134+Sheet2!M134","v":0},0,0,null,null,null,null,null,null,null,null,null,0]
[88,813100,"Примања од продаје осталих основних средстава",{"$f":"+Programska_aktivnost!D135+Sheet1!D135+'Захтев за додатна сред.'!D135+Projekat!D135+Sheet2!D135","v":0},{"$f":"+Programska_aktivnost!E135+Sheet1!E135+'Захтев за додатна сред.'!E135+Projekat!E135+Sheet2!E135","v":0},{"$f":"+Programska_aktivnost!F135+Sheet1!F135+'Захтев за додатна сред.'!F135+Projekat!F135+Sheet2!F135","v":0},{"$f":"+Programska_aktivnost!G135+Sheet1!G135+'Захтев за додатна сред.'!G135+Projekat!G135+Sheet2!G135","v":0},{"$f":"+Programska_aktivnost!H135+Sheet1!H135+'Захтев за додатна сред.'!H135+Projekat!H135+Sheet2!H135","v":0},{"$f":"+Programska_aktivnost!I135+Sheet1!I135+'Захтев за додатна сред.'!I135+Projekat!I135+Sheet2!I135","v":0},{"$f":"+Programska_aktivnost!J135+Sheet1!J135+'Захтев за додатна сред.'!J135+Projekat!J135+Sheet2!J135","v":0},{"$f":"+Programska_aktivnost!K135+Sheet1!K135+'Захтев за додатна сред.'!K135+Projekat!K135+Sheet2!K135","v":0},{"$f":"+Programska_aktivnost!L135+Sheet1!L135+'Захтев за додатна сред.'!L135+Projekat!L135+Sheet2!L135","v":0},{"$f":"+Programska_aktivnost!M135+Sheet1!M135+'Захтев за додатна сред.'!M135+Projekat!M135+Sheet2!M135","v":0},0,0,null,null,null,null,null,null,null,null,null,0]
[89,820000,"ПРИМАЊА ОД ПРОДАЈЕ ЗАЛИХА (90 + 92 + 94)",{"$f":"+Programska_aktivnost!D136+Sheet1!D136+'Захтев за додатна сред.'!D136+Projekat!D136+Sheet2!D136","v":0},{"$f":"+Programska_aktivnost!E136+Sheet1!E136+'Захтев за додатна сред.'!E136+Projekat!E136+Sheet2!E136","v":0},{"$f":"+Programska_aktivnost!F136+Sheet1!F136+'Захтев за додатна сред.'!F136+Projekat!F136+Sheet2!F136","v":0},{"$f":"+Programska_aktivnost!G136+Sheet1!G136+'Захтев за додатна сред.'!G136+Projekat!G136+Sheet2!G136","v":0},{"$f":"+Programska_aktivnost!H136+Sheet1!H136+'Захтев за додатна сред.'!H136+Projekat!H136+Sheet2!H136","v":0},{"$f":"+Programska_aktivnost!I136+Sheet1!I136+'Захтев за додатна сред.'!I136+Projekat!I136+Sheet2!I136","v":0},{"$f":"+Programska_aktivnost!J136+Sheet1!J136+'Захтев за додатна сред.'!J136+Projekat!J136+Sheet2!J136","v":0},{"$f":"+Programska_aktivnost!K136+Sheet1!K136+'Захтев за додатна сред.'!K136+Projekat!K136+Sheet2!K136","v":0},{"$f":"+Programska_aktivnost!L136+Sheet1!L136+'Захтев за додатна сред.'!L136+Projekat!L136+Sheet2!L136","v":0},{"$f":"+Programska_aktivnost!M136+Sheet1!M136+'Захтев за додатна сред.'!M136+Projekat!M136+Sheet2!M136","v":0},0,0,null,null,null,null,null,null,null,null,null,0]
[90,821000,"ПРИМАЊА ОД ПРОДАЈЕ РОБНИХ РЕЗЕРВИ (91)",{"$f":"+Programska_aktivnost!D137+Sheet1!D137+'Захтев за додатна сред.'!D137+Projekat!D137+Sheet2!D137","v":0},{"$f":"+Programska_aktivnost!E137+Sheet1!E137+'Захтев за додатна сред.'!E137+Projekat!E137+Sheet2!E137","v":0},{"$f":"+Programska_aktivnost!F137+Sheet1!F137+'Захтев за додатна сред.'!F137+Projekat!F137+Sheet2!F137","v":0},{"$f":"+Programska_aktivnost!G137+Sheet1!G137+'Захтев за додатна сред.'!G137+Projekat!G137+Sheet2!G137","v":0},{"$f":"+Programska_aktivnost!H137+Sheet1!H137+'Захтев за додатна сред.'!H137+Projekat!H137+Sheet2!H137","v":0},{"$f":"+Programska_aktivnost!I137+Sheet1!I137+'Захтев за додатна сред.'!I137+Projekat!I137+Sheet2!I137","v":0},{"$f":"+Programska_aktivnost!J137+Sheet1!J137+'Захтев за додатна сред.'!J137+Projekat!J137+Sheet2!J137","v":0},{"$f":"+Programska_aktivnost!K137+Sheet1!K137+'Захтев за додатна сред.'!K137+Projekat!K137+Sheet2!K137","v":0},{"$f":"+Programska_aktivnost!L137+Sheet1!L137+'Захтев за додатна сред.'!L137+Projekat!L137+Sheet2!L137","v":0},{"$f":"+Programska_aktivnost!M137+Sheet1!M137+'Захтев за додатна сред.'!M137+Projekat!M137+Sheet2!M137","v":0},0,0,null,null,null,null,null,null,null,null,null,0]
[91,821100,"Примања од продаје робних резерви",{"$f":"+Programska_aktivnost!D138+Sheet1!D138+'Захтев за додатна сред.'!D138+Projekat!D138+Sheet2!D138","v":0},{"$f":"+Programska_aktivnost!E138+Sheet1!E138+'Захтев за додатна сред.'!E138+Projekat!E138+Sheet2!E138","v":0},{"$f":"+Programska_aktivnost!F138+Sheet1!F138+'Захтев за додатна сред.'!F138+Projekat!F138+Sheet2!F138","v":0},{"$f":"+Programska_aktivnost!G138+Sheet1!G138+'Захтев за додатна сред.'!G138+Projekat!G138+Sheet2!G138","v":0},{"$f":"+Programska_aktivnost!H138+Sheet1!H138+'Захтев за додатна сред.'!H138+Projekat!H138+Sheet2!H138","v":0},{"$f":"+Programska_aktivnost!I138+Sheet1!I138+'Захтев за додатна сред.'!I138+Projekat!I138+Sheet2!I138","v":0},{"$f":"+Programska_aktivnost!J138+Sheet1!J138+'Захтев за додатна сред.'!J138+Projekat!J138+Sheet2!J138","v":0},{"$f":"+Programska_aktivnost!K138+Sheet1!K138+'Захтев за додатна сред.'!K138+Projekat!K138+Sheet2!K138","v":0},{"$f":"+Programska_aktivnost!L138+Sheet1!L138+'Захтев за додатна сред.'!L138+Projekat!L138+Sheet2!L138","v":0},{"$f":"+Programska_aktivnost!M138+Sheet1!M138+'Захтев за додатна сред.'!M138+Projekat!M138+Sheet2!M138","v":0},0,0,null,null,null,null,null,null,null,null,null,0]
[92,822000,"ПРИМАЊА ОД ПРОДАЈЕ ЗАЛИХА  ПРОИЗВОДЊЕ (93)",{"$f":"+Programska_aktivnost!D139+Sheet1!D139+'Захтев за додатна сред.'!D139+Projekat!D139+Sheet2!D139","v":0},{"$f":"+Programska_aktivnost!E139+Sheet1!E139+'Захтев за додатна сред.'!E139+Projekat!E139+Sheet2!E139","v":0},{"$f":"+Programska_aktivnost!F139+Sheet1!F139+'Захтев за додатна сред.'!F139+Projekat!F139+Sheet2!F139","v":0},{"$f":"+Programska_aktivnost!G139+Sheet1!G139+'Захтев за додатна сред.'!G139+Projekat!G139+Sheet2!G139","v":0},{"$f":"+Programska_aktivnost!H139+Sheet1!H139+'Захтев за додатна сред.'!H139+Projekat!H139+Sheet2!H139","v":0},{"$f":"+Programska_aktivnost!I139+Sheet1!I139+'Захтев за додатна сред.'!I139+Projekat!I139+Sheet2!I139","v":0},{"$f":"+Programska_aktivnost!J139+Sheet1!J139+'Захтев за додатна сред.'!J139+Projekat!J139+Sheet2!J139","v":0},{"$f":"+Programska_aktivnost!K139+Sheet1!K139+'Захтев за додатна сред.'!K139+Projekat!K139+Sheet2!K139","v":0},{"$f":"+Programska_aktivnost!L139+Sheet1!L139+'Захтев за додатна сред.'!L139+Projekat!L139+Sheet2!L139","v":0},{"$f":"+Programska_aktivnost!M139+Sheet1!M139+'Захтев за додатна сред.'!M139+Projekat!M139+Sheet2!M139","v":0},0,0,null,null,null,null,null,null,null,null,null,0]
[93,822100,"Примања од продаје залиха производње",{"$f":"+Programska_aktivnost!D140+Sheet1!D140+'Захтев за додатна сред.'!D140+Projekat!D140+Sheet2!D140","v":0},{"$f":"+Programska_aktivnost!E140+Sheet1!E140+'Захтев за додатна сред.'!E140+Projekat!E140+Sheet2!E140","v":0},{"$f":"+Programska_aktivnost!F140+Sheet1!F140+'Захтев за додатна сред.'!F140+Projekat!F140+Sheet2!F140","v":0},{"$f":"+Programska_aktivnost!G140+Sheet1!G140+'Захтев за додатна сред.'!G140+Projekat!G140+Sheet2!G140","v":0},{"$f":"+Programska_aktivnost!H140+Sheet1!H140+'Захтев за додатна сред.'!H140+Projekat!H140+Sheet2!H140","v":0},{"$f":"+Programska_aktivnost!I140+Sheet1!I140+'Захтев за додатна сред.'!I140+Projekat!I140+Sheet2!I140","v":0},{"$f":"+Programska_aktivnost!J140+Sheet1!J140+'Захтев за додатна сред.'!J140+Projekat!J140+Sheet2!J140","v":0},{"$f":"+Programska_aktivnost!K140+Sheet1!K140+'Захтев за додатна сред.'!K140+Projekat!K140+Sheet2!K140","v":0},{"$f":"+Programska_aktivnost!L140+Sheet1!L140+'Захтев за додатна сред.'!L140+Projekat!L140+Sheet2!L140","v":0},{"$f":"+Programska_aktivnost!M140+Sheet1!M140+'Захтев за додатна сред.'!M140+Projekat!M140+Sheet2!M140","v":0},0,0,null,null,null,null,null,null,null,null,null,0]
[94,823000,"ПРИМАЊА ОД ПРОДАЈЕ РОБЕ ЗА ДАЉУ ПРОДАЈУ (95)",{"$f":"+Programska_aktivnost!D141+Sheet1!D141+'Захтев за додатна сред.'!D141+Projekat!D141+Sheet2!D141","v":0},{"$f":"+Programska_aktivnost!E141+Sheet1!E141+'Захтев за додатна сред.'!E141+Projekat!E141+Sheet2!E141","v":0},{"$f":"+Programska_aktivnost!F141+Sheet1!F141+'Захтев за додатна сред.'!F141+Projekat!F141+Sheet2!F141","v":0},{"$f":"+Programska_aktivnost!G141+Sheet1!G141+'Захтев за додатна сред.'!G141+Projekat!G141+Sheet2!G141","v":0},{"$f":"+Programska_aktivnost!H141+Sheet1!H141+'Захтев за додатна сред.'!H141+Projekat!H141+Sheet2!H141","v":0},{"$f":"+Programska_aktivnost!I141+Sheet1!I141+'Захтев за додатна сред.'!I141+Projekat!I141+Sheet2!I141","v":0},{"$f":"+Programska_aktivnost!J141+Sheet1!J141+'Захтев за додатна сред.'!J141+Projekat!J141+Sheet2!J141","v":0},{"$f":"+Programska_aktivnost!K141+Sheet1!K141+'Захтев за додатна сред.'!K141+Projekat!K141+Sheet2!K141","v":0},{"$f":"+Programska_aktivnost!L141+Sheet1!L141+'Захтев за додатна сред.'!L141+Projekat!L141+Sheet2!L141","v":0},{"$f":"+Programska_aktivnost!M141+Sheet1!M141+'Захтев за додатна сред.'!M141+Projekat!M141+Sheet2!M141","v":0},0,0,null,null,null,null,null,null,null,null,null,0]
[95,823100,"Примања од продаје робе за даљу продају",{"$f":"+Programska_aktivnost!D142+Sheet1!D142+'Захтев за додатна сред.'!D142+Projekat!D142+Sheet2!D142","v":0},{"$f":"+Programska_aktivnost!E142+Sheet1!E142+'Захтев за додатна сред.'!E142+Projekat!E142+Sheet2!E142","v":0},{"$f":"+Programska_aktivnost!F142+Sheet1!F142+'Захтев за додатна сред.'!F142+Projekat!F142+Sheet2!F142","v":0},{"$f":"+Programska_aktivnost!G142+Sheet1!G142+'Захтев за додатна сред.'!G142+Projekat!G142+Sheet2!G142","v":0},{"$f":"+Programska_aktivnost!H142+Sheet1!H142+'Захтев за додатна сред.'!H142+Projekat!H142+Sheet2!H142","v":0},{"$f":"+Programska_aktivnost!I142+Sheet1!I142+'Захтев за додатна сред.'!I142+Projekat!I142+Sheet2!I142","v":0},{"$f":"+Programska_aktivnost!J142+Sheet1!J142+'Захтев за додатна сред.'!J142+Projekat!J142+Sheet2!J142","v":0},{"$f":"+Programska_aktivnost!K142+Sheet1!K142+'Захтев за додатна сред.'!K142+Projekat!K142+Sheet2!K142","v":0},{"$f":"+Programska_aktivnost!L142+Sheet1!L142+'Захтев за додатна сред.'!L142+Projekat!L142+Sheet2!L142","v":0},{"$f":"+Programska_aktivnost!M142+Sheet1!M142+'Захтев за додатна сред.'!M142+Projekat!M142+Sheet2!M142","v":0},0,0,null,null,null,null,null,null,null,null,null,0]
[96,830000,"ПРИМАЊА ОД ПРОДАЈЕ ДРАГОЦЕНОСТИ (97)",{"$f":"+Programska_aktivnost!D143+Sheet1!D143+'Захтев за додатна сред.'!D143+Projekat!D143+Sheet2!D143","v":0},{"$f":"+Programska_aktivnost!E143+Sheet1!E143+'Захтев за додатна сред.'!E143+Projekat!E143+Sheet2!E143","v":0},{"$f":"+Programska_aktivnost!F143+Sheet1!F143+'Захтев за додатна сред.'!F143+Projekat!F143+Sheet2!F143","v":0},{"$f":"+Programska_aktivnost!G143+Sheet1!G143+'Захтев за додатна сред.'!G143+Projekat!G143+Sheet2!G143","v":0},{"$f":"+Programska_aktivnost!H143+Sheet1!H143+'Захтев за додатна сред.'!H143+Projekat!H143+Sheet2!H143","v":0},{"$f":"+Programska_aktivnost!I143+Sheet1!I143+'Захтев за додатна сред.'!I143+Projekat!I143+Sheet2!I143","v":0},{"$f":"+Programska_aktivnost!J143+Sheet1!J143+'Захтев за додатна сред.'!J143+Projekat!J143+Sheet2!J143","v":0},{"$f":"+Programska_aktivnost!K143+Sheet1!K143+'Захтев за додатна сред.'!K143+Projekat!K143+Sheet2!K143","v":0},{"$f":"+Programska_aktivnost!L143+Sheet1!L143+'Захтев за додатна сред.'!L143+Projekat!L143+Sheet2!L143","v":0},{"$f":"+Programska_aktivnost!M143+Sheet1!M143+'Захтев за додатна сред.'!M143+Projekat!M143+Sheet2!M143","v":0},0,0,null,null,null,null,null,null,null,null,null,0]
[97,831000,"ПРИМАЊА ОД ПРОДАЈЕ ДРАГОЦЕНОСТИ (98)",{"$f":"+Programska_aktivnost!D144+Sheet1!D144+'Захтев за додатна сред.'!D144+Projekat!D144+Sheet2!D144","v":0},{"$f":"+Programska_aktivnost!E144+Sheet1!E144+'Захтев за додатна сред.'!E144+Projekat!E144+Sheet2!E144","v":0},{"$f":"+Programska_aktivnost!F144+Sheet1!F144+'Захтев за додатна сред.'!F144+Projekat!F144+Sheet2!F144","v":0},{"$f":"+Programska_aktivnost!G144+Sheet1!G144+'Захтев за додатна сред.'!G144+Projekat!G144+Sheet2!G144","v":0},{"$f":"+Programska_aktivnost!H144+Sheet1!H144+'Захтев за додатна сред.'!H144+Projekat!H144+Sheet2!H144","v":0},{"$f":"+Programska_aktivnost!I144+Sheet1!I144+'Захтев за додатна сред.'!I144+Projekat!I144+Sheet2!I144","v":0},{"$f":"+Programska_aktivnost!J144+Sheet1!J144+'Захтев за додатна сред.'!J144+Projekat!J144+Sheet2!J144","v":0},{"$f":"+Programska_aktivnost!K144+Sheet1!K144+'Захтев за додатна сред.'!K144+Projekat!K144+Sheet2!K144","v":0},{"$f":"+Programska_aktivnost!L144+Sheet1!L144+'Захтев за додатна сред.'!L144+Projekat!L144+Sheet2!L144","v":0},{"$f":"+Programska_aktivnost!M144+Sheet1!M144+'Захтев за додатна сред.'!M144+Projekat!M144+Sheet2!M144","v":0},0,0,null,null,null,null,null,null,null,null,null,0]
[98,831100,"Примања од продаје драгоцености",{"$f":"+Programska_aktivnost!D145+Sheet1!D145+'Захтев за додатна сред.'!D145+Projekat!D145+Sheet2!D145","v":0},{"$f":"+Programska_aktivnost!E145+Sheet1!E145+'Захтев за додатна сред.'!E145+Projekat!E145+Sheet2!E145","v":0},{"$f":"+Programska_aktivnost!F145+Sheet1!F145+'Захтев за додатна сред.'!F145+Projekat!F145+Sheet2!F145","v":0},{"$f":"+Programska_aktivnost!G145+Sheet1!G145+'Захтев за додатна сред.'!G145+Projekat!G145+Sheet2!G145","v":0},{"$f":"+Programska_aktivnost!H145+Sheet1!H145+'Захтев за додатна сред.'!H145+Projekat!H145+Sheet2!H145","v":0},{"$f":"+Programska_aktivnost!I145+Sheet1!I145+'Захтев за додатна сред.'!I145+Projekat!I145+Sheet2!I145","v":0},{"$f":"+Programska_aktivnost!J145+Sheet1!J145+'Захтев за додатна сред.'!J145+Projekat!J145+Sheet2!J145","v":0},{"$f":"+Programska_aktivnost!K145+Sheet1!K145+'Захтев за додатна сред.'!K145+Projekat!K145+Sheet2!K145","v":0},{"$f":"+Programska_aktivnost!L145+Sheet1!L145+'Захтев за додатна сред.'!L145+Projekat!L145+Sheet2!L145","v":0},{"$f":"+Programska_aktivnost!M145+Sheet1!M145+'Захтев за додатна сред.'!M145+Projekat!M145+Sheet2!M145","v":0},0,0,null,null,null,null,null,null,null,null,null,0]
[99,840000,"ПРИМАЊА ОД ПРОДАЈЕ ПРИРОДНЕ ИМОВИНЕ (100 + 102 + 104)",{"$f":"+Programska_aktivnost!D146+Sheet1!D146+'Захтев за додатна сред.'!D146+Projekat!D146+Sheet2!D146","v":0},{"$f":"+Programska_aktivnost!E146+Sheet1!E146+'Захтев за додатна сред.'!E146+Projekat!E146+Sheet2!E146","v":0},{"$f":"+Programska_aktivnost!F146+Sheet1!F146+'Захтев за додатна сред.'!F146+Projekat!F146+Sheet2!F146","v":0},{"$f":"+Programska_aktivnost!G146+Sheet1!G146+'Захтев за додатна сред.'!G146+Projekat!G146+Sheet2!G146","v":0},{"$f":"+Programska_aktivnost!H146+Sheet1!H146+'Захтев за додатна сред.'!H146+Projekat!H146+Sheet2!H146","v":0},{"$f":"+Programska_aktivnost!I146+Sheet1!I146+'Захтев за додатна сред.'!I146+Projekat!I146+Sheet2!I146","v":0},{"$f":"+Programska_aktivnost!J146+Sheet1!J146+'Захтев за додатна сред.'!J146+Projekat!J146+Sheet2!J146","v":0},{"$f":"+Programska_aktivnost!K146+Sheet1!K146+'Захтев за додатна сред.'!K146+Projekat!K146+Sheet2!K146","v":0},{"$f":"+Programska_aktivnost!L146+Sheet1!L146+'Захтев за додатна сред.'!L146+Projekat!L146+Sheet2!L146","v":0},{"$f":"+Programska_aktivnost!M146+Sheet1!M146+'Захтев за додатна сред.'!M146+Projekat!M146+Sheet2!M146","v":0},0,0,null,null,null,null,null,null,null,null,null,0]
[100,841000,"ПРИМАЊА ОД ПРОДАЈЕ ЗЕМЉИШТА (101)",{"$f":"+Programska_aktivnost!D147+Sheet1!D147+'Захтев за додатна сред.'!D147+Projekat!D147+Sheet2!D147","v":0},{"$f":"+Programska_aktivnost!E147+Sheet1!E147+'Захтев за додатна сред.'!E147+Projekat!E147+Sheet2!E147","v":0},{"$f":"+Programska_aktivnost!F147+Sheet1!F147+'Захтев за додатна сред.'!F147+Projekat!F147+Sheet2!F147","v":0},{"$f":"+Programska_aktivnost!G147+Sheet1!G147+'Захтев за додатна сред.'!G147+Projekat!G147+Sheet2!G147","v":0},{"$f":"+Programska_aktivnost!H147+Sheet1!H147+'Захтев за додатна сред.'!H147+Projekat!H147+Sheet2!H147","v":0},{"$f":"+Programska_aktivnost!I147+Sheet1!I147+'Захтев за додатна сред.'!I147+Projekat!I147+Sheet2!I147","v":0},{"$f":"+Programska_aktivnost!J147+Sheet1!J147+'Захтев за додатна сред.'!J147+Projekat!J147+Sheet2!J147","v":0},{"$f":"+Programska_aktivnost!K147+Sheet1!K147+'Захтев за додатна сред.'!K147+Projekat!K147+Sheet2!K147","v":0},{"$f":"+Programska_aktivnost!L147+Sheet1!L147+'Захтев за додатна сред.'!L147+Projekat!L147+Sheet2!L147","v":0},{"$f":"+Programska_aktivnost!M147+Sheet1!M147+'Захтев за додатна сред.'!M147+Projekat!M147+Sheet2!M147","v":0},0,0,null,null,null,null,null,null,null,null,null,0]
[101,841100,"Примања од продаје земљишта",{"$f":"+Programska_aktivnost!D148+Sheet1!D148+'Захтев за додатна сред.'!D148+Projekat!D148+Sheet2!D148","v":0},{"$f":"+Programska_aktivnost!E148+Sheet1!E148+'Захтев за додатна сред.'!E148+Projekat!E148+Sheet2!E148","v":0},{"$f":"+Programska_aktivnost!F148+Sheet1!F148+'Захтев за додатна сред.'!F148+Projekat!F148+Sheet2!F148","v":0},{"$f":"+Programska_aktivnost!G148+Sheet1!G148+'Захтев за додатна сред.'!G148+Projekat!G148+Sheet2!G148","v":0},{"$f":"+Programska_aktivnost!H148+Sheet1!H148+'Захтев за додатна сред.'!H148+Projekat!H148+Sheet2!H148","v":0},{"$f":"+Programska_aktivnost!I148+Sheet1!I148+'Захтев за додатна сред.'!I148+Projekat!I148+Sheet2!I148","v":0},{"$f":"+Programska_aktivnost!J148+Sheet1!J148+'Захтев за додатна сред.'!J148+Projekat!J148+Sheet2!J148","v":0},{"$f":"+Programska_aktivnost!K148+Sheet1!K148+'Захтев за додатна сред.'!K148+Projekat!K148+Sheet2!K148","v":0},{"$f":"+Programska_aktivnost!L148+Sheet1!L148+'Захтев за додатна сред.'!L148+Projekat!L148+Sheet2!L148","v":0},{"$f":"+Programska_aktivnost!M148+Sheet1!M148+'Захтев за додатна сред.'!M148+Projekat!M148+Sheet2!M148","v":0},0,0,null,null,null,null,null,null,null,null,null,0]
[102,842000,"ПРИМАЊА ОД ПРОДАЈЕ ПОДЗЕМНИХ БЛАГА (103)",{"$f":"+Programska_aktivnost!D149+Sheet1!D149+'Захтев за додатна сред.'!D149+Projekat!D149+Sheet2!D149","v":0},{"$f":"+Programska_aktivnost!E149+Sheet1!E149+'Захтев за додатна сред.'!E149+Projekat!E149+Sheet2!E149","v":0},{"$f":"+Programska_aktivnost!F149+Sheet1!F149+'Захтев за додатна сред.'!F149+Projekat!F149+Sheet2!F149","v":0},{"$f":"+Programska_aktivnost!G149+Sheet1!G149+'Захтев за додатна сред.'!G149+Projekat!G149+Sheet2!G149","v":0},{"$f":"+Programska_aktivnost!H149+Sheet1!H149+'Захтев за додатна сред.'!H149+Projekat!H149+Sheet2!H149","v":0},{"$f":"+Programska_aktivnost!I149+Sheet1!I149+'Захтев за додатна сред.'!I149+Projekat!I149+Sheet2!I149","v":0},{"$f":"+Programska_aktivnost!J149+Sheet1!J149+'Захтев за додатна сред.'!J149+Projekat!J149+Sheet2!J149","v":0},{"$f":"+Programska_aktivnost!K149+Sheet1!K149+'Захтев за додатна сред.'!K149+Projekat!K149+Sheet2!K149","v":0},{"$f":"+Programska_aktivnost!L149+Sheet1!L149+'Захтев за додатна сред.'!L149+Projekat!L149+Sheet2!L149","v":0},{"$f":"+Programska_aktivnost!M149+Sheet1!M149+'Захтев за додатна сред.'!M149+Projekat!M149+Sheet2!M149","v":0},0,0,null,null,null,null,null,null,null,null,null,0]
[103,842100,"Примања од продаје подземних блага",{"$f":"+Programska_aktivnost!D150+Sheet1!D150+'Захтев за додатна сред.'!D150+Projekat!D150+Sheet2!D150","v":0},{"$f":"+Programska_aktivnost!E150+Sheet1!E150+'Захтев за додатна сред.'!E150+Projekat!E150+Sheet2!E150","v":0},{"$f":"+Programska_aktivnost!F150+Sheet1!F150+'Захтев за додатна сред.'!F150+Projekat!F150+Sheet2!F150","v":0},{"$f":"+Programska_aktivnost!G150+Sheet1!G150+'Захтев за додатна сред.'!G150+Projekat!G150+Sheet2!G150","v":0},{"$f":"+Programska_aktivnost!H150+Sheet1!H150+'Захтев за додатна сред.'!H150+Projekat!H150+Sheet2!H150","v":0},{"$f":"+Programska_aktivnost!I150+Sheet1!I150+'Захтев за додатна сред.'!I150+Projekat!I150+Sheet2!I150","v":0},{"$f":"+Programska_aktivnost!J150+Sheet1!J150+'Захтев за додатна сред.'!J150+Projekat!J150+Sheet2!J150","v":0},{"$f":"+Programska_aktivnost!K150+Sheet1!K150+'Захтев за додатна сред.'!K150+Projekat!K150+Sheet2!K150","v":0},{"$f":"+Programska_aktivnost!L150+Sheet1!L150+'Захтев за додатна сред.'!L150+Projekat!L150+Sheet2!L150","v":0},{"$f":"+Programska_aktivnost!M150+Sheet1!M150+'Захтев за додатна сред.'!M150+Projekat!M150+Sheet2!M150","v":0},0,0,null,null,null,null,null,null,null,null,null,0]
[104,843000,"ПРИМАЊА ОД ПРОДАЈЕ ШУМА И ВОДА (105)",{"$f":"+Programska_aktivnost!D151+Sheet1!D151+'Захтев за додатна сред.'!D151+Projekat!D151+Sheet2!D151","v":0},{"$f":"+Programska_aktivnost!E151+Sheet1!E151+'Захтев за додатна сред.'!E151+Projekat!E151+Sheet2!E151","v":0},{"$f":"+Programska_aktivnost!F151+Sheet1!F151+'Захтев за додатна сред.'!F151+Projekat!F151+Sheet2!F151","v":0},{"$f":"+Programska_aktivnost!G151+Sheet1!G151+'Захтев за додатна сред.'!G151+Projekat!G151+Sheet2!G151","v":0},{"$f":"+Programska_aktivnost!H151+Sheet1!H151+'Захтев за додатна сред.'!H151+Projekat!H151+Sheet2!H151","v":0},{"$f":"+Programska_aktivnost!I151+Sheet1!I151+'Захтев за додатна сред.'!I151+Projekat!I151+Sheet2!I151","v":0},{"$f":"+Programska_aktivnost!J151+Sheet1!J151+'Захтев за додатна сред.'!J151+Projekat!J151+Sheet2!J151","v":0},{"$f":"+Programska_aktivnost!K151+Sheet1!K151+'Захтев за додатна сред.'!K151+Projekat!K151+Sheet2!K151","v":0},{"$f":"+Programska_aktivnost!L151+Sheet1!L151+'Захтев за додатна сред.'!L151+Projekat!L151+Sheet2!L151","v":0},{"$f":"+Programska_aktivnost!M151+Sheet1!M151+'Захтев за додатна сред.'!M151+Projekat!M151+Sheet2!M151","v":0},0,0,null,null,null,null,null,null,null,null,null,0]
[105,843100,"Примања од продаје шума и вода",{"$f":"+Programska_aktivnost!D152+Sheet1!D152+'Захтев за додатна сред.'!D152+Projekat!D152+Sheet2!D152","v":0},{"$f":"+Programska_aktivnost!E152+Sheet1!E152+'Захтев за додатна сред.'!E152+Projekat!E152+Sheet2!E152","v":0},{"$f":"+Programska_aktivnost!F152+Sheet1!F152+'Захтев за додатна сред.'!F152+Projekat!F152+Sheet2!F152","v":0},{"$f":"+Programska_aktivnost!G152+Sheet1!G152+'Захтев за додатна сред.'!G152+Projekat!G152+Sheet2!G152","v":0},{"$f":"+Programska_aktivnost!H152+Sheet1!H152+'Захтев за додатна сред.'!H152+Projekat!H152+Sheet2!H152","v":0},{"$f":"+Programska_aktivnost!I152+Sheet1!I152+'Захтев за додатна сред.'!I152+Projekat!I152+Sheet2!I152","v":0},{"$f":"+Programska_aktivnost!J152+Sheet1!J152+'Захтев за додатна сред.'!J152+Projekat!J152+Sheet2!J152","v":0},{"$f":"+Programska_aktivnost!K152+Sheet1!K152+'Захтев за додатна сред.'!K152+Projekat!K152+Sheet2!K152","v":0},{"$f":"+Programska_aktivnost!L152+Sheet1!L152+'Захтев за додатна сред.'!L152+Projekat!L152+Sheet2!L152","v":0},{"$f":"+Programska_aktivnost!M152+Sheet1!M152+'Захтев за додатна сред.'!M152+Projekat!M152+Sheet2!M152","v":0},{"$f":"SUM(H152,J152,L152)","v":0},0,null,null,null,null,null,null,null,null,null,0]
[106,900000,"ПРИМАЊА ОД ЗАДУЖИВАЊА И ПРОДАЈЕ ФИНАНСИЈСКЕ ИМОВИНЕ (107 + 126)",{"$f":"+Programska_aktivnost!D153+Sheet1!D153+'Захтев за додатна сред.'!D153+Projekat!D153+Sheet2!D153","v":0},{"$f":"+Programska_aktivnost!E153+Sheet1!E153+'Захтев за додатна сред.'!E153+Projekat!E153+Sheet2!E153","v":0},{"$f":"+Programska_aktivnost!F153+Sheet1!F153+'Захтев за додатна сред.'!F153+Projekat!F153+Sheet2!F153","v":0},{"$f":"+Programska_aktivnost!G153+Sheet1!G153+'Захтев за додатна сред.'!G153+Projekat!G153+Sheet2!G153","v":0},{"$f":"+Programska_aktivnost!H153+Sheet1!H153+'Захтев за додатна сред.'!H153+Projekat!H153+Sheet2!H153","v":0},{"$f":"+Programska_aktivnost!I153+Sheet1!I153+'Захтев за додатна сред.'!I153+Projekat!I153+Sheet2!I153","v":0},{"$f":"+Programska_aktivnost!J153+Sheet1!J153+'Захтев за додатна сред.'!J153+Projekat!J153+Sheet2!J153","v":0},{"$f":"+Programska_aktivnost!K153+Sheet1!K153+'Захтев за додатна сред.'!K153+Projekat!K153+Sheet2!K153","v":0},{"$f":"+Programska_aktivnost!L153+Sheet1!L153+'Захтев за додатна сред.'!L153+Projekat!L153+Sheet2!L153","v":0},{"$f":"+Programska_aktivnost!M153+Sheet1!M153+'Захтев за додатна сред.'!M153+Projekat!M153+Sheet2!M153","v":0},0,0,null,null,null,null,null,null,null,null,null,0]
[107,910000,"ПРИМАЊА ОД ЗАДУЖИВАЊА (108+118)",{"$f":"+Programska_aktivnost!D154+Sheet1!D154+'Захтев за додатна сред.'!D154+Projekat!D154+Sheet2!D154","v":0},{"$f":"+Programska_aktivnost!E154+Sheet1!E154+'Захтев за додатна сред.'!E154+Projekat!E154+Sheet2!E154","v":0},{"$f":"+Programska_aktivnost!F154+Sheet1!F154+'Захтев за додатна сред.'!F154+Projekat!F154+Sheet2!F154","v":0},{"$f":"+Programska_aktivnost!G154+Sheet1!G154+'Захтев за додатна сред.'!G154+Projekat!G154+Sheet2!G154","v":0},{"$f":"+Programska_aktivnost!H154+Sheet1!H154+'Захтев за додатна сред.'!H154+Projekat!H154+Sheet2!H154","v":0},{"$f":"+Programska_aktivnost!I154+Sheet1!I154+'Захтев за додатна сред.'!I154+Projekat!I154+Sheet2!I154","v":0},{"$f":"+Programska_aktivnost!J154+Sheet1!J154+'Захтев за додатна сред.'!J154+Projekat!J154+Sheet2!J154","v":0},{"$f":"+Programska_aktivnost!K154+Sheet1!K154+'Захтев за додатна сред.'!K154+Projekat!K154+Sheet2!K154","v":0},{"$f":"+Programska_aktivnost!L154+Sheet1!L154+'Захтев за додатна сред.'!L154+Projekat!L154+Sheet2!L154","v":0},{"$f":"+Programska_aktivnost!M154+Sheet1!M154+'Захтев за додатна сред.'!M154+Projekat!M154+Sheet2!M154","v":0},0,0,null,null,null,null,null,null,null,null,null,0]
[108,911000,"ПРИМАЊА ОД ДОМАЋИХ ЗАДУЖИВАЊА (од 109 до 117)",{"$f":"+Programska_aktivnost!D155+Sheet1!D155+'Захтев за додатна сред.'!D155+Projekat!D155+Sheet2!D155","v":0},{"$f":"+Programska_aktivnost!E155+Sheet1!E155+'Захтев за додатна сред.'!E155+Projekat!E155+Sheet2!E155","v":0},{"$f":"+Programska_aktivnost!F155+Sheet1!F155+'Захтев за додатна сред.'!F155+Projekat!F155+Sheet2!F155","v":0},{"$f":"+Programska_aktivnost!G155+Sheet1!G155+'Захтев за додатна сред.'!G155+Projekat!G155+Sheet2!G155","v":0},{"$f":"+Programska_aktivnost!H155+Sheet1!H155+'Захтев за додатна сред.'!H155+Projekat!H155+Sheet2!H155","v":0},{"$f":"+Programska_aktivnost!I155+Sheet1!I155+'Захтев за додатна сред.'!I155+Projekat!I155+Sheet2!I155","v":0},{"$f":"+Programska_aktivnost!J155+Sheet1!J155+'Захтев за додатна сред.'!J155+Projekat!J155+Sheet2!J155","v":0},{"$f":"+Programska_aktivnost!K155+Sheet1!K155+'Захтев за додатна сред.'!K155+Projekat!K155+Sheet2!K155","v":0},{"$f":"+Programska_aktivnost!L155+Sheet1!L155+'Захтев за додатна сред.'!L155+Projekat!L155+Sheet2!L155","v":0},{"$f":"+Programska_aktivnost!M155+Sheet1!M155+'Захтев за додатна сред.'!M155+Projekat!M155+Sheet2!M155","v":0},0,0,null,null,null,null,null,null,null,null,null,0]
[109,911100,"Примања од емитовања домаћих хартија од вредности, изузев акција",{"$f":"+Programska_aktivnost!D156+Sheet1!D156+'Захтев за додатна сред.'!D156+Projekat!D156+Sheet2!D156","v":0},{"$f":"+Programska_aktivnost!E156+Sheet1!E156+'Захтев за додатна сред.'!E156+Projekat!E156+Sheet2!E156","v":0},{"$f":"+Programska_aktivnost!F156+Sheet1!F156+'Захтев за додатна сред.'!F156+Projekat!F156+Sheet2!F156","v":0},{"$f":"+Programska_aktivnost!G156+Sheet1!G156+'Захтев за додатна сред.'!G156+Projekat!G156+Sheet2!G156","v":0},{"$f":"+Programska_aktivnost!H156+Sheet1!H156+'Захтев за додатна сред.'!H156+Projekat!H156+Sheet2!H156","v":0},{"$f":"+Programska_aktivnost!I156+Sheet1!I156+'Захтев за додатна сред.'!I156+Projekat!I156+Sheet2!I156","v":0},{"$f":"+Programska_aktivnost!J156+Sheet1!J156+'Захтев за додатна сред.'!J156+Projekat!J156+Sheet2!J156","v":0},{"$f":"+Programska_aktivnost!K156+Sheet1!K156+'Захтев за додатна сред.'!K156+Projekat!K156+Sheet2!K156","v":0},{"$f":"+Programska_aktivnost!L156+Sheet1!L156+'Захтев за додатна сред.'!L156+Projekat!L156+Sheet2!L156","v":0},{"$f":"+Programska_aktivnost!M156+Sheet1!M156+'Захтев за додатна сред.'!M156+Projekat!M156+Sheet2!M156","v":0},0,0,null,null,null,null,null,null,null,null,null,0]
[110,911200,"Примања од задуживања од осталих нивоа власти",{"$f":"+Programska_aktivnost!D157+Sheet1!D157+'Захтев за додатна сред.'!D157+Projekat!D157+Sheet2!D157","v":0},{"$f":"+Programska_aktivnost!E157+Sheet1!E157+'Захтев за додатна сред.'!E157+Projekat!E157+Sheet2!E157","v":0},{"$f":"+Programska_aktivnost!F157+Sheet1!F157+'Захтев за додатна сред.'!F157+Projekat!F157+Sheet2!F157","v":0},{"$f":"+Programska_aktivnost!G157+Sheet1!G157+'Захтев за додатна сред.'!G157+Projekat!G157+Sheet2!G157","v":0},{"$f":"+Programska_aktivnost!H157+Sheet1!H157+'Захтев за додатна сред.'!H157+Projekat!H157+Sheet2!H157","v":0},{"$f":"+Programska_aktivnost!I157+Sheet1!I157+'Захтев за додатна сред.'!I157+Projekat!I157+Sheet2!I157","v":0},{"$f":"+Programska_aktivnost!J157+Sheet1!J157+'Захтев за додатна сред.'!J157+Projekat!J157+Sheet2!J157","v":0},{"$f":"+Programska_aktivnost!K157+Sheet1!K157+'Захтев за додатна сред.'!K157+Projekat!K157+Sheet2!K157","v":0},{"$f":"+Programska_aktivnost!L157+Sheet1!L157+'Захтев за додатна сред.'!L157+Projekat!L157+Sheet2!L157","v":0},{"$f":"+Programska_aktivnost!M157+Sheet1!M157+'Захтев за додатна сред.'!M157+Projekat!M157+Sheet2!M157","v":0},0,0,null,null,null,null,null,null,null,null,null,0]
[111,911300,"Примања од задуживања од јавних финансијских институција у земљи",{"$f":"+Programska_aktivnost!D158+Sheet1!D158+'Захтев за додатна сред.'!D158+Projekat!D158+Sheet2!D158","v":0},{"$f":"+Programska_aktivnost!E158+Sheet1!E158+'Захтев за додатна сред.'!E158+Projekat!E158+Sheet2!E158","v":0},{"$f":"+Programska_aktivnost!F158+Sheet1!F158+'Захтев за додатна сред.'!F158+Projekat!F158+Sheet2!F158","v":0},{"$f":"+Programska_aktivnost!G158+Sheet1!G158+'Захтев за додатна сред.'!G158+Projekat!G158+Sheet2!G158","v":0},{"$f":"+Programska_aktivnost!H158+Sheet1!H158+'Захтев за додатна сред.'!H158+Projekat!H158+Sheet2!H158","v":0},{"$f":"+Programska_aktivnost!I158+Sheet1!I158+'Захтев за додатна сред.'!I158+Projekat!I158+Sheet2!I158","v":0},{"$f":"+Programska_aktivnost!J158+Sheet1!J158+'Захтев за додатна сред.'!J158+Projekat!J158+Sheet2!J158","v":0},{"$f":"+Programska_aktivnost!K158+Sheet1!K158+'Захтев за додатна сред.'!K158+Projekat!K158+Sheet2!K158","v":0},{"$f":"+Programska_aktivnost!L158+Sheet1!L158+'Захтев за додатна сред.'!L158+Projekat!L158+Sheet2!L158","v":0},{"$f":"+Programska_aktivnost!M158+Sheet1!M158+'Захтев за додатна сред.'!M158+Projekat!M158+Sheet2!M158","v":0},0,0,null,null,null,null,null,null,null,null,null,0]
[112,911400,"Примања од задуживања од пословних банака у земљи",{"$f":"+Programska_aktivnost!D159+Sheet1!D159+'Захтев за додатна сред.'!D159+Projekat!D159+Sheet2!D159","v":0},{"$f":"+Programska_aktivnost!E159+Sheet1!E159+'Захтев за додатна сред.'!E159+Projekat!E159+Sheet2!E159","v":0},{"$f":"+Programska_aktivnost!F159+Sheet1!F159+'Захтев за додатна сред.'!F159+Projekat!F159+Sheet2!F159","v":0},{"$f":"+Programska_aktivnost!G159+Sheet1!G159+'Захтев за додатна сред.'!G159+Projekat!G159+Sheet2!G159","v":0},{"$f":"+Programska_aktivnost!H159+Sheet1!H159+'Захтев за додатна сред.'!H159+Projekat!H159+Sheet2!H159","v":0},{"$f":"+Programska_aktivnost!I159+Sheet1!I159+'Захтев за додатна сред.'!I159+Projekat!I159+Sheet2!I159","v":0},{"$f":"+Programska_aktivnost!J159+Sheet1!J159+'Захтев за додатна сред.'!J159+Projekat!J159+Sheet2!J159","v":0},{"$f":"+Programska_aktivnost!K159+Sheet1!K159+'Захтев за додатна сред.'!K159+Projekat!K159+Sheet2!K159","v":0},{"$f":"+Programska_aktivnost!L159+Sheet1!L159+'Захтев за додатна сред.'!L159+Projekat!L159+Sheet2!L159","v":0},{"$f":"+Programska_aktivnost!M159+Sheet1!M159+'Захтев за додатна сред.'!M159+Projekat!M159+Sheet2!M159","v":0},0,0,null,null,null,null,null,null,null,null,null,0]
[113,911500,"Примања од задуживања код осталих поверилаца у земљи",{"$f":"+Programska_aktivnost!D160+Sheet1!D160+'Захтев за додатна сред.'!D160+Projekat!D160+Sheet2!D160","v":0},{"$f":"+Programska_aktivnost!E160+Sheet1!E160+'Захтев за додатна сред.'!E160+Projekat!E160+Sheet2!E160","v":0},{"$f":"+Programska_aktivnost!F160+Sheet1!F160+'Захтев за додатна сред.'!F160+Projekat!F160+Sheet2!F160","v":0},{"$f":"+Programska_aktivnost!G160+Sheet1!G160+'Захтев за додатна сред.'!G160+Projekat!G160+Sheet2!G160","v":0},{"$f":"+Programska_aktivnost!H160+Sheet1!H160+'Захтев за додатна сред.'!H160+Projekat!H160+Sheet2!H160","v":0},{"$f":"+Programska_aktivnost!I160+Sheet1!I160+'Захтев за додатна сред.'!I160+Projekat!I160+Sheet2!I160","v":0},{"$f":"+Programska_aktivnost!J160+Sheet1!J160+'Захтев за додатна сред.'!J160+Projekat!J160+Sheet2!J160","v":0},{"$f":"+Programska_aktivnost!K160+Sheet1!K160+'Захтев за додатна сред.'!K160+Projekat!K160+Sheet2!K160","v":0},{"$f":"+Programska_aktivnost!L160+Sheet1!L160+'Захтев за додатна сред.'!L160+Projekat!L160+Sheet2!L160","v":0},{"$f":"+Programska_aktivnost!M160+Sheet1!M160+'Захтев за додатна сред.'!M160+Projekat!M160+Sheet2!M160","v":0},0,0,null,null,null,null,null,null,null,null,null,0]
[114,911600,"Примања од задуживања од домаћинстава у земљи",{"$f":"+Programska_aktivnost!D161+Sheet1!D161+'Захтев за додатна сред.'!D161+Projekat!D161+Sheet2!D161","v":0},{"$f":"+Programska_aktivnost!E161+Sheet1!E161+'Захтев за додатна сред.'!E161+Projekat!E161+Sheet2!E161","v":0},{"$f":"+Programska_aktivnost!F161+Sheet1!F161+'Захтев за додатна сред.'!F161+Projekat!F161+Sheet2!F161","v":0},{"$f":"+Programska_aktivnost!G161+Sheet1!G161+'Захтев за додатна сред.'!G161+Projekat!G161+Sheet2!G161","v":0},{"$f":"+Programska_aktivnost!H161+Sheet1!H161+'Захтев за додатна сред.'!H161+Projekat!H161+Sheet2!H161","v":0},{"$f":"+Programska_aktivnost!I161+Sheet1!I161+'Захтев за додатна сред.'!I161+Projekat!I161+Sheet2!I161","v":0},{"$f":"+Programska_aktivnost!J161+Sheet1!J161+'Захтев за додатна сред.'!J161+Projekat!J161+Sheet2!J161","v":0},{"$f":"+Programska_aktivnost!K161+Sheet1!K161+'Захтев за додатна сред.'!K161+Projekat!K161+Sheet2!K161","v":0},{"$f":"+Programska_aktivnost!L161+Sheet1!L161+'Захтев за додатна сред.'!L161+Projekat!L161+Sheet2!L161","v":0},{"$f":"+Programska_aktivnost!M161+Sheet1!M161+'Захтев за додатна сред.'!M161+Projekat!M161+Sheet2!M161","v":0},0,0,null,null,null,null,null,null,null,null,null,0]
[115,911700,"Примања од домаћих финансијских деривата",{"$f":"+Programska_aktivnost!D162+Sheet1!D162+'Захтев за додатна сред.'!D162+Projekat!D162+Sheet2!D162","v":0},{"$f":"+Programska_aktivnost!E162+Sheet1!E162+'Захтев за додатна сред.'!E162+Projekat!E162+Sheet2!E162","v":0},{"$f":"+Programska_aktivnost!F162+Sheet1!F162+'Захтев за додатна сред.'!F162+Projekat!F162+Sheet2!F162","v":0},{"$f":"+Programska_aktivnost!G162+Sheet1!G162+'Захтев за додатна сред.'!G162+Projekat!G162+Sheet2!G162","v":0},{"$f":"+Programska_aktivnost!H162+Sheet1!H162+'Захтев за додатна сред.'!H162+Projekat!H162+Sheet2!H162","v":0},{"$f":"+Programska_aktivnost!I162+Sheet1!I162+'Захтев за додатна сред.'!I162+Projekat!I162+Sheet2!I162","v":0},{"$f":"+Programska_aktivnost!J162+Sheet1!J162+'Захтев за додатна сред.'!J162+Projekat!J162+Sheet2!J162","v":0},{"$f":"+Programska_aktivnost!K162+Sheet1!K162+'Захтев за додатна сред.'!K162+Projekat!K162+Sheet2!K162","v":0},{"$f":"+Programska_aktivnost!L162+Sheet1!L162+'Захтев за додатна сред.'!L162+Projekat!L162+Sheet2!L162","v":0},{"$f":"+Programska_aktivnost!M162+Sheet1!M162+'Захтев за додатна сред.'!M162+Projekat!M162+Sheet2!M162","v":0},0,0,null,null,null,null,null,null,null,null,null,0]
[116,911800,"Примања од домаћих меница",{"$f":"+Programska_aktivnost!D163+Sheet1!D163+'Захтев за додатна сред.'!D163+Projekat!D163+Sheet2!D163","v":0},{"$f":"+Programska_aktivnost!E163+Sheet1!E163+'Захтев за додатна сред.'!E163+Projekat!E163+Sheet2!E163","v":0},{"$f":"+Programska_aktivnost!F163+Sheet1!F163+'Захтев за додатна сред.'!F163+Projekat!F163+Sheet2!F163","v":0},{"$f":"+Programska_aktivnost!G163+Sheet1!G163+'Захтев за додатна сред.'!G163+Projekat!G163+Sheet2!G163","v":0},{"$f":"+Programska_aktivnost!H163+Sheet1!H163+'Захтев за додатна сред.'!H163+Projekat!H163+Sheet2!H163","v":0},{"$f":"+Programska_aktivnost!I163+Sheet1!I163+'Захтев за додатна сред.'!I163+Projekat!I163+Sheet2!I163","v":0},{"$f":"+Programska_aktivnost!J163+Sheet1!J163+'Захтев за додатна сред.'!J163+Projekat!J163+Sheet2!J163","v":0},{"$f":"+Programska_aktivnost!K163+Sheet1!K163+'Захтев за додатна сред.'!K163+Projekat!K163+Sheet2!K163","v":0},{"$f":"+Programska_aktivnost!L163+Sheet1!L163+'Захтев за додатна сред.'!L163+Projekat!L163+Sheet2!L163","v":0},{"$f":"+Programska_aktivnost!M163+Sheet1!M163+'Захтев за додатна сред.'!M163+Projekat!M163+Sheet2!M163","v":0},0,0,null,null,null,null,null,null,null,null,null,0]
[117,911900,"Исправка унутрашњег дуга",{"$f":"+Programska_aktivnost!D164+Sheet1!D164+'Захтев за додатна сред.'!D164+Projekat!D164+Sheet2!D164","v":0},{"$f":"+Programska_aktivnost!E164+Sheet1!E164+'Захтев за додатна сред.'!E164+Projekat!E164+Sheet2!E164","v":0},{"$f":"+Programska_aktivnost!F164+Sheet1!F164+'Захтев за додатна сред.'!F164+Projekat!F164+Sheet2!F164","v":0},{"$f":"+Programska_aktivnost!G164+Sheet1!G164+'Захтев за додатна сред.'!G164+Projekat!G164+Sheet2!G164","v":0},{"$f":"+Programska_aktivnost!H164+Sheet1!H164+'Захтев за додатна сред.'!H164+Projekat!H164+Sheet2!H164","v":0},{"$f":"+Programska_aktivnost!I164+Sheet1!I164+'Захтев за додатна сред.'!I164+Projekat!I164+Sheet2!I164","v":0},{"$f":"+Programska_aktivnost!J164+Sheet1!J164+'Захтев за додатна сред.'!J164+Projekat!J164+Sheet2!J164","v":0},{"$f":"+Programska_aktivnost!K164+Sheet1!K164+'Захтев за додатна сред.'!K164+Projekat!K164+Sheet2!K164","v":0},{"$f":"+Programska_aktivnost!L164+Sheet1!L164+'Захтев за додатна сред.'!L164+Projekat!L164+Sheet2!L164","v":0},{"$f":"+Programska_aktivnost!M164+Sheet1!M164+'Захтев за додатна сред.'!M164+Projekat!M164+Sheet2!M164","v":0},0,0,null,null,null,null,null,null,null,null,null,0]
[118,912000,"ПРИМАЊА ОД ИНОСТРАНОГ ЗАДУЖИВАЊА (од 119 + 125)",{"$f":"+Programska_aktivnost!D165+Sheet1!D165+'Захтев за додатна сред.'!D165+Projekat!D165+Sheet2!D165","v":0},{"$f":"+Programska_aktivnost!E165+Sheet1!E165+'Захтев за додатна сред.'!E165+Projekat!E165+Sheet2!E165","v":0},{"$f":"+Programska_aktivnost!F165+Sheet1!F165+'Захтев за додатна сред.'!F165+Projekat!F165+Sheet2!F165","v":0},{"$f":"+Programska_aktivnost!G165+Sheet1!G165+'Захтев за додатна сред.'!G165+Projekat!G165+Sheet2!G165","v":0},{"$f":"+Programska_aktivnost!H165+Sheet1!H165+'Захтев за додатна сред.'!H165+Projekat!H165+Sheet2!H165","v":0},{"$f":"+Programska_aktivnost!I165+Sheet1!I165+'Захтев за додатна сред.'!I165+Projekat!I165+Sheet2!I165","v":0},{"$f":"+Programska_aktivnost!J165+Sheet1!J165+'Захтев за додатна сред.'!J165+Projekat!J165+Sheet2!J165","v":0},{"$f":"+Programska_aktivnost!K165+Sheet1!K165+'Захтев за додатна сред.'!K165+Projekat!K165+Sheet2!K165","v":0},{"$f":"+Programska_aktivnost!L165+Sheet1!L165+'Захтев за додатна сред.'!L165+Projekat!L165+Sheet2!L165","v":0},{"$f":"+Programska_aktivnost!M165+Sheet1!M165+'Захтев за додатна сред.'!M165+Projekat!M165+Sheet2!M165","v":0},0,0,null,null,null,null,null,null,null,null,null,0]
[119,912100,"Примања од емитовања хартија од вредности, изузев акција, на иностраном финансијском тржишту",{"$f":"+Programska_aktivnost!D166+Sheet1!D166+'Захтев за додатна сред.'!D166+Projekat!D166+Sheet2!D166","v":0},{"$f":"+Programska_aktivnost!E166+Sheet1!E166+'Захтев за додатна сред.'!E166+Projekat!E166+Sheet2!E166","v":0},{"$f":"+Programska_aktivnost!F166+Sheet1!F166+'Захтев за додатна сред.'!F166+Projekat!F166+Sheet2!F166","v":0},{"$f":"+Programska_aktivnost!G166+Sheet1!G166+'Захтев за додатна сред.'!G166+Projekat!G166+Sheet2!G166","v":0},{"$f":"+Programska_aktivnost!H166+Sheet1!H166+'Захтев за додатна сред.'!H166+Projekat!H166+Sheet2!H166","v":0},{"$f":"+Programska_aktivnost!I166+Sheet1!I166+'Захтев за додатна сред.'!I166+Projekat!I166+Sheet2!I166","v":0},{"$f":"+Programska_aktivnost!J166+Sheet1!J166+'Захтев за додатна сред.'!J166+Projekat!J166+Sheet2!J166","v":0},{"$f":"+Programska_aktivnost!K166+Sheet1!K166+'Захтев за додатна сред.'!K166+Projekat!K166+Sheet2!K166","v":0},{"$f":"+Programska_aktivnost!L166+Sheet1!L166+'Захтев за додатна сред.'!L166+Projekat!L166+Sheet2!L166","v":0},{"$f":"+Programska_aktivnost!M166+Sheet1!M166+'Захтев за додатна сред.'!M166+Projekat!M166+Sheet2!M166","v":0},0,0,null,null,null,null,null,null,null,null,null,0]
[120,912200,"Примања од задуживања од иностраних држава",{"$f":"+Programska_aktivnost!D167+Sheet1!D167+'Захтев за додатна сред.'!D167+Projekat!D167+Sheet2!D167","v":0},{"$f":"+Programska_aktivnost!E167+Sheet1!E167+'Захтев за додатна сред.'!E167+Projekat!E167+Sheet2!E167","v":0},{"$f":"+Programska_aktivnost!F167+Sheet1!F167+'Захтев за додатна сред.'!F167+Projekat!F167+Sheet2!F167","v":0},{"$f":"+Programska_aktivnost!G167+Sheet1!G167+'Захтев за додатна сред.'!G167+Projekat!G167+Sheet2!G167","v":0},{"$f":"+Programska_aktivnost!H167+Sheet1!H167+'Захтев за додатна сред.'!H167+Projekat!H167+Sheet2!H167","v":0},{"$f":"+Programska_aktivnost!I167+Sheet1!I167+'Захтев за додатна сред.'!I167+Projekat!I167+Sheet2!I167","v":0},{"$f":"+Programska_aktivnost!J167+Sheet1!J167+'Захтев за додатна сред.'!J167+Projekat!J167+Sheet2!J167","v":0},{"$f":"+Programska_aktivnost!K167+Sheet1!K167+'Захтев за додатна сред.'!K167+Projekat!K167+Sheet2!K167","v":0},{"$f":"+Programska_aktivnost!L167+Sheet1!L167+'Захтев за додатна сред.'!L167+Projekat!L167+Sheet2!L167","v":0},{"$f":"+Programska_aktivnost!M167+Sheet1!M167+'Захтев за додатна сред.'!M167+Projekat!M167+Sheet2!M167","v":0},0,0,null,null,null,null,null,null,null,null,null,0]
[121,912300,"Примања од задуживања од мултилатералних институција",{"$f":"+Programska_aktivnost!D168+Sheet1!D168+'Захтев за додатна сред.'!D168+Projekat!D168+Sheet2!D168","v":0},{"$f":"+Programska_aktivnost!E168+Sheet1!E168+'Захтев за додатна сред.'!E168+Projekat!E168+Sheet2!E168","v":0},{"$f":"+Programska_aktivnost!F168+Sheet1!F168+'Захтев за додатна сред.'!F168+Projekat!F168+Sheet2!F168","v":0},{"$f":"+Programska_aktivnost!G168+Sheet1!G168+'Захтев за додатна сред.'!G168+Projekat!G168+Sheet2!G168","v":0},{"$f":"+Programska_aktivnost!H168+Sheet1!H168+'Захтев за додатна сред.'!H168+Projekat!H168+Sheet2!H168","v":0},{"$f":"+Programska_aktivnost!I168+Sheet1!I168+'Захтев за додатна сред.'!I168+Projekat!I168+Sheet2!I168","v":0},{"$f":"+Programska_aktivnost!J168+Sheet1!J168+'Захтев за додатна сред.'!J168+Projekat!J168+Sheet2!J168","v":0},{"$f":"+Programska_aktivnost!K168+Sheet1!K168+'Захтев за додатна сред.'!K168+Projekat!K168+Sheet2!K168","v":0},{"$f":"+Programska_aktivnost!L168+Sheet1!L168+'Захтев за додатна сред.'!L168+Projekat!L168+Sheet2!L168","v":0},{"$f":"+Programska_aktivnost!M168+Sheet1!M168+'Захтев за додатна сред.'!M168+Projekat!M168+Sheet2!M168","v":0},0,0,null,null,null,null,null,null,null,null,null,0]
[122,912400,"Примања од задуживања од иностраних пословних банака",{"$f":"+Programska_aktivnost!D169+Sheet1!D169+'Захтев за додатна сред.'!D169+Projekat!D169+Sheet2!D169","v":0},{"$f":"+Programska_aktivnost!E169+Sheet1!E169+'Захтев за додатна сред.'!E169+Projekat!E169+Sheet2!E169","v":0},{"$f":"+Programska_aktivnost!F169+Sheet1!F169+'Захтев за додатна сред.'!F169+Projekat!F169+Sheet2!F169","v":0},{"$f":"+Programska_aktivnost!G169+Sheet1!G169+'Захтев за додатна сред.'!G169+Projekat!G169+Sheet2!G169","v":0},{"$f":"+Programska_aktivnost!H169+Sheet1!H169+'Захтев за додатна сред.'!H169+Projekat!H169+Sheet2!H169","v":0},{"$f":"+Programska_aktivnost!I169+Sheet1!I169+'Захтев за додатна сред.'!I169+Projekat!I169+Sheet2!I169","v":0},{"$f":"+Programska_aktivnost!J169+Sheet1!J169+'Захтев за додатна сред.'!J169+Projekat!J169+Sheet2!J169","v":0},{"$f":"+Programska_aktivnost!K169+Sheet1!K169+'Захтев за додатна сред.'!K169+Projekat!K169+Sheet2!K169","v":0},{"$f":"+Programska_aktivnost!L169+Sheet1!L169+'Захтев за додатна сред.'!L169+Projekat!L169+Sheet2!L169","v":0},{"$f":"+Programska_aktivnost!M169+Sheet1!M169+'Захтев за додатна сред.'!M169+Projekat!M169+Sheet2!M169","v":0},0,0,null,null,null,null,null,null,null,null,null,0]
[123,912500,"Примања од задуживања од осталих иностраних поверилаца",{"$f":"+Programska_aktivnost!D170+Sheet1!D170+'Захтев за додатна сред.'!D170+Projekat!D170+Sheet2!D170","v":0},{"$f":"+Programska_aktivnost!E170+Sheet1!E170+'Захтев за додатна сред.'!E170+Projekat!E170+Sheet2!E170","v":0},{"$f":"+Programska_aktivnost!F170+Sheet1!F170+'Захтев за додатна сред.'!F170+Projekat!F170+Sheet2!F170","v":0},{"$f":"+Programska_aktivnost!G170+Sheet1!G170+'Захтев за додатна сред.'!G170+Projekat!G170+Sheet2!G170","v":0},{"$f":"+Programska_aktivnost!H170+Sheet1!H170+'Захтев за додатна сред.'!H170+Projekat!H170+Sheet2!H170","v":0},{"$f":"+Programska_aktivnost!I170+Sheet1!I170+'Захтев за додатна сред.'!I170+Projekat!I170+Sheet2!I170","v":0},{"$f":"+Programska_aktivnost!J170+Sheet1!J170+'Захтев за додатна сред.'!J170+Projekat!J170+Sheet2!J170","v":0},{"$f":"+Programska_aktivnost!K170+Sheet1!K170+'Захтев за додатна сред.'!K170+Projekat!K170+Sheet2!K170","v":0},{"$f":"+Programska_aktivnost!L170+Sheet1!L170+'Захтев за додатна сред.'!L170+Projekat!L170+Sheet2!L170","v":0},{"$f":"+Programska_aktivnost!M170+Sheet1!M170+'Захтев за додатна сред.'!M170+Projekat!M170+Sheet2!M170","v":0},0,0,null,null,null,null,null,null,null,null,null,0]
[124,912600,"Примања од иностраних финансијских деривата",{"$f":"+Programska_aktivnost!D171+Sheet1!D171+'Захтев за додатна сред.'!D171+Projekat!D171+Sheet2!D171","v":0},{"$f":"+Programska_aktivnost!E171+Sheet1!E171+'Захтев за додатна сред.'!E171+Projekat!E171+Sheet2!E171","v":0},{"$f":"+Programska_aktivnost!F171+Sheet1!F171+'Захтев за додатна сред.'!F171+Projekat!F171+Sheet2!F171","v":0},{"$f":"+Programska_aktivnost!G171+Sheet1!G171+'Захтев за додатна сред.'!G171+Projekat!G171+Sheet2!G171","v":0},{"$f":"+Programska_aktivnost!H171+Sheet1!H171+'Захтев за додатна сред.'!H171+Projekat!H171+Sheet2!H171","v":0},{"$f":"+Programska_aktivnost!I171+Sheet1!I171+'Захтев за додатна сред.'!I171+Projekat!I171+Sheet2!I171","v":0},{"$f":"+Programska_aktivnost!J171+Sheet1!J171+'Захтев за додатна сред.'!J171+Projekat!J171+Sheet2!J171","v":0},{"$f":"+Programska_aktivnost!K171+Sheet1!K171+'Захтев за додатна сред.'!K171+Projekat!K171+Sheet2!K171","v":0},{"$f":"+Programska_aktivnost!L171+Sheet1!L171+'Захтев за додатна сред.'!L171+Projekat!L171+Sheet2!L171","v":0},{"$f":"+Programska_aktivnost!M171+Sheet1!M171+'Захтев за додатна сред.'!M171+Projekat!M171+Sheet2!M171","v":0},0,0,null,null,null,null,null,null,null,null,null,0]
[125,912900,"Исправка спољног дуга",{"$f":"+Programska_aktivnost!D172+Sheet1!D172+'Захтев за додатна сред.'!D172+Projekat!D172+Sheet2!D172","v":0},{"$f":"+Programska_aktivnost!E172+Sheet1!E172+'Захтев за додатна сред.'!E172+Projekat!E172+Sheet2!E172","v":0},{"$f":"+Programska_aktivnost!F172+Sheet1!F172+'Захтев за додатна сред.'!F172+Projekat!F172+Sheet2!F172","v":0},{"$f":"+Programska_aktivnost!G172+Sheet1!G172+'Захтев за додатна сред.'!G172+Projekat!G172+Sheet2!G172","v":0},{"$f":"+Programska_aktivnost!H172+Sheet1!H172+'Захтев за додатна сред.'!H172+Projekat!H172+Sheet2!H172","v":0},{"$f":"+Programska_aktivnost!I172+Sheet1!I172+'Захтев за додатна сред.'!I172+Projekat!I172+Sheet2!I172","v":0},{"$f":"+Programska_aktivnost!J172+Sheet1!J172+'Захтев за додатна сред.'!J172+Projekat!J172+Sheet2!J172","v":0},{"$f":"+Programska_aktivnost!K172+Sheet1!K172+'Захтев за додатна сред.'!K172+Projekat!K172+Sheet2!K172","v":0},{"$f":"+Programska_aktivnost!L172+Sheet1!L172+'Захтев за додатна сред.'!L172+Projekat!L172+Sheet2!L172","v":0},{"$f":"+Programska_aktivnost!M172+Sheet1!M172+'Захтев за додатна сред.'!M172+Projekat!M172+Sheet2!M172","v":0},0,0,null,null,null,null,null,null,null,null,null,0]
[126,920000,"ПРИМАЊА ОД ПРОДАЈЕ ФИНАНСИЈСКЕ ИМОВИНЕ (127 + 137)",{"$f":"+Programska_aktivnost!D173+Sheet1!D173+'Захтев за додатна сред.'!D173+Projekat!D173+Sheet2!D173","v":0},{"$f":"+Programska_aktivnost!E173+Sheet1!E173+'Захтев за додатна сред.'!E173+Projekat!E173+Sheet2!E173","v":0},{"$f":"+Programska_aktivnost!F173+Sheet1!F173+'Захтев за додатна сред.'!F173+Projekat!F173+Sheet2!F173","v":0},{"$f":"+Programska_aktivnost!G173+Sheet1!G173+'Захтев за додатна сред.'!G173+Projekat!G173+Sheet2!G173","v":0},{"$f":"+Programska_aktivnost!H173+Sheet1!H173+'Захтев за додатна сред.'!H173+Projekat!H173+Sheet2!H173","v":0},{"$f":"+Programska_aktivnost!I173+Sheet1!I173+'Захтев за додатна сред.'!I173+Projekat!I173+Sheet2!I173","v":0},{"$f":"+Programska_aktivnost!J173+Sheet1!J173+'Захтев за додатна сред.'!J173+Projekat!J173+Sheet2!J173","v":0},{"$f":"+Programska_aktivnost!K173+Sheet1!K173+'Захтев за додатна сред.'!K173+Projekat!K173+Sheet2!K173","v":0},{"$f":"+Programska_aktivnost!L173+Sheet1!L173+'Захтев за додатна сред.'!L173+Projekat!L173+Sheet2!L173","v":0},{"$f":"+Programska_aktivnost!M173+Sheet1!M173+'Захтев за додатна сред.'!M173+Projekat!M173+Sheet2!M173","v":0},0,0,null,null,null,null,null,null,null,null,null,0]
[127,921000,"ПРИМАЊА ОД ПРОДАЈЕ ДОМАЋЕ ФИНАНСИЈСКЕ ИМОВИНЕ (од 128 до 136) ",{"$f":"+Programska_aktivnost!D174+Sheet1!D174+'Захтев за додатна сред.'!D174+Projekat!D174+Sheet2!D174","v":0},{"$f":"+Programska_aktivnost!E174+Sheet1!E174+'Захтев за додатна сред.'!E174+Projekat!E174+Sheet2!E174","v":0},{"$f":"+Programska_aktivnost!F174+Sheet1!F174+'Захтев за додатна сред.'!F174+Projekat!F174+Sheet2!F174","v":0},{"$f":"+Programska_aktivnost!G174+Sheet1!G174+'Захтев за додатна сред.'!G174+Projekat!G174+Sheet2!G174","v":0},{"$f":"+Programska_aktivnost!H174+Sheet1!H174+'Захтев за додатна сред.'!H174+Projekat!H174+Sheet2!H174","v":0},{"$f":"+Programska_aktivnost!I174+Sheet1!I174+'Захтев за додатна сред.'!I174+Projekat!I174+Sheet2!I174","v":0},{"$f":"+Programska_aktivnost!J174+Sheet1!J174+'Захтев за додатна сред.'!J174+Projekat!J174+Sheet2!J174","v":0},{"$f":"+Programska_aktivnost!K174+Sheet1!K174+'Захтев за додатна сред.'!K174+Projekat!K174+Sheet2!K174","v":0},{"$f":"+Programska_aktivnost!L174+Sheet1!L174+'Захтев за додатна сред.'!L174+Projekat!L174+Sheet2!L174","v":0},{"$f":"+Programska_aktivnost!M174+Sheet1!M174+'Захтев за додатна сред.'!M174+Projekat!M174+Sheet2!M174","v":0},0,0,null,null,null,null,null,null,null,null,null,0]
[128,921100,"Примања од продаје домаћих хартија од вредности, изузев акција",{"$f":"+Programska_aktivnost!D175+Sheet1!D175+'Захтев за додатна сред.'!D175+Projekat!D175+Sheet2!D175","v":0},{"$f":"+Programska_aktivnost!E175+Sheet1!E175+'Захтев за додатна сред.'!E175+Projekat!E175+Sheet2!E175","v":0},{"$f":"+Programska_aktivnost!F175+Sheet1!F175+'Захтев за додатна сред.'!F175+Projekat!F175+Sheet2!F175","v":0},{"$f":"+Programska_aktivnost!G175+Sheet1!G175+'Захтев за додатна сред.'!G175+Projekat!G175+Sheet2!G175","v":0},{"$f":"+Programska_aktivnost!H175+Sheet1!H175+'Захтев за додатна сред.'!H175+Projekat!H175+Sheet2!H175","v":0},{"$f":"+Programska_aktivnost!I175+Sheet1!I175+'Захтев за додатна сред.'!I175+Projekat!I175+Sheet2!I175","v":0},{"$f":"+Programska_aktivnost!J175+Sheet1!J175+'Захтев за додатна сред.'!J175+Projekat!J175+Sheet2!J175","v":0},{"$f":"+Programska_aktivnost!K175+Sheet1!K175+'Захтев за додатна сред.'!K175+Projekat!K175+Sheet2!K175","v":0},{"$f":"+Programska_aktivnost!L175+Sheet1!L175+'Захтев за додатна сред.'!L175+Projekat!L175+Sheet2!L175","v":0},{"$f":"+Programska_aktivnost!M175+Sheet1!M175+'Захтев за додатна сред.'!M175+Projekat!M175+Sheet2!M175","v":0},0,0,null,null,null,null,null,null,null,null,null,0]
[129,921200,"Примања од отплате кредита датих осталим нивоима власти",{"$f":"+Programska_aktivnost!D176+Sheet1!D176+'Захтев за додатна сред.'!D176+Projekat!D176+Sheet2!D176","v":0},{"$f":"+Programska_aktivnost!E176+Sheet1!E176+'Захтев за додатна сред.'!E176+Projekat!E176+Sheet2!E176","v":0},{"$f":"+Programska_aktivnost!F176+Sheet1!F176+'Захтев за додатна сред.'!F176+Projekat!F176+Sheet2!F176","v":0},{"$f":"+Programska_aktivnost!G176+Sheet1!G176+'Захтев за додатна сред.'!G176+Projekat!G176+Sheet2!G176","v":0},{"$f":"+Programska_aktivnost!H176+Sheet1!H176+'Захтев за додатна сред.'!H176+Projekat!H176+Sheet2!H176","v":0},{"$f":"+Programska_aktivnost!I176+Sheet1!I176+'Захтев за додатна сред.'!I176+Projekat!I176+Sheet2!I176","v":0},{"$f":"+Programska_aktivnost!J176+Sheet1!J176+'Захтев за додатна сред.'!J176+Projekat!J176+Sheet2!J176","v":0},{"$f":"+Programska_aktivnost!K176+Sheet1!K176+'Захтев за додатна сред.'!K176+Projekat!K176+Sheet2!K176","v":0},{"$f":"+Programska_aktivnost!L176+Sheet1!L176+'Захтев за додатна сред.'!L176+Projekat!L176+Sheet2!L176","v":0},{"$f":"+Programska_aktivnost!M176+Sheet1!M176+'Захтев за додатна сред.'!M176+Projekat!M176+Sheet2!M176","v":0},0,0,null,null,null,null,null,null,null,null,null,0]
[130,921300,"Примања од отплате кредита датих домаћим јавним финансијским институцијама",{"$f":"+Programska_aktivnost!D177+Sheet1!D177+'Захтев за додатна сред.'!D177+Projekat!D177+Sheet2!D177","v":0},{"$f":"+Programska_aktivnost!E177+Sheet1!E177+'Захтев за додатна сред.'!E177+Projekat!E177+Sheet2!E177","v":0},{"$f":"+Programska_aktivnost!F177+Sheet1!F177+'Захтев за додатна сред.'!F177+Projekat!F177+Sheet2!F177","v":0},{"$f":"+Programska_aktivnost!G177+Sheet1!G177+'Захтев за додатна сред.'!G177+Projekat!G177+Sheet2!G177","v":0},{"$f":"+Programska_aktivnost!H177+Sheet1!H177+'Захтев за додатна сред.'!H177+Projekat!H177+Sheet2!H177","v":0},{"$f":"+Programska_aktivnost!I177+Sheet1!I177+'Захтев за додатна сред.'!I177+Projekat!I177+Sheet2!I177","v":0},{"$f":"+Programska_aktivnost!J177+Sheet1!J177+'Захтев за додатна сред.'!J177+Projekat!J177+Sheet2!J177","v":0},{"$f":"+Programska_aktivnost!K177+Sheet1!K177+'Захтев за додатна сред.'!K177+Projekat!K177+Sheet2!K177","v":0},{"$f":"+Programska_aktivnost!L177+Sheet1!L177+'Захтев за додатна сред.'!L177+Projekat!L177+Sheet2!L177","v":0},{"$f":"+Programska_aktivnost!M177+Sheet1!M177+'Захтев за додатна сред.'!M177+Projekat!M177+Sheet2!M177","v":0},0,0,null,null,null,null,null,null,null,null,null,0]
[131,921400,"Примања од отплате кредита домаћим пословним банкама",{"$f":"+Programska_aktivnost!D178+Sheet1!D178+'Захтев за додатна сред.'!D178+Projekat!D178+Sheet2!D178","v":0},{"$f":"+Programska_aktivnost!E178+Sheet1!E178+'Захтев за додатна сред.'!E178+Projekat!E178+Sheet2!E178","v":0},{"$f":"+Programska_aktivnost!F178+Sheet1!F178+'Захтев за додатна сред.'!F178+Projekat!F178+Sheet2!F178","v":0},{"$f":"+Programska_aktivnost!G178+Sheet1!G178+'Захтев за додатна сред.'!G178+Projekat!G178+Sheet2!G178","v":0},{"$f":"+Programska_aktivnost!H178+Sheet1!H178+'Захтев за додатна сред.'!H178+Projekat!H178+Sheet2!H178","v":0},{"$f":"+Programska_aktivnost!I178+Sheet1!I178+'Захтев за додатна сред.'!I178+Projekat!I178+Sheet2!I178","v":0},{"$f":"+Programska_aktivnost!J178+Sheet1!J178+'Захтев за додатна сред.'!J178+Projekat!J178+Sheet2!J178","v":0},{"$f":"+Programska_aktivnost!K178+Sheet1!K178+'Захтев за додатна сред.'!K178+Projekat!K178+Sheet2!K178","v":0},{"$f":"+Programska_aktivnost!L178+Sheet1!L178+'Захтев за додатна сред.'!L178+Projekat!L178+Sheet2!L178","v":0},{"$f":"+Programska_aktivnost!M178+Sheet1!M178+'Захтев за додатна сред.'!M178+Projekat!M178+Sheet2!M178","v":0},0,0,null,null,null,null,null,null,null,null,null,0]
[132,921500,"Примања од отплате кредита датих домаћим јавним нефинансијским институцијама",{"$f":"+Programska_aktivnost!D179+Sheet1!D179+'Захтев за додатна сред.'!D179+Projekat!D179+Sheet2!D179","v":0},{"$f":"+Programska_aktivnost!E179+Sheet1!E179+'Захтев за додатна сред.'!E179+Projekat!E179+Sheet2!E179","v":0},{"$f":"+Programska_aktivnost!F179+Sheet1!F179+'Захтев за додатна сред.'!F179+Projekat!F179+Sheet2!F179","v":0},{"$f":"+Programska_aktivnost!G179+Sheet1!G179+'Захтев за додатна сред.'!G179+Projekat!G179+Sheet2!G179","v":0},{"$f":"+Programska_aktivnost!H179+Sheet1!H179+'Захтев за додатна сред.'!H179+Projekat!H179+Sheet2!H179","v":0},{"$f":"+Programska_aktivnost!I179+Sheet1!I179+'Захтев за додатна сред.'!I179+Projekat!I179+Sheet2!I179","v":0},{"$f":"+Programska_aktivnost!J179+Sheet1!J179+'Захтев за додатна сред.'!J179+Projekat!J179+Sheet2!J179","v":0},{"$f":"+Programska_aktivnost!K179+Sheet1!K179+'Захтев за додатна сред.'!K179+Projekat!K179+Sheet2!K179","v":0},{"$f":"+Programska_aktivnost!L179+Sheet1!L179+'Захтев за додатна сред.'!L179+Projekat!L179+Sheet2!L179","v":0},{"$f":"+Programska_aktivnost!M179+Sheet1!M179+'Захтев за додатна сред.'!M179+Projekat!M179+Sheet2!M179","v":0},0,0,null,null,null,null,null,null,null,null,null,0]
[133,921600,"Примања од отплате кредита датих физичким лицима и домаћинствима у земљи",{"$f":"+Programska_aktivnost!D180+Sheet1!D180+'Захтев за додатна сред.'!D180+Projekat!D180+Sheet2!D180","v":0},{"$f":"+Programska_aktivnost!E180+Sheet1!E180+'Захтев за додатна сред.'!E180+Projekat!E180+Sheet2!E180","v":0},{"$f":"+Programska_aktivnost!F180+Sheet1!F180+'Захтев за додатна сред.'!F180+Projekat!F180+Sheet2!F180","v":0},{"$f":"+Programska_aktivnost!G180+Sheet1!G180+'Захтев за додатна сред.'!G180+Projekat!G180+Sheet2!G180","v":0},{"$f":"+Programska_aktivnost!H180+Sheet1!H180+'Захтев за додатна сред.'!H180+Projekat!H180+Sheet2!H180","v":0},{"$f":"+Programska_aktivnost!I180+Sheet1!I180+'Захтев за додатна сред.'!I180+Projekat!I180+Sheet2!I180","v":0},{"$f":"+Programska_aktivnost!J180+Sheet1!J180+'Захтев за додатна сред.'!J180+Projekat!J180+Sheet2!J180","v":0},{"$f":"+Programska_aktivnost!K180+Sheet1!K180+'Захтев за додатна сред.'!K180+Projekat!K180+Sheet2!K180","v":0},{"$f":"+Programska_aktivnost!L180+Sheet1!L180+'Захтев за додатна сред.'!L180+Projekat!L180+Sheet2!L180","v":0},{"$f":"+Programska_aktivnost!M180+Sheet1!M180+'Захтев за додатна сред.'!M180+Projekat!M180+Sheet2!M180","v":0},0,0,null,null,null,null,null,null,null,null,null,0]
[134,921700,"Примања од отплате кредита датих удружењима грађана у земљи",{"$f":"+Programska_aktivnost!D181+Sheet1!D181+'Захтев за додатна сред.'!D181+Projekat!D181+Sheet2!D181","v":0},{"$f":"+Programska_aktivnost!E181+Sheet1!E181+'Захтев за додатна сред.'!E181+Projekat!E181+Sheet2!E181","v":0},{"$f":"+Programska_aktivnost!F181+Sheet1!F181+'Захтев за додатна сред.'!F181+Projekat!F181+Sheet2!F181","v":0},{"$f":"+Programska_aktivnost!G181+Sheet1!G181+'Захтев за додатна сред.'!G181+Projekat!G181+Sheet2!G181","v":0},{"$f":"+Programska_aktivnost!H181+Sheet1!H181+'Захтев за додатна сред.'!H181+Projekat!H181+Sheet2!H181","v":0},{"$f":"+Programska_aktivnost!I181+Sheet1!I181+'Захтев за додатна сред.'!I181+Projekat!I181+Sheet2!I181","v":0},{"$f":"+Programska_aktivnost!J181+Sheet1!J181+'Захтев за додатна сред.'!J181+Projekat!J181+Sheet2!J181","v":0},{"$f":"+Programska_aktivnost!K181+Sheet1!K181+'Захтев за додатна сред.'!K181+Projekat!K181+Sheet2!K181","v":0},{"$f":"+Programska_aktivnost!L181+Sheet1!L181+'Захтев за додатна сред.'!L181+Projekat!L181+Sheet2!L181","v":0},{"$f":"+Programska_aktivnost!M181+Sheet1!M181+'Захтев за додатна сред.'!M181+Projekat!M181+Sheet2!M181","v":0},0,0,null,null,null,null,null,null,null,null,null,0]
[135,921800,"Примања од отплате кредита датих нефинансијским приватним предузећима у земљи",{"$f":"+Programska_aktivnost!D182+Sheet1!D182+'Захтев за додатна сред.'!D182+Projekat!D182+Sheet2!D182","v":0},{"$f":"+Programska_aktivnost!E182+Sheet1!E182+'Захтев за додатна сред.'!E182+Projekat!E182+Sheet2!E182","v":0},{"$f":"+Programska_aktivnost!F182+Sheet1!F182+'Захтев за додатна сред.'!F182+Projekat!F182+Sheet2!F182","v":0},{"$f":"+Programska_aktivnost!G182+Sheet1!G182+'Захтев за додатна сред.'!G182+Projekat!G182+Sheet2!G182","v":0},{"$f":"+Programska_aktivnost!H182+Sheet1!H182+'Захтев за додатна сред.'!H182+Projekat!H182+Sheet2!H182","v":0},{"$f":"+Programska_aktivnost!I182+Sheet1!I182+'Захтев за додатна сред.'!I182+Projekat!I182+Sheet2!I182","v":0},{"$f":"+Programska_aktivnost!J182+Sheet1!J182+'Захтев за додатна сред.'!J182+Projekat!J182+Sheet2!J182","v":0},{"$f":"+Programska_aktivnost!K182+Sheet1!K182+'Захтев за додатна сред.'!K182+Projekat!K182+Sheet2!K182","v":0},{"$f":"+Programska_aktivnost!L182+Sheet1!L182+'Захтев за додатна сред.'!L182+Projekat!L182+Sheet2!L182","v":0},{"$f":"+Programska_aktivnost!M182+Sheet1!M182+'Захтев за додатна сред.'!M182+Projekat!M182+Sheet2!M182","v":0},0,0,null,null,null,null,null,null,null,null,null,0]
[136,921900,"Примања од продаје домаћих акција и осталог капитала",{"$f":"+Programska_aktivnost!D183+Sheet1!D183+'Захтев за додатна сред.'!D183+Projekat!D183+Sheet2!D183","v":0},{"$f":"+Programska_aktivnost!E183+Sheet1!E183+'Захтев за додатна сред.'!E183+Projekat!E183+Sheet2!E183","v":0},{"$f":"+Programska_aktivnost!F183+Sheet1!F183+'Захтев за додатна сред.'!F183+Projekat!F183+Sheet2!F183","v":0},{"$f":"+Programska_aktivnost!G183+Sheet1!G183+'Захтев за додатна сред.'!G183+Projekat!G183+Sheet2!G183","v":0},{"$f":"+Programska_aktivnost!H183+Sheet1!H183+'Захтев за додатна сред.'!H183+Projekat!H183+Sheet2!H183","v":0},{"$f":"+Programska_aktivnost!I183+Sheet1!I183+'Захтев за додатна сред.'!I183+Projekat!I183+Sheet2!I183","v":0},{"$f":"+Programska_aktivnost!J183+Sheet1!J183+'Захтев за додатна сред.'!J183+Projekat!J183+Sheet2!J183","v":0},{"$f":"+Programska_aktivnost!K183+Sheet1!K183+'Захтев за додатна сред.'!K183+Projekat!K183+Sheet2!K183","v":0},{"$f":"+Programska_aktivnost!L183+Sheet1!L183+'Захтев за додатна сред.'!L183+Projekat!L183+Sheet2!L183","v":0},{"$f":"+Programska_aktivnost!M183+Sheet1!M183+'Захтев за додатна сред.'!M183+Projekat!M183+Sheet2!M183","v":0},0,0,null,null,null,null,null,null,null,null,null,0]
[{"$f":"A183+1","v":137},922000,"ПРИМАЊА ОД ПРОДАЈЕ СТРАНЕ ФИНАНСИЈСКЕ ИМОВИНЕ (од 138 до 145)",{"$f":"+Programska_aktivnost!D184+Sheet1!D184+'Захтев за додатна сред.'!D184+Projekat!D184+Sheet2!D184","v":0},{"$f":"+Programska_aktivnost!E184+Sheet1!E184+'Захтев за додатна сред.'!E184+Projekat!E184+Sheet2!E184","v":0},{"$f":"+Programska_aktivnost!F184+Sheet1!F184+'Захтев за додатна сред.'!F184+Projekat!F184+Sheet2!F184","v":0},{"$f":"+Programska_aktivnost!G184+Sheet1!G184+'Захтев за додатна сред.'!G184+Projekat!G184+Sheet2!G184","v":0},{"$f":"+Programska_aktivnost!H184+Sheet1!H184+'Захтев за додатна сред.'!H184+Projekat!H184+Sheet2!H184","v":0},{"$f":"+Programska_aktivnost!I184+Sheet1!I184+'Захтев за додатна сред.'!I184+Projekat!I184+Sheet2!I184","v":0},{"$f":"+Programska_aktivnost!J184+Sheet1!J184+'Захтев за додатна сред.'!J184+Projekat!J184+Sheet2!J184","v":0},{"$f":"+Programska_aktivnost!K184+Sheet1!K184+'Захтев за додатна сред.'!K184+Projekat!K184+Sheet2!K184","v":0},{"$f":"+Programska_aktivnost!L184+Sheet1!L184+'Захтев за додатна сред.'!L184+Projekat!L184+Sheet2!L184","v":0},{"$f":"+Programska_aktivnost!M184+Sheet1!M184+'Захтев за додатна сред.'!M184+Projekat!M184+Sheet2!M184","v":0},0,0,null,null,null,null,null,null,null,null,null,{"$f":"SUM(D184:O184)","v":0}]
[138,922100,"Примања од продаје страних хартија од вредности, изузев акција",{"$f":"+Programska_aktivnost!D185+Sheet1!D185+'Захтев за додатна сред.'!D185+Projekat!D185+Sheet2!D185","v":0},{"$f":"+Programska_aktivnost!E185+Sheet1!E185+'Захтев за додатна сред.'!E185+Projekat!E185+Sheet2!E185","v":0},{"$f":"+Programska_aktivnost!F185+Sheet1!F185+'Захтев за додатна сред.'!F185+Projekat!F185+Sheet2!F185","v":0},{"$f":"+Programska_aktivnost!G185+Sheet1!G185+'Захтев за додатна сред.'!G185+Projekat!G185+Sheet2!G185","v":0},{"$f":"+Programska_aktivnost!H185+Sheet1!H185+'Захтев за додатна сред.'!H185+Projekat!H185+Sheet2!H185","v":0},{"$f":"+Programska_aktivnost!I185+Sheet1!I185+'Захтев за додатна сред.'!I185+Projekat!I185+Sheet2!I185","v":0},{"$f":"+Programska_aktivnost!J185+Sheet1!J185+'Захтев за додатна сред.'!J185+Projekat!J185+Sheet2!J185","v":0},{"$f":"+Programska_aktivnost!K185+Sheet1!K185+'Захтев за додатна сред.'!K185+Projekat!K185+Sheet2!K185","v":0},{"$f":"+Programska_aktivnost!L185+Sheet1!L185+'Захтев за додатна сред.'!L185+Projekat!L185+Sheet2!L185","v":0},{"$f":"+Programska_aktivnost!M185+Sheet1!M185+'Захтев за додатна сред.'!M185+Projekat!M185+Sheet2!M185","v":0},0,0,null,null,null,null,null,null,null,null,null,0]
[139,922200,"Примања од отплате кредита датих страним владама",{"$f":"+Programska_aktivnost!D186+Sheet1!D186+'Захтев за додатна сред.'!D186+Projekat!D186+Sheet2!D186","v":0},{"$f":"+Programska_aktivnost!E186+Sheet1!E186+'Захтев за додатна сред.'!E186+Projekat!E186+Sheet2!E186","v":0},{"$f":"+Programska_aktivnost!F186+Sheet1!F186+'Захтев за додатна сред.'!F186+Projekat!F186+Sheet2!F186","v":0},{"$f":"+Programska_aktivnost!G186+Sheet1!G186+'Захтев за додатна сред.'!G186+Projekat!G186+Sheet2!G186","v":0},{"$f":"+Programska_aktivnost!H186+Sheet1!H186+'Захтев за додатна сред.'!H186+Projekat!H186+Sheet2!H186","v":0},{"$f":"+Programska_aktivnost!I186+Sheet1!I186+'Захтев за додатна сред.'!I186+Projekat!I186+Sheet2!I186","v":0},{"$f":"+Programska_aktivnost!J186+Sheet1!J186+'Захтев за додатна сред.'!J186+Projekat!J186+Sheet2!J186","v":0},{"$f":"+Programska_aktivnost!K186+Sheet1!K186+'Захтев за додатна сред.'!K186+Projekat!K186+Sheet2!K186","v":0},{"$f":"+Programska_aktivnost!L186+Sheet1!L186+'Захтев за додатна сред.'!L186+Projekat!L186+Sheet2!L186","v":0},{"$f":"+Programska_aktivnost!M186+Sheet1!M186+'Захтев за додатна сред.'!M186+Projekat!M186+Sheet2!M186","v":0},0,0,null,null,null,null,null,null,null,null,null,0]
[140,922300,"Примања од отплате кредита датих међународним организацијама",{"$f":"+Programska_aktivnost!D187+Sheet1!D187+'Захтев за додатна сред.'!D187+Projekat!D187+Sheet2!D187","v":0},{"$f":"+Programska_aktivnost!E187+Sheet1!E187+'Захтев за додатна сред.'!E187+Projekat!E187+Sheet2!E187","v":0},{"$f":"+Programska_aktivnost!F187+Sheet1!F187+'Захтев за додатна сред.'!F187+Projekat!F187+Sheet2!F187","v":0},{"$f":"+Programska_aktivnost!G187+Sheet1!G187+'Захтев за додатна сред.'!G187+Projekat!G187+Sheet2!G187","v":0},{"$f":"+Programska_aktivnost!H187+Sheet1!H187+'Захтев за додатна сред.'!H187+Projekat!H187+Sheet2!H187","v":0},{"$f":"+Programska_aktivnost!I187+Sheet1!I187+'Захтев за додатна сред.'!I187+Projekat!I187+Sheet2!I187","v":0},{"$f":"+Programska_aktivnost!J187+Sheet1!J187+'Захтев за додатна сред.'!J187+Projekat!J187+Sheet2!J187","v":0},{"$f":"+Programska_aktivnost!K187+Sheet1!K187+'Захтев за додатна сред.'!K187+Projekat!K187+Sheet2!K187","v":0},{"$f":"+Programska_aktivnost!L187+Sheet1!L187+'Захтев за додатна сред.'!L187+Projekat!L187+Sheet2!L187","v":0},{"$f":"+Programska_aktivnost!M187+Sheet1!M187+'Захтев за додатна сред.'!M187+Projekat!M187+Sheet2!M187","v":0},0,0,null,null,null,null,null,null,null,null,null,0]
[141,922400,"Примања од отплате кредита датих страним пословним банкама",{"$f":"+Programska_aktivnost!D188+Sheet1!D188+'Захтев за додатна сред.'!D188+Projekat!D188+Sheet2!D188","v":0},{"$f":"+Programska_aktivnost!E188+Sheet1!E188+'Захтев за додатна сред.'!E188+Projekat!E188+Sheet2!E188","v":0},{"$f":"+Programska_aktivnost!F188+Sheet1!F188+'Захтев за додатна сред.'!F188+Projekat!F188+Sheet2!F188","v":0},{"$f":"+Programska_aktivnost!G188+Sheet1!G188+'Захтев за додатна сред.'!G188+Projekat!G188+Sheet2!G188","v":0},{"$f":"+Programska_aktivnost!H188+Sheet1!H188+'Захтев за додатна сред.'!H188+Projekat!H188+Sheet2!H188","v":0},{"$f":"+Programska_aktivnost!I188+Sheet1!I188+'Захтев за додатна сред.'!I188+Projekat!I188+Sheet2!I188","v":0},{"$f":"+Programska_aktivnost!J188+Sheet1!J188+'Захтев за додатна сред.'!J188+Projekat!J188+Sheet2!J188","v":0},{"$f":"+Programska_aktivnost!K188+Sheet1!K188+'Захтев за додатна сред.'!K188+Projekat!K188+Sheet2!K188","v":0},{"$f":"+Programska_aktivnost!L188+Sheet1!L188+'Захтев за додатна сред.'!L188+Projekat!L188+Sheet2!L188","v":0},{"$f":"+Programska_aktivnost!M188+Sheet1!M188+'Захтев за додатна сред.'!M188+Projekat!M188+Sheet2!M188","v":0},0,0,null,null,null,null,null,null,null,null,null,0]
[142,922500,"Примања од отплате кредита датих страним нефинансијским институцијама",{"$f":"+Programska_aktivnost!D189+Sheet1!D189+'Захтев за додатна сред.'!D189+Projekat!D189+Sheet2!D189","v":0},{"$f":"+Programska_aktivnost!E189+Sheet1!E189+'Захтев за додатна сред.'!E189+Projekat!E189+Sheet2!E189","v":0},{"$f":"+Programska_aktivnost!F189+Sheet1!F189+'Захтев за додатна сред.'!F189+Projekat!F189+Sheet2!F189","v":0},{"$f":"+Programska_aktivnost!G189+Sheet1!G189+'Захтев за додатна сред.'!G189+Projekat!G189+Sheet2!G189","v":0},{"$f":"+Programska_aktivnost!H189+Sheet1!H189+'Захтев за додатна сред.'!H189+Projekat!H189+Sheet2!H189","v":0},{"$f":"+Programska_aktivnost!I189+Sheet1!I189+'Захтев за додатна сред.'!I189+Projekat!I189+Sheet2!I189","v":0},{"$f":"+Programska_aktivnost!J189+Sheet1!J189+'Захтев за додатна сред.'!J189+Projekat!J189+Sheet2!J189","v":0},{"$f":"+Programska_aktivnost!K189+Sheet1!K189+'Захтев за додатна сред.'!K189+Projekat!K189+Sheet2!K189","v":0},{"$f":"+Programska_aktivnost!L189+Sheet1!L189+'Захтев за додатна сред.'!L189+Projekat!L189+Sheet2!L189","v":0},{"$f":"+Programska_aktivnost!M189+Sheet1!M189+'Захтев за додатна сред.'!M189+Projekat!M189+Sheet2!M189","v":0},0,0,null,null,null,null,null,null,null,null,null,0]
[143,922600,"Примања од отплате кредита датих страним невладиним организацијама",{"$f":"+Programska_aktivnost!D190+Sheet1!D190+'Захтев за додатна сред.'!D190+Projekat!D190+Sheet2!D190","v":0},{"$f":"+Programska_aktivnost!E190+Sheet1!E190+'Захтев за додатна сред.'!E190+Projekat!E190+Sheet2!E190","v":0},{"$f":"+Programska_aktivnost!F190+Sheet1!F190+'Захтев за додатна сред.'!F190+Projekat!F190+Sheet2!F190","v":0},{"$f":"+Programska_aktivnost!G190+Sheet1!G190+'Захтев за додатна сред.'!G190+Projekat!G190+Sheet2!G190","v":0},{"$f":"+Programska_aktivnost!H190+Sheet1!H190+'Захтев за додатна сред.'!H190+Projekat!H190+Sheet2!H190","v":0},{"$f":"+Programska_aktivnost!I190+Sheet1!I190+'Захтев за додатна сред.'!I190+Projekat!I190+Sheet2!I190","v":0},{"$f":"+Programska_aktivnost!J190+Sheet1!J190+'Захтев за додатна сред.'!J190+Projekat!J190+Sheet2!J190","v":0},{"$f":"+Programska_aktivnost!K190+Sheet1!K190+'Захтев за додатна сред.'!K190+Projekat!K190+Sheet2!K190","v":0},{"$f":"+Programska_aktivnost!L190+Sheet1!L190+'Захтев за додатна сред.'!L190+Projekat!L190+Sheet2!L190","v":0},{"$f":"+Programska_aktivnost!M190+Sheet1!M190+'Захтев за додатна сред.'!M190+Projekat!M190+Sheet2!M190","v":0},0,0,null,null,null,null,null,null,null,null,null,0]
[144,922700,"Примања од продаје страних акција и осталог капитала",{"$f":"+Programska_aktivnost!D191+Sheet1!D191+'Захтев за додатна сред.'!D191+Projekat!D191+Sheet2!D191","v":0},{"$f":"+Programska_aktivnost!E191+Sheet1!E191+'Захтев за додатна сред.'!E191+Projekat!E191+Sheet2!E191","v":0},{"$f":"+Programska_aktivnost!F191+Sheet1!F191+'Захтев за додатна сред.'!F191+Projekat!F191+Sheet2!F191","v":0},{"$f":"+Programska_aktivnost!G191+Sheet1!G191+'Захтев за додатна сред.'!G191+Projekat!G191+Sheet2!G191","v":0},{"$f":"+Programska_aktivnost!H191+Sheet1!H191+'Захтев за додатна сред.'!H191+Projekat!H191+Sheet2!H191","v":0},{"$f":"+Programska_aktivnost!I191+Sheet1!I191+'Захтев за додатна сред.'!I191+Projekat!I191+Sheet2!I191","v":0},{"$f":"+Programska_aktivnost!J191+Sheet1!J191+'Захтев за додатна сред.'!J191+Projekat!J191+Sheet2!J191","v":0},{"$f":"+Programska_aktivnost!K191+Sheet1!K191+'Захтев за додатна сред.'!K191+Projekat!K191+Sheet2!K191","v":0},{"$f":"+Programska_aktivnost!L191+Sheet1!L191+'Захтев за додатна сред.'!L191+Projekat!L191+Sheet2!L191","v":0},{"$f":"+Programska_aktivnost!M191+Sheet1!M191+'Захтев за додатна сред.'!M191+Projekat!M191+Sheet2!M191","v":0},0,0,null,null,null,null,null,null,null,null,null,0]
[145,922800,"Примања од продаје стране валуте",{"$f":"+Programska_aktivnost!D192+Sheet1!D192+'Захтев за додатна сред.'!D192+Projekat!D192+Sheet2!D192","v":0},{"$f":"+Programska_aktivnost!E192+Sheet1!E192+'Захтев за додатна сред.'!E192+Projekat!E192+Sheet2!E192","v":0},{"$f":"+Programska_aktivnost!F192+Sheet1!F192+'Захтев за додатна сред.'!F192+Projekat!F192+Sheet2!F192","v":0},{"$f":"+Programska_aktivnost!G192+Sheet1!G192+'Захтев за додатна сред.'!G192+Projekat!G192+Sheet2!G192","v":0},{"$f":"+Programska_aktivnost!H192+Sheet1!H192+'Захтев за додатна сред.'!H192+Projekat!H192+Sheet2!H192","v":0},{"$f":"+Programska_aktivnost!I192+Sheet1!I192+'Захтев за додатна сред.'!I192+Projekat!I192+Sheet2!I192","v":0},{"$f":"+Programska_aktivnost!J192+Sheet1!J192+'Захтев за додатна сред.'!J192+Projekat!J192+Sheet2!J192","v":0},{"$f":"+Programska_aktivnost!K192+Sheet1!K192+'Захтев за додатна сред.'!K192+Projekat!K192+Sheet2!K192","v":0},{"$f":"+Programska_aktivnost!L192+Sheet1!L192+'Захтев за додатна сред.'!L192+Projekat!L192+Sheet2!L192","v":0},{"$f":"+Programska_aktivnost!M192+Sheet1!M192+'Захтев за додатна сред.'!M192+Projekat!M192+Sheet2!M192","v":0},0,0,null,null,null,null,null,null,null,null,null,0]
[146,null,"УКУПНИ ПРИХОДИ, ПРИМАЊА И ПРЕНЕТА СРЕДСТВА ИЗ ПРЕТХОДНЕ ГОДИНЕ (1 + 8 + 81 + 106)",{"$f":"+Programska_aktivnost!D193+Sheet1!D193+'Захтев за додатна сред.'!D193+Projekat!D193+Sheet2!D193","v":151754000},{"$f":"+Programska_aktivnost!E193+Sheet1!E193+'Захтев за додатна сред.'!E193+Projekat!E193+Sheet2!E193","v":12343000},{"$f":"+Programska_aktivnost!F193+Sheet1!F193+'Захтев за додатна сред.'!F193+Projekat!F193+Sheet2!F193","v":170977000},{"$f":"+Programska_aktivnost!G193+Sheet1!G193+'Захтев за додатна сред.'!G193+Projekat!G193+Sheet2!G193","v":12368000},{"$f":"+Programska_aktivnost!H193+Sheet1!H193+'Захтев за додатна сред.'!H193+Projekat!H193+Sheet2!H193","v":202171000},{"$f":"+Programska_aktivnost!I193+Sheet1!I193+'Захтев за додатна сред.'!I193+Projekat!I193+Sheet2!I193","v":2600000},{"$f":"+Programska_aktivnost!J193+Sheet1!J193+'Захтев за додатна сред.'!J193+Projekat!J193+Sheet2!J193","v":180321000},{"$f":"+Programska_aktivnost!K193+Sheet1!K193+'Захтев за додатна сред.'!K193+Projekat!K193+Sheet2!K193","v":2800000},{"$f":"+Programska_aktivnost!L193+Sheet1!L193+'Захтев за додатна сред.'!L193+Projekat!L193+Sheet2!L193","v":186833000},{"$f":"+Programska_aktivnost!M193+Sheet1!M193+'Захтев за додатна сред.'!M193+Projekat!M193+Sheet2!M193","v":2900000},{"$f":"N55+N128+N153+N48","v":569325000},{"$f":"O55+O128+O153+O48","v":8300000},null,null,null,null,null,null,null,null,null,1]
[147,400000,"ТЕКУЋИ РАСХОДИ (148+166+211+226+250+263+279+294)",{"$f":"+Programska_aktivnost!D194+Sheet1!D194+'Захтев за додатна сред.'!D194+Projekat!D194+Sheet2!D194","v":150800000},{"$f":"+Programska_aktivnost!E194+Sheet1!E194+'Захтев за додатна сред.'!E194+Projekat!E194+Sheet2!E194","v":12343000},{"$f":"+Programska_aktivnost!F194+Sheet1!F194+'Захтев за додатна сред.'!F194+Projekat!F194+Sheet2!F194","v":168277000},{"$f":"+Programska_aktivnost!G194+Sheet1!G194+'Захтев за додатна сред.'!G194+Projekat!G194+Sheet2!G194","v":12368000},{"$f":"+Programska_aktivnost!H194+Sheet1!H194+'Захтев за додатна сред.'!H194+Projekat!H194+Sheet2!H194","v":196812000},{"$f":"+Programska_aktivnost!I194+Sheet1!I194+'Захтев за додатна сред.'!I194+Projekat!I194+Sheet2!I194","v":2600000},{"$f":"+Programska_aktivnost!J194+Sheet1!J194+'Захтев за додатна сред.'!J194+Projekat!J194+Sheet2!J194","v":178821000},{"$f":"+Programska_aktivnost!K194+Sheet1!K194+'Захтев за додатна сред.'!K194+Projekat!K194+Sheet2!K194","v":2800000},{"$f":"+Programska_aktivnost!L194+Sheet1!L194+'Захтев за додатна сред.'!L194+Projekat!L194+Sheet2!L194","v":179315000},{"$f":"+Programska_aktivnost!M194+Sheet1!M194+'Захтев за додатна сред.'!M194+Projekat!M194+Sheet2!M194","v":2900000},554948000,8300000,null,null,null,null,null,null,null,null,null,1470284000]
[148,410000,"РАСХОДИ ЗА ЗАПОСЛЕНЕ (149+151+155+157+162+164)",{"$f":"+Programska_aktivnost!D195+Sheet1!D195+'Захтев за додатна сред.'!D195+Projekat!D195+Sheet2!D195","v":110901000},{"$f":"+Programska_aktivnost!E195+Sheet1!E195+'Захтев за додатна сред.'!E195+Projekat!E195+Sheet2!E195","v":763000},{"$f":"+Programska_aktivnost!F195+Sheet1!F195+'Захтев за додатна сред.'!F195+Projekat!F195+Sheet2!F195","v":124434000},{"$f":"+Programska_aktivnost!G195+Sheet1!G195+'Захтев за додатна сред.'!G195+Projekat!G195+Sheet2!G195","v":668000},{"$f":"+Programska_aktivnost!H195+Sheet1!H195+'Захтев за додатна сред.'!H195+Projekat!H195+Sheet2!H195","v":150122000},{"$f":"+Programska_aktivnost!I195+Sheet1!I195+'Захтев за додатна сред.'!I195+Projekat!I195+Sheet2!I195","v":0},{"$f":"+Programska_aktivnost!J195+Sheet1!J195+'Захтев за додатна сред.'!J195+Projekat!J195+Sheet2!J195","v":139200000},{"$f":"+Programska_aktivnost!K195+Sheet1!K195+'Захтев за додатна сред.'!K195+Projekat!K195+Sheet2!K195","v":0},{"$f":"+Programska_aktivnost!L195+Sheet1!L195+'Захтев за додатна сред.'!L195+Projekat!L195+Sheet2!L195","v":150100000},{"$f":"+Programska_aktivnost!M195+Sheet1!M195+'Захтев за додатна сред.'!M195+Projekat!M195+Sheet2!M195","v":0},{"$f":"N196+N198+N202+N204+N209+N211","v":439422000},{"$f":"O196+O198+O202+O204+O209+O211","v":0},null,null,null,null,null,null,null,null,null,1115610000]
[149,411000,"ПЛАТЕ, ДОДАЦИ И НАКНАДЕ ЗАПОСЛЕНИХ (ЗАРАДЕ) (150)",{"$f":"+Programska_aktivnost!D196+Sheet1!D196+'Захтев за додатна сред.'!D196+Projekat!D196+Sheet2!D196","v":91407000},{"$f":"+Programska_aktivnost!E196+Sheet1!E196+'Захтев за додатна сред.'!E196+Projekat!E196+Sheet2!E196","v":0},{"$f":"+Programska_aktivnost!F196+Sheet1!F196+'Захтев за додатна сред.'!F196+Projekat!F196+Sheet2!F196","v":99170000},{"$f":"+Programska_aktivnost!G196+Sheet1!G196+'Захтев за додатна сред.'!G196+Projekat!G196+Sheet2!G196","v":0},{"$f":"+Programska_aktivnost!H196+Sheet1!H196+'Захтев за додатна сред.'!H196+Projekat!H196+Sheet2!H196","v":120220000},{"$f":"+Programska_aktivnost!I196+Sheet1!I196+'Захтев за додатна сред.'!I196+Projekat!I196+Sheet2!I196","v":0},{"$f":"+Programska_aktivnost!J196+Sheet1!J196+'Захтев за додатна сред.'!J196+Projekat!J196+Sheet2!J196","v":111600000},{"$f":"+Programska_aktivnost!K196+Sheet1!K196+'Захтев за додатна сред.'!K196+Projekat!K196+Sheet2!K196","v":0},{"$f":"+Programska_aktivnost!L196+Sheet1!L196+'Захтев за додатна сред.'!L196+Projekat!L196+Sheet2!L196","v":120700000},{"$f":"+Programska_aktivnost!M196+Sheet1!M196+'Захтев за додатна сред.'!M196+Projekat!M196+Sheet2!M196","v":0},352520000,0,null,null,null,null,null,null,null,null,null,895617000]
[150,411100,"Плате, додаци и накнаде запослених",{"$f":"+Programska_aktivnost!D197+Sheet1!D197+'Захтев за додатна сред.'!D197+Projekat!D197+Sheet2!D197","v":91407000},{"$f":"+Programska_aktivnost!E197+Sheet1!E197+'Захтев за додатна сред.'!E197+Projekat!E197+Sheet2!E197","v":0},{"$f":"+Programska_aktivnost!F197+Sheet1!F197+'Захтев за додатна сред.'!F197+Projekat!F197+Sheet2!F197","v":99170000},{"$f":"+Programska_aktivnost!G197+Sheet1!G197+'Захтев за додатна сред.'!G197+Projekat!G197+Sheet2!G197","v":0},{"$f":"+Programska_aktivnost!H197+Sheet1!H197+'Захтев за додатна сред.'!H197+Projekat!H197+Sheet2!H197","v":120220000},{"$f":"+Programska_aktivnost!I197+Sheet1!I197+'Захтев за додатна сред.'!I197+Projekat!I197+Sheet2!I197","v":0},{"$f":"+Programska_aktivnost!J197+Sheet1!J197+'Захтев за додатна сред.'!J197+Projekat!J197+Sheet2!J197","v":111600000},{"$f":"+Programska_aktivnost!K197+Sheet1!K197+'Захтев за додатна сред.'!K197+Projekat!K197+Sheet2!K197","v":0},{"$f":"+Programska_aktivnost!L197+Sheet1!L197+'Захтев за додатна сред.'!L197+Projekat!L197+Sheet2!L197","v":120700000},{"$f":"+Programska_aktivnost!M197+Sheet1!M197+'Захтев за додатна сред.'!M197+Projekat!M197+Sheet2!M197","v":0},352520000,0,null,null,null,null,null,null,null,null,null,895617000]
[151,412000,"СОЦИЈАЛНИ ДОПРИНОСИ НА ТЕРЕТ ПОСЛОДАВЦА (од 152 до 154)",{"$f":"+Programska_aktivnost!D198+Sheet1!D198+'Захтев за додатна сред.'!D198+Projekat!D198+Sheet2!D198","v":16397000},{"$f":"+Programska_aktivnost!E198+Sheet1!E198+'Захтев за додатна сред.'!E198+Projekat!E198+Sheet2!E198","v":0},{"$f":"+Programska_aktivnost!F198+Sheet1!F198+'Захтев за додатна сред.'!F198+Projekat!F198+Sheet2!F198","v":17514000},{"$f":"+Programska_aktivnost!G198+Sheet1!G198+'Захтев за додатна сред.'!G198+Projekat!G198+Sheet2!G198","v":0},{"$f":"+Programska_aktivnost!H198+Sheet1!H198+'Захтев за додатна сред.'!H198+Projekat!H198+Sheet2!H198","v":20622000},{"$f":"+Programska_aktivnost!I198+Sheet1!I198+'Захтев за додатна сред.'!I198+Projekat!I198+Sheet2!I198","v":0},{"$f":"+Programska_aktivnost!J198+Sheet1!J198+'Захтев за додатна сред.'!J198+Projekat!J198+Sheet2!J198","v":19100000},{"$f":"+Programska_aktivnost!K198+Sheet1!K198+'Захтев за додатна сред.'!K198+Projekat!K198+Sheet2!K198","v":0},{"$f":"+Programska_aktivnost!L198+Sheet1!L198+'Захтев за додатна сред.'!L198+Projekat!L198+Sheet2!L198","v":20600000},{"$f":"+Programska_aktivnost!M198+Sheet1!M198+'Захтев за додатна сред.'!M198+Projekat!M198+Sheet2!M198","v":0},60322000,0,null,null,null,null,null,null,null,null,null,154555000]
[152,412100,"Допринос за пензијско и инвалидско осигурање",{"$f":"+Programska_aktivnost!D199+Sheet1!D199+'Захтев за додатна сред.'!D199+Projekat!D199+Sheet2!D199","v":10957000},{"$f":"+Programska_aktivnost!E199+Sheet1!E199+'Захтев за додатна сред.'!E199+Projekat!E199+Sheet2!E199","v":0},{"$f":"+Programska_aktivnost!F199+Sheet1!F199+'Захтев за додатна сред.'!F199+Projekat!F199+Sheet2!F199","v":11900000},{"$f":"+Programska_aktivnost!G199+Sheet1!G199+'Захтев за додатна сред.'!G199+Projekat!G199+Sheet2!G199","v":0},{"$f":"+Programska_aktivnost!H199+Sheet1!H199+'Захтев за додатна сред.'!H199+Projekat!H199+Sheet2!H199","v":14500000},{"$f":"+Programska_aktivnost!I199+Sheet1!I199+'Захтев за додатна сред.'!I199+Projekat!I199+Sheet2!I199","v":0},{"$f":"+Programska_aktivnost!J199+Sheet1!J199+'Захтев за додатна сред.'!J199+Projekat!J199+Sheet2!J199","v":13000000},{"$f":"+Programska_aktivnost!K199+Sheet1!K199+'Захтев за додатна сред.'!K199+Projekat!K199+Sheet2!K199","v":0},{"$f":"+Programska_aktivnost!L199+Sheet1!L199+'Захтев за додатна сред.'!L199+Projekat!L199+Sheet2!L199","v":14400000},{"$f":"+Programska_aktivnost!M199+Sheet1!M199+'Захтев за додатна сред.'!M199+Projekat!M199+Sheet2!M199","v":0},41900000,0,null,null,null,null,null,null,null,null,null,106657000]
[153,412200,"Допринос за здравствено осигурање",{"$f":"+Programska_aktivnost!D200+Sheet1!D200+'Захтев за додатна сред.'!D200+Projekat!D200+Sheet2!D200","v":4750000},{"$f":"+Programska_aktivnost!E200+Sheet1!E200+'Захтев за додатна сред.'!E200+Projekat!E200+Sheet2!E200","v":0},{"$f":"+Programska_aktivnost!F200+Sheet1!F200+'Захтев за додатна сред.'!F200+Projekat!F200+Sheet2!F200","v":5614000},{"$f":"+Programska_aktivnost!G200+Sheet1!G200+'Захтев за додатна сред.'!G200+Projekat!G200+Sheet2!G200","v":0},{"$f":"+Programska_aktivnost!H200+Sheet1!H200+'Захтев за додатна сред.'!H200+Projekat!H200+Sheet2!H200","v":6122000},{"$f":"+Programska_aktivnost!I200+Sheet1!I200+'Захтев за додатна сред.'!I200+Projekat!I200+Sheet2!I200","v":0},{"$f":"+Programska_aktivnost!J200+Sheet1!J200+'Захтев за додатна сред.'!J200+Projekat!J200+Sheet2!J200","v":6100000},{"$f":"+Programska_aktivnost!K200+Sheet1!K200+'Захтев за додатна сред.'!K200+Projekat!K200+Sheet2!K200","v":0},{"$f":"+Programska_aktivnost!L200+Sheet1!L200+'Захтев за додатна сред.'!L200+Projekat!L200+Sheet2!L200","v":6200000},{"$f":"+Programska_aktivnost!M200+Sheet1!M200+'Захтев за додатна сред.'!M200+Projekat!M200+Sheet2!M200","v":0},18422000,0,null,null,null,null,null,null,null,null,null,47208000]
[154,412300,"Допринос за незапосленост",{"$f":"+Programska_aktivnost!D201+Sheet1!D201+'Захтев за додатна сред.'!D201+Projekat!D201+Sheet2!D201","v":690000},{"$f":"+Programska_aktivnost!E201+Sheet1!E201+'Захтев за додатна сред.'!E201+Projekat!E201+Sheet2!E201","v":0},{"$f":"+Programska_aktivnost!F201+Sheet1!F201+'Захтев за додатна сред.'!F201+Projekat!F201+Sheet2!F201","v":0},{"$f":"+Programska_aktivnost!G201+Sheet1!G201+'Захтев за додатна сред.'!G201+Projekat!G201+Sheet2!G201","v":0},{"$f":"+Programska_aktivnost!H201+Sheet1!H201+'Захтев за додатна сред.'!H201+Projekat!H201+Sheet2!H201","v":0},{"$f":"+Programska_aktivnost!I201+Sheet1!I201+'Захтев за додатна сред.'!I201+Projekat!I201+Sheet2!I201","v":0},{"$f":"+Programska_aktivnost!J201+Sheet1!J201+'Захтев за додатна сред.'!J201+Projekat!J201+Sheet2!J201","v":0},{"$f":"+Programska_aktivnost!K201+Sheet1!K201+'Захтев за додатна сред.'!K201+Projekat!K201+Sheet2!K201","v":0},{"$f":"+Programska_aktivnost!L201+Sheet1!L201+'Захтев за додатна сред.'!L201+Projekat!L201+Sheet2!L201","v":0},{"$f":"+Programska_aktivnost!M201+Sheet1!M201+'Захтев за додатна сред.'!M201+Projekat!M201+Sheet2!M201","v":0},0,0,null,null,null,null,null,null,null,null,null,690000]
[155,413000,"НАКНАДЕ У НАТУРИ (156)",{"$f":"+Programska_aktivnost!D202+Sheet1!D202+'Захтев за додатна сред.'!D202+Projekat!D202+Sheet2!D202","v":237000},{"$f":"+Programska_aktivnost!E202+Sheet1!E202+'Захтев за додатна сред.'!E202+Projekat!E202+Sheet2!E202","v":0},{"$f":"+Programska_aktivnost!F202+Sheet1!F202+'Захтев за додатна сред.'!F202+Projekat!F202+Sheet2!F202","v":0},{"$f":"+Programska_aktivnost!G202+Sheet1!G202+'Захтев за додатна сред.'!G202+Projekat!G202+Sheet2!G202","v":0},{"$f":"+Programska_aktivnost!H202+Sheet1!H202+'Захтев за додатна сред.'!H202+Projekat!H202+Sheet2!H202","v":0},{"$f":"+Programska_aktivnost!I202+Sheet1!I202+'Захтев за додатна сред.'!I202+Projekat!I202+Sheet2!I202","v":0},{"$f":"+Programska_aktivnost!J202+Sheet1!J202+'Захтев за додатна сред.'!J202+Projekat!J202+Sheet2!J202","v":0},{"$f":"+Programska_aktivnost!K202+Sheet1!K202+'Захтев за додатна сред.'!K202+Projekat!K202+Sheet2!K202","v":0},{"$f":"+Programska_aktivnost!L202+Sheet1!L202+'Захтев за додатна сред.'!L202+Projekat!L202+Sheet2!L202","v":0},{"$f":"+Programska_aktivnost!M202+Sheet1!M202+'Захтев за додатна сред.'!M202+Projekat!M202+Sheet2!M202","v":0},0,0,null,null,null,null,null,null,null,null,null,237000]
[156,413100,"Накнаде у натури",{"$f":"+Programska_aktivnost!D203+Sheet1!D203+'Захтев за додатна сред.'!D203+Projekat!D203+Sheet2!D203","v":237000},{"$f":"+Programska_aktivnost!E203+Sheet1!E203+'Захтев за додатна сред.'!E203+Projekat!E203+Sheet2!E203","v":0},{"$f":"+Programska_aktivnost!F203+Sheet1!F203+'Захтев за додатна сред.'!F203+Projekat!F203+Sheet2!F203","v":0},{"$f":"+Programska_aktivnost!G203+Sheet1!G203+'Захтев за додатна сред.'!G203+Projekat!G203+Sheet2!G203","v":0},{"$f":"+Programska_aktivnost!H203+Sheet1!H203+'Захтев за додатна сред.'!H203+Projekat!H203+Sheet2!H203","v":0},{"$f":"+Programska_aktivnost!I203+Sheet1!I203+'Захтев за додатна сред.'!I203+Projekat!I203+Sheet2!I203","v":0},{"$f":"+Programska_aktivnost!J203+Sheet1!J203+'Захтев за додатна сред.'!J203+Projekat!J203+Sheet2!J203","v":0},{"$f":"+Programska_aktivnost!K203+Sheet1!K203+'Захтев за додатна сред.'!K203+Projekat!K203+Sheet2!K203","v":0},{"$f":"+Programska_aktivnost!L203+Sheet1!L203+'Захтев за додатна сред.'!L203+Projekat!L203+Sheet2!L203","v":0},{"$f":"+Programska_aktivnost!M203+Sheet1!M203+'Захтев за додатна сред.'!M203+Projekat!M203+Sheet2!M203","v":0},0,0,null,null,null,null,null,null,null,null,null,237000]
[157,414000,"СОЦИЈАЛНА ДАВАЊА ЗАПОСЛЕНИМА (од 158 до 161)",{"$f":"+Programska_aktivnost!D204+Sheet1!D204+'Захтев за додатна сред.'!D204+Projekat!D204+Sheet2!D204","v":0},{"$f":"+Programska_aktivnost!E204+Sheet1!E204+'Захтев за додатна сред.'!E204+Projekat!E204+Sheet2!E204","v":763000},{"$f":"+Programska_aktivnost!F204+Sheet1!F204+'Захтев за додатна сред.'!F204+Projekat!F204+Sheet2!F204","v":1000000},{"$f":"+Programska_aktivnost!G204+Sheet1!G204+'Захтев за додатна сред.'!G204+Projekat!G204+Sheet2!G204","v":668000},{"$f":"+Programska_aktivnost!H204+Sheet1!H204+'Захтев за додатна сред.'!H204+Projekat!H204+Sheet2!H204","v":880000},{"$f":"+Programska_aktivnost!I204+Sheet1!I204+'Захтев за додатна сред.'!I204+Projekat!I204+Sheet2!I204","v":0},{"$f":"+Programska_aktivnost!J204+Sheet1!J204+'Захтев за додатна сред.'!J204+Projekat!J204+Sheet2!J204","v":900000},{"$f":"+Programska_aktivnost!K204+Sheet1!K204+'Захтев за додатна сред.'!K204+Projekat!K204+Sheet2!K204","v":0},{"$f":"+Programska_aktivnost!L204+Sheet1!L204+'Захтев за додатна сред.'!L204+Projekat!L204+Sheet2!L204","v":1000000},{"$f":"+Programska_aktivnost!M204+Sheet1!M204+'Захтев за додатна сред.'!M204+Projekat!M204+Sheet2!M204","v":0},2780000,0,null,null,null,null,null,null,null,null,null,7991000]
[158,414100,"Исплата накнада за време одсуствовања с посла на терет фондова",{"$f":"+Programska_aktivnost!D205+Sheet1!D205+'Захтев за додатна сред.'!D205+Projekat!D205+Sheet2!D205","v":0},{"$f":"+Programska_aktivnost!E205+Sheet1!E205+'Захтев за додатна сред.'!E205+Projekat!E205+Sheet2!E205","v":763000},{"$f":"+Programska_aktivnost!F205+Sheet1!F205+'Захтев за додатна сред.'!F205+Projekat!F205+Sheet2!F205","v":0},{"$f":"+Programska_aktivnost!G205+Sheet1!G205+'Захтев за додатна сред.'!G205+Projekat!G205+Sheet2!G205","v":668000},{"$f":"+Programska_aktivnost!H205+Sheet1!H205+'Захтев за додатна сред.'!H205+Projekat!H205+Sheet2!H205","v":0},{"$f":"+Programska_aktivnost!I205+Sheet1!I205+'Захтев за додатна сред.'!I205+Projekat!I205+Sheet2!I205","v":0},{"$f":"+Programska_aktivnost!J205+Sheet1!J205+'Захтев за додатна сред.'!J205+Projekat!J205+Sheet2!J205","v":0},{"$f":"+Programska_aktivnost!K205+Sheet1!K205+'Захтев за додатна сред.'!K205+Projekat!K205+Sheet2!K205","v":0},{"$f":"+Programska_aktivnost!L205+Sheet1!L205+'Захтев за додатна сред.'!L205+Projekat!L205+Sheet2!L205","v":0},{"$f":"+Programska_aktivnost!M205+Sheet1!M205+'Захтев за додатна сред.'!M205+Projekat!M205+Sheet2!M205","v":0},0,0,null,null,null,null,null,null,null,null,null,1431000]
[159,414200,"Расходи за образовање деце запослених",{"$f":"+Programska_aktivnost!D206+Sheet1!D206+'Захтев за додатна сред.'!D206+Projekat!D206+Sheet2!D206","v":0},{"$f":"+Programska_aktivnost!E206+Sheet1!E206+'Захтев за додатна сред.'!E206+Projekat!E206+Sheet2!E206","v":0},{"$f":"+Programska_aktivnost!F206+Sheet1!F206+'Захтев за додатна сред.'!F206+Projekat!F206+Sheet2!F206","v":0},{"$f":"+Programska_aktivnost!G206+Sheet1!G206+'Захтев за додатна сред.'!G206+Projekat!G206+Sheet2!G206","v":0},{"$f":"+Programska_aktivnost!H206+Sheet1!H206+'Захтев за додатна сред.'!H206+Projekat!H206+Sheet2!H206","v":0},{"$f":"+Programska_aktivnost!I206+Sheet1!I206+'Захтев за додатна сред.'!I206+Projekat!I206+Sheet2!I206","v":0},{"$f":"+Programska_aktivnost!J206+Sheet1!J206+'Захтев за додатна сред.'!J206+Projekat!J206+Sheet2!J206","v":0},{"$f":"+Programska_aktivnost!K206+Sheet1!K206+'Захтев за додатна сред.'!K206+Projekat!K206+Sheet2!K206","v":0},{"$f":"+Programska_aktivnost!L206+Sheet1!L206+'Захтев за додатна сред.'!L206+Projekat!L206+Sheet2!L206","v":0},{"$f":"+Programska_aktivnost!M206+Sheet1!M206+'Захтев за додатна сред.'!M206+Projekat!M206+Sheet2!M206","v":0},0,0,null,null,null,null,null,null,null,null,null,0]
[160,414300,"Отпремнине и помоћи",{"$f":"+Programska_aktivnost!D207+Sheet1!D207+'Захтев за додатна сред.'!D207+Projekat!D207+Sheet2!D207","v":0},{"$f":"+Programska_aktivnost!E207+Sheet1!E207+'Захтев за додатна сред.'!E207+Projekat!E207+Sheet2!E207","v":0},{"$f":"+Programska_aktivnost!F207+Sheet1!F207+'Захтев за додатна сред.'!F207+Projekat!F207+Sheet2!F207","v":500000},{"$f":"+Programska_aktivnost!G207+Sheet1!G207+'Захтев за додатна сред.'!G207+Projekat!G207+Sheet2!G207","v":0},{"$f":"+Programska_aktivnost!H207+Sheet1!H207+'Захтев за додатна сред.'!H207+Projekat!H207+Sheet2!H207","v":380000},{"$f":"+Programska_aktivnost!I207+Sheet1!I207+'Захтев за додатна сред.'!I207+Projekat!I207+Sheet2!I207","v":0},{"$f":"+Programska_aktivnost!J207+Sheet1!J207+'Захтев за додатна сред.'!J207+Projekat!J207+Sheet2!J207","v":400000},{"$f":"+Programska_aktivnost!K207+Sheet1!K207+'Захтев за додатна сред.'!K207+Projekat!K207+Sheet2!K207","v":0},{"$f":"+Programska_aktivnost!L207+Sheet1!L207+'Захтев за додатна сред.'!L207+Projekat!L207+Sheet2!L207","v":0},{"$f":"+Programska_aktivnost!M207+Sheet1!M207+'Захтев за додатна сред.'!M207+Projekat!M207+Sheet2!M207","v":0},780000,0,null,null,null,null,null,null,null,null,null,2060000]
[161,414400,"Помоћ у медицинском лечењу запосленог или чланова уже породице и друге помоћи запосленом",{"$f":"+Programska_aktivnost!D208+Sheet1!D208+'Захтев за додатна сред.'!D208+Projekat!D208+Sheet2!D208","v":0},{"$f":"+Programska_aktivnost!E208+Sheet1!E208+'Захтев за додатна сред.'!E208+Projekat!E208+Sheet2!E208","v":0},{"$f":"+Programska_aktivnost!F208+Sheet1!F208+'Захтев за додатна сред.'!F208+Projekat!F208+Sheet2!F208","v":500000},{"$f":"+Programska_aktivnost!G208+Sheet1!G208+'Захтев за додатна сред.'!G208+Projekat!G208+Sheet2!G208","v":0},{"$f":"+Programska_aktivnost!H208+Sheet1!H208+'Захтев за додатна сред.'!H208+Projekat!H208+Sheet2!H208","v":500000},{"$f":"+Programska_aktivnost!I208+Sheet1!I208+'Захтев за додатна сред.'!I208+Projekat!I208+Sheet2!I208","v":0},{"$f":"+Programska_aktivnost!J208+Sheet1!J208+'Захтев за додатна сред.'!J208+Projekat!J208+Sheet2!J208","v":500000},{"$f":"+Programska_aktivnost!K208+Sheet1!K208+'Захтев за додатна сред.'!K208+Projekat!K208+Sheet2!K208","v":0},{"$f":"+Programska_aktivnost!L208+Sheet1!L208+'Захтев за додатна сред.'!L208+Projekat!L208+Sheet2!L208","v":1000000},{"$f":"+Programska_aktivnost!M208+Sheet1!M208+'Захтев за додатна сред.'!M208+Projekat!M208+Sheet2!M208","v":0},2000000,0,null,null,null,null,null,null,null,null,null,4500000]
[162,415000,"НАКНАДА ТРОШКОВА ЗА ЗАПОСЛЕНЕ (163)",{"$f":"+Programska_aktivnost!D209+Sheet1!D209+'Захтев за додатна сред.'!D209+Projekat!D209+Sheet2!D209","v":1471000},{"$f":"+Programska_aktivnost!E209+Sheet1!E209+'Захтев за додатна сред.'!E209+Projekat!E209+Sheet2!E209","v":0},{"$f":"+Programska_aktivnost!F209+Sheet1!F209+'Захтев за додатна сред.'!F209+Projekat!F209+Sheet2!F209","v":5050000},{"$f":"+Programska_aktivnost!G209+Sheet1!G209+'Захтев за додатна сред.'!G209+Projekat!G209+Sheet2!G209","v":0},{"$f":"+Programska_aktivnost!H209+Sheet1!H209+'Захтев за додатна сред.'!H209+Projekat!H209+Sheet2!H209","v":6000000},{"$f":"+Programska_aktivnost!I209+Sheet1!I209+'Захтев за додатна сред.'!I209+Projekat!I209+Sheet2!I209","v":0},{"$f":"+Programska_aktivnost!J209+Sheet1!J209+'Захтев за додатна сред.'!J209+Projekat!J209+Sheet2!J209","v":6600000},{"$f":"+Programska_aktivnost!K209+Sheet1!K209+'Захтев за додатна сред.'!K209+Projekat!K209+Sheet2!K209","v":0},{"$f":"+Programska_aktivnost!L209+Sheet1!L209+'Захтев за додатна сред.'!L209+Projekat!L209+Sheet2!L209","v":6800000},{"$f":"+Programska_aktivnost!M209+Sheet1!M209+'Захтев за додатна сред.'!M209+Projekat!M209+Sheet2!M209","v":0},19400000,0,null,null,null,null,null,null,null,null,null,45321000]
[163,415100,"Накнаде трошкова за запослене",{"$f":"+Programska_aktivnost!D210+Sheet1!D210+'Захтев за додатна сред.'!D210+Projekat!D210+Sheet2!D210","v":1471000},{"$f":"+Programska_aktivnost!E210+Sheet1!E210+'Захтев за додатна сред.'!E210+Projekat!E210+Sheet2!E210","v":0},{"$f":"+Programska_aktivnost!F210+Sheet1!F210+'Захтев за додатна сред.'!F210+Projekat!F210+Sheet2!F210","v":5050000},{"$f":"+Programska_aktivnost!G210+Sheet1!G210+'Захтев за додатна сред.'!G210+Projekat!G210+Sheet2!G210","v":0},{"$f":"+Programska_aktivnost!H210+Sheet1!H210+'Захтев за додатна сред.'!H210+Projekat!H210+Sheet2!H210","v":6000000},{"$f":"+Programska_aktivnost!I210+Sheet1!I210+'Захтев за додатна сред.'!I210+Projekat!I210+Sheet2!I210","v":0},{"$f":"+Programska_aktivnost!J210+Sheet1!J210+'Захтев за додатна сред.'!J210+Projekat!J210+Sheet2!J210","v":6600000},{"$f":"+Programska_aktivnost!K210+Sheet1!K210+'Захтев за додатна сред.'!K210+Projekat!K210+Sheet2!K210","v":0},{"$f":"+Programska_aktivnost!L210+Sheet1!L210+'Захтев за додатна сред.'!L210+Projekat!L210+Sheet2!L210","v":6800000},{"$f":"+Programska_aktivnost!M210+Sheet1!M210+'Захтев за додатна сред.'!M210+Projekat!M210+Sheet2!M210","v":0},19400000,0,null,null,null,null,null,null,null,null,null,45321000]
[164,416000,"НАГРАДЕ ЗАПОСЛЕНИМА И ОСТАЛИ ПОСЕБНИ РАСХОДИ (165)",{"$f":"+Programska_aktivnost!D211+Sheet1!D211+'Захтев за додатна сред.'!D211+Projekat!D211+Sheet2!D211","v":1389000},{"$f":"+Programska_aktivnost!E211+Sheet1!E211+'Захтев за додатна сред.'!E211+Projekat!E211+Sheet2!E211","v":0},{"$f":"+Programska_aktivnost!F211+Sheet1!F211+'Захтев за додатна сред.'!F211+Projekat!F211+Sheet2!F211","v":1700000},{"$f":"+Programska_aktivnost!G211+Sheet1!G211+'Захтев за додатна сред.'!G211+Projekat!G211+Sheet2!G211","v":0},{"$f":"+Programska_aktivnost!H211+Sheet1!H211+'Захтев за додатна сред.'!H211+Projekat!H211+Sheet2!H211","v":2400000},{"$f":"+Programska_aktivnost!I211+Sheet1!I211+'Захтев за додатна сред.'!I211+Projekat!I211+Sheet2!I211","v":0},{"$f":"+Programska_aktivnost!J211+Sheet1!J211+'Захтев за додатна сред.'!J211+Projekat!J211+Sheet2!J211","v":1000000},{"$f":"+Programska_aktivnost!K211+Sheet1!K211+'Захтев за додатна сред.'!K211+Projekat!K211+Sheet2!K211","v":0},{"$f":"+Programska_aktivnost!L211+Sheet1!L211+'Захтев за додатна сред.'!L211+Projekat!L211+Sheet2!L211","v":1000000},{"$f":"+Programska_aktivnost!M211+Sheet1!M211+'Захтев за додатна сред.'!M211+Projekat!M211+Sheet2!M211","v":0},4400000,0,null,null,null,null,null,null,null,null,null,11889000]
[165,416100,"Награде запосленима и остали посебни расходи",{"$f":"+Programska_aktivnost!D212+Sheet1!D212+'Захтев за додатна сред.'!D212+Projekat!D212+Sheet2!D212","v":1389000},{"$f":"+Programska_aktivnost!E212+Sheet1!E212+'Захтев за додатна сред.'!E212+Projekat!E212+Sheet2!E212","v":0},{"$f":"+Programska_aktivnost!F212+Sheet1!F212+'Захтев за додатна сред.'!F212+Projekat!F212+Sheet2!F212","v":1700000},{"$f":"+Programska_aktivnost!G212+Sheet1!G212+'Захтев за додатна сред.'!G212+Projekat!G212+Sheet2!G212","v":0},{"$f":"+Programska_aktivnost!H212+Sheet1!H212+'Захтев за додатна сред.'!H212+Projekat!H212+Sheet2!H212","v":2400000},{"$f":"+Programska_aktivnost!I212+Sheet1!I212+'Захтев за додатна сред.'!I212+Projekat!I212+Sheet2!I212","v":0},{"$f":"+Programska_aktivnost!J212+Sheet1!J212+'Захтев за додатна сред.'!J212+Projekat!J212+Sheet2!J212","v":1000000},{"$f":"+Programska_aktivnost!K212+Sheet1!K212+'Захтев за додатна сред.'!K212+Projekat!K212+Sheet2!K212","v":0},{"$f":"+Programska_aktivnost!L212+Sheet1!L212+'Захтев за додатна сред.'!L212+Projekat!L212+Sheet2!L212","v":1000000},{"$f":"+Programska_aktivnost!M212+Sheet1!M212+'Захтев за додатна сред.'!M212+Projekat!M212+Sheet2!M212","v":0},4400000,0,null,null,null,null,null,null,null,null,null,11889000]
[166,420000,"КОРИШЋЕЊЕ УСЛУГА И РОБА (167 + 175 + 181 + 190 + 198 + 201) ",{"$f":"+Programska_aktivnost!D213+Sheet1!D213+'Захтев за додатна сред.'!D213+Projekat!D213+Sheet2!D213","v":28534000},{"$f":"+Programska_aktivnost!E213+Sheet1!E213+'Захтев за додатна сред.'!E213+Projekat!E213+Sheet2!E213","v":11580000},{"$f":"+Programska_aktivnost!F213+Sheet1!F213+'Захтев за додатна сред.'!F213+Projekat!F213+Sheet2!F213","v":27277000},{"$f":"+Programska_aktivnost!G213+Sheet1!G213+'Захтев за додатна сред.'!G213+Projekat!G213+Sheet2!G213","v":11700000},{"$f":"+Programska_aktivnost!H213+Sheet1!H213+'Захтев за додатна сред.'!H213+Projekat!H213+Sheet2!H213","v":38915000},{"$f":"+Programska_aktivnost!I213+Sheet1!I213+'Захтев за додатна сред.'!I213+Projekat!I213+Sheet2!I213","v":2580000},{"$f":"+Programska_aktivnost!J213+Sheet1!J213+'Захтев за додатна сред.'!J213+Projekat!J213+Sheet2!J213","v":39521000},{"$f":"+Programska_aktivnost!K213+Sheet1!K213+'Захтев за додатна сред.'!K213+Projekat!K213+Sheet2!K213","v":2780000},{"$f":"+Programska_aktivnost!L213+Sheet1!L213+'Захтев за додатна сред.'!L213+Projekat!L213+Sheet2!L213","v":29095000},{"$f":"+Programska_aktivnost!M213+Sheet1!M213+'Захтев за додатна сред.'!M213+Projekat!M213+Sheet2!M213","v":2880000},{"$f":"SUM(H213,J213,L213)","v":107531000},8240000,null,null,null,null,null,null,null,null,null,310633000]
[167,421000,"СТАЛНИ ТРОШКОВИ (од 168 до 174)",{"$f":"+Programska_aktivnost!D214+Sheet1!D214+'Захтев за додатна сред.'!D214+Projekat!D214+Sheet2!D214","v":9463000},{"$f":"+Programska_aktivnost!E214+Sheet1!E214+'Захтев за додатна сред.'!E214+Projekat!E214+Sheet2!E214","v":2220000},{"$f":"+Programska_aktivnost!F214+Sheet1!F214+'Захтев за додатна сред.'!F214+Projekat!F214+Sheet2!F214","v":9380000},{"$f":"+Programska_aktivnost!G214+Sheet1!G214+'Захтев за додатна сред.'!G214+Projekat!G214+Sheet2!G214","v":2200000},{"$f":"+Programska_aktivnost!H214+Sheet1!H214+'Захтев за додатна сред.'!H214+Projekat!H214+Sheet2!H214","v":12540000},{"$f":"+Programska_aktivnost!I214+Sheet1!I214+'Захтев за додатна сред.'!I214+Projekat!I214+Sheet2!I214","v":300000},{"$f":"+Programska_aktivnost!J214+Sheet1!J214+'Захтев за додатна сред.'!J214+Projekat!J214+Sheet2!J214","v":12320000},{"$f":"+Programska_aktivnost!K214+Sheet1!K214+'Захтев за додатна сред.'!K214+Projekat!K214+Sheet2!K214","v":340000},{"$f":"+Programska_aktivnost!L214+Sheet1!L214+'Захтев за додатна сред.'!L214+Projekat!L214+Sheet2!L214","v":410000},{"$f":"+Programska_aktivnost!M214+Sheet1!M214+'Захтев за додатна сред.'!M214+Projekat!M214+Sheet2!M214","v":340000},25270000,980000,null,null,null,null,null,null,null,null,null,75763000]
[168,421100,"Трошкови платног промета и банкарских услуга",{"$f":"+Programska_aktivnost!D215+Sheet1!D215+'Захтев за додатна сред.'!D215+Projekat!D215+Sheet2!D215","v":195000},{"$f":"+Programska_aktivnost!E215+Sheet1!E215+'Захтев за додатна сред.'!E215+Projekat!E215+Sheet2!E215","v":5000},{"$f":"+Programska_aktivnost!F215+Sheet1!F215+'Захтев за додатна сред.'!F215+Projekat!F215+Sheet2!F215","v":120000},{"$f":"+Programska_aktivnost!G215+Sheet1!G215+'Захтев за додатна сред.'!G215+Projekat!G215+Sheet2!G215","v":120000},{"$f":"+Programska_aktivnost!H215+Sheet1!H215+'Захтев за додатна сред.'!H215+Projekat!H215+Sheet2!H215","v":140000},{"$f":"+Programska_aktivnost!I215+Sheet1!I215+'Захтев за додатна сред.'!I215+Projekat!I215+Sheet2!I215","v":100000},{"$f":"+Programska_aktivnost!J215+Sheet1!J215+'Захтев за додатна сред.'!J215+Projekat!J215+Sheet2!J215","v":150000},{"$f":"+Programska_aktivnost!K215+Sheet1!K215+'Захтев за додатна сред.'!K215+Projekat!K215+Sheet2!K215","v":100000},{"$f":"+Programska_aktivnost!L215+Sheet1!L215+'Захтев за додатна сред.'!L215+Projekat!L215+Sheet2!L215","v":170000},{"$f":"+Programska_aktivnost!M215+Sheet1!M215+'Захтев за додатна сред.'!M215+Projekat!M215+Sheet2!M215","v":100000},460000,300000,null,null,null,null,null,null,null,null,null,1960000]
[169,421200,"Енергетске услуге",{"$f":"+Programska_aktivnost!D216+Sheet1!D216+'Захтев за додатна сред.'!D216+Projekat!D216+Sheet2!D216","v":7858000},{"$f":"+Programska_aktivnost!E216+Sheet1!E216+'Захтев за додатна сред.'!E216+Projekat!E216+Sheet2!E216","v":1248000},{"$f":"+Programska_aktivnost!F216+Sheet1!F216+'Захтев за додатна сред.'!F216+Projekat!F216+Sheet2!F216","v":7800000},{"$f":"+Programska_aktivnost!G216+Sheet1!G216+'Захтев за додатна сред.'!G216+Projekat!G216+Sheet2!G216","v":1050000},{"$f":"+Programska_aktivnost!H216+Sheet1!H216+'Захтев за додатна сред.'!H216+Projekat!H216+Sheet2!H216","v":9200000},{"$f":"+Programska_aktivnost!I216+Sheet1!I216+'Захтев за додатна сред.'!I216+Projekat!I216+Sheet2!I216","v":50000},{"$f":"+Programska_aktivnost!J216+Sheet1!J216+'Захтев за додатна сред.'!J216+Projekat!J216+Sheet2!J216","v":9350000},{"$f":"+Programska_aktivnost!K216+Sheet1!K216+'Захтев за додатна сред.'!K216+Projekat!K216+Sheet2!K216","v":60000},{"$f":"+Programska_aktivnost!L216+Sheet1!L216+'Захтев за додатна сред.'!L216+Projekat!L216+Sheet2!L216","v":0},{"$f":"+Programska_aktivnost!M216+Sheet1!M216+'Захтев за додатна сред.'!M216+Projekat!M216+Sheet2!M216","v":60000},18550000,170000,null,null,null,null,null,null,null,null,null,55396000]
[170,421300,"Комуналне услуге",{"$f":"+Programska_aktivnost!D217+Sheet1!D217+'Захтев за додатна сред.'!D217+Projekat!D217+Sheet2!D217","v":813000},{"$f":"+Programska_aktivnost!E217+Sheet1!E217+'Захтев за додатна сред.'!E217+Projekat!E217+Sheet2!E217","v":667000},{"$f":"+Programska_aktivnost!F217+Sheet1!F217+'Захтев за додатна сред.'!F217+Projekat!F217+Sheet2!F217","v":843000},{"$f":"+Programska_aktivnost!G217+Sheet1!G217+'Захтев за додатна сред.'!G217+Projekat!G217+Sheet2!G217","v":730000},{"$f":"+Programska_aktivnost!H217+Sheet1!H217+'Захтев за додатна сред.'!H217+Projekat!H217+Sheet2!H217","v":2350000},{"$f":"+Programska_aktivnost!I217+Sheet1!I217+'Захтев за додатна сред.'!I217+Projekat!I217+Sheet2!I217","v":50000},{"$f":"+Programska_aktivnost!J217+Sheet1!J217+'Захтев за додатна сред.'!J217+Projekat!J217+Sheet2!J217","v":1900000},{"$f":"+Programska_aktivnost!K217+Sheet1!K217+'Захтев за додатна сред.'!K217+Projekat!K217+Sheet2!K217","v":60000},{"$f":"+Programska_aktivnost!L217+Sheet1!L217+'Захтев за додатна сред.'!L217+Projekat!L217+Sheet2!L217","v":0},{"$f":"+Programska_aktivnost!M217+Sheet1!M217+'Захтев за додатна сред.'!M217+Projekat!M217+Sheet2!M217","v":60000},4250000,170000,null,null,null,null,null,null,null,null,null,11893000]
[171,421400,"Услуге комуникација",{"$f":"+Programska_aktivnost!D218+Sheet1!D218+'Захтев за додатна сред.'!D218+Projekat!D218+Sheet2!D218","v":480000},{"$f":"+Programska_aktivnost!E218+Sheet1!E218+'Захтев за додатна сред.'!E218+Projekat!E218+Sheet2!E218","v":200000},{"$f":"+Programska_aktivnost!F218+Sheet1!F218+'Захтев за додатна сред.'!F218+Projekat!F218+Sheet2!F218","v":500000},{"$f":"+Programska_aktivnost!G218+Sheet1!G218+'Захтев за додатна сред.'!G218+Projekat!G218+Sheet2!G218","v":200000},{"$f":"+Programska_aktivnost!H218+Sheet1!H218+'Захтев за додатна сред.'!H218+Projekat!H218+Sheet2!H218","v":650000},{"$f":"+Programska_aktivnost!I218+Sheet1!I218+'Захтев за додатна сред.'!I218+Projekat!I218+Sheet2!I218","v":50000},{"$f":"+Programska_aktivnost!J218+Sheet1!J218+'Захтев за додатна сред.'!J218+Projekat!J218+Sheet2!J218","v":700000},{"$f":"+Programska_aktivnost!K218+Sheet1!K218+'Захтев за додатна сред.'!K218+Projekat!K218+Sheet2!K218","v":60000},{"$f":"+Programska_aktivnost!L218+Sheet1!L218+'Захтев за додатна сред.'!L218+Projekat!L218+Sheet2!L218","v":0},{"$f":"+Programska_aktivnost!M218+Sheet1!M218+'Захтев за додатна сред.'!M218+Projekat!M218+Sheet2!M218","v":60000},1350000,170000,null,null,null,null,null,null,null,null,null,4420000]
[172,421500,"Трошкови осигурања",{"$f":"+Programska_aktivnost!D219+Sheet1!D219+'Захтев за додатна сред.'!D219+Projekat!D219+Sheet2!D219","v":110000},{"$f":"+Programska_aktivnost!E219+Sheet1!E219+'Захтев за додатна сред.'!E219+Projekat!E219+Sheet2!E219","v":100000},{"$f":"+Programska_aktivnost!F219+Sheet1!F219+'Захтев за додатна сред.'!F219+Projekat!F219+Sheet2!F219","v":110000},{"$f":"+Programska_aktivnost!G219+Sheet1!G219+'Захтев за додатна сред.'!G219+Projekat!G219+Sheet2!G219","v":100000},{"$f":"+Programska_aktivnost!H219+Sheet1!H219+'Захтев за додатна сред.'!H219+Projekat!H219+Sheet2!H219","v":200000},{"$f":"+Programska_aktivnost!I219+Sheet1!I219+'Захтев за додатна сред.'!I219+Projekat!I219+Sheet2!I219","v":50000},{"$f":"+Programska_aktivnost!J219+Sheet1!J219+'Захтев за додатна сред.'!J219+Projekat!J219+Sheet2!J219","v":220000},{"$f":"+Programska_aktivnost!K219+Sheet1!K219+'Захтев за додатна сред.'!K219+Projekat!K219+Sheet2!K219","v":60000},{"$f":"+Programska_aktivnost!L219+Sheet1!L219+'Захтев за додатна сред.'!L219+Projekat!L219+Sheet2!L219","v":240000},{"$f":"+Programska_aktivnost!M219+Sheet1!M219+'Захтев за додатна сред.'!M219+Projekat!M219+Sheet2!M219","v":60000},660000,170000,null,null,null,null,null,null,null,null,null,2080000]
[173,421600,"Закуп имовине и опреме",{"$f":"+Programska_aktivnost!D220+Sheet1!D220+'Захтев за додатна сред.'!D220+Projekat!D220+Sheet2!D220","v":0},{"$f":"+Programska_aktivnost!E220+Sheet1!E220+'Захтев за додатна сред.'!E220+Projekat!E220+Sheet2!E220","v":0},{"$f":"+Programska_aktivnost!F220+Sheet1!F220+'Захтев за додатна сред.'!F220+Projekat!F220+Sheet2!F220","v":0},{"$f":"+Programska_aktivnost!G220+Sheet1!G220+'Захтев за додатна сред.'!G220+Projekat!G220+Sheet2!G220","v":0},{"$f":"+Programska_aktivnost!H220+Sheet1!H220+'Захтев за додатна сред.'!H220+Projekat!H220+Sheet2!H220","v":0},{"$f":"+Programska_aktivnost!I220+Sheet1!I220+'Захтев за додатна сред.'!I220+Projekat!I220+Sheet2!I220","v":0},{"$f":"+Programska_aktivnost!J220+Sheet1!J220+'Захтев за додатна сред.'!J220+Projekat!J220+Sheet2!J220","v":0},{"$f":"+Programska_aktivnost!K220+Sheet1!K220+'Захтев за додатна сред.'!K220+Projekat!K220+Sheet2!K220","v":0},{"$f":"+Programska_aktivnost!L220+Sheet1!L220+'Захтев за додатна сред.'!L220+Projekat!L220+Sheet2!L220","v":0},{"$f":"+Programska_aktivnost!M220+Sheet1!M220+'Захтев за додатна сред.'!M220+Projekat!M220+Sheet2!M220","v":0},0,0,null,null,null,null,null,null,null,null,null,0]
[174,421900,"Остали трошкови",{"$f":"+Programska_aktivnost!D221+Sheet1!D221+'Захтев за додатна сред.'!D221+Projekat!D221+Sheet2!D221","v":7000},{"$f":"+Programska_aktivnost!E221+Sheet1!E221+'Захтев за додатна сред.'!E221+Projekat!E221+Sheet2!E221","v":0},{"$f":"+Programska_aktivnost!F221+Sheet1!F221+'Захтев за додатна сред.'!F221+Projekat!F221+Sheet2!F221","v":7000},{"$f":"+Programska_aktivnost!G221+Sheet1!G221+'Захтев за додатна сред.'!G221+Projekat!G221+Sheet2!G221","v":0},{"$f":"+Programska_aktivnost!H221+Sheet1!H221+'Захтев за додатна сред.'!H221+Projekat!H221+Sheet2!H221","v":0},{"$f":"+Programska_aktivnost!I221+Sheet1!I221+'Захтев за додатна сред.'!I221+Projekat!I221+Sheet2!I221","v":0},{"$f":"+Programska_aktivnost!J221+Sheet1!J221+'Захтев за додатна сред.'!J221+Projekat!J221+Sheet2!J221","v":0},{"$f":"+Programska_aktivnost!K221+Sheet1!K221+'Захтев за додатна сред.'!K221+Projekat!K221+Sheet2!K221","v":0},{"$f":"+Programska_aktivnost!L221+Sheet1!L221+'Захтев за додатна сред.'!L221+Projekat!L221+Sheet2!L221","v":0},{"$f":"+Programska_aktivnost!M221+Sheet1!M221+'Захтев за додатна сред.'!M221+Projekat!M221+Sheet2!M221","v":0},0,0,null,null,null,null,null,null,null,null,null,14000]
[175,422000,"ТРОШКОВИ ПУТОВАЊА (од 176 до 180)",{"$f":"+Programska_aktivnost!D222+Sheet1!D222+'Захтев за додатна сред.'!D222+Projekat!D222+Sheet2!D222","v":400000},{"$f":"+Programska_aktivnost!E222+Sheet1!E222+'Захтев за додатна сред.'!E222+Projekat!E222+Sheet2!E222","v":220000},{"$f":"+Programska_aktivnost!F222+Sheet1!F222+'Захтев за додатна сред.'!F222+Projekat!F222+Sheet2!F222","v":450000},{"$f":"+Programska_aktivnost!G222+Sheet1!G222+'Захтев за додатна сред.'!G222+Projekat!G222+Sheet2!G222","v":220000},{"$f":"+Programska_aktivnost!H222+Sheet1!H222+'Захтев за додатна сред.'!H222+Projekat!H222+Sheet2!H222","v":420000},{"$f":"+Programska_aktivnost!I222+Sheet1!I222+'Захтев за додатна сред.'!I222+Projekat!I222+Sheet2!I222","v":170000},{"$f":"+Programska_aktivnost!J222+Sheet1!J222+'Захтев за додатна сред.'!J222+Projekat!J222+Sheet2!J222","v":551000},{"$f":"+Programska_aktivnost!K222+Sheet1!K222+'Захтев за додатна сред.'!K222+Projekat!K222+Sheet2!K222","v":175000},{"$f":"+Programska_aktivnost!L222+Sheet1!L222+'Захтев за додатна сред.'!L222+Projekat!L222+Sheet2!L222","v":650000},{"$f":"+Programska_aktivnost!M222+Sheet1!M222+'Захтев за додатна сред.'!M222+Projekat!M222+Sheet2!M222","v":200000},1621000,545000,null,null,null,null,null,null,null,null,null,5622000]
[176,422100,"Трошкови службених путовања у земљи",{"$f":"+Programska_aktivnost!D223+Sheet1!D223+'Захтев за додатна сред.'!D223+Projekat!D223+Sheet2!D223","v":240000},{"$f":"+Programska_aktivnost!E223+Sheet1!E223+'Захтев за додатна сред.'!E223+Projekat!E223+Sheet2!E223","v":195000},{"$f":"+Programska_aktivnost!F223+Sheet1!F223+'Захтев за додатна сред.'!F223+Projekat!F223+Sheet2!F223","v":300000},{"$f":"+Programska_aktivnost!G223+Sheet1!G223+'Захтев за додатна сред.'!G223+Projekat!G223+Sheet2!G223","v":180000},{"$f":"+Programska_aktivnost!H223+Sheet1!H223+'Захтев за додатна сред.'!H223+Projekat!H223+Sheet2!H223","v":300000},{"$f":"+Programska_aktivnost!I223+Sheet1!I223+'Захтев за додатна сред.'!I223+Projekat!I223+Sheet2!I223","v":120000},{"$f":"+Programska_aktivnost!J223+Sheet1!J223+'Захтев за додатна сред.'!J223+Projekat!J223+Sheet2!J223","v":406000},{"$f":"+Programska_aktivnost!K223+Sheet1!K223+'Захтев за додатна сред.'!K223+Projekat!K223+Sheet2!K223","v":135000},{"$f":"+Programska_aktivnost!L223+Sheet1!L223+'Захтев за додатна сред.'!L223+Projekat!L223+Sheet2!L223","v":500000},{"$f":"+Programska_aktivnost!M223+Sheet1!M223+'Захтев за додатна сред.'!M223+Projekat!M223+Sheet2!M223","v":150000},1206000,405000,null,null,null,null,null,null,null,null,null,4137000]
[177,422200,"Трошкови службених путовања у иностранство",{"$f":"+Programska_aktivnost!D224+Sheet1!D224+'Захтев за додатна сред.'!D224+Projekat!D224+Sheet2!D224","v":0},{"$f":"+Programska_aktivnost!E224+Sheet1!E224+'Захтев за додатна сред.'!E224+Projekat!E224+Sheet2!E224","v":0},{"$f":"+Programska_aktivnost!F224+Sheet1!F224+'Захтев за додатна сред.'!F224+Projekat!F224+Sheet2!F224","v":0},{"$f":"+Programska_aktivnost!G224+Sheet1!G224+'Захтев за додатна сред.'!G224+Projekat!G224+Sheet2!G224","v":0},{"$f":"+Programska_aktivnost!H224+Sheet1!H224+'Захтев за додатна сред.'!H224+Projekat!H224+Sheet2!H224","v":0},{"$f":"+Programska_aktivnost!I224+Sheet1!I224+'Захтев за додатна сред.'!I224+Projekat!I224+Sheet2!I224","v":0},{"$f":"+Programska_aktivnost!J224+Sheet1!J224+'Захтев за додатна сред.'!J224+Projekat!J224+Sheet2!J224","v":0},{"$f":"+Programska_aktivnost!K224+Sheet1!K224+'Захтев за додатна сред.'!K224+Projekat!K224+Sheet2!K224","v":0},{"$f":"+Programska_aktivnost!L224+Sheet1!L224+'Захтев за додатна сред.'!L224+Projekat!L224+Sheet2!L224","v":0},{"$f":"+Programska_aktivnost!M224+Sheet1!M224+'Захтев за додатна сред.'!M224+Projekat!M224+Sheet2!M224","v":0},0,0,null,null,null,null,null,null,null,null,null,0]
[178,422300,"Трошкови путовања у оквиру редовног рада",{"$f":"+Programska_aktivnost!D225+Sheet1!D225+'Захтев за додатна сред.'!D225+Projekat!D225+Sheet2!D225","v":160000},{"$f":"+Programska_aktivnost!E225+Sheet1!E225+'Захтев за додатна сред.'!E225+Projekat!E225+Sheet2!E225","v":25000},{"$f":"+Programska_aktivnost!F225+Sheet1!F225+'Захтев за додатна сред.'!F225+Projekat!F225+Sheet2!F225","v":150000},{"$f":"+Programska_aktivnost!G225+Sheet1!G225+'Захтев за додатна сред.'!G225+Projekat!G225+Sheet2!G225","v":40000},{"$f":"+Programska_aktivnost!H225+Sheet1!H225+'Захтев за додатна сред.'!H225+Projekat!H225+Sheet2!H225","v":120000},{"$f":"+Programska_aktivnost!I225+Sheet1!I225+'Захтев за додатна сред.'!I225+Projekat!I225+Sheet2!I225","v":50000},{"$f":"+Programska_aktivnost!J225+Sheet1!J225+'Захтев за додатна сред.'!J225+Projekat!J225+Sheet2!J225","v":145000},{"$f":"+Programska_aktivnost!K225+Sheet1!K225+'Захтев за додатна сред.'!K225+Projekat!K225+Sheet2!K225","v":40000},{"$f":"+Programska_aktivnost!L225+Sheet1!L225+'Захтев за додатна сред.'!L225+Projekat!L225+Sheet2!L225","v":150000},{"$f":"+Programska_aktivnost!M225+Sheet1!M225+'Захтев за додатна сред.'!M225+Projekat!M225+Sheet2!M225","v":50000},415000,140000,null,null,null,null,null,null,null,null,null,1485000]
[179,422400,"Трошкови путовања ученика",{"$f":"+Programska_aktivnost!D226+Sheet1!D226+'Захтев за додатна сред.'!D226+Projekat!D226+Sheet2!D226","v":0},{"$f":"+Programska_aktivnost!E226+Sheet1!E226+'Захтев за додатна сред.'!E226+Projekat!E226+Sheet2!E226","v":0},{"$f":"+Programska_aktivnost!F226+Sheet1!F226+'Захтев за додатна сред.'!F226+Projekat!F226+Sheet2!F226","v":0},{"$f":"+Programska_aktivnost!G226+Sheet1!G226+'Захтев за додатна сред.'!G226+Projekat!G226+Sheet2!G226","v":0},{"$f":"+Programska_aktivnost!H226+Sheet1!H226+'Захтев за додатна сред.'!H226+Projekat!H226+Sheet2!H226","v":0},{"$f":"+Programska_aktivnost!I226+Sheet1!I226+'Захтев за додатна сред.'!I226+Projekat!I226+Sheet2!I226","v":0},{"$f":"+Programska_aktivnost!J226+Sheet1!J226+'Захтев за додатна сред.'!J226+Projekat!J226+Sheet2!J226","v":0},{"$f":"+Programska_aktivnost!K226+Sheet1!K226+'Захтев за додатна сред.'!K226+Projekat!K226+Sheet2!K226","v":0},{"$f":"+Programska_aktivnost!L226+Sheet1!L226+'Захтев за додатна сред.'!L226+Projekat!L226+Sheet2!L226","v":0},{"$f":"+Programska_aktivnost!M226+Sheet1!M226+'Захтев за додатна сред.'!M226+Projekat!M226+Sheet2!M226","v":0},0,0,null,null,null,null,null,null,null,null,null,0]
[180,422900,"Остали трошкови транспорта",{"$f":"+Programska_aktivnost!D227+Sheet1!D227+'Захтев за додатна сред.'!D227+Projekat!D227+Sheet2!D227","v":0},{"$f":"+Programska_aktivnost!E227+Sheet1!E227+'Захтев за додатна сред.'!E227+Projekat!E227+Sheet2!E227","v":0},{"$f":"+Programska_aktivnost!F227+Sheet1!F227+'Захтев за додатна сред.'!F227+Projekat!F227+Sheet2!F227","v":0},{"$f":"+Programska_aktivnost!G227+Sheet1!G227+'Захтев за додатна сред.'!G227+Projekat!G227+Sheet2!G227","v":0},{"$f":"+Programska_aktivnost!H227+Sheet1!H227+'Захтев за додатна сред.'!H227+Projekat!H227+Sheet2!H227","v":0},{"$f":"+Programska_aktivnost!I227+Sheet1!I227+'Захтев за додатна сред.'!I227+Projekat!I227+Sheet2!I227","v":0},{"$f":"+Programska_aktivnost!J227+Sheet1!J227+'Захтев за додатна сред.'!J227+Projekat!J227+Sheet2!J227","v":0},{"$f":"+Programska_aktivnost!K227+Sheet1!K227+'Захтев за додатна сред.'!K227+Projekat!K227+Sheet2!K227","v":0},{"$f":"+Programska_aktivnost!L227+Sheet1!L227+'Захтев за додатна сред.'!L227+Projekat!L227+Sheet2!L227","v":0},{"$f":"+Programska_aktivnost!M227+Sheet1!M227+'Захтев за додатна сред.'!M227+Projekat!M227+Sheet2!M227","v":0},0,0,null,null,null,null,null,null,null,null,null,0]
[181,423000,"УСЛУГЕ ПО УГОВОРУ (од 182 до 189)",{"$f":"+Programska_aktivnost!D228+Sheet1!D228+'Захтев за додатна сред.'!D228+Projekat!D228+Sheet2!D228","v":2580000},{"$f":"+Programska_aktivnost!E228+Sheet1!E228+'Захтев за додатна сред.'!E228+Projekat!E228+Sheet2!E228","v":950000},{"$f":"+Programska_aktivnost!F228+Sheet1!F228+'Захтев за додатна сред.'!F228+Projekat!F228+Sheet2!F228","v":2580000},{"$f":"+Programska_aktivnost!G228+Sheet1!G228+'Захтев за додатна сред.'!G228+Projekat!G228+Sheet2!G228","v":950000},{"$f":"+Programska_aktivnost!H228+Sheet1!H228+'Захтев за додатна сред.'!H228+Projekat!H228+Sheet2!H228","v":4490000},{"$f":"+Programska_aktivnost!I228+Sheet1!I228+'Захтев за додатна сред.'!I228+Projekat!I228+Sheet2!I228","v":480000},{"$f":"+Programska_aktivnost!J228+Sheet1!J228+'Захтев за додатна сред.'!J228+Projekat!J228+Sheet2!J228","v":3920000},{"$f":"+Programska_aktivnost!K228+Sheet1!K228+'Захтев за додатна сред.'!K228+Projekat!K228+Sheet2!K228","v":485000},{"$f":"+Programska_aktivnost!L228+Sheet1!L228+'Захтев за додатна сред.'!L228+Projekat!L228+Sheet2!L228","v":4105000},{"$f":"+Programska_aktivnost!M228+Sheet1!M228+'Захтев за додатна сред.'!M228+Projekat!M228+Sheet2!M228","v":540000},12515000,1505000,null,null,null,null,null,null,null,null,null,35100000]
[182,423100,"Административне услуге",{"$f":"+Programska_aktivnost!D229+Sheet1!D229+'Захтев за додатна сред.'!D229+Projekat!D229+Sheet2!D229","v":0},{"$f":"+Programska_aktivnost!E229+Sheet1!E229+'Захтев за додатна сред.'!E229+Projekat!E229+Sheet2!E229","v":0},{"$f":"+Programska_aktivnost!F229+Sheet1!F229+'Захтев за додатна сред.'!F229+Projekat!F229+Sheet2!F229","v":0},{"$f":"+Programska_aktivnost!G229+Sheet1!G229+'Захтев за додатна сред.'!G229+Projekat!G229+Sheet2!G229","v":0},{"$f":"+Programska_aktivnost!H229+Sheet1!H229+'Захтев за додатна сред.'!H229+Projekat!H229+Sheet2!H229","v":0},{"$f":"+Programska_aktivnost!I229+Sheet1!I229+'Захтев за додатна сред.'!I229+Projekat!I229+Sheet2!I229","v":0},{"$f":"+Programska_aktivnost!J229+Sheet1!J229+'Захтев за додатна сред.'!J229+Projekat!J229+Sheet2!J229","v":0},{"$f":"+Programska_aktivnost!K229+Sheet1!K229+'Захтев за додатна сред.'!K229+Projekat!K229+Sheet2!K229","v":0},{"$f":"+Programska_aktivnost!L229+Sheet1!L229+'Захтев за додатна сред.'!L229+Projekat!L229+Sheet2!L229","v":0},{"$f":"+Programska_aktivnost!M229+Sheet1!M229+'Захтев за додатна сред.'!M229+Projekat!M229+Sheet2!M229","v":0},0,0,null,null,null,null,null,null,null,null,null,0]
[183,423200,"Компјутерске услуге",{"$f":"+Programska_aktivnost!D230+Sheet1!D230+'Захтев за додатна сред.'!D230+Projekat!D230+Sheet2!D230","v":110000},{"$f":"+Programska_aktivnost!E230+Sheet1!E230+'Захтев за додатна сред.'!E230+Projekat!E230+Sheet2!E230","v":30000},{"$f":"+Programska_aktivnost!F230+Sheet1!F230+'Захтев за додатна сред.'!F230+Projekat!F230+Sheet2!F230","v":110000},{"$f":"+Programska_aktivnost!G230+Sheet1!G230+'Захтев за додатна сред.'!G230+Projekat!G230+Sheet2!G230","v":30000},{"$f":"+Programska_aktivnost!H230+Sheet1!H230+'Захтев за додатна сред.'!H230+Projekat!H230+Sheet2!H230","v":110000},{"$f":"+Programska_aktivnost!I230+Sheet1!I230+'Захтев за додатна сред.'!I230+Projekat!I230+Sheet2!I230","v":30000},{"$f":"+Programska_aktivnost!J230+Sheet1!J230+'Захтев за додатна сред.'!J230+Projekat!J230+Sheet2!J230","v":120000},{"$f":"+Programska_aktivnost!K230+Sheet1!K230+'Захтев за додатна сред.'!K230+Projekat!K230+Sheet2!K230","v":30000},{"$f":"+Programska_aktivnost!L230+Sheet1!L230+'Захтев за додатна сред.'!L230+Projekat!L230+Sheet2!L230","v":125000},{"$f":"+Programska_aktivnost!M230+Sheet1!M230+'Захтев за додатна сред.'!M230+Projekat!M230+Sheet2!M230","v":35000},355000,95000,null,null,null,null,null,null,null,null,null,1180000]
[184,423300,"Услуге образовања и усавршавања запослених",{"$f":"+Programska_aktivnost!D231+Sheet1!D231+'Захтев за додатна сред.'!D231+Projekat!D231+Sheet2!D231","v":270000},{"$f":"+Programska_aktivnost!E231+Sheet1!E231+'Захтев за додатна сред.'!E231+Projekat!E231+Sheet2!E231","v":50000},{"$f":"+Programska_aktivnost!F231+Sheet1!F231+'Захтев за додатна сред.'!F231+Projekat!F231+Sheet2!F231","v":100000},{"$f":"+Programska_aktivnost!G231+Sheet1!G231+'Захтев за додатна сред.'!G231+Projekat!G231+Sheet2!G231","v":50000},{"$f":"+Programska_aktivnost!H231+Sheet1!H231+'Захтев за додатна сред.'!H231+Projekat!H231+Sheet2!H231","v":270000},{"$f":"+Programska_aktivnost!I231+Sheet1!I231+'Захтев за додатна сред.'!I231+Projekat!I231+Sheet2!I231","v":50000},{"$f":"+Programska_aktivnost!J231+Sheet1!J231+'Захтев за додатна сред.'!J231+Projekat!J231+Sheet2!J231","v":280000},{"$f":"+Programska_aktivnost!K231+Sheet1!K231+'Захтев за додатна сред.'!K231+Projekat!K231+Sheet2!K231","v":55000},{"$f":"+Programska_aktivnost!L231+Sheet1!L231+'Захтев за додатна сред.'!L231+Projekat!L231+Sheet2!L231","v":280000},{"$f":"+Programska_aktivnost!M231+Sheet1!M231+'Захтев за додатна сред.'!M231+Projekat!M231+Sheet2!M231","v":55000},830000,160000,null,null,null,null,null,null,null,null,null,2450000]
[185,423400,"Услуге информисања",{"$f":"+Programska_aktivnost!D232+Sheet1!D232+'Захтев за додатна сред.'!D232+Projekat!D232+Sheet2!D232","v":100000},{"$f":"+Programska_aktivnost!E232+Sheet1!E232+'Захтев за додатна сред.'!E232+Projekat!E232+Sheet2!E232","v":150000},{"$f":"+Programska_aktivnost!F232+Sheet1!F232+'Захтев за додатна сред.'!F232+Projekat!F232+Sheet2!F232","v":100000},{"$f":"+Programska_aktivnost!G232+Sheet1!G232+'Захтев за додатна сред.'!G232+Projekat!G232+Sheet2!G232","v":150000},{"$f":"+Programska_aktivnost!H232+Sheet1!H232+'Захтев за додатна сред.'!H232+Projekat!H232+Sheet2!H232","v":150000},{"$f":"+Programska_aktivnost!I232+Sheet1!I232+'Захтев за додатна сред.'!I232+Projekat!I232+Sheet2!I232","v":50000},{"$f":"+Programska_aktivnost!J232+Sheet1!J232+'Захтев за додатна сред.'!J232+Projekat!J232+Sheet2!J232","v":200000},{"$f":"+Programska_aktivnost!K232+Sheet1!K232+'Захтев за додатна сред.'!K232+Projekat!K232+Sheet2!K232","v":50000},{"$f":"+Programska_aktivnost!L232+Sheet1!L232+'Захтев за додатна сред.'!L232+Projekat!L232+Sheet2!L232","v":250000},{"$f":"+Programska_aktivnost!M232+Sheet1!M232+'Захтев за додатна сред.'!M232+Projekat!M232+Sheet2!M232","v":50000},600000,150000,null,null,null,null,null,null,null,null,null,2000000]
[186,423500,"Стручне услуге",{"$f":"+Programska_aktivnost!D233+Sheet1!D233+'Захтев за додатна сред.'!D233+Projekat!D233+Sheet2!D233","v":0},{"$f":"+Programska_aktivnost!E233+Sheet1!E233+'Захтев за додатна сред.'!E233+Projekat!E233+Sheet2!E233","v":0},{"$f":"+Programska_aktivnost!F233+Sheet1!F233+'Захтев за додатна сред.'!F233+Projekat!F233+Sheet2!F233","v":0},{"$f":"+Programska_aktivnost!G233+Sheet1!G233+'Захтев за додатна сред.'!G233+Projekat!G233+Sheet2!G233","v":0},{"$f":"+Programska_aktivnost!H233+Sheet1!H233+'Захтев за додатна сред.'!H233+Projekat!H233+Sheet2!H233","v":0},{"$f":"+Programska_aktivnost!I233+Sheet1!I233+'Захтев за додатна сред.'!I233+Projekat!I233+Sheet2!I233","v":0},{"$f":"+Programska_aktivnost!J233+Sheet1!J233+'Захтев за додатна сред.'!J233+Projekat!J233+Sheet2!J233","v":0},{"$f":"+Programska_aktivnost!K233+Sheet1!K233+'Захтев за додатна сред.'!K233+Projekat!K233+Sheet2!K233","v":0},{"$f":"+Programska_aktivnost!L233+Sheet1!L233+'Захтев за додатна сред.'!L233+Projekat!L233+Sheet2!L233","v":0},{"$f":"+Programska_aktivnost!M233+Sheet1!M233+'Захтев за додатна сред.'!M233+Projekat!M233+Sheet2!M233","v":0},0,0,null,null,null,null,null,null,null,null,null,0]
[187,423600,"Услуге за домаћинство и угоститељство",{"$f":"+Programska_aktivnost!D234+Sheet1!D234+'Захтев за додатна сред.'!D234+Projekat!D234+Sheet2!D234","v":100000},{"$f":"+Programska_aktivnost!E234+Sheet1!E234+'Захтев за додатна сред.'!E234+Projekat!E234+Sheet2!E234","v":20000},{"$f":"+Programska_aktivnost!F234+Sheet1!F234+'Захтев за додатна сред.'!F234+Projekat!F234+Sheet2!F234","v":100000},{"$f":"+Programska_aktivnost!G234+Sheet1!G234+'Захтев за додатна сред.'!G234+Projekat!G234+Sheet2!G234","v":50000},{"$f":"+Programska_aktivnost!H234+Sheet1!H234+'Захтев за додатна сред.'!H234+Projekat!H234+Sheet2!H234","v":100000},{"$f":"+Programska_aktivnost!I234+Sheet1!I234+'Захтев за додатна сред.'!I234+Projekat!I234+Sheet2!I234","v":50000},{"$f":"+Programska_aktivnost!J234+Sheet1!J234+'Захтев за додатна сред.'!J234+Projekat!J234+Sheet2!J234","v":120000},{"$f":"+Programska_aktivnost!K234+Sheet1!K234+'Захтев за додатна сред.'!K234+Projekat!K234+Sheet2!K234","v":50000},{"$f":"+Programska_aktivnost!L234+Sheet1!L234+'Захтев за додатна сред.'!L234+Projekat!L234+Sheet2!L234","v":150000},{"$f":"+Programska_aktivnost!M234+Sheet1!M234+'Захтев за додатна сред.'!M234+Projekat!M234+Sheet2!M234","v":50000},370000,150000,null,null,null,null,null,null,null,null,null,1310000]
[188,423700,"Репрезентација",{"$f":"+Programska_aktivnost!D235+Sheet1!D235+'Захтев за додатна сред.'!D235+Projekat!D235+Sheet2!D235","v":0},{"$f":"+Programska_aktivnost!E235+Sheet1!E235+'Захтев за додатна сред.'!E235+Projekat!E235+Sheet2!E235","v":0},{"$f":"+Programska_aktivnost!F235+Sheet1!F235+'Захтев за додатна сред.'!F235+Projekat!F235+Sheet2!F235","v":0},{"$f":"+Programska_aktivnost!G235+Sheet1!G235+'Захтев за додатна сред.'!G235+Projekat!G235+Sheet2!G235","v":0},{"$f":"+Programska_aktivnost!H235+Sheet1!H235+'Захтев за додатна сред.'!H235+Projekat!H235+Sheet2!H235","v":0},{"$f":"+Programska_aktivnost!I235+Sheet1!I235+'Захтев за додатна сред.'!I235+Projekat!I235+Sheet2!I235","v":0},{"$f":"+Programska_aktivnost!J235+Sheet1!J235+'Захтев за додатна сред.'!J235+Projekat!J235+Sheet2!J235","v":0},{"$f":"+Programska_aktivnost!K235+Sheet1!K235+'Захтев за додатна сред.'!K235+Projekat!K235+Sheet2!K235","v":0},{"$f":"+Programska_aktivnost!L235+Sheet1!L235+'Захтев за додатна сред.'!L235+Projekat!L235+Sheet2!L235","v":0},{"$f":"+Programska_aktivnost!M235+Sheet1!M235+'Захтев за додатна сред.'!M235+Projekat!M235+Sheet2!M235","v":0},0,0,null,null,null,null,null,null,null,null,null,0]
[189,423900,"Остале опште услуге",{"$f":"+Programska_aktivnost!D236+Sheet1!D236+'Захтев за додатна сред.'!D236+Projekat!D236+Sheet2!D236","v":2000000},{"$f":"+Programska_aktivnost!E236+Sheet1!E236+'Захтев за додатна сред.'!E236+Projekat!E236+Sheet2!E236","v":700000},{"$f":"+Programska_aktivnost!F236+Sheet1!F236+'Захтев за додатна сред.'!F236+Projekat!F236+Sheet2!F236","v":2170000},{"$f":"+Programska_aktivnost!G236+Sheet1!G236+'Захтев за додатна сред.'!G236+Projekat!G236+Sheet2!G236","v":670000},{"$f":"+Programska_aktivnost!H236+Sheet1!H236+'Захтев за додатна сред.'!H236+Projekat!H236+Sheet2!H236","v":3860000},{"$f":"+Programska_aktivnost!I236+Sheet1!I236+'Захтев за додатна сред.'!I236+Projekat!I236+Sheet2!I236","v":300000},{"$f":"+Programska_aktivnost!J236+Sheet1!J236+'Захтев за додатна сред.'!J236+Projekat!J236+Sheet2!J236","v":3200000},{"$f":"+Programska_aktivnost!K236+Sheet1!K236+'Захтев за додатна сред.'!K236+Projekat!K236+Sheet2!K236","v":300000},{"$f":"+Programska_aktivnost!L236+Sheet1!L236+'Захтев за додатна сред.'!L236+Projekat!L236+Sheet2!L236","v":3300000},{"$f":"+Programska_aktivnost!M236+Sheet1!M236+'Захтев за додатна сред.'!M236+Projekat!M236+Sheet2!M236","v":350000},10360000,950000,null,null,null,null,null,null,null,null,null,28160000]
[190,424000,"СПЕЦИЈАЛИЗОВАНЕ УСЛУГЕ (од 191 до197)",{"$f":"+Programska_aktivnost!D237+Sheet1!D237+'Захтев за додатна сред.'!D237+Projekat!D237+Sheet2!D237","v":380000},{"$f":"+Programska_aktivnost!E237+Sheet1!E237+'Захтев за додатна сред.'!E237+Projekat!E237+Sheet2!E237","v":150000},{"$f":"+Programska_aktivnost!F237+Sheet1!F237+'Захтев за додатна сред.'!F237+Projekat!F237+Sheet2!F237","v":420000},{"$f":"+Programska_aktivnost!G237+Sheet1!G237+'Захтев за додатна сред.'!G237+Projekat!G237+Sheet2!G237","v":150000},{"$f":"+Programska_aktivnost!H237+Sheet1!H237+'Захтев за додатна сред.'!H237+Projekat!H237+Sheet2!H237","v":480000},{"$f":"+Programska_aktivnost!I237+Sheet1!I237+'Захтев за додатна сред.'!I237+Projekat!I237+Sheet2!I237","v":0},{"$f":"+Programska_aktivnost!J237+Sheet1!J237+'Захтев за додатна сред.'!J237+Projekat!J237+Sheet2!J237","v":480000},{"$f":"+Programska_aktivnost!K237+Sheet1!K237+'Захтев за додатна сред.'!K237+Projekat!K237+Sheet2!K237","v":150000},{"$f":"+Programska_aktivnost!L237+Sheet1!L237+'Захтев за додатна сред.'!L237+Projekat!L237+Sheet2!L237","v":530000},{"$f":"+Programska_aktivnost!M237+Sheet1!M237+'Захтев за додатна сред.'!M237+Projekat!M237+Sheet2!M237","v":150000},1490000,300000,null,null,null,null,null,null,null,null,null,4680000]
[191,424100,"Пољопривредне услуге",{"$f":"+Programska_aktivnost!D238+Sheet1!D238+'Захтев за додатна сред.'!D238+Projekat!D238+Sheet2!D238","v":0},{"$f":"+Programska_aktivnost!E238+Sheet1!E238+'Захтев за додатна сред.'!E238+Projekat!E238+Sheet2!E238","v":0},{"$f":"+Programska_aktivnost!F238+Sheet1!F238+'Захтев за додатна сред.'!F238+Projekat!F238+Sheet2!F238","v":0},{"$f":"+Programska_aktivnost!G238+Sheet1!G238+'Захтев за додатна сред.'!G238+Projekat!G238+Sheet2!G238","v":0},{"$f":"+Programska_aktivnost!H238+Sheet1!H238+'Захтев за додатна сред.'!H238+Projekat!H238+Sheet2!H238","v":0},{"$f":"+Programska_aktivnost!I238+Sheet1!I238+'Захтев за додатна сред.'!I238+Projekat!I238+Sheet2!I238","v":0},{"$f":"+Programska_aktivnost!J238+Sheet1!J238+'Захтев за додатна сред.'!J238+Projekat!J238+Sheet2!J238","v":0},{"$f":"+Programska_aktivnost!K238+Sheet1!K238+'Захтев за додатна сред.'!K238+Projekat!K238+Sheet2!K238","v":0},{"$f":"+Programska_aktivnost!L238+Sheet1!L238+'Захтев за додатна сред.'!L238+Projekat!L238+Sheet2!L238","v":0},{"$f":"+Programska_aktivnost!M238+Sheet1!M238+'Захтев за додатна сред.'!M238+Projekat!M238+Sheet2!M238","v":0},0,0,null,null,null,null,null,null,null,null,null,0]
[192,424200,"Услуге образовања, културе и спорта",{"$f":"+Programska_aktivnost!D239+Sheet1!D239+'Захтев за додатна сред.'!D239+Projekat!D239+Sheet2!D239","v":250000},{"$f":"+Programska_aktivnost!E239+Sheet1!E239+'Захтев за додатна сред.'!E239+Projekat!E239+Sheet2!E239","v":50000},{"$f":"+Programska_aktivnost!F239+Sheet1!F239+'Захтев за додатна сред.'!F239+Projekat!F239+Sheet2!F239","v":300000},{"$f":"+Programska_aktivnost!G239+Sheet1!G239+'Захтев за додатна сред.'!G239+Projekat!G239+Sheet2!G239","v":100000},{"$f":"+Programska_aktivnost!H239+Sheet1!H239+'Захтев за додатна сред.'!H239+Projekat!H239+Sheet2!H239","v":250000},{"$f":"+Programska_aktivnost!I239+Sheet1!I239+'Захтев за додатна сред.'!I239+Projekat!I239+Sheet2!I239","v":0},{"$f":"+Programska_aktivnost!J239+Sheet1!J239+'Захтев за додатна сред.'!J239+Projekat!J239+Sheet2!J239","v":350000},{"$f":"+Programska_aktivnost!K239+Sheet1!K239+'Захтев за додатна сред.'!K239+Projekat!K239+Sheet2!K239","v":100000},{"$f":"+Programska_aktivnost!L239+Sheet1!L239+'Захтев за додатна сред.'!L239+Projekat!L239+Sheet2!L239","v":400000},{"$f":"+Programska_aktivnost!M239+Sheet1!M239+'Захтев за додатна сред.'!M239+Projekat!M239+Sheet2!M239","v":100000},1000000,200000,null,null,null,null,null,null,null,null,null,3100000]
[193,424300,"Медицинске услуге",{"$f":"+Programska_aktivnost!D240+Sheet1!D240+'Захтев за додатна сред.'!D240+Projekat!D240+Sheet2!D240","v":0},{"$f":"+Programska_aktivnost!E240+Sheet1!E240+'Захтев за додатна сред.'!E240+Projekat!E240+Sheet2!E240","v":0},{"$f":"+Programska_aktivnost!F240+Sheet1!F240+'Захтев за додатна сред.'!F240+Projekat!F240+Sheet2!F240","v":0},{"$f":"+Programska_aktivnost!G240+Sheet1!G240+'Захтев за додатна сред.'!G240+Projekat!G240+Sheet2!G240","v":0},{"$f":"+Programska_aktivnost!H240+Sheet1!H240+'Захтев за додатна сред.'!H240+Projekat!H240+Sheet2!H240","v":0},{"$f":"+Programska_aktivnost!I240+Sheet1!I240+'Захтев за додатна сред.'!I240+Projekat!I240+Sheet2!I240","v":0},{"$f":"+Programska_aktivnost!J240+Sheet1!J240+'Захтев за додатна сред.'!J240+Projekat!J240+Sheet2!J240","v":0},{"$f":"+Programska_aktivnost!K240+Sheet1!K240+'Захтев за додатна сред.'!K240+Projekat!K240+Sheet2!K240","v":0},{"$f":"+Programska_aktivnost!L240+Sheet1!L240+'Захтев за додатна сред.'!L240+Projekat!L240+Sheet2!L240","v":0},{"$f":"+Programska_aktivnost!M240+Sheet1!M240+'Захтев за додатна сред.'!M240+Projekat!M240+Sheet2!M240","v":0},0,0,null,null,null,null,null,null,null,null,null,0]
[194,424400,"Услуге одржавања аутопутева",{"$f":"+Programska_aktivnost!D241+Sheet1!D241+'Захтев за додатна сред.'!D241+Projekat!D241+Sheet2!D241","v":0},{"$f":"+Programska_aktivnost!E241+Sheet1!E241+'Захтев за додатна сред.'!E241+Projekat!E241+Sheet2!E241","v":0},{"$f":"+Programska_aktivnost!F241+Sheet1!F241+'Захтев за додатна сред.'!F241+Projekat!F241+Sheet2!F241","v":0},{"$f":"+Programska_aktivnost!G241+Sheet1!G241+'Захтев за додатна сред.'!G241+Projekat!G241+Sheet2!G241","v":0},{"$f":"+Programska_aktivnost!H241+Sheet1!H241+'Захтев за додатна сред.'!H241+Projekat!H241+Sheet2!H241","v":0},{"$f":"+Programska_aktivnost!I241+Sheet1!I241+'Захтев за додатна сред.'!I241+Projekat!I241+Sheet2!I241","v":0},{"$f":"+Programska_aktivnost!J241+Sheet1!J241+'Захтев за додатна сред.'!J241+Projekat!J241+Sheet2!J241","v":0},{"$f":"+Programska_aktivnost!K241+Sheet1!K241+'Захтев за додатна сред.'!K241+Projekat!K241+Sheet2!K241","v":0},{"$f":"+Programska_aktivnost!L241+Sheet1!L241+'Захтев за додатна сред.'!L241+Projekat!L241+Sheet2!L241","v":0},{"$f":"+Programska_aktivnost!M241+Sheet1!M241+'Захтев за додатна сред.'!M241+Projekat!M241+Sheet2!M241","v":0},0,0,null,null,null,null,null,null,null,null,null,0]
[195,424500,"Услуге одржавања националних паркова и природних површина",{"$f":"+Programska_aktivnost!D242+Sheet1!D242+'Захтев за додатна сред.'!D242+Projekat!D242+Sheet2!D242","v":0},{"$f":"+Programska_aktivnost!E242+Sheet1!E242+'Захтев за додатна сред.'!E242+Projekat!E242+Sheet2!E242","v":0},{"$f":"+Programska_aktivnost!F242+Sheet1!F242+'Захтев за додатна сред.'!F242+Projekat!F242+Sheet2!F242","v":0},{"$f":"+Programska_aktivnost!G242+Sheet1!G242+'Захтев за додатна сред.'!G242+Projekat!G242+Sheet2!G242","v":0},{"$f":"+Programska_aktivnost!H242+Sheet1!H242+'Захтев за додатна сред.'!H242+Projekat!H242+Sheet2!H242","v":0},{"$f":"+Programska_aktivnost!I242+Sheet1!I242+'Захтев за додатна сред.'!I242+Projekat!I242+Sheet2!I242","v":0},{"$f":"+Programska_aktivnost!J242+Sheet1!J242+'Захтев за додатна сред.'!J242+Projekat!J242+Sheet2!J242","v":0},{"$f":"+Programska_aktivnost!K242+Sheet1!K242+'Захтев за додатна сред.'!K242+Projekat!K242+Sheet2!K242","v":0},{"$f":"+Programska_aktivnost!L242+Sheet1!L242+'Захтев за додатна сред.'!L242+Projekat!L242+Sheet2!L242","v":0},{"$f":"+Programska_aktivnost!M242+Sheet1!M242+'Захтев за додатна сред.'!M242+Projekat!M242+Sheet2!M242","v":0},0,0,null,null,null,null,null,null,null,null,null,0]
[196,424600,"Услуге очувања животне средине, науке и геодетске услуге",{"$f":"+Programska_aktivnost!D243+Sheet1!D243+'Захтев за додатна сред.'!D243+Projekat!D243+Sheet2!D243","v":0},{"$f":"+Programska_aktivnost!E243+Sheet1!E243+'Захтев за додатна сред.'!E243+Projekat!E243+Sheet2!E243","v":0},{"$f":"+Programska_aktivnost!F243+Sheet1!F243+'Захтев за додатна сред.'!F243+Projekat!F243+Sheet2!F243","v":0},{"$f":"+Programska_aktivnost!G243+Sheet1!G243+'Захтев за додатна сред.'!G243+Projekat!G243+Sheet2!G243","v":0},{"$f":"+Programska_aktivnost!H243+Sheet1!H243+'Захтев за додатна сред.'!H243+Projekat!H243+Sheet2!H243","v":0},{"$f":"+Programska_aktivnost!I243+Sheet1!I243+'Захтев за додатна сред.'!I243+Projekat!I243+Sheet2!I243","v":0},{"$f":"+Programska_aktivnost!J243+Sheet1!J243+'Захтев за додатна сред.'!J243+Projekat!J243+Sheet2!J243","v":0},{"$f":"+Programska_aktivnost!K243+Sheet1!K243+'Захтев за додатна сред.'!K243+Projekat!K243+Sheet2!K243","v":0},{"$f":"+Programska_aktivnost!L243+Sheet1!L243+'Захтев за додатна сред.'!L243+Projekat!L243+Sheet2!L243","v":0},{"$f":"+Programska_aktivnost!M243+Sheet1!M243+'Захтев за додатна сред.'!M243+Projekat!M243+Sheet2!M243","v":0},0,0,null,null,null,null,null,null,null,null,null,0]
[197,424900,"Остале специјализоване услуге",{"$f":"+Programska_aktivnost!D244+Sheet1!D244+'Захтев за додатна сред.'!D244+Projekat!D244+Sheet2!D244","v":130000},{"$f":"+Programska_aktivnost!E244+Sheet1!E244+'Захтев за додатна сред.'!E244+Projekat!E244+Sheet2!E244","v":100000},{"$f":"+Programska_aktivnost!F244+Sheet1!F244+'Захтев за додатна сред.'!F244+Projekat!F244+Sheet2!F244","v":120000},{"$f":"+Programska_aktivnost!G244+Sheet1!G244+'Захтев за додатна сред.'!G244+Projekat!G244+Sheet2!G244","v":50000},{"$f":"+Programska_aktivnost!H244+Sheet1!H244+'Захтев за додатна сред.'!H244+Projekat!H244+Sheet2!H244","v":230000},{"$f":"+Programska_aktivnost!I244+Sheet1!I244+'Захтев за додатна сред.'!I244+Projekat!I244+Sheet2!I244","v":0},{"$f":"+Programska_aktivnost!J244+Sheet1!J244+'Захтев за додатна сред.'!J244+Projekat!J244+Sheet2!J244","v":130000},{"$f":"+Programska_aktivnost!K244+Sheet1!K244+'Захтев за додатна сред.'!K244+Projekat!K244+Sheet2!K244","v":50000},{"$f":"+Programska_aktivnost!L244+Sheet1!L244+'Захтев за додатна сред.'!L244+Projekat!L244+Sheet2!L244","v":130000},{"$f":"+Programska_aktivnost!M244+Sheet1!M244+'Захтев за додатна сред.'!M244+Projekat!M244+Sheet2!M244","v":50000},490000,100000,null,null,null,null,null,null,null,null,null,1580000]
[198,425000,"ТЕКУЋЕ ПОПРАВКЕ И ОДРЖАВАЊЕ (199 + 200)",{"$f":"+Programska_aktivnost!D245+Sheet1!D245+'Захтев за додатна сред.'!D245+Projekat!D245+Sheet2!D245","v":2359000},{"$f":"+Programska_aktivnost!E245+Sheet1!E245+'Захтев за додатна сред.'!E245+Projekat!E245+Sheet2!E245","v":0},{"$f":"+Programska_aktivnost!F245+Sheet1!F245+'Захтев за додатна сред.'!F245+Projekat!F245+Sheet2!F245","v":2800000},{"$f":"+Programska_aktivnost!G245+Sheet1!G245+'Захтев за додатна сред.'!G245+Projekat!G245+Sheet2!G245","v":0},{"$f":"+Programska_aktivnost!H245+Sheet1!H245+'Захтев за додатна сред.'!H245+Projekat!H245+Sheet2!H245","v":2273000},{"$f":"+Programska_aktivnost!I245+Sheet1!I245+'Захтев за додатна сред.'!I245+Projekat!I245+Sheet2!I245","v":0},{"$f":"+Programska_aktivnost!J245+Sheet1!J245+'Захтев за додатна сред.'!J245+Projekat!J245+Sheet2!J245","v":3200000},{"$f":"+Programska_aktivnost!K245+Sheet1!K245+'Захтев за додатна сред.'!K245+Projekat!K245+Sheet2!K245","v":0},{"$f":"+Programska_aktivnost!L245+Sheet1!L245+'Захтев за додатна сред.'!L245+Projekat!L245+Sheet2!L245","v":3450000},{"$f":"+Programska_aktivnost!M245+Sheet1!M245+'Захтев за додатна сред.'!M245+Projekat!M245+Sheet2!M245","v":0},8923000,0,null,null,null,null,null,null,null,null,null,23005000]
[199,425100,"Текуће поправке и одржавање зграда и објеката",{"$f":"+Programska_aktivnost!D246+Sheet1!D246+'Захтев за додатна сред.'!D246+Projekat!D246+Sheet2!D246","v":1899000},{"$f":"+Programska_aktivnost!E246+Sheet1!E246+'Захтев за додатна сред.'!E246+Projekat!E246+Sheet2!E246","v":0},{"$f":"+Programska_aktivnost!F246+Sheet1!F246+'Захтев за додатна сред.'!F246+Projekat!F246+Sheet2!F246","v":2300000},{"$f":"+Programska_aktivnost!G246+Sheet1!G246+'Захтев за додатна сред.'!G246+Projekat!G246+Sheet2!G246","v":0},{"$f":"+Programska_aktivnost!H246+Sheet1!H246+'Захтев за додатна сред.'!H246+Projekat!H246+Sheet2!H246","v":1563000},{"$f":"+Programska_aktivnost!I246+Sheet1!I246+'Захтев за додатна сред.'!I246+Projekat!I246+Sheet2!I246","v":0},{"$f":"+Programska_aktivnost!J246+Sheet1!J246+'Захтев за додатна сред.'!J246+Projekat!J246+Sheet2!J246","v":2700000},{"$f":"+Programska_aktivnost!K246+Sheet1!K246+'Захтев за додатна сред.'!K246+Projekat!K246+Sheet2!K246","v":0},{"$f":"+Programska_aktivnost!L246+Sheet1!L246+'Захтев за додатна сред.'!L246+Projekat!L246+Sheet2!L246","v":2900000},{"$f":"+Programska_aktivnost!M246+Sheet1!M246+'Захтев за додатна сред.'!M246+Projekat!M246+Sheet2!M246","v":0},7163000,0,null,null,null,null,null,null,null,null,null,18525000]
[200,425200,"Текуће поправке и одржавање опреме",{"$f":"+Programska_aktivnost!D247+Sheet1!D247+'Захтев за додатна сред.'!D247+Projekat!D247+Sheet2!D247","v":460000},{"$f":"+Programska_aktivnost!E247+Sheet1!E247+'Захтев за додатна сред.'!E247+Projekat!E247+Sheet2!E247","v":0},{"$f":"+Programska_aktivnost!F247+Sheet1!F247+'Захтев за додатна сред.'!F247+Projekat!F247+Sheet2!F247","v":500000},{"$f":"+Programska_aktivnost!G247+Sheet1!G247+'Захтев за додатна сред.'!G247+Projekat!G247+Sheet2!G247","v":0},{"$f":"+Programska_aktivnost!H247+Sheet1!H247+'Захтев за додатна сред.'!H247+Projekat!H247+Sheet2!H247","v":710000},{"$f":"+Programska_aktivnost!I247+Sheet1!I247+'Захтев за додатна сред.'!I247+Projekat!I247+Sheet2!I247","v":0},{"$f":"+Programska_aktivnost!J247+Sheet1!J247+'Захтев за додатна сред.'!J247+Projekat!J247+Sheet2!J247","v":500000},{"$f":"+Programska_aktivnost!K247+Sheet1!K247+'Захтев за додатна сред.'!K247+Projekat!K247+Sheet2!K247","v":0},{"$f":"+Programska_aktivnost!L247+Sheet1!L247+'Захтев за додатна сред.'!L247+Projekat!L247+Sheet2!L247","v":550000},{"$f":"+Programska_aktivnost!M247+Sheet1!M247+'Захтев за додатна сред.'!M247+Projekat!M247+Sheet2!M247","v":0},1760000,0,null,null,null,null,null,null,null,null,null,4480000]
[{"$f":"A247+1","v":201},426000,"МАТЕРИЈАЛ (од 202 до 210)",{"$f":"+Programska_aktivnost!D248+Sheet1!D248+'Захтев за додатна сред.'!D248+Projekat!D248+Sheet2!D248","v":13352000},{"$f":"+Programska_aktivnost!E248+Sheet1!E248+'Захтев за додатна сред.'!E248+Projekat!E248+Sheet2!E248","v":8040000},{"$f":"+Programska_aktivnost!F248+Sheet1!F248+'Захтев за додатна сред.'!F248+Projekat!F248+Sheet2!F248","v":11647000},{"$f":"+Programska_aktivnost!G248+Sheet1!G248+'Захтев за додатна сред.'!G248+Projekat!G248+Sheet2!G248","v":8180000},{"$f":"+Programska_aktivnost!H248+Sheet1!H248+'Захтев за додатна сред.'!H248+Projekat!H248+Sheet2!H248","v":18712000},{"$f":"+Programska_aktivnost!I248+Sheet1!I248+'Захтев за додатна сред.'!I248+Projekat!I248+Sheet2!I248","v":1630000},{"$f":"+Programska_aktivnost!J248+Sheet1!J248+'Захтев за додатна сред.'!J248+Projekat!J248+Sheet2!J248","v":19050000},{"$f":"+Programska_aktivnost!K248+Sheet1!K248+'Захтев за додатна сред.'!K248+Projekat!K248+Sheet2!K248","v":1630000},{"$f":"+Programska_aktivnost!L248+Sheet1!L248+'Захтев за додатна сред.'!L248+Projekat!L248+Sheet2!L248","v":19950000},{"$f":"+Programska_aktivnost!M248+Sheet1!M248+'Захтев за додатна сред.'!M248+Projekat!M248+Sheet2!M248","v":1650000},57712000,4910000,null,null,null,null,null,null,null,null,null,{"$f":"SUM(D248:O248)","v":166463000}]
[202,426100,"Административни материјал",{"$f":"+Programska_aktivnost!D249+Sheet1!D249+'Захтев за додатна сред.'!D249+Projekat!D249+Sheet2!D249","v":480000},{"$f":"+Programska_aktivnost!E249+Sheet1!E249+'Захтев за додатна сред.'!E249+Projekat!E249+Sheet2!E249","v":250000},{"$f":"+Programska_aktivnost!F249+Sheet1!F249+'Захтев за додатна сред.'!F249+Projekat!F249+Sheet2!F249","v":300000},{"$f":"+Programska_aktivnost!G249+Sheet1!G249+'Захтев за додатна сред.'!G249+Projekat!G249+Sheet2!G249","v":400000},{"$f":"+Programska_aktivnost!H249+Sheet1!H249+'Захтев за додатна сред.'!H249+Projekat!H249+Sheet2!H249","v":650000},{"$f":"+Programska_aktivnost!I249+Sheet1!I249+'Захтев за додатна сред.'!I249+Projekat!I249+Sheet2!I249","v":150000},{"$f":"+Programska_aktivnost!J249+Sheet1!J249+'Захтев за додатна сред.'!J249+Projekat!J249+Sheet2!J249","v":500000},{"$f":"+Programska_aktivnost!K249+Sheet1!K249+'Захтев за додатна сред.'!K249+Projekat!K249+Sheet2!K249","v":150000},{"$f":"+Programska_aktivnost!L249+Sheet1!L249+'Захтев за додатна сред.'!L249+Projekat!L249+Sheet2!L249","v":600000},{"$f":"+Programska_aktivnost!M249+Sheet1!M249+'Захтев за додатна сред.'!M249+Projekat!M249+Sheet2!M249","v":150000},1750000,450000,null,null,null,null,null,null,null,null,null,5830000]
[203,426200,"Материјали за пољопривреду",{"$f":"+Programska_aktivnost!D250+Sheet1!D250+'Захтев за додатна сред.'!D250+Projekat!D250+Sheet2!D250","v":0},{"$f":"+Programska_aktivnost!E250+Sheet1!E250+'Захтев за додатна сред.'!E250+Projekat!E250+Sheet2!E250","v":0},{"$f":"+Programska_aktivnost!F250+Sheet1!F250+'Захтев за додатна сред.'!F250+Projekat!F250+Sheet2!F250","v":0},{"$f":"+Programska_aktivnost!G250+Sheet1!G250+'Захтев за додатна сред.'!G250+Projekat!G250+Sheet2!G250","v":0},{"$f":"+Programska_aktivnost!H250+Sheet1!H250+'Захтев за додатна сред.'!H250+Projekat!H250+Sheet2!H250","v":0},{"$f":"+Programska_aktivnost!I250+Sheet1!I250+'Захтев за додатна сред.'!I250+Projekat!I250+Sheet2!I250","v":0},{"$f":"+Programska_aktivnost!J250+Sheet1!J250+'Захтев за додатна сред.'!J250+Projekat!J250+Sheet2!J250","v":0},{"$f":"+Programska_aktivnost!K250+Sheet1!K250+'Захтев за додатна сред.'!K250+Projekat!K250+Sheet2!K250","v":0},{"$f":"+Programska_aktivnost!L250+Sheet1!L250+'Захтев за додатна сред.'!L250+Projekat!L250+Sheet2!L250","v":0},{"$f":"+Programska_aktivnost!M250+Sheet1!M250+'Захтев за додатна сред.'!M250+Projekat!M250+Sheet2!M250","v":0},0,0,null,null,null,null,null,null,null,null,null,0]
[204,426300,"Материјали за образовање и усавршавање запослених",{"$f":"+Programska_aktivnost!D251+Sheet1!D251+'Захтев за додатна сред.'!D251+Projekat!D251+Sheet2!D251","v":100000},{"$f":"+Programska_aktivnost!E251+Sheet1!E251+'Захтев за додатна сред.'!E251+Projekat!E251+Sheet2!E251","v":150000},{"$f":"+Programska_aktivnost!F251+Sheet1!F251+'Захтев за додатна сред.'!F251+Projekat!F251+Sheet2!F251","v":50000},{"$f":"+Programska_aktivnost!G251+Sheet1!G251+'Захтев за додатна сред.'!G251+Projekat!G251+Sheet2!G251","v":180000},{"$f":"+Programska_aktivnost!H251+Sheet1!H251+'Захтев за додатна сред.'!H251+Projekat!H251+Sheet2!H251","v":150000},{"$f":"+Programska_aktivnost!I251+Sheet1!I251+'Захтев за додатна сред.'!I251+Projekat!I251+Sheet2!I251","v":100000},{"$f":"+Programska_aktivnost!J251+Sheet1!J251+'Захтев за додатна сред.'!J251+Projekat!J251+Sheet2!J251","v":150000},{"$f":"+Programska_aktivnost!K251+Sheet1!K251+'Захтев за додатна сред.'!K251+Projekat!K251+Sheet2!K251","v":100000},{"$f":"+Programska_aktivnost!L251+Sheet1!L251+'Захтев за додатна сред.'!L251+Projekat!L251+Sheet2!L251","v":150000},{"$f":"+Programska_aktivnost!M251+Sheet1!M251+'Захтев за додатна сред.'!M251+Projekat!M251+Sheet2!M251","v":150000},450000,350000,null,null,null,null,null,null,null,null,null,2080000]
[205,426400,"Материјали за саобраћај",{"$f":"+Programska_aktivnost!D252+Sheet1!D252+'Захтев за додатна сред.'!D252+Projekat!D252+Sheet2!D252","v":200000},{"$f":"+Programska_aktivnost!E252+Sheet1!E252+'Захтев за додатна сред.'!E252+Projekat!E252+Sheet2!E252","v":600000},{"$f":"+Programska_aktivnost!F252+Sheet1!F252+'Захтев за додатна сред.'!F252+Projekat!F252+Sheet2!F252","v":200000},{"$f":"+Programska_aktivnost!G252+Sheet1!G252+'Захтев за додатна сред.'!G252+Projekat!G252+Sheet2!G252","v":550000},{"$f":"+Programska_aktivnost!H252+Sheet1!H252+'Захтев за додатна сред.'!H252+Projekat!H252+Sheet2!H252","v":400000},{"$f":"+Programska_aktivnost!I252+Sheet1!I252+'Захтев за додатна сред.'!I252+Projekat!I252+Sheet2!I252","v":200000},{"$f":"+Programska_aktivnost!J252+Sheet1!J252+'Захтев за додатна сред.'!J252+Projekat!J252+Sheet2!J252","v":800000},{"$f":"+Programska_aktivnost!K252+Sheet1!K252+'Захтев за додатна сред.'!K252+Projekat!K252+Sheet2!K252","v":100000},{"$f":"+Programska_aktivnost!L252+Sheet1!L252+'Захтев за додатна сред.'!L252+Projekat!L252+Sheet2!L252","v":800000},{"$f":"+Programska_aktivnost!M252+Sheet1!M252+'Захтев за додатна сред.'!M252+Projekat!M252+Sheet2!M252","v":100000},2000000,400000,null,null,null,null,null,null,null,null,null,6350000]
[206,426500,"Материјали за очување животне средине и науку",{"$f":"+Programska_aktivnost!D253+Sheet1!D253+'Захтев за додатна сред.'!D253+Projekat!D253+Sheet2!D253","v":0},{"$f":"+Programska_aktivnost!E253+Sheet1!E253+'Захтев за додатна сред.'!E253+Projekat!E253+Sheet2!E253","v":0},{"$f":"+Programska_aktivnost!F253+Sheet1!F253+'Захтев за додатна сред.'!F253+Projekat!F253+Sheet2!F253","v":0},{"$f":"+Programska_aktivnost!G253+Sheet1!G253+'Захтев за додатна сред.'!G253+Projekat!G253+Sheet2!G253","v":0},{"$f":"+Programska_aktivnost!H253+Sheet1!H253+'Захтев за додатна сред.'!H253+Projekat!H253+Sheet2!H253","v":0},{"$f":"+Programska_aktivnost!I253+Sheet1!I253+'Захтев за додатна сред.'!I253+Projekat!I253+Sheet2!I253","v":0},{"$f":"+Programska_aktivnost!J253+Sheet1!J253+'Захтев за додатна сред.'!J253+Projekat!J253+Sheet2!J253","v":0},{"$f":"+Programska_aktivnost!K253+Sheet1!K253+'Захтев за додатна сред.'!K253+Projekat!K253+Sheet2!K253","v":0},{"$f":"+Programska_aktivnost!L253+Sheet1!L253+'Захтев за додатна сред.'!L253+Projekat!L253+Sheet2!L253","v":0},{"$f":"+Programska_aktivnost!M253+Sheet1!M253+'Захтев за додатна сред.'!M253+Projekat!M253+Sheet2!M253","v":0},0,0,null,null,null,null,null,null,null,null,null,0]
[207,426600,"Материјали за образовање, културу и спорт",{"$f":"+Programska_aktivnost!D254+Sheet1!D254+'Захтев за додатна сред.'!D254+Projekat!D254+Sheet2!D254","v":600000},{"$f":"+Programska_aktivnost!E254+Sheet1!E254+'Захтев за додатна сред.'!E254+Projekat!E254+Sheet2!E254","v":800000},{"$f":"+Programska_aktivnost!F254+Sheet1!F254+'Захтев за додатна сред.'!F254+Projekat!F254+Sheet2!F254","v":847000},{"$f":"+Programska_aktivnost!G254+Sheet1!G254+'Захтев за додатна сред.'!G254+Projekat!G254+Sheet2!G254","v":1050000},{"$f":"+Programska_aktivnost!H254+Sheet1!H254+'Захтев за додатна сред.'!H254+Projekat!H254+Sheet2!H254","v":1600000},{"$f":"+Programska_aktivnost!I254+Sheet1!I254+'Захтев за додатна сред.'!I254+Projekat!I254+Sheet2!I254","v":100000},{"$f":"+Programska_aktivnost!J254+Sheet1!J254+'Захтев за додатна сред.'!J254+Projekat!J254+Sheet2!J254","v":2000000},{"$f":"+Programska_aktivnost!K254+Sheet1!K254+'Захтев за додатна сред.'!K254+Projekat!K254+Sheet2!K254","v":100000},{"$f":"+Programska_aktivnost!L254+Sheet1!L254+'Захтев за додатна сред.'!L254+Projekat!L254+Sheet2!L254","v":2200000},{"$f":"+Programska_aktivnost!M254+Sheet1!M254+'Захтев за додатна сред.'!M254+Projekat!M254+Sheet2!M254","v":100000},5800000,300000,null,null,null,null,null,null,null,null,null,15497000]
[208,426700,"Медицински и лабораторијски материјали",{"$f":"+Programska_aktivnost!D255+Sheet1!D255+'Захтев за додатна сред.'!D255+Projekat!D255+Sheet2!D255","v":0},{"$f":"+Programska_aktivnost!E255+Sheet1!E255+'Захтев за додатна сред.'!E255+Projekat!E255+Sheet2!E255","v":0},{"$f":"+Programska_aktivnost!F255+Sheet1!F255+'Захтев за додатна сред.'!F255+Projekat!F255+Sheet2!F255","v":0},{"$f":"+Programska_aktivnost!G255+Sheet1!G255+'Захтев за додатна сред.'!G255+Projekat!G255+Sheet2!G255","v":0},{"$f":"+Programska_aktivnost!H255+Sheet1!H255+'Захтев за додатна сред.'!H255+Projekat!H255+Sheet2!H255","v":0},{"$f":"+Programska_aktivnost!I255+Sheet1!I255+'Захтев за додатна сред.'!I255+Projekat!I255+Sheet2!I255","v":0},{"$f":"+Programska_aktivnost!J255+Sheet1!J255+'Захтев за додатна сред.'!J255+Projekat!J255+Sheet2!J255","v":0},{"$f":"+Programska_aktivnost!K255+Sheet1!K255+'Захтев за додатна сред.'!K255+Projekat!K255+Sheet2!K255","v":0},{"$f":"+Programska_aktivnost!L255+Sheet1!L255+'Захтев за додатна сред.'!L255+Projekat!L255+Sheet2!L255","v":0},{"$f":"+Programska_aktivnost!M255+Sheet1!M255+'Захтев за додатна сред.'!M255+Projekat!M255+Sheet2!M255","v":0},0,0,null,null,null,null,null,null,null,null,null,0]
[209,426800,"Материјали за одржавање хигијене и угоститељство",{"$f":"+Programska_aktivnost!D256+Sheet1!D256+'Захтев за додатна сред.'!D256+Projekat!D256+Sheet2!D256","v":10275000},{"$f":"+Programska_aktivnost!E256+Sheet1!E256+'Захтев за додатна сред.'!E256+Projekat!E256+Sheet2!E256","v":5130000},{"$f":"+Programska_aktivnost!F256+Sheet1!F256+'Захтев за додатна сред.'!F256+Projekat!F256+Sheet2!F256","v":9250000},{"$f":"+Programska_aktivnost!G256+Sheet1!G256+'Захтев за додатна сред.'!G256+Projekat!G256+Sheet2!G256","v":5000000},{"$f":"+Programska_aktivnost!H256+Sheet1!H256+'Захтев за додатна сред.'!H256+Projekat!H256+Sheet2!H256","v":14500000},{"$f":"+Programska_aktivnost!I256+Sheet1!I256+'Захтев за додатна сред.'!I256+Projekat!I256+Sheet2!I256","v":800000},{"$f":"+Programska_aktivnost!J256+Sheet1!J256+'Захтев за додатна сред.'!J256+Projekat!J256+Sheet2!J256","v":14400000},{"$f":"+Programska_aktivnost!K256+Sheet1!K256+'Захтев за додатна сред.'!K256+Projekat!K256+Sheet2!K256","v":1000000},{"$f":"+Programska_aktivnost!L256+Sheet1!L256+'Захтев за додатна сред.'!L256+Projekat!L256+Sheet2!L256","v":15000000},{"$f":"+Programska_aktivnost!M256+Sheet1!M256+'Захтев за додатна сред.'!M256+Projekat!M256+Sheet2!M256","v":1000000},43900000,2800000,null,null,null,null,null,null,null,null,null,123055000]
[210,426900,"Материјали за посебне намене",{"$f":"+Programska_aktivnost!D257+Sheet1!D257+'Захтев за додатна сред.'!D257+Projekat!D257+Sheet2!D257","v":1697000},{"$f":"+Programska_aktivnost!E257+Sheet1!E257+'Захтев за додатна сред.'!E257+Projekat!E257+Sheet2!E257","v":1110000},{"$f":"+Programska_aktivnost!F257+Sheet1!F257+'Захтев за додатна сред.'!F257+Projekat!F257+Sheet2!F257","v":1000000},{"$f":"+Programska_aktivnost!G257+Sheet1!G257+'Захтев за додатна сред.'!G257+Projekat!G257+Sheet2!G257","v":1000000},{"$f":"+Programska_aktivnost!H257+Sheet1!H257+'Захтев за додатна сред.'!H257+Projekat!H257+Sheet2!H257","v":1412000},{"$f":"+Programska_aktivnost!I257+Sheet1!I257+'Захтев за додатна сред.'!I257+Projekat!I257+Sheet2!I257","v":280000},{"$f":"+Programska_aktivnost!J257+Sheet1!J257+'Захтев за додатна сред.'!J257+Projekat!J257+Sheet2!J257","v":1200000},{"$f":"+Programska_aktivnost!K257+Sheet1!K257+'Захтев за додатна сред.'!K257+Projekat!K257+Sheet2!K257","v":180000},{"$f":"+Programska_aktivnost!L257+Sheet1!L257+'Захтев за додатна сред.'!L257+Projekat!L257+Sheet2!L257","v":1200000},{"$f":"+Programska_aktivnost!M257+Sheet1!M257+'Захтев за додатна сред.'!M257+Projekat!M257+Sheet2!M257","v":150000},3812000,610000,null,null,null,null,null,null,null,null,null,13651000]
[211,430000,"АМОРТИЗАЦИЈА И УПОТРЕБА СРЕДСТАВА ЗА РАД (212 + 216 + 218 + 220 + 224)",{"$f":"+Programska_aktivnost!D258+Sheet1!D258+'Захтев за додатна сред.'!D258+Projekat!D258+Sheet2!D258","v":0},{"$f":"+Programska_aktivnost!E258+Sheet1!E258+'Захтев за додатна сред.'!E258+Projekat!E258+Sheet2!E258","v":0},{"$f":"+Programska_aktivnost!F258+Sheet1!F258+'Захтев за додатна сред.'!F258+Projekat!F258+Sheet2!F258","v":0},{"$f":"+Programska_aktivnost!G258+Sheet1!G258+'Захтев за додатна сред.'!G258+Projekat!G258+Sheet2!G258","v":0},{"$f":"+Programska_aktivnost!H258+Sheet1!H258+'Захтев за додатна сред.'!H258+Projekat!H258+Sheet2!H258","v":0},{"$f":"+Programska_aktivnost!I258+Sheet1!I258+'Захтев за додатна сред.'!I258+Projekat!I258+Sheet2!I258","v":0},{"$f":"+Programska_aktivnost!J258+Sheet1!J258+'Захтев за додатна сред.'!J258+Projekat!J258+Sheet2!J258","v":0},{"$f":"+Programska_aktivnost!K258+Sheet1!K258+'Захтев за додатна сред.'!K258+Projekat!K258+Sheet2!K258","v":0},{"$f":"+Programska_aktivnost!L258+Sheet1!L258+'Захтев за додатна сред.'!L258+Projekat!L258+Sheet2!L258","v":0},{"$f":"+Programska_aktivnost!M258+Sheet1!M258+'Захтев за додатна сред.'!M258+Projekat!M258+Sheet2!M258","v":0},0,0,null,null,null,null,null,null,null,null,null,0]
[212,431000,"АМОРТИЗАЦИЈА НЕКРЕТНИНА И ОПРЕМЕ (од 213 до 215)",{"$f":"+Programska_aktivnost!D259+Sheet1!D259+'Захтев за додатна сред.'!D259+Projekat!D259+Sheet2!D259","v":0},{"$f":"+Programska_aktivnost!E259+Sheet1!E259+'Захтев за додатна сред.'!E259+Projekat!E259+Sheet2!E259","v":0},{"$f":"+Programska_aktivnost!F259+Sheet1!F259+'Захтев за додатна сред.'!F259+Projekat!F259+Sheet2!F259","v":0},{"$f":"+Programska_aktivnost!G259+Sheet1!G259+'Захтев за додатна сред.'!G259+Projekat!G259+Sheet2!G259","v":0},{"$f":"+Programska_aktivnost!H259+Sheet1!H259+'Захтев за додатна сред.'!H259+Projekat!H259+Sheet2!H259","v":0},{"$f":"+Programska_aktivnost!I259+Sheet1!I259+'Захтев за додатна сред.'!I259+Projekat!I259+Sheet2!I259","v":0},{"$f":"+Programska_aktivnost!J259+Sheet1!J259+'Захтев за додатна сред.'!J259+Projekat!J259+Sheet2!J259","v":0},{"$f":"+Programska_aktivnost!K259+Sheet1!K259+'Захтев за додатна сред.'!K259+Projekat!K259+Sheet2!K259","v":0},{"$f":"+Programska_aktivnost!L259+Sheet1!L259+'Захтев за додатна сред.'!L259+Projekat!L259+Sheet2!L259","v":0},{"$f":"+Programska_aktivnost!M259+Sheet1!M259+'Захтев за додатна сред.'!M259+Projekat!M259+Sheet2!M259","v":0},0,0,null,null,null,null,null,null,null,null,null,0]
[213,431100,"Амортизација зграда и грађевинскиx објеката",{"$f":"+Programska_aktivnost!D260+Sheet1!D260+'Захтев за додатна сред.'!D260+Projekat!D260+Sheet2!D260","v":0},{"$f":"+Programska_aktivnost!E260+Sheet1!E260+'Захтев за додатна сред.'!E260+Projekat!E260+Sheet2!E260","v":0},{"$f":"+Programska_aktivnost!F260+Sheet1!F260+'Захтев за додатна сред.'!F260+Projekat!F260+Sheet2!F260","v":0},{"$f":"+Programska_aktivnost!G260+Sheet1!G260+'Захтев за додатна сред.'!G260+Projekat!G260+Sheet2!G260","v":0},{"$f":"+Programska_aktivnost!H260+Sheet1!H260+'Захтев за додатна сред.'!H260+Projekat!H260+Sheet2!H260","v":0},{"$f":"+Programska_aktivnost!I260+Sheet1!I260+'Захтев за додатна сред.'!I260+Projekat!I260+Sheet2!I260","v":0},{"$f":"+Programska_aktivnost!J260+Sheet1!J260+'Захтев за додатна сред.'!J260+Projekat!J260+Sheet2!J260","v":0},{"$f":"+Programska_aktivnost!K260+Sheet1!K260+'Захтев за додатна сред.'!K260+Projekat!K260+Sheet2!K260","v":0},{"$f":"+Programska_aktivnost!L260+Sheet1!L260+'Захтев за додатна сред.'!L260+Projekat!L260+Sheet2!L260","v":0},{"$f":"+Programska_aktivnost!M260+Sheet1!M260+'Захтев за додатна сред.'!M260+Projekat!M260+Sheet2!M260","v":0},0,0,null,null,null,null,null,null,null,null,null,0]
[214,431200,"Амортизација опреме",{"$f":"+Programska_aktivnost!D261+Sheet1!D261+'Захтев за додатна сред.'!D261+Projekat!D261+Sheet2!D261","v":0},{"$f":"+Programska_aktivnost!E261+Sheet1!E261+'Захтев за додатна сред.'!E261+Projekat!E261+Sheet2!E261","v":0},{"$f":"+Programska_aktivnost!F261+Sheet1!F261+'Захтев за додатна сред.'!F261+Projekat!F261+Sheet2!F261","v":0},{"$f":"+Programska_aktivnost!G261+Sheet1!G261+'Захтев за додатна сред.'!G261+Projekat!G261+Sheet2!G261","v":0},{"$f":"+Programska_aktivnost!H261+Sheet1!H261+'Захтев за додатна сред.'!H261+Projekat!H261+Sheet2!H261","v":0},{"$f":"+Programska_aktivnost!I261+Sheet1!I261+'Захтев за додатна сред.'!I261+Projekat!I261+Sheet2!I261","v":0},{"$f":"+Programska_aktivnost!J261+Sheet1!J261+'Захтев за додатна сред.'!J261+Projekat!J261+Sheet2!J261","v":0},{"$f":"+Programska_aktivnost!K261+Sheet1!K261+'Захтев за додатна сред.'!K261+Projekat!K261+Sheet2!K261","v":0},{"$f":"+Programska_aktivnost!L261+Sheet1!L261+'Захтев за додатна сред.'!L261+Projekat!L261+Sheet2!L261","v":0},{"$f":"+Programska_aktivnost!M261+Sheet1!M261+'Захтев за додатна сред.'!M261+Projekat!M261+Sheet2!M261","v":0},0,0,null,null,null,null,null,null,null,null,null,0]
[215,431300,"Амортизација осталих некретнина и опреме",{"$f":"+Programska_aktivnost!D262+Sheet1!D262+'Захтев за додатна сред.'!D262+Projekat!D262+Sheet2!D262","v":0},{"$f":"+Programska_aktivnost!E262+Sheet1!E262+'Захтев за додатна сред.'!E262+Projekat!E262+Sheet2!E262","v":0},{"$f":"+Programska_aktivnost!F262+Sheet1!F262+'Захтев за додатна сред.'!F262+Projekat!F262+Sheet2!F262","v":0},{"$f":"+Programska_aktivnost!G262+Sheet1!G262+'Захтев за додатна сред.'!G262+Projekat!G262+Sheet2!G262","v":0},{"$f":"+Programska_aktivnost!H262+Sheet1!H262+'Захтев за додатна сред.'!H262+Projekat!H262+Sheet2!H262","v":0},{"$f":"+Programska_aktivnost!I262+Sheet1!I262+'Захтев за додатна сред.'!I262+Projekat!I262+Sheet2!I262","v":0},{"$f":"+Programska_aktivnost!J262+Sheet1!J262+'Захтев за додатна сред.'!J262+Projekat!J262+Sheet2!J262","v":0},{"$f":"+Programska_aktivnost!K262+Sheet1!K262+'Захтев за додатна сред.'!K262+Projekat!K262+Sheet2!K262","v":0},{"$f":"+Programska_aktivnost!L262+Sheet1!L262+'Захтев за додатна сред.'!L262+Projekat!L262+Sheet2!L262","v":0},{"$f":"+Programska_aktivnost!M262+Sheet1!M262+'Захтев за додатна сред.'!M262+Projekat!M262+Sheet2!M262","v":0},0,0,null,null,null,null,null,null,null,null,null,0]
[216,432000,"АМОРТИЗАЦИЈА КУЛТИВИСАНЕ ИМОВИНЕ (217)",{"$f":"+Programska_aktivnost!D263+Sheet1!D263+'Захтев за додатна сред.'!D263+Projekat!D263+Sheet2!D263","v":0},{"$f":"+Programska_aktivnost!E263+Sheet1!E263+'Захтев за додатна сред.'!E263+Projekat!E263+Sheet2!E263","v":0},{"$f":"+Programska_aktivnost!F263+Sheet1!F263+'Захтев за додатна сред.'!F263+Projekat!F263+Sheet2!F263","v":0},{"$f":"+Programska_aktivnost!G263+Sheet1!G263+'Захтев за додатна сред.'!G263+Projekat!G263+Sheet2!G263","v":0},{"$f":"+Programska_aktivnost!H263+Sheet1!H263+'Захтев за додатна сред.'!H263+Projekat!H263+Sheet2!H263","v":0},{"$f":"+Programska_aktivnost!I263+Sheet1!I263+'Захтев за додатна сред.'!I263+Projekat!I263+Sheet2!I263","v":0},{"$f":"+Programska_aktivnost!J263+Sheet1!J263+'Захтев за додатна сред.'!J263+Projekat!J263+Sheet2!J263","v":0},{"$f":"+Programska_aktivnost!K263+Sheet1!K263+'Захтев за додатна сред.'!K263+Projekat!K263+Sheet2!K263","v":0},{"$f":"+Programska_aktivnost!L263+Sheet1!L263+'Захтев за додатна сред.'!L263+Projekat!L263+Sheet2!L263","v":0},{"$f":"+Programska_aktivnost!M263+Sheet1!M263+'Захтев за додатна сред.'!M263+Projekat!M263+Sheet2!M263","v":0},0,0,null,null,null,null,null,null,null,null,null,0]
[217,432100,"Амортизација култивисане опреме",{"$f":"+Programska_aktivnost!D264+Sheet1!D264+'Захтев за додатна сред.'!D264+Projekat!D264+Sheet2!D264","v":0},{"$f":"+Programska_aktivnost!E264+Sheet1!E264+'Захтев за додатна сред.'!E264+Projekat!E264+Sheet2!E264","v":0},{"$f":"+Programska_aktivnost!F264+Sheet1!F264+'Захтев за додатна сред.'!F264+Projekat!F264+Sheet2!F264","v":0},{"$f":"+Programska_aktivnost!G264+Sheet1!G264+'Захтев за додатна сред.'!G264+Projekat!G264+Sheet2!G264","v":0},{"$f":"+Programska_aktivnost!H264+Sheet1!H264+'Захтев за додатна сред.'!H264+Projekat!H264+Sheet2!H264","v":0},{"$f":"+Programska_aktivnost!I264+Sheet1!I264+'Захтев за додатна сред.'!I264+Projekat!I264+Sheet2!I264","v":0},{"$f":"+Programska_aktivnost!J264+Sheet1!J264+'Захтев за додатна сред.'!J264+Projekat!J264+Sheet2!J264","v":0},{"$f":"+Programska_aktivnost!K264+Sheet1!K264+'Захтев за додатна сред.'!K264+Projekat!K264+Sheet2!K264","v":0},{"$f":"+Programska_aktivnost!L264+Sheet1!L264+'Захтев за додатна сред.'!L264+Projekat!L264+Sheet2!L264","v":0},{"$f":"+Programska_aktivnost!M264+Sheet1!M264+'Захтев за додатна сред.'!M264+Projekat!M264+Sheet2!M264","v":0},0,0,null,null,null,null,null,null,null,null,null,0]
[218,433000,"УПОТРЕБА ДРАГОЦЕНОСТИ (219)",{"$f":"+Programska_aktivnost!D265+Sheet1!D265+'Захтев за додатна сред.'!D265+Projekat!D265+Sheet2!D265","v":0},{"$f":"+Programska_aktivnost!E265+Sheet1!E265+'Захтев за додатна сред.'!E265+Projekat!E265+Sheet2!E265","v":0},{"$f":"+Programska_aktivnost!F265+Sheet1!F265+'Захтев за додатна сред.'!F265+Projekat!F265+Sheet2!F265","v":0},{"$f":"+Programska_aktivnost!G265+Sheet1!G265+'Захтев за додатна сред.'!G265+Projekat!G265+Sheet2!G265","v":0},{"$f":"+Programska_aktivnost!H265+Sheet1!H265+'Захтев за додатна сред.'!H265+Projekat!H265+Sheet2!H265","v":0},{"$f":"+Programska_aktivnost!I265+Sheet1!I265+'Захтев за додатна сред.'!I265+Projekat!I265+Sheet2!I265","v":0},{"$f":"+Programska_aktivnost!J265+Sheet1!J265+'Захтев за додатна сред.'!J265+Projekat!J265+Sheet2!J265","v":0},{"$f":"+Programska_aktivnost!K265+Sheet1!K265+'Захтев за додатна сред.'!K265+Projekat!K265+Sheet2!K265","v":0},{"$f":"+Programska_aktivnost!L265+Sheet1!L265+'Захтев за додатна сред.'!L265+Projekat!L265+Sheet2!L265","v":0},{"$f":"+Programska_aktivnost!M265+Sheet1!M265+'Захтев за додатна сред.'!M265+Projekat!M265+Sheet2!M265","v":0},0,0,null,null,null,null,null,null,null,null,null,0]
[219,433100,"Употреба драгоцености",{"$f":"+Programska_aktivnost!D266+Sheet1!D266+'Захтев за додатна сред.'!D266+Projekat!D266+Sheet2!D266","v":0},{"$f":"+Programska_aktivnost!E266+Sheet1!E266+'Захтев за додатна сред.'!E266+Projekat!E266+Sheet2!E266","v":0},{"$f":"+Programska_aktivnost!F266+Sheet1!F266+'Захтев за додатна сред.'!F266+Projekat!F266+Sheet2!F266","v":0},{"$f":"+Programska_aktivnost!G266+Sheet1!G266+'Захтев за додатна сред.'!G266+Projekat!G266+Sheet2!G266","v":0},{"$f":"+Programska_aktivnost!H266+Sheet1!H266+'Захтев за додатна сред.'!H266+Projekat!H266+Sheet2!H266","v":0},{"$f":"+Programska_aktivnost!I266+Sheet1!I266+'Захтев за додатна сред.'!I266+Projekat!I266+Sheet2!I266","v":0},{"$f":"+Programska_aktivnost!J266+Sheet1!J266+'Захтев за додатна сред.'!J266+Projekat!J266+Sheet2!J266","v":0},{"$f":"+Programska_aktivnost!K266+Sheet1!K266+'Захтев за додатна сред.'!K266+Projekat!K266+Sheet2!K266","v":0},{"$f":"+Programska_aktivnost!L266+Sheet1!L266+'Захтев за додатна сред.'!L266+Projekat!L266+Sheet2!L266","v":0},{"$f":"+Programska_aktivnost!M266+Sheet1!M266+'Захтев за додатна сред.'!M266+Projekat!M266+Sheet2!M266","v":0},0,0,null,null,null,null,null,null,null,null,null,0]
[220,434000,"УПОТРЕБА ПРИРОДНЕ ИМОВИНЕ (од 221 до 223)",{"$f":"+Programska_aktivnost!D267+Sheet1!D267+'Захтев за додатна сред.'!D267+Projekat!D267+Sheet2!D267","v":0},{"$f":"+Programska_aktivnost!E267+Sheet1!E267+'Захтев за додатна сред.'!E267+Projekat!E267+Sheet2!E267","v":0},{"$f":"+Programska_aktivnost!F267+Sheet1!F267+'Захтев за додатна сред.'!F267+Projekat!F267+Sheet2!F267","v":0},{"$f":"+Programska_aktivnost!G267+Sheet1!G267+'Захтев за додатна сред.'!G267+Projekat!G267+Sheet2!G267","v":0},{"$f":"+Programska_aktivnost!H267+Sheet1!H267+'Захтев за додатна сред.'!H267+Projekat!H267+Sheet2!H267","v":0},{"$f":"+Programska_aktivnost!I267+Sheet1!I267+'Захтев за додатна сред.'!I267+Projekat!I267+Sheet2!I267","v":0},{"$f":"+Programska_aktivnost!J267+Sheet1!J267+'Захтев за додатна сред.'!J267+Projekat!J267+Sheet2!J267","v":0},{"$f":"+Programska_aktivnost!K267+Sheet1!K267+'Захтев за додатна сред.'!K267+Projekat!K267+Sheet2!K267","v":0},{"$f":"+Programska_aktivnost!L267+Sheet1!L267+'Захтев за додатна сред.'!L267+Projekat!L267+Sheet2!L267","v":0},{"$f":"+Programska_aktivnost!M267+Sheet1!M267+'Захтев за додатна сред.'!M267+Projekat!M267+Sheet2!M267","v":0},0,0,null,null,null,null,null,null,null,null,null,0]
[221,434100,"Употреба земљишта",{"$f":"+Programska_aktivnost!D268+Sheet1!D268+'Захтев за додатна сред.'!D268+Projekat!D268+Sheet2!D268","v":0},{"$f":"+Programska_aktivnost!E268+Sheet1!E268+'Захтев за додатна сред.'!E268+Projekat!E268+Sheet2!E268","v":0},{"$f":"+Programska_aktivnost!F268+Sheet1!F268+'Захтев за додатна сред.'!F268+Projekat!F268+Sheet2!F268","v":0},{"$f":"+Programska_aktivnost!G268+Sheet1!G268+'Захтев за додатна сред.'!G268+Projekat!G268+Sheet2!G268","v":0},{"$f":"+Programska_aktivnost!H268+Sheet1!H268+'Захтев за додатна сред.'!H268+Projekat!H268+Sheet2!H268","v":0},{"$f":"+Programska_aktivnost!I268+Sheet1!I268+'Захтев за додатна сред.'!I268+Projekat!I268+Sheet2!I268","v":0},{"$f":"+Programska_aktivnost!J268+Sheet1!J268+'Захтев за додатна сред.'!J268+Projekat!J268+Sheet2!J268","v":0},{"$f":"+Programska_aktivnost!K268+Sheet1!K268+'Захтев за додатна сред.'!K268+Projekat!K268+Sheet2!K268","v":0},{"$f":"+Programska_aktivnost!L268+Sheet1!L268+'Захтев за додатна сред.'!L268+Projekat!L268+Sheet2!L268","v":0},{"$f":"+Programska_aktivnost!M268+Sheet1!M268+'Захтев за додатна сред.'!M268+Projekat!M268+Sheet2!M268","v":0},0,0,null,null,null,null,null,null,null,null,null,0]
[222,434200,"Употреба подземног блага",{"$f":"+Programska_aktivnost!D269+Sheet1!D269+'Захтев за додатна сред.'!D269+Projekat!D269+Sheet2!D269","v":0},{"$f":"+Programska_aktivnost!E269+Sheet1!E269+'Захтев за додатна сред.'!E269+Projekat!E269+Sheet2!E269","v":0},{"$f":"+Programska_aktivnost!F269+Sheet1!F269+'Захтев за додатна сред.'!F269+Projekat!F269+Sheet2!F269","v":0},{"$f":"+Programska_aktivnost!G269+Sheet1!G269+'Захтев за додатна сред.'!G269+Projekat!G269+Sheet2!G269","v":0},{"$f":"+Programska_aktivnost!H269+Sheet1!H269+'Захтев за додатна сред.'!H269+Projekat!H269+Sheet2!H269","v":0},{"$f":"+Programska_aktivnost!I269+Sheet1!I269+'Захтев за додатна сред.'!I269+Projekat!I269+Sheet2!I269","v":0},{"$f":"+Programska_aktivnost!J269+Sheet1!J269+'Захтев за додатна сред.'!J269+Projekat!J269+Sheet2!J269","v":0},{"$f":"+Programska_aktivnost!K269+Sheet1!K269+'Захтев за додатна сред.'!K269+Projekat!K269+Sheet2!K269","v":0},{"$f":"+Programska_aktivnost!L269+Sheet1!L269+'Захтев за додатна сред.'!L269+Projekat!L269+Sheet2!L269","v":0},{"$f":"+Programska_aktivnost!M269+Sheet1!M269+'Захтев за додатна сред.'!M269+Projekat!M269+Sheet2!M269","v":0},0,0,null,null,null,null,null,null,null,null,null,0]
[223,434300,"Употреба шума и вода",{"$f":"+Programska_aktivnost!D270+Sheet1!D270+'Захтев за додатна сред.'!D270+Projekat!D270+Sheet2!D270","v":0},{"$f":"+Programska_aktivnost!E270+Sheet1!E270+'Захтев за додатна сред.'!E270+Projekat!E270+Sheet2!E270","v":0},{"$f":"+Programska_aktivnost!F270+Sheet1!F270+'Захтев за додатна сред.'!F270+Projekat!F270+Sheet2!F270","v":0},{"$f":"+Programska_aktivnost!G270+Sheet1!G270+'Захтев за додатна сред.'!G270+Projekat!G270+Sheet2!G270","v":0},{"$f":"+Programska_aktivnost!H270+Sheet1!H270+'Захтев за додатна сред.'!H270+Projekat!H270+Sheet2!H270","v":0},{"$f":"+Programska_aktivnost!I270+Sheet1!I270+'Захтев за додатна сред.'!I270+Projekat!I270+Sheet2!I270","v":0},{"$f":"+Programska_aktivnost!J270+Sheet1!J270+'Захтев за додатна сред.'!J270+Projekat!J270+Sheet2!J270","v":0},{"$f":"+Programska_aktivnost!K270+Sheet1!K270+'Захтев за додатна сред.'!K270+Projekat!K270+Sheet2!K270","v":0},{"$f":"+Programska_aktivnost!L270+Sheet1!L270+'Захтев за додатна сред.'!L270+Projekat!L270+Sheet2!L270","v":0},{"$f":"+Programska_aktivnost!M270+Sheet1!M270+'Захтев за додатна сред.'!M270+Projekat!M270+Sheet2!M270","v":0},0,0,null,null,null,null,null,null,null,null,null,0]
[224,435000,"АМОРТИЗАЦИЈА НЕМАТЕРИЈАЛНЕ ИМОВИНЕ (225)",{"$f":"+Programska_aktivnost!D271+Sheet1!D271+'Захтев за додатна сред.'!D271+Projekat!D271+Sheet2!D271","v":0},{"$f":"+Programska_aktivnost!E271+Sheet1!E271+'Захтев за додатна сред.'!E271+Projekat!E271+Sheet2!E271","v":0},{"$f":"+Programska_aktivnost!F271+Sheet1!F271+'Захтев за додатна сред.'!F271+Projekat!F271+Sheet2!F271","v":0},{"$f":"+Programska_aktivnost!G271+Sheet1!G271+'Захтев за додатна сред.'!G271+Projekat!G271+Sheet2!G271","v":0},{"$f":"+Programska_aktivnost!H271+Sheet1!H271+'Захтев за додатна сред.'!H271+Projekat!H271+Sheet2!H271","v":0},{"$f":"+Programska_aktivnost!I271+Sheet1!I271+'Захтев за додатна сред.'!I271+Projekat!I271+Sheet2!I271","v":0},{"$f":"+Programska_aktivnost!J271+Sheet1!J271+'Захтев за додатна сред.'!J271+Projekat!J271+Sheet2!J271","v":0},{"$f":"+Programska_aktivnost!K271+Sheet1!K271+'Захтев за додатна сред.'!K271+Projekat!K271+Sheet2!K271","v":0},{"$f":"+Programska_aktivnost!L271+Sheet1!L271+'Захтев за додатна сред.'!L271+Projekat!L271+Sheet2!L271","v":0},{"$f":"+Programska_aktivnost!M271+Sheet1!M271+'Захтев за додатна сред.'!M271+Projekat!M271+Sheet2!M271","v":0},0,0,null,null,null,null,null,null,null,null,null,0]
[225,435100,"Амортизација нематеријалне имовине",{"$f":"+Programska_aktivnost!D272+Sheet1!D272+'Захтев за додатна сред.'!D272+Projekat!D272+Sheet2!D272","v":0},{"$f":"+Programska_aktivnost!E272+Sheet1!E272+'Захтев за додатна сред.'!E272+Projekat!E272+Sheet2!E272","v":0},{"$f":"+Programska_aktivnost!F272+Sheet1!F272+'Захтев за додатна сред.'!F272+Projekat!F272+Sheet2!F272","v":0},{"$f":"+Programska_aktivnost!G272+Sheet1!G272+'Захтев за додатна сред.'!G272+Projekat!G272+Sheet2!G272","v":0},{"$f":"+Programska_aktivnost!H272+Sheet1!H272+'Захтев за додатна сред.'!H272+Projekat!H272+Sheet2!H272","v":0},{"$f":"+Programska_aktivnost!I272+Sheet1!I272+'Захтев за додатна сред.'!I272+Projekat!I272+Sheet2!I272","v":0},{"$f":"+Programska_aktivnost!J272+Sheet1!J272+'Захтев за додатна сред.'!J272+Projekat!J272+Sheet2!J272","v":0},{"$f":"+Programska_aktivnost!K272+Sheet1!K272+'Захтев за додатна сред.'!K272+Projekat!K272+Sheet2!K272","v":0},{"$f":"+Programska_aktivnost!L272+Sheet1!L272+'Захтев за додатна сред.'!L272+Projekat!L272+Sheet2!L272","v":0},{"$f":"+Programska_aktivnost!M272+Sheet1!M272+'Захтев за додатна сред.'!M272+Projekat!M272+Sheet2!M272","v":0},0,0,null,null,null,null,null,null,null,null,null,0]
[226,440000,"ОТПЛАТА КАМАТА И ПРАТЕЋИ ТРОШКОВИ ЗАДУЖИВАЊА (227 + 237 + 244 + 246)",{"$f":"+Programska_aktivnost!D273+Sheet1!D273+'Захтев за додатна сред.'!D273+Projekat!D273+Sheet2!D273","v":0},{"$f":"+Programska_aktivnost!E273+Sheet1!E273+'Захтев за додатна сред.'!E273+Projekat!E273+Sheet2!E273","v":0},{"$f":"+Programska_aktivnost!F273+Sheet1!F273+'Захтев за додатна сред.'!F273+Projekat!F273+Sheet2!F273","v":0},{"$f":"+Programska_aktivnost!G273+Sheet1!G273+'Захтев за додатна сред.'!G273+Projekat!G273+Sheet2!G273","v":0},{"$f":"+Programska_aktivnost!H273+Sheet1!H273+'Захтев за додатна сред.'!H273+Projekat!H273+Sheet2!H273","v":0},{"$f":"+Programska_aktivnost!I273+Sheet1!I273+'Захтев за додатна сред.'!I273+Projekat!I273+Sheet2!I273","v":0},{"$f":"+Programska_aktivnost!J273+Sheet1!J273+'Захтев за додатна сред.'!J273+Projekat!J273+Sheet2!J273","v":0},{"$f":"+Programska_aktivnost!K273+Sheet1!K273+'Захтев за додатна сред.'!K273+Projekat!K273+Sheet2!K273","v":0},{"$f":"+Programska_aktivnost!L273+Sheet1!L273+'Захтев за додатна сред.'!L273+Projekat!L273+Sheet2!L273","v":0},{"$f":"+Programska_aktivnost!M273+Sheet1!M273+'Захтев за додатна сред.'!M273+Projekat!M273+Sheet2!M273","v":0},0,0,null,null,null,null,null,null,null,null,null,0]
[227,441000,"ОТПЛАТЕ ДОМАЋИХ КАМАТА (од 228 до 236)",{"$f":"+Programska_aktivnost!D274+Sheet1!D274+'Захтев за додатна сред.'!D274+Projekat!D274+Sheet2!D274","v":0},{"$f":"+Programska_aktivnost!E274+Sheet1!E274+'Захтев за додатна сред.'!E274+Projekat!E274+Sheet2!E274","v":0},{"$f":"+Programska_aktivnost!F274+Sheet1!F274+'Захтев за додатна сред.'!F274+Projekat!F274+Sheet2!F274","v":0},{"$f":"+Programska_aktivnost!G274+Sheet1!G274+'Захтев за додатна сред.'!G274+Projekat!G274+Sheet2!G274","v":0},{"$f":"+Programska_aktivnost!H274+Sheet1!H274+'Захтев за додатна сред.'!H274+Projekat!H274+Sheet2!H274","v":0},{"$f":"+Programska_aktivnost!I274+Sheet1!I274+'Захтев за додатна сред.'!I274+Projekat!I274+Sheet2!I274","v":0},{"$f":"+Programska_aktivnost!J274+Sheet1!J274+'Захтев за додатна сред.'!J274+Projekat!J274+Sheet2!J274","v":0},{"$f":"+Programska_aktivnost!K274+Sheet1!K274+'Захтев за додатна сред.'!K274+Projekat!K274+Sheet2!K274","v":0},{"$f":"+Programska_aktivnost!L274+Sheet1!L274+'Захтев за додатна сред.'!L274+Projekat!L274+Sheet2!L274","v":0},{"$f":"+Programska_aktivnost!M274+Sheet1!M274+'Захтев за додатна сред.'!M274+Projekat!M274+Sheet2!M274","v":0},0,0,null,null,null,null,null,null,null,null,null,0]
[228,441100,"Отплата камата на домаће хартије од вредности",{"$f":"+Programska_aktivnost!D275+Sheet1!D275+'Захтев за додатна сред.'!D275+Projekat!D275+Sheet2!D275","v":0},{"$f":"+Programska_aktivnost!E275+Sheet1!E275+'Захтев за додатна сред.'!E275+Projekat!E275+Sheet2!E275","v":0},{"$f":"+Programska_aktivnost!F275+Sheet1!F275+'Захтев за додатна сред.'!F275+Projekat!F275+Sheet2!F275","v":0},{"$f":"+Programska_aktivnost!G275+Sheet1!G275+'Захтев за додатна сред.'!G275+Projekat!G275+Sheet2!G275","v":0},{"$f":"+Programska_aktivnost!H275+Sheet1!H275+'Захтев за додатна сред.'!H275+Projekat!H275+Sheet2!H275","v":0},{"$f":"+Programska_aktivnost!I275+Sheet1!I275+'Захтев за додатна сред.'!I275+Projekat!I275+Sheet2!I275","v":0},{"$f":"+Programska_aktivnost!J275+Sheet1!J275+'Захтев за додатна сред.'!J275+Projekat!J275+Sheet2!J275","v":0},{"$f":"+Programska_aktivnost!K275+Sheet1!K275+'Захтев за додатна сред.'!K275+Projekat!K275+Sheet2!K275","v":0},{"$f":"+Programska_aktivnost!L275+Sheet1!L275+'Захтев за додатна сред.'!L275+Projekat!L275+Sheet2!L275","v":0},{"$f":"+Programska_aktivnost!M275+Sheet1!M275+'Захтев за додатна сред.'!M275+Projekat!M275+Sheet2!M275","v":0},{"$f":"SUM(H275,J275,L275)","v":0},0,null,null,null,null,null,null,null,null,null,0]
[229,441200,"Отплата камата осталим нивоима власти",{"$f":"+Programska_aktivnost!D276+Sheet1!D276+'Захтев за додатна сред.'!D276+Projekat!D276+Sheet2!D276","v":0},{"$f":"+Programska_aktivnost!E276+Sheet1!E276+'Захтев за додатна сред.'!E276+Projekat!E276+Sheet2!E276","v":0},{"$f":"+Programska_aktivnost!F276+Sheet1!F276+'Захтев за додатна сред.'!F276+Projekat!F276+Sheet2!F276","v":0},{"$f":"+Programska_aktivnost!G276+Sheet1!G276+'Захтев за додатна сред.'!G276+Projekat!G276+Sheet2!G276","v":0},{"$f":"+Programska_aktivnost!H276+Sheet1!H276+'Захтев за додатна сред.'!H276+Projekat!H276+Sheet2!H276","v":0},{"$f":"+Programska_aktivnost!I276+Sheet1!I276+'Захтев за додатна сред.'!I276+Projekat!I276+Sheet2!I276","v":0},{"$f":"+Programska_aktivnost!J276+Sheet1!J276+'Захтев за додатна сред.'!J276+Projekat!J276+Sheet2!J276","v":0},{"$f":"+Programska_aktivnost!K276+Sheet1!K276+'Захтев за додатна сред.'!K276+Projekat!K276+Sheet2!K276","v":0},{"$f":"+Programska_aktivnost!L276+Sheet1!L276+'Захтев за додатна сред.'!L276+Projekat!L276+Sheet2!L276","v":0},{"$f":"+Programska_aktivnost!M276+Sheet1!M276+'Захтев за додатна сред.'!M276+Projekat!M276+Sheet2!M276","v":0},0,0,null,null,null,null,null,null,null,null,null,0]
[230,441300,"Отплата камата домаћим јавним финансијским институцијама",{"$f":"+Programska_aktivnost!D277+Sheet1!D277+'Захтев за додатна сред.'!D277+Projekat!D277+Sheet2!D277","v":0},{"$f":"+Programska_aktivnost!E277+Sheet1!E277+'Захтев за додатна сред.'!E277+Projekat!E277+Sheet2!E277","v":0},{"$f":"+Programska_aktivnost!F277+Sheet1!F277+'Захтев за додатна сред.'!F277+Projekat!F277+Sheet2!F277","v":0},{"$f":"+Programska_aktivnost!G277+Sheet1!G277+'Захтев за додатна сред.'!G277+Projekat!G277+Sheet2!G277","v":0},{"$f":"+Programska_aktivnost!H277+Sheet1!H277+'Захтев за додатна сред.'!H277+Projekat!H277+Sheet2!H277","v":0},{"$f":"+Programska_aktivnost!I277+Sheet1!I277+'Захтев за додатна сред.'!I277+Projekat!I277+Sheet2!I277","v":0},{"$f":"+Programska_aktivnost!J277+Sheet1!J277+'Захтев за додатна сред.'!J277+Projekat!J277+Sheet2!J277","v":0},{"$f":"+Programska_aktivnost!K277+Sheet1!K277+'Захтев за додатна сред.'!K277+Projekat!K277+Sheet2!K277","v":0},{"$f":"+Programska_aktivnost!L277+Sheet1!L277+'Захтев за додатна сред.'!L277+Projekat!L277+Sheet2!L277","v":0},{"$f":"+Programska_aktivnost!M277+Sheet1!M277+'Захтев за додатна сред.'!M277+Projekat!M277+Sheet2!M277","v":0},0,0,null,null,null,null,null,null,null,null,null,0]
[231,441400,"Отплата камата домаћим пословним банкама",{"$f":"+Programska_aktivnost!D278+Sheet1!D278+'Захтев за додатна сред.'!D278+Projekat!D278+Sheet2!D278","v":0},{"$f":"+Programska_aktivnost!E278+Sheet1!E278+'Захтев за додатна сред.'!E278+Projekat!E278+Sheet2!E278","v":0},{"$f":"+Programska_aktivnost!F278+Sheet1!F278+'Захтев за додатна сред.'!F278+Projekat!F278+Sheet2!F278","v":0},{"$f":"+Programska_aktivnost!G278+Sheet1!G278+'Захтев за додатна сред.'!G278+Projekat!G278+Sheet2!G278","v":0},{"$f":"+Programska_aktivnost!H278+Sheet1!H278+'Захтев за додатна сред.'!H278+Projekat!H278+Sheet2!H278","v":0},{"$f":"+Programska_aktivnost!I278+Sheet1!I278+'Захтев за додатна сред.'!I278+Projekat!I278+Sheet2!I278","v":0},{"$f":"+Programska_aktivnost!J278+Sheet1!J278+'Захтев за додатна сред.'!J278+Projekat!J278+Sheet2!J278","v":0},{"$f":"+Programska_aktivnost!K278+Sheet1!K278+'Захтев за додатна сред.'!K278+Projekat!K278+Sheet2!K278","v":0},{"$f":"+Programska_aktivnost!L278+Sheet1!L278+'Захтев за додатна сред.'!L278+Projekat!L278+Sheet2!L278","v":0},{"$f":"+Programska_aktivnost!M278+Sheet1!M278+'Захтев за додатна сред.'!M278+Projekat!M278+Sheet2!M278","v":0},0,0,null,null,null,null,null,null,null,null,null,0]
[232,441500,"Отплата камата осталим домаћим кредиторима",{"$f":"+Programska_aktivnost!D279+Sheet1!D279+'Захтев за додатна сред.'!D279+Projekat!D279+Sheet2!D279","v":0},{"$f":"+Programska_aktivnost!E279+Sheet1!E279+'Захтев за додатна сред.'!E279+Projekat!E279+Sheet2!E279","v":0},{"$f":"+Programska_aktivnost!F279+Sheet1!F279+'Захтев за додатна сред.'!F279+Projekat!F279+Sheet2!F279","v":0},{"$f":"+Programska_aktivnost!G279+Sheet1!G279+'Захтев за додатна сред.'!G279+Projekat!G279+Sheet2!G279","v":0},{"$f":"+Programska_aktivnost!H279+Sheet1!H279+'Захтев за додатна сред.'!H279+Projekat!H279+Sheet2!H279","v":0},{"$f":"+Programska_aktivnost!I279+Sheet1!I279+'Захтев за додатна сред.'!I279+Projekat!I279+Sheet2!I279","v":0},{"$f":"+Programska_aktivnost!J279+Sheet1!J279+'Захтев за додатна сред.'!J279+Projekat!J279+Sheet2!J279","v":0},{"$f":"+Programska_aktivnost!K279+Sheet1!K279+'Захтев за додатна сред.'!K279+Projekat!K279+Sheet2!K279","v":0},{"$f":"+Programska_aktivnost!L279+Sheet1!L279+'Захтев за додатна сред.'!L279+Projekat!L279+Sheet2!L279","v":0},{"$f":"+Programska_aktivnost!M279+Sheet1!M279+'Захтев за додатна сред.'!M279+Projekat!M279+Sheet2!M279","v":0},0,0,null,null,null,null,null,null,null,null,null,0]
[233,441600,"Отплата камата домаћинствима у земљи",{"$f":"+Programska_aktivnost!D280+Sheet1!D280+'Захтев за додатна сред.'!D280+Projekat!D280+Sheet2!D280","v":0},{"$f":"+Programska_aktivnost!E280+Sheet1!E280+'Захтев за додатна сред.'!E280+Projekat!E280+Sheet2!E280","v":0},{"$f":"+Programska_aktivnost!F280+Sheet1!F280+'Захтев за додатна сред.'!F280+Projekat!F280+Sheet2!F280","v":0},{"$f":"+Programska_aktivnost!G280+Sheet1!G280+'Захтев за додатна сред.'!G280+Projekat!G280+Sheet2!G280","v":0},{"$f":"+Programska_aktivnost!H280+Sheet1!H280+'Захтев за додатна сред.'!H280+Projekat!H280+Sheet2!H280","v":0},{"$f":"+Programska_aktivnost!I280+Sheet1!I280+'Захтев за додатна сред.'!I280+Projekat!I280+Sheet2!I280","v":0},{"$f":"+Programska_aktivnost!J280+Sheet1!J280+'Захтев за додатна сред.'!J280+Projekat!J280+Sheet2!J280","v":0},{"$f":"+Programska_aktivnost!K280+Sheet1!K280+'Захтев за додатна сред.'!K280+Projekat!K280+Sheet2!K280","v":0},{"$f":"+Programska_aktivnost!L280+Sheet1!L280+'Захтев за додатна сред.'!L280+Projekat!L280+Sheet2!L280","v":0},{"$f":"+Programska_aktivnost!M280+Sheet1!M280+'Захтев за додатна сред.'!M280+Projekat!M280+Sheet2!M280","v":0},0,0,null,null,null,null,null,null,null,null,null,0]
[234,441700,"Отплата камата на домаће финансијске деривате",{"$f":"+Programska_aktivnost!D281+Sheet1!D281+'Захтев за додатна сред.'!D281+Projekat!D281+Sheet2!D281","v":0},{"$f":"+Programska_aktivnost!E281+Sheet1!E281+'Захтев за додатна сред.'!E281+Projekat!E281+Sheet2!E281","v":0},{"$f":"+Programska_aktivnost!F281+Sheet1!F281+'Захтев за додатна сред.'!F281+Projekat!F281+Sheet2!F281","v":0},{"$f":"+Programska_aktivnost!G281+Sheet1!G281+'Захтев за додатна сред.'!G281+Projekat!G281+Sheet2!G281","v":0},{"$f":"+Programska_aktivnost!H281+Sheet1!H281+'Захтев за додатна сред.'!H281+Projekat!H281+Sheet2!H281","v":0},{"$f":"+Programska_aktivnost!I281+Sheet1!I281+'Захтев за додатна сред.'!I281+Projekat!I281+Sheet2!I281","v":0},{"$f":"+Programska_aktivnost!J281+Sheet1!J281+'Захтев за додатна сред.'!J281+Projekat!J281+Sheet2!J281","v":0},{"$f":"+Programska_aktivnost!K281+Sheet1!K281+'Захтев за додатна сред.'!K281+Projekat!K281+Sheet2!K281","v":0},{"$f":"+Programska_aktivnost!L281+Sheet1!L281+'Захтев за додатна сред.'!L281+Projekat!L281+Sheet2!L281","v":0},{"$f":"+Programska_aktivnost!M281+Sheet1!M281+'Захтев за додатна сред.'!M281+Projekat!M281+Sheet2!M281","v":0},0,0,null,null,null,null,null,null,null,null,null,0]
[235,441800,"Отплата камата на домаће менице",{"$f":"+Programska_aktivnost!D282+Sheet1!D282+'Захтев за додатна сред.'!D282+Projekat!D282+Sheet2!D282","v":0},{"$f":"+Programska_aktivnost!E282+Sheet1!E282+'Захтев за додатна сред.'!E282+Projekat!E282+Sheet2!E282","v":0},{"$f":"+Programska_aktivnost!F282+Sheet1!F282+'Захтев за додатна сред.'!F282+Projekat!F282+Sheet2!F282","v":0},{"$f":"+Programska_aktivnost!G282+Sheet1!G282+'Захтев за додатна сред.'!G282+Projekat!G282+Sheet2!G282","v":0},{"$f":"+Programska_aktivnost!H282+Sheet1!H282+'Захтев за додатна сред.'!H282+Projekat!H282+Sheet2!H282","v":0},{"$f":"+Programska_aktivnost!I282+Sheet1!I282+'Захтев за додатна сред.'!I282+Projekat!I282+Sheet2!I282","v":0},{"$f":"+Programska_aktivnost!J282+Sheet1!J282+'Захтев за додатна сред.'!J282+Projekat!J282+Sheet2!J282","v":0},{"$f":"+Programska_aktivnost!K282+Sheet1!K282+'Захтев за додатна сред.'!K282+Projekat!K282+Sheet2!K282","v":0},{"$f":"+Programska_aktivnost!L282+Sheet1!L282+'Захтев за додатна сред.'!L282+Projekat!L282+Sheet2!L282","v":0},{"$f":"+Programska_aktivnost!M282+Sheet1!M282+'Захтев за додатна сред.'!M282+Projekat!M282+Sheet2!M282","v":0},0,0,null,null,null,null,null,null,null,null,null,0]
[236,441900,"Финансијске промене на финансијским лизинзима",{"$f":"+Programska_aktivnost!D283+Sheet1!D283+'Захтев за додатна сред.'!D283+Projekat!D283+Sheet2!D283","v":0},{"$f":"+Programska_aktivnost!E283+Sheet1!E283+'Захтев за додатна сред.'!E283+Projekat!E283+Sheet2!E283","v":0},{"$f":"+Programska_aktivnost!F283+Sheet1!F283+'Захтев за додатна сред.'!F283+Projekat!F283+Sheet2!F283","v":0},{"$f":"+Programska_aktivnost!G283+Sheet1!G283+'Захтев за додатна сред.'!G283+Projekat!G283+Sheet2!G283","v":0},{"$f":"+Programska_aktivnost!H283+Sheet1!H283+'Захтев за додатна сред.'!H283+Projekat!H283+Sheet2!H283","v":0},{"$f":"+Programska_aktivnost!I283+Sheet1!I283+'Захтев за додатна сред.'!I283+Projekat!I283+Sheet2!I283","v":0},{"$f":"+Programska_aktivnost!J283+Sheet1!J283+'Захтев за додатна сред.'!J283+Projekat!J283+Sheet2!J283","v":0},{"$f":"+Programska_aktivnost!K283+Sheet1!K283+'Захтев за додатна сред.'!K283+Projekat!K283+Sheet2!K283","v":0},{"$f":"+Programska_aktivnost!L283+Sheet1!L283+'Захтев за додатна сред.'!L283+Projekat!L283+Sheet2!L283","v":0},{"$f":"+Programska_aktivnost!M283+Sheet1!M283+'Захтев за додатна сред.'!M283+Projekat!M283+Sheet2!M283","v":0},0,0,null,null,null,null,null,null,null,null,null,0]
[237,442000,"ОТПЛАТА СТРАНИХ КАМАТА (од 238 до 243)",{"$f":"+Programska_aktivnost!D284+Sheet1!D284+'Захтев за додатна сред.'!D284+Projekat!D284+Sheet2!D284","v":0},{"$f":"+Programska_aktivnost!E284+Sheet1!E284+'Захтев за додатна сред.'!E284+Projekat!E284+Sheet2!E284","v":0},{"$f":"+Programska_aktivnost!F284+Sheet1!F284+'Захтев за додатна сред.'!F284+Projekat!F284+Sheet2!F284","v":0},{"$f":"+Programska_aktivnost!G284+Sheet1!G284+'Захтев за додатна сред.'!G284+Projekat!G284+Sheet2!G284","v":0},{"$f":"+Programska_aktivnost!H284+Sheet1!H284+'Захтев за додатна сред.'!H284+Projekat!H284+Sheet2!H284","v":0},{"$f":"+Programska_aktivnost!I284+Sheet1!I284+'Захтев за додатна сред.'!I284+Projekat!I284+Sheet2!I284","v":0},{"$f":"+Programska_aktivnost!J284+Sheet1!J284+'Захтев за додатна сред.'!J284+Projekat!J284+Sheet2!J284","v":0},{"$f":"+Programska_aktivnost!K284+Sheet1!K284+'Захтев за додатна сред.'!K284+Projekat!K284+Sheet2!K284","v":0},{"$f":"+Programska_aktivnost!L284+Sheet1!L284+'Захтев за додатна сред.'!L284+Projekat!L284+Sheet2!L284","v":0},{"$f":"+Programska_aktivnost!M284+Sheet1!M284+'Захтев за додатна сред.'!M284+Projekat!M284+Sheet2!M284","v":0},0,0,null,null,null,null,null,null,null,null,null,0]
[238,442100,"Отплата камата на хартије од вредности емитоване на иностраном финансијском тржишту",{"$f":"+Programska_aktivnost!D285+Sheet1!D285+'Захтев за додатна сред.'!D285+Projekat!D285+Sheet2!D285","v":0},{"$f":"+Programska_aktivnost!E285+Sheet1!E285+'Захтев за додатна сред.'!E285+Projekat!E285+Sheet2!E285","v":0},{"$f":"+Programska_aktivnost!F285+Sheet1!F285+'Захтев за додатна сред.'!F285+Projekat!F285+Sheet2!F285","v":0},{"$f":"+Programska_aktivnost!G285+Sheet1!G285+'Захтев за додатна сред.'!G285+Projekat!G285+Sheet2!G285","v":0},{"$f":"+Programska_aktivnost!H285+Sheet1!H285+'Захтев за додатна сред.'!H285+Projekat!H285+Sheet2!H285","v":0},{"$f":"+Programska_aktivnost!I285+Sheet1!I285+'Захтев за додатна сред.'!I285+Projekat!I285+Sheet2!I285","v":0},{"$f":"+Programska_aktivnost!J285+Sheet1!J285+'Захтев за додатна сред.'!J285+Projekat!J285+Sheet2!J285","v":0},{"$f":"+Programska_aktivnost!K285+Sheet1!K285+'Захтев за додатна сред.'!K285+Projekat!K285+Sheet2!K285","v":0},{"$f":"+Programska_aktivnost!L285+Sheet1!L285+'Захтев за додатна сред.'!L285+Projekat!L285+Sheet2!L285","v":0},{"$f":"+Programska_aktivnost!M285+Sheet1!M285+'Захтев за додатна сред.'!M285+Projekat!M285+Sheet2!M285","v":0},0,0,null,null,null,null,null,null,null,null,null,0]
[239,442200,"Отплата камата страним владама",{"$f":"+Programska_aktivnost!D286+Sheet1!D286+'Захтев за додатна сред.'!D286+Projekat!D286+Sheet2!D286","v":0},{"$f":"+Programska_aktivnost!E286+Sheet1!E286+'Захтев за додатна сред.'!E286+Projekat!E286+Sheet2!E286","v":0},{"$f":"+Programska_aktivnost!F286+Sheet1!F286+'Захтев за додатна сред.'!F286+Projekat!F286+Sheet2!F286","v":0},{"$f":"+Programska_aktivnost!G286+Sheet1!G286+'Захтев за додатна сред.'!G286+Projekat!G286+Sheet2!G286","v":0},{"$f":"+Programska_aktivnost!H286+Sheet1!H286+'Захтев за додатна сред.'!H286+Projekat!H286+Sheet2!H286","v":0},{"$f":"+Programska_aktivnost!I286+Sheet1!I286+'Захтев за додатна сред.'!I286+Projekat!I286+Sheet2!I286","v":0},{"$f":"+Programska_aktivnost!J286+Sheet1!J286+'Захтев за додатна сред.'!J286+Projekat!J286+Sheet2!J286","v":0},{"$f":"+Programska_aktivnost!K286+Sheet1!K286+'Захтев за додатна сред.'!K286+Projekat!K286+Sheet2!K286","v":0},{"$f":"+Programska_aktivnost!L286+Sheet1!L286+'Захтев за додатна сред.'!L286+Projekat!L286+Sheet2!L286","v":0},{"$f":"+Programska_aktivnost!M286+Sheet1!M286+'Захтев за додатна сред.'!M286+Projekat!M286+Sheet2!M286","v":0},0,0,null,null,null,null,null,null,null,null,null,0]
[240,442300,"Отплата камата мултилатералним институцијама",{"$f":"+Programska_aktivnost!D287+Sheet1!D287+'Захтев за додатна сред.'!D287+Projekat!D287+Sheet2!D287","v":0},{"$f":"+Programska_aktivnost!E287+Sheet1!E287+'Захтев за додатна сред.'!E287+Projekat!E287+Sheet2!E287","v":0},{"$f":"+Programska_aktivnost!F287+Sheet1!F287+'Захтев за додатна сред.'!F287+Projekat!F287+Sheet2!F287","v":0},{"$f":"+Programska_aktivnost!G287+Sheet1!G287+'Захтев за додатна сред.'!G287+Projekat!G287+Sheet2!G287","v":0},{"$f":"+Programska_aktivnost!H287+Sheet1!H287+'Захтев за додатна сред.'!H287+Projekat!H287+Sheet2!H287","v":0},{"$f":"+Programska_aktivnost!I287+Sheet1!I287+'Захтев за додатна сред.'!I287+Projekat!I287+Sheet2!I287","v":0},{"$f":"+Programska_aktivnost!J287+Sheet1!J287+'Захтев за додатна сред.'!J287+Projekat!J287+Sheet2!J287","v":0},{"$f":"+Programska_aktivnost!K287+Sheet1!K287+'Захтев за додатна сред.'!K287+Projekat!K287+Sheet2!K287","v":0},{"$f":"+Programska_aktivnost!L287+Sheet1!L287+'Захтев за додатна сред.'!L287+Projekat!L287+Sheet2!L287","v":0},{"$f":"+Programska_aktivnost!M287+Sheet1!M287+'Захтев за додатна сред.'!M287+Projekat!M287+Sheet2!M287","v":0},0,0,null,null,null,null,null,null,null,null,null,0]
[241,442400,"Отплата камата страним пословним банкама",{"$f":"+Programska_aktivnost!D288+Sheet1!D288+'Захтев за додатна сред.'!D288+Projekat!D288+Sheet2!D288","v":0},{"$f":"+Programska_aktivnost!E288+Sheet1!E288+'Захтев за додатна сред.'!E288+Projekat!E288+Sheet2!E288","v":0},{"$f":"+Programska_aktivnost!F288+Sheet1!F288+'Захтев за додатна сред.'!F288+Projekat!F288+Sheet2!F288","v":0},{"$f":"+Programska_aktivnost!G288+Sheet1!G288+'Захтев за додатна сред.'!G288+Projekat!G288+Sheet2!G288","v":0},{"$f":"+Programska_aktivnost!H288+Sheet1!H288+'Захтев за додатна сред.'!H288+Projekat!H288+Sheet2!H288","v":0},{"$f":"+Programska_aktivnost!I288+Sheet1!I288+'Захтев за додатна сред.'!I288+Projekat!I288+Sheet2!I288","v":0},{"$f":"+Programska_aktivnost!J288+Sheet1!J288+'Захтев за додатна сред.'!J288+Projekat!J288+Sheet2!J288","v":0},{"$f":"+Programska_aktivnost!K288+Sheet1!K288+'Захтев за додатна сред.'!K288+Projekat!K288+Sheet2!K288","v":0},{"$f":"+Programska_aktivnost!L288+Sheet1!L288+'Захтев за додатна сред.'!L288+Projekat!L288+Sheet2!L288","v":0},{"$f":"+Programska_aktivnost!M288+Sheet1!M288+'Захтев за додатна сред.'!M288+Projekat!M288+Sheet2!M288","v":0},0,0,null,null,null,null,null,null,null,null,null,0]
[242,442500,"Отплата камата осталим страним кредиторима",{"$f":"+Programska_aktivnost!D289+Sheet1!D289+'Захтев за додатна сред.'!D289+Projekat!D289+Sheet2!D289","v":0},{"$f":"+Programska_aktivnost!E289+Sheet1!E289+'Захтев за додатна сред.'!E289+Projekat!E289+Sheet2!E289","v":0},{"$f":"+Programska_aktivnost!F289+Sheet1!F289+'Захтев за додатна сред.'!F289+Projekat!F289+Sheet2!F289","v":0},{"$f":"+Programska_aktivnost!G289+Sheet1!G289+'Захтев за додатна сред.'!G289+Projekat!G289+Sheet2!G289","v":0},{"$f":"+Programska_aktivnost!H289+Sheet1!H289+'Захтев за додатна сред.'!H289+Projekat!H289+Sheet2!H289","v":0},{"$f":"+Programska_aktivnost!I289+Sheet1!I289+'Захтев за додатна сред.'!I289+Projekat!I289+Sheet2!I289","v":0},{"$f":"+Programska_aktivnost!J289+Sheet1!J289+'Захтев за додатна сред.'!J289+Projekat!J289+Sheet2!J289","v":0},{"$f":"+Programska_aktivnost!K289+Sheet1!K289+'Захтев за додатна сред.'!K289+Projekat!K289+Sheet2!K289","v":0},{"$f":"+Programska_aktivnost!L289+Sheet1!L289+'Захтев за додатна сред.'!L289+Projekat!L289+Sheet2!L289","v":0},{"$f":"+Programska_aktivnost!M289+Sheet1!M289+'Захтев за додатна сред.'!M289+Projekat!M289+Sheet2!M289","v":0},0,0,null,null,null,null,null,null,null,null,null,0]
[243,442600,"Отплата камата на стране финансијске деривате",{"$f":"+Programska_aktivnost!D290+Sheet1!D290+'Захтев за додатна сред.'!D290+Projekat!D290+Sheet2!D290","v":0},{"$f":"+Programska_aktivnost!E290+Sheet1!E290+'Захтев за додатна сред.'!E290+Projekat!E290+Sheet2!E290","v":0},{"$f":"+Programska_aktivnost!F290+Sheet1!F290+'Захтев за додатна сред.'!F290+Projekat!F290+Sheet2!F290","v":0},{"$f":"+Programska_aktivnost!G290+Sheet1!G290+'Захтев за додатна сред.'!G290+Projekat!G290+Sheet2!G290","v":0},{"$f":"+Programska_aktivnost!H290+Sheet1!H290+'Захтев за додатна сред.'!H290+Projekat!H290+Sheet2!H290","v":0},{"$f":"+Programska_aktivnost!I290+Sheet1!I290+'Захтев за додатна сред.'!I290+Projekat!I290+Sheet2!I290","v":0},{"$f":"+Programska_aktivnost!J290+Sheet1!J290+'Захтев за додатна сред.'!J290+Projekat!J290+Sheet2!J290","v":0},{"$f":"+Programska_aktivnost!K290+Sheet1!K290+'Захтев за додатна сред.'!K290+Projekat!K290+Sheet2!K290","v":0},{"$f":"+Programska_aktivnost!L290+Sheet1!L290+'Захтев за додатна сред.'!L290+Projekat!L290+Sheet2!L290","v":0},{"$f":"+Programska_aktivnost!M290+Sheet1!M290+'Захтев за додатна сред.'!M290+Projekat!M290+Sheet2!M290","v":0},0,0,null,null,null,null,null,null,null,null,null,0]
[244,443000,"ОТПЛАТА КАМАТА ПО ГАРАНЦИЈАМА 245)",{"$f":"+Programska_aktivnost!D291+Sheet1!D291+'Захтев за додатна сред.'!D291+Projekat!D291+Sheet2!D291","v":0},{"$f":"+Programska_aktivnost!E291+Sheet1!E291+'Захтев за додатна сред.'!E291+Projekat!E291+Sheet2!E291","v":0},{"$f":"+Programska_aktivnost!F291+Sheet1!F291+'Захтев за додатна сред.'!F291+Projekat!F291+Sheet2!F291","v":0},{"$f":"+Programska_aktivnost!G291+Sheet1!G291+'Захтев за додатна сред.'!G291+Projekat!G291+Sheet2!G291","v":0},{"$f":"+Programska_aktivnost!H291+Sheet1!H291+'Захтев за додатна сред.'!H291+Projekat!H291+Sheet2!H291","v":0},{"$f":"+Programska_aktivnost!I291+Sheet1!I291+'Захтев за додатна сред.'!I291+Projekat!I291+Sheet2!I291","v":0},{"$f":"+Programska_aktivnost!J291+Sheet1!J291+'Захтев за додатна сред.'!J291+Projekat!J291+Sheet2!J291","v":0},{"$f":"+Programska_aktivnost!K291+Sheet1!K291+'Захтев за додатна сред.'!K291+Projekat!K291+Sheet2!K291","v":0},{"$f":"+Programska_aktivnost!L291+Sheet1!L291+'Захтев за додатна сред.'!L291+Projekat!L291+Sheet2!L291","v":0},{"$f":"+Programska_aktivnost!M291+Sheet1!M291+'Захтев за додатна сред.'!M291+Projekat!M291+Sheet2!M291","v":0},0,0,null,null,null,null,null,null,null,null,null,0]
[245,443100,"Отплата камата по гаранцијама",{"$f":"+Programska_aktivnost!D292+Sheet1!D292+'Захтев за додатна сред.'!D292+Projekat!D292+Sheet2!D292","v":0},{"$f":"+Programska_aktivnost!E292+Sheet1!E292+'Захтев за додатна сред.'!E292+Projekat!E292+Sheet2!E292","v":0},{"$f":"+Programska_aktivnost!F292+Sheet1!F292+'Захтев за додатна сред.'!F292+Projekat!F292+Sheet2!F292","v":0},{"$f":"+Programska_aktivnost!G292+Sheet1!G292+'Захтев за додатна сред.'!G292+Projekat!G292+Sheet2!G292","v":0},{"$f":"+Programska_aktivnost!H292+Sheet1!H292+'Захтев за додатна сред.'!H292+Projekat!H292+Sheet2!H292","v":0},{"$f":"+Programska_aktivnost!I292+Sheet1!I292+'Захтев за додатна сред.'!I292+Projekat!I292+Sheet2!I292","v":0},{"$f":"+Programska_aktivnost!J292+Sheet1!J292+'Захтев за додатна сред.'!J292+Projekat!J292+Sheet2!J292","v":0},{"$f":"+Programska_aktivnost!K292+Sheet1!K292+'Захтев за додатна сред.'!K292+Projekat!K292+Sheet2!K292","v":0},{"$f":"+Programska_aktivnost!L292+Sheet1!L292+'Захтев за додатна сред.'!L292+Projekat!L292+Sheet2!L292","v":0},{"$f":"+Programska_aktivnost!M292+Sheet1!M292+'Захтев за додатна сред.'!M292+Projekat!M292+Sheet2!M292","v":0},0,0,null,null,null,null,null,null,null,null,null,0]
[246,444000,"ПРАТЕЋИ ТРОШКОВИ ЗАДУЖИВАЊА (од 247 до 249)",{"$f":"+Programska_aktivnost!D293+Sheet1!D293+'Захтев за додатна сред.'!D293+Projekat!D293+Sheet2!D293","v":0},{"$f":"+Programska_aktivnost!E293+Sheet1!E293+'Захтев за додатна сред.'!E293+Projekat!E293+Sheet2!E293","v":0},{"$f":"+Programska_aktivnost!F293+Sheet1!F293+'Захтев за додатна сред.'!F293+Projekat!F293+Sheet2!F293","v":0},{"$f":"+Programska_aktivnost!G293+Sheet1!G293+'Захтев за додатна сред.'!G293+Projekat!G293+Sheet2!G293","v":0},{"$f":"+Programska_aktivnost!H293+Sheet1!H293+'Захтев за додатна сред.'!H293+Projekat!H293+Sheet2!H293","v":0},{"$f":"+Programska_aktivnost!I293+Sheet1!I293+'Захтев за додатна сред.'!I293+Projekat!I293+Sheet2!I293","v":0},{"$f":"+Programska_aktivnost!J293+Sheet1!J293+'Захтев за додатна сред.'!J293+Projekat!J293+Sheet2!J293","v":0},{"$f":"+Programska_aktivnost!K293+Sheet1!K293+'Захтев за додатна сред.'!K293+Projekat!K293+Sheet2!K293","v":0},{"$f":"+Programska_aktivnost!L293+Sheet1!L293+'Захтев за додатна сред.'!L293+Projekat!L293+Sheet2!L293","v":0},{"$f":"+Programska_aktivnost!M293+Sheet1!M293+'Захтев за додатна сред.'!M293+Projekat!M293+Sheet2!M293","v":0},0,0,null,null,null,null,null,null,null,null,null,0]
[247,444100,"Негативне курсне разлике",{"$f":"+Programska_aktivnost!D294+Sheet1!D294+'Захтев за додатна сред.'!D294+Projekat!D294+Sheet2!D294","v":0},{"$f":"+Programska_aktivnost!E294+Sheet1!E294+'Захтев за додатна сред.'!E294+Projekat!E294+Sheet2!E294","v":0},{"$f":"+Programska_aktivnost!F294+Sheet1!F294+'Захтев за додатна сред.'!F294+Projekat!F294+Sheet2!F294","v":0},{"$f":"+Programska_aktivnost!G294+Sheet1!G294+'Захтев за додатна сред.'!G294+Projekat!G294+Sheet2!G294","v":0},{"$f":"+Programska_aktivnost!H294+Sheet1!H294+'Захтев за додатна сред.'!H294+Projekat!H294+Sheet2!H294","v":0},{"$f":"+Programska_aktivnost!I294+Sheet1!I294+'Захтев за додатна сред.'!I294+Projekat!I294+Sheet2!I294","v":0},{"$f":"+Programska_aktivnost!J294+Sheet1!J294+'Захтев за додатна сред.'!J294+Projekat!J294+Sheet2!J294","v":0},{"$f":"+Programska_aktivnost!K294+Sheet1!K294+'Захтев за додатна сред.'!K294+Projekat!K294+Sheet2!K294","v":0},{"$f":"+Programska_aktivnost!L294+Sheet1!L294+'Захтев за додатна сред.'!L294+Projekat!L294+Sheet2!L294","v":0},{"$f":"+Programska_aktivnost!M294+Sheet1!M294+'Захтев за додатна сред.'!M294+Projekat!M294+Sheet2!M294","v":0},0,0,null,null,null,null,null,null,null,null,null,0]
[248,444200,"Казне за кашњење",{"$f":"+Programska_aktivnost!D295+Sheet1!D295+'Захтев за додатна сред.'!D295+Projekat!D295+Sheet2!D295","v":0},{"$f":"+Programska_aktivnost!E295+Sheet1!E295+'Захтев за додатна сред.'!E295+Projekat!E295+Sheet2!E295","v":0},{"$f":"+Programska_aktivnost!F295+Sheet1!F295+'Захтев за додатна сред.'!F295+Projekat!F295+Sheet2!F295","v":0},{"$f":"+Programska_aktivnost!G295+Sheet1!G295+'Захтев за додатна сред.'!G295+Projekat!G295+Sheet2!G295","v":0},{"$f":"+Programska_aktivnost!H295+Sheet1!H295+'Захтев за додатна сред.'!H295+Projekat!H295+Sheet2!H295","v":0},{"$f":"+Programska_aktivnost!I295+Sheet1!I295+'Захтев за додатна сред.'!I295+Projekat!I295+Sheet2!I295","v":0},{"$f":"+Programska_aktivnost!J295+Sheet1!J295+'Захтев за додатна сред.'!J295+Projekat!J295+Sheet2!J295","v":0},{"$f":"+Programska_aktivnost!K295+Sheet1!K295+'Захтев за додатна сред.'!K295+Projekat!K295+Sheet2!K295","v":0},{"$f":"+Programska_aktivnost!L295+Sheet1!L295+'Захтев за додатна сред.'!L295+Projekat!L295+Sheet2!L295","v":0},{"$f":"+Programska_aktivnost!M295+Sheet1!M295+'Захтев за додатна сред.'!M295+Projekat!M295+Sheet2!M295","v":0},0,0,null,null,null,null,null,null,null,null,null,0]
[249,444300,"Остали пратећи трошкови задуживања",{"$f":"+Programska_aktivnost!D296+Sheet1!D296+'Захтев за додатна сред.'!D296+Projekat!D296+Sheet2!D296","v":0},{"$f":"+Programska_aktivnost!E296+Sheet1!E296+'Захтев за додатна сред.'!E296+Projekat!E296+Sheet2!E296","v":0},{"$f":"+Programska_aktivnost!F296+Sheet1!F296+'Захтев за додатна сред.'!F296+Projekat!F296+Sheet2!F296","v":0},{"$f":"+Programska_aktivnost!G296+Sheet1!G296+'Захтев за додатна сред.'!G296+Projekat!G296+Sheet2!G296","v":0},{"$f":"+Programska_aktivnost!H296+Sheet1!H296+'Захтев за додатна сред.'!H296+Projekat!H296+Sheet2!H296","v":0},{"$f":"+Programska_aktivnost!I296+Sheet1!I296+'Захтев за додатна сред.'!I296+Projekat!I296+Sheet2!I296","v":0},{"$f":"+Programska_aktivnost!J296+Sheet1!J296+'Захтев за додатна сред.'!J296+Projekat!J296+Sheet2!J296","v":0},{"$f":"+Programska_aktivnost!K296+Sheet1!K296+'Захтев за додатна сред.'!K296+Projekat!K296+Sheet2!K296","v":0},{"$f":"+Programska_aktivnost!L296+Sheet1!L296+'Захтев за додатна сред.'!L296+Projekat!L296+Sheet2!L296","v":0},{"$f":"+Programska_aktivnost!M296+Sheet1!M296+'Захтев за додатна сред.'!M296+Projekat!M296+Sheet2!M296","v":0},0,0,null,null,null,null,null,null,null,null,null,0]
[250,450000,"СУБВЕНЦИЈЕ (251 + 254 + 257 + 260)",{"$f":"+Programska_aktivnost!D297+Sheet1!D297+'Захтев за додатна сред.'!D297+Projekat!D297+Sheet2!D297","v":0},{"$f":"+Programska_aktivnost!E297+Sheet1!E297+'Захтев за додатна сред.'!E297+Projekat!E297+Sheet2!E297","v":0},{"$f":"+Programska_aktivnost!F297+Sheet1!F297+'Захтев за додатна сред.'!F297+Projekat!F297+Sheet2!F297","v":0},{"$f":"+Programska_aktivnost!G297+Sheet1!G297+'Захтев за додатна сред.'!G297+Projekat!G297+Sheet2!G297","v":0},{"$f":"+Programska_aktivnost!H297+Sheet1!H297+'Захтев за додатна сред.'!H297+Projekat!H297+Sheet2!H297","v":0},{"$f":"+Programska_aktivnost!I297+Sheet1!I297+'Захтев за додатна сред.'!I297+Projekat!I297+Sheet2!I297","v":0},{"$f":"+Programska_aktivnost!J297+Sheet1!J297+'Захтев за додатна сред.'!J297+Projekat!J297+Sheet2!J297","v":0},{"$f":"+Programska_aktivnost!K297+Sheet1!K297+'Захтев за додатна сред.'!K297+Projekat!K297+Sheet2!K297","v":0},{"$f":"+Programska_aktivnost!L297+Sheet1!L297+'Захтев за додатна сред.'!L297+Projekat!L297+Sheet2!L297","v":0},{"$f":"+Programska_aktivnost!M297+Sheet1!M297+'Захтев за додатна сред.'!M297+Projekat!M297+Sheet2!M297","v":0},0,0,null,null,null,null,null,null,null,null,null,0]
[251,451000,"СУБВЕНЦИЈЕ ЈАВНИМ НЕФИНАНСИЈСКИМ ПРЕДУЗЕЋИМА И ОРГАНИЗАЦИЈАМА (252 + 253)",{"$f":"+Programska_aktivnost!D298+Sheet1!D298+'Захтев за додатна сред.'!D298+Projekat!D298+Sheet2!D298","v":0},{"$f":"+Programska_aktivnost!E298+Sheet1!E298+'Захтев за додатна сред.'!E298+Projekat!E298+Sheet2!E298","v":0},{"$f":"+Programska_aktivnost!F298+Sheet1!F298+'Захтев за додатна сред.'!F298+Projekat!F298+Sheet2!F298","v":0},{"$f":"+Programska_aktivnost!G298+Sheet1!G298+'Захтев за додатна сред.'!G298+Projekat!G298+Sheet2!G298","v":0},{"$f":"+Programska_aktivnost!H298+Sheet1!H298+'Захтев за додатна сред.'!H298+Projekat!H298+Sheet2!H298","v":0},{"$f":"+Programska_aktivnost!I298+Sheet1!I298+'Захтев за додатна сред.'!I298+Projekat!I298+Sheet2!I298","v":0},{"$f":"+Programska_aktivnost!J298+Sheet1!J298+'Захтев за додатна сред.'!J298+Projekat!J298+Sheet2!J298","v":0},{"$f":"+Programska_aktivnost!K298+Sheet1!K298+'Захтев за додатна сред.'!K298+Projekat!K298+Sheet2!K298","v":0},{"$f":"+Programska_aktivnost!L298+Sheet1!L298+'Захтев за додатна сред.'!L298+Projekat!L298+Sheet2!L298","v":0},{"$f":"+Programska_aktivnost!M298+Sheet1!M298+'Захтев за додатна сред.'!M298+Projekat!M298+Sheet2!M298","v":0},0,0,null,null,null,null,null,null,null,null,null,0]
[252,451100,"Текуће субвенције јавним нефинансијским предузећима и организацијама",{"$f":"+Programska_aktivnost!D299+Sheet1!D299+'Захтев за додатна сред.'!D299+Projekat!D299+Sheet2!D299","v":0},{"$f":"+Programska_aktivnost!E299+Sheet1!E299+'Захтев за додатна сред.'!E299+Projekat!E299+Sheet2!E299","v":0},{"$f":"+Programska_aktivnost!F299+Sheet1!F299+'Захтев за додатна сред.'!F299+Projekat!F299+Sheet2!F299","v":0},{"$f":"+Programska_aktivnost!G299+Sheet1!G299+'Захтев за додатна сред.'!G299+Projekat!G299+Sheet2!G299","v":0},{"$f":"+Programska_aktivnost!H299+Sheet1!H299+'Захтев за додатна сред.'!H299+Projekat!H299+Sheet2!H299","v":0},{"$f":"+Programska_aktivnost!I299+Sheet1!I299+'Захтев за додатна сред.'!I299+Projekat!I299+Sheet2!I299","v":0},{"$f":"+Programska_aktivnost!J299+Sheet1!J299+'Захтев за додатна сред.'!J299+Projekat!J299+Sheet2!J299","v":0},{"$f":"+Programska_aktivnost!K299+Sheet1!K299+'Захтев за додатна сред.'!K299+Projekat!K299+Sheet2!K299","v":0},{"$f":"+Programska_aktivnost!L299+Sheet1!L299+'Захтев за додатна сред.'!L299+Projekat!L299+Sheet2!L299","v":0},{"$f":"+Programska_aktivnost!M299+Sheet1!M299+'Захтев за додатна сред.'!M299+Projekat!M299+Sheet2!M299","v":0},0,0,null,null,null,null,null,null,null,null,null,0]
[253,451200,"Капиталне субвенције јавним нефинансијским предузећима и организацијама",{"$f":"+Programska_aktivnost!D300+Sheet1!D300+'Захтев за додатна сред.'!D300+Projekat!D300+Sheet2!D300","v":0},{"$f":"+Programska_aktivnost!E300+Sheet1!E300+'Захтев за додатна сред.'!E300+Projekat!E300+Sheet2!E300","v":0},{"$f":"+Programska_aktivnost!F300+Sheet1!F300+'Захтев за додатна сред.'!F300+Projekat!F300+Sheet2!F300","v":0},{"$f":"+Programska_aktivnost!G300+Sheet1!G300+'Захтев за додатна сред.'!G300+Projekat!G300+Sheet2!G300","v":0},{"$f":"+Programska_aktivnost!H300+Sheet1!H300+'Захтев за додатна сред.'!H300+Projekat!H300+Sheet2!H300","v":0},{"$f":"+Programska_aktivnost!I300+Sheet1!I300+'Захтев за додатна сред.'!I300+Projekat!I300+Sheet2!I300","v":0},{"$f":"+Programska_aktivnost!J300+Sheet1!J300+'Захтев за додатна сред.'!J300+Projekat!J300+Sheet2!J300","v":0},{"$f":"+Programska_aktivnost!K300+Sheet1!K300+'Захтев за додатна сред.'!K300+Projekat!K300+Sheet2!K300","v":0},{"$f":"+Programska_aktivnost!L300+Sheet1!L300+'Захтев за додатна сред.'!L300+Projekat!L300+Sheet2!L300","v":0},{"$f":"+Programska_aktivnost!M300+Sheet1!M300+'Захтев за додатна сред.'!M300+Projekat!M300+Sheet2!M300","v":0},0,0,null,null,null,null,null,null,null,null,null,0]
[254,452000,"СУБВЕНЦИЈЕ ПРИВАТНИМ ФИНАНСИЈСКИМ ИНСТИТУЦИЈАМА (255 + 256)",{"$f":"+Programska_aktivnost!D301+Sheet1!D301+'Захтев за додатна сред.'!D301+Projekat!D301+Sheet2!D301","v":0},{"$f":"+Programska_aktivnost!E301+Sheet1!E301+'Захтев за додатна сред.'!E301+Projekat!E301+Sheet2!E301","v":0},{"$f":"+Programska_aktivnost!F301+Sheet1!F301+'Захтев за додатна сред.'!F301+Projekat!F301+Sheet2!F301","v":0},{"$f":"+Programska_aktivnost!G301+Sheet1!G301+'Захтев за додатна сред.'!G301+Projekat!G301+Sheet2!G301","v":0},{"$f":"+Programska_aktivnost!H301+Sheet1!H301+'Захтев за додатна сред.'!H301+Projekat!H301+Sheet2!H301","v":0},{"$f":"+Programska_aktivnost!I301+Sheet1!I301+'Захтев за додатна сред.'!I301+Projekat!I301+Sheet2!I301","v":0},{"$f":"+Programska_aktivnost!J301+Sheet1!J301+'Захтев за додатна сред.'!J301+Projekat!J301+Sheet2!J301","v":0},{"$f":"+Programska_aktivnost!K301+Sheet1!K301+'Захтев за додатна сред.'!K301+Projekat!K301+Sheet2!K301","v":0},{"$f":"+Programska_aktivnost!L301+Sheet1!L301+'Захтев за додатна сред.'!L301+Projekat!L301+Sheet2!L301","v":0},{"$f":"+Programska_aktivnost!M301+Sheet1!M301+'Захтев за додатна сред.'!M301+Projekat!M301+Sheet2!M301","v":0},0,0,null,null,null,null,null,null,null,null,null,0]
[255,452100,"Текуће субвенције приватним финансијским институцијама",{"$f":"+Programska_aktivnost!D302+Sheet1!D302+'Захтев за додатна сред.'!D302+Projekat!D302+Sheet2!D302","v":0},{"$f":"+Programska_aktivnost!E302+Sheet1!E302+'Захтев за додатна сред.'!E302+Projekat!E302+Sheet2!E302","v":0},{"$f":"+Programska_aktivnost!F302+Sheet1!F302+'Захтев за додатна сред.'!F302+Projekat!F302+Sheet2!F302","v":0},{"$f":"+Programska_aktivnost!G302+Sheet1!G302+'Захтев за додатна сред.'!G302+Projekat!G302+Sheet2!G302","v":0},{"$f":"+Programska_aktivnost!H302+Sheet1!H302+'Захтев за додатна сред.'!H302+Projekat!H302+Sheet2!H302","v":0},{"$f":"+Programska_aktivnost!I302+Sheet1!I302+'Захтев за додатна сред.'!I302+Projekat!I302+Sheet2!I302","v":0},{"$f":"+Programska_aktivnost!J302+Sheet1!J302+'Захтев за додатна сред.'!J302+Projekat!J302+Sheet2!J302","v":0},{"$f":"+Programska_aktivnost!K302+Sheet1!K302+'Захтев за додатна сред.'!K302+Projekat!K302+Sheet2!K302","v":0},{"$f":"+Programska_aktivnost!L302+Sheet1!L302+'Захтев за додатна сред.'!L302+Projekat!L302+Sheet2!L302","v":0},{"$f":"+Programska_aktivnost!M302+Sheet1!M302+'Захтев за додатна сред.'!M302+Projekat!M302+Sheet2!M302","v":0},0,0,null,null,null,null,null,null,null,null,null,0]
[256,452200,"Капиталне субвенције приватним финансијским институцијама",{"$f":"+Programska_aktivnost!D303+Sheet1!D303+'Захтев за додатна сред.'!D303+Projekat!D303+Sheet2!D303","v":0},{"$f":"+Programska_aktivnost!E303+Sheet1!E303+'Захтев за додатна сред.'!E303+Projekat!E303+Sheet2!E303","v":0},{"$f":"+Programska_aktivnost!F303+Sheet1!F303+'Захтев за додатна сред.'!F303+Projekat!F303+Sheet2!F303","v":0},{"$f":"+Programska_aktivnost!G303+Sheet1!G303+'Захтев за додатна сред.'!G303+Projekat!G303+Sheet2!G303","v":0},{"$f":"+Programska_aktivnost!H303+Sheet1!H303+'Захтев за додатна сред.'!H303+Projekat!H303+Sheet2!H303","v":0},{"$f":"+Programska_aktivnost!I303+Sheet1!I303+'Захтев за додатна сред.'!I303+Projekat!I303+Sheet2!I303","v":0},{"$f":"+Programska_aktivnost!J303+Sheet1!J303+'Захтев за додатна сред.'!J303+Projekat!J303+Sheet2!J303","v":0},{"$f":"+Programska_aktivnost!K303+Sheet1!K303+'Захтев за додатна сред.'!K303+Projekat!K303+Sheet2!K303","v":0},{"$f":"+Programska_aktivnost!L303+Sheet1!L303+'Захтев за додатна сред.'!L303+Projekat!L303+Sheet2!L303","v":0},{"$f":"+Programska_aktivnost!M303+Sheet1!M303+'Захтев за додатна сред.'!M303+Projekat!M303+Sheet2!M303","v":0},0,0,null,null,null,null,null,null,null,null,null,0]
[257,453000,"СУБВЕНЦИЈЕ ЈАВНИМ ФИНАНСИЈСКИМ ИНСТИТУЦИЈАМА (258 + 259)",{"$f":"+Programska_aktivnost!D304+Sheet1!D304+'Захтев за додатна сред.'!D304+Projekat!D304+Sheet2!D304","v":0},{"$f":"+Programska_aktivnost!E304+Sheet1!E304+'Захтев за додатна сред.'!E304+Projekat!E304+Sheet2!E304","v":0},{"$f":"+Programska_aktivnost!F304+Sheet1!F304+'Захтев за додатна сред.'!F304+Projekat!F304+Sheet2!F304","v":0},{"$f":"+Programska_aktivnost!G304+Sheet1!G304+'Захтев за додатна сред.'!G304+Projekat!G304+Sheet2!G304","v":0},{"$f":"+Programska_aktivnost!H304+Sheet1!H304+'Захтев за додатна сред.'!H304+Projekat!H304+Sheet2!H304","v":0},{"$f":"+Programska_aktivnost!I304+Sheet1!I304+'Захтев за додатна сред.'!I304+Projekat!I304+Sheet2!I304","v":0},{"$f":"+Programska_aktivnost!J304+Sheet1!J304+'Захтев за додатна сред.'!J304+Projekat!J304+Sheet2!J304","v":0},{"$f":"+Programska_aktivnost!K304+Sheet1!K304+'Захтев за додатна сред.'!K304+Projekat!K304+Sheet2!K304","v":0},{"$f":"+Programska_aktivnost!L304+Sheet1!L304+'Захтев за додатна сред.'!L304+Projekat!L304+Sheet2!L304","v":0},{"$f":"+Programska_aktivnost!M304+Sheet1!M304+'Захтев за додатна сред.'!M304+Projekat!M304+Sheet2!M304","v":0},0,0,null,null,null,null,null,null,null,null,null,0]
[258,453100,"Текуће субвенције јавним финансијским институцијама",{"$f":"+Programska_aktivnost!D305+Sheet1!D305+'Захтев за додатна сред.'!D305+Projekat!D305+Sheet2!D305","v":0},{"$f":"+Programska_aktivnost!E305+Sheet1!E305+'Захтев за додатна сред.'!E305+Projekat!E305+Sheet2!E305","v":0},{"$f":"+Programska_aktivnost!F305+Sheet1!F305+'Захтев за додатна сред.'!F305+Projekat!F305+Sheet2!F305","v":0},{"$f":"+Programska_aktivnost!G305+Sheet1!G305+'Захтев за додатна сред.'!G305+Projekat!G305+Sheet2!G305","v":0},{"$f":"+Programska_aktivnost!H305+Sheet1!H305+'Захтев за додатна сред.'!H305+Projekat!H305+Sheet2!H305","v":0},{"$f":"+Programska_aktivnost!I305+Sheet1!I305+'Захтев за додатна сред.'!I305+Projekat!I305+Sheet2!I305","v":0},{"$f":"+Programska_aktivnost!J305+Sheet1!J305+'Захтев за додатна сред.'!J305+Projekat!J305+Sheet2!J305","v":0},{"$f":"+Programska_aktivnost!K305+Sheet1!K305+'Захтев за додатна сред.'!K305+Projekat!K305+Sheet2!K305","v":0},{"$f":"+Programska_aktivnost!L305+Sheet1!L305+'Захтев за додатна сред.'!L305+Projekat!L305+Sheet2!L305","v":0},{"$f":"+Programska_aktivnost!M305+Sheet1!M305+'Захтев за додатна сред.'!M305+Projekat!M305+Sheet2!M305","v":0},0,0,null,null,null,null,null,null,null,null,null,0]
[259,453200,"Капиталне субвенције јавним финансијским институцијама",{"$f":"+Programska_aktivnost!D306+Sheet1!D306+'Захтев за додатна сред.'!D306+Projekat!D306+Sheet2!D306","v":0},{"$f":"+Programska_aktivnost!E306+Sheet1!E306+'Захтев за додатна сред.'!E306+Projekat!E306+Sheet2!E306","v":0},{"$f":"+Programska_aktivnost!F306+Sheet1!F306+'Захтев за додатна сред.'!F306+Projekat!F306+Sheet2!F306","v":0},{"$f":"+Programska_aktivnost!G306+Sheet1!G306+'Захтев за додатна сред.'!G306+Projekat!G306+Sheet2!G306","v":0},{"$f":"+Programska_aktivnost!H306+Sheet1!H306+'Захтев за додатна сред.'!H306+Projekat!H306+Sheet2!H306","v":0},{"$f":"+Programska_aktivnost!I306+Sheet1!I306+'Захтев за додатна сред.'!I306+Projekat!I306+Sheet2!I306","v":0},{"$f":"+Programska_aktivnost!J306+Sheet1!J306+'Захтев за додатна сред.'!J306+Projekat!J306+Sheet2!J306","v":0},{"$f":"+Programska_aktivnost!K306+Sheet1!K306+'Захтев за додатна сред.'!K306+Projekat!K306+Sheet2!K306","v":0},{"$f":"+Programska_aktivnost!L306+Sheet1!L306+'Захтев за додатна сред.'!L306+Projekat!L306+Sheet2!L306","v":0},{"$f":"+Programska_aktivnost!M306+Sheet1!M306+'Захтев за додатна сред.'!M306+Projekat!M306+Sheet2!M306","v":0},0,0,null,null,null,null,null,null,null,null,null,0]
[260,454000,"СУБВЕНЦИЈЕ ПРИВАТНИМ ПРЕДУЗЕЋИМА (261 + 262)",{"$f":"+Programska_aktivnost!D307+Sheet1!D307+'Захтев за додатна сред.'!D307+Projekat!D307+Sheet2!D307","v":0},{"$f":"+Programska_aktivnost!E307+Sheet1!E307+'Захтев за додатна сред.'!E307+Projekat!E307+Sheet2!E307","v":0},{"$f":"+Programska_aktivnost!F307+Sheet1!F307+'Захтев за додатна сред.'!F307+Projekat!F307+Sheet2!F307","v":0},{"$f":"+Programska_aktivnost!G307+Sheet1!G307+'Захтев за додатна сред.'!G307+Projekat!G307+Sheet2!G307","v":0},{"$f":"+Programska_aktivnost!H307+Sheet1!H307+'Захтев за додатна сред.'!H307+Projekat!H307+Sheet2!H307","v":0},{"$f":"+Programska_aktivnost!I307+Sheet1!I307+'Захтев за додатна сред.'!I307+Projekat!I307+Sheet2!I307","v":0},{"$f":"+Programska_aktivnost!J307+Sheet1!J307+'Захтев за додатна сред.'!J307+Projekat!J307+Sheet2!J307","v":0},{"$f":"+Programska_aktivnost!K307+Sheet1!K307+'Захтев за додатна сред.'!K307+Projekat!K307+Sheet2!K307","v":0},{"$f":"+Programska_aktivnost!L307+Sheet1!L307+'Захтев за додатна сред.'!L307+Projekat!L307+Sheet2!L307","v":0},{"$f":"+Programska_aktivnost!M307+Sheet1!M307+'Захтев за додатна сред.'!M307+Projekat!M307+Sheet2!M307","v":0},0,0,null,null,null,null,null,null,null,null,null,0]
[261,454100,"Текуће субвенције приватним предузећима",{"$f":"+Programska_aktivnost!D308+Sheet1!D308+'Захтев за додатна сред.'!D308+Projekat!D308+Sheet2!D308","v":0},{"$f":"+Programska_aktivnost!E308+Sheet1!E308+'Захтев за додатна сред.'!E308+Projekat!E308+Sheet2!E308","v":0},{"$f":"+Programska_aktivnost!F308+Sheet1!F308+'Захтев за додатна сред.'!F308+Projekat!F308+Sheet2!F308","v":0},{"$f":"+Programska_aktivnost!G308+Sheet1!G308+'Захтев за додатна сред.'!G308+Projekat!G308+Sheet2!G308","v":0},{"$f":"+Programska_aktivnost!H308+Sheet1!H308+'Захтев за додатна сред.'!H308+Projekat!H308+Sheet2!H308","v":0},{"$f":"+Programska_aktivnost!I308+Sheet1!I308+'Захтев за додатна сред.'!I308+Projekat!I308+Sheet2!I308","v":0},{"$f":"+Programska_aktivnost!J308+Sheet1!J308+'Захтев за додатна сред.'!J308+Projekat!J308+Sheet2!J308","v":0},{"$f":"+Programska_aktivnost!K308+Sheet1!K308+'Захтев за додатна сред.'!K308+Projekat!K308+Sheet2!K308","v":0},{"$f":"+Programska_aktivnost!L308+Sheet1!L308+'Захтев за додатна сред.'!L308+Projekat!L308+Sheet2!L308","v":0},{"$f":"+Programska_aktivnost!M308+Sheet1!M308+'Захтев за додатна сред.'!M308+Projekat!M308+Sheet2!M308","v":0},0,0,null,null,null,null,null,null,null,null,null,0]
[262,454200,"Капиталне субвенције приватним предузећима",{"$f":"+Programska_aktivnost!D309+Sheet1!D309+'Захтев за додатна сред.'!D309+Projekat!D309+Sheet2!D309","v":0},{"$f":"+Programska_aktivnost!E309+Sheet1!E309+'Захтев за додатна сред.'!E309+Projekat!E309+Sheet2!E309","v":0},{"$f":"+Programska_aktivnost!F309+Sheet1!F309+'Захтев за додатна сред.'!F309+Projekat!F309+Sheet2!F309","v":0},{"$f":"+Programska_aktivnost!G309+Sheet1!G309+'Захтев за додатна сред.'!G309+Projekat!G309+Sheet2!G309","v":0},{"$f":"+Programska_aktivnost!H309+Sheet1!H309+'Захтев за додатна сред.'!H309+Projekat!H309+Sheet2!H309","v":0},{"$f":"+Programska_aktivnost!I309+Sheet1!I309+'Захтев за додатна сред.'!I309+Projekat!I309+Sheet2!I309","v":0},{"$f":"+Programska_aktivnost!J309+Sheet1!J309+'Захтев за додатна сред.'!J309+Projekat!J309+Sheet2!J309","v":0},{"$f":"+Programska_aktivnost!K309+Sheet1!K309+'Захтев за додатна сред.'!K309+Projekat!K309+Sheet2!K309","v":0},{"$f":"+Programska_aktivnost!L309+Sheet1!L309+'Захтев за додатна сред.'!L309+Projekat!L309+Sheet2!L309","v":0},{"$f":"+Programska_aktivnost!M309+Sheet1!M309+'Захтев за додатна сред.'!M309+Projekat!M309+Sheet2!M309","v":0},0,0,null,null,null,null,null,null,null,null,null,0]
[263,460000,"ДОНАЦИЈЕ, ДОТАЦИЈЕ И ТРАНСФЕРИ (264 + 267 + 270 + 273 + 276)",{"$f":"+Programska_aktivnost!D310+Sheet1!D310+'Захтев за додатна сред.'!D310+Projekat!D310+Sheet2!D310","v":11285000},{"$f":"+Programska_aktivnost!E310+Sheet1!E310+'Захтев за додатна сред.'!E310+Projekat!E310+Sheet2!E310","v":0},{"$f":"+Programska_aktivnost!F310+Sheet1!F310+'Захтев за додатна сред.'!F310+Projekat!F310+Sheet2!F310","v":12385000},{"$f":"+Programska_aktivnost!G310+Sheet1!G310+'Захтев за додатна сред.'!G310+Projekat!G310+Sheet2!G310","v":0},{"$f":"+Programska_aktivnost!H310+Sheet1!H310+'Захтев за додатна сред.'!H310+Projekat!H310+Sheet2!H310","v":1213000},{"$f":"+Programska_aktivnost!I310+Sheet1!I310+'Захтев за додатна сред.'!I310+Projekat!I310+Sheet2!I310","v":0},{"$f":"+Programska_aktivnost!J310+Sheet1!J310+'Захтев за додатна сред.'!J310+Projekat!J310+Sheet2!J310","v":0},{"$f":"+Programska_aktivnost!K310+Sheet1!K310+'Захтев за додатна сред.'!K310+Projekat!K310+Sheet2!K310","v":0},{"$f":"+Programska_aktivnost!L310+Sheet1!L310+'Захтев за додатна сред.'!L310+Projekat!L310+Sheet2!L310","v":0},{"$f":"+Programska_aktivnost!M310+Sheet1!M310+'Захтев за додатна сред.'!M310+Projekat!M310+Sheet2!M310","v":0},1213000,0,null,null,null,null,null,null,null,null,null,26096000]
[264,461000,"ДОНАЦИЈЕ СТРАНИМ ВЛАДАМА (265 + 266)",{"$f":"+Programska_aktivnost!D311+Sheet1!D311+'Захтев за додатна сред.'!D311+Projekat!D311+Sheet2!D311","v":0},{"$f":"+Programska_aktivnost!E311+Sheet1!E311+'Захтев за додатна сред.'!E311+Projekat!E311+Sheet2!E311","v":0},{"$f":"+Programska_aktivnost!F311+Sheet1!F311+'Захтев за додатна сред.'!F311+Projekat!F311+Sheet2!F311","v":0},{"$f":"+Programska_aktivnost!G311+Sheet1!G311+'Захтев за додатна сред.'!G311+Projekat!G311+Sheet2!G311","v":0},{"$f":"+Programska_aktivnost!H311+Sheet1!H311+'Захтев за додатна сред.'!H311+Projekat!H311+Sheet2!H311","v":0},{"$f":"+Programska_aktivnost!I311+Sheet1!I311+'Захтев за додатна сред.'!I311+Projekat!I311+Sheet2!I311","v":0},{"$f":"+Programska_aktivnost!J311+Sheet1!J311+'Захтев за додатна сред.'!J311+Projekat!J311+Sheet2!J311","v":0},{"$f":"+Programska_aktivnost!K311+Sheet1!K311+'Захтев за додатна сред.'!K311+Projekat!K311+Sheet2!K311","v":0},{"$f":"+Programska_aktivnost!L311+Sheet1!L311+'Захтев за додатна сред.'!L311+Projekat!L311+Sheet2!L311","v":0},{"$f":"+Programska_aktivnost!M311+Sheet1!M311+'Захтев за додатна сред.'!M311+Projekat!M311+Sheet2!M311","v":0},0,0,null,null,null,null,null,null,null,null,null,0]
[{"$f":"A311+1","v":265},461100,"Текуће донације страним владама",{"$f":"+Programska_aktivnost!D312+Sheet1!D312+'Захтев за додатна сред.'!D312+Projekat!D312+Sheet2!D312","v":0},{"$f":"+Programska_aktivnost!E312+Sheet1!E312+'Захтев за додатна сред.'!E312+Projekat!E312+Sheet2!E312","v":0},{"$f":"+Programska_aktivnost!F312+Sheet1!F312+'Захтев за додатна сред.'!F312+Projekat!F312+Sheet2!F312","v":0},{"$f":"+Programska_aktivnost!G312+Sheet1!G312+'Захтев за додатна сред.'!G312+Projekat!G312+Sheet2!G312","v":0},{"$f":"+Programska_aktivnost!H312+Sheet1!H312+'Захтев за додатна сред.'!H312+Projekat!H312+Sheet2!H312","v":0},{"$f":"+Programska_aktivnost!I312+Sheet1!I312+'Захтев за додатна сред.'!I312+Projekat!I312+Sheet2!I312","v":0},{"$f":"+Programska_aktivnost!J312+Sheet1!J312+'Захтев за додатна сред.'!J312+Projekat!J312+Sheet2!J312","v":0},{"$f":"+Programska_aktivnost!K312+Sheet1!K312+'Захтев за додатна сред.'!K312+Projekat!K312+Sheet2!K312","v":0},{"$f":"+Programska_aktivnost!L312+Sheet1!L312+'Захтев за додатна сред.'!L312+Projekat!L312+Sheet2!L312","v":0},{"$f":"+Programska_aktivnost!M312+Sheet1!M312+'Захтев за додатна сред.'!M312+Projekat!M312+Sheet2!M312","v":0},0,0,null,null,null,null,null,null,null,null,null,{"$f":"SUM(D312:O312)","v":0}]
[266,461200,"Капиталне донације страним владама",{"$f":"+Programska_aktivnost!D313+Sheet1!D313+'Захтев за додатна сред.'!D313+Projekat!D313+Sheet2!D313","v":0},{"$f":"+Programska_aktivnost!E313+Sheet1!E313+'Захтев за додатна сред.'!E313+Projekat!E313+Sheet2!E313","v":0},{"$f":"+Programska_aktivnost!F313+Sheet1!F313+'Захтев за додатна сред.'!F313+Projekat!F313+Sheet2!F313","v":0},{"$f":"+Programska_aktivnost!G313+Sheet1!G313+'Захтев за додатна сред.'!G313+Projekat!G313+Sheet2!G313","v":0},{"$f":"+Programska_aktivnost!H313+Sheet1!H313+'Захтев за додатна сред.'!H313+Projekat!H313+Sheet2!H313","v":0},{"$f":"+Programska_aktivnost!I313+Sheet1!I313+'Захтев за додатна сред.'!I313+Projekat!I313+Sheet2!I313","v":0},{"$f":"+Programska_aktivnost!J313+Sheet1!J313+'Захтев за додатна сред.'!J313+Projekat!J313+Sheet2!J313","v":0},{"$f":"+Programska_aktivnost!K313+Sheet1!K313+'Захтев за додатна сред.'!K313+Projekat!K313+Sheet2!K313","v":0},{"$f":"+Programska_aktivnost!L313+Sheet1!L313+'Захтев за додатна сред.'!L313+Projekat!L313+Sheet2!L313","v":0},{"$f":"+Programska_aktivnost!M313+Sheet1!M313+'Захтев за додатна сред.'!M313+Projekat!M313+Sheet2!M313","v":0},0,0,null,null,null,null,null,null,null,null,null,0]
[267,462000,"ДОТАЦИЈЕ МЕЂУНАРОДНИМ ОРГАНИЗАЦИЈАМА (268 + 269)",{"$f":"+Programska_aktivnost!D314+Sheet1!D314+'Захтев за додатна сред.'!D314+Projekat!D314+Sheet2!D314","v":0},{"$f":"+Programska_aktivnost!E314+Sheet1!E314+'Захтев за додатна сред.'!E314+Projekat!E314+Sheet2!E314","v":0},{"$f":"+Programska_aktivnost!F314+Sheet1!F314+'Захтев за додатна сред.'!F314+Projekat!F314+Sheet2!F314","v":0},{"$f":"+Programska_aktivnost!G314+Sheet1!G314+'Захтев за додатна сред.'!G314+Projekat!G314+Sheet2!G314","v":0},{"$f":"+Programska_aktivnost!H314+Sheet1!H314+'Захтев за додатна сред.'!H314+Projekat!H314+Sheet2!H314","v":0},{"$f":"+Programska_aktivnost!I314+Sheet1!I314+'Захтев за додатна сред.'!I314+Projekat!I314+Sheet2!I314","v":0},{"$f":"+Programska_aktivnost!J314+Sheet1!J314+'Захтев за додатна сред.'!J314+Projekat!J314+Sheet2!J314","v":0},{"$f":"+Programska_aktivnost!K314+Sheet1!K314+'Захтев за додатна сред.'!K314+Projekat!K314+Sheet2!K314","v":0},{"$f":"+Programska_aktivnost!L314+Sheet1!L314+'Захтев за додатна сред.'!L314+Projekat!L314+Sheet2!L314","v":0},{"$f":"+Programska_aktivnost!M314+Sheet1!M314+'Захтев за додатна сред.'!M314+Projekat!M314+Sheet2!M314","v":0},0,0,null,null,null,null,null,null,null,null,null,0]
[268,462100,"Текуће дотације међународним организацијама",{"$f":"+Programska_aktivnost!D315+Sheet1!D315+'Захтев за додатна сред.'!D315+Projekat!D315+Sheet2!D315","v":0},{"$f":"+Programska_aktivnost!E315+Sheet1!E315+'Захтев за додатна сред.'!E315+Projekat!E315+Sheet2!E315","v":0},{"$f":"+Programska_aktivnost!F315+Sheet1!F315+'Захтев за додатна сред.'!F315+Projekat!F315+Sheet2!F315","v":0},{"$f":"+Programska_aktivnost!G315+Sheet1!G315+'Захтев за додатна сред.'!G315+Projekat!G315+Sheet2!G315","v":0},{"$f":"+Programska_aktivnost!H315+Sheet1!H315+'Захтев за додатна сред.'!H315+Projekat!H315+Sheet2!H315","v":0},{"$f":"+Programska_aktivnost!I315+Sheet1!I315+'Захтев за додатна сред.'!I315+Projekat!I315+Sheet2!I315","v":0},{"$f":"+Programska_aktivnost!J315+Sheet1!J315+'Захтев за додатна сред.'!J315+Projekat!J315+Sheet2!J315","v":0},{"$f":"+Programska_aktivnost!K315+Sheet1!K315+'Захтев за додатна сред.'!K315+Projekat!K315+Sheet2!K315","v":0},{"$f":"+Programska_aktivnost!L315+Sheet1!L315+'Захтев за додатна сред.'!L315+Projekat!L315+Sheet2!L315","v":0},{"$f":"+Programska_aktivnost!M315+Sheet1!M315+'Захтев за додатна сред.'!M315+Projekat!M315+Sheet2!M315","v":0},0,0,null,null,null,null,null,null,null,null,null,0]
[269,462200,"Капиталне дотације међународним организацијама",{"$f":"+Programska_aktivnost!D316+Sheet1!D316+'Захтев за додатна сред.'!D316+Projekat!D316+Sheet2!D316","v":0},{"$f":"+Programska_aktivnost!E316+Sheet1!E316+'Захтев за додатна сред.'!E316+Projekat!E316+Sheet2!E316","v":0},{"$f":"+Programska_aktivnost!F316+Sheet1!F316+'Захтев за додатна сред.'!F316+Projekat!F316+Sheet2!F316","v":0},{"$f":"+Programska_aktivnost!G316+Sheet1!G316+'Захтев за додатна сред.'!G316+Projekat!G316+Sheet2!G316","v":0},{"$f":"+Programska_aktivnost!H316+Sheet1!H316+'Захтев за додатна сред.'!H316+Projekat!H316+Sheet2!H316","v":0},{"$f":"+Programska_aktivnost!I316+Sheet1!I316+'Захтев за додатна сред.'!I316+Projekat!I316+Sheet2!I316","v":0},{"$f":"+Programska_aktivnost!J316+Sheet1!J316+'Захтев за додатна сред.'!J316+Projekat!J316+Sheet2!J316","v":0},{"$f":"+Programska_aktivnost!K316+Sheet1!K316+'Захтев за додатна сред.'!K316+Projekat!K316+Sheet2!K316","v":0},{"$f":"+Programska_aktivnost!L316+Sheet1!L316+'Захтев за додатна сред.'!L316+Projekat!L316+Sheet2!L316","v":0},{"$f":"+Programska_aktivnost!M316+Sheet1!M316+'Захтев за додатна сред.'!M316+Projekat!M316+Sheet2!M316","v":0},0,0,null,null,null,null,null,null,null,null,null,0]
[270,463000,"ТРАНСФЕРИ ОСТАЛИМ НИВОИМА ВЛАСТИ (271 + 272)",{"$f":"+Programska_aktivnost!D317+Sheet1!D317+'Захтев за додатна сред.'!D317+Projekat!D317+Sheet2!D317","v":0},{"$f":"+Programska_aktivnost!E317+Sheet1!E317+'Захтев за додатна сред.'!E317+Projekat!E317+Sheet2!E317","v":0},{"$f":"+Programska_aktivnost!F317+Sheet1!F317+'Захтев за додатна сред.'!F317+Projekat!F317+Sheet2!F317","v":0},{"$f":"+Programska_aktivnost!G317+Sheet1!G317+'Захтев за додатна сред.'!G317+Projekat!G317+Sheet2!G317","v":0},{"$f":"+Programska_aktivnost!H317+Sheet1!H317+'Захтев за додатна сред.'!H317+Projekat!H317+Sheet2!H317","v":0},{"$f":"+Programska_aktivnost!I317+Sheet1!I317+'Захтев за додатна сред.'!I317+Projekat!I317+Sheet2!I317","v":0},{"$f":"+Programska_aktivnost!J317+Sheet1!J317+'Захтев за додатна сред.'!J317+Projekat!J317+Sheet2!J317","v":0},{"$f":"+Programska_aktivnost!K317+Sheet1!K317+'Захтев за додатна сред.'!K317+Projekat!K317+Sheet2!K317","v":0},{"$f":"+Programska_aktivnost!L317+Sheet1!L317+'Захтев за додатна сред.'!L317+Projekat!L317+Sheet2!L317","v":0},{"$f":"+Programska_aktivnost!M317+Sheet1!M317+'Захтев за додатна сред.'!M317+Projekat!M317+Sheet2!M317","v":0},0,0,null,null,null,null,null,null,null,null,null,0]
[271,463100,"Текући трансфери осталим нивоима власти",{"$f":"+Programska_aktivnost!D318+Sheet1!D318+'Захтев за додатна сред.'!D318+Projekat!D318+Sheet2!D318","v":0},{"$f":"+Programska_aktivnost!E318+Sheet1!E318+'Захтев за додатна сред.'!E318+Projekat!E318+Sheet2!E318","v":0},{"$f":"+Programska_aktivnost!F318+Sheet1!F318+'Захтев за додатна сред.'!F318+Projekat!F318+Sheet2!F318","v":0},{"$f":"+Programska_aktivnost!G318+Sheet1!G318+'Захтев за додатна сред.'!G318+Projekat!G318+Sheet2!G318","v":0},{"$f":"+Programska_aktivnost!H318+Sheet1!H318+'Захтев за додатна сред.'!H318+Projekat!H318+Sheet2!H318","v":0},{"$f":"+Programska_aktivnost!I318+Sheet1!I318+'Захтев за додатна сред.'!I318+Projekat!I318+Sheet2!I318","v":0},{"$f":"+Programska_aktivnost!J318+Sheet1!J318+'Захтев за додатна сред.'!J318+Projekat!J318+Sheet2!J318","v":0},{"$f":"+Programska_aktivnost!K318+Sheet1!K318+'Захтев за додатна сред.'!K318+Projekat!K318+Sheet2!K318","v":0},{"$f":"+Programska_aktivnost!L318+Sheet1!L318+'Захтев за додатна сред.'!L318+Projekat!L318+Sheet2!L318","v":0},{"$f":"+Programska_aktivnost!M318+Sheet1!M318+'Захтев за додатна сред.'!M318+Projekat!M318+Sheet2!M318","v":0},0,0,null,null,null,null,null,null,null,null,null,0]
[272,463200,"Капитални трансфери осталим нивоима власти",{"$f":"+Programska_aktivnost!D319+Sheet1!D319+'Захтев за додатна сред.'!D319+Projekat!D319+Sheet2!D319","v":0},{"$f":"+Programska_aktivnost!E319+Sheet1!E319+'Захтев за додатна сред.'!E319+Projekat!E319+Sheet2!E319","v":0},{"$f":"+Programska_aktivnost!F319+Sheet1!F319+'Захтев за додатна сред.'!F319+Projekat!F319+Sheet2!F319","v":0},{"$f":"+Programska_aktivnost!G319+Sheet1!G319+'Захтев за додатна сред.'!G319+Projekat!G319+Sheet2!G319","v":0},{"$f":"+Programska_aktivnost!H319+Sheet1!H319+'Захтев за додатна сред.'!H319+Projekat!H319+Sheet2!H319","v":0},{"$f":"+Programska_aktivnost!I319+Sheet1!I319+'Захтев за додатна сред.'!I319+Projekat!I319+Sheet2!I319","v":0},{"$f":"+Programska_aktivnost!J319+Sheet1!J319+'Захтев за додатна сред.'!J319+Projekat!J319+Sheet2!J319","v":0},{"$f":"+Programska_aktivnost!K319+Sheet1!K319+'Захтев за додатна сред.'!K319+Projekat!K319+Sheet2!K319","v":0},{"$f":"+Programska_aktivnost!L319+Sheet1!L319+'Захтев за додатна сред.'!L319+Projekat!L319+Sheet2!L319","v":0},{"$f":"+Programska_aktivnost!M319+Sheet1!M319+'Захтев за додатна сред.'!M319+Projekat!M319+Sheet2!M319","v":0},0,0,null,null,null,null,null,null,null,null,null,0]
[273,464000,"ДОТАЦИЈЕ ОРГАНИЗАЦИЈАМА ОБАВЕЗНОГ СОЦИЈАЛНОГ ОСИГУРАЊА (274 + 275)",{"$f":"+Programska_aktivnost!D320+Sheet1!D320+'Захтев за додатна сред.'!D320+Projekat!D320+Sheet2!D320","v":0},{"$f":"+Programska_aktivnost!E320+Sheet1!E320+'Захтев за додатна сред.'!E320+Projekat!E320+Sheet2!E320","v":0},{"$f":"+Programska_aktivnost!F320+Sheet1!F320+'Захтев за додатна сред.'!F320+Projekat!F320+Sheet2!F320","v":0},{"$f":"+Programska_aktivnost!G320+Sheet1!G320+'Захтев за додатна сред.'!G320+Projekat!G320+Sheet2!G320","v":0},{"$f":"+Programska_aktivnost!H320+Sheet1!H320+'Захтев за додатна сред.'!H320+Projekat!H320+Sheet2!H320","v":0},{"$f":"+Programska_aktivnost!I320+Sheet1!I320+'Захтев за додатна сред.'!I320+Projekat!I320+Sheet2!I320","v":0},{"$f":"+Programska_aktivnost!J320+Sheet1!J320+'Захтев за додатна сред.'!J320+Projekat!J320+Sheet2!J320","v":0},{"$f":"+Programska_aktivnost!K320+Sheet1!K320+'Захтев за додатна сред.'!K320+Projekat!K320+Sheet2!K320","v":0},{"$f":"+Programska_aktivnost!L320+Sheet1!L320+'Захтев за додатна сред.'!L320+Projekat!L320+Sheet2!L320","v":0},{"$f":"+Programska_aktivnost!M320+Sheet1!M320+'Захтев за додатна сред.'!M320+Projekat!M320+Sheet2!M320","v":0},0,0,null,null,null,null,null,null,null,null,null,0]
[274,464100,"Текуће дотације организацијама обавезног социјалног осигурања",{"$f":"+Programska_aktivnost!D321+Sheet1!D321+'Захтев за додатна сред.'!D321+Projekat!D321+Sheet2!D321","v":0},{"$f":"+Programska_aktivnost!E321+Sheet1!E321+'Захтев за додатна сред.'!E321+Projekat!E321+Sheet2!E321","v":0},{"$f":"+Programska_aktivnost!F321+Sheet1!F321+'Захтев за додатна сред.'!F321+Projekat!F321+Sheet2!F321","v":0},{"$f":"+Programska_aktivnost!G321+Sheet1!G321+'Захтев за додатна сред.'!G321+Projekat!G321+Sheet2!G321","v":0},{"$f":"+Programska_aktivnost!H321+Sheet1!H321+'Захтев за додатна сред.'!H321+Projekat!H321+Sheet2!H321","v":0},{"$f":"+Programska_aktivnost!I321+Sheet1!I321+'Захтев за додатна сред.'!I321+Projekat!I321+Sheet2!I321","v":0},{"$f":"+Programska_aktivnost!J321+Sheet1!J321+'Захтев за додатна сред.'!J321+Projekat!J321+Sheet2!J321","v":0},{"$f":"+Programska_aktivnost!K321+Sheet1!K321+'Захтев за додатна сред.'!K321+Projekat!K321+Sheet2!K321","v":0},{"$f":"+Programska_aktivnost!L321+Sheet1!L321+'Захтев за додатна сред.'!L321+Projekat!L321+Sheet2!L321","v":0},{"$f":"+Programska_aktivnost!M321+Sheet1!M321+'Захтев за додатна сред.'!M321+Projekat!M321+Sheet2!M321","v":0},0,0,null,null,null,null,null,null,null,null,null,0]
[275,464200,"Капиталне дотације организацијама обавезног социјалног осигурања",{"$f":"+Programska_aktivnost!D322+Sheet1!D322+'Захтев за додатна сред.'!D322+Projekat!D322+Sheet2!D322","v":0},{"$f":"+Programska_aktivnost!E322+Sheet1!E322+'Захтев за додатна сред.'!E322+Projekat!E322+Sheet2!E322","v":0},{"$f":"+Programska_aktivnost!F322+Sheet1!F322+'Захтев за додатна сред.'!F322+Projekat!F322+Sheet2!F322","v":0},{"$f":"+Programska_aktivnost!G322+Sheet1!G322+'Захтев за додатна сред.'!G322+Projekat!G322+Sheet2!G322","v":0},{"$f":"+Programska_aktivnost!H322+Sheet1!H322+'Захтев за додатна сред.'!H322+Projekat!H322+Sheet2!H322","v":0},{"$f":"+Programska_aktivnost!I322+Sheet1!I322+'Захтев за додатна сред.'!I322+Projekat!I322+Sheet2!I322","v":0},{"$f":"+Programska_aktivnost!J322+Sheet1!J322+'Захтев за додатна сред.'!J322+Projekat!J322+Sheet2!J322","v":0},{"$f":"+Programska_aktivnost!K322+Sheet1!K322+'Захтев за додатна сред.'!K322+Projekat!K322+Sheet2!K322","v":0},{"$f":"+Programska_aktivnost!L322+Sheet1!L322+'Захтев за додатна сред.'!L322+Projekat!L322+Sheet2!L322","v":0},{"$f":"+Programska_aktivnost!M322+Sheet1!M322+'Захтев за додатна сред.'!M322+Projekat!M322+Sheet2!M322","v":0},0,0,null,null,null,null,null,null,null,null,null,0]
[276,465000,"ОСТАЛЕ ДОТАЦИЈЕ И ТРАНСФЕРИ (277 + 278)",{"$f":"+Programska_aktivnost!D323+Sheet1!D323+'Захтев за додатна сред.'!D323+Projekat!D323+Sheet2!D323","v":11285000},{"$f":"+Programska_aktivnost!E323+Sheet1!E323+'Захтев за додатна сред.'!E323+Projekat!E323+Sheet2!E323","v":0},{"$f":"+Programska_aktivnost!F323+Sheet1!F323+'Захтев за додатна сред.'!F323+Projekat!F323+Sheet2!F323","v":12385000},{"$f":"+Programska_aktivnost!G323+Sheet1!G323+'Захтев за додатна сред.'!G323+Projekat!G323+Sheet2!G323","v":0},{"$f":"+Programska_aktivnost!H323+Sheet1!H323+'Захтев за додатна сред.'!H323+Projekat!H323+Sheet2!H323","v":1213000},{"$f":"+Programska_aktivnost!I323+Sheet1!I323+'Захтев за додатна сред.'!I323+Projekat!I323+Sheet2!I323","v":0},{"$f":"+Programska_aktivnost!J323+Sheet1!J323+'Захтев за додатна сред.'!J323+Projekat!J323+Sheet2!J323","v":0},{"$f":"+Programska_aktivnost!K323+Sheet1!K323+'Захтев за додатна сред.'!K323+Projekat!K323+Sheet2!K323","v":0},{"$f":"+Programska_aktivnost!L323+Sheet1!L323+'Захтев за додатна сред.'!L323+Projekat!L323+Sheet2!L323","v":0},{"$f":"+Programska_aktivnost!M323+Sheet1!M323+'Захтев за додатна сред.'!M323+Projekat!M323+Sheet2!M323","v":0},1213000,0,null,null,null,null,null,null,null,null,null,26096000]
[277,465100,"Остале текуће дотације и трансфери",{"$f":"+Programska_aktivnost!D324+Sheet1!D324+'Захтев за додатна сред.'!D324+Projekat!D324+Sheet2!D324","v":11285000},{"$f":"+Programska_aktivnost!E324+Sheet1!E324+'Захтев за додатна сред.'!E324+Projekat!E324+Sheet2!E324","v":0},{"$f":"+Programska_aktivnost!F324+Sheet1!F324+'Захтев за додатна сред.'!F324+Projekat!F324+Sheet2!F324","v":12385000},{"$f":"+Programska_aktivnost!G324+Sheet1!G324+'Захтев за додатна сред.'!G324+Projekat!G324+Sheet2!G324","v":0},{"$f":"+Programska_aktivnost!H324+Sheet1!H324+'Захтев за додатна сред.'!H324+Projekat!H324+Sheet2!H324","v":1213000},{"$f":"+Programska_aktivnost!I324+Sheet1!I324+'Захтев за додатна сред.'!I324+Projekat!I324+Sheet2!I324","v":0},{"$f":"+Programska_aktivnost!J324+Sheet1!J324+'Захтев за додатна сред.'!J324+Projekat!J324+Sheet2!J324","v":0},{"$f":"+Programska_aktivnost!K324+Sheet1!K324+'Захтев за додатна сред.'!K324+Projekat!K324+Sheet2!K324","v":0},{"$f":"+Programska_aktivnost!L324+Sheet1!L324+'Захтев за додатна сред.'!L324+Projekat!L324+Sheet2!L324","v":0},{"$f":"+Programska_aktivnost!M324+Sheet1!M324+'Захтев за додатна сред.'!M324+Projekat!M324+Sheet2!M324","v":0},1213000,0,null,null,null,null,null,null,null,null,null,26096000]
[278,465200,"Остале капиталне дотације и трансфери",{"$f":"+Programska_aktivnost!D325+Sheet1!D325+'Захтев за додатна сред.'!D325+Projekat!D325+Sheet2!D325","v":0},{"$f":"+Programska_aktivnost!E325+Sheet1!E325+'Захтев за додатна сред.'!E325+Projekat!E325+Sheet2!E325","v":0},{"$f":"+Programska_aktivnost!F325+Sheet1!F325+'Захтев за додатна сред.'!F325+Projekat!F325+Sheet2!F325","v":0},{"$f":"+Programska_aktivnost!G325+Sheet1!G325+'Захтев за додатна сред.'!G325+Projekat!G325+Sheet2!G325","v":0},{"$f":"+Programska_aktivnost!H325+Sheet1!H325+'Захтев за додатна сред.'!H325+Projekat!H325+Sheet2!H325","v":0},{"$f":"+Programska_aktivnost!I325+Sheet1!I325+'Захтев за додатна сред.'!I325+Projekat!I325+Sheet2!I325","v":0},{"$f":"+Programska_aktivnost!J325+Sheet1!J325+'Захтев за додатна сред.'!J325+Projekat!J325+Sheet2!J325","v":0},{"$f":"+Programska_aktivnost!K325+Sheet1!K325+'Захтев за додатна сред.'!K325+Projekat!K325+Sheet2!K325","v":0},{"$f":"+Programska_aktivnost!L325+Sheet1!L325+'Захтев за додатна сред.'!L325+Projekat!L325+Sheet2!L325","v":0},{"$f":"+Programska_aktivnost!M325+Sheet1!M325+'Захтев за додатна сред.'!M325+Projekat!M325+Sheet2!M325","v":0},0,0,null,null,null,null,null,null,null,null,null,0]
[279,470000,"СОЦИЈАЛНО ОСИГУРАЊЕ И СОЦИЈАЛНА ЗАШТИТА (280 + 284)",{"$f":"+Programska_aktivnost!D326+Sheet1!D326+'Захтев за додатна сред.'!D326+Projekat!D326+Sheet2!D326","v":0},{"$f":"+Programska_aktivnost!E326+Sheet1!E326+'Захтев за додатна сред.'!E326+Projekat!E326+Sheet2!E326","v":0},{"$f":"+Programska_aktivnost!F326+Sheet1!F326+'Захтев за додатна сред.'!F326+Projekat!F326+Sheet2!F326","v":0},{"$f":"+Programska_aktivnost!G326+Sheet1!G326+'Захтев за додатна сред.'!G326+Projekat!G326+Sheet2!G326","v":0},{"$f":"+Programska_aktivnost!H326+Sheet1!H326+'Захтев за додатна сред.'!H326+Projekat!H326+Sheet2!H326","v":0},{"$f":"+Programska_aktivnost!I326+Sheet1!I326+'Захтев за додатна сред.'!I326+Projekat!I326+Sheet2!I326","v":0},{"$f":"+Programska_aktivnost!J326+Sheet1!J326+'Захтев за додатна сред.'!J326+Projekat!J326+Sheet2!J326","v":0},{"$f":"+Programska_aktivnost!K326+Sheet1!K326+'Захтев за додатна сред.'!K326+Projekat!K326+Sheet2!K326","v":0},{"$f":"+Programska_aktivnost!L326+Sheet1!L326+'Захтев за додатна сред.'!L326+Projekat!L326+Sheet2!L326","v":0},{"$f":"+Programska_aktivnost!M326+Sheet1!M326+'Захтев за додатна сред.'!M326+Projekat!M326+Sheet2!M326","v":0},0,0,null,null,null,null,null,null,null,null,null,0]
[280,471000,"ПРАВА ИЗ СОЦИЈАЛНОГ ОСИГУРАЊА (ОРГАНИЗАЦИЈЕ ОБАВЕЗНОГ СОЦИЈАЛНОГ ОСИГУРАЊА) (од 281 до 283)",{"$f":"+Programska_aktivnost!D327+Sheet1!D327+'Захтев за додатна сред.'!D327+Projekat!D327+Sheet2!D327","v":0},{"$f":"+Programska_aktivnost!E327+Sheet1!E327+'Захтев за додатна сред.'!E327+Projekat!E327+Sheet2!E327","v":0},{"$f":"+Programska_aktivnost!F327+Sheet1!F327+'Захтев за додатна сред.'!F327+Projekat!F327+Sheet2!F327","v":0},{"$f":"+Programska_aktivnost!G327+Sheet1!G327+'Захтев за додатна сред.'!G327+Projekat!G327+Sheet2!G327","v":0},{"$f":"+Programska_aktivnost!H327+Sheet1!H327+'Захтев за додатна сред.'!H327+Projekat!H327+Sheet2!H327","v":0},{"$f":"+Programska_aktivnost!I327+Sheet1!I327+'Захтев за додатна сред.'!I327+Projekat!I327+Sheet2!I327","v":0},{"$f":"+Programska_aktivnost!J327+Sheet1!J327+'Захтев за додатна сред.'!J327+Projekat!J327+Sheet2!J327","v":0},{"$f":"+Programska_aktivnost!K327+Sheet1!K327+'Захтев за додатна сред.'!K327+Projekat!K327+Sheet2!K327","v":0},{"$f":"+Programska_aktivnost!L327+Sheet1!L327+'Захтев за додатна сред.'!L327+Projekat!L327+Sheet2!L327","v":0},{"$f":"+Programska_aktivnost!M327+Sheet1!M327+'Захтев за додатна сред.'!M327+Projekat!M327+Sheet2!M327","v":0},0,0,null,null,null,null,null,null,null,null,null,0]
[281,471100,"Права из социјалног осигурања која се исплаћују непосредно домаћинствима",{"$f":"+Programska_aktivnost!D328+Sheet1!D328+'Захтев за додатна сред.'!D328+Projekat!D328+Sheet2!D328","v":0},{"$f":"+Programska_aktivnost!E328+Sheet1!E328+'Захтев за додатна сред.'!E328+Projekat!E328+Sheet2!E328","v":0},{"$f":"+Programska_aktivnost!F328+Sheet1!F328+'Захтев за додатна сред.'!F328+Projekat!F328+Sheet2!F328","v":0},{"$f":"+Programska_aktivnost!G328+Sheet1!G328+'Захтев за додатна сред.'!G328+Projekat!G328+Sheet2!G328","v":0},{"$f":"+Programska_aktivnost!H328+Sheet1!H328+'Захтев за додатна сред.'!H328+Projekat!H328+Sheet2!H328","v":0},{"$f":"+Programska_aktivnost!I328+Sheet1!I328+'Захтев за додатна сред.'!I328+Projekat!I328+Sheet2!I328","v":0},{"$f":"+Programska_aktivnost!J328+Sheet1!J328+'Захтев за додатна сред.'!J328+Projekat!J328+Sheet2!J328","v":0},{"$f":"+Programska_aktivnost!K328+Sheet1!K328+'Захтев за додатна сред.'!K328+Projekat!K328+Sheet2!K328","v":0},{"$f":"+Programska_aktivnost!L328+Sheet1!L328+'Захтев за додатна сред.'!L328+Projekat!L328+Sheet2!L328","v":0},{"$f":"+Programska_aktivnost!M328+Sheet1!M328+'Захтев за додатна сред.'!M328+Projekat!M328+Sheet2!M328","v":0},0,0,null,null,null,null,null,null,null,null,null,0]
[282,471200,"Права из социјалног осигурања која се исплаћују непосредно пружаоцима услуга",{"$f":"+Programska_aktivnost!D329+Sheet1!D329+'Захтев за додатна сред.'!D329+Projekat!D329+Sheet2!D329","v":0},{"$f":"+Programska_aktivnost!E329+Sheet1!E329+'Захтев за додатна сред.'!E329+Projekat!E329+Sheet2!E329","v":0},{"$f":"+Programska_aktivnost!F329+Sheet1!F329+'Захтев за додатна сред.'!F329+Projekat!F329+Sheet2!F329","v":0},{"$f":"+Programska_aktivnost!G329+Sheet1!G329+'Захтев за додатна сред.'!G329+Projekat!G329+Sheet2!G329","v":0},{"$f":"+Programska_aktivnost!H329+Sheet1!H329+'Захтев за додатна сред.'!H329+Projekat!H329+Sheet2!H329","v":0},{"$f":"+Programska_aktivnost!I329+Sheet1!I329+'Захтев за додатна сред.'!I329+Projekat!I329+Sheet2!I329","v":0},{"$f":"+Programska_aktivnost!J329+Sheet1!J329+'Захтев за додатна сред.'!J329+Projekat!J329+Sheet2!J329","v":0},{"$f":"+Programska_aktivnost!K329+Sheet1!K329+'Захтев за додатна сред.'!K329+Projekat!K329+Sheet2!K329","v":0},{"$f":"+Programska_aktivnost!L329+Sheet1!L329+'Захтев за додатна сред.'!L329+Projekat!L329+Sheet2!L329","v":0},{"$f":"+Programska_aktivnost!M329+Sheet1!M329+'Захтев за додатна сред.'!M329+Projekat!M329+Sheet2!M329","v":0},0,0,null,null,null,null,null,null,null,null,null,0]
[283,471900,"Трансфери другим организацијама обавезног социјалног осигурања за доприносе за осигурање",{"$f":"+Programska_aktivnost!D330+Sheet1!D330+'Захтев за додатна сред.'!D330+Projekat!D330+Sheet2!D330","v":0},{"$f":"+Programska_aktivnost!E330+Sheet1!E330+'Захтев за додатна сред.'!E330+Projekat!E330+Sheet2!E330","v":0},{"$f":"+Programska_aktivnost!F330+Sheet1!F330+'Захтев за додатна сред.'!F330+Projekat!F330+Sheet2!F330","v":0},{"$f":"+Programska_aktivnost!G330+Sheet1!G330+'Захтев за додатна сред.'!G330+Projekat!G330+Sheet2!G330","v":0},{"$f":"+Programska_aktivnost!H330+Sheet1!H330+'Захтев за додатна сред.'!H330+Projekat!H330+Sheet2!H330","v":0},{"$f":"+Programska_aktivnost!I330+Sheet1!I330+'Захтев за додатна сред.'!I330+Projekat!I330+Sheet2!I330","v":0},{"$f":"+Programska_aktivnost!J330+Sheet1!J330+'Захтев за додатна сред.'!J330+Projekat!J330+Sheet2!J330","v":0},{"$f":"+Programska_aktivnost!K330+Sheet1!K330+'Захтев за додатна сред.'!K330+Projekat!K330+Sheet2!K330","v":0},{"$f":"+Programska_aktivnost!L330+Sheet1!L330+'Захтев за додатна сред.'!L330+Projekat!L330+Sheet2!L330","v":0},{"$f":"+Programska_aktivnost!M330+Sheet1!M330+'Захтев за додатна сред.'!M330+Projekat!M330+Sheet2!M330","v":0},0,0,null,null,null,null,null,null,null,null,null,0]
[284,472000,"НАКНАДЕ ЗА СОЦИЈАЛНУ ЗАШТИТУ ИЗ БУЏЕТА (од 285 до 293)",{"$f":"+Programska_aktivnost!D331+Sheet1!D331+'Захтев за додатна сред.'!D331+Projekat!D331+Sheet2!D331","v":0},{"$f":"+Programska_aktivnost!E331+Sheet1!E331+'Захтев за додатна сред.'!E331+Projekat!E331+Sheet2!E331","v":0},{"$f":"+Programska_aktivnost!F331+Sheet1!F331+'Захтев за додатна сред.'!F331+Projekat!F331+Sheet2!F331","v":0},{"$f":"+Programska_aktivnost!G331+Sheet1!G331+'Захтев за додатна сред.'!G331+Projekat!G331+Sheet2!G331","v":0},{"$f":"+Programska_aktivnost!H331+Sheet1!H331+'Захтев за додатна сред.'!H331+Projekat!H331+Sheet2!H331","v":0},{"$f":"+Programska_aktivnost!I331+Sheet1!I331+'Захтев за додатна сред.'!I331+Projekat!I331+Sheet2!I331","v":0},{"$f":"+Programska_aktivnost!J331+Sheet1!J331+'Захтев за додатна сред.'!J331+Projekat!J331+Sheet2!J331","v":0},{"$f":"+Programska_aktivnost!K331+Sheet1!K331+'Захтев за додатна сред.'!K331+Projekat!K331+Sheet2!K331","v":0},{"$f":"+Programska_aktivnost!L331+Sheet1!L331+'Захтев за додатна сред.'!L331+Projekat!L331+Sheet2!L331","v":0},{"$f":"+Programska_aktivnost!M331+Sheet1!M331+'Захтев за додатна сред.'!M331+Projekat!M331+Sheet2!M331","v":0},0,0,null,null,null,null,null,null,null,null,null,0]
[285,472100,"Накнаде из буџета у случају болести и инвалидности",{"$f":"+Programska_aktivnost!D332+Sheet1!D332+'Захтев за додатна сред.'!D332+Projekat!D332+Sheet2!D332","v":0},{"$f":"+Programska_aktivnost!E332+Sheet1!E332+'Захтев за додатна сред.'!E332+Projekat!E332+Sheet2!E332","v":0},{"$f":"+Programska_aktivnost!F332+Sheet1!F332+'Захтев за додатна сред.'!F332+Projekat!F332+Sheet2!F332","v":0},{"$f":"+Programska_aktivnost!G332+Sheet1!G332+'Захтев за додатна сред.'!G332+Projekat!G332+Sheet2!G332","v":0},{"$f":"+Programska_aktivnost!H332+Sheet1!H332+'Захтев за додатна сред.'!H332+Projekat!H332+Sheet2!H332","v":0},{"$f":"+Programska_aktivnost!I332+Sheet1!I332+'Захтев за додатна сред.'!I332+Projekat!I332+Sheet2!I332","v":0},{"$f":"+Programska_aktivnost!J332+Sheet1!J332+'Захтев за додатна сред.'!J332+Projekat!J332+Sheet2!J332","v":0},{"$f":"+Programska_aktivnost!K332+Sheet1!K332+'Захтев за додатна сред.'!K332+Projekat!K332+Sheet2!K332","v":0},{"$f":"+Programska_aktivnost!L332+Sheet1!L332+'Захтев за додатна сред.'!L332+Projekat!L332+Sheet2!L332","v":0},{"$f":"+Programska_aktivnost!M332+Sheet1!M332+'Захтев за додатна сред.'!M332+Projekat!M332+Sheet2!M332","v":0},0,0,null,null,null,null,null,null,null,null,null,0]
[286,472200,"Накнаде из буџета за породиљско одсуство",{"$f":"+Programska_aktivnost!D333+Sheet1!D333+'Захтев за додатна сред.'!D333+Projekat!D333+Sheet2!D333","v":0},{"$f":"+Programska_aktivnost!E333+Sheet1!E333+'Захтев за додатна сред.'!E333+Projekat!E333+Sheet2!E333","v":0},{"$f":"+Programska_aktivnost!F333+Sheet1!F333+'Захтев за додатна сред.'!F333+Projekat!F333+Sheet2!F333","v":0},{"$f":"+Programska_aktivnost!G333+Sheet1!G333+'Захтев за додатна сред.'!G333+Projekat!G333+Sheet2!G333","v":0},{"$f":"+Programska_aktivnost!H333+Sheet1!H333+'Захтев за додатна сред.'!H333+Projekat!H333+Sheet2!H333","v":0},{"$f":"+Programska_aktivnost!I333+Sheet1!I333+'Захтев за додатна сред.'!I333+Projekat!I333+Sheet2!I333","v":0},{"$f":"+Programska_aktivnost!J333+Sheet1!J333+'Захтев за додатна сред.'!J333+Projekat!J333+Sheet2!J333","v":0},{"$f":"+Programska_aktivnost!K333+Sheet1!K333+'Захтев за додатна сред.'!K333+Projekat!K333+Sheet2!K333","v":0},{"$f":"+Programska_aktivnost!L333+Sheet1!L333+'Захтев за додатна сред.'!L333+Projekat!L333+Sheet2!L333","v":0},{"$f":"+Programska_aktivnost!M333+Sheet1!M333+'Захтев за додатна сред.'!M333+Projekat!M333+Sheet2!M333","v":0},0,0,null,null,null,null,null,null,null,null,null,0]
[287,472300,"Накнаде из буџета за децу и породицу",{"$f":"+Programska_aktivnost!D334+Sheet1!D334+'Захтев за додатна сред.'!D334+Projekat!D334+Sheet2!D334","v":0},{"$f":"+Programska_aktivnost!E334+Sheet1!E334+'Захтев за додатна сред.'!E334+Projekat!E334+Sheet2!E334","v":0},{"$f":"+Programska_aktivnost!F334+Sheet1!F334+'Захтев за додатна сред.'!F334+Projekat!F334+Sheet2!F334","v":0},{"$f":"+Programska_aktivnost!G334+Sheet1!G334+'Захтев за додатна сред.'!G334+Projekat!G334+Sheet2!G334","v":0},{"$f":"+Programska_aktivnost!H334+Sheet1!H334+'Захтев за додатна сред.'!H334+Projekat!H334+Sheet2!H334","v":0},{"$f":"+Programska_aktivnost!I334+Sheet1!I334+'Захтев за додатна сред.'!I334+Projekat!I334+Sheet2!I334","v":0},{"$f":"+Programska_aktivnost!J334+Sheet1!J334+'Захтев за додатна сред.'!J334+Projekat!J334+Sheet2!J334","v":0},{"$f":"+Programska_aktivnost!K334+Sheet1!K334+'Захтев за додатна сред.'!K334+Projekat!K334+Sheet2!K334","v":0},{"$f":"+Programska_aktivnost!L334+Sheet1!L334+'Захтев за додатна сред.'!L334+Projekat!L334+Sheet2!L334","v":0},{"$f":"+Programska_aktivnost!M334+Sheet1!M334+'Захтев за додатна сред.'!M334+Projekat!M334+Sheet2!M334","v":0},0,0,null,null,null,null,null,null,null,null,null,0]
[288,472400,"Накнаде из буџета за случај незапослености",{"$f":"+Programska_aktivnost!D335+Sheet1!D335+'Захтев за додатна сред.'!D335+Projekat!D335+Sheet2!D335","v":0},{"$f":"+Programska_aktivnost!E335+Sheet1!E335+'Захтев за додатна сред.'!E335+Projekat!E335+Sheet2!E335","v":0},{"$f":"+Programska_aktivnost!F335+Sheet1!F335+'Захтев за додатна сред.'!F335+Projekat!F335+Sheet2!F335","v":0},{"$f":"+Programska_aktivnost!G335+Sheet1!G335+'Захтев за додатна сред.'!G335+Projekat!G335+Sheet2!G335","v":0},{"$f":"+Programska_aktivnost!H335+Sheet1!H335+'Захтев за додатна сред.'!H335+Projekat!H335+Sheet2!H335","v":0},{"$f":"+Programska_aktivnost!I335+Sheet1!I335+'Захтев за додатна сред.'!I335+Projekat!I335+Sheet2!I335","v":0},{"$f":"+Programska_aktivnost!J335+Sheet1!J335+'Захтев за додатна сред.'!J335+Projekat!J335+Sheet2!J335","v":0},{"$f":"+Programska_aktivnost!K335+Sheet1!K335+'Захтев за додатна сред.'!K335+Projekat!K335+Sheet2!K335","v":0},{"$f":"+Programska_aktivnost!L335+Sheet1!L335+'Захтев за додатна сред.'!L335+Projekat!L335+Sheet2!L335","v":0},{"$f":"+Programska_aktivnost!M335+Sheet1!M335+'Захтев за додатна сред.'!M335+Projekat!M335+Sheet2!M335","v":0},0,0,null,null,null,null,null,null,null,null,null,0]
[289,472500,"Старосне и породичне пензије из буџета",{"$f":"+Programska_aktivnost!D336+Sheet1!D336+'Захтев за додатна сред.'!D336+Projekat!D336+Sheet2!D336","v":0},{"$f":"+Programska_aktivnost!E336+Sheet1!E336+'Захтев за додатна сред.'!E336+Projekat!E336+Sheet2!E336","v":0},{"$f":"+Programska_aktivnost!F336+Sheet1!F336+'Захтев за додатна сред.'!F336+Projekat!F336+Sheet2!F336","v":0},{"$f":"+Programska_aktivnost!G336+Sheet1!G336+'Захтев за додатна сред.'!G336+Projekat!G336+Sheet2!G336","v":0},{"$f":"+Programska_aktivnost!H336+Sheet1!H336+'Захтев за додатна сред.'!H336+Projekat!H336+Sheet2!H336","v":0},{"$f":"+Programska_aktivnost!I336+Sheet1!I336+'Захтев за додатна сред.'!I336+Projekat!I336+Sheet2!I336","v":0},{"$f":"+Programska_aktivnost!J336+Sheet1!J336+'Захтев за додатна сред.'!J336+Projekat!J336+Sheet2!J336","v":0},{"$f":"+Programska_aktivnost!K336+Sheet1!K336+'Захтев за додатна сред.'!K336+Projekat!K336+Sheet2!K336","v":0},{"$f":"+Programska_aktivnost!L336+Sheet1!L336+'Захтев за додатна сред.'!L336+Projekat!L336+Sheet2!L336","v":0},{"$f":"+Programska_aktivnost!M336+Sheet1!M336+'Захтев за додатна сред.'!M336+Projekat!M336+Sheet2!M336","v":0},0,0,null,null,null,null,null,null,null,null,null,0]
[290,472600,"Накнаде из буџета у случају смрти",{"$f":"+Programska_aktivnost!D337+Sheet1!D337+'Захтев за додатна сред.'!D337+Projekat!D337+Sheet2!D337","v":0},{"$f":"+Programska_aktivnost!E337+Sheet1!E337+'Захтев за додатна сред.'!E337+Projekat!E337+Sheet2!E337","v":0},{"$f":"+Programska_aktivnost!F337+Sheet1!F337+'Захтев за додатна сред.'!F337+Projekat!F337+Sheet2!F337","v":0},{"$f":"+Programska_aktivnost!G337+Sheet1!G337+'Захтев за додатна сред.'!G337+Projekat!G337+Sheet2!G337","v":0},{"$f":"+Programska_aktivnost!H337+Sheet1!H337+'Захтев за додатна сред.'!H337+Projekat!H337+Sheet2!H337","v":0},{"$f":"+Programska_aktivnost!I337+Sheet1!I337+'Захтев за додатна сред.'!I337+Projekat!I337+Sheet2!I337","v":0},{"$f":"+Programska_aktivnost!J337+Sheet1!J337+'Захтев за додатна сред.'!J337+Projekat!J337+Sheet2!J337","v":0},{"$f":"+Programska_aktivnost!K337+Sheet1!K337+'Захтев за додатна сред.'!K337+Projekat!K337+Sheet2!K337","v":0},{"$f":"+Programska_aktivnost!L337+Sheet1!L337+'Захтев за додатна сред.'!L337+Projekat!L337+Sheet2!L337","v":0},{"$f":"+Programska_aktivnost!M337+Sheet1!M337+'Захтев за додатна сред.'!M337+Projekat!M337+Sheet2!M337","v":0},0,0,null,null,null,null,null,null,null,null,null,0]
[291,472700,"Накнаде из буџета за образовање, културу, науку и спорт",{"$f":"+Programska_aktivnost!D338+Sheet1!D338+'Захтев за додатна сред.'!D338+Projekat!D338+Sheet2!D338","v":0},{"$f":"+Programska_aktivnost!E338+Sheet1!E338+'Захтев за додатна сред.'!E338+Projekat!E338+Sheet2!E338","v":0},{"$f":"+Programska_aktivnost!F338+Sheet1!F338+'Захтев за додатна сред.'!F338+Projekat!F338+Sheet2!F338","v":0},{"$f":"+Programska_aktivnost!G338+Sheet1!G338+'Захтев за додатна сред.'!G338+Projekat!G338+Sheet2!G338","v":0},{"$f":"+Programska_aktivnost!H338+Sheet1!H338+'Захтев за додатна сред.'!H338+Projekat!H338+Sheet2!H338","v":0},{"$f":"+Programska_aktivnost!I338+Sheet1!I338+'Захтев за додатна сред.'!I338+Projekat!I338+Sheet2!I338","v":0},{"$f":"+Programska_aktivnost!J338+Sheet1!J338+'Захтев за додатна сред.'!J338+Projekat!J338+Sheet2!J338","v":0},{"$f":"+Programska_aktivnost!K338+Sheet1!K338+'Захтев за додатна сред.'!K338+Projekat!K338+Sheet2!K338","v":0},{"$f":"+Programska_aktivnost!L338+Sheet1!L338+'Захтев за додатна сред.'!L338+Projekat!L338+Sheet2!L338","v":0},{"$f":"+Programska_aktivnost!M338+Sheet1!M338+'Захтев за додатна сред.'!M338+Projekat!M338+Sheet2!M338","v":0},0,0,null,null,null,null,null,null,null,null,null,0]
[292,472800,"Накнаде из буџета за становање и живот",{"$f":"+Programska_aktivnost!D339+Sheet1!D339+'Захтев за додатна сред.'!D339+Projekat!D339+Sheet2!D339","v":0},{"$f":"+Programska_aktivnost!E339+Sheet1!E339+'Захтев за додатна сред.'!E339+Projekat!E339+Sheet2!E339","v":0},{"$f":"+Programska_aktivnost!F339+Sheet1!F339+'Захтев за додатна сред.'!F339+Projekat!F339+Sheet2!F339","v":0},{"$f":"+Programska_aktivnost!G339+Sheet1!G339+'Захтев за додатна сред.'!G339+Projekat!G339+Sheet2!G339","v":0},{"$f":"+Programska_aktivnost!H339+Sheet1!H339+'Захтев за додатна сред.'!H339+Projekat!H339+Sheet2!H339","v":0},{"$f":"+Programska_aktivnost!I339+Sheet1!I339+'Захтев за додатна сред.'!I339+Projekat!I339+Sheet2!I339","v":0},{"$f":"+Programska_aktivnost!J339+Sheet1!J339+'Захтев за додатна сред.'!J339+Projekat!J339+Sheet2!J339","v":0},{"$f":"+Programska_aktivnost!K339+Sheet1!K339+'Захтев за додатна сред.'!K339+Projekat!K339+Sheet2!K339","v":0},{"$f":"+Programska_aktivnost!L339+Sheet1!L339+'Захтев за додатна сред.'!L339+Projekat!L339+Sheet2!L339","v":0},{"$f":"+Programska_aktivnost!M339+Sheet1!M339+'Захтев за додатна сред.'!M339+Projekat!M339+Sheet2!M339","v":0},{"$f":"SUM(H339,J339,L339)","v":0},0,null,null,null,null,null,null,null,null,null,0]
[293,472900,"Остале накнаде из буџета",{"$f":"+Programska_aktivnost!D340+Sheet1!D340+'Захтев за додатна сред.'!D340+Projekat!D340+Sheet2!D340","v":0},{"$f":"+Programska_aktivnost!E340+Sheet1!E340+'Захтев за додатна сред.'!E340+Projekat!E340+Sheet2!E340","v":0},{"$f":"+Programska_aktivnost!F340+Sheet1!F340+'Захтев за додатна сред.'!F340+Projekat!F340+Sheet2!F340","v":0},{"$f":"+Programska_aktivnost!G340+Sheet1!G340+'Захтев за додатна сред.'!G340+Projekat!G340+Sheet2!G340","v":0},{"$f":"+Programska_aktivnost!H340+Sheet1!H340+'Захтев за додатна сред.'!H340+Projekat!H340+Sheet2!H340","v":0},{"$f":"+Programska_aktivnost!I340+Sheet1!I340+'Захтев за додатна сред.'!I340+Projekat!I340+Sheet2!I340","v":0},{"$f":"+Programska_aktivnost!J340+Sheet1!J340+'Захтев за додатна сред.'!J340+Projekat!J340+Sheet2!J340","v":0},{"$f":"+Programska_aktivnost!K340+Sheet1!K340+'Захтев за додатна сред.'!K340+Projekat!K340+Sheet2!K340","v":0},{"$f":"+Programska_aktivnost!L340+Sheet1!L340+'Захтев за додатна сред.'!L340+Projekat!L340+Sheet2!L340","v":0},{"$f":"+Programska_aktivnost!M340+Sheet1!M340+'Захтев за додатна сред.'!M340+Projekat!M340+Sheet2!M340","v":0},0,0,null,null,null,null,null,null,null,null,null,0]
[294,480000,"ОСТАЛИ РАСХОДИ (295 + 298 + 302 + 304 + 307 + 309)",{"$f":"+Programska_aktivnost!D341+Sheet1!D341+'Захтев за додатна сред.'!D341+Projekat!D341+Sheet2!D341","v":80000},{"$f":"+Programska_aktivnost!E341+Sheet1!E341+'Захтев за додатна сред.'!E341+Projekat!E341+Sheet2!E341","v":0},{"$f":"+Programska_aktivnost!F341+Sheet1!F341+'Захтев за додатна сред.'!F341+Projekat!F341+Sheet2!F341","v":4181000},{"$f":"+Programska_aktivnost!G341+Sheet1!G341+'Захтев за додатна сред.'!G341+Projekat!G341+Sheet2!G341","v":0},{"$f":"+Programska_aktivnost!H341+Sheet1!H341+'Захтев за додатна сред.'!H341+Projekat!H341+Sheet2!H341","v":6562000},{"$f":"+Programska_aktivnost!I341+Sheet1!I341+'Захтев за додатна сред.'!I341+Projekat!I341+Sheet2!I341","v":20000},{"$f":"+Programska_aktivnost!J341+Sheet1!J341+'Захтев за додатна сред.'!J341+Projekat!J341+Sheet2!J341","v":100000},{"$f":"+Programska_aktivnost!K341+Sheet1!K341+'Захтев за додатна сред.'!K341+Projekat!K341+Sheet2!K341","v":20000},{"$f":"+Programska_aktivnost!L341+Sheet1!L341+'Захтев за додатна сред.'!L341+Projekat!L341+Sheet2!L341","v":120000},{"$f":"+Programska_aktivnost!M341+Sheet1!M341+'Захтев за додатна сред.'!M341+Projekat!M341+Sheet2!M341","v":20000},6782000,60000,null,null,null,null,null,null,null,null,null,17945000]
[295,481000,"ДОТАЦИЈЕ НЕВЛАДИНИМ ОРГАНИЗАЦИЈАМА (296 + 297)",{"$f":"+Programska_aktivnost!D342+Sheet1!D342+'Захтев за додатна сред.'!D342+Projekat!D342+Sheet2!D342","v":0},{"$f":"+Programska_aktivnost!E342+Sheet1!E342+'Захтев за додатна сред.'!E342+Projekat!E342+Sheet2!E342","v":0},{"$f":"+Programska_aktivnost!F342+Sheet1!F342+'Захтев за додатна сред.'!F342+Projekat!F342+Sheet2!F342","v":0},{"$f":"+Programska_aktivnost!G342+Sheet1!G342+'Захтев за додатна сред.'!G342+Projekat!G342+Sheet2!G342","v":0},{"$f":"+Programska_aktivnost!H342+Sheet1!H342+'Захтев за додатна сред.'!H342+Projekat!H342+Sheet2!H342","v":0},{"$f":"+Programska_aktivnost!I342+Sheet1!I342+'Захтев за додатна сред.'!I342+Projekat!I342+Sheet2!I342","v":0},{"$f":"+Programska_aktivnost!J342+Sheet1!J342+'Захтев за додатна сред.'!J342+Projekat!J342+Sheet2!J342","v":0},{"$f":"+Programska_aktivnost!K342+Sheet1!K342+'Захтев за додатна сред.'!K342+Projekat!K342+Sheet2!K342","v":0},{"$f":"+Programska_aktivnost!L342+Sheet1!L342+'Захтев за додатна сред.'!L342+Projekat!L342+Sheet2!L342","v":0},{"$f":"+Programska_aktivnost!M342+Sheet1!M342+'Захтев за додатна сред.'!M342+Projekat!M342+Sheet2!M342","v":0},0,0,null,null,null,null,null,null,null,null,null,0]
[296,481100,"Дотације непрофитним организацијама које пружају помоћ домаћинствима",{"$f":"+Programska_aktivnost!D343+Sheet1!D343+'Захтев за додатна сред.'!D343+Projekat!D343+Sheet2!D343","v":0},{"$f":"+Programska_aktivnost!E343+Sheet1!E343+'Захтев за додатна сред.'!E343+Projekat!E343+Sheet2!E343","v":0},{"$f":"+Programska_aktivnost!F343+Sheet1!F343+'Захтев за додатна сред.'!F343+Projekat!F343+Sheet2!F343","v":0},{"$f":"+Programska_aktivnost!G343+Sheet1!G343+'Захтев за додатна сред.'!G343+Projekat!G343+Sheet2!G343","v":0},{"$f":"+Programska_aktivnost!H343+Sheet1!H343+'Захтев за додатна сред.'!H343+Projekat!H343+Sheet2!H343","v":0},{"$f":"+Programska_aktivnost!I343+Sheet1!I343+'Захтев за додатна сред.'!I343+Projekat!I343+Sheet2!I343","v":0},{"$f":"+Programska_aktivnost!J343+Sheet1!J343+'Захтев за додатна сред.'!J343+Projekat!J343+Sheet2!J343","v":0},{"$f":"+Programska_aktivnost!K343+Sheet1!K343+'Захтев за додатна сред.'!K343+Projekat!K343+Sheet2!K343","v":0},{"$f":"+Programska_aktivnost!L343+Sheet1!L343+'Захтев за додатна сред.'!L343+Projekat!L343+Sheet2!L343","v":0},{"$f":"+Programska_aktivnost!M343+Sheet1!M343+'Захтев за додатна сред.'!M343+Projekat!M343+Sheet2!M343","v":0},0,0,null,null,null,null,null,null,null,null,null,0]
[297,481900,"Дотације осталим непрофитним институцијама",{"$f":"+Programska_aktivnost!D344+Sheet1!D344+'Захтев за додатна сред.'!D344+Projekat!D344+Sheet2!D344","v":0},{"$f":"+Programska_aktivnost!E344+Sheet1!E344+'Захтев за додатна сред.'!E344+Projekat!E344+Sheet2!E344","v":0},{"$f":"+Programska_aktivnost!F344+Sheet1!F344+'Захтев за додатна сред.'!F344+Projekat!F344+Sheet2!F344","v":0},{"$f":"+Programska_aktivnost!G344+Sheet1!G344+'Захтев за додатна сред.'!G344+Projekat!G344+Sheet2!G344","v":0},{"$f":"+Programska_aktivnost!H344+Sheet1!H344+'Захтев за додатна сред.'!H344+Projekat!H344+Sheet2!H344","v":0},{"$f":"+Programska_aktivnost!I344+Sheet1!I344+'Захтев за додатна сред.'!I344+Projekat!I344+Sheet2!I344","v":0},{"$f":"+Programska_aktivnost!J344+Sheet1!J344+'Захтев за додатна сред.'!J344+Projekat!J344+Sheet2!J344","v":0},{"$f":"+Programska_aktivnost!K344+Sheet1!K344+'Захтев за додатна сред.'!K344+Projekat!K344+Sheet2!K344","v":0},{"$f":"+Programska_aktivnost!L344+Sheet1!L344+'Захтев за додатна сред.'!L344+Projekat!L344+Sheet2!L344","v":0},{"$f":"+Programska_aktivnost!M344+Sheet1!M344+'Захтев за додатна сред.'!M344+Projekat!M344+Sheet2!M344","v":0},0,0,null,null,null,null,null,null,null,null,null,0]
[298,482000,"ПОРЕЗИ, ОБАВЕЗНЕ ТАКСЕ И КАЗНЕ (од 299 до 301)",{"$f":"+Programska_aktivnost!D345+Sheet1!D345+'Захтев за додатна сред.'!D345+Projekat!D345+Sheet2!D345","v":80000},{"$f":"+Programska_aktivnost!E345+Sheet1!E345+'Захтев за додатна сред.'!E345+Projekat!E345+Sheet2!E345","v":0},{"$f":"+Programska_aktivnost!F345+Sheet1!F345+'Захтев за додатна сред.'!F345+Projekat!F345+Sheet2!F345","v":100000},{"$f":"+Programska_aktivnost!G345+Sheet1!G345+'Захтев за додатна сред.'!G345+Projekat!G345+Sheet2!G345","v":0},{"$f":"+Programska_aktivnost!H345+Sheet1!H345+'Захтев за додатна сред.'!H345+Projekat!H345+Sheet2!H345","v":90000},{"$f":"+Programska_aktivnost!I345+Sheet1!I345+'Захтев за додатна сред.'!I345+Projekat!I345+Sheet2!I345","v":20000},{"$f":"+Programska_aktivnost!J345+Sheet1!J345+'Захтев за додатна сред.'!J345+Projekat!J345+Sheet2!J345","v":100000},{"$f":"+Programska_aktivnost!K345+Sheet1!K345+'Захтев за додатна сред.'!K345+Projekat!K345+Sheet2!K345","v":20000},{"$f":"+Programska_aktivnost!L345+Sheet1!L345+'Захтев за додатна сред.'!L345+Projekat!L345+Sheet2!L345","v":120000},{"$f":"+Programska_aktivnost!M345+Sheet1!M345+'Захтев за додатна сред.'!M345+Projekat!M345+Sheet2!M345","v":20000},310000,60000,null,null,null,null,null,null,null,null,null,920000]
[299,482100,"Остали порези",{"$f":"+Programska_aktivnost!D346+Sheet1!D346+'Захтев за додатна сред.'!D346+Projekat!D346+Sheet2!D346","v":80000},{"$f":"+Programska_aktivnost!E346+Sheet1!E346+'Захтев за додатна сред.'!E346+Projekat!E346+Sheet2!E346","v":0},{"$f":"+Programska_aktivnost!F346+Sheet1!F346+'Захтев за додатна сред.'!F346+Projekat!F346+Sheet2!F346","v":100000},{"$f":"+Programska_aktivnost!G346+Sheet1!G346+'Захтев за додатна сред.'!G346+Projekat!G346+Sheet2!G346","v":0},{"$f":"+Programska_aktivnost!H346+Sheet1!H346+'Захтев за додатна сред.'!H346+Projekat!H346+Sheet2!H346","v":90000},{"$f":"+Programska_aktivnost!I346+Sheet1!I346+'Захтев за додатна сред.'!I346+Projekat!I346+Sheet2!I346","v":10000},{"$f":"+Programska_aktivnost!J346+Sheet1!J346+'Захтев за додатна сред.'!J346+Projekat!J346+Sheet2!J346","v":100000},{"$f":"+Programska_aktivnost!K346+Sheet1!K346+'Захтев за додатна сред.'!K346+Projekat!K346+Sheet2!K346","v":20000},{"$f":"+Programska_aktivnost!L346+Sheet1!L346+'Захтев за додатна сред.'!L346+Projekat!L346+Sheet2!L346","v":120000},{"$f":"+Programska_aktivnost!M346+Sheet1!M346+'Захтев за додатна сред.'!M346+Projekat!M346+Sheet2!M346","v":20000},310000,50000,null,null,null,null,null,null,null,null,null,900000]
[300,482200,"Обавезне таксе",{"$f":"+Programska_aktivnost!D347+Sheet1!D347+'Захтев за додатна сред.'!D347+Projekat!D347+Sheet2!D347","v":0},{"$f":"+Programska_aktivnost!E347+Sheet1!E347+'Захтев за додатна сред.'!E347+Projekat!E347+Sheet2!E347","v":0},{"$f":"+Programska_aktivnost!F347+Sheet1!F347+'Захтев за додатна сред.'!F347+Projekat!F347+Sheet2!F347","v":0},{"$f":"+Programska_aktivnost!G347+Sheet1!G347+'Захтев за додатна сред.'!G347+Projekat!G347+Sheet2!G347","v":0},{"$f":"+Programska_aktivnost!H347+Sheet1!H347+'Захтев за додатна сред.'!H347+Projekat!H347+Sheet2!H347","v":0},{"$f":"+Programska_aktivnost!I347+Sheet1!I347+'Захтев за додатна сред.'!I347+Projekat!I347+Sheet2!I347","v":10000},{"$f":"+Programska_aktivnost!J347+Sheet1!J347+'Захтев за додатна сред.'!J347+Projekat!J347+Sheet2!J347","v":0},{"$f":"+Programska_aktivnost!K347+Sheet1!K347+'Захтев за додатна сред.'!K347+Projekat!K347+Sheet2!K347","v":0},{"$f":"+Programska_aktivnost!L347+Sheet1!L347+'Захтев за додатна сред.'!L347+Projekat!L347+Sheet2!L347","v":0},{"$f":"+Programska_aktivnost!M347+Sheet1!M347+'Захтев за додатна сред.'!M347+Projekat!M347+Sheet2!M347","v":0},0,10000,null,null,null,null,null,null,null,null,null,20000]
[301,482300,"Новчане казне и пенали",{"$f":"+Programska_aktivnost!D348+Sheet1!D348+'Захтев за додатна сред.'!D348+Projekat!D348+Sheet2!D348","v":0},{"$f":"+Programska_aktivnost!E348+Sheet1!E348+'Захтев за додатна сред.'!E348+Projekat!E348+Sheet2!E348","v":0},{"$f":"+Programska_aktivnost!F348+Sheet1!F348+'Захтев за додатна сред.'!F348+Projekat!F348+Sheet2!F348","v":0},{"$f":"+Programska_aktivnost!G348+Sheet1!G348+'Захтев за додатна сред.'!G348+Projekat!G348+Sheet2!G348","v":0},{"$f":"+Programska_aktivnost!H348+Sheet1!H348+'Захтев за додатна сред.'!H348+Projekat!H348+Sheet2!H348","v":0},{"$f":"+Programska_aktivnost!I348+Sheet1!I348+'Захтев за додатна сред.'!I348+Projekat!I348+Sheet2!I348","v":0},{"$f":"+Programska_aktivnost!J348+Sheet1!J348+'Захтев за додатна сред.'!J348+Projekat!J348+Sheet2!J348","v":0},{"$f":"+Programska_aktivnost!K348+Sheet1!K348+'Захтев за додатна сред.'!K348+Projekat!K348+Sheet2!K348","v":0},{"$f":"+Programska_aktivnost!L348+Sheet1!L348+'Захтев за додатна сред.'!L348+Projekat!L348+Sheet2!L348","v":0},{"$f":"+Programska_aktivnost!M348+Sheet1!M348+'Захтев за додатна сред.'!M348+Projekat!M348+Sheet2!M348","v":0},0,0,null,null,null,null,null,null,null,null,null,0]
[302,483000,"НОВЧАНЕ КАЗНЕ И ПЕНАЛИ ПО РЕШЕЊУ СУДОВА (303)",{"$f":"+Programska_aktivnost!D349+Sheet1!D349+'Захтев за додатна сред.'!D349+Projekat!D349+Sheet2!D349","v":0},{"$f":"+Programska_aktivnost!E349+Sheet1!E349+'Захтев за додатна сред.'!E349+Projekat!E349+Sheet2!E349","v":0},{"$f":"+Programska_aktivnost!F349+Sheet1!F349+'Захтев за додатна сред.'!F349+Projekat!F349+Sheet2!F349","v":181000},{"$f":"+Programska_aktivnost!G349+Sheet1!G349+'Захтев за додатна сред.'!G349+Projekat!G349+Sheet2!G349","v":0},{"$f":"+Programska_aktivnost!H349+Sheet1!H349+'Захтев за додатна сред.'!H349+Projekat!H349+Sheet2!H349","v":650000},{"$f":"+Programska_aktivnost!I349+Sheet1!I349+'Захтев за додатна сред.'!I349+Projekat!I349+Sheet2!I349","v":0},{"$f":"+Programska_aktivnost!J349+Sheet1!J349+'Захтев за додатна сред.'!J349+Projekat!J349+Sheet2!J349","v":0},{"$f":"+Programska_aktivnost!K349+Sheet1!K349+'Захтев за додатна сред.'!K349+Projekat!K349+Sheet2!K349","v":0},{"$f":"+Programska_aktivnost!L349+Sheet1!L349+'Захтев за додатна сред.'!L349+Projekat!L349+Sheet2!L349","v":0},{"$f":"+Programska_aktivnost!M349+Sheet1!M349+'Захтев за додатна сред.'!M349+Projekat!M349+Sheet2!M349","v":0},650000,0,null,null,null,null,null,null,null,null,null,1481000]
[303,483100,"Новчане казне и пенали по решењу судова",{"$f":"+Programska_aktivnost!D350+Sheet1!D350+'Захтев за додатна сред.'!D350+Projekat!D350+Sheet2!D350","v":0},{"$f":"+Programska_aktivnost!E350+Sheet1!E350+'Захтев за додатна сред.'!E350+Projekat!E350+Sheet2!E350","v":0},{"$f":"+Programska_aktivnost!F350+Sheet1!F350+'Захтев за додатна сред.'!F350+Projekat!F350+Sheet2!F350","v":181000},{"$f":"+Programska_aktivnost!G350+Sheet1!G350+'Захтев за додатна сред.'!G350+Projekat!G350+Sheet2!G350","v":0},{"$f":"+Programska_aktivnost!H350+Sheet1!H350+'Захтев за додатна сред.'!H350+Projekat!H350+Sheet2!H350","v":650000},{"$f":"+Programska_aktivnost!I350+Sheet1!I350+'Захтев за додатна сред.'!I350+Projekat!I350+Sheet2!I350","v":0},{"$f":"+Programska_aktivnost!J350+Sheet1!J350+'Захтев за додатна сред.'!J350+Projekat!J350+Sheet2!J350","v":0},{"$f":"+Programska_aktivnost!K350+Sheet1!K350+'Захтев за додатна сред.'!K350+Projekat!K350+Sheet2!K350","v":0},{"$f":"+Programska_aktivnost!L350+Sheet1!L350+'Захтев за додатна сред.'!L350+Projekat!L350+Sheet2!L350","v":0},{"$f":"+Programska_aktivnost!M350+Sheet1!M350+'Захтев за додатна сред.'!M350+Projekat!M350+Sheet2!M350","v":0},650000,0,null,null,null,null,null,null,null,null,null,1481000]
[304,484000,"НАКНАДА ШТЕТЕ ЗА ПОВРЕДЕ ИЛИ ШТЕТУ НАСТАЛУ УСЛЕД ЕЛЕМЕНТАРНИХ НЕПОГОДА ИЛИ ДРУГИХ ПРИРОДНИХ УЗРОКА (305 + 306)",{"$f":"+Programska_aktivnost!D351+Sheet1!D351+'Захтев за додатна сред.'!D351+Projekat!D351+Sheet2!D351","v":0},{"$f":"+Programska_aktivnost!E351+Sheet1!E351+'Захтев за додатна сред.'!E351+Projekat!E351+Sheet2!E351","v":0},{"$f":"+Programska_aktivnost!F351+Sheet1!F351+'Захтев за додатна сред.'!F351+Projekat!F351+Sheet2!F351","v":0},{"$f":"+Programska_aktivnost!G351+Sheet1!G351+'Захтев за додатна сред.'!G351+Projekat!G351+Sheet2!G351","v":0},{"$f":"+Programska_aktivnost!H351+Sheet1!H351+'Захтев за додатна сред.'!H351+Projekat!H351+Sheet2!H351","v":0},{"$f":"+Programska_aktivnost!I351+Sheet1!I351+'Захтев за додатна сред.'!I351+Projekat!I351+Sheet2!I351","v":0},{"$f":"+Programska_aktivnost!J351+Sheet1!J351+'Захтев за додатна сред.'!J351+Projekat!J351+Sheet2!J351","v":0},{"$f":"+Programska_aktivnost!K351+Sheet1!K351+'Захтев за додатна сред.'!K351+Projekat!K351+Sheet2!K351","v":0},{"$f":"+Programska_aktivnost!L351+Sheet1!L351+'Захтев за додатна сред.'!L351+Projekat!L351+Sheet2!L351","v":0},{"$f":"+Programska_aktivnost!M351+Sheet1!M351+'Захтев за додатна сред.'!M351+Projekat!M351+Sheet2!M351","v":0},0,0,null,null,null,null,null,null,null,null,null,0]
[305,484100,"Накнада штете за повреде или штету насталу услед елементарних непогода",{"$f":"+Programska_aktivnost!D352+Sheet1!D352+'Захтев за додатна сред.'!D352+Projekat!D352+Sheet2!D352","v":0},{"$f":"+Programska_aktivnost!E352+Sheet1!E352+'Захтев за додатна сред.'!E352+Projekat!E352+Sheet2!E352","v":0},{"$f":"+Programska_aktivnost!F352+Sheet1!F352+'Захтев за додатна сред.'!F352+Projekat!F352+Sheet2!F352","v":0},{"$f":"+Programska_aktivnost!G352+Sheet1!G352+'Захтев за додатна сред.'!G352+Projekat!G352+Sheet2!G352","v":0},{"$f":"+Programska_aktivnost!H352+Sheet1!H352+'Захтев за додатна сред.'!H352+Projekat!H352+Sheet2!H352","v":0},{"$f":"+Programska_aktivnost!I352+Sheet1!I352+'Захтев за додатна сред.'!I352+Projekat!I352+Sheet2!I352","v":0},{"$f":"+Programska_aktivnost!J352+Sheet1!J352+'Захтев за додатна сред.'!J352+Projekat!J352+Sheet2!J352","v":0},{"$f":"+Programska_aktivnost!K352+Sheet1!K352+'Захтев за додатна сред.'!K352+Projekat!K352+Sheet2!K352","v":0},{"$f":"+Programska_aktivnost!L352+Sheet1!L352+'Захтев за додатна сред.'!L352+Projekat!L352+Sheet2!L352","v":0},{"$f":"+Programska_aktivnost!M352+Sheet1!M352+'Захтев за додатна сред.'!M352+Projekat!M352+Sheet2!M352","v":0},0,0,null,null,null,null,null,null,null,null,null,0]
[306,484200,"Накнада штете од дивљачи",{"$f":"+Programska_aktivnost!D353+Sheet1!D353+'Захтев за додатна сред.'!D353+Projekat!D353+Sheet2!D353","v":0},{"$f":"+Programska_aktivnost!E353+Sheet1!E353+'Захтев за додатна сред.'!E353+Projekat!E353+Sheet2!E353","v":0},{"$f":"+Programska_aktivnost!F353+Sheet1!F353+'Захтев за додатна сред.'!F353+Projekat!F353+Sheet2!F353","v":0},{"$f":"+Programska_aktivnost!G353+Sheet1!G353+'Захтев за додатна сред.'!G353+Projekat!G353+Sheet2!G353","v":0},{"$f":"+Programska_aktivnost!H353+Sheet1!H353+'Захтев за додатна сред.'!H353+Projekat!H353+Sheet2!H353","v":0},{"$f":"+Programska_aktivnost!I353+Sheet1!I353+'Захтев за додатна сред.'!I353+Projekat!I353+Sheet2!I353","v":0},{"$f":"+Programska_aktivnost!J353+Sheet1!J353+'Захтев за додатна сред.'!J353+Projekat!J353+Sheet2!J353","v":0},{"$f":"+Programska_aktivnost!K353+Sheet1!K353+'Захтев за додатна сред.'!K353+Projekat!K353+Sheet2!K353","v":0},{"$f":"+Programska_aktivnost!L353+Sheet1!L353+'Захтев за додатна сред.'!L353+Projekat!L353+Sheet2!L353","v":0},{"$f":"+Programska_aktivnost!M353+Sheet1!M353+'Захтев за додатна сред.'!M353+Projekat!M353+Sheet2!M353","v":0},0,0,null,null,null,null,null,null,null,null,null,0]
[307,485000,"НАКНАДА ШТЕТЕ ЗА ПОВРЕДЕ ИЛИ ШТЕТУ НАНЕТУ ОД СТРАНЕ ДРЖАВНИХ ОРГАНА (308)",{"$f":"+Programska_aktivnost!D354+Sheet1!D354+'Захтев за додатна сред.'!D354+Projekat!D354+Sheet2!D354","v":0},{"$f":"+Programska_aktivnost!E354+Sheet1!E354+'Захтев за додатна сред.'!E354+Projekat!E354+Sheet2!E354","v":0},{"$f":"+Programska_aktivnost!F354+Sheet1!F354+'Захтев за додатна сред.'!F354+Projekat!F354+Sheet2!F354","v":3900000},{"$f":"+Programska_aktivnost!G354+Sheet1!G354+'Захтев за додатна сред.'!G354+Projekat!G354+Sheet2!G354","v":0},{"$f":"+Programska_aktivnost!H354+Sheet1!H354+'Захтев за додатна сред.'!H354+Projekat!H354+Sheet2!H354","v":5822000},{"$f":"+Programska_aktivnost!I354+Sheet1!I354+'Захтев за додатна сред.'!I354+Projekat!I354+Sheet2!I354","v":0},{"$f":"+Programska_aktivnost!J354+Sheet1!J354+'Захтев за додатна сред.'!J354+Projekat!J354+Sheet2!J354","v":0},{"$f":"+Programska_aktivnost!K354+Sheet1!K354+'Захтев за додатна сред.'!K354+Projekat!K354+Sheet2!K354","v":0},{"$f":"+Programska_aktivnost!L354+Sheet1!L354+'Захтев за додатна сред.'!L354+Projekat!L354+Sheet2!L354","v":0},{"$f":"+Programska_aktivnost!M354+Sheet1!M354+'Захтев за додатна сред.'!M354+Projekat!M354+Sheet2!M354","v":0},5822000,0,null,null,null,null,null,null,null,null,null,15544000]
[308,485100,"Накнада штете за повреде или штету нанету од стране државних органа",{"$f":"+Programska_aktivnost!D355+Sheet1!D355+'Захтев за додатна сред.'!D355+Projekat!D355+Sheet2!D355","v":0},{"$f":"+Programska_aktivnost!E355+Sheet1!E355+'Захтев за додатна сред.'!E355+Projekat!E355+Sheet2!E355","v":0},{"$f":"+Programska_aktivnost!F355+Sheet1!F355+'Захтев за додатна сред.'!F355+Projekat!F355+Sheet2!F355","v":3900000},{"$f":"+Programska_aktivnost!G355+Sheet1!G355+'Захтев за додатна сред.'!G355+Projekat!G355+Sheet2!G355","v":0},{"$f":"+Programska_aktivnost!H355+Sheet1!H355+'Захтев за додатна сред.'!H355+Projekat!H355+Sheet2!H355","v":5822000},{"$f":"+Programska_aktivnost!I355+Sheet1!I355+'Захтев за додатна сред.'!I355+Projekat!I355+Sheet2!I355","v":0},{"$f":"+Programska_aktivnost!J355+Sheet1!J355+'Захтев за додатна сред.'!J355+Projekat!J355+Sheet2!J355","v":0},{"$f":"+Programska_aktivnost!K355+Sheet1!K355+'Захтев за додатна сред.'!K355+Projekat!K355+Sheet2!K355","v":0},{"$f":"+Programska_aktivnost!L355+Sheet1!L355+'Захтев за додатна сред.'!L355+Projekat!L355+Sheet2!L355","v":0},{"$f":"+Programska_aktivnost!M355+Sheet1!M355+'Захтев за додатна сред.'!M355+Projekat!M355+Sheet2!M355","v":0},5822000,0,null,null,null,null,null,null,null,null,null,15544000]
[309,489000,"РАСХОДИ КОЈИ СЕ ФИНАНСИРАЈУ ИЗ СРЕДСТАВА ЗА РЕАЛИЗАЦИЈУ НАЦИОНАЛНОГ ИНВЕСТИЦИОНОГ ПЛАНА (310)",{"$f":"+Programska_aktivnost!D356+Sheet1!D356+'Захтев за додатна сред.'!D356+Projekat!D356+Sheet2!D356","v":0},{"$f":"+Programska_aktivnost!E356+Sheet1!E356+'Захтев за додатна сред.'!E356+Projekat!E356+Sheet2!E356","v":0},{"$f":"+Programska_aktivnost!F356+Sheet1!F356+'Захтев за додатна сред.'!F356+Projekat!F356+Sheet2!F356","v":0},{"$f":"+Programska_aktivnost!G356+Sheet1!G356+'Захтев за додатна сред.'!G356+Projekat!G356+Sheet2!G356","v":0},{"$f":"+Programska_aktivnost!H356+Sheet1!H356+'Захтев за додатна сред.'!H356+Projekat!H356+Sheet2!H356","v":0},{"$f":"+Programska_aktivnost!I356+Sheet1!I356+'Захтев за додатна сред.'!I356+Projekat!I356+Sheet2!I356","v":0},{"$f":"+Programska_aktivnost!J356+Sheet1!J356+'Захтев за додатна сред.'!J356+Projekat!J356+Sheet2!J356","v":0},{"$f":"+Programska_aktivnost!K356+Sheet1!K356+'Захтев за додатна сред.'!K356+Projekat!K356+Sheet2!K356","v":0},{"$f":"+Programska_aktivnost!L356+Sheet1!L356+'Захтев за додатна сред.'!L356+Projekat!L356+Sheet2!L356","v":0},{"$f":"+Programska_aktivnost!M356+Sheet1!M356+'Захтев за додатна сред.'!M356+Projekat!M356+Sheet2!M356","v":0},0,0,null,null,null,null,null,null,null,null,null,0]
[310,489100,"Расходи који се финансирају из средстава за реализацију националног инвестиционог плана",{"$f":"+Programska_aktivnost!D357+Sheet1!D357+'Захтев за додатна сред.'!D357+Projekat!D357+Sheet2!D357","v":0},{"$f":"+Programska_aktivnost!E357+Sheet1!E357+'Захтев за додатна сред.'!E357+Projekat!E357+Sheet2!E357","v":0},{"$f":"+Programska_aktivnost!F357+Sheet1!F357+'Захтев за додатна сред.'!F357+Projekat!F357+Sheet2!F357","v":0},{"$f":"+Programska_aktivnost!G357+Sheet1!G357+'Захтев за додатна сред.'!G357+Projekat!G357+Sheet2!G357","v":0},{"$f":"+Programska_aktivnost!H357+Sheet1!H357+'Захтев за додатна сред.'!H357+Projekat!H357+Sheet2!H357","v":0},{"$f":"+Programska_aktivnost!I357+Sheet1!I357+'Захтев за додатна сред.'!I357+Projekat!I357+Sheet2!I357","v":0},{"$f":"+Programska_aktivnost!J357+Sheet1!J357+'Захтев за додатна сред.'!J357+Projekat!J357+Sheet2!J357","v":0},{"$f":"+Programska_aktivnost!K357+Sheet1!K357+'Захтев за додатна сред.'!K357+Projekat!K357+Sheet2!K357","v":0},{"$f":"+Programska_aktivnost!L357+Sheet1!L357+'Захтев за додатна сред.'!L357+Projekat!L357+Sheet2!L357","v":0},{"$f":"+Programska_aktivnost!M357+Sheet1!M357+'Захтев за додатна сред.'!M357+Projekat!M357+Sheet2!M357","v":0},0,0,null,null,null,null,null,null,null,null,null,0]
[311,500000,"ИЗДАЦИ ЗА НЕФИНАНСИЈСКУ ИМОВИНУ (312 + 334 + 343 + 346 + 354)",{"$f":"+Programska_aktivnost!D358+Sheet1!D358+'Захтев за додатна сред.'!D358+Projekat!D358+Sheet2!D358","v":954000},{"$f":"+Programska_aktivnost!E358+Sheet1!E358+'Захтев за додатна сред.'!E358+Projekat!E358+Sheet2!E358","v":0},{"$f":"+Programska_aktivnost!F358+Sheet1!F358+'Захтев за додатна сред.'!F358+Projekat!F358+Sheet2!F358","v":2700000},{"$f":"+Programska_aktivnost!G358+Sheet1!G358+'Захтев за додатна сред.'!G358+Projekat!G358+Sheet2!G358","v":0},{"$f":"+Programska_aktivnost!H358+Sheet1!H358+'Захтев за додатна сред.'!H358+Projekat!H358+Sheet2!H358","v":5359000},{"$f":"+Programska_aktivnost!I358+Sheet1!I358+'Захтев за додатна сред.'!I358+Projekat!I358+Sheet2!I358","v":0},{"$f":"+Programska_aktivnost!J358+Sheet1!J358+'Захтев за додатна сред.'!J358+Projekat!J358+Sheet2!J358","v":1500000},{"$f":"+Programska_aktivnost!K358+Sheet1!K358+'Захтев за додатна сред.'!K358+Projekat!K358+Sheet2!K358","v":0},{"$f":"+Programska_aktivnost!L358+Sheet1!L358+'Захтев за додатна сред.'!L358+Projekat!L358+Sheet2!L358","v":7518000},{"$f":"+Programska_aktivnost!M358+Sheet1!M358+'Захтев за додатна сред.'!M358+Projekat!M358+Sheet2!M358","v":0},14377000,0,null,null,null,null,null,null,null,null,null,32408000]
[312,510000,"ОСНОВНА СРЕДСТВА (313 + 318 + 328 + 330 + 332)",{"$f":"+Programska_aktivnost!D359+Sheet1!D359+'Захтев за додатна сред.'!D359+Projekat!D359+Sheet2!D359","v":954000},{"$f":"+Programska_aktivnost!E359+Sheet1!E359+'Захтев за додатна сред.'!E359+Projekat!E359+Sheet2!E359","v":0},{"$f":"+Programska_aktivnost!F359+Sheet1!F359+'Захтев за додатна сред.'!F359+Projekat!F359+Sheet2!F359","v":2700000},{"$f":"+Programska_aktivnost!G359+Sheet1!G359+'Захтев за додатна сред.'!G359+Projekat!G359+Sheet2!G359","v":0},{"$f":"+Programska_aktivnost!H359+Sheet1!H359+'Захтев за додатна сред.'!H359+Projekat!H359+Sheet2!H359","v":5359000},{"$f":"+Programska_aktivnost!I359+Sheet1!I359+'Захтев за додатна сред.'!I359+Projekat!I359+Sheet2!I359","v":0},{"$f":"+Programska_aktivnost!J359+Sheet1!J359+'Захтев за додатна сред.'!J359+Projekat!J359+Sheet2!J359","v":1500000},{"$f":"+Programska_aktivnost!K359+Sheet1!K359+'Захтев за додатна сред.'!K359+Projekat!K359+Sheet2!K359","v":0},{"$f":"+Programska_aktivnost!L359+Sheet1!L359+'Захтев за додатна сред.'!L359+Projekat!L359+Sheet2!L359","v":7518000},{"$f":"+Programska_aktivnost!M359+Sheet1!M359+'Захтев за додатна сред.'!M359+Projekat!M359+Sheet2!M359","v":0},14377000,0,null,null,null,null,null,null,null,null,null,32408000]
[313,511000,"ЗГРАДЕ И ГРАЂЕВИНСКИ ОБЈЕКТИ (од 314 до 317)",{"$f":"+Programska_aktivnost!D360+Sheet1!D360+'Захтев за додатна сред.'!D360+Projekat!D360+Sheet2!D360","v":300000},{"$f":"+Programska_aktivnost!E360+Sheet1!E360+'Захтев за додатна сред.'!E360+Projekat!E360+Sheet2!E360","v":0},{"$f":"+Programska_aktivnost!F360+Sheet1!F360+'Захтев за додатна сред.'!F360+Projekat!F360+Sheet2!F360","v":1200000},{"$f":"+Programska_aktivnost!G360+Sheet1!G360+'Захтев за додатна сред.'!G360+Projekat!G360+Sheet2!G360","v":0},{"$f":"+Programska_aktivnost!H360+Sheet1!H360+'Захтев за додатна сред.'!H360+Projekat!H360+Sheet2!H360","v":739000},{"$f":"+Programska_aktivnost!I360+Sheet1!I360+'Захтев за додатна сред.'!I360+Projekat!I360+Sheet2!I360","v":0},{"$f":"+Programska_aktivnost!J360+Sheet1!J360+'Захтев за додатна сред.'!J360+Projekat!J360+Sheet2!J360","v":0},{"$f":"+Programska_aktivnost!K360+Sheet1!K360+'Захтев за додатна сред.'!K360+Projekat!K360+Sheet2!K360","v":0},{"$f":"+Programska_aktivnost!L360+Sheet1!L360+'Захтев за додатна сред.'!L360+Projekat!L360+Sheet2!L360","v":2000000},{"$f":"+Programska_aktivnost!M360+Sheet1!M360+'Захтев за додатна сред.'!M360+Projekat!M360+Sheet2!M360","v":0},2739000,0,null,null,null,null,null,null,null,null,null,6978000]
[314,511100,"Куповина зграда и објеката",{"$f":"+Programska_aktivnost!D361+Sheet1!D361+'Захтев за додатна сред.'!D361+Projekat!D361+Sheet2!D361","v":0},{"$f":"+Programska_aktivnost!E361+Sheet1!E361+'Захтев за додатна сред.'!E361+Projekat!E361+Sheet2!E361","v":0},{"$f":"+Programska_aktivnost!F361+Sheet1!F361+'Захтев за додатна сред.'!F361+Projekat!F361+Sheet2!F361","v":0},{"$f":"+Programska_aktivnost!G361+Sheet1!G361+'Захтев за додатна сред.'!G361+Projekat!G361+Sheet2!G361","v":0},{"$f":"+Programska_aktivnost!H361+Sheet1!H361+'Захтев за додатна сред.'!H361+Projekat!H361+Sheet2!H361","v":0},{"$f":"+Programska_aktivnost!I361+Sheet1!I361+'Захтев за додатна сред.'!I361+Projekat!I361+Sheet2!I361","v":0},{"$f":"+Programska_aktivnost!J361+Sheet1!J361+'Захтев за додатна сред.'!J361+Projekat!J361+Sheet2!J361","v":0},{"$f":"+Programska_aktivnost!K361+Sheet1!K361+'Захтев за додатна сред.'!K361+Projekat!K361+Sheet2!K361","v":0},{"$f":"+Programska_aktivnost!L361+Sheet1!L361+'Захтев за додатна сред.'!L361+Projekat!L361+Sheet2!L361","v":0},{"$f":"+Programska_aktivnost!M361+Sheet1!M361+'Захтев за додатна сред.'!M361+Projekat!M361+Sheet2!M361","v":0},0,0,null,null,null,null,null,null,null,null,null,0]
[315,511200,"Изградња зграда и објеката",{"$f":"+Programska_aktivnost!D362+Sheet1!D362+'Захтев за додатна сред.'!D362+Projekat!D362+Sheet2!D362","v":0},{"$f":"+Programska_aktivnost!E362+Sheet1!E362+'Захтев за додатна сред.'!E362+Projekat!E362+Sheet2!E362","v":0},{"$f":"+Programska_aktivnost!F362+Sheet1!F362+'Захтев за додатна сред.'!F362+Projekat!F362+Sheet2!F362","v":0},{"$f":"+Programska_aktivnost!G362+Sheet1!G362+'Захтев за додатна сред.'!G362+Projekat!G362+Sheet2!G362","v":0},{"$f":"+Programska_aktivnost!H362+Sheet1!H362+'Захтев за додатна сред.'!H362+Projekat!H362+Sheet2!H362","v":0},{"$f":"+Programska_aktivnost!I362+Sheet1!I362+'Захтев за додатна сред.'!I362+Projekat!I362+Sheet2!I362","v":0},{"$f":"+Programska_aktivnost!J362+Sheet1!J362+'Захтев за додатна сред.'!J362+Projekat!J362+Sheet2!J362","v":0},{"$f":"+Programska_aktivnost!K362+Sheet1!K362+'Захтев за додатна сред.'!K362+Projekat!K362+Sheet2!K362","v":0},{"$f":"+Programska_aktivnost!L362+Sheet1!L362+'Захтев за додатна сред.'!L362+Projekat!L362+Sheet2!L362","v":0},{"$f":"+Programska_aktivnost!M362+Sheet1!M362+'Захтев за додатна сред.'!M362+Projekat!M362+Sheet2!M362","v":0},0,0,null,null,null,null,null,null,null,null,null,0]
[316,511300,"Капитално одржавање зграда и објеката",{"$f":"+Programska_aktivnost!D363+Sheet1!D363+'Захтев за додатна сред.'!D363+Projekat!D363+Sheet2!D363","v":0},{"$f":"+Programska_aktivnost!E363+Sheet1!E363+'Захтев за додатна сред.'!E363+Projekat!E363+Sheet2!E363","v":0},{"$f":"+Programska_aktivnost!F363+Sheet1!F363+'Захтев за додатна сред.'!F363+Projekat!F363+Sheet2!F363","v":0},{"$f":"+Programska_aktivnost!G363+Sheet1!G363+'Захтев за додатна сред.'!G363+Projekat!G363+Sheet2!G363","v":0},{"$f":"+Programska_aktivnost!H363+Sheet1!H363+'Захтев за додатна сред.'!H363+Projekat!H363+Sheet2!H363","v":0},{"$f":"+Programska_aktivnost!I363+Sheet1!I363+'Захтев за додатна сред.'!I363+Projekat!I363+Sheet2!I363","v":0},{"$f":"+Programska_aktivnost!J363+Sheet1!J363+'Захтев за додатна сред.'!J363+Projekat!J363+Sheet2!J363","v":0},{"$f":"+Programska_aktivnost!K363+Sheet1!K363+'Захтев за додатна сред.'!K363+Projekat!K363+Sheet2!K363","v":0},{"$f":"+Programska_aktivnost!L363+Sheet1!L363+'Захтев за додатна сред.'!L363+Projekat!L363+Sheet2!L363","v":2000000},{"$f":"+Programska_aktivnost!M363+Sheet1!M363+'Захтев за додатна сред.'!M363+Projekat!M363+Sheet2!M363","v":0},2000000,0,null,null,null,null,null,null,null,null,null,4000000]
[317,511400,"Пројектно планирање",{"$f":"+Programska_aktivnost!D364+Sheet1!D364+'Захтев за додатна сред.'!D364+Projekat!D364+Sheet2!D364","v":300000},{"$f":"+Programska_aktivnost!E364+Sheet1!E364+'Захтев за додатна сред.'!E364+Projekat!E364+Sheet2!E364","v":0},{"$f":"+Programska_aktivnost!F364+Sheet1!F364+'Захтев за додатна сред.'!F364+Projekat!F364+Sheet2!F364","v":1200000},{"$f":"+Programska_aktivnost!G364+Sheet1!G364+'Захтев за додатна сред.'!G364+Projekat!G364+Sheet2!G364","v":0},{"$f":"+Programska_aktivnost!H364+Sheet1!H364+'Захтев за додатна сред.'!H364+Projekat!H364+Sheet2!H364","v":739000},{"$f":"+Programska_aktivnost!I364+Sheet1!I364+'Захтев за додатна сред.'!I364+Projekat!I364+Sheet2!I364","v":0},{"$f":"+Programska_aktivnost!J364+Sheet1!J364+'Захтев за додатна сред.'!J364+Projekat!J364+Sheet2!J364","v":0},{"$f":"+Programska_aktivnost!K364+Sheet1!K364+'Захтев за додатна сред.'!K364+Projekat!K364+Sheet2!K364","v":0},{"$f":"+Programska_aktivnost!L364+Sheet1!L364+'Захтев за додатна сред.'!L364+Projekat!L364+Sheet2!L364","v":0},{"$f":"+Programska_aktivnost!M364+Sheet1!M364+'Захтев за додатна сред.'!M364+Projekat!M364+Sheet2!M364","v":0},739000,0,null,null,null,null,null,null,null,null,null,2978000]
[318,512000,"МАШИНЕ И ОПРЕМА (од 319 до 327)",{"$f":"+Programska_aktivnost!D365+Sheet1!D365+'Захтев за додатна сред.'!D365+Projekat!D365+Sheet2!D365","v":654000},{"$f":"+Programska_aktivnost!E365+Sheet1!E365+'Захтев за додатна сред.'!E365+Projekat!E365+Sheet2!E365","v":0},{"$f":"+Programska_aktivnost!F365+Sheet1!F365+'Захтев за додатна сред.'!F365+Projekat!F365+Sheet2!F365","v":1500000},{"$f":"+Programska_aktivnost!G365+Sheet1!G365+'Захтев за додатна сред.'!G365+Projekat!G365+Sheet2!G365","v":0},{"$f":"+Programska_aktivnost!H365+Sheet1!H365+'Захтев за додатна сред.'!H365+Projekat!H365+Sheet2!H365","v":4620000},{"$f":"+Programska_aktivnost!I365+Sheet1!I365+'Захтев за додатна сред.'!I365+Projekat!I365+Sheet2!I365","v":0},{"$f":"+Programska_aktivnost!J365+Sheet1!J365+'Захтев за додатна сред.'!J365+Projekat!J365+Sheet2!J365","v":1500000},{"$f":"+Programska_aktivnost!K365+Sheet1!K365+'Захтев за додатна сред.'!K365+Projekat!K365+Sheet2!K365","v":0},{"$f":"+Programska_aktivnost!L365+Sheet1!L365+'Захтев за додатна сред.'!L365+Projekat!L365+Sheet2!L365","v":5518000},{"$f":"+Programska_aktivnost!M365+Sheet1!M365+'Захтев за додатна сред.'!M365+Projekat!M365+Sheet2!M365","v":0},11638000,0,null,null,null,null,null,null,null,null,null,25430000]
[319,512100,"Опрема за саобраћај",{"$f":"+Programska_aktivnost!D366+Sheet1!D366+'Захтев за додатна сред.'!D366+Projekat!D366+Sheet2!D366","v":0},{"$f":"+Programska_aktivnost!E366+Sheet1!E366+'Захтев за додатна сред.'!E366+Projekat!E366+Sheet2!E366","v":0},{"$f":"+Programska_aktivnost!F366+Sheet1!F366+'Захтев за додатна сред.'!F366+Projekat!F366+Sheet2!F366","v":0},{"$f":"+Programska_aktivnost!G366+Sheet1!G366+'Захтев за додатна сред.'!G366+Projekat!G366+Sheet2!G366","v":0},{"$f":"+Programska_aktivnost!H366+Sheet1!H366+'Захтев за додатна сред.'!H366+Projekat!H366+Sheet2!H366","v":0},{"$f":"+Programska_aktivnost!I366+Sheet1!I366+'Захтев за додатна сред.'!I366+Projekat!I366+Sheet2!I366","v":0},{"$f":"+Programska_aktivnost!J366+Sheet1!J366+'Захтев за додатна сред.'!J366+Projekat!J366+Sheet2!J366","v":0},{"$f":"+Programska_aktivnost!K366+Sheet1!K366+'Захтев за додатна сред.'!K366+Projekat!K366+Sheet2!K366","v":0},{"$f":"+Programska_aktivnost!L366+Sheet1!L366+'Захтев за додатна сред.'!L366+Projekat!L366+Sheet2!L366","v":0},{"$f":"+Programska_aktivnost!M366+Sheet1!M366+'Захтев за додатна сред.'!M366+Projekat!M366+Sheet2!M366","v":0},0,0,null,null,null,null,null,null,null,null,null,0]
[320,512200,"Административна опрема",{"$f":"+Programska_aktivnost!D367+Sheet1!D367+'Захтев за додатна сред.'!D367+Projekat!D367+Sheet2!D367","v":654000},{"$f":"+Programska_aktivnost!E367+Sheet1!E367+'Захтев за додатна сред.'!E367+Projekat!E367+Sheet2!E367","v":0},{"$f":"+Programska_aktivnost!F367+Sheet1!F367+'Захтев за додатна сред.'!F367+Projekat!F367+Sheet2!F367","v":1500000},{"$f":"+Programska_aktivnost!G367+Sheet1!G367+'Захтев за додатна сред.'!G367+Projekat!G367+Sheet2!G367","v":0},{"$f":"+Programska_aktivnost!H367+Sheet1!H367+'Захтев за додатна сред.'!H367+Projekat!H367+Sheet2!H367","v":2220000},{"$f":"+Programska_aktivnost!I367+Sheet1!I367+'Захтев за додатна сред.'!I367+Projekat!I367+Sheet2!I367","v":0},{"$f":"+Programska_aktivnost!J367+Sheet1!J367+'Захтев за додатна сред.'!J367+Projekat!J367+Sheet2!J367","v":1500000},{"$f":"+Programska_aktivnost!K367+Sheet1!K367+'Захтев за додатна сред.'!K367+Projekat!K367+Sheet2!K367","v":0},{"$f":"+Programska_aktivnost!L367+Sheet1!L367+'Захтев за додатна сред.'!L367+Projekat!L367+Sheet2!L367","v":5518000},{"$f":"+Programska_aktivnost!M367+Sheet1!M367+'Захтев за додатна сред.'!M367+Projekat!M367+Sheet2!M367","v":0},9238000,0,null,null,null,null,null,null,null,null,null,20630000]
[321,512300,"Опрема за пољопривреду",{"$f":"+Programska_aktivnost!D368+Sheet1!D368+'Захтев за додатна сред.'!D368+Projekat!D368+Sheet2!D368","v":0},{"$f":"+Programska_aktivnost!E368+Sheet1!E368+'Захтев за додатна сред.'!E368+Projekat!E368+Sheet2!E368","v":0},{"$f":"+Programska_aktivnost!F368+Sheet1!F368+'Захтев за додатна сред.'!F368+Projekat!F368+Sheet2!F368","v":0},{"$f":"+Programska_aktivnost!G368+Sheet1!G368+'Захтев за додатна сред.'!G368+Projekat!G368+Sheet2!G368","v":0},{"$f":"+Programska_aktivnost!H368+Sheet1!H368+'Захтев за додатна сред.'!H368+Projekat!H368+Sheet2!H368","v":0},{"$f":"+Programska_aktivnost!I368+Sheet1!I368+'Захтев за додатна сред.'!I368+Projekat!I368+Sheet2!I368","v":0},{"$f":"+Programska_aktivnost!J368+Sheet1!J368+'Захтев за додатна сред.'!J368+Projekat!J368+Sheet2!J368","v":0},{"$f":"+Programska_aktivnost!K368+Sheet1!K368+'Захтев за додатна сред.'!K368+Projekat!K368+Sheet2!K368","v":0},{"$f":"+Programska_aktivnost!L368+Sheet1!L368+'Захтев за додатна сред.'!L368+Projekat!L368+Sheet2!L368","v":0},{"$f":"+Programska_aktivnost!M368+Sheet1!M368+'Захтев за додатна сред.'!M368+Projekat!M368+Sheet2!M368","v":0},0,0,null,null,null,null,null,null,null,null,null,0]
[322,512400,"Опрема за заштиту животне средине",{"$f":"+Programska_aktivnost!D369+Sheet1!D369+'Захтев за додатна сред.'!D369+Projekat!D369+Sheet2!D369","v":0},{"$f":"+Programska_aktivnost!E369+Sheet1!E369+'Захтев за додатна сред.'!E369+Projekat!E369+Sheet2!E369","v":0},{"$f":"+Programska_aktivnost!F369+Sheet1!F369+'Захтев за додатна сред.'!F369+Projekat!F369+Sheet2!F369","v":0},{"$f":"+Programska_aktivnost!G369+Sheet1!G369+'Захтев за додатна сред.'!G369+Projekat!G369+Sheet2!G369","v":0},{"$f":"+Programska_aktivnost!H369+Sheet1!H369+'Захтев за додатна сред.'!H369+Projekat!H369+Sheet2!H369","v":0},{"$f":"+Programska_aktivnost!I369+Sheet1!I369+'Захтев за додатна сред.'!I369+Projekat!I369+Sheet2!I369","v":0},{"$f":"+Programska_aktivnost!J369+Sheet1!J369+'Захтев за додатна сред.'!J369+Projekat!J369+Sheet2!J369","v":0},{"$f":"+Programska_aktivnost!K369+Sheet1!K369+'Захтев за додатна сред.'!K369+Projekat!K369+Sheet2!K369","v":0},{"$f":"+Programska_aktivnost!L369+Sheet1!L369+'Захтев за додатна сред.'!L369+Projekat!L369+Sheet2!L369","v":0},{"$f":"+Programska_aktivnost!M369+Sheet1!M369+'Захтев за додатна сред.'!M369+Projekat!M369+Sheet2!M369","v":0},0,0,null,null,null,null,null,null,null,null,null,0]
[323,512500,"Медицинска и лабораторијска опрема",{"$f":"+Programska_aktivnost!D370+Sheet1!D370+'Захтев за додатна сред.'!D370+Projekat!D370+Sheet2!D370","v":0},{"$f":"+Programska_aktivnost!E370+Sheet1!E370+'Захтев за додатна сред.'!E370+Projekat!E370+Sheet2!E370","v":0},{"$f":"+Programska_aktivnost!F370+Sheet1!F370+'Захтев за додатна сред.'!F370+Projekat!F370+Sheet2!F370","v":0},{"$f":"+Programska_aktivnost!G370+Sheet1!G370+'Захтев за додатна сред.'!G370+Projekat!G370+Sheet2!G370","v":0},{"$f":"+Programska_aktivnost!H370+Sheet1!H370+'Захтев за додатна сред.'!H370+Projekat!H370+Sheet2!H370","v":0},{"$f":"+Programska_aktivnost!I370+Sheet1!I370+'Захтев за додатна сред.'!I370+Projekat!I370+Sheet2!I370","v":0},{"$f":"+Programska_aktivnost!J370+Sheet1!J370+'Захтев за додатна сред.'!J370+Projekat!J370+Sheet2!J370","v":0},{"$f":"+Programska_aktivnost!K370+Sheet1!K370+'Захтев за додатна сред.'!K370+Projekat!K370+Sheet2!K370","v":0},{"$f":"+Programska_aktivnost!L370+Sheet1!L370+'Захтев за додатна сред.'!L370+Projekat!L370+Sheet2!L370","v":0},{"$f":"+Programska_aktivnost!M370+Sheet1!M370+'Захтев за додатна сред.'!M370+Projekat!M370+Sheet2!M370","v":0},0,0,null,null,null,null,null,null,null,null,null,0]
[324,512600,"Опрема за образовање, културу и спорт",{"$f":"+Programska_aktivnost!D371+Sheet1!D371+'Захтев за додатна сред.'!D371+Projekat!D371+Sheet2!D371","v":0},{"$f":"+Programska_aktivnost!E371+Sheet1!E371+'Захтев за додатна сред.'!E371+Projekat!E371+Sheet2!E371","v":0},{"$f":"+Programska_aktivnost!F371+Sheet1!F371+'Захтев за додатна сред.'!F371+Projekat!F371+Sheet2!F371","v":0},{"$f":"+Programska_aktivnost!G371+Sheet1!G371+'Захтев за додатна сред.'!G371+Projekat!G371+Sheet2!G371","v":0},{"$f":"+Programska_aktivnost!H371+Sheet1!H371+'Захтев за додатна сред.'!H371+Projekat!H371+Sheet2!H371","v":0},{"$f":"+Programska_aktivnost!I371+Sheet1!I371+'Захтев за додатна сред.'!I371+Projekat!I371+Sheet2!I371","v":0},{"$f":"+Programska_aktivnost!J371+Sheet1!J371+'Захтев за додатна сред.'!J371+Projekat!J371+Sheet2!J371","v":0},{"$f":"+Programska_aktivnost!K371+Sheet1!K371+'Захтев за додатна сред.'!K371+Projekat!K371+Sheet2!K371","v":0},{"$f":"+Programska_aktivnost!L371+Sheet1!L371+'Захтев за додатна сред.'!L371+Projekat!L371+Sheet2!L371","v":0},{"$f":"+Programska_aktivnost!M371+Sheet1!M371+'Захтев за додатна сред.'!M371+Projekat!M371+Sheet2!M371","v":0},0,0,null,null,null,null,null,null,null,null,null,0]
[325,512700,"Опрема за војску",{"$f":"+Programska_aktivnost!D372+Sheet1!D372+'Захтев за додатна сред.'!D372+Projekat!D372+Sheet2!D372","v":0},{"$f":"+Programska_aktivnost!E372+Sheet1!E372+'Захтев за додатна сред.'!E372+Projekat!E372+Sheet2!E372","v":0},{"$f":"+Programska_aktivnost!F372+Sheet1!F372+'Захтев за додатна сред.'!F372+Projekat!F372+Sheet2!F372","v":0},{"$f":"+Programska_aktivnost!G372+Sheet1!G372+'Захтев за додатна сред.'!G372+Projekat!G372+Sheet2!G372","v":0},{"$f":"+Programska_aktivnost!H372+Sheet1!H372+'Захтев за додатна сред.'!H372+Projekat!H372+Sheet2!H372","v":0},{"$f":"+Programska_aktivnost!I372+Sheet1!I372+'Захтев за додатна сред.'!I372+Projekat!I372+Sheet2!I372","v":0},{"$f":"+Programska_aktivnost!J372+Sheet1!J372+'Захтев за додатна сред.'!J372+Projekat!J372+Sheet2!J372","v":0},{"$f":"+Programska_aktivnost!K372+Sheet1!K372+'Захтев за додатна сред.'!K372+Projekat!K372+Sheet2!K372","v":0},{"$f":"+Programska_aktivnost!L372+Sheet1!L372+'Захтев за додатна сред.'!L372+Projekat!L372+Sheet2!L372","v":0},{"$f":"+Programska_aktivnost!M372+Sheet1!M372+'Захтев за додатна сред.'!M372+Projekat!M372+Sheet2!M372","v":0},0,0,null,null,null,null,null,null,null,null,null,0]
[326,512800,"Опрема за јавну безбедност",{"$f":"+Programska_aktivnost!D373+Sheet1!D373+'Захтев за додатна сред.'!D373+Projekat!D373+Sheet2!D373","v":0},{"$f":"+Programska_aktivnost!E373+Sheet1!E373+'Захтев за додатна сред.'!E373+Projekat!E373+Sheet2!E373","v":0},{"$f":"+Programska_aktivnost!F373+Sheet1!F373+'Захтев за додатна сред.'!F373+Projekat!F373+Sheet2!F373","v":0},{"$f":"+Programska_aktivnost!G373+Sheet1!G373+'Захтев за додатна сред.'!G373+Projekat!G373+Sheet2!G373","v":0},{"$f":"+Programska_aktivnost!H373+Sheet1!H373+'Захтев за додатна сред.'!H373+Projekat!H373+Sheet2!H373","v":2400000},{"$f":"+Programska_aktivnost!I373+Sheet1!I373+'Захтев за додатна сред.'!I373+Projekat!I373+Sheet2!I373","v":0},{"$f":"+Programska_aktivnost!J373+Sheet1!J373+'Захтев за додатна сред.'!J373+Projekat!J373+Sheet2!J373","v":0},{"$f":"+Programska_aktivnost!K373+Sheet1!K373+'Захтев за додатна сред.'!K373+Projekat!K373+Sheet2!K373","v":0},{"$f":"+Programska_aktivnost!L373+Sheet1!L373+'Захтев за додатна сред.'!L373+Projekat!L373+Sheet2!L373","v":0},{"$f":"+Programska_aktivnost!M373+Sheet1!M373+'Захтев за додатна сред.'!M373+Projekat!M373+Sheet2!M373","v":0},2400000,0,null,null,null,null,null,null,null,null,null,4800000]
[327,512900,"Опрема за производњу, моторна, непокретна и немоторна опрема",{"$f":"+Programska_aktivnost!D374+Sheet1!D374+'Захтев за додатна сред.'!D374+Projekat!D374+Sheet2!D374","v":0},{"$f":"+Programska_aktivnost!E374+Sheet1!E374+'Захтев за додатна сред.'!E374+Projekat!E374+Sheet2!E374","v":0},{"$f":"+Programska_aktivnost!F374+Sheet1!F374+'Захтев за додатна сред.'!F374+Projekat!F374+Sheet2!F374","v":0},{"$f":"+Programska_aktivnost!G374+Sheet1!G374+'Захтев за додатна сред.'!G374+Projekat!G374+Sheet2!G374","v":0},{"$f":"+Programska_aktivnost!H374+Sheet1!H374+'Захтев за додатна сред.'!H374+Projekat!H374+Sheet2!H374","v":0},{"$f":"+Programska_aktivnost!I374+Sheet1!I374+'Захтев за додатна сред.'!I374+Projekat!I374+Sheet2!I374","v":0},{"$f":"+Programska_aktivnost!J374+Sheet1!J374+'Захтев за додатна сред.'!J374+Projekat!J374+Sheet2!J374","v":0},{"$f":"+Programska_aktivnost!K374+Sheet1!K374+'Захтев за додатна сред.'!K374+Projekat!K374+Sheet2!K374","v":0},{"$f":"+Programska_aktivnost!L374+Sheet1!L374+'Захтев за додатна сред.'!L374+Projekat!L374+Sheet2!L374","v":0},{"$f":"+Programska_aktivnost!M374+Sheet1!M374+'Захтев за додатна сред.'!M374+Projekat!M374+Sheet2!M374","v":0},0,0,null,null,null,null,null,null,null,null,null,0]
[328,513000,"ОСТАЛЕ НЕКРЕТНИНЕ И ОПРЕМА (329)",{"$f":"+Programska_aktivnost!D375+Sheet1!D375+'Захтев за додатна сред.'!D375+Projekat!D375+Sheet2!D375","v":0},{"$f":"+Programska_aktivnost!E375+Sheet1!E375+'Захтев за додатна сред.'!E375+Projekat!E375+Sheet2!E375","v":0},{"$f":"+Programska_aktivnost!F375+Sheet1!F375+'Захтев за додатна сред.'!F375+Projekat!F375+Sheet2!F375","v":0},{"$f":"+Programska_aktivnost!G375+Sheet1!G375+'Захтев за додатна сред.'!G375+Projekat!G375+Sheet2!G375","v":0},{"$f":"+Programska_aktivnost!H375+Sheet1!H375+'Захтев за додатна сред.'!H375+Projekat!H375+Sheet2!H375","v":0},{"$f":"+Programska_aktivnost!I375+Sheet1!I375+'Захтев за додатна сред.'!I375+Projekat!I375+Sheet2!I375","v":0},{"$f":"+Programska_aktivnost!J375+Sheet1!J375+'Захтев за додатна сред.'!J375+Projekat!J375+Sheet2!J375","v":0},{"$f":"+Programska_aktivnost!K375+Sheet1!K375+'Захтев за додатна сред.'!K375+Projekat!K375+Sheet2!K375","v":0},{"$f":"+Programska_aktivnost!L375+Sheet1!L375+'Захтев за додатна сред.'!L375+Projekat!L375+Sheet2!L375","v":0},{"$f":"+Programska_aktivnost!M375+Sheet1!M375+'Захтев за додатна сред.'!M375+Projekat!M375+Sheet2!M375","v":0},0,0,null,null,null,null,null,null,null,null,null,0]
[{"$f":"A375+1","v":329},513100,"Остале некретнине и опрема",{"$f":"+Programska_aktivnost!D376+Sheet1!D376+'Захтев за додатна сред.'!D376+Projekat!D376+Sheet2!D376","v":0},{"$f":"+Programska_aktivnost!E376+Sheet1!E376+'Захтев за додатна сред.'!E376+Projekat!E376+Sheet2!E376","v":0},{"$f":"+Programska_aktivnost!F376+Sheet1!F376+'Захтев за додатна сред.'!F376+Projekat!F376+Sheet2!F376","v":0},{"$f":"+Programska_aktivnost!G376+Sheet1!G376+'Захтев за додатна сред.'!G376+Projekat!G376+Sheet2!G376","v":0},{"$f":"+Programska_aktivnost!H376+Sheet1!H376+'Захтев за додатна сред.'!H376+Projekat!H376+Sheet2!H376","v":0},{"$f":"+Programska_aktivnost!I376+Sheet1!I376+'Захтев за додатна сред.'!I376+Projekat!I376+Sheet2!I376","v":0},{"$f":"+Programska_aktivnost!J376+Sheet1!J376+'Захтев за додатна сред.'!J376+Projekat!J376+Sheet2!J376","v":0},{"$f":"+Programska_aktivnost!K376+Sheet1!K376+'Захтев за додатна сред.'!K376+Projekat!K376+Sheet2!K376","v":0},{"$f":"+Programska_aktivnost!L376+Sheet1!L376+'Захтев за додатна сред.'!L376+Projekat!L376+Sheet2!L376","v":0},{"$f":"+Programska_aktivnost!M376+Sheet1!M376+'Захтев за додатна сред.'!M376+Projekat!M376+Sheet2!M376","v":0},0,0,null,null,null,null,null,null,null,null,null,{"$f":"SUM(D376:O376)","v":0}]
[330,514000,"КУЛТИВИСАНА ИМОВИНА (331)",{"$f":"+Programska_aktivnost!D377+Sheet1!D377+'Захтев за додатна сред.'!D377+Projekat!D377+Sheet2!D377","v":0},{"$f":"+Programska_aktivnost!E377+Sheet1!E377+'Захтев за додатна сред.'!E377+Projekat!E377+Sheet2!E377","v":0},{"$f":"+Programska_aktivnost!F377+Sheet1!F377+'Захтев за додатна сред.'!F377+Projekat!F377+Sheet2!F377","v":0},{"$f":"+Programska_aktivnost!G377+Sheet1!G377+'Захтев за додатна сред.'!G377+Projekat!G377+Sheet2!G377","v":0},{"$f":"+Programska_aktivnost!H377+Sheet1!H377+'Захтев за додатна сред.'!H377+Projekat!H377+Sheet2!H377","v":0},{"$f":"+Programska_aktivnost!I377+Sheet1!I377+'Захтев за додатна сред.'!I377+Projekat!I377+Sheet2!I377","v":0},{"$f":"+Programska_aktivnost!J377+Sheet1!J377+'Захтев за додатна сред.'!J377+Projekat!J377+Sheet2!J377","v":0},{"$f":"+Programska_aktivnost!K377+Sheet1!K377+'Захтев за додатна сред.'!K377+Projekat!K377+Sheet2!K377","v":0},{"$f":"+Programska_aktivnost!L377+Sheet1!L377+'Захтев за додатна сред.'!L377+Projekat!L377+Sheet2!L377","v":0},{"$f":"+Programska_aktivnost!M377+Sheet1!M377+'Захтев за додатна сред.'!M377+Projekat!M377+Sheet2!M377","v":0},0,0,null,null,null,null,null,null,null,null,null,0]
[331,514100,"Култивисана имовина",{"$f":"+Programska_aktivnost!D378+Sheet1!D378+'Захтев за додатна сред.'!D378+Projekat!D378+Sheet2!D378","v":0},{"$f":"+Programska_aktivnost!E378+Sheet1!E378+'Захтев за додатна сред.'!E378+Projekat!E378+Sheet2!E378","v":0},{"$f":"+Programska_aktivnost!F378+Sheet1!F378+'Захтев за додатна сред.'!F378+Projekat!F378+Sheet2!F378","v":0},{"$f":"+Programska_aktivnost!G378+Sheet1!G378+'Захтев за додатна сред.'!G378+Projekat!G378+Sheet2!G378","v":0},{"$f":"+Programska_aktivnost!H378+Sheet1!H378+'Захтев за додатна сред.'!H378+Projekat!H378+Sheet2!H378","v":0},{"$f":"+Programska_aktivnost!I378+Sheet1!I378+'Захтев за додатна сред.'!I378+Projekat!I378+Sheet2!I378","v":0},{"$f":"+Programska_aktivnost!J378+Sheet1!J378+'Захтев за додатна сред.'!J378+Projekat!J378+Sheet2!J378","v":0},{"$f":"+Programska_aktivnost!K378+Sheet1!K378+'Захтев за додатна сред.'!K378+Projekat!K378+Sheet2!K378","v":0},{"$f":"+Programska_aktivnost!L378+Sheet1!L378+'Захтев за додатна сред.'!L378+Projekat!L378+Sheet2!L378","v":0},{"$f":"+Programska_aktivnost!M378+Sheet1!M378+'Захтев за додатна сред.'!M378+Projekat!M378+Sheet2!M378","v":0},0,0,null,null,null,null,null,null,null,null,null,0]
[332,515000,"НЕМАТЕРИЈАЛНА ИМОВИНА (333)",{"$f":"+Programska_aktivnost!D379+Sheet1!D379+'Захтев за додатна сред.'!D379+Projekat!D379+Sheet2!D379","v":0},{"$f":"+Programska_aktivnost!E379+Sheet1!E379+'Захтев за додатна сред.'!E379+Projekat!E379+Sheet2!E379","v":0},{"$f":"+Programska_aktivnost!F379+Sheet1!F379+'Захтев за додатна сред.'!F379+Projekat!F379+Sheet2!F379","v":0},{"$f":"+Programska_aktivnost!G379+Sheet1!G379+'Захтев за додатна сред.'!G379+Projekat!G379+Sheet2!G379","v":0},{"$f":"+Programska_aktivnost!H379+Sheet1!H379+'Захтев за додатна сред.'!H379+Projekat!H379+Sheet2!H379","v":0},{"$f":"+Programska_aktivnost!I379+Sheet1!I379+'Захтев за додатна сред.'!I379+Projekat!I379+Sheet2!I379","v":0},{"$f":"+Programska_aktivnost!J379+Sheet1!J379+'Захтев за додатна сред.'!J379+Projekat!J379+Sheet2!J379","v":0},{"$f":"+Programska_aktivnost!K379+Sheet1!K379+'Захтев за додатна сред.'!K379+Projekat!K379+Sheet2!K379","v":0},{"$f":"+Programska_aktivnost!L379+Sheet1!L379+'Захтев за додатна сред.'!L379+Projekat!L379+Sheet2!L379","v":0},{"$f":"+Programska_aktivnost!M379+Sheet1!M379+'Захтев за додатна сред.'!M379+Projekat!M379+Sheet2!M379","v":0},0,0,null,null,null,null,null,null,null,null,null,0]
[333,515100,"Нематеријална имовина",{"$f":"+Programska_aktivnost!D380+Sheet1!D380+'Захтев за додатна сред.'!D380+Projekat!D380+Sheet2!D380","v":0},{"$f":"+Programska_aktivnost!E380+Sheet1!E380+'Захтев за додатна сред.'!E380+Projekat!E380+Sheet2!E380","v":0},{"$f":"+Programska_aktivnost!F380+Sheet1!F380+'Захтев за додатна сред.'!F380+Projekat!F380+Sheet2!F380","v":0},{"$f":"+Programska_aktivnost!G380+Sheet1!G380+'Захтев за додатна сред.'!G380+Projekat!G380+Sheet2!G380","v":0},{"$f":"+Programska_aktivnost!H380+Sheet1!H380+'Захтев за додатна сред.'!H380+Projekat!H380+Sheet2!H380","v":0},{"$f":"+Programska_aktivnost!I380+Sheet1!I380+'Захтев за додатна сред.'!I380+Projekat!I380+Sheet2!I380","v":0},{"$f":"+Programska_aktivnost!J380+Sheet1!J380+'Захтев за додатна сред.'!J380+Projekat!J380+Sheet2!J380","v":0},{"$f":"+Programska_aktivnost!K380+Sheet1!K380+'Захтев за додатна сред.'!K380+Projekat!K380+Sheet2!K380","v":0},{"$f":"+Programska_aktivnost!L380+Sheet1!L380+'Захтев за додатна сред.'!L380+Projekat!L380+Sheet2!L380","v":0},{"$f":"+Programska_aktivnost!M380+Sheet1!M380+'Захтев за додатна сред.'!M380+Projekat!M380+Sheet2!M380","v":0},0,0,null,null,null,null,null,null,null,null,null,0]
[334,520000,"ЗАЛИХЕ (335 + 337 + 341)",{"$f":"+Programska_aktivnost!D381+Sheet1!D381+'Захтев за додатна сред.'!D381+Projekat!D381+Sheet2!D381","v":0},{"$f":"+Programska_aktivnost!E381+Sheet1!E381+'Захтев за додатна сред.'!E381+Projekat!E381+Sheet2!E381","v":0},{"$f":"+Programska_aktivnost!F381+Sheet1!F381+'Захтев за додатна сред.'!F381+Projekat!F381+Sheet2!F381","v":0},{"$f":"+Programska_aktivnost!G381+Sheet1!G381+'Захтев за додатна сред.'!G381+Projekat!G381+Sheet2!G381","v":0},{"$f":"+Programska_aktivnost!H381+Sheet1!H381+'Захтев за додатна сред.'!H381+Projekat!H381+Sheet2!H381","v":0},{"$f":"+Programska_aktivnost!I381+Sheet1!I381+'Захтев за додатна сред.'!I381+Projekat!I381+Sheet2!I381","v":0},{"$f":"+Programska_aktivnost!J381+Sheet1!J381+'Захтев за додатна сред.'!J381+Projekat!J381+Sheet2!J381","v":0},{"$f":"+Programska_aktivnost!K381+Sheet1!K381+'Захтев за додатна сред.'!K381+Projekat!K381+Sheet2!K381","v":0},{"$f":"+Programska_aktivnost!L381+Sheet1!L381+'Захтев за додатна сред.'!L381+Projekat!L381+Sheet2!L381","v":0},{"$f":"+Programska_aktivnost!M381+Sheet1!M381+'Захтев за додатна сред.'!M381+Projekat!M381+Sheet2!M381","v":0},0,0,null,null,null,null,null,null,null,null,null,0]
[335,521000,"РОБНЕ РЕЗЕРВЕ (336)",{"$f":"+Programska_aktivnost!D382+Sheet1!D382+'Захтев за додатна сред.'!D382+Projekat!D382+Sheet2!D382","v":0},{"$f":"+Programska_aktivnost!E382+Sheet1!E382+'Захтев за додатна сред.'!E382+Projekat!E382+Sheet2!E382","v":0},{"$f":"+Programska_aktivnost!F382+Sheet1!F382+'Захтев за додатна сред.'!F382+Projekat!F382+Sheet2!F382","v":0},{"$f":"+Programska_aktivnost!G382+Sheet1!G382+'Захтев за додатна сред.'!G382+Projekat!G382+Sheet2!G382","v":0},{"$f":"+Programska_aktivnost!H382+Sheet1!H382+'Захтев за додатна сред.'!H382+Projekat!H382+Sheet2!H382","v":0},{"$f":"+Programska_aktivnost!I382+Sheet1!I382+'Захтев за додатна сред.'!I382+Projekat!I382+Sheet2!I382","v":0},{"$f":"+Programska_aktivnost!J382+Sheet1!J382+'Захтев за додатна сред.'!J382+Projekat!J382+Sheet2!J382","v":0},{"$f":"+Programska_aktivnost!K382+Sheet1!K382+'Захтев за додатна сред.'!K382+Projekat!K382+Sheet2!K382","v":0},{"$f":"+Programska_aktivnost!L382+Sheet1!L382+'Захтев за додатна сред.'!L382+Projekat!L382+Sheet2!L382","v":0},{"$f":"+Programska_aktivnost!M382+Sheet1!M382+'Захтев за додатна сред.'!M382+Projekat!M382+Sheet2!M382","v":0},0,0,null,null,null,null,null,null,null,null,null,0]
[336,521100,"Робне резерве",{"$f":"+Programska_aktivnost!D383+Sheet1!D383+'Захтев за додатна сред.'!D383+Projekat!D383+Sheet2!D383","v":0},{"$f":"+Programska_aktivnost!E383+Sheet1!E383+'Захтев за додатна сред.'!E383+Projekat!E383+Sheet2!E383","v":0},{"$f":"+Programska_aktivnost!F383+Sheet1!F383+'Захтев за додатна сред.'!F383+Projekat!F383+Sheet2!F383","v":0},{"$f":"+Programska_aktivnost!G383+Sheet1!G383+'Захтев за додатна сред.'!G383+Projekat!G383+Sheet2!G383","v":0},{"$f":"+Programska_aktivnost!H383+Sheet1!H383+'Захтев за додатна сред.'!H383+Projekat!H383+Sheet2!H383","v":0},{"$f":"+Programska_aktivnost!I383+Sheet1!I383+'Захтев за додатна сред.'!I383+Projekat!I383+Sheet2!I383","v":0},{"$f":"+Programska_aktivnost!J383+Sheet1!J383+'Захтев за додатна сред.'!J383+Projekat!J383+Sheet2!J383","v":0},{"$f":"+Programska_aktivnost!K383+Sheet1!K383+'Захтев за додатна сред.'!K383+Projekat!K383+Sheet2!K383","v":0},{"$f":"+Programska_aktivnost!L383+Sheet1!L383+'Захтев за додатна сред.'!L383+Projekat!L383+Sheet2!L383","v":0},{"$f":"+Programska_aktivnost!M383+Sheet1!M383+'Захтев за додатна сред.'!M383+Projekat!M383+Sheet2!M383","v":0},0,0,null,null,null,null,null,null,null,null,null,0]
[337,522000,"ЗАЛИХЕ ПРОИЗВОДЊЕ (од 338 до 340)",{"$f":"+Programska_aktivnost!D384+Sheet1!D384+'Захтев за додатна сред.'!D384+Projekat!D384+Sheet2!D384","v":0},{"$f":"+Programska_aktivnost!E384+Sheet1!E384+'Захтев за додатна сред.'!E384+Projekat!E384+Sheet2!E384","v":0},{"$f":"+Programska_aktivnost!F384+Sheet1!F384+'Захтев за додатна сред.'!F384+Projekat!F384+Sheet2!F384","v":0},{"$f":"+Programska_aktivnost!G384+Sheet1!G384+'Захтев за додатна сред.'!G384+Projekat!G384+Sheet2!G384","v":0},{"$f":"+Programska_aktivnost!H384+Sheet1!H384+'Захтев за додатна сред.'!H384+Projekat!H384+Sheet2!H384","v":0},{"$f":"+Programska_aktivnost!I384+Sheet1!I384+'Захтев за додатна сред.'!I384+Projekat!I384+Sheet2!I384","v":0},{"$f":"+Programska_aktivnost!J384+Sheet1!J384+'Захтев за додатна сред.'!J384+Projekat!J384+Sheet2!J384","v":0},{"$f":"+Programska_aktivnost!K384+Sheet1!K384+'Захтев за додатна сред.'!K384+Projekat!K384+Sheet2!K384","v":0},{"$f":"+Programska_aktivnost!L384+Sheet1!L384+'Захтев за додатна сред.'!L384+Projekat!L384+Sheet2!L384","v":0},{"$f":"+Programska_aktivnost!M384+Sheet1!M384+'Захтев за додатна сред.'!M384+Projekat!M384+Sheet2!M384","v":0},0,0,null,null,null,null,null,null,null,null,null,0]
[338,522100,"Залихе материјала",{"$f":"+Programska_aktivnost!D385+Sheet1!D385+'Захтев за додатна сред.'!D385+Projekat!D385+Sheet2!D385","v":0},{"$f":"+Programska_aktivnost!E385+Sheet1!E385+'Захтев за додатна сред.'!E385+Projekat!E385+Sheet2!E385","v":0},{"$f":"+Programska_aktivnost!F385+Sheet1!F385+'Захтев за додатна сред.'!F385+Projekat!F385+Sheet2!F385","v":0},{"$f":"+Programska_aktivnost!G385+Sheet1!G385+'Захтев за додатна сред.'!G385+Projekat!G385+Sheet2!G385","v":0},{"$f":"+Programska_aktivnost!H385+Sheet1!H385+'Захтев за додатна сред.'!H385+Projekat!H385+Sheet2!H385","v":0},{"$f":"+Programska_aktivnost!I385+Sheet1!I385+'Захтев за додатна сред.'!I385+Projekat!I385+Sheet2!I385","v":0},{"$f":"+Programska_aktivnost!J385+Sheet1!J385+'Захтев за додатна сред.'!J385+Projekat!J385+Sheet2!J385","v":0},{"$f":"+Programska_aktivnost!K385+Sheet1!K385+'Захтев за додатна сред.'!K385+Projekat!K385+Sheet2!K385","v":0},{"$f":"+Programska_aktivnost!L385+Sheet1!L385+'Захтев за додатна сред.'!L385+Projekat!L385+Sheet2!L385","v":0},{"$f":"+Programska_aktivnost!M385+Sheet1!M385+'Захтев за додатна сред.'!M385+Projekat!M385+Sheet2!M385","v":0},0,0,null,null,null,null,null,null,null,null,null,0]
[339,522200,"Залихе недовршене производње",{"$f":"+Programska_aktivnost!D386+Sheet1!D386+'Захтев за додатна сред.'!D386+Projekat!D386+Sheet2!D386","v":0},{"$f":"+Programska_aktivnost!E386+Sheet1!E386+'Захтев за додатна сред.'!E386+Projekat!E386+Sheet2!E386","v":0},{"$f":"+Programska_aktivnost!F386+Sheet1!F386+'Захтев за додатна сред.'!F386+Projekat!F386+Sheet2!F386","v":0},{"$f":"+Programska_aktivnost!G386+Sheet1!G386+'Захтев за додатна сред.'!G386+Projekat!G386+Sheet2!G386","v":0},{"$f":"+Programska_aktivnost!H386+Sheet1!H386+'Захтев за додатна сред.'!H386+Projekat!H386+Sheet2!H386","v":0},{"$f":"+Programska_aktivnost!I386+Sheet1!I386+'Захтев за додатна сред.'!I386+Projekat!I386+Sheet2!I386","v":0},{"$f":"+Programska_aktivnost!J386+Sheet1!J386+'Захтев за додатна сред.'!J386+Projekat!J386+Sheet2!J386","v":0},{"$f":"+Programska_aktivnost!K386+Sheet1!K386+'Захтев за додатна сред.'!K386+Projekat!K386+Sheet2!K386","v":0},{"$f":"+Programska_aktivnost!L386+Sheet1!L386+'Захтев за додатна сред.'!L386+Projekat!L386+Sheet2!L386","v":0},{"$f":"+Programska_aktivnost!M386+Sheet1!M386+'Захтев за додатна сред.'!M386+Projekat!M386+Sheet2!M386","v":0},0,0,null,null,null,null,null,null,null,null,null,0]
[340,522300,"Залихе готових производа",{"$f":"+Programska_aktivnost!D387+Sheet1!D387+'Захтев за додатна сред.'!D387+Projekat!D387+Sheet2!D387","v":0},{"$f":"+Programska_aktivnost!E387+Sheet1!E387+'Захтев за додатна сред.'!E387+Projekat!E387+Sheet2!E387","v":0},{"$f":"+Programska_aktivnost!F387+Sheet1!F387+'Захтев за додатна сред.'!F387+Projekat!F387+Sheet2!F387","v":0},{"$f":"+Programska_aktivnost!G387+Sheet1!G387+'Захтев за додатна сред.'!G387+Projekat!G387+Sheet2!G387","v":0},{"$f":"+Programska_aktivnost!H387+Sheet1!H387+'Захтев за додатна сред.'!H387+Projekat!H387+Sheet2!H387","v":0},{"$f":"+Programska_aktivnost!I387+Sheet1!I387+'Захтев за додатна сред.'!I387+Projekat!I387+Sheet2!I387","v":0},{"$f":"+Programska_aktivnost!J387+Sheet1!J387+'Захтев за додатна сред.'!J387+Projekat!J387+Sheet2!J387","v":0},{"$f":"+Programska_aktivnost!K387+Sheet1!K387+'Захтев за додатна сред.'!K387+Projekat!K387+Sheet2!K387","v":0},{"$f":"+Programska_aktivnost!L387+Sheet1!L387+'Захтев за додатна сред.'!L387+Projekat!L387+Sheet2!L387","v":0},{"$f":"+Programska_aktivnost!M387+Sheet1!M387+'Захтев за додатна сред.'!M387+Projekat!M387+Sheet2!M387","v":0},0,0,null,null,null,null,null,null,null,null,null,0]
[341,523000,"ЗАЛИХЕ РОБЕ ЗА ДАЉУ ПРОДАЈУ (342)",{"$f":"+Programska_aktivnost!D388+Sheet1!D388+'Захтев за додатна сред.'!D388+Projekat!D388+Sheet2!D388","v":0},{"$f":"+Programska_aktivnost!E388+Sheet1!E388+'Захтев за додатна сред.'!E388+Projekat!E388+Sheet2!E388","v":0},{"$f":"+Programska_aktivnost!F388+Sheet1!F388+'Захтев за додатна сред.'!F388+Projekat!F388+Sheet2!F388","v":0},{"$f":"+Programska_aktivnost!G388+Sheet1!G388+'Захтев за додатна сред.'!G388+Projekat!G388+Sheet2!G388","v":0},{"$f":"+Programska_aktivnost!H388+Sheet1!H388+'Захтев за додатна сред.'!H388+Projekat!H388+Sheet2!H388","v":0},{"$f":"+Programska_aktivnost!I388+Sheet1!I388+'Захтев за додатна сред.'!I388+Projekat!I388+Sheet2!I388","v":0},{"$f":"+Programska_aktivnost!J388+Sheet1!J388+'Захтев за додатна сред.'!J388+Projekat!J388+Sheet2!J388","v":0},{"$f":"+Programska_aktivnost!K388+Sheet1!K388+'Захтев за додатна сред.'!K388+Projekat!K388+Sheet2!K388","v":0},{"$f":"+Programska_aktivnost!L388+Sheet1!L388+'Захтев за додатна сред.'!L388+Projekat!L388+Sheet2!L388","v":0},{"$f":"+Programska_aktivnost!M388+Sheet1!M388+'Захтев за додатна сред.'!M388+Projekat!M388+Sheet2!M388","v":0},0,0,null,null,null,null,null,null,null,null,null,0]
[342,523100,"Залихе робе за даљу продају",{"$f":"+Programska_aktivnost!D389+Sheet1!D389+'Захтев за додатна сред.'!D389+Projekat!D389+Sheet2!D389","v":0},{"$f":"+Programska_aktivnost!E389+Sheet1!E389+'Захтев за додатна сред.'!E389+Projekat!E389+Sheet2!E389","v":0},{"$f":"+Programska_aktivnost!F389+Sheet1!F389+'Захтев за додатна сред.'!F389+Projekat!F389+Sheet2!F389","v":0},{"$f":"+Programska_aktivnost!G389+Sheet1!G389+'Захтев за додатна сред.'!G389+Projekat!G389+Sheet2!G389","v":0},{"$f":"+Programska_aktivnost!H389+Sheet1!H389+'Захтев за додатна сред.'!H389+Projekat!H389+Sheet2!H389","v":0},{"$f":"+Programska_aktivnost!I389+Sheet1!I389+'Захтев за додатна сред.'!I389+Projekat!I389+Sheet2!I389","v":0},{"$f":"+Programska_aktivnost!J389+Sheet1!J389+'Захтев за додатна сред.'!J389+Projekat!J389+Sheet2!J389","v":0},{"$f":"+Programska_aktivnost!K389+Sheet1!K389+'Захтев за додатна сред.'!K389+Projekat!K389+Sheet2!K389","v":0},{"$f":"+Programska_aktivnost!L389+Sheet1!L389+'Захтев за додатна сред.'!L389+Projekat!L389+Sheet2!L389","v":0},{"$f":"+Programska_aktivnost!M389+Sheet1!M389+'Захтев за додатна сред.'!M389+Projekat!M389+Sheet2!M389","v":0},0,0,null,null,null,null,null,null,null,null,null,0]
[343,530000,"ДРАГОЦЕНОСТИ (344)",{"$f":"+Programska_aktivnost!D390+Sheet1!D390+'Захтев за додатна сред.'!D390+Projekat!D390+Sheet2!D390","v":0},{"$f":"+Programska_aktivnost!E390+Sheet1!E390+'Захтев за додатна сред.'!E390+Projekat!E390+Sheet2!E390","v":0},{"$f":"+Programska_aktivnost!F390+Sheet1!F390+'Захтев за додатна сред.'!F390+Projekat!F390+Sheet2!F390","v":0},{"$f":"+Programska_aktivnost!G390+Sheet1!G390+'Захтев за додатна сред.'!G390+Projekat!G390+Sheet2!G390","v":0},{"$f":"+Programska_aktivnost!H390+Sheet1!H390+'Захтев за додатна сред.'!H390+Projekat!H390+Sheet2!H390","v":0},{"$f":"+Programska_aktivnost!I390+Sheet1!I390+'Захтев за додатна сред.'!I390+Projekat!I390+Sheet2!I390","v":0},{"$f":"+Programska_aktivnost!J390+Sheet1!J390+'Захтев за додатна сред.'!J390+Projekat!J390+Sheet2!J390","v":0},{"$f":"+Programska_aktivnost!K390+Sheet1!K390+'Захтев за додатна сред.'!K390+Projekat!K390+Sheet2!K390","v":0},{"$f":"+Programska_aktivnost!L390+Sheet1!L390+'Захтев за додатна сред.'!L390+Projekat!L390+Sheet2!L390","v":0},{"$f":"+Programska_aktivnost!M390+Sheet1!M390+'Захтев за додатна сред.'!M390+Projekat!M390+Sheet2!M390","v":0},0,0,null,null,null,null,null,null,null,null,null,0]
[344,531000,"ДРАГОЦЕНОСТИ (345)",{"$f":"+Programska_aktivnost!D391+Sheet1!D391+'Захтев за додатна сред.'!D391+Projekat!D391+Sheet2!D391","v":0},{"$f":"+Programska_aktivnost!E391+Sheet1!E391+'Захтев за додатна сред.'!E391+Projekat!E391+Sheet2!E391","v":0},{"$f":"+Programska_aktivnost!F391+Sheet1!F391+'Захтев за додатна сред.'!F391+Projekat!F391+Sheet2!F391","v":0},{"$f":"+Programska_aktivnost!G391+Sheet1!G391+'Захтев за додатна сред.'!G391+Projekat!G391+Sheet2!G391","v":0},{"$f":"+Programska_aktivnost!H391+Sheet1!H391+'Захтев за додатна сред.'!H391+Projekat!H391+Sheet2!H391","v":0},{"$f":"+Programska_aktivnost!I391+Sheet1!I391+'Захтев за додатна сред.'!I391+Projekat!I391+Sheet2!I391","v":0},{"$f":"+Programska_aktivnost!J391+Sheet1!J391+'Захтев за додатна сред.'!J391+Projekat!J391+Sheet2!J391","v":0},{"$f":"+Programska_aktivnost!K391+Sheet1!K391+'Захтев за додатна сред.'!K391+Projekat!K391+Sheet2!K391","v":0},{"$f":"+Programska_aktivnost!L391+Sheet1!L391+'Захтев за додатна сред.'!L391+Projekat!L391+Sheet2!L391","v":0},{"$f":"+Programska_aktivnost!M391+Sheet1!M391+'Захтев за додатна сред.'!M391+Projekat!M391+Sheet2!M391","v":0},0,0,null,null,null,null,null,null,null,null,null,0]
[345,531100,"Драгоцености",{"$f":"+Programska_aktivnost!D392+Sheet1!D392+'Захтев за додатна сред.'!D392+Projekat!D392+Sheet2!D392","v":0},{"$f":"+Programska_aktivnost!E392+Sheet1!E392+'Захтев за додатна сред.'!E392+Projekat!E392+Sheet2!E392","v":0},{"$f":"+Programska_aktivnost!F392+Sheet1!F392+'Захтев за додатна сред.'!F392+Projekat!F392+Sheet2!F392","v":0},{"$f":"+Programska_aktivnost!G392+Sheet1!G392+'Захтев за додатна сред.'!G392+Projekat!G392+Sheet2!G392","v":0},{"$f":"+Programska_aktivnost!H392+Sheet1!H392+'Захтев за додатна сред.'!H392+Projekat!H392+Sheet2!H392","v":0},{"$f":"+Programska_aktivnost!I392+Sheet1!I392+'Захтев за додатна сред.'!I392+Projekat!I392+Sheet2!I392","v":0},{"$f":"+Programska_aktivnost!J392+Sheet1!J392+'Захтев за додатна сред.'!J392+Projekat!J392+Sheet2!J392","v":0},{"$f":"+Programska_aktivnost!K392+Sheet1!K392+'Захтев за додатна сред.'!K392+Projekat!K392+Sheet2!K392","v":0},{"$f":"+Programska_aktivnost!L392+Sheet1!L392+'Захтев за додатна сред.'!L392+Projekat!L392+Sheet2!L392","v":0},{"$f":"+Programska_aktivnost!M392+Sheet1!M392+'Захтев за додатна сред.'!M392+Projekat!M392+Sheet2!M392","v":0},0,0,null,null,null,null,null,null,null,null,null,0]
[346,540000,"ПРИРОДНА ИМОВИНА (347 + 349 + 351)",{"$f":"+Programska_aktivnost!D393+Sheet1!D393+'Захтев за додатна сред.'!D393+Projekat!D393+Sheet2!D393","v":0},{"$f":"+Programska_aktivnost!E393+Sheet1!E393+'Захтев за додатна сред.'!E393+Projekat!E393+Sheet2!E393","v":0},{"$f":"+Programska_aktivnost!F393+Sheet1!F393+'Захтев за додатна сред.'!F393+Projekat!F393+Sheet2!F393","v":0},{"$f":"+Programska_aktivnost!G393+Sheet1!G393+'Захтев за додатна сред.'!G393+Projekat!G393+Sheet2!G393","v":0},{"$f":"+Programska_aktivnost!H393+Sheet1!H393+'Захтев за додатна сред.'!H393+Projekat!H393+Sheet2!H393","v":0},{"$f":"+Programska_aktivnost!I393+Sheet1!I393+'Захтев за додатна сред.'!I393+Projekat!I393+Sheet2!I393","v":0},{"$f":"+Programska_aktivnost!J393+Sheet1!J393+'Захтев за додатна сред.'!J393+Projekat!J393+Sheet2!J393","v":0},{"$f":"+Programska_aktivnost!K393+Sheet1!K393+'Захтев за додатна сред.'!K393+Projekat!K393+Sheet2!K393","v":0},{"$f":"+Programska_aktivnost!L393+Sheet1!L393+'Захтев за додатна сред.'!L393+Projekat!L393+Sheet2!L393","v":0},{"$f":"+Programska_aktivnost!M393+Sheet1!M393+'Захтев за додатна сред.'!M393+Projekat!M393+Sheet2!M393","v":0},0,0,null,null,null,null,null,null,null,null,null,0]
[347,541000,"ЗЕМЉИШТЕ (348)",{"$f":"+Programska_aktivnost!D394+Sheet1!D394+'Захтев за додатна сред.'!D394+Projekat!D394+Sheet2!D394","v":0},{"$f":"+Programska_aktivnost!E394+Sheet1!E394+'Захтев за додатна сред.'!E394+Projekat!E394+Sheet2!E394","v":0},{"$f":"+Programska_aktivnost!F394+Sheet1!F394+'Захтев за додатна сред.'!F394+Projekat!F394+Sheet2!F394","v":0},{"$f":"+Programska_aktivnost!G394+Sheet1!G394+'Захтев за додатна сред.'!G394+Projekat!G394+Sheet2!G394","v":0},{"$f":"+Programska_aktivnost!H394+Sheet1!H394+'Захтев за додатна сред.'!H394+Projekat!H394+Sheet2!H394","v":0},{"$f":"+Programska_aktivnost!I394+Sheet1!I394+'Захтев за додатна сред.'!I394+Projekat!I394+Sheet2!I394","v":0},{"$f":"+Programska_aktivnost!J394+Sheet1!J394+'Захтев за додатна сред.'!J394+Projekat!J394+Sheet2!J394","v":0},{"$f":"+Programska_aktivnost!K394+Sheet1!K394+'Захтев за додатна сред.'!K394+Projekat!K394+Sheet2!K394","v":0},{"$f":"+Programska_aktivnost!L394+Sheet1!L394+'Захтев за додатна сред.'!L394+Projekat!L394+Sheet2!L394","v":0},{"$f":"+Programska_aktivnost!M394+Sheet1!M394+'Захтев за додатна сред.'!M394+Projekat!M394+Sheet2!M394","v":0},0,0,null,null,null,null,null,null,null,null,null,0]
[348,541100,"Земљиште",{"$f":"+Programska_aktivnost!D395+Sheet1!D395+'Захтев за додатна сред.'!D395+Projekat!D395+Sheet2!D395","v":0},{"$f":"+Programska_aktivnost!E395+Sheet1!E395+'Захтев за додатна сред.'!E395+Projekat!E395+Sheet2!E395","v":0},{"$f":"+Programska_aktivnost!F395+Sheet1!F395+'Захтев за додатна сред.'!F395+Projekat!F395+Sheet2!F395","v":0},{"$f":"+Programska_aktivnost!G395+Sheet1!G395+'Захтев за додатна сред.'!G395+Projekat!G395+Sheet2!G395","v":0},{"$f":"+Programska_aktivnost!H395+Sheet1!H395+'Захтев за додатна сред.'!H395+Projekat!H395+Sheet2!H395","v":0},{"$f":"+Programska_aktivnost!I395+Sheet1!I395+'Захтев за додатна сред.'!I395+Projekat!I395+Sheet2!I395","v":0},{"$f":"+Programska_aktivnost!J395+Sheet1!J395+'Захтев за додатна сред.'!J395+Projekat!J395+Sheet2!J395","v":0},{"$f":"+Programska_aktivnost!K395+Sheet1!K395+'Захтев за додатна сред.'!K395+Projekat!K395+Sheet2!K395","v":0},{"$f":"+Programska_aktivnost!L395+Sheet1!L395+'Захтев за додатна сред.'!L395+Projekat!L395+Sheet2!L395","v":0},{"$f":"+Programska_aktivnost!M395+Sheet1!M395+'Захтев за додатна сред.'!M395+Projekat!M395+Sheet2!M395","v":0},0,0,null,null,null,null,null,null,null,null,null,0]
[349,542000,"РУДНА БОГАТСТВА (350)",{"$f":"+Programska_aktivnost!D396+Sheet1!D396+'Захтев за додатна сред.'!D396+Projekat!D396+Sheet2!D396","v":0},{"$f":"+Programska_aktivnost!E396+Sheet1!E396+'Захтев за додатна сред.'!E396+Projekat!E396+Sheet2!E396","v":0},{"$f":"+Programska_aktivnost!F396+Sheet1!F396+'Захтев за додатна сред.'!F396+Projekat!F396+Sheet2!F396","v":0},{"$f":"+Programska_aktivnost!G396+Sheet1!G396+'Захтев за додатна сред.'!G396+Projekat!G396+Sheet2!G396","v":0},{"$f":"+Programska_aktivnost!H396+Sheet1!H396+'Захтев за додатна сред.'!H396+Projekat!H396+Sheet2!H396","v":0},{"$f":"+Programska_aktivnost!I396+Sheet1!I396+'Захтев за додатна сред.'!I396+Projekat!I396+Sheet2!I396","v":0},{"$f":"+Programska_aktivnost!J396+Sheet1!J396+'Захтев за додатна сред.'!J396+Projekat!J396+Sheet2!J396","v":0},{"$f":"+Programska_aktivnost!K396+Sheet1!K396+'Захтев за додатна сред.'!K396+Projekat!K396+Sheet2!K396","v":0},{"$f":"+Programska_aktivnost!L396+Sheet1!L396+'Захтев за додатна сред.'!L396+Projekat!L396+Sheet2!L396","v":0},{"$f":"+Programska_aktivnost!M396+Sheet1!M396+'Захтев за додатна сред.'!M396+Projekat!M396+Sheet2!M396","v":0},0,0,null,null,null,null,null,null,null,null,null,0]
[350,542100,"Копови",{"$f":"+Programska_aktivnost!D397+Sheet1!D397+'Захтев за додатна сред.'!D397+Projekat!D397+Sheet2!D397","v":0},{"$f":"+Programska_aktivnost!E397+Sheet1!E397+'Захтев за додатна сред.'!E397+Projekat!E397+Sheet2!E397","v":0},{"$f":"+Programska_aktivnost!F397+Sheet1!F397+'Захтев за додатна сред.'!F397+Projekat!F397+Sheet2!F397","v":0},{"$f":"+Programska_aktivnost!G397+Sheet1!G397+'Захтев за додатна сред.'!G397+Projekat!G397+Sheet2!G397","v":0},{"$f":"+Programska_aktivnost!H397+Sheet1!H397+'Захтев за додатна сред.'!H397+Projekat!H397+Sheet2!H397","v":0},{"$f":"+Programska_aktivnost!I397+Sheet1!I397+'Захтев за додатна сред.'!I397+Projekat!I397+Sheet2!I397","v":0},{"$f":"+Programska_aktivnost!J397+Sheet1!J397+'Захтев за додатна сред.'!J397+Projekat!J397+Sheet2!J397","v":0},{"$f":"+Programska_aktivnost!K397+Sheet1!K397+'Захтев за додатна сред.'!K397+Projekat!K397+Sheet2!K397","v":0},{"$f":"+Programska_aktivnost!L397+Sheet1!L397+'Захтев за додатна сред.'!L397+Projekat!L397+Sheet2!L397","v":0},{"$f":"+Programska_aktivnost!M397+Sheet1!M397+'Захтев за додатна сред.'!M397+Projekat!M397+Sheet2!M397","v":0},0,0,null,null,null,null,null,null,null,null,null,0]
[351,543000,"ШУМЕ И ВОДЕ (352 + 353)",{"$f":"+Programska_aktivnost!D398+Sheet1!D398+'Захтев за додатна сред.'!D398+Projekat!D398+Sheet2!D398","v":0},{"$f":"+Programska_aktivnost!E398+Sheet1!E398+'Захтев за додатна сред.'!E398+Projekat!E398+Sheet2!E398","v":0},{"$f":"+Programska_aktivnost!F398+Sheet1!F398+'Захтев за додатна сред.'!F398+Projekat!F398+Sheet2!F398","v":0},{"$f":"+Programska_aktivnost!G398+Sheet1!G398+'Захтев за додатна сред.'!G398+Projekat!G398+Sheet2!G398","v":0},{"$f":"+Programska_aktivnost!H398+Sheet1!H398+'Захтев за додатна сред.'!H398+Projekat!H398+Sheet2!H398","v":0},{"$f":"+Programska_aktivnost!I398+Sheet1!I398+'Захтев за додатна сред.'!I398+Projekat!I398+Sheet2!I398","v":0},{"$f":"+Programska_aktivnost!J398+Sheet1!J398+'Захтев за додатна сред.'!J398+Projekat!J398+Sheet2!J398","v":0},{"$f":"+Programska_aktivnost!K398+Sheet1!K398+'Захтев за додатна сред.'!K398+Projekat!K398+Sheet2!K398","v":0},{"$f":"+Programska_aktivnost!L398+Sheet1!L398+'Захтев за додатна сред.'!L398+Projekat!L398+Sheet2!L398","v":0},{"$f":"+Programska_aktivnost!M398+Sheet1!M398+'Захтев за додатна сред.'!M398+Projekat!M398+Sheet2!M398","v":0},0,0,null,null,null,null,null,null,null,null,null,0]
[352,543100,"Шуме",{"$f":"+Programska_aktivnost!D399+Sheet1!D399+'Захтев за додатна сред.'!D399+Projekat!D399+Sheet2!D399","v":0},{"$f":"+Programska_aktivnost!E399+Sheet1!E399+'Захтев за додатна сред.'!E399+Projekat!E399+Sheet2!E399","v":0},{"$f":"+Programska_aktivnost!F399+Sheet1!F399+'Захтев за додатна сред.'!F399+Projekat!F399+Sheet2!F399","v":0},{"$f":"+Programska_aktivnost!G399+Sheet1!G399+'Захтев за додатна сред.'!G399+Projekat!G399+Sheet2!G399","v":0},{"$f":"+Programska_aktivnost!H399+Sheet1!H399+'Захтев за додатна сред.'!H399+Projekat!H399+Sheet2!H399","v":0},{"$f":"+Programska_aktivnost!I399+Sheet1!I399+'Захтев за додатна сред.'!I399+Projekat!I399+Sheet2!I399","v":0},{"$f":"+Programska_aktivnost!J399+Sheet1!J399+'Захтев за додатна сред.'!J399+Projekat!J399+Sheet2!J399","v":0},{"$f":"+Programska_aktivnost!K399+Sheet1!K399+'Захтев за додатна сред.'!K399+Projekat!K399+Sheet2!K399","v":0},{"$f":"+Programska_aktivnost!L399+Sheet1!L399+'Захтев за додатна сред.'!L399+Projekat!L399+Sheet2!L399","v":0},{"$f":"+Programska_aktivnost!M399+Sheet1!M399+'Захтев за додатна сред.'!M399+Projekat!M399+Sheet2!M399","v":0},0,0,null,null,null,null,null,null,null,null,null,0]
[353,543200,"Воде",{"$f":"+Programska_aktivnost!D400+Sheet1!D400+'Захтев за додатна сред.'!D400+Projekat!D400+Sheet2!D400","v":0},{"$f":"+Programska_aktivnost!E400+Sheet1!E400+'Захтев за додатна сред.'!E400+Projekat!E400+Sheet2!E400","v":0},{"$f":"+Programska_aktivnost!F400+Sheet1!F400+'Захтев за додатна сред.'!F400+Projekat!F400+Sheet2!F400","v":0},{"$f":"+Programska_aktivnost!G400+Sheet1!G400+'Захтев за додатна сред.'!G400+Projekat!G400+Sheet2!G400","v":0},{"$f":"+Programska_aktivnost!H400+Sheet1!H400+'Захтев за додатна сред.'!H400+Projekat!H400+Sheet2!H400","v":0},{"$f":"+Programska_aktivnost!I400+Sheet1!I400+'Захтев за додатна сред.'!I400+Projekat!I400+Sheet2!I400","v":0},{"$f":"+Programska_aktivnost!J400+Sheet1!J400+'Захтев за додатна сред.'!J400+Projekat!J400+Sheet2!J400","v":0},{"$f":"+Programska_aktivnost!K400+Sheet1!K400+'Захтев за додатна сред.'!K400+Projekat!K400+Sheet2!K400","v":0},{"$f":"+Programska_aktivnost!L400+Sheet1!L400+'Захтев за додатна сред.'!L400+Projekat!L400+Sheet2!L400","v":0},{"$f":"+Programska_aktivnost!M400+Sheet1!M400+'Захтев за додатна сред.'!M400+Projekat!M400+Sheet2!M400","v":0},0,0,null,null,null,null,null,null,null,null,null,0]
[354,550000,"НЕФИНАНСИЈСКА ИМОВИНА КОЈА СЕ ФИНАНСИРА ИЗ СРЕДСТАВА ЗА РЕАЛИЗАЦИЈУ НАЦИОНАЛНОГ ИНВЕСТИЦИОНОГ ПЛАНА (355)",{"$f":"+Programska_aktivnost!D401+Sheet1!D401+'Захтев за додатна сред.'!D401+Projekat!D401+Sheet2!D401","v":0},{"$f":"+Programska_aktivnost!E401+Sheet1!E401+'Захтев за додатна сред.'!E401+Projekat!E401+Sheet2!E401","v":0},{"$f":"+Programska_aktivnost!F401+Sheet1!F401+'Захтев за додатна сред.'!F401+Projekat!F401+Sheet2!F401","v":0},{"$f":"+Programska_aktivnost!G401+Sheet1!G401+'Захтев за додатна сред.'!G401+Projekat!G401+Sheet2!G401","v":0},{"$f":"+Programska_aktivnost!H401+Sheet1!H401+'Захтев за додатна сред.'!H401+Projekat!H401+Sheet2!H401","v":0},{"$f":"+Programska_aktivnost!I401+Sheet1!I401+'Захтев за додатна сред.'!I401+Projekat!I401+Sheet2!I401","v":0},{"$f":"+Programska_aktivnost!J401+Sheet1!J401+'Захтев за додатна сред.'!J401+Projekat!J401+Sheet2!J401","v":0},{"$f":"+Programska_aktivnost!K401+Sheet1!K401+'Захтев за додатна сред.'!K401+Projekat!K401+Sheet2!K401","v":0},{"$f":"+Programska_aktivnost!L401+Sheet1!L401+'Захтев за додатна сред.'!L401+Projekat!L401+Sheet2!L401","v":0},{"$f":"+Programska_aktivnost!M401+Sheet1!M401+'Захтев за додатна сред.'!M401+Projekat!M401+Sheet2!M401","v":0},0,0,null,null,null,null,null,null,null,null,null,0]
[355,551000,"НЕФИНАНСИЈСКА ИМОВИНА КОЈА СЕ ФИНАНСИРА ИЗ СРЕДСТАВА ЗА РЕАЛИЗАЦИЈУ НАЦИОНАЛНОГ ИНВЕСТИЦИОНОГ ПЛАНА (356)",{"$f":"+Programska_aktivnost!D402+Sheet1!D402+'Захтев за додатна сред.'!D402+Projekat!D402+Sheet2!D402","v":0},{"$f":"+Programska_aktivnost!E402+Sheet1!E402+'Захтев за додатна сред.'!E402+Projekat!E402+Sheet2!E402","v":0},{"$f":"+Programska_aktivnost!F402+Sheet1!F402+'Захтев за додатна сред.'!F402+Projekat!F402+Sheet2!F402","v":0},{"$f":"+Programska_aktivnost!G402+Sheet1!G402+'Захтев за додатна сред.'!G402+Projekat!G402+Sheet2!G402","v":0},{"$f":"+Programska_aktivnost!H402+Sheet1!H402+'Захтев за додатна сред.'!H402+Projekat!H402+Sheet2!H402","v":0},{"$f":"+Programska_aktivnost!I402+Sheet1!I402+'Захтев за додатна сред.'!I402+Projekat!I402+Sheet2!I402","v":0},{"$f":"+Programska_aktivnost!J402+Sheet1!J402+'Захтев за додатна сред.'!J402+Projekat!J402+Sheet2!J402","v":0},{"$f":"+Programska_aktivnost!K402+Sheet1!K402+'Захтев за додатна сред.'!K402+Projekat!K402+Sheet2!K402","v":0},{"$f":"+Programska_aktivnost!L402+Sheet1!L402+'Захтев за додатна сред.'!L402+Projekat!L402+Sheet2!L402","v":0},{"$f":"+Programska_aktivnost!M402+Sheet1!M402+'Захтев за додатна сред.'!M402+Projekat!M402+Sheet2!M402","v":0},0,0,null,null,null,null,null,null,null,null,null,0]
[356,551100,"Нефинансијска имовина која се финансира из средстава за реализацију националног инвестиционог плана",{"$f":"+Programska_aktivnost!D403+Sheet1!D403+'Захтев за додатна сред.'!D403+Projekat!D403+Sheet2!D403","v":0},{"$f":"+Programska_aktivnost!E403+Sheet1!E403+'Захтев за додатна сред.'!E403+Projekat!E403+Sheet2!E403","v":0},{"$f":"+Programska_aktivnost!F403+Sheet1!F403+'Захтев за додатна сред.'!F403+Projekat!F403+Sheet2!F403","v":0},{"$f":"+Programska_aktivnost!G403+Sheet1!G403+'Захтев за додатна сред.'!G403+Projekat!G403+Sheet2!G403","v":0},{"$f":"+Programska_aktivnost!H403+Sheet1!H403+'Захтев за додатна сред.'!H403+Projekat!H403+Sheet2!H403","v":0},{"$f":"+Programska_aktivnost!I403+Sheet1!I403+'Захтев за додатна сред.'!I403+Projekat!I403+Sheet2!I403","v":0},{"$f":"+Programska_aktivnost!J403+Sheet1!J403+'Захтев за додатна сред.'!J403+Projekat!J403+Sheet2!J403","v":0},{"$f":"+Programska_aktivnost!K403+Sheet1!K403+'Захтев за додатна сред.'!K403+Projekat!K403+Sheet2!K403","v":0},{"$f":"+Programska_aktivnost!L403+Sheet1!L403+'Захтев за додатна сред.'!L403+Projekat!L403+Sheet2!L403","v":0},{"$f":"+Programska_aktivnost!M403+Sheet1!M403+'Захтев за додатна сред.'!M403+Projekat!M403+Sheet2!M403","v":0},{"$f":"SUM(H403,J403,L403)","v":0},0,null,null,null,null,null,null,null,null,null,0]
[357,600000,"ИЗДАЦИ ЗА ОТПЛАТУ ГЛАВНИЦЕ И НАБАВКУ ФИНАНСИЈСКЕ ИМОВИНЕ (358 + 383)",{"$f":"+Programska_aktivnost!D404+Sheet1!D404+'Захтев за додатна сред.'!D404+Projekat!D404+Sheet2!D404","v":0},{"$f":"+Programska_aktivnost!E404+Sheet1!E404+'Захтев за додатна сред.'!E404+Projekat!E404+Sheet2!E404","v":0},{"$f":"+Programska_aktivnost!F404+Sheet1!F404+'Захтев за додатна сред.'!F404+Projekat!F404+Sheet2!F404","v":0},{"$f":"+Programska_aktivnost!G404+Sheet1!G404+'Захтев за додатна сред.'!G404+Projekat!G404+Sheet2!G404","v":0},{"$f":"+Programska_aktivnost!H404+Sheet1!H404+'Захтев за додатна сред.'!H404+Projekat!H404+Sheet2!H404","v":0},{"$f":"+Programska_aktivnost!I404+Sheet1!I404+'Захтев за додатна сред.'!I404+Projekat!I404+Sheet2!I404","v":0},{"$f":"+Programska_aktivnost!J404+Sheet1!J404+'Захтев за додатна сред.'!J404+Projekat!J404+Sheet2!J404","v":0},{"$f":"+Programska_aktivnost!K404+Sheet1!K404+'Захтев за додатна сред.'!K404+Projekat!K404+Sheet2!K404","v":0},{"$f":"+Programska_aktivnost!L404+Sheet1!L404+'Захтев за додатна сред.'!L404+Projekat!L404+Sheet2!L404","v":0},{"$f":"+Programska_aktivnost!M404+Sheet1!M404+'Захтев за додатна сред.'!M404+Projekat!M404+Sheet2!M404","v":0},0,0,null,null,null,null,null,null,null,null,null,0]
[358,610000,"ОТПЛАТА ГЛАВНИЦЕ (359 + 369 + 377 + 384)",{"$f":"+Programska_aktivnost!D405+Sheet1!D405+'Захтев за додатна сред.'!D405+Projekat!D405+Sheet2!D405","v":0},{"$f":"+Programska_aktivnost!E405+Sheet1!E405+'Захтев за додатна сред.'!E405+Projekat!E405+Sheet2!E405","v":0},{"$f":"+Programska_aktivnost!F405+Sheet1!F405+'Захтев за додатна сред.'!F405+Projekat!F405+Sheet2!F405","v":0},{"$f":"+Programska_aktivnost!G405+Sheet1!G405+'Захтев за додатна сред.'!G405+Projekat!G405+Sheet2!G405","v":0},{"$f":"+Programska_aktivnost!H405+Sheet1!H405+'Захтев за додатна сред.'!H405+Projekat!H405+Sheet2!H405","v":0},{"$f":"+Programska_aktivnost!I405+Sheet1!I405+'Захтев за додатна сред.'!I405+Projekat!I405+Sheet2!I405","v":0},{"$f":"+Programska_aktivnost!J405+Sheet1!J405+'Захтев за додатна сред.'!J405+Projekat!J405+Sheet2!J405","v":0},{"$f":"+Programska_aktivnost!K405+Sheet1!K405+'Захтев за додатна сред.'!K405+Projekat!K405+Sheet2!K405","v":0},{"$f":"+Programska_aktivnost!L405+Sheet1!L405+'Захтев за додатна сред.'!L405+Projekat!L405+Sheet2!L405","v":0},{"$f":"+Programska_aktivnost!M405+Sheet1!M405+'Захтев за додатна сред.'!M405+Projekat!M405+Sheet2!M405","v":0},0,0,null,null,null,null,null,null,null,null,null,0]
[359,611000,"ОТПЛАТА ГЛАВНИЦЕ ДОМАЋИМ КРЕДИТОРИМА (од 360 до 368)",{"$f":"+Programska_aktivnost!D406+Sheet1!D406+'Захтев за додатна сред.'!D406+Projekat!D406+Sheet2!D406","v":0},{"$f":"+Programska_aktivnost!E406+Sheet1!E406+'Захтев за додатна сред.'!E406+Projekat!E406+Sheet2!E406","v":0},{"$f":"+Programska_aktivnost!F406+Sheet1!F406+'Захтев за додатна сред.'!F406+Projekat!F406+Sheet2!F406","v":0},{"$f":"+Programska_aktivnost!G406+Sheet1!G406+'Захтев за додатна сред.'!G406+Projekat!G406+Sheet2!G406","v":0},{"$f":"+Programska_aktivnost!H406+Sheet1!H406+'Захтев за додатна сред.'!H406+Projekat!H406+Sheet2!H406","v":0},{"$f":"+Programska_aktivnost!I406+Sheet1!I406+'Захтев за додатна сред.'!I406+Projekat!I406+Sheet2!I406","v":0},{"$f":"+Programska_aktivnost!J406+Sheet1!J406+'Захтев за додатна сред.'!J406+Projekat!J406+Sheet2!J406","v":0},{"$f":"+Programska_aktivnost!K406+Sheet1!K406+'Захтев за додатна сред.'!K406+Projekat!K406+Sheet2!K406","v":0},{"$f":"+Programska_aktivnost!L406+Sheet1!L406+'Захтев за додатна сред.'!L406+Projekat!L406+Sheet2!L406","v":0},{"$f":"+Programska_aktivnost!M406+Sheet1!M406+'Захтев за додатна сред.'!M406+Projekat!M406+Sheet2!M406","v":0},0,0,null,null,null,null,null,null,null,null,null,0]
[360,611100,"Отплата главнице на домаће хартије од вредности, изузев акција",{"$f":"+Programska_aktivnost!D407+Sheet1!D407+'Захтев за додатна сред.'!D407+Projekat!D407+Sheet2!D407","v":0},{"$f":"+Programska_aktivnost!E407+Sheet1!E407+'Захтев за додатна сред.'!E407+Projekat!E407+Sheet2!E407","v":0},{"$f":"+Programska_aktivnost!F407+Sheet1!F407+'Захтев за додатна сред.'!F407+Projekat!F407+Sheet2!F407","v":0},{"$f":"+Programska_aktivnost!G407+Sheet1!G407+'Захтев за додатна сред.'!G407+Projekat!G407+Sheet2!G407","v":0},{"$f":"+Programska_aktivnost!H407+Sheet1!H407+'Захтев за додатна сред.'!H407+Projekat!H407+Sheet2!H407","v":0},{"$f":"+Programska_aktivnost!I407+Sheet1!I407+'Захтев за додатна сред.'!I407+Projekat!I407+Sheet2!I407","v":0},{"$f":"+Programska_aktivnost!J407+Sheet1!J407+'Захтев за додатна сред.'!J407+Projekat!J407+Sheet2!J407","v":0},{"$f":"+Programska_aktivnost!K407+Sheet1!K407+'Захтев за додатна сред.'!K407+Projekat!K407+Sheet2!K407","v":0},{"$f":"+Programska_aktivnost!L407+Sheet1!L407+'Захтев за додатна сред.'!L407+Projekat!L407+Sheet2!L407","v":0},{"$f":"+Programska_aktivnost!M407+Sheet1!M407+'Захтев за додатна сред.'!M407+Projekat!M407+Sheet2!M407","v":0},0,0,null,null,null,null,null,null,null,null,null,0]
[361,611200,"Отплата главнице осталим нивоима власти",{"$f":"+Programska_aktivnost!D408+Sheet1!D408+'Захтев за додатна сред.'!D408+Projekat!D408+Sheet2!D408","v":0},{"$f":"+Programska_aktivnost!E408+Sheet1!E408+'Захтев за додатна сред.'!E408+Projekat!E408+Sheet2!E408","v":0},{"$f":"+Programska_aktivnost!F408+Sheet1!F408+'Захтев за додатна сред.'!F408+Projekat!F408+Sheet2!F408","v":0},{"$f":"+Programska_aktivnost!G408+Sheet1!G408+'Захтев за додатна сред.'!G408+Projekat!G408+Sheet2!G408","v":0},{"$f":"+Programska_aktivnost!H408+Sheet1!H408+'Захтев за додатна сред.'!H408+Projekat!H408+Sheet2!H408","v":0},{"$f":"+Programska_aktivnost!I408+Sheet1!I408+'Захтев за додатна сред.'!I408+Projekat!I408+Sheet2!I408","v":0},{"$f":"+Programska_aktivnost!J408+Sheet1!J408+'Захтев за додатна сред.'!J408+Projekat!J408+Sheet2!J408","v":0},{"$f":"+Programska_aktivnost!K408+Sheet1!K408+'Захтев за додатна сред.'!K408+Projekat!K408+Sheet2!K408","v":0},{"$f":"+Programska_aktivnost!L408+Sheet1!L408+'Захтев за додатна сред.'!L408+Projekat!L408+Sheet2!L408","v":0},{"$f":"+Programska_aktivnost!M408+Sheet1!M408+'Захтев за додатна сред.'!M408+Projekat!M408+Sheet2!M408","v":0},0,0,null,null,null,null,null,null,null,null,null,0]
[362,611300,"Отплата главнице домаћим јавним финансијским институцијама",{"$f":"+Programska_aktivnost!D409+Sheet1!D409+'Захтев за додатна сред.'!D409+Projekat!D409+Sheet2!D409","v":0},{"$f":"+Programska_aktivnost!E409+Sheet1!E409+'Захтев за додатна сред.'!E409+Projekat!E409+Sheet2!E409","v":0},{"$f":"+Programska_aktivnost!F409+Sheet1!F409+'Захтев за додатна сред.'!F409+Projekat!F409+Sheet2!F409","v":0},{"$f":"+Programska_aktivnost!G409+Sheet1!G409+'Захтев за додатна сред.'!G409+Projekat!G409+Sheet2!G409","v":0},{"$f":"+Programska_aktivnost!H409+Sheet1!H409+'Захтев за додатна сред.'!H409+Projekat!H409+Sheet2!H409","v":0},{"$f":"+Programska_aktivnost!I409+Sheet1!I409+'Захтев за додатна сред.'!I409+Projekat!I409+Sheet2!I409","v":0},{"$f":"+Programska_aktivnost!J409+Sheet1!J409+'Захтев за додатна сред.'!J409+Projekat!J409+Sheet2!J409","v":0},{"$f":"+Programska_aktivnost!K409+Sheet1!K409+'Захтев за додатна сред.'!K409+Projekat!K409+Sheet2!K409","v":0},{"$f":"+Programska_aktivnost!L409+Sheet1!L409+'Захтев за додатна сред.'!L409+Projekat!L409+Sheet2!L409","v":0},{"$f":"+Programska_aktivnost!M409+Sheet1!M409+'Захтев за додатна сред.'!M409+Projekat!M409+Sheet2!M409","v":0},0,0,null,null,null,null,null,null,null,null,null,0]
[363,611400,"Отплата главнице домаћим пословним банкама",{"$f":"+Programska_aktivnost!D410+Sheet1!D410+'Захтев за додатна сред.'!D410+Projekat!D410+Sheet2!D410","v":0},{"$f":"+Programska_aktivnost!E410+Sheet1!E410+'Захтев за додатна сред.'!E410+Projekat!E410+Sheet2!E410","v":0},{"$f":"+Programska_aktivnost!F410+Sheet1!F410+'Захтев за додатна сред.'!F410+Projekat!F410+Sheet2!F410","v":0},{"$f":"+Programska_aktivnost!G410+Sheet1!G410+'Захтев за додатна сред.'!G410+Projekat!G410+Sheet2!G410","v":0},{"$f":"+Programska_aktivnost!H410+Sheet1!H410+'Захтев за додатна сред.'!H410+Projekat!H410+Sheet2!H410","v":0},{"$f":"+Programska_aktivnost!I410+Sheet1!I410+'Захтев за додатна сред.'!I410+Projekat!I410+Sheet2!I410","v":0},{"$f":"+Programska_aktivnost!J410+Sheet1!J410+'Захтев за додатна сред.'!J410+Projekat!J410+Sheet2!J410","v":0},{"$f":"+Programska_aktivnost!K410+Sheet1!K410+'Захтев за додатна сред.'!K410+Projekat!K410+Sheet2!K410","v":0},{"$f":"+Programska_aktivnost!L410+Sheet1!L410+'Захтев за додатна сред.'!L410+Projekat!L410+Sheet2!L410","v":0},{"$f":"+Programska_aktivnost!M410+Sheet1!M410+'Захтев за додатна сред.'!M410+Projekat!M410+Sheet2!M410","v":0},0,0,null,null,null,null,null,null,null,null,null,0]
[364,611500,"Отплата главнице осталим домаћим кредиторима",{"$f":"+Programska_aktivnost!D411+Sheet1!D411+'Захтев за додатна сред.'!D411+Projekat!D411+Sheet2!D411","v":0},{"$f":"+Programska_aktivnost!E411+Sheet1!E411+'Захтев за додатна сред.'!E411+Projekat!E411+Sheet2!E411","v":0},{"$f":"+Programska_aktivnost!F411+Sheet1!F411+'Захтев за додатна сред.'!F411+Projekat!F411+Sheet2!F411","v":0},{"$f":"+Programska_aktivnost!G411+Sheet1!G411+'Захтев за додатна сред.'!G411+Projekat!G411+Sheet2!G411","v":0},{"$f":"+Programska_aktivnost!H411+Sheet1!H411+'Захтев за додатна сред.'!H411+Projekat!H411+Sheet2!H411","v":0},{"$f":"+Programska_aktivnost!I411+Sheet1!I411+'Захтев за додатна сред.'!I411+Projekat!I411+Sheet2!I411","v":0},{"$f":"+Programska_aktivnost!J411+Sheet1!J411+'Захтев за додатна сред.'!J411+Projekat!J411+Sheet2!J411","v":0},{"$f":"+Programska_aktivnost!K411+Sheet1!K411+'Захтев за додатна сред.'!K411+Projekat!K411+Sheet2!K411","v":0},{"$f":"+Programska_aktivnost!L411+Sheet1!L411+'Захтев за додатна сред.'!L411+Projekat!L411+Sheet2!L411","v":0},{"$f":"+Programska_aktivnost!M411+Sheet1!M411+'Захтев за додатна сред.'!M411+Projekat!M411+Sheet2!M411","v":0},0,0,null,null,null,null,null,null,null,null,null,0]
[365,611600,"Отплата главнице домаћинствима у земљи",{"$f":"+Programska_aktivnost!D412+Sheet1!D412+'Захтев за додатна сред.'!D412+Projekat!D412+Sheet2!D412","v":0},{"$f":"+Programska_aktivnost!E412+Sheet1!E412+'Захтев за додатна сред.'!E412+Projekat!E412+Sheet2!E412","v":0},{"$f":"+Programska_aktivnost!F412+Sheet1!F412+'Захтев за додатна сред.'!F412+Projekat!F412+Sheet2!F412","v":0},{"$f":"+Programska_aktivnost!G412+Sheet1!G412+'Захтев за додатна сред.'!G412+Projekat!G412+Sheet2!G412","v":0},{"$f":"+Programska_aktivnost!H412+Sheet1!H412+'Захтев за додатна сред.'!H412+Projekat!H412+Sheet2!H412","v":0},{"$f":"+Programska_aktivnost!I412+Sheet1!I412+'Захтев за додатна сред.'!I412+Projekat!I412+Sheet2!I412","v":0},{"$f":"+Programska_aktivnost!J412+Sheet1!J412+'Захтев за додатна сред.'!J412+Projekat!J412+Sheet2!J412","v":0},{"$f":"+Programska_aktivnost!K412+Sheet1!K412+'Захтев за додатна сред.'!K412+Projekat!K412+Sheet2!K412","v":0},{"$f":"+Programska_aktivnost!L412+Sheet1!L412+'Захтев за додатна сред.'!L412+Projekat!L412+Sheet2!L412","v":0},{"$f":"+Programska_aktivnost!M412+Sheet1!M412+'Захтев за додатна сред.'!M412+Projekat!M412+Sheet2!M412","v":0},0,0,null,null,null,null,null,null,null,null,null,0]
[366,611700,"Отплата главнице на домаће финансијске деривате",{"$f":"+Programska_aktivnost!D413+Sheet1!D413+'Захтев за додатна сред.'!D413+Projekat!D413+Sheet2!D413","v":0},{"$f":"+Programska_aktivnost!E413+Sheet1!E413+'Захтев за додатна сред.'!E413+Projekat!E413+Sheet2!E413","v":0},{"$f":"+Programska_aktivnost!F413+Sheet1!F413+'Захтев за додатна сред.'!F413+Projekat!F413+Sheet2!F413","v":0},{"$f":"+Programska_aktivnost!G413+Sheet1!G413+'Захтев за додатна сред.'!G413+Projekat!G413+Sheet2!G413","v":0},{"$f":"+Programska_aktivnost!H413+Sheet1!H413+'Захтев за додатна сред.'!H413+Projekat!H413+Sheet2!H413","v":0},{"$f":"+Programska_aktivnost!I413+Sheet1!I413+'Захтев за додатна сред.'!I413+Projekat!I413+Sheet2!I413","v":0},{"$f":"+Programska_aktivnost!J413+Sheet1!J413+'Захтев за додатна сред.'!J413+Projekat!J413+Sheet2!J413","v":0},{"$f":"+Programska_aktivnost!K413+Sheet1!K413+'Захтев за додатна сред.'!K413+Projekat!K413+Sheet2!K413","v":0},{"$f":"+Programska_aktivnost!L413+Sheet1!L413+'Захтев за додатна сред.'!L413+Projekat!L413+Sheet2!L413","v":0},{"$f":"+Programska_aktivnost!M413+Sheet1!M413+'Захтев за додатна сред.'!M413+Projekat!M413+Sheet2!M413","v":0},0,0,null,null,null,null,null,null,null,null,null,0]
[367,611800,"Отплата домаћих меница",{"$f":"+Programska_aktivnost!D414+Sheet1!D414+'Захтев за додатна сред.'!D414+Projekat!D414+Sheet2!D414","v":0},{"$f":"+Programska_aktivnost!E414+Sheet1!E414+'Захтев за додатна сред.'!E414+Projekat!E414+Sheet2!E414","v":0},{"$f":"+Programska_aktivnost!F414+Sheet1!F414+'Захтев за додатна сред.'!F414+Projekat!F414+Sheet2!F414","v":0},{"$f":"+Programska_aktivnost!G414+Sheet1!G414+'Захтев за додатна сред.'!G414+Projekat!G414+Sheet2!G414","v":0},{"$f":"+Programska_aktivnost!H414+Sheet1!H414+'Захтев за додатна сред.'!H414+Projekat!H414+Sheet2!H414","v":0},{"$f":"+Programska_aktivnost!I414+Sheet1!I414+'Захтев за додатна сред.'!I414+Projekat!I414+Sheet2!I414","v":0},{"$f":"+Programska_aktivnost!J414+Sheet1!J414+'Захтев за додатна сред.'!J414+Projekat!J414+Sheet2!J414","v":0},{"$f":"+Programska_aktivnost!K414+Sheet1!K414+'Захтев за додатна сред.'!K414+Projekat!K414+Sheet2!K414","v":0},{"$f":"+Programska_aktivnost!L414+Sheet1!L414+'Захтев за додатна сред.'!L414+Projekat!L414+Sheet2!L414","v":0},{"$f":"+Programska_aktivnost!M414+Sheet1!M414+'Захтев за додатна сред.'!M414+Projekat!M414+Sheet2!M414","v":0},0,0,null,null,null,null,null,null,null,null,null,0]
[368,611900,"Исправка унутрашњег дуга",{"$f":"+Programska_aktivnost!D415+Sheet1!D415+'Захтев за додатна сред.'!D415+Projekat!D415+Sheet2!D415","v":0},{"$f":"+Programska_aktivnost!E415+Sheet1!E415+'Захтев за додатна сред.'!E415+Projekat!E415+Sheet2!E415","v":0},{"$f":"+Programska_aktivnost!F415+Sheet1!F415+'Захтев за додатна сред.'!F415+Projekat!F415+Sheet2!F415","v":0},{"$f":"+Programska_aktivnost!G415+Sheet1!G415+'Захтев за додатна сред.'!G415+Projekat!G415+Sheet2!G415","v":0},{"$f":"+Programska_aktivnost!H415+Sheet1!H415+'Захтев за додатна сред.'!H415+Projekat!H415+Sheet2!H415","v":0},{"$f":"+Programska_aktivnost!I415+Sheet1!I415+'Захтев за додатна сред.'!I415+Projekat!I415+Sheet2!I415","v":0},{"$f":"+Programska_aktivnost!J415+Sheet1!J415+'Захтев за додатна сред.'!J415+Projekat!J415+Sheet2!J415","v":0},{"$f":"+Programska_aktivnost!K415+Sheet1!K415+'Захтев за додатна сред.'!K415+Projekat!K415+Sheet2!K415","v":0},{"$f":"+Programska_aktivnost!L415+Sheet1!L415+'Захтев за додатна сред.'!L415+Projekat!L415+Sheet2!L415","v":0},{"$f":"+Programska_aktivnost!M415+Sheet1!M415+'Захтев за додатна сред.'!M415+Projekat!M415+Sheet2!M415","v":0},0,0,null,null,null,null,null,null,null,null,null,0]
[369,612000,"ОТПЛАТА ГЛАВНИЦЕ СТРАНИМ КРЕДИТОРИМА (од 370 до 376)",{"$f":"+Programska_aktivnost!D416+Sheet1!D416+'Захтев за додатна сред.'!D416+Projekat!D416+Sheet2!D416","v":0},{"$f":"+Programska_aktivnost!E416+Sheet1!E416+'Захтев за додатна сред.'!E416+Projekat!E416+Sheet2!E416","v":0},{"$f":"+Programska_aktivnost!F416+Sheet1!F416+'Захтев за додатна сред.'!F416+Projekat!F416+Sheet2!F416","v":0},{"$f":"+Programska_aktivnost!G416+Sheet1!G416+'Захтев за додатна сред.'!G416+Projekat!G416+Sheet2!G416","v":0},{"$f":"+Programska_aktivnost!H416+Sheet1!H416+'Захтев за додатна сред.'!H416+Projekat!H416+Sheet2!H416","v":0},{"$f":"+Programska_aktivnost!I416+Sheet1!I416+'Захтев за додатна сред.'!I416+Projekat!I416+Sheet2!I416","v":0},{"$f":"+Programska_aktivnost!J416+Sheet1!J416+'Захтев за додатна сред.'!J416+Projekat!J416+Sheet2!J416","v":0},{"$f":"+Programska_aktivnost!K416+Sheet1!K416+'Захтев за додатна сред.'!K416+Projekat!K416+Sheet2!K416","v":0},{"$f":"+Programska_aktivnost!L416+Sheet1!L416+'Захтев за додатна сред.'!L416+Projekat!L416+Sheet2!L416","v":0},{"$f":"+Programska_aktivnost!M416+Sheet1!M416+'Захтев за додатна сред.'!M416+Projekat!M416+Sheet2!M416","v":0},0,0,null,null,null,null,null,null,null,null,null,0]
[370,612100,"Отплата главнице на хартије од вредности, изузев акција, емитоване на иностраном финансијском тржишту",{"$f":"+Programska_aktivnost!D417+Sheet1!D417+'Захтев за додатна сред.'!D417+Projekat!D417+Sheet2!D417","v":0},{"$f":"+Programska_aktivnost!E417+Sheet1!E417+'Захтев за додатна сред.'!E417+Projekat!E417+Sheet2!E417","v":0},{"$f":"+Programska_aktivnost!F417+Sheet1!F417+'Захтев за додатна сред.'!F417+Projekat!F417+Sheet2!F417","v":0},{"$f":"+Programska_aktivnost!G417+Sheet1!G417+'Захтев за додатна сред.'!G417+Projekat!G417+Sheet2!G417","v":0},{"$f":"+Programska_aktivnost!H417+Sheet1!H417+'Захтев за додатна сред.'!H417+Projekat!H417+Sheet2!H417","v":0},{"$f":"+Programska_aktivnost!I417+Sheet1!I417+'Захтев за додатна сред.'!I417+Projekat!I417+Sheet2!I417","v":0},{"$f":"+Programska_aktivnost!J417+Sheet1!J417+'Захтев за додатна сред.'!J417+Projekat!J417+Sheet2!J417","v":0},{"$f":"+Programska_aktivnost!K417+Sheet1!K417+'Захтев за додатна сред.'!K417+Projekat!K417+Sheet2!K417","v":0},{"$f":"+Programska_aktivnost!L417+Sheet1!L417+'Захтев за додатна сред.'!L417+Projekat!L417+Sheet2!L417","v":0},{"$f":"+Programska_aktivnost!M417+Sheet1!M417+'Захтев за додатна сред.'!M417+Projekat!M417+Sheet2!M417","v":0},0,0,null,null,null,null,null,null,null,null,null,0]
[371,612200,"Отплата главнице страним владама",{"$f":"+Programska_aktivnost!D418+Sheet1!D418+'Захтев за додатна сред.'!D418+Projekat!D418+Sheet2!D418","v":0},{"$f":"+Programska_aktivnost!E418+Sheet1!E418+'Захтев за додатна сред.'!E418+Projekat!E418+Sheet2!E418","v":0},{"$f":"+Programska_aktivnost!F418+Sheet1!F418+'Захтев за додатна сред.'!F418+Projekat!F418+Sheet2!F418","v":0},{"$f":"+Programska_aktivnost!G418+Sheet1!G418+'Захтев за додатна сред.'!G418+Projekat!G418+Sheet2!G418","v":0},{"$f":"+Programska_aktivnost!H418+Sheet1!H418+'Захтев за додатна сред.'!H418+Projekat!H418+Sheet2!H418","v":0},{"$f":"+Programska_aktivnost!I418+Sheet1!I418+'Захтев за додатна сред.'!I418+Projekat!I418+Sheet2!I418","v":0},{"$f":"+Programska_aktivnost!J418+Sheet1!J418+'Захтев за додатна сред.'!J418+Projekat!J418+Sheet2!J418","v":0},{"$f":"+Programska_aktivnost!K418+Sheet1!K418+'Захтев за додатна сред.'!K418+Projekat!K418+Sheet2!K418","v":0},{"$f":"+Programska_aktivnost!L418+Sheet1!L418+'Захтев за додатна сред.'!L418+Projekat!L418+Sheet2!L418","v":0},{"$f":"+Programska_aktivnost!M418+Sheet1!M418+'Захтев за додатна сред.'!M418+Projekat!M418+Sheet2!M418","v":0},0,0,null,null,null,null,null,null,null,null,null,0]
[372,612300,"Отплата главнице мултилатералним институцијама",{"$f":"+Programska_aktivnost!D419+Sheet1!D419+'Захтев за додатна сред.'!D419+Projekat!D419+Sheet2!D419","v":0},{"$f":"+Programska_aktivnost!E419+Sheet1!E419+'Захтев за додатна сред.'!E419+Projekat!E419+Sheet2!E419","v":0},{"$f":"+Programska_aktivnost!F419+Sheet1!F419+'Захтев за додатна сред.'!F419+Projekat!F419+Sheet2!F419","v":0},{"$f":"+Programska_aktivnost!G419+Sheet1!G419+'Захтев за додатна сред.'!G419+Projekat!G419+Sheet2!G419","v":0},{"$f":"+Programska_aktivnost!H419+Sheet1!H419+'Захтев за додатна сред.'!H419+Projekat!H419+Sheet2!H419","v":0},{"$f":"+Programska_aktivnost!I419+Sheet1!I419+'Захтев за додатна сред.'!I419+Projekat!I419+Sheet2!I419","v":0},{"$f":"+Programska_aktivnost!J419+Sheet1!J419+'Захтев за додатна сред.'!J419+Projekat!J419+Sheet2!J419","v":0},{"$f":"+Programska_aktivnost!K419+Sheet1!K419+'Захтев за додатна сред.'!K419+Projekat!K419+Sheet2!K419","v":0},{"$f":"+Programska_aktivnost!L419+Sheet1!L419+'Захтев за додатна сред.'!L419+Projekat!L419+Sheet2!L419","v":0},{"$f":"+Programska_aktivnost!M419+Sheet1!M419+'Захтев за додатна сред.'!M419+Projekat!M419+Sheet2!M419","v":0},0,0,null,null,null,null,null,null,null,null,null,0]
[373,612400,"Отплате главнице страним пословним банкама",{"$f":"+Programska_aktivnost!D420+Sheet1!D420+'Захтев за додатна сред.'!D420+Projekat!D420+Sheet2!D420","v":0},{"$f":"+Programska_aktivnost!E420+Sheet1!E420+'Захтев за додатна сред.'!E420+Projekat!E420+Sheet2!E420","v":0},{"$f":"+Programska_aktivnost!F420+Sheet1!F420+'Захтев за додатна сред.'!F420+Projekat!F420+Sheet2!F420","v":0},{"$f":"+Programska_aktivnost!G420+Sheet1!G420+'Захтев за додатна сред.'!G420+Projekat!G420+Sheet2!G420","v":0},{"$f":"+Programska_aktivnost!H420+Sheet1!H420+'Захтев за додатна сред.'!H420+Projekat!H420+Sheet2!H420","v":0},{"$f":"+Programska_aktivnost!I420+Sheet1!I420+'Захтев за додатна сред.'!I420+Projekat!I420+Sheet2!I420","v":0},{"$f":"+Programska_aktivnost!J420+Sheet1!J420+'Захтев за додатна сред.'!J420+Projekat!J420+Sheet2!J420","v":0},{"$f":"+Programska_aktivnost!K420+Sheet1!K420+'Захтев за додатна сред.'!K420+Projekat!K420+Sheet2!K420","v":0},{"$f":"+Programska_aktivnost!L420+Sheet1!L420+'Захтев за додатна сред.'!L420+Projekat!L420+Sheet2!L420","v":0},{"$f":"+Programska_aktivnost!M420+Sheet1!M420+'Захтев за додатна сред.'!M420+Projekat!M420+Sheet2!M420","v":0},0,0,null,null,null,null,null,null,null,null,null,0]
[374,612500,"Отплате главнице осталим страним кредиторима",{"$f":"+Programska_aktivnost!D421+Sheet1!D421+'Захтев за додатна сред.'!D421+Projekat!D421+Sheet2!D421","v":0},{"$f":"+Programska_aktivnost!E421+Sheet1!E421+'Захтев за додатна сред.'!E421+Projekat!E421+Sheet2!E421","v":0},{"$f":"+Programska_aktivnost!F421+Sheet1!F421+'Захтев за додатна сред.'!F421+Projekat!F421+Sheet2!F421","v":0},{"$f":"+Programska_aktivnost!G421+Sheet1!G421+'Захтев за додатна сред.'!G421+Projekat!G421+Sheet2!G421","v":0},{"$f":"+Programska_aktivnost!H421+Sheet1!H421+'Захтев за додатна сред.'!H421+Projekat!H421+Sheet2!H421","v":0},{"$f":"+Programska_aktivnost!I421+Sheet1!I421+'Захтев за додатна сред.'!I421+Projekat!I421+Sheet2!I421","v":0},{"$f":"+Programska_aktivnost!J421+Sheet1!J421+'Захтев за додатна сред.'!J421+Projekat!J421+Sheet2!J421","v":0},{"$f":"+Programska_aktivnost!K421+Sheet1!K421+'Захтев за додатна сред.'!K421+Projekat!K421+Sheet2!K421","v":0},{"$f":"+Programska_aktivnost!L421+Sheet1!L421+'Захтев за додатна сред.'!L421+Projekat!L421+Sheet2!L421","v":0},{"$f":"+Programska_aktivnost!M421+Sheet1!M421+'Захтев за додатна сред.'!M421+Projekat!M421+Sheet2!M421","v":0},0,0,null,null,null,null,null,null,null,null,null,0]
[375,612600,"Отплата главнице на стране финансијске деривате",{"$f":"+Programska_aktivnost!D422+Sheet1!D422+'Захтев за додатна сред.'!D422+Projekat!D422+Sheet2!D422","v":0},{"$f":"+Programska_aktivnost!E422+Sheet1!E422+'Захтев за додатна сред.'!E422+Projekat!E422+Sheet2!E422","v":0},{"$f":"+Programska_aktivnost!F422+Sheet1!F422+'Захтев за додатна сред.'!F422+Projekat!F422+Sheet2!F422","v":0},{"$f":"+Programska_aktivnost!G422+Sheet1!G422+'Захтев за додатна сред.'!G422+Projekat!G422+Sheet2!G422","v":0},{"$f":"+Programska_aktivnost!H422+Sheet1!H422+'Захтев за додатна сред.'!H422+Projekat!H422+Sheet2!H422","v":0},{"$f":"+Programska_aktivnost!I422+Sheet1!I422+'Захтев за додатна сред.'!I422+Projekat!I422+Sheet2!I422","v":0},{"$f":"+Programska_aktivnost!J422+Sheet1!J422+'Захтев за додатна сред.'!J422+Projekat!J422+Sheet2!J422","v":0},{"$f":"+Programska_aktivnost!K422+Sheet1!K422+'Захтев за додатна сред.'!K422+Projekat!K422+Sheet2!K422","v":0},{"$f":"+Programska_aktivnost!L422+Sheet1!L422+'Захтев за додатна сред.'!L422+Projekat!L422+Sheet2!L422","v":0},{"$f":"+Programska_aktivnost!M422+Sheet1!M422+'Захтев за додатна сред.'!M422+Projekat!M422+Sheet2!M422","v":0},0,0,null,null,null,null,null,null,null,null,null,0]
[376,612900,"Исправка спољног дуга",{"$f":"+Programska_aktivnost!D423+Sheet1!D423+'Захтев за додатна сред.'!D423+Projekat!D423+Sheet2!D423","v":0},{"$f":"+Programska_aktivnost!E423+Sheet1!E423+'Захтев за додатна сред.'!E423+Projekat!E423+Sheet2!E423","v":0},{"$f":"+Programska_aktivnost!F423+Sheet1!F423+'Захтев за додатна сред.'!F423+Projekat!F423+Sheet2!F423","v":0},{"$f":"+Programska_aktivnost!G423+Sheet1!G423+'Захтев за додатна сред.'!G423+Projekat!G423+Sheet2!G423","v":0},{"$f":"+Programska_aktivnost!H423+Sheet1!H423+'Захтев за додатна сред.'!H423+Projekat!H423+Sheet2!H423","v":0},{"$f":"+Programska_aktivnost!I423+Sheet1!I423+'Захтев за додатна сред.'!I423+Projekat!I423+Sheet2!I423","v":0},{"$f":"+Programska_aktivnost!J423+Sheet1!J423+'Захтев за додатна сред.'!J423+Projekat!J423+Sheet2!J423","v":0},{"$f":"+Programska_aktivnost!K423+Sheet1!K423+'Захтев за додатна сред.'!K423+Projekat!K423+Sheet2!K423","v":0},{"$f":"+Programska_aktivnost!L423+Sheet1!L423+'Захтев за додатна сред.'!L423+Projekat!L423+Sheet2!L423","v":0},{"$f":"+Programska_aktivnost!M423+Sheet1!M423+'Захтев за додатна сред.'!M423+Projekat!M423+Sheet2!M423","v":0},0,0,null,null,null,null,null,null,null,null,null,0]
[377,613000,"ОТПЛАТА ГЛАВНИЦЕ ПО ГАРАНЦИЈАМА (378)",{"$f":"+Programska_aktivnost!D424+Sheet1!D424+'Захтев за додатна сред.'!D424+Projekat!D424+Sheet2!D424","v":0},{"$f":"+Programska_aktivnost!E424+Sheet1!E424+'Захтев за додатна сред.'!E424+Projekat!E424+Sheet2!E424","v":0},{"$f":"+Programska_aktivnost!F424+Sheet1!F424+'Захтев за додатна сред.'!F424+Projekat!F424+Sheet2!F424","v":0},{"$f":"+Programska_aktivnost!G424+Sheet1!G424+'Захтев за додатна сред.'!G424+Projekat!G424+Sheet2!G424","v":0},{"$f":"+Programska_aktivnost!H424+Sheet1!H424+'Захтев за додатна сред.'!H424+Projekat!H424+Sheet2!H424","v":0},{"$f":"+Programska_aktivnost!I424+Sheet1!I424+'Захтев за додатна сред.'!I424+Projekat!I424+Sheet2!I424","v":0},{"$f":"+Programska_aktivnost!J424+Sheet1!J424+'Захтев за додатна сред.'!J424+Projekat!J424+Sheet2!J424","v":0},{"$f":"+Programska_aktivnost!K424+Sheet1!K424+'Захтев за додатна сред.'!K424+Projekat!K424+Sheet2!K424","v":0},{"$f":"+Programska_aktivnost!L424+Sheet1!L424+'Захтев за додатна сред.'!L424+Projekat!L424+Sheet2!L424","v":0},{"$f":"+Programska_aktivnost!M424+Sheet1!M424+'Захтев за додатна сред.'!M424+Projekat!M424+Sheet2!M424","v":0},0,0,null,null,null,null,null,null,null,null,null,0]
[378,613100,"Отплата главнице по гаранцијама",{"$f":"+Programska_aktivnost!D425+Sheet1!D425+'Захтев за додатна сред.'!D425+Projekat!D425+Sheet2!D425","v":0},{"$f":"+Programska_aktivnost!E425+Sheet1!E425+'Захтев за додатна сред.'!E425+Projekat!E425+Sheet2!E425","v":0},{"$f":"+Programska_aktivnost!F425+Sheet1!F425+'Захтев за додатна сред.'!F425+Projekat!F425+Sheet2!F425","v":0},{"$f":"+Programska_aktivnost!G425+Sheet1!G425+'Захтев за додатна сред.'!G425+Projekat!G425+Sheet2!G425","v":0},{"$f":"+Programska_aktivnost!H425+Sheet1!H425+'Захтев за додатна сред.'!H425+Projekat!H425+Sheet2!H425","v":0},{"$f":"+Programska_aktivnost!I425+Sheet1!I425+'Захтев за додатна сред.'!I425+Projekat!I425+Sheet2!I425","v":0},{"$f":"+Programska_aktivnost!J425+Sheet1!J425+'Захтев за додатна сред.'!J425+Projekat!J425+Sheet2!J425","v":0},{"$f":"+Programska_aktivnost!K425+Sheet1!K425+'Захтев за додатна сред.'!K425+Projekat!K425+Sheet2!K425","v":0},{"$f":"+Programska_aktivnost!L425+Sheet1!L425+'Захтев за додатна сред.'!L425+Projekat!L425+Sheet2!L425","v":0},{"$f":"+Programska_aktivnost!M425+Sheet1!M425+'Захтев за додатна сред.'!M425+Projekat!M425+Sheet2!M425","v":0},0,0,null,null,null,null,null,null,null,null,null,0]
[379,614000,"ОТПЛАТА ГЛАВНИЦЕ ЗА ФИНАНСИЈСКИ ЛИЗИНГ (380)",{"$f":"+Programska_aktivnost!D426+Sheet1!D426+'Захтев за додатна сред.'!D426+Projekat!D426+Sheet2!D426","v":0},{"$f":"+Programska_aktivnost!E426+Sheet1!E426+'Захтев за додатна сред.'!E426+Projekat!E426+Sheet2!E426","v":0},{"$f":"+Programska_aktivnost!F426+Sheet1!F426+'Захтев за додатна сред.'!F426+Projekat!F426+Sheet2!F426","v":0},{"$f":"+Programska_aktivnost!G426+Sheet1!G426+'Захтев за додатна сред.'!G426+Projekat!G426+Sheet2!G426","v":0},{"$f":"+Programska_aktivnost!H426+Sheet1!H426+'Захтев за додатна сред.'!H426+Projekat!H426+Sheet2!H426","v":0},{"$f":"+Programska_aktivnost!I426+Sheet1!I426+'Захтев за додатна сред.'!I426+Projekat!I426+Sheet2!I426","v":0},{"$f":"+Programska_aktivnost!J426+Sheet1!J426+'Захтев за додатна сред.'!J426+Projekat!J426+Sheet2!J426","v":0},{"$f":"+Programska_aktivnost!K426+Sheet1!K426+'Захтев за додатна сред.'!K426+Projekat!K426+Sheet2!K426","v":0},{"$f":"+Programska_aktivnost!L426+Sheet1!L426+'Захтев за додатна сред.'!L426+Projekat!L426+Sheet2!L426","v":0},{"$f":"+Programska_aktivnost!M426+Sheet1!M426+'Захтев за додатна сред.'!M426+Projekat!M426+Sheet2!M426","v":0},0,0,null,null,null,null,null,null,null,null,null,0]
[380,614100,"Отплата главнице за финансијски лизинг",{"$f":"+Programska_aktivnost!D427+Sheet1!D427+'Захтев за додатна сред.'!D427+Projekat!D427+Sheet2!D427","v":0},{"$f":"+Programska_aktivnost!E427+Sheet1!E427+'Захтев за додатна сред.'!E427+Projekat!E427+Sheet2!E427","v":0},{"$f":"+Programska_aktivnost!F427+Sheet1!F427+'Захтев за додатна сред.'!F427+Projekat!F427+Sheet2!F427","v":0},{"$f":"+Programska_aktivnost!G427+Sheet1!G427+'Захтев за додатна сред.'!G427+Projekat!G427+Sheet2!G427","v":0},{"$f":"+Programska_aktivnost!H427+Sheet1!H427+'Захтев за додатна сред.'!H427+Projekat!H427+Sheet2!H427","v":0},{"$f":"+Programska_aktivnost!I427+Sheet1!I427+'Захтев за додатна сред.'!I427+Projekat!I427+Sheet2!I427","v":0},{"$f":"+Programska_aktivnost!J427+Sheet1!J427+'Захтев за додатна сред.'!J427+Projekat!J427+Sheet2!J427","v":0},{"$f":"+Programska_aktivnost!K427+Sheet1!K427+'Захтев за додатна сред.'!K427+Projekat!K427+Sheet2!K427","v":0},{"$f":"+Programska_aktivnost!L427+Sheet1!L427+'Захтев за додатна сред.'!L427+Projekat!L427+Sheet2!L427","v":0},{"$f":"+Programska_aktivnost!M427+Sheet1!M427+'Захтев за додатна сред.'!M427+Projekat!M427+Sheet2!M427","v":0},0,0,null,null,null,null,null,null,null,null,null,0]
[381,615000,"ОТПЛАТА ГАРАНЦИЈА ПО КОМЕРЦИЈАЛНИМ ТРАНСАКЦИЈАМА (382)",{"$f":"+Programska_aktivnost!D428+Sheet1!D428+'Захтев за додатна сред.'!D428+Projekat!D428+Sheet2!D428","v":0},{"$f":"+Programska_aktivnost!E428+Sheet1!E428+'Захтев за додатна сред.'!E428+Projekat!E428+Sheet2!E428","v":0},{"$f":"+Programska_aktivnost!F428+Sheet1!F428+'Захтев за додатна сред.'!F428+Projekat!F428+Sheet2!F428","v":0},{"$f":"+Programska_aktivnost!G428+Sheet1!G428+'Захтев за додатна сред.'!G428+Projekat!G428+Sheet2!G428","v":0},{"$f":"+Programska_aktivnost!H428+Sheet1!H428+'Захтев за додатна сред.'!H428+Projekat!H428+Sheet2!H428","v":0},{"$f":"+Programska_aktivnost!I428+Sheet1!I428+'Захтев за додатна сред.'!I428+Projekat!I428+Sheet2!I428","v":0},{"$f":"+Programska_aktivnost!J428+Sheet1!J428+'Захтев за додатна сред.'!J428+Projekat!J428+Sheet2!J428","v":0},{"$f":"+Programska_aktivnost!K428+Sheet1!K428+'Захтев за додатна сред.'!K428+Projekat!K428+Sheet2!K428","v":0},{"$f":"+Programska_aktivnost!L428+Sheet1!L428+'Захтев за додатна сред.'!L428+Projekat!L428+Sheet2!L428","v":0},{"$f":"+Programska_aktivnost!M428+Sheet1!M428+'Захтев за додатна сред.'!M428+Projekat!M428+Sheet2!M428","v":0},0,0,null,null,null,null,null,null,null,null,null,0]
[382,615100,"Отплата гаранција по комерцијалним трансакцијама",{"$f":"+Programska_aktivnost!D429+Sheet1!D429+'Захтев за додатна сред.'!D429+Projekat!D429+Sheet2!D429","v":0},{"$f":"+Programska_aktivnost!E429+Sheet1!E429+'Захтев за додатна сред.'!E429+Projekat!E429+Sheet2!E429","v":0},{"$f":"+Programska_aktivnost!F429+Sheet1!F429+'Захтев за додатна сред.'!F429+Projekat!F429+Sheet2!F429","v":0},{"$f":"+Programska_aktivnost!G429+Sheet1!G429+'Захтев за додатна сред.'!G429+Projekat!G429+Sheet2!G429","v":0},{"$f":"+Programska_aktivnost!H429+Sheet1!H429+'Захтев за додатна сред.'!H429+Projekat!H429+Sheet2!H429","v":0},{"$f":"+Programska_aktivnost!I429+Sheet1!I429+'Захтев за додатна сред.'!I429+Projekat!I429+Sheet2!I429","v":0},{"$f":"+Programska_aktivnost!J429+Sheet1!J429+'Захтев за додатна сред.'!J429+Projekat!J429+Sheet2!J429","v":0},{"$f":"+Programska_aktivnost!K429+Sheet1!K429+'Захтев за додатна сред.'!K429+Projekat!K429+Sheet2!K429","v":0},{"$f":"+Programska_aktivnost!L429+Sheet1!L429+'Захтев за додатна сред.'!L429+Projekat!L429+Sheet2!L429","v":0},{"$f":"+Programska_aktivnost!M429+Sheet1!M429+'Захтев за додатна сред.'!M429+Projekat!M429+Sheet2!M429","v":0},0,0,null,null,null,null,null,null,null,null,null,0]
[383,620000,"НАБАВКА ФИНАНСИЈСКЕ ИМОВИНЕ (384 + 394 + 403)",{"$f":"+Programska_aktivnost!D430+Sheet1!D430+'Захтев за додатна сред.'!D430+Projekat!D430+Sheet2!D430","v":0},{"$f":"+Programska_aktivnost!E430+Sheet1!E430+'Захтев за додатна сред.'!E430+Projekat!E430+Sheet2!E430","v":0},{"$f":"+Programska_aktivnost!F430+Sheet1!F430+'Захтев за додатна сред.'!F430+Projekat!F430+Sheet2!F430","v":0},{"$f":"+Programska_aktivnost!G430+Sheet1!G430+'Захтев за додатна сред.'!G430+Projekat!G430+Sheet2!G430","v":0},{"$f":"+Programska_aktivnost!H430+Sheet1!H430+'Захтев за додатна сред.'!H430+Projekat!H430+Sheet2!H430","v":0},{"$f":"+Programska_aktivnost!I430+Sheet1!I430+'Захтев за додатна сред.'!I430+Projekat!I430+Sheet2!I430","v":0},{"$f":"+Programska_aktivnost!J430+Sheet1!J430+'Захтев за додатна сред.'!J430+Projekat!J430+Sheet2!J430","v":0},{"$f":"+Programska_aktivnost!K430+Sheet1!K430+'Захтев за додатна сред.'!K430+Projekat!K430+Sheet2!K430","v":0},{"$f":"+Programska_aktivnost!L430+Sheet1!L430+'Захтев за додатна сред.'!L430+Projekat!L430+Sheet2!L430","v":0},{"$f":"+Programska_aktivnost!M430+Sheet1!M430+'Захтев за додатна сред.'!M430+Projekat!M430+Sheet2!M430","v":0},0,0,null,null,null,null,null,null,null,null,null,0]
[384,621000,"НАБАВКА ДОМАЋЕ ФИНАНСИЈСКЕ ИМОВИНЕ (од 385 до 393)",{"$f":"+Programska_aktivnost!D431+Sheet1!D431+'Захтев за додатна сред.'!D431+Projekat!D431+Sheet2!D431","v":0},{"$f":"+Programska_aktivnost!E431+Sheet1!E431+'Захтев за додатна сред.'!E431+Projekat!E431+Sheet2!E431","v":0},{"$f":"+Programska_aktivnost!F431+Sheet1!F431+'Захтев за додатна сред.'!F431+Projekat!F431+Sheet2!F431","v":0},{"$f":"+Programska_aktivnost!G431+Sheet1!G431+'Захтев за додатна сред.'!G431+Projekat!G431+Sheet2!G431","v":0},{"$f":"+Programska_aktivnost!H431+Sheet1!H431+'Захтев за додатна сред.'!H431+Projekat!H431+Sheet2!H431","v":0},{"$f":"+Programska_aktivnost!I431+Sheet1!I431+'Захтев за додатна сред.'!I431+Projekat!I431+Sheet2!I431","v":0},{"$f":"+Programska_aktivnost!J431+Sheet1!J431+'Захтев за додатна сред.'!J431+Projekat!J431+Sheet2!J431","v":0},{"$f":"+Programska_aktivnost!K431+Sheet1!K431+'Захтев за додатна сред.'!K431+Projekat!K431+Sheet2!K431","v":0},{"$f":"+Programska_aktivnost!L431+Sheet1!L431+'Захтев за додатна сред.'!L431+Projekat!L431+Sheet2!L431","v":0},{"$f":"+Programska_aktivnost!M431+Sheet1!M431+'Захтев за додатна сред.'!M431+Projekat!M431+Sheet2!M431","v":0},0,0,null,null,null,null,null,null,null,null,null,0]
[385,621100,"Набавка домаћих хартија од вредности, изузев акција",{"$f":"+Programska_aktivnost!D432+Sheet1!D432+'Захтев за додатна сред.'!D432+Projekat!D432+Sheet2!D432","v":0},{"$f":"+Programska_aktivnost!E432+Sheet1!E432+'Захтев за додатна сред.'!E432+Projekat!E432+Sheet2!E432","v":0},{"$f":"+Programska_aktivnost!F432+Sheet1!F432+'Захтев за додатна сред.'!F432+Projekat!F432+Sheet2!F432","v":0},{"$f":"+Programska_aktivnost!G432+Sheet1!G432+'Захтев за додатна сред.'!G432+Projekat!G432+Sheet2!G432","v":0},{"$f":"+Programska_aktivnost!H432+Sheet1!H432+'Захтев за додатна сред.'!H432+Projekat!H432+Sheet2!H432","v":0},{"$f":"+Programska_aktivnost!I432+Sheet1!I432+'Захтев за додатна сред.'!I432+Projekat!I432+Sheet2!I432","v":0},{"$f":"+Programska_aktivnost!J432+Sheet1!J432+'Захтев за додатна сред.'!J432+Projekat!J432+Sheet2!J432","v":0},{"$f":"+Programska_aktivnost!K432+Sheet1!K432+'Захтев за додатна сред.'!K432+Projekat!K432+Sheet2!K432","v":0},{"$f":"+Programska_aktivnost!L432+Sheet1!L432+'Захтев за додатна сред.'!L432+Projekat!L432+Sheet2!L432","v":0},{"$f":"+Programska_aktivnost!M432+Sheet1!M432+'Захтев за додатна сред.'!M432+Projekat!M432+Sheet2!M432","v":0},0,0,null,null,null,null,null,null,null,null,null,0]
[386,621200,"Кредити осталим нивоима власти",{"$f":"+Programska_aktivnost!D433+Sheet1!D433+'Захтев за додатна сред.'!D433+Projekat!D433+Sheet2!D433","v":0},{"$f":"+Programska_aktivnost!E433+Sheet1!E433+'Захтев за додатна сред.'!E433+Projekat!E433+Sheet2!E433","v":0},{"$f":"+Programska_aktivnost!F433+Sheet1!F433+'Захтев за додатна сред.'!F433+Projekat!F433+Sheet2!F433","v":0},{"$f":"+Programska_aktivnost!G433+Sheet1!G433+'Захтев за додатна сред.'!G433+Projekat!G433+Sheet2!G433","v":0},{"$f":"+Programska_aktivnost!H433+Sheet1!H433+'Захтев за додатна сред.'!H433+Projekat!H433+Sheet2!H433","v":0},{"$f":"+Programska_aktivnost!I433+Sheet1!I433+'Захтев за додатна сред.'!I433+Projekat!I433+Sheet2!I433","v":0},{"$f":"+Programska_aktivnost!J433+Sheet1!J433+'Захтев за додатна сред.'!J433+Projekat!J433+Sheet2!J433","v":0},{"$f":"+Programska_aktivnost!K433+Sheet1!K433+'Захтев за додатна сред.'!K433+Projekat!K433+Sheet2!K433","v":0},{"$f":"+Programska_aktivnost!L433+Sheet1!L433+'Захтев за додатна сред.'!L433+Projekat!L433+Sheet2!L433","v":0},{"$f":"+Programska_aktivnost!M433+Sheet1!M433+'Захтев за додатна сред.'!M433+Projekat!M433+Sheet2!M433","v":0},0,0,null,null,null,null,null,null,null,null,null,0]
[387,621300,"Кредити домаћим јавним финансијским институцијама",{"$f":"+Programska_aktivnost!D434+Sheet1!D434+'Захтев за додатна сред.'!D434+Projekat!D434+Sheet2!D434","v":0},{"$f":"+Programska_aktivnost!E434+Sheet1!E434+'Захтев за додатна сред.'!E434+Projekat!E434+Sheet2!E434","v":0},{"$f":"+Programska_aktivnost!F434+Sheet1!F434+'Захтев за додатна сред.'!F434+Projekat!F434+Sheet2!F434","v":0},{"$f":"+Programska_aktivnost!G434+Sheet1!G434+'Захтев за додатна сред.'!G434+Projekat!G434+Sheet2!G434","v":0},{"$f":"+Programska_aktivnost!H434+Sheet1!H434+'Захтев за додатна сред.'!H434+Projekat!H434+Sheet2!H434","v":0},{"$f":"+Programska_aktivnost!I434+Sheet1!I434+'Захтев за додатна сред.'!I434+Projekat!I434+Sheet2!I434","v":0},{"$f":"+Programska_aktivnost!J434+Sheet1!J434+'Захтев за додатна сред.'!J434+Projekat!J434+Sheet2!J434","v":0},{"$f":"+Programska_aktivnost!K434+Sheet1!K434+'Захтев за додатна сред.'!K434+Projekat!K434+Sheet2!K434","v":0},{"$f":"+Programska_aktivnost!L434+Sheet1!L434+'Захтев за додатна сред.'!L434+Projekat!L434+Sheet2!L434","v":0},{"$f":"+Programska_aktivnost!M434+Sheet1!M434+'Захтев за додатна сред.'!M434+Projekat!M434+Sheet2!M434","v":0},0,0,null,null,null,null,null,null,null,null,null,0]
[388,621400,"Кредити домаћим пословним банкама",{"$f":"+Programska_aktivnost!D435+Sheet1!D435+'Захтев за додатна сред.'!D435+Projekat!D435+Sheet2!D435","v":0},{"$f":"+Programska_aktivnost!E435+Sheet1!E435+'Захтев за додатна сред.'!E435+Projekat!E435+Sheet2!E435","v":0},{"$f":"+Programska_aktivnost!F435+Sheet1!F435+'Захтев за додатна сред.'!F435+Projekat!F435+Sheet2!F435","v":0},{"$f":"+Programska_aktivnost!G435+Sheet1!G435+'Захтев за додатна сред.'!G435+Projekat!G435+Sheet2!G435","v":0},{"$f":"+Programska_aktivnost!H435+Sheet1!H435+'Захтев за додатна сред.'!H435+Projekat!H435+Sheet2!H435","v":0},{"$f":"+Programska_aktivnost!I435+Sheet1!I435+'Захтев за додатна сред.'!I435+Projekat!I435+Sheet2!I435","v":0},{"$f":"+Programska_aktivnost!J435+Sheet1!J435+'Захтев за додатна сред.'!J435+Projekat!J435+Sheet2!J435","v":0},{"$f":"+Programska_aktivnost!K435+Sheet1!K435+'Захтев за додатна сред.'!K435+Projekat!K435+Sheet2!K435","v":0},{"$f":"+Programska_aktivnost!L435+Sheet1!L435+'Захтев за додатна сред.'!L435+Projekat!L435+Sheet2!L435","v":0},{"$f":"+Programska_aktivnost!M435+Sheet1!M435+'Захтев за додатна сред.'!M435+Projekat!M435+Sheet2!M435","v":0},0,0,null,null,null,null,null,null,null,null,null,0]
[389,621500,"Кредити домаћим нефинансијским јавним институцијама",{"$f":"+Programska_aktivnost!D436+Sheet1!D436+'Захтев за додатна сред.'!D436+Projekat!D436+Sheet2!D436","v":0},{"$f":"+Programska_aktivnost!E436+Sheet1!E436+'Захтев за додатна сред.'!E436+Projekat!E436+Sheet2!E436","v":0},{"$f":"+Programska_aktivnost!F436+Sheet1!F436+'Захтев за додатна сред.'!F436+Projekat!F436+Sheet2!F436","v":0},{"$f":"+Programska_aktivnost!G436+Sheet1!G436+'Захтев за додатна сред.'!G436+Projekat!G436+Sheet2!G436","v":0},{"$f":"+Programska_aktivnost!H436+Sheet1!H436+'Захтев за додатна сред.'!H436+Projekat!H436+Sheet2!H436","v":0},{"$f":"+Programska_aktivnost!I436+Sheet1!I436+'Захтев за додатна сред.'!I436+Projekat!I436+Sheet2!I436","v":0},{"$f":"+Programska_aktivnost!J436+Sheet1!J436+'Захтев за додатна сред.'!J436+Projekat!J436+Sheet2!J436","v":0},{"$f":"+Programska_aktivnost!K436+Sheet1!K436+'Захтев за додатна сред.'!K436+Projekat!K436+Sheet2!K436","v":0},{"$f":"+Programska_aktivnost!L436+Sheet1!L436+'Захтев за додатна сред.'!L436+Projekat!L436+Sheet2!L436","v":0},{"$f":"+Programska_aktivnost!M436+Sheet1!M436+'Захтев за додатна сред.'!M436+Projekat!M436+Sheet2!M436","v":0},0,0,null,null,null,null,null,null,null,null,null,0]
[390,621600,"Кредити физичким лицима и домаћинствима у земљи",{"$f":"+Programska_aktivnost!D437+Sheet1!D437+'Захтев за додатна сред.'!D437+Projekat!D437+Sheet2!D437","v":0},{"$f":"+Programska_aktivnost!E437+Sheet1!E437+'Захтев за додатна сред.'!E437+Projekat!E437+Sheet2!E437","v":0},{"$f":"+Programska_aktivnost!F437+Sheet1!F437+'Захтев за додатна сред.'!F437+Projekat!F437+Sheet2!F437","v":0},{"$f":"+Programska_aktivnost!G437+Sheet1!G437+'Захтев за додатна сред.'!G437+Projekat!G437+Sheet2!G437","v":0},{"$f":"+Programska_aktivnost!H437+Sheet1!H437+'Захтев за додатна сред.'!H437+Projekat!H437+Sheet2!H437","v":0},{"$f":"+Programska_aktivnost!I437+Sheet1!I437+'Захтев за додатна сред.'!I437+Projekat!I437+Sheet2!I437","v":0},{"$f":"+Programska_aktivnost!J437+Sheet1!J437+'Захтев за додатна сред.'!J437+Projekat!J437+Sheet2!J437","v":0},{"$f":"+Programska_aktivnost!K437+Sheet1!K437+'Захтев за додатна сред.'!K437+Projekat!K437+Sheet2!K437","v":0},{"$f":"+Programska_aktivnost!L437+Sheet1!L437+'Захтев за додатна сред.'!L437+Projekat!L437+Sheet2!L437","v":0},{"$f":"+Programska_aktivnost!M437+Sheet1!M437+'Захтев за додатна сред.'!M437+Projekat!M437+Sheet2!M437","v":0},0,0,null,null,null,null,null,null,null,null,null,0]
[391,621700,"Кредити невладиним организацијама у земљи",{"$f":"+Programska_aktivnost!D438+Sheet1!D438+'Захтев за додатна сред.'!D438+Projekat!D438+Sheet2!D438","v":0},{"$f":"+Programska_aktivnost!E438+Sheet1!E438+'Захтев за додатна сред.'!E438+Projekat!E438+Sheet2!E438","v":0},{"$f":"+Programska_aktivnost!F438+Sheet1!F438+'Захтев за додатна сред.'!F438+Projekat!F438+Sheet2!F438","v":0},{"$f":"+Programska_aktivnost!G438+Sheet1!G438+'Захтев за додатна сред.'!G438+Projekat!G438+Sheet2!G438","v":0},{"$f":"+Programska_aktivnost!H438+Sheet1!H438+'Захтев за додатна сред.'!H438+Projekat!H438+Sheet2!H438","v":0},{"$f":"+Programska_aktivnost!I438+Sheet1!I438+'Захтев за додатна сред.'!I438+Projekat!I438+Sheet2!I438","v":0},{"$f":"+Programska_aktivnost!J438+Sheet1!J438+'Захтев за додатна сред.'!J438+Projekat!J438+Sheet2!J438","v":0},{"$f":"+Programska_aktivnost!K438+Sheet1!K438+'Захтев за додатна сред.'!K438+Projekat!K438+Sheet2!K438","v":0},{"$f":"+Programska_aktivnost!L438+Sheet1!L438+'Захтев за додатна сред.'!L438+Projekat!L438+Sheet2!L438","v":0},{"$f":"+Programska_aktivnost!M438+Sheet1!M438+'Захтев за додатна сред.'!M438+Projekat!M438+Sheet2!M438","v":0},0,0,null,null,null,null,null,null,null,null,null,0]
[392,621800,"Кредити домаћим нефинансијским приватним предузећима",{"$f":"+Programska_aktivnost!D439+Sheet1!D439+'Захтев за додатна сред.'!D439+Projekat!D439+Sheet2!D439","v":0},{"$f":"+Programska_aktivnost!E439+Sheet1!E439+'Захтев за додатна сред.'!E439+Projekat!E439+Sheet2!E439","v":0},{"$f":"+Programska_aktivnost!F439+Sheet1!F439+'Захтев за додатна сред.'!F439+Projekat!F439+Sheet2!F439","v":0},{"$f":"+Programska_aktivnost!G439+Sheet1!G439+'Захтев за додатна сред.'!G439+Projekat!G439+Sheet2!G439","v":0},{"$f":"+Programska_aktivnost!H439+Sheet1!H439+'Захтев за додатна сред.'!H439+Projekat!H439+Sheet2!H439","v":0},{"$f":"+Programska_aktivnost!I439+Sheet1!I439+'Захтев за додатна сред.'!I439+Projekat!I439+Sheet2!I439","v":0},{"$f":"+Programska_aktivnost!J439+Sheet1!J439+'Захтев за додатна сред.'!J439+Projekat!J439+Sheet2!J439","v":0},{"$f":"+Programska_aktivnost!K439+Sheet1!K439+'Захтев за додатна сред.'!K439+Projekat!K439+Sheet2!K439","v":0},{"$f":"+Programska_aktivnost!L439+Sheet1!L439+'Захтев за додатна сред.'!L439+Projekat!L439+Sheet2!L439","v":0},{"$f":"+Programska_aktivnost!M439+Sheet1!M439+'Захтев за додатна сред.'!M439+Projekat!M439+Sheet2!M439","v":0},0,0,null,null,null,null,null,null,null,null,null,0]
[{"$f":"A439+1","v":393},621900,"Набавка домаћих акција и осталог капитала",{"$f":"+Programska_aktivnost!D440+Sheet1!D440+'Захтев за додатна сред.'!D440+Projekat!D440+Sheet2!D440","v":0},{"$f":"+Programska_aktivnost!E440+Sheet1!E440+'Захтев за додатна сред.'!E440+Projekat!E440+Sheet2!E440","v":0},{"$f":"+Programska_aktivnost!F440+Sheet1!F440+'Захтев за додатна сред.'!F440+Projekat!F440+Sheet2!F440","v":0},{"$f":"+Programska_aktivnost!G440+Sheet1!G440+'Захтев за додатна сред.'!G440+Projekat!G440+Sheet2!G440","v":0},{"$f":"+Programska_aktivnost!H440+Sheet1!H440+'Захтев за додатна сред.'!H440+Projekat!H440+Sheet2!H440","v":0},{"$f":"+Programska_aktivnost!I440+Sheet1!I440+'Захтев за додатна сред.'!I440+Projekat!I440+Sheet2!I440","v":0},{"$f":"+Programska_aktivnost!J440+Sheet1!J440+'Захтев за додатна сред.'!J440+Projekat!J440+Sheet2!J440","v":0},{"$f":"+Programska_aktivnost!K440+Sheet1!K440+'Захтев за додатна сред.'!K440+Projekat!K440+Sheet2!K440","v":0},{"$f":"+Programska_aktivnost!L440+Sheet1!L440+'Захтев за додатна сред.'!L440+Projekat!L440+Sheet2!L440","v":0},{"$f":"+Programska_aktivnost!M440+Sheet1!M440+'Захтев за додатна сред.'!M440+Projekat!M440+Sheet2!M440","v":0},0,0,null,null,null,null,null,null,null,null,null,{"$f":"SUM(D440:O440)","v":0}]
[394,622000,"НАБАВКА СТРАНЕ ФИНАНСИЈСКЕ ИМОВИНЕ (од 395 до 402)",{"$f":"+Programska_aktivnost!D441+Sheet1!D441+'Захтев за додатна сред.'!D441+Projekat!D441+Sheet2!D441","v":0},{"$f":"+Programska_aktivnost!E441+Sheet1!E441+'Захтев за додатна сред.'!E441+Projekat!E441+Sheet2!E441","v":0},{"$f":"+Programska_aktivnost!F441+Sheet1!F441+'Захтев за додатна сред.'!F441+Projekat!F441+Sheet2!F441","v":0},{"$f":"+Programska_aktivnost!G441+Sheet1!G441+'Захтев за додатна сред.'!G441+Projekat!G441+Sheet2!G441","v":0},{"$f":"+Programska_aktivnost!H441+Sheet1!H441+'Захтев за додатна сред.'!H441+Projekat!H441+Sheet2!H441","v":0},{"$f":"+Programska_aktivnost!I441+Sheet1!I441+'Захтев за додатна сред.'!I441+Projekat!I441+Sheet2!I441","v":0},{"$f":"+Programska_aktivnost!J441+Sheet1!J441+'Захтев за додатна сред.'!J441+Projekat!J441+Sheet2!J441","v":0},{"$f":"+Programska_aktivnost!K441+Sheet1!K441+'Захтев за додатна сред.'!K441+Projekat!K441+Sheet2!K441","v":0},{"$f":"+Programska_aktivnost!L441+Sheet1!L441+'Захтев за додатна сред.'!L441+Projekat!L441+Sheet2!L441","v":0},{"$f":"+Programska_aktivnost!M441+Sheet1!M441+'Захтев за додатна сред.'!M441+Projekat!M441+Sheet2!M441","v":0},0,0,null,null,null,null,null,null,null,null,null,0]
[395,622100,"Набавка страних хартија од вредности, изузев акција",{"$f":"+Programska_aktivnost!D442+Sheet1!D442+'Захтев за додатна сред.'!D442+Projekat!D442+Sheet2!D442","v":0},{"$f":"+Programska_aktivnost!E442+Sheet1!E442+'Захтев за додатна сред.'!E442+Projekat!E442+Sheet2!E442","v":0},{"$f":"+Programska_aktivnost!F442+Sheet1!F442+'Захтев за додатна сред.'!F442+Projekat!F442+Sheet2!F442","v":0},{"$f":"+Programska_aktivnost!G442+Sheet1!G442+'Захтев за додатна сред.'!G442+Projekat!G442+Sheet2!G442","v":0},{"$f":"+Programska_aktivnost!H442+Sheet1!H442+'Захтев за додатна сред.'!H442+Projekat!H442+Sheet2!H442","v":0},{"$f":"+Programska_aktivnost!I442+Sheet1!I442+'Захтев за додатна сред.'!I442+Projekat!I442+Sheet2!I442","v":0},{"$f":"+Programska_aktivnost!J442+Sheet1!J442+'Захтев за додатна сред.'!J442+Projekat!J442+Sheet2!J442","v":0},{"$f":"+Programska_aktivnost!K442+Sheet1!K442+'Захтев за додатна сред.'!K442+Projekat!K442+Sheet2!K442","v":0},{"$f":"+Programska_aktivnost!L442+Sheet1!L442+'Захтев за додатна сред.'!L442+Projekat!L442+Sheet2!L442","v":0},{"$f":"+Programska_aktivnost!M442+Sheet1!M442+'Захтев за додатна сред.'!M442+Projekat!M442+Sheet2!M442","v":0},0,0,null,null,null,null,null,null,null,null,null,0]
[396,622200,"Кредити страним владама",{"$f":"+Programska_aktivnost!D443+Sheet1!D443+'Захтев за додатна сред.'!D443+Projekat!D443+Sheet2!D443","v":0},{"$f":"+Programska_aktivnost!E443+Sheet1!E443+'Захтев за додатна сред.'!E443+Projekat!E443+Sheet2!E443","v":0},{"$f":"+Programska_aktivnost!F443+Sheet1!F443+'Захтев за додатна сред.'!F443+Projekat!F443+Sheet2!F443","v":0},{"$f":"+Programska_aktivnost!G443+Sheet1!G443+'Захтев за додатна сред.'!G443+Projekat!G443+Sheet2!G443","v":0},{"$f":"+Programska_aktivnost!H443+Sheet1!H443+'Захтев за додатна сред.'!H443+Projekat!H443+Sheet2!H443","v":0},{"$f":"+Programska_aktivnost!I443+Sheet1!I443+'Захтев за додатна сред.'!I443+Projekat!I443+Sheet2!I443","v":0},{"$f":"+Programska_aktivnost!J443+Sheet1!J443+'Захтев за додатна сред.'!J443+Projekat!J443+Sheet2!J443","v":0},{"$f":"+Programska_aktivnost!K443+Sheet1!K443+'Захтев за додатна сред.'!K443+Projekat!K443+Sheet2!K443","v":0},{"$f":"+Programska_aktivnost!L443+Sheet1!L443+'Захтев за додатна сред.'!L443+Projekat!L443+Sheet2!L443","v":0},{"$f":"+Programska_aktivnost!M443+Sheet1!M443+'Захтев за додатна сред.'!M443+Projekat!M443+Sheet2!M443","v":0},0,0,null,null,null,null,null,null,null,null,null,0]
[397,622300,"Кредити међународним организацијама",{"$f":"+Programska_aktivnost!D444+Sheet1!D444+'Захтев за додатна сред.'!D444+Projekat!D444+Sheet2!D444","v":0},{"$f":"+Programska_aktivnost!E444+Sheet1!E444+'Захтев за додатна сред.'!E444+Projekat!E444+Sheet2!E444","v":0},{"$f":"+Programska_aktivnost!F444+Sheet1!F444+'Захтев за додатна сред.'!F444+Projekat!F444+Sheet2!F444","v":0},{"$f":"+Programska_aktivnost!G444+Sheet1!G444+'Захтев за додатна сред.'!G444+Projekat!G444+Sheet2!G444","v":0},{"$f":"+Programska_aktivnost!H444+Sheet1!H444+'Захтев за додатна сред.'!H444+Projekat!H444+Sheet2!H444","v":0},{"$f":"+Programska_aktivnost!I444+Sheet1!I444+'Захтев за додатна сред.'!I444+Projekat!I444+Sheet2!I444","v":0},{"$f":"+Programska_aktivnost!J444+Sheet1!J444+'Захтев за додатна сред.'!J444+Projekat!J444+Sheet2!J444","v":0},{"$f":"+Programska_aktivnost!K444+Sheet1!K444+'Захтев за додатна сред.'!K444+Projekat!K444+Sheet2!K444","v":0},{"$f":"+Programska_aktivnost!L444+Sheet1!L444+'Захтев за додатна сред.'!L444+Projekat!L444+Sheet2!L444","v":0},{"$f":"+Programska_aktivnost!M444+Sheet1!M444+'Захтев за додатна сред.'!M444+Projekat!M444+Sheet2!M444","v":0},0,0,null,null,null,null,null,null,null,null,null,0]
[398,622400,"Кредити страним пословним банкама",{"$f":"+Programska_aktivnost!D445+Sheet1!D445+'Захтев за додатна сред.'!D445+Projekat!D445+Sheet2!D445","v":0},{"$f":"+Programska_aktivnost!E445+Sheet1!E445+'Захтев за додатна сред.'!E445+Projekat!E445+Sheet2!E445","v":0},{"$f":"+Programska_aktivnost!F445+Sheet1!F445+'Захтев за додатна сред.'!F445+Projekat!F445+Sheet2!F445","v":0},{"$f":"+Programska_aktivnost!G445+Sheet1!G445+'Захтев за додатна сред.'!G445+Projekat!G445+Sheet2!G445","v":0},{"$f":"+Programska_aktivnost!H445+Sheet1!H445+'Захтев за додатна сред.'!H445+Projekat!H445+Sheet2!H445","v":0},{"$f":"+Programska_aktivnost!I445+Sheet1!I445+'Захтев за додатна сред.'!I445+Projekat!I445+Sheet2!I445","v":0},{"$f":"+Programska_aktivnost!J445+Sheet1!J445+'Захтев за додатна сред.'!J445+Projekat!J445+Sheet2!J445","v":0},{"$f":"+Programska_aktivnost!K445+Sheet1!K445+'Захтев за додатна сред.'!K445+Projekat!K445+Sheet2!K445","v":0},{"$f":"+Programska_aktivnost!L445+Sheet1!L445+'Захтев за додатна сред.'!L445+Projekat!L445+Sheet2!L445","v":0},{"$f":"+Programska_aktivnost!M445+Sheet1!M445+'Захтев за додатна сред.'!M445+Projekat!M445+Sheet2!M445","v":0},0,0,null,null,null,null,null,null,null,null,null,0]
[399,622500,"Кредити страним нефинансијским институцијама",{"$f":"+Programska_aktivnost!D446+Sheet1!D446+'Захтев за додатна сред.'!D446+Projekat!D446+Sheet2!D446","v":0},{"$f":"+Programska_aktivnost!E446+Sheet1!E446+'Захтев за додатна сред.'!E446+Projekat!E446+Sheet2!E446","v":0},{"$f":"+Programska_aktivnost!F446+Sheet1!F446+'Захтев за додатна сред.'!F446+Projekat!F446+Sheet2!F446","v":0},{"$f":"+Programska_aktivnost!G446+Sheet1!G446+'Захтев за додатна сред.'!G446+Projekat!G446+Sheet2!G446","v":0},{"$f":"+Programska_aktivnost!H446+Sheet1!H446+'Захтев за додатна сред.'!H446+Projekat!H446+Sheet2!H446","v":0},{"$f":"+Programska_aktivnost!I446+Sheet1!I446+'Захтев за додатна сред.'!I446+Projekat!I446+Sheet2!I446","v":0},{"$f":"+Programska_aktivnost!J446+Sheet1!J446+'Захтев за додатна сред.'!J446+Projekat!J446+Sheet2!J446","v":0},{"$f":"+Programska_aktivnost!K446+Sheet1!K446+'Захтев за додатна сред.'!K446+Projekat!K446+Sheet2!K446","v":0},{"$f":"+Programska_aktivnost!L446+Sheet1!L446+'Захтев за додатна сред.'!L446+Projekat!L446+Sheet2!L446","v":0},{"$f":"+Programska_aktivnost!M446+Sheet1!M446+'Захтев за додатна сред.'!M446+Projekat!M446+Sheet2!M446","v":0},0,0,null,null,null,null,null,null,null,null,null,0]
[400,622600,"Кредити страним невладиним организацијама",{"$f":"+Programska_aktivnost!D447+Sheet1!D447+'Захтев за додатна сред.'!D447+Projekat!D447+Sheet2!D447","v":0},{"$f":"+Programska_aktivnost!E447+Sheet1!E447+'Захтев за додатна сред.'!E447+Projekat!E447+Sheet2!E447","v":0},{"$f":"+Programska_aktivnost!F447+Sheet1!F447+'Захтев за додатна сред.'!F447+Projekat!F447+Sheet2!F447","v":0},{"$f":"+Programska_aktivnost!G447+Sheet1!G447+'Захтев за додатна сред.'!G447+Projekat!G447+Sheet2!G447","v":0},{"$f":"+Programska_aktivnost!H447+Sheet1!H447+'Захтев за додатна сред.'!H447+Projekat!H447+Sheet2!H447","v":0},{"$f":"+Programska_aktivnost!I447+Sheet1!I447+'Захтев за додатна сред.'!I447+Projekat!I447+Sheet2!I447","v":0},{"$f":"+Programska_aktivnost!J447+Sheet1!J447+'Захтев за додатна сред.'!J447+Projekat!J447+Sheet2!J447","v":0},{"$f":"+Programska_aktivnost!K447+Sheet1!K447+'Захтев за додатна сред.'!K447+Projekat!K447+Sheet2!K447","v":0},{"$f":"+Programska_aktivnost!L447+Sheet1!L447+'Захтев за додатна сред.'!L447+Projekat!L447+Sheet2!L447","v":0},{"$f":"+Programska_aktivnost!M447+Sheet1!M447+'Захтев за додатна сред.'!M447+Projekat!M447+Sheet2!M447","v":0},0,0,null,null,null,null,null,null,null,null,null,0]
[401,622700,"Набавка страних акција и осталог капитала",{"$f":"+Programska_aktivnost!D448+Sheet1!D448+'Захтев за додатна сред.'!D448+Projekat!D448+Sheet2!D448","v":0},{"$f":"+Programska_aktivnost!E448+Sheet1!E448+'Захтев за додатна сред.'!E448+Projekat!E448+Sheet2!E448","v":0},{"$f":"+Programska_aktivnost!F448+Sheet1!F448+'Захтев за додатна сред.'!F448+Projekat!F448+Sheet2!F448","v":0},{"$f":"+Programska_aktivnost!G448+Sheet1!G448+'Захтев за додатна сред.'!G448+Projekat!G448+Sheet2!G448","v":0},{"$f":"+Programska_aktivnost!H448+Sheet1!H448+'Захтев за додатна сред.'!H448+Projekat!H448+Sheet2!H448","v":0},{"$f":"+Programska_aktivnost!I448+Sheet1!I448+'Захтев за додатна сред.'!I448+Projekat!I448+Sheet2!I448","v":0},{"$f":"+Programska_aktivnost!J448+Sheet1!J448+'Захтев за додатна сред.'!J448+Projekat!J448+Sheet2!J448","v":0},{"$f":"+Programska_aktivnost!K448+Sheet1!K448+'Захтев за додатна сред.'!K448+Projekat!K448+Sheet2!K448","v":0},{"$f":"+Programska_aktivnost!L448+Sheet1!L448+'Захтев за додатна сред.'!L448+Projekat!L448+Sheet2!L448","v":0},{"$f":"+Programska_aktivnost!M448+Sheet1!M448+'Захтев за додатна сред.'!M448+Projekat!M448+Sheet2!M448","v":0},0,0,null,null,null,null,null,null,null,null,null,0]
[402,622800,"Куповина стране валуте",{"$f":"+Programska_aktivnost!D449+Sheet1!D449+'Захтев за додатна сред.'!D449+Projekat!D449+Sheet2!D449","v":0},{"$f":"+Programska_aktivnost!E449+Sheet1!E449+'Захтев за додатна сред.'!E449+Projekat!E449+Sheet2!E449","v":0},{"$f":"+Programska_aktivnost!F449+Sheet1!F449+'Захтев за додатна сред.'!F449+Projekat!F449+Sheet2!F449","v":0},{"$f":"+Programska_aktivnost!G449+Sheet1!G449+'Захтев за додатна сред.'!G449+Projekat!G449+Sheet2!G449","v":0},{"$f":"+Programska_aktivnost!H449+Sheet1!H449+'Захтев за додатна сред.'!H449+Projekat!H449+Sheet2!H449","v":0},{"$f":"+Programska_aktivnost!I449+Sheet1!I449+'Захтев за додатна сред.'!I449+Projekat!I449+Sheet2!I449","v":0},{"$f":"+Programska_aktivnost!J449+Sheet1!J449+'Захтев за додатна сред.'!J449+Projekat!J449+Sheet2!J449","v":0},{"$f":"+Programska_aktivnost!K449+Sheet1!K449+'Захтев за додатна сред.'!K449+Projekat!K449+Sheet2!K449","v":0},{"$f":"+Programska_aktivnost!L449+Sheet1!L449+'Захтев за додатна сред.'!L449+Projekat!L449+Sheet2!L449","v":0},{"$f":"+Programska_aktivnost!M449+Sheet1!M449+'Захтев за додатна сред.'!M449+Projekat!M449+Sheet2!M449","v":0},0,0,null,null,null,null,null,null,null,null,null,0]
[403,623000,"НАБАВКА ФИНАНСИЈСКЕ ИМОВИНЕ КОЈА СЕ ФИНАНСИРА ИЗ СРЕДСТАВА ЗА РЕАЛИЗАЦИЈУ НАЦИОНАЛНОГ ИНВЕСТИЦИОНОГ ПЛАНА (404)",{"$f":"+Programska_aktivnost!D450+Sheet1!D450+'Захтев за додатна сред.'!D450+Projekat!D450+Sheet2!D450","v":0},{"$f":"+Programska_aktivnost!E450+Sheet1!E450+'Захтев за додатна сред.'!E450+Projekat!E450+Sheet2!E450","v":0},{"$f":"+Programska_aktivnost!F450+Sheet1!F450+'Захтев за додатна сред.'!F450+Projekat!F450+Sheet2!F450","v":0},{"$f":"+Programska_aktivnost!G450+Sheet1!G450+'Захтев за додатна сред.'!G450+Projekat!G450+Sheet2!G450","v":0},{"$f":"+Programska_aktivnost!H450+Sheet1!H450+'Захтев за додатна сред.'!H450+Projekat!H450+Sheet2!H450","v":0},{"$f":"+Programska_aktivnost!I450+Sheet1!I450+'Захтев за додатна сред.'!I450+Projekat!I450+Sheet2!I450","v":0},{"$f":"+Programska_aktivnost!J450+Sheet1!J450+'Захтев за додатна сред.'!J450+Projekat!J450+Sheet2!J450","v":0},{"$f":"+Programska_aktivnost!K450+Sheet1!K450+'Захтев за додатна сред.'!K450+Projekat!K450+Sheet2!K450","v":0},{"$f":"+Programska_aktivnost!L450+Sheet1!L450+'Захтев за додатна сред.'!L450+Projekat!L450+Sheet2!L450","v":0},{"$f":"+Programska_aktivnost!M450+Sheet1!M450+'Захтев за додатна сред.'!M450+Projekat!M450+Sheet2!M450","v":0},0,0,null,null,null,null,null,null,null,null,null,0]
[404,623100,"Набавка финансијске имовине која се финансира из средстава за реализацију националног инвестиционог плана ",{"$f":"+Programska_aktivnost!D451+Sheet1!D451+'Захтев за додатна сред.'!D451+Projekat!D451+Sheet2!D451","v":0},{"$f":"+Programska_aktivnost!E451+Sheet1!E451+'Захтев за додатна сред.'!E451+Projekat!E451+Sheet2!E451","v":0},{"$f":"+Programska_aktivnost!F451+Sheet1!F451+'Захтев за додатна сред.'!F451+Projekat!F451+Sheet2!F451","v":0},{"$f":"+Programska_aktivnost!G451+Sheet1!G451+'Захтев за додатна сред.'!G451+Projekat!G451+Sheet2!G451","v":0},{"$f":"+Programska_aktivnost!H451+Sheet1!H451+'Захтев за додатна сред.'!H451+Projekat!H451+Sheet2!H451","v":0},{"$f":"+Programska_aktivnost!I451+Sheet1!I451+'Захтев за додатна сред.'!I451+Projekat!I451+Sheet2!I451","v":0},{"$f":"+Programska_aktivnost!J451+Sheet1!J451+'Захтев за додатна сред.'!J451+Projekat!J451+Sheet2!J451","v":0},{"$f":"+Programska_aktivnost!K451+Sheet1!K451+'Захтев за додатна сред.'!K451+Projekat!K451+Sheet2!K451","v":0},{"$f":"+Programska_aktivnost!L451+Sheet1!L451+'Захтев за додатна сред.'!L451+Projekat!L451+Sheet2!L451","v":0},{"$f":"+Programska_aktivnost!M451+Sheet1!M451+'Захтев за додатна сред.'!M451+Projekat!M451+Sheet2!M451","v":0},0,0,null,null,null,null,null,null,null,null,null,0]
[405,null,"УКУПНИ РАСХОДИ И ИЗДАЦИ (147 + 311 + 357)",{"$f":"+Programska_aktivnost!D452+Sheet1!D452+'Захтев за додатна сред.'!D452+Projekat!D452+Sheet2!D452","v":151754000},{"$f":"+Programska_aktivnost!E452+Sheet1!E452+'Захтев за додатна сред.'!E452+Projekat!E452+Sheet2!E452","v":12343000},{"$f":"+Programska_aktivnost!F452+Sheet1!F452+'Захтев за додатна сред.'!F452+Projekat!F452+Sheet2!F452","v":170977000},{"$f":"+Programska_aktivnost!G452+Sheet1!G452+'Захтев за додатна сред.'!G452+Projekat!G452+Sheet2!G452","v":12368000},{"$f":"+Programska_aktivnost!H452+Sheet1!H452+'Захтев за додатна сред.'!H452+Projekat!H452+Sheet2!H452","v":202171000},{"$f":"+Programska_aktivnost!I452+Sheet1!I452+'Захтев за додатна сред.'!I452+Projekat!I452+Sheet2!I452","v":2600000},{"$f":"+Programska_aktivnost!J452+Sheet1!J452+'Захтев за додатна сред.'!J452+Projekat!J452+Sheet2!J452","v":180321000},{"$f":"+Programska_aktivnost!K452+Sheet1!K452+'Захтев за додатна сред.'!K452+Projekat!K452+Sheet2!K452","v":2800000},{"$f":"+Programska_aktivnost!L452+Sheet1!L452+'Захтев за додатна сред.'!L452+Projekat!L452+Sheet2!L452","v":186833000},{"$f":"+Programska_aktivnost!M452+Sheet1!M452+'Захтев за додатна сред.'!M452+Projekat!M452+Sheet2!M452","v":2900000},{"$f":"N404+N358+N194","v":569325000},{"$f":"O404+O358+O194","v":8300000},null,null,null,null,null,null,null,null,null,1]
[null,null,"Разлика (146-405 ) [ Укупни приходи, примања и пренета средства - Укупни расходи и издаци]",{"$f":"D193-D452","v":0},{"$f":"E193-E452","v":0},0,0,0,0,0,0,0,0,0,0,null,null,null,null,null,null,null,null,null,1]
[null,null,null,null,null,null,null,null,null,null,null,null,null,null,null,null,null,null,null,null,null,null,null,null,1]
["Шифра","Извори финансирања програмске активности",null,"Вредност у базној години (2018)",null,"Очекивана вредност у 2019. години",null,"Вредност у 2020. години",null,"Вредност у 2021. години",null,"Вредност у 2022. години",null,"Укупно (2020-2022)",null,null,null,null,null,null,null,null,null,null,1]
[1,2,null,3,null,4,null,5,null,6,null,7,null,"8=(5+6+7)",null,null,null,null,null,null,null,null,null,null,1]
["01","Приходи из буџета",null,{"$f":"+Programska_aktivnost!D457+Sheet1!D457+'Захтев за додатна сред.'!D457+Projekat!D457+Sheet2!D457","v":151754000},null,{"$f":"+Programska_aktivnost!F457+Sheet1!F457+'Захтев за додатна сред.'!F457+Projekat!F457+Sheet2!F457","v":170977000},{"$f":"+Programska_aktivnost!G457+Sheet1!G457+'Захтев за додатна сред.'!G457+Projekat!G457+Sheet2!G457","v":0},{"$f":"+Programska_aktivnost!H457+Sheet1!H457+'Захтев за додатна сред.'!H457+Projekat!H457+Sheet2!H457","v":202171000},{"$f":"+Programska_aktivnost!I457+Sheet1!I457+'Захтев за додатна сред.'!I457+Projekat!I457+Sheet2!I457","v":0},{"$f":"+Programska_aktivnost!J457+Sheet1!J457+'Захтев за додатна сред.'!J457+Projekat!J457+Sheet2!J457","v":180321000},{"$f":"+Programska_aktivnost!K457+Sheet1!K457+'Захтев за додатна сред.'!K457+Projekat!K457+Sheet2!K457","v":0},{"$f":"+Programska_aktivnost!L457+Sheet1!L457+'Захтев за додатна сред.'!L457+Projekat!L457+Sheet2!L457","v":186833000},{"$f":"+Programska_aktivnost!M457+Sheet1!M457+'Захтев за додатна сред.'!M457+Projekat!M457+Sheet2!M457","v":0},{"$f":"SUM(H457,J457,L457)","v":569325000},null,null,null,null,null,null,null,null,null,null,1461381000]
["02","Трансфери између корисника на истом нивоу",null,{"$f":"+Programska_aktivnost!D458+Sheet1!D458+'Захтев за додатна сред.'!D458+Projekat!D458+Sheet2!D458","v":0},{"$f":"+Programska_aktivnost!E458+Sheet1!E458+'Захтев за додатна сред.'!E458+Projekat!E458+Sheet2!E458","v":0},{"$f":"+Programska_aktivnost!F458+Sheet1!F458+'Захтев за додатна сред.'!F458+Projekat!F458+Sheet2!F458","v":0},{"$f":"+Programska_aktivnost!G458+Sheet1!G458+'Захтев за додатна сред.'!G458+Projekat!G458+Sheet2!G458","v":0},{"$f":"+Programska_aktivnost!H458+Sheet1!H458+'Захтев за додатна сред.'!H458+Projekat!H458+Sheet2!H458","v":0},{"$f":"+Programska_aktivnost!I458+Sheet1!I458+'Захтев за додатна сред.'!I458+Projekat!I458+Sheet2!I458","v":0},{"$f":"+Programska_aktivnost!J458+Sheet1!J458+'Захтев за додатна сред.'!J458+Projekat!J458+Sheet2!J458","v":0},{"$f":"+Programska_aktivnost!K458+Sheet1!K458+'Захтев за додатна сред.'!K458+Projekat!K458+Sheet2!K458","v":0},{"$f":"+Programska_aktivnost!L458+Sheet1!L458+'Захтев за додатна сред.'!L458+Projekat!L458+Sheet2!L458","v":0},{"$f":"+Programska_aktivnost!M458+Sheet1!M458+'Захтев за додатна сред.'!M458+Projekat!M458+Sheet2!M458","v":0},{"$f":"SUM(H458,J458,L458)","v":0},null,null,null,null,null,null,null,null,null,null,0]
["03","Социјални доприноси",null,{"$f":"+Programska_aktivnost!D459+Sheet1!D459+'Захтев за додатна сред.'!D459+Projekat!D459+Sheet2!D459","v":763000},{"$f":"+Programska_aktivnost!E459+Sheet1!E459+'Захтев за додатна сред.'!E459+Projekat!E459+Sheet2!E459","v":0},{"$f":"+Programska_aktivnost!F459+Sheet1!F459+'Захтев за додатна сред.'!F459+Projekat!F459+Sheet2!F459","v":668000},{"$f":"+Programska_aktivnost!G459+Sheet1!G459+'Захтев за додатна сред.'!G459+Projekat!G459+Sheet2!G459","v":0},{"$f":"+Programska_aktivnost!H459+Sheet1!H459+'Захтев за додатна сред.'!H459+Projekat!H459+Sheet2!H459","v":0},{"$f":"+Programska_aktivnost!I459+Sheet1!I459+'Захтев за додатна сред.'!I459+Projekat!I459+Sheet2!I459","v":0},{"$f":"+Programska_aktivnost!J459+Sheet1!J459+'Захтев за додатна сред.'!J459+Projekat!J459+Sheet2!J459","v":0},{"$f":"+Programska_aktivnost!K459+Sheet1!K459+'Захтев за додатна сред.'!K459+Projekat!K459+Sheet2!K459","v":0},{"$f":"+Programska_aktivnost!L459+Sheet1!L459+'Захтев за додатна сред.'!L459+Projekat!L459+Sheet2!L459","v":0},{"$f":"+Programska_aktivnost!M459+Sheet1!M459+'Захтев за додатна сред.'!M459+Projekat!M459+Sheet2!M459","v":0},0,null,null,null,null,null,null,null,null,null,null,1431000]
["04","Сопствени приходи буџетских корисника",null,{"$f":"+Programska_aktivnost!D460+Sheet1!D460+'Захтев за додатна сред.'!D460+Projekat!D460+Sheet2!D460","v":0},{"$f":"+Programska_aktivnost!E460+Sheet1!E460+'Захтев за додатна сред.'!E460+Projekat!E460+Sheet2!E460","v":0},{"$f":"+Programska_aktivnost!F460+Sheet1!F460+'Захтев за додатна сред.'!F460+Projekat!F460+Sheet2!F460","v":0},{"$f":"+Programska_aktivnost!G460+Sheet1!G460+'Захтев за додатна сред.'!G460+Projekat!G460+Sheet2!G460","v":0},{"$f":"+Programska_aktivnost!H460+Sheet1!H460+'Захтев за додатна сред.'!H460+Projekat!H460+Sheet2!H460","v":0},{"$f":"+Programska_aktivnost!I460+Sheet1!I460+'Захтев за додатна сред.'!I460+Projekat!I460+Sheet2!I460","v":0},{"$f":"+Programska_aktivnost!J460+Sheet1!J460+'Захтев за додатна сред.'!J460+Projekat!J460+Sheet2!J460","v":0},{"$f":"+Programska_aktivnost!K460+Sheet1!K460+'Захтев за додатна сред.'!K460+Projekat!K460+Sheet2!K460","v":0},{"$f":"+Programska_aktivnost!L460+Sheet1!L460+'Захтев за додатна сред.'!L460+Projekat!L460+Sheet2!L460","v":0},{"$f":"+Programska_aktivnost!M460+Sheet1!M460+'Захтев за додатна сред.'!M460+Projekat!M460+Sheet2!M460","v":0},0,null,null,null,null,null,null,null,null,null,null,0]
["05","Донације од иностраних земаља",null,{"$f":"+Programska_aktivnost!D461+Sheet1!D461+'Захтев за додатна сред.'!D461+Projekat!D461+Sheet2!D461","v":0},{"$f":"+Programska_aktivnost!E461+Sheet1!E461+'Захтев за додатна сред.'!E461+Projekat!E461+Sheet2!E461","v":0},{"$f":"+Programska_aktivnost!F461+Sheet1!F461+'Захтев за додатна сред.'!F461+Projekat!F461+Sheet2!F461","v":0},{"$f":"+Programska_aktivnost!G461+Sheet1!G461+'Захтев за додатна сред.'!G461+Projekat!G461+Sheet2!G461","v":0},{"$f":"+Programska_aktivnost!H461+Sheet1!H461+'Захтев за додатна сред.'!H461+Projekat!H461+Sheet2!H461","v":0},{"$f":"+Programska_aktivnost!I461+Sheet1!I461+'Захтев за додатна сред.'!I461+Projekat!I461+Sheet2!I461","v":0},{"$f":"+Programska_aktivnost!J461+Sheet1!J461+'Захтев за додатна сред.'!J461+Projekat!J461+Sheet2!J461","v":0},{"$f":"+Programska_aktivnost!K461+Sheet1!K461+'Захтев за додатна сред.'!K461+Projekat!K461+Sheet2!K461","v":0},{"$f":"+Programska_aktivnost!L461+Sheet1!L461+'Захтев за додатна сред.'!L461+Projekat!L461+Sheet2!L461","v":0},{"$f":"+Programska_aktivnost!M461+Sheet1!M461+'Захтев за додатна сред.'!M461+Projekat!M461+Sheet2!M461","v":0},0,null,null,null,null,null,null,null,null,null,null,0]
["06","Донације од међународних организација",null,{"$f":"+Programska_aktivnost!D462+Sheet1!D462+'Захтев за додатна сред.'!D462+Projekat!D462+Sheet2!D462","v":0},{"$f":"+Programska_aktivnost!E462+Sheet1!E462+'Захтев за додатна сред.'!E462+Projekat!E462+Sheet2!E462","v":0},{"$f":"+Programska_aktivnost!F462+Sheet1!F462+'Захтев за додатна сред.'!F462+Projekat!F462+Sheet2!F462","v":0},{"$f":"+Programska_aktivnost!G462+Sheet1!G462+'Захтев за додатна сред.'!G462+Projekat!G462+Sheet2!G462","v":0},{"$f":"+Programska_aktivnost!H462+Sheet1!H462+'Захтев за додатна сред.'!H462+Projekat!H462+Sheet2!H462","v":0},{"$f":"+Programska_aktivnost!I462+Sheet1!I462+'Захтев за додатна сред.'!I462+Projekat!I462+Sheet2!I462","v":0},{"$f":"+Programska_aktivnost!J462+Sheet1!J462+'Захтев за додатна сред.'!J462+Projekat!J462+Sheet2!J462","v":0},{"$f":"+Programska_aktivnost!K462+Sheet1!K462+'Захтев за додатна сред.'!K462+Projekat!K462+Sheet2!K462","v":0},{"$f":"+Programska_aktivnost!L462+Sheet1!L462+'Захтев за додатна сред.'!L462+Projekat!L462+Sheet2!L462","v":0},{"$f":"+Programska_aktivnost!M462+Sheet1!M462+'Захтев за додатна сред.'!M462+Projekat!M462+Sheet2!M462","v":0},0,null,null,null,null,null,null,null,null,null,null,0]
["07","Трансфери од других нивоа власти",null,{"$f":"+Programska_aktivnost!D463+Sheet1!D463+'Захтев за додатна сред.'!D463+Projekat!D463+Sheet2!D463","v":11580000},{"$f":"+Programska_aktivnost!E463+Sheet1!E463+'Захтев за додатна сред.'!E463+Projekat!E463+Sheet2!E463","v":0},{"$f":"+Programska_aktivnost!F463+Sheet1!F463+'Захтев за додатна сред.'!F463+Projekat!F463+Sheet2!F463","v":11700000},{"$f":"+Programska_aktivnost!G463+Sheet1!G463+'Захтев за додатна сред.'!G463+Projekat!G463+Sheet2!G463","v":0},{"$f":"+Programska_aktivnost!H463+Sheet1!H463+'Захтев за додатна сред.'!H463+Projekat!H463+Sheet2!H463","v":2600000},{"$f":"+Programska_aktivnost!I463+Sheet1!I463+'Захтев за додатна сред.'!I463+Projekat!I463+Sheet2!I463","v":0},{"$f":"+Programska_aktivnost!J463+Sheet1!J463+'Захтев за додатна сред.'!J463+Projekat!J463+Sheet2!J463","v":2800000},{"$f":"+Programska_aktivnost!K463+Sheet1!K463+'Захтев за додатна сред.'!K463+Projekat!K463+Sheet2!K463","v":0},{"$f":"+Programska_aktivnost!L463+Sheet1!L463+'Захтев за додатна сред.'!L463+Projekat!L463+Sheet2!L463","v":2900000},{"$f":"+Programska_aktivnost!M463+Sheet1!M463+'Захтев за додатна сред.'!M463+Projekat!M463+Sheet2!M463","v":0},8300000,null,null,null,null,null,null,null,null,null,null,39880000]
["08","Добровољни трансфери од физичких и правних лица",null,{"$f":"+Programska_aktivnost!D464+Sheet1!D464+'Захтев за додатна сред.'!D464+Projekat!D464+Sheet2!D464","v":0},{"$f":"+Programska_aktivnost!E464+Sheet1!E464+'Захтев за додатна сред.'!E464+Projekat!E464+Sheet2!E464","v":0},{"$f":"+Programska_aktivnost!F464+Sheet1!F464+'Захтев за додатна сред.'!F464+Projekat!F464+Sheet2!F464","v":0},{"$f":"+Programska_aktivnost!G464+Sheet1!G464+'Захтев за додатна сред.'!G464+Projekat!G464+Sheet2!G464","v":0},{"$f":"+Programska_aktivnost!H464+Sheet1!H464+'Захтев за додатна сред.'!H464+Projekat!H464+Sheet2!H464","v":0},{"$f":"+Programska_aktivnost!I464+Sheet1!I464+'Захтев за додатна сред.'!I464+Projekat!I464+Sheet2!I464","v":0},{"$f":"+Programska_aktivnost!J464+Sheet1!J464+'Захтев за додатна сред.'!J464+Projekat!J464+Sheet2!J464","v":0},{"$f":"+Programska_aktivnost!K464+Sheet1!K464+'Захтев за додатна сред.'!K464+Projekat!K464+Sheet2!K464","v":0},{"$f":"+Programska_aktivnost!L464+Sheet1!L464+'Захтев за додатна сред.'!L464+Projekat!L464+Sheet2!L464","v":0},{"$f":"+Programska_aktivnost!M464+Sheet1!M464+'Захтев за додатна сред.'!M464+Projekat!M464+Sheet2!M464","v":0},0,null,null,null,null,null,null,null,null,null,null,0]
["09","Примања од продаје нефинансијске имовине",null,{"$f":"+Programska_aktivnost!D465+Sheet1!D465+'Захтев за додатна сред.'!D465+Projekat!D465+Sheet2!D465","v":0},{"$f":"+Programska_aktivnost!E465+Sheet1!E465+'Захтев за додатна сред.'!E465+Projekat!E465+Sheet2!E465","v":0},{"$f":"+Programska_aktivnost!F465+Sheet1!F465+'Захтев за додатна сред.'!F465+Projekat!F465+Sheet2!F465","v":0},{"$f":"+Programska_aktivnost!G465+Sheet1!G465+'Захтев за додатна сред.'!G465+Projekat!G465+Sheet2!G465","v":0},{"$f":"+Programska_aktivnost!H465+Sheet1!H465+'Захтев за додатна сред.'!H465+Projekat!H465+Sheet2!H465","v":0},{"$f":"+Programska_aktivnost!I465+Sheet1!I465+'Захтев за додатна сред.'!I465+Projekat!I465+Sheet2!I465","v":0},{"$f":"+Programska_aktivnost!J465+Sheet1!J465+'Захтев за додатна сред.'!J465+Projekat!J465+Sheet2!J465","v":0},{"$f":"+Programska_aktivnost!K465+Sheet1!K465+'Захтев за додатна сред.'!K465+Projekat!K465+Sheet2!K465","v":0},{"$f":"+Programska_aktivnost!L465+Sheet1!L465+'Захтев за додатна сред.'!L465+Projekat!L465+Sheet2!L465","v":0},{"$f":"+Programska_aktivnost!M465+Sheet1!M465+'Захтев за додатна сред.'!M465+Projekat!M465+Sheet2!M465","v":0},0,null,null,null,null,null,null,null,null,null,null,0]
["10","Примања од домаћих задуживања",null,{"$f":"+Programska_aktivnost!D466+Sheet1!D466+'Захтев за додатна сред.'!D466+Projekat!D466+Sheet2!D466","v":0},{"$f":"+Programska_aktivnost!E466+Sheet1!E466+'Захтев за додатна сред.'!E466+Projekat!E466+Sheet2!E466","v":0},{"$f":"+Programska_aktivnost!F466+Sheet1!F466+'Захтев за додатна сред.'!F466+Projekat!F466+Sheet2!F466","v":0},{"$f":"+Programska_aktivnost!G466+Sheet1!G466+'Захтев за додатна сред.'!G466+Projekat!G466+Sheet2!G466","v":0},{"$f":"+Programska_aktivnost!H466+Sheet1!H466+'Захтев за додатна сред.'!H466+Projekat!H466+Sheet2!H466","v":0},{"$f":"+Programska_aktivnost!I466+Sheet1!I466+'Захтев за додатна сред.'!I466+Projekat!I466+Sheet2!I466","v":0},{"$f":"+Programska_aktivnost!J466+Sheet1!J466+'Захтев за додатна сред.'!J466+Projekat!J466+Sheet2!J466","v":0},{"$f":"+Programska_aktivnost!K466+Sheet1!K466+'Захтев за додатна сред.'!K466+Projekat!K466+Sheet2!K466","v":0},{"$f":"+Programska_aktivnost!L466+Sheet1!L466+'Захтев за додатна сред.'!L466+Projekat!L466+Sheet2!L466","v":0},{"$f":"+Programska_aktivnost!M466+Sheet1!M466+'Захтев за додатна сред.'!M466+Projekat!M466+Sheet2!M466","v":0},0,null,null,null,null,null,null,null,null,null,null,0]
["11","Примања од иностраних задуживања",null,{"$f":"+Programska_aktivnost!D467+Sheet1!D467+'Захтев за додатна сред.'!D467+Projekat!D467+Sheet2!D467","v":0},{"$f":"+Programska_aktivnost!E467+Sheet1!E467+'Захтев за додатна сред.'!E467+Projekat!E467+Sheet2!E467","v":0},{"$f":"+Programska_aktivnost!F467+Sheet1!F467+'Захтев за додатна сред.'!F467+Projekat!F467+Sheet2!F467","v":0},{"$f":"+Programska_aktivnost!G467+Sheet1!G467+'Захтев за додатна сред.'!G467+Projekat!G467+Sheet2!G467","v":0},{"$f":"+Programska_aktivnost!H467+Sheet1!H467+'Захтев за додатна сред.'!H467+Projekat!H467+Sheet2!H467","v":0},{"$f":"+Programska_aktivnost!I467+Sheet1!I467+'Захтев за додатна сред.'!I467+Projekat!I467+Sheet2!I467","v":0},{"$f":"+Programska_aktivnost!J467+Sheet1!J467+'Захтев за додатна сред.'!J467+Projekat!J467+Sheet2!J467","v":0},{"$f":"+Programska_aktivnost!K467+Sheet1!K467+'Захтев за додатна сред.'!K467+Projekat!K467+Sheet2!K467","v":0},{"$f":"+Programska_aktivnost!L467+Sheet1!L467+'Захтев за додатна сред.'!L467+Projekat!L467+Sheet2!L467","v":0},{"$f":"+Programska_aktivnost!M467+Sheet1!M467+'Захтев за додатна сред.'!M467+Projekat!M467+Sheet2!M467","v":0},0,null,null,null,null,null,null,null,null,null,null,0]
["12","Примања од отплате датих кредита и продаје финансијске имовине",null,{"$f":"+Programska_aktivnost!D468+Sheet1!D468+'Захтев за додатна сред.'!D468+Projekat!D468+Sheet2!D468","v":0},{"$f":"+Programska_aktivnost!E468+Sheet1!E468+'Захтев за додатна сред.'!E468+Projekat!E468+Sheet2!E468","v":0},{"$f":"+Programska_aktivnost!F468+Sheet1!F468+'Захтев за додатна сред.'!F468+Projekat!F468+Sheet2!F468","v":0},{"$f":"+Programska_aktivnost!G468+Sheet1!G468+'Захтев за додатна сред.'!G468+Projekat!G468+Sheet2!G468","v":0},{"$f":"+Programska_aktivnost!H468+Sheet1!H468+'Захтев за додатна сред.'!H468+Projekat!H468+Sheet2!H468","v":0},{"$f":"+Programska_aktivnost!I468+Sheet1!I468+'Захтев за додатна сред.'!I468+Projekat!I468+Sheet2!I468","v":0},{"$f":"+Programska_aktivnost!J468+Sheet1!J468+'Захтев за додатна сред.'!J468+Projekat!J468+Sheet2!J468","v":0},{"$f":"+Programska_aktivnost!K468+Sheet1!K468+'Захтев за додатна сред.'!K468+Projekat!K468+Sheet2!K468","v":0},{"$f":"+Programska_aktivnost!L468+Sheet1!L468+'Захтев за додатна сред.'!L468+Projekat!L468+Sheet2!L468","v":0},{"$f":"+Programska_aktivnost!M468+Sheet1!M468+'Захтев за додатна сред.'!M468+Projekat!M468+Sheet2!M468","v":0},0,null,null,null,null,null,null,null,null,null,null,0]
["13","Нераспоређени вишак прихода из ранијих година",null,{"$f":"+Programska_aktivnost!D469+Sheet1!D469+'Захтев за додатна сред.'!D469+Projekat!D469+Sheet2!D469","v":0},{"$f":"+Programska_aktivnost!E469+Sheet1!E469+'Захтев за додатна сред.'!E469+Projekat!E469+Sheet2!E469","v":0},{"$f":"+Programska_aktivnost!F469+Sheet1!F469+'Захтев за додатна сред.'!F469+Projekat!F469+Sheet2!F469","v":0},{"$f":"+Programska_aktivnost!G469+Sheet1!G469+'Захтев за додатна сред.'!G469+Projekat!G469+Sheet2!G469","v":0},{"$f":"+Programska_aktivnost!H469+Sheet1!H469+'Захтев за додатна сред.'!H469+Projekat!H469+Sheet2!H469","v":0},{"$f":"+Programska_aktivnost!I469+Sheet1!I469+'Захтев за додатна сред.'!I469+Projekat!I469+Sheet2!I469","v":0},{"$f":"+Programska_aktivnost!J469+Sheet1!J469+'Захтев за додатна сред.'!J469+Projekat!J469+Sheet2!J469","v":0},{"$f":"+Programska_aktivnost!K469+Sheet1!K469+'Захтев за додатна сред.'!K469+Projekat!K469+Sheet2!K469","v":0},{"$f":"+Programska_aktivnost!L469+Sheet1!L469+'Захтев за додатна сред.'!L469+Projekat!L469+Sheet2!L469","v":0},{"$f":"+Programska_aktivnost!M469+Sheet1!M469+'Захтев за додатна сред.'!M469+Projekat!M469+Sheet2!M469","v":0},0,null,null,null,null,null,null,null,null,null,null,0]
["14","Неутрошена средства од приватизације из ранијих година",null,{"$f":"+Programska_aktivnost!D470+Sheet1!D470+'Захтев за додатна сред.'!D470+Projekat!D470+Sheet2!D470","v":0},{"$f":"+Programska_aktivnost!E470+Sheet1!E470+'Захтев за додатна сред.'!E470+Projekat!E470+Sheet2!E470","v":0},{"$f":"+Programska_aktivnost!F470+Sheet1!F470+'Захтев за додатна сред.'!F470+Projekat!F470+Sheet2!F470","v":0},{"$f":"+Programska_aktivnost!G470+Sheet1!G470+'Захтев за додатна сред.'!G470+Projekat!G470+Sheet2!G470","v":0},{"$f":"+Programska_aktivnost!H470+Sheet1!H470+'Захтев за додатна сред.'!H470+Projekat!H470+Sheet2!H470","v":0},{"$f":"+Programska_aktivnost!I470+Sheet1!I470+'Захтев за додатна сред.'!I470+Projekat!I470+Sheet2!I470","v":0},{"$f":"+Programska_aktivnost!J470+Sheet1!J470+'Захтев за додатна сред.'!J470+Projekat!J470+Sheet2!J470","v":0},{"$f":"+Programska_aktivnost!K470+Sheet1!K470+'Захтев за додатна сред.'!K470+Projekat!K470+Sheet2!K470","v":0},{"$f":"+Programska_aktivnost!L470+Sheet1!L470+'Захтев за додатна сред.'!L470+Projekat!L470+Sheet2!L470","v":0},{"$f":"+Programska_aktivnost!M470+Sheet1!M470+'Захтев за додатна сред.'!M470+Projekat!M470+Sheet2!M470","v":0},0,null,null,null,null,null,null,null,null,null,null,{"$f":"SUM(D470:O470)","v":0}]
["15","Неутрошена средства донација из ранијих година",null,{"$f":"+Programska_aktivnost!D471+Sheet1!D471+'Захтев за додатна сред.'!D471+Projekat!D471+Sheet2!D471","v":0},{"$f":"+Programska_aktivnost!E471+Sheet1!E471+'Захтев за додатна сред.'!E471+Projekat!E471+Sheet2!E471","v":0},{"$f":"+Programska_aktivnost!F471+Sheet1!F471+'Захтев за додатна сред.'!F471+Projekat!F471+Sheet2!F471","v":0},{"$f":"+Programska_aktivnost!G471+Sheet1!G471+'Захтев за додатна сред.'!G471+Projekat!G471+Sheet2!G471","v":0},{"$f":"+Programska_aktivnost!H471+Sheet1!H471+'Захтев за додатна сред.'!H471+Projekat!H471+Sheet2!H471","v":0},{"$f":"+Programska_aktivnost!I471+Sheet1!I471+'Захтев за додатна сред.'!I471+Projekat!I471+Sheet2!I471","v":0},{"$f":"+Programska_aktivnost!J471+Sheet1!J471+'Захтев за додатна сред.'!J471+Projekat!J471+Sheet2!J471","v":0},{"$f":"+Programska_aktivnost!K471+Sheet1!K471+'Захтев за додатна сред.'!K471+Projekat!K471+Sheet2!K471","v":0},{"$f":"+Programska_aktivnost!L471+Sheet1!L471+'Захтев за додатна сред.'!L471+Projekat!L471+Sheet2!L471","v":0},{"$f":"+Programska_aktivnost!M471+Sheet1!M471+'Захтев за додатна сред.'!M471+Projekat!M471+Sheet2!M471","v":0},0,null,null,null,null,null,null,null,null,null,null,0]
["16","Родитељски динар за ваннаставне активности",null,{"$f":"+Programska_aktivnost!D472+Sheet1!D472+'Захтев за додатна сред.'!D472+Projekat!D472+Sheet2!D472","v":0},{"$f":"+Programska_aktivnost!E472+Sheet1!E472+'Захтев за додатна сред.'!E472+Projekat!E472+Sheet2!E472","v":0},{"$f":"+Programska_aktivnost!F472+Sheet1!F472+'Захтев за додатна сред.'!F472+Projekat!F472+Sheet2!F472","v":0},{"$f":"+Programska_aktivnost!G472+Sheet1!G472+'Захтев за додатна сред.'!G472+Projekat!G472+Sheet2!G472","v":0},{"$f":"+Programska_aktivnost!H472+Sheet1!H472+'Захтев за додатна сред.'!H472+Projekat!H472+Sheet2!H472","v":0},{"$f":"+Programska_aktivnost!I472+Sheet1!I472+'Захтев за додатна сред.'!I472+Projekat!I472+Sheet2!I472","v":0},{"$f":"+Programska_aktivnost!J472+Sheet1!J472+'Захтев за додатна сред.'!J472+Projekat!J472+Sheet2!J472","v":0},{"$f":"+Programska_aktivnost!K472+Sheet1!K472+'Захтев за додатна сред.'!K472+Projekat!K472+Sheet2!K472","v":0},{"$f":"+Programska_aktivnost!L472+Sheet1!L472+'Захтев за додатна сред.'!L472+Projekat!L472+Sheet2!L472","v":0},{"$f":"+Programska_aktivnost!M472+Sheet1!M472+'Захтев за додатна сред.'!M472+Projekat!M472+Sheet2!M472","v":0},0,null,null,null,null,null,null,null,null,null,null,0]
["56","Финансијска помоћ ЕУ",null,{"$f":"+Programska_aktivnost!D473+Sheet1!D473+'Захтев за додатна сред.'!D473+Projekat!D473+Sheet2!D473","v":0},{"$f":"+Programska_aktivnost!E473+Sheet1!E473+'Захтев за додатна сред.'!E473+Projekat!E473+Sheet2!E473","v":0},{"$f":"+Programska_aktivnost!F473+Sheet1!F473+'Захтев за додатна сред.'!F473+Projekat!F473+Sheet2!F473","v":0},{"$f":"+Programska_aktivnost!G473+Sheet1!G473+'Захтев за додатна сред.'!G473+Projekat!G473+Sheet2!G473","v":0},{"$f":"+Programska_aktivnost!H473+Sheet1!H473+'Захтев за додатна сред.'!H473+Projekat!H473+Sheet2!H473","v":0},{"$f":"+Programska_aktivnost!I473+Sheet1!I473+'Захтев за додатна сред.'!I473+Projekat!I473+Sheet2!I473","v":0},{"$f":"+Programska_aktivnost!J473+Sheet1!J473+'Захтев за додатна сред.'!J473+Projekat!J473+Sheet2!J473","v":0},{"$f":"+Programska_aktivnost!K473+Sheet1!K473+'Захтев за додатна сред.'!K473+Projekat!K473+Sheet2!K473","v":0},{"$f":"+Programska_aktivnost!L473+Sheet1!L473+'Захтев за додатна сред.'!L473+Projekat!L473+Sheet2!L473","v":0},{"$f":"+Programska_aktivnost!M473+Sheet1!M473+'Захтев за додатна сред.'!M473+Projekat!M473+Sheet2!M473","v":0},0,null,null,null,null,null,null,null,null,null,null,0]
["УКУПНО  ЗА:",null,{"$f":"$D$4","v":"Програм 8.  Предшколско васпитање и образовање"},{"$f":"SUM(D457:E473)","v":164097000},null,{"$f":"SUM(F457:G473)","v":183345000},null,{"$f":"SUM(H457:I473)","v":204771000},null,{"$f":"SUM(J457:K473)","v":183121000},null,{"$f":"SUM(L457:M473)","v":189733000},null,{"$f":"SUM(H474:M474)","v":577625000},null,null,null,null,null,null,null,null,null,null,1]
[null,null,"Разлика ( укупни расходи и издаци -  укупни извори )",{"$f":"D452+E452-D474","v":0},null,{"$f":"F452+G452-F474","v":0},null,{"$f":"H452+I452-H474","v":0},null,{"$f":"J452+K452-J474","v":0},null,{"$f":"L452+M452-L474","v":0},null,{"$f":"N452+O452-N474","v":0},null,null,null,null,null,null,null,null,null,null,1]
[null,null,null,null,null,null,null,null,null,null,null,null,null,null,null,null,null,null,null,null,null,null,null,null,1]
["ЛИСТА ПРОГРАМСКИХ АКТИВНОСТИ/ПРОЈЕКАТА У ОКВИРУ ПРОГРАМА",null,null,null,null,null,null,null,null,null,null,null,null,null,null,null,null,null,null,null,null,null,null,null,1]
[null,null,null,null,null,null,null,null,null,null,null,null,null,null,null,null,null,null,null,null,null,null,null,null,1]
["Рбр.","Назив програмских активности и пројеката у оквиру програма по буџетским корисницима",null,"Вредност у базној години (2018)",null,"Очекивана вредност у 2019. години",null,"Вредност у 2020. години",null,"Вредност у 2021. години",null,"Вредност у 2022. години",null,"Укупно (2020-2022)",null,null,null,null,null,null,null,null,null,null,1]
[null,null,null,"Буџетска средства","Средства из осталих извора","Буџетска средства","Средства из осталих извора","Буџетска средства","Средства из осталих извора","Буџетска средства","Средства из осталих извора","Буџетска средства","Средства из осталих извора","Буџетска средства","Средства из осталих извора",null,null,null,null,null,null,null,null,null,1]
[1,2,null,3,4,5,6,7,8,9,10,11,12,13,14,null,null,null,null,null,null,null,null,null,1]
[1,{"$f":"IF(ISNA(VLOOKUP(ROWS($B$482:B482),Uputstvo!$C$377:$E$426,3,FALSE)),\" \",VLOOKUP(ROWS($B$482:B482),Uputstvo!$C$377:$E$426,3,FALSE))","v":" "},null,{"$f":"IF(ISNA(VLOOKUP(ROWS($D$482:D482),Uputstvo!$C$377:$O$426,4,FALSE)),\" \",VLOOKUP(ROWS($D$482:D482),Uputstvo!$C$377:$O$426,4,FALSE))","v":" "},{"$f":"IF(ISNA(VLOOKUP(ROWS($E$482:E482),Uputstvo!$C$377:$O$426,5,FALSE)),\" \",VLOOKUP(ROWS($E$482:E482),Uputstvo!$C$377:$O$426,5,FALSE))","v":" "},{"$f":"IF(ISNA(VLOOKUP(ROWS($F$482:F482),Uputstvo!$C$377:$O$426,6,FALSE)),\" \",VLOOKUP(ROWS($F$482:F482),Uputstvo!$C$377:$O$426,6,FALSE))","v":" "},{"$f":"IF(ISNA(VLOOKUP(ROWS($G$482:G482),Uputstvo!$C$377:$O$426,7,FALSE)),\" \",VLOOKUP(ROWS($G$482:G482),Uputstvo!$C$377:$O$426,7,FALSE))","v":" "},{"$f":"IF(ISNA(VLOOKUP(ROWS($H$482:H482),Uputstvo!$C$377:$O$426,8,FALSE)),\" \",VLOOKUP(ROWS($H$482:H482),Uputstvo!$C$377:$O$426,8,FALSE))","v":" "},{"$f":"IF(ISNA(VLOOKUP(ROWS($I$482:I482),Uputstvo!$C$377:$O$426,9,FALSE)),\" \",VLOOKUP(ROWS($I$482:I482),Uputstvo!$C$377:$O$426,9,FALSE))","v":" "},{"$f":"IF(ISNA(VLOOKUP(ROWS($J$482:J482),Uputstvo!$C$377:$O$426,10,FALSE)),\" \",VLOOKUP(ROWS($J$482:J482),Uputstvo!$C$377:$O$426,10,FALSE))","v":" "},{"$f":"IF(ISNA(VLOOKUP(ROWS($K$482:K482),Uputstvo!$C$377:$O$426,11,FALSE)),\" \",VLOOKUP(ROWS($K$482:K482),Uputstvo!$C$377:$O$426,11,FALSE))","v":" "},{"$f":"IF(ISNA(VLOOKUP(ROWS($L$482:L482),Uputstvo!$C$377:$O$426,12,FALSE)),\" \",VLOOKUP(ROWS($L$482:L482),Uputstvo!$C$377:$O$426,12,FALSE))","v":" "},{"$f":"IF(ISNA(VLOOKUP(ROWS($M$482:M482),Uputstvo!$C$377:$O$426,13,FALSE)),\" \",VLOOKUP(ROWS($M$482:M482),Uputstvo!$C$377:$O$426,13,FALSE))","v":" "},{"$f":"SUM(H482,J482,L482)","v":0},{"$f":"SUM(I482,K482,M482)","v":0},null,null,null,null,null,null,null,null,null,{"$f":"SUM(D482:M482)","v":0}]
[2,{"$f":"IF(ISNA(VLOOKUP(ROWS($B$482:B483),Uputstvo!$C$377:$E$426,3,FALSE)),\" \",VLOOKUP(ROWS($B$482:B483),Uputstvo!$C$377:$E$426,3,FALSE))","v":" "},null,{"$f":"IF(ISNA(VLOOKUP(ROWS($D$482:D483),Uputstvo!$C$377:$O$426,4,FALSE)),\" \",VLOOKUP(ROWS($D$482:D483),Uputstvo!$C$377:$O$426,4,FALSE))","v":" "},{"$f":"IF(ISNA(VLOOKUP(ROWS($E$482:E483),Uputstvo!$C$377:$O$426,5,FALSE)),\" \",VLOOKUP(ROWS($E$482:E483),Uputstvo!$C$377:$O$426,5,FALSE))","v":" "},{"$f":"IF(ISNA(VLOOKUP(ROWS($F$482:F483),Uputstvo!$C$377:$O$426,6,FALSE)),\" \",VLOOKUP(ROWS($F$482:F483),Uputstvo!$C$377:$O$426,6,FALSE))","v":" "},{"$f":"IF(ISNA(VLOOKUP(ROWS($G$482:G483),Uputstvo!$C$377:$O$426,7,FALSE)),\" \",VLOOKUP(ROWS($G$482:G483),Uputstvo!$C$377:$O$426,7,FALSE))","v":" "},{"$f":"IF(ISNA(VLOOKUP(ROWS($H$482:H483),Uputstvo!$C$377:$O$426,8,FALSE)),\" \",VLOOKUP(ROWS($H$482:H483),Uputstvo!$C$377:$O$426,8,FALSE))","v":" "},{"$f":"IF(ISNA(VLOOKUP(ROWS($I$482:I483),Uputstvo!$C$377:$O$426,9,FALSE)),\" \",VLOOKUP(ROWS($I$482:I483),Uputstvo!$C$377:$O$426,9,FALSE))","v":" "},{"$f":"IF(ISNA(VLOOKUP(ROWS($J$482:J483),Uputstvo!$C$377:$O$426,10,FALSE)),\" \",VLOOKUP(ROWS($J$482:J483),Uputstvo!$C$377:$O$426,10,FALSE))","v":" "},{"$f":"IF(ISNA(VLOOKUP(ROWS($K$482:K483),Uputstvo!$C$377:$O$426,11,FALSE)),\" \",VLOOKUP(ROWS($K$482:K483),Uputstvo!$C$377:$O$426,11,FALSE))","v":" "},{"$f":"IF(ISNA(VLOOKUP(ROWS($L$482:L483),Uputstvo!$C$377:$O$426,12,FALSE)),\" \",VLOOKUP(ROWS($L$482:L483),Uputstvo!$C$377:$O$426,12,FALSE))","v":" "},{"$f":"IF(ISNA(VLOOKUP(ROWS($M$482:M483),Uputstvo!$C$377:$O$426,13,FALSE)),\" \",VLOOKUP(ROWS($M$482:M483),Uputstvo!$C$377:$O$426,13,FALSE))","v":" "},{"$f":"SUM(H483,J483,L483)","v":0},{"$f":"SUM(I483,K483,M483)","v":0},null,null,null,null,null,null,null,null,null,{"$f":"SUM(D483:M483)","v":0}]
[3,{"$f":"IF(ISNA(VLOOKUP(ROWS($B$482:B484),Uputstvo!$C$377:$E$426,3,FALSE)),\" \",VLOOKUP(ROWS($B$482:B484),Uputstvo!$C$377:$E$426,3,FALSE))","v":" "},null,{"$f":"IF(ISNA(VLOOKUP(ROWS($D$482:D484),Uputstvo!$C$377:$O$426,4,FALSE)),\" \",VLOOKUP(ROWS($D$482:D484),Uputstvo!$C$377:$O$426,4,FALSE))","v":" "},{"$f":"IF(ISNA(VLOOKUP(ROWS($E$482:E484),Uputstvo!$C$377:$O$426,5,FALSE)),\" \",VLOOKUP(ROWS($E$482:E484),Uputstvo!$C$377:$O$426,5,FALSE))","v":" "},{"$f":"IF(ISNA(VLOOKUP(ROWS($F$482:F484),Uputstvo!$C$377:$O$426,6,FALSE)),\" \",VLOOKUP(ROWS($F$482:F484),Uputstvo!$C$377:$O$426,6,FALSE))","v":" "},{"$f":"IF(ISNA(VLOOKUP(ROWS($G$482:G484),Uputstvo!$C$377:$O$426,7,FALSE)),\" \",VLOOKUP(ROWS($G$482:G484),Uputstvo!$C$377:$O$426,7,FALSE))","v":" "},{"$f":"IF(ISNA(VLOOKUP(ROWS($H$482:H484),Uputstvo!$C$377:$O$426,8,FALSE)),\" \",VLOOKUP(ROWS($H$482:H484),Uputstvo!$C$377:$O$426,8,FALSE))","v":" "},{"$f":"IF(ISNA(VLOOKUP(ROWS($I$482:I484),Uputstvo!$C$377:$O$426,9,FALSE)),\" \",VLOOKUP(ROWS($I$482:I484),Uputstvo!$C$377:$O$426,9,FALSE))","v":" "},{"$f":"IF(ISNA(VLOOKUP(ROWS($J$482:J484),Uputstvo!$C$377:$O$426,10,FALSE)),\" \",VLOOKUP(ROWS($J$482:J484),Uputstvo!$C$377:$O$426,10,FALSE))","v":" "},{"$f":"IF(ISNA(VLOOKUP(ROWS($K$482:K484),Uputstvo!$C$377:$O$426,11,FALSE)),\" \",VLOOKUP(ROWS($K$482:K484),Uputstvo!$C$377:$O$426,11,FALSE))","v":" "},{"$f":"IF(ISNA(VLOOKUP(ROWS($L$482:L484),Uputstvo!$C$377:$O$426,12,FALSE)),\" \",VLOOKUP(ROWS($L$482:L484),Uputstvo!$C$377:$O$426,12,FALSE))","v":" "},{"$f":"IF(ISNA(VLOOKUP(ROWS($M$482:M484),Uputstvo!$C$377:$O$426,13,FALSE)),\" \",VLOOKUP(ROWS($M$482:M484),Uputstvo!$C$377:$O$426,13,FALSE))","v":" "},0,0,null,null,null,null,null,null,null,null,null,0]
[4,{"$f":"IF(ISNA(VLOOKUP(ROWS($B$482:B485),Uputstvo!$C$377:$E$426,3,FALSE)),\" \",VLOOKUP(ROWS($B$482:B485),Uputstvo!$C$377:$E$426,3,FALSE))","v":" "},null,{"$f":"IF(ISNA(VLOOKUP(ROWS($D$482:D485),Uputstvo!$C$377:$O$426,4,FALSE)),\" \",VLOOKUP(ROWS($D$482:D485),Uputstvo!$C$377:$O$426,4,FALSE))","v":" "},{"$f":"IF(ISNA(VLOOKUP(ROWS($E$482:E485),Uputstvo!$C$377:$O$426,5,FALSE)),\" \",VLOOKUP(ROWS($E$482:E485),Uputstvo!$C$377:$O$426,5,FALSE))","v":" "},{"$f":"IF(ISNA(VLOOKUP(ROWS($F$482:F485),Uputstvo!$C$377:$O$426,6,FALSE)),\" \",VLOOKUP(ROWS($F$482:F485),Uputstvo!$C$377:$O$426,6,FALSE))","v":" "},{"$f":"IF(ISNA(VLOOKUP(ROWS($G$482:G485),Uputstvo!$C$377:$O$426,7,FALSE)),\" \",VLOOKUP(ROWS($G$482:G485),Uputstvo!$C$377:$O$426,7,FALSE))","v":" "},{"$f":"IF(ISNA(VLOOKUP(ROWS($H$482:H485),Uputstvo!$C$377:$O$426,8,FALSE)),\" \",VLOOKUP(ROWS($H$482:H485),Uputstvo!$C$377:$O$426,8,FALSE))","v":" "},{"$f":"IF(ISNA(VLOOKUP(ROWS($I$482:I485),Uputstvo!$C$377:$O$426,9,FALSE)),\" \",VLOOKUP(ROWS($I$482:I485),Uputstvo!$C$377:$O$426,9,FALSE))","v":" "},{"$f":"IF(ISNA(VLOOKUP(ROWS($J$482:J485),Uputstvo!$C$377:$O$426,10,FALSE)),\" \",VLOOKUP(ROWS($J$482:J485),Uputstvo!$C$377:$O$426,10,FALSE))","v":" "},{"$f":"IF(ISNA(VLOOKUP(ROWS($K$482:K485),Uputstvo!$C$377:$O$426,11,FALSE)),\" \",VLOOKUP(ROWS($K$482:K485),Uputstvo!$C$377:$O$426,11,FALSE))","v":" "},{"$f":"IF(ISNA(VLOOKUP(ROWS($L$482:L485),Uputstvo!$C$377:$O$426,12,FALSE)),\" \",VLOOKUP(ROWS($L$482:L485),Uputstvo!$C$377:$O$426,12,FALSE))","v":" "},{"$f":"IF(ISNA(VLOOKUP(ROWS($M$482:M485),Uputstvo!$C$377:$O$426,13,FALSE)),\" \",VLOOKUP(ROWS($M$482:M485),Uputstvo!$C$377:$O$426,13,FALSE))","v":" "},0,0,null,null,null,null,null,null,null,null,null,0]
[5,{"$f":"IF(ISNA(VLOOKUP(ROWS($B$482:B486),Uputstvo!$C$377:$E$426,3,FALSE)),\" \",VLOOKUP(ROWS($B$482:B486),Uputstvo!$C$377:$E$426,3,FALSE))","v":" "},null,{"$f":"IF(ISNA(VLOOKUP(ROWS($D$482:D486),Uputstvo!$C$377:$O$426,4,FALSE)),\" \",VLOOKUP(ROWS($D$482:D486),Uputstvo!$C$377:$O$426,4,FALSE))","v":" "},{"$f":"IF(ISNA(VLOOKUP(ROWS($E$482:E486),Uputstvo!$C$377:$O$426,5,FALSE)),\" \",VLOOKUP(ROWS($E$482:E486),Uputstvo!$C$377:$O$426,5,FALSE))","v":" "},{"$f":"IF(ISNA(VLOOKUP(ROWS($F$482:F486),Uputstvo!$C$377:$O$426,6,FALSE)),\" \",VLOOKUP(ROWS($F$482:F486),Uputstvo!$C$377:$O$426,6,FALSE))","v":" "},{"$f":"IF(ISNA(VLOOKUP(ROWS($G$482:G486),Uputstvo!$C$377:$O$426,7,FALSE)),\" \",VLOOKUP(ROWS($G$482:G486),Uputstvo!$C$377:$O$426,7,FALSE))","v":" "},{"$f":"IF(ISNA(VLOOKUP(ROWS($H$482:H486),Uputstvo!$C$377:$O$426,8,FALSE)),\" \",VLOOKUP(ROWS($H$482:H486),Uputstvo!$C$377:$O$426,8,FALSE))","v":" "},{"$f":"IF(ISNA(VLOOKUP(ROWS($I$482:I486),Uputstvo!$C$377:$O$426,9,FALSE)),\" \",VLOOKUP(ROWS($I$482:I486),Uputstvo!$C$377:$O$426,9,FALSE))","v":" "},{"$f":"IF(ISNA(VLOOKUP(ROWS($J$482:J486),Uputstvo!$C$377:$O$426,10,FALSE)),\" \",VLOOKUP(ROWS($J$482:J486),Uputstvo!$C$377:$O$426,10,FALSE))","v":" "},{"$f":"IF(ISNA(VLOOKUP(ROWS($K$482:K486),Uputstvo!$C$377:$O$426,11,FALSE)),\" \",VLOOKUP(ROWS($K$482:K486),Uputstvo!$C$377:$O$426,11,FALSE))","v":" "},{"$f":"IF(ISNA(VLOOKUP(ROWS($L$482:L486),Uputstvo!$C$377:$O$426,12,FALSE)),\" \",VLOOKUP(ROWS($L$482:L486),Uputstvo!$C$377:$O$426,12,FALSE))","v":" "},{"$f":"IF(ISNA(VLOOKUP(ROWS($M$482:M486),Uputstvo!$C$377:$O$426,13,FALSE)),\" \",VLOOKUP(ROWS($M$482:M486),Uputstvo!$C$377:$O$426,13,FALSE))","v":" "},0,0,null,null,null,null,null,null,null,null,null,0]
[6,{"$f":"IF(ISNA(VLOOKUP(ROWS($B$482:B487),Uputstvo!$C$377:$E$426,3,FALSE)),\" \",VLOOKUP(ROWS($B$482:B487),Uputstvo!$C$377:$E$426,3,FALSE))","v":" "},null,{"$f":"IF(ISNA(VLOOKUP(ROWS($D$482:D487),Uputstvo!$C$377:$O$426,4,FALSE)),\" \",VLOOKUP(ROWS($D$482:D487),Uputstvo!$C$377:$O$426,4,FALSE))","v":" "},{"$f":"IF(ISNA(VLOOKUP(ROWS($E$482:E487),Uputstvo!$C$377:$O$426,5,FALSE)),\" \",VLOOKUP(ROWS($E$482:E487),Uputstvo!$C$377:$O$426,5,FALSE))","v":" "},{"$f":"IF(ISNA(VLOOKUP(ROWS($F$482:F487),Uputstvo!$C$377:$O$426,6,FALSE)),\" \",VLOOKUP(ROWS($F$482:F487),Uputstvo!$C$377:$O$426,6,FALSE))","v":" "},{"$f":"IF(ISNA(VLOOKUP(ROWS($G$482:G487),Uputstvo!$C$377:$O$426,7,FALSE)),\" \",VLOOKUP(ROWS($G$482:G487),Uputstvo!$C$377:$O$426,7,FALSE))","v":" "},{"$f":"IF(ISNA(VLOOKUP(ROWS($H$482:H487),Uputstvo!$C$377:$O$426,8,FALSE)),\" \",VLOOKUP(ROWS($H$482:H487),Uputstvo!$C$377:$O$426,8,FALSE))","v":" "},{"$f":"IF(ISNA(VLOOKUP(ROWS($I$482:I487),Uputstvo!$C$377:$O$426,9,FALSE)),\" \",VLOOKUP(ROWS($I$482:I487),Uputstvo!$C$377:$O$426,9,FALSE))","v":" "},{"$f":"IF(ISNA(VLOOKUP(ROWS($J$482:J487),Uputstvo!$C$377:$O$426,10,FALSE)),\" \",VLOOKUP(ROWS($J$482:J487),Uputstvo!$C$377:$O$426,10,FALSE))","v":" "},{"$f":"IF(ISNA(VLOOKUP(ROWS($K$482:K487),Uputstvo!$C$377:$O$426,11,FALSE)),\" \",VLOOKUP(ROWS($K$482:K487),Uputstvo!$C$377:$O$426,11,FALSE))","v":" "},{"$f":"IF(ISNA(VLOOKUP(ROWS($L$482:L487),Uputstvo!$C$377:$O$426,12,FALSE)),\" \",VLOOKUP(ROWS($L$482:L487),Uputstvo!$C$377:$O$426,12,FALSE))","v":" "},{"$f":"IF(ISNA(VLOOKUP(ROWS($M$482:M487),Uputstvo!$C$377:$O$426,13,FALSE)),\" \",VLOOKUP(ROWS($M$482:M487),Uputstvo!$C$377:$O$426,13,FALSE))","v":" "},0,0,null,null,null,null,null,null,null,null,null,0]
[7,{"$f":"IF(ISNA(VLOOKUP(ROWS($B$482:B488),Uputstvo!$C$377:$E$426,3,FALSE)),\" \",VLOOKUP(ROWS($B$482:B488),Uputstvo!$C$377:$E$426,3,FALSE))","v":" "},null,{"$f":"IF(ISNA(VLOOKUP(ROWS($D$482:D488),Uputstvo!$C$377:$O$426,4,FALSE)),\" \",VLOOKUP(ROWS($D$482:D488),Uputstvo!$C$377:$O$426,4,FALSE))","v":" "},{"$f":"IF(ISNA(VLOOKUP(ROWS($E$482:E488),Uputstvo!$C$377:$O$426,5,FALSE)),\" \",VLOOKUP(ROWS($E$482:E488),Uputstvo!$C$377:$O$426,5,FALSE))","v":" "},{"$f":"IF(ISNA(VLOOKUP(ROWS($F$482:F488),Uputstvo!$C$377:$O$426,6,FALSE)),\" \",VLOOKUP(ROWS($F$482:F488),Uputstvo!$C$377:$O$426,6,FALSE))","v":" "},{"$f":"IF(ISNA(VLOOKUP(ROWS($G$482:G488),Uputstvo!$C$377:$O$426,7,FALSE)),\" \",VLOOKUP(ROWS($G$482:G488),Uputstvo!$C$377:$O$426,7,FALSE))","v":" "},{"$f":"IF(ISNA(VLOOKUP(ROWS($H$482:H488),Uputstvo!$C$377:$O$426,8,FALSE)),\" \",VLOOKUP(ROWS($H$482:H488),Uputstvo!$C$377:$O$426,8,FALSE))","v":" "},{"$f":"IF(ISNA(VLOOKUP(ROWS($I$482:I488),Uputstvo!$C$377:$O$426,9,FALSE)),\" \",VLOOKUP(ROWS($I$482:I488),Uputstvo!$C$377:$O$426,9,FALSE))","v":" "},{"$f":"IF(ISNA(VLOOKUP(ROWS($J$482:J488),Uputstvo!$C$377:$O$426,10,FALSE)),\" \",VLOOKUP(ROWS($J$482:J488),Uputstvo!$C$377:$O$426,10,FALSE))","v":" "},{"$f":"IF(ISNA(VLOOKUP(ROWS($K$482:K488),Uputstvo!$C$377:$O$426,11,FALSE)),\" \",VLOOKUP(ROWS($K$482:K488),Uputstvo!$C$377:$O$426,11,FALSE))","v":" "},{"$f":"IF(ISNA(VLOOKUP(ROWS($L$482:L488),Uputstvo!$C$377:$O$426,12,FALSE)),\" \",VLOOKUP(ROWS($L$482:L488),Uputstvo!$C$377:$O$426,12,FALSE))","v":" "},{"$f":"IF(ISNA(VLOOKUP(ROWS($M$482:M488),Uputstvo!$C$377:$O$426,13,FALSE)),\" \",VLOOKUP(ROWS($M$482:M488),Uputstvo!$C$377:$O$426,13,FALSE))","v":" "},0,0,null,null,null,null,null,null,null,null,null,0]
[8,{"$f":"IF(ISNA(VLOOKUP(ROWS($B$482:B489),Uputstvo!$C$377:$E$426,3,FALSE)),\" \",VLOOKUP(ROWS($B$482:B489),Uputstvo!$C$377:$E$426,3,FALSE))","v":" "},null,{"$f":"IF(ISNA(VLOOKUP(ROWS($D$482:D489),Uputstvo!$C$377:$O$426,4,FALSE)),\" \",VLOOKUP(ROWS($D$482:D489),Uputstvo!$C$377:$O$426,4,FALSE))","v":" "},{"$f":"IF(ISNA(VLOOKUP(ROWS($E$482:E489),Uputstvo!$C$377:$O$426,5,FALSE)),\" \",VLOOKUP(ROWS($E$482:E489),Uputstvo!$C$377:$O$426,5,FALSE))","v":" "},{"$f":"IF(ISNA(VLOOKUP(ROWS($F$482:F489),Uputstvo!$C$377:$O$426,6,FALSE)),\" \",VLOOKUP(ROWS($F$482:F489),Uputstvo!$C$377:$O$426,6,FALSE))","v":" "},{"$f":"IF(ISNA(VLOOKUP(ROWS($G$482:G489),Uputstvo!$C$377:$O$426,7,FALSE)),\" \",VLOOKUP(ROWS($G$482:G489),Uputstvo!$C$377:$O$426,7,FALSE))","v":" "},{"$f":"IF(ISNA(VLOOKUP(ROWS($H$482:H489),Uputstvo!$C$377:$O$426,8,FALSE)),\" \",VLOOKUP(ROWS($H$482:H489),Uputstvo!$C$377:$O$426,8,FALSE))","v":" "},{"$f":"IF(ISNA(VLOOKUP(ROWS($I$482:I489),Uputstvo!$C$377:$O$426,9,FALSE)),\" \",VLOOKUP(ROWS($I$482:I489),Uputstvo!$C$377:$O$426,9,FALSE))","v":" "},{"$f":"IF(ISNA(VLOOKUP(ROWS($J$482:J489),Uputstvo!$C$377:$O$426,10,FALSE)),\" \",VLOOKUP(ROWS($J$482:J489),Uputstvo!$C$377:$O$426,10,FALSE))","v":" "},{"$f":"IF(ISNA(VLOOKUP(ROWS($K$482:K489),Uputstvo!$C$377:$O$426,11,FALSE)),\" \",VLOOKUP(ROWS($K$482:K489),Uputstvo!$C$377:$O$426,11,FALSE))","v":" "},{"$f":"IF(ISNA(VLOOKUP(ROWS($L$482:L489),Uputstvo!$C$377:$O$426,12,FALSE)),\" \",VLOOKUP(ROWS($L$482:L489),Uputstvo!$C$377:$O$426,12,FALSE))","v":" "},{"$f":"IF(ISNA(VLOOKUP(ROWS($M$482:M489),Uputstvo!$C$377:$O$426,13,FALSE)),\" \",VLOOKUP(ROWS($M$482:M489),Uputstvo!$C$377:$O$426,13,FALSE))","v":" "},0,0,null,null,null,null,null,null,null,null,null,0]
[9,{"$f":"IF(ISNA(VLOOKUP(ROWS($B$482:B490),Uputstvo!$C$377:$E$426,3,FALSE)),\" \",VLOOKUP(ROWS($B$482:B490),Uputstvo!$C$377:$E$426,3,FALSE))","v":" "},null,{"$f":"IF(ISNA(VLOOKUP(ROWS($D$482:D490),Uputstvo!$C$377:$O$426,4,FALSE)),\" \",VLOOKUP(ROWS($D$482:D490),Uputstvo!$C$377:$O$426,4,FALSE))","v":" "},{"$f":"IF(ISNA(VLOOKUP(ROWS($E$482:E490),Uputstvo!$C$377:$O$426,5,FALSE)),\" \",VLOOKUP(ROWS($E$482:E490),Uputstvo!$C$377:$O$426,5,FALSE))","v":" "},{"$f":"IF(ISNA(VLOOKUP(ROWS($F$482:F490),Uputstvo!$C$377:$O$426,6,FALSE)),\" \",VLOOKUP(ROWS($F$482:F490),Uputstvo!$C$377:$O$426,6,FALSE))","v":" "},{"$f":"IF(ISNA(VLOOKUP(ROWS($G$482:G490),Uputstvo!$C$377:$O$426,7,FALSE)),\" \",VLOOKUP(ROWS($G$482:G490),Uputstvo!$C$377:$O$426,7,FALSE))","v":" "},{"$f":"IF(ISNA(VLOOKUP(ROWS($H$482:H490),Uputstvo!$C$377:$O$426,8,FALSE)),\" \",VLOOKUP(ROWS($H$482:H490),Uputstvo!$C$377:$O$426,8,FALSE))","v":" "},{"$f":"IF(ISNA(VLOOKUP(ROWS($I$482:I490),Uputstvo!$C$377:$O$426,9,FALSE)),\" \",VLOOKUP(ROWS($I$482:I490),Uputstvo!$C$377:$O$426,9,FALSE))","v":" "},{"$f":"IF(ISNA(VLOOKUP(ROWS($J$482:J490),Uputstvo!$C$377:$O$426,10,FALSE)),\" \",VLOOKUP(ROWS($J$482:J490),Uputstvo!$C$377:$O$426,10,FALSE))","v":" "},{"$f":"IF(ISNA(VLOOKUP(ROWS($K$482:K490),Uputstvo!$C$377:$O$426,11,FALSE)),\" \",VLOOKUP(ROWS($K$482:K490),Uputstvo!$C$377:$O$426,11,FALSE))","v":" "},{"$f":"IF(ISNA(VLOOKUP(ROWS($L$482:L490),Uputstvo!$C$377:$O$426,12,FALSE)),\" \",VLOOKUP(ROWS($L$482:L490),Uputstvo!$C$377:$O$426,12,FALSE))","v":" "},{"$f":"IF(ISNA(VLOOKUP(ROWS($M$482:M490),Uputstvo!$C$377:$O$426,13,FALSE)),\" \",VLOOKUP(ROWS($M$482:M490),Uputstvo!$C$377:$O$426,13,FALSE))","v":" "},0,0,null,null,null,null,null,null,null,null,null,0]
[10,{"$f":"IF(ISNA(VLOOKUP(ROWS($B$482:B491),Uputstvo!$C$377:$E$426,3,FALSE)),\" \",VLOOKUP(ROWS($B$482:B491),Uputstvo!$C$377:$E$426,3,FALSE))","v":" "},null,{"$f":"IF(ISNA(VLOOKUP(ROWS($D$482:D491),Uputstvo!$C$377:$O$426,4,FALSE)),\" \",VLOOKUP(ROWS($D$482:D491),Uputstvo!$C$377:$O$426,4,FALSE))","v":" "},{"$f":"IF(ISNA(VLOOKUP(ROWS($E$482:E491),Uputstvo!$C$377:$O$426,5,FALSE)),\" \",VLOOKUP(ROWS($E$482:E491),Uputstvo!$C$377:$O$426,5,FALSE))","v":" "},{"$f":"IF(ISNA(VLOOKUP(ROWS($F$482:F491),Uputstvo!$C$377:$O$426,6,FALSE)),\" \",VLOOKUP(ROWS($F$482:F491),Uputstvo!$C$377:$O$426,6,FALSE))","v":" "},{"$f":"IF(ISNA(VLOOKUP(ROWS($G$482:G491),Uputstvo!$C$377:$O$426,7,FALSE)),\" \",VLOOKUP(ROWS($G$482:G491),Uputstvo!$C$377:$O$426,7,FALSE))","v":" "},{"$f":"IF(ISNA(VLOOKUP(ROWS($H$482:H491),Uputstvo!$C$377:$O$426,8,FALSE)),\" \",VLOOKUP(ROWS($H$482:H491),Uputstvo!$C$377:$O$426,8,FALSE))","v":" "},{"$f":"IF(ISNA(VLOOKUP(ROWS($I$482:I491),Uputstvo!$C$377:$O$426,9,FALSE)),\" \",VLOOKUP(ROWS($I$482:I491),Uputstvo!$C$377:$O$426,9,FALSE))","v":" "},{"$f":"IF(ISNA(VLOOKUP(ROWS($J$482:J491),Uputstvo!$C$377:$O$426,10,FALSE)),\" \",VLOOKUP(ROWS($J$482:J491),Uputstvo!$C$377:$O$426,10,FALSE))","v":" "},{"$f":"IF(ISNA(VLOOKUP(ROWS($K$482:K491),Uputstvo!$C$377:$O$426,11,FALSE)),\" \",VLOOKUP(ROWS($K$482:K491),Uputstvo!$C$377:$O$426,11,FALSE))","v":" "},{"$f":"IF(ISNA(VLOOKUP(ROWS($L$482:L491),Uputstvo!$C$377:$O$426,12,FALSE)),\" \",VLOOKUP(ROWS($L$482:L491),Uputstvo!$C$377:$O$426,12,FALSE))","v":" "},{"$f":"IF(ISNA(VLOOKUP(ROWS($M$482:M491),Uputstvo!$C$377:$O$426,13,FALSE)),\" \",VLOOKUP(ROWS($M$482:M491),Uputstvo!$C$377:$O$426,13,FALSE))","v":" "},0,0,null,null,null,null,null,null,null,null,null,0]
[11,{"$f":"IF(ISNA(VLOOKUP(ROWS($B$482:B492),Uputstvo!$C$377:$E$426,3,FALSE)),\" \",VLOOKUP(ROWS($B$482:B492),Uputstvo!$C$377:$E$426,3,FALSE))","v":" "},null,{"$f":"IF(ISNA(VLOOKUP(ROWS($D$482:D492),Uputstvo!$C$377:$O$426,4,FALSE)),\" \",VLOOKUP(ROWS($D$482:D492),Uputstvo!$C$377:$O$426,4,FALSE))","v":" "},{"$f":"IF(ISNA(VLOOKUP(ROWS($E$482:E492),Uputstvo!$C$377:$O$426,5,FALSE)),\" \",VLOOKUP(ROWS($E$482:E492),Uputstvo!$C$377:$O$426,5,FALSE))","v":" "},{"$f":"IF(ISNA(VLOOKUP(ROWS($F$482:F492),Uputstvo!$C$377:$O$426,6,FALSE)),\" \",VLOOKUP(ROWS($F$482:F492),Uputstvo!$C$377:$O$426,6,FALSE))","v":" "},{"$f":"IF(ISNA(VLOOKUP(ROWS($G$482:G492),Uputstvo!$C$377:$O$426,7,FALSE)),\" \",VLOOKUP(ROWS($G$482:G492),Uputstvo!$C$377:$O$426,7,FALSE))","v":" "},{"$f":"IF(ISNA(VLOOKUP(ROWS($H$482:H492),Uputstvo!$C$377:$O$426,8,FALSE)),\" \",VLOOKUP(ROWS($H$482:H492),Uputstvo!$C$377:$O$426,8,FALSE))","v":" "},{"$f":"IF(ISNA(VLOOKUP(ROWS($I$482:I492),Uputstvo!$C$377:$O$426,9,FALSE)),\" \",VLOOKUP(ROWS($I$482:I492),Uputstvo!$C$377:$O$426,9,FALSE))","v":" "},{"$f":"IF(ISNA(VLOOKUP(ROWS($J$482:J492),Uputstvo!$C$377:$O$426,10,FALSE)),\" \",VLOOKUP(ROWS($J$482:J492),Uputstvo!$C$377:$O$426,10,FALSE))","v":" "},{"$f":"IF(ISNA(VLOOKUP(ROWS($K$482:K492),Uputstvo!$C$377:$O$426,11,FALSE)),\" \",VLOOKUP(ROWS($K$482:K492),Uputstvo!$C$377:$O$426,11,FALSE))","v":" "},{"$f":"IF(ISNA(VLOOKUP(ROWS($L$482:L492),Uputstvo!$C$377:$O$426,12,FALSE)),\" \",VLOOKUP(ROWS($L$482:L492),Uputstvo!$C$377:$O$426,12,FALSE))","v":" "},{"$f":"IF(ISNA(VLOOKUP(ROWS($M$482:M492),Uputstvo!$C$377:$O$426,13,FALSE)),\" \",VLOOKUP(ROWS($M$482:M492),Uputstvo!$C$377:$O$426,13,FALSE))","v":" "},0,0,null,null,null,null,null,null,null,null,null,0]
[12,{"$f":"IF(ISNA(VLOOKUP(ROWS($B$482:B493),Uputstvo!$C$377:$E$426,3,FALSE)),\" \",VLOOKUP(ROWS($B$482:B493),Uputstvo!$C$377:$E$426,3,FALSE))","v":" "},null,{"$f":"IF(ISNA(VLOOKUP(ROWS($D$482:D493),Uputstvo!$C$377:$O$426,4,FALSE)),\" \",VLOOKUP(ROWS($D$482:D493),Uputstvo!$C$377:$O$426,4,FALSE))","v":" "},{"$f":"IF(ISNA(VLOOKUP(ROWS($E$482:E493),Uputstvo!$C$377:$O$426,5,FALSE)),\" \",VLOOKUP(ROWS($E$482:E493),Uputstvo!$C$377:$O$426,5,FALSE))","v":" "},{"$f":"IF(ISNA(VLOOKUP(ROWS($F$482:F493),Uputstvo!$C$377:$O$426,6,FALSE)),\" \",VLOOKUP(ROWS($F$482:F493),Uputstvo!$C$377:$O$426,6,FALSE))","v":" "},{"$f":"IF(ISNA(VLOOKUP(ROWS($G$482:G493),Uputstvo!$C$377:$O$426,7,FALSE)),\" \",VLOOKUP(ROWS($G$482:G493),Uputstvo!$C$377:$O$426,7,FALSE))","v":" "},{"$f":"IF(ISNA(VLOOKUP(ROWS($H$482:H493),Uputstvo!$C$377:$O$426,8,FALSE)),\" \",VLOOKUP(ROWS($H$482:H493),Uputstvo!$C$377:$O$426,8,FALSE))","v":" "},{"$f":"IF(ISNA(VLOOKUP(ROWS($I$482:I493),Uputstvo!$C$377:$O$426,9,FALSE)),\" \",VLOOKUP(ROWS($I$482:I493),Uputstvo!$C$377:$O$426,9,FALSE))","v":" "},{"$f":"IF(ISNA(VLOOKUP(ROWS($J$482:J493),Uputstvo!$C$377:$O$426,10,FALSE)),\" \",VLOOKUP(ROWS($J$482:J493),Uputstvo!$C$377:$O$426,10,FALSE))","v":" "},{"$f":"IF(ISNA(VLOOKUP(ROWS($K$482:K493),Uputstvo!$C$377:$O$426,11,FALSE)),\" \",VLOOKUP(ROWS($K$482:K493),Uputstvo!$C$377:$O$426,11,FALSE))","v":" "},{"$f":"IF(ISNA(VLOOKUP(ROWS($L$482:L493),Uputstvo!$C$377:$O$426,12,FALSE)),\" \",VLOOKUP(ROWS($L$482:L493),Uputstvo!$C$377:$O$426,12,FALSE))","v":" "},{"$f":"IF(ISNA(VLOOKUP(ROWS($M$482:M493),Uputstvo!$C$377:$O$426,13,FALSE)),\" \",VLOOKUP(ROWS($M$482:M493),Uputstvo!$C$377:$O$426,13,FALSE))","v":" "},0,0,null,null,null,null,null,null,null,null,null,0]
[13,{"$f":"IF(ISNA(VLOOKUP(ROWS($B$482:B494),Uputstvo!$C$377:$E$426,3,FALSE)),\" \",VLOOKUP(ROWS($B$482:B494),Uputstvo!$C$377:$E$426,3,FALSE))","v":" "},null,{"$f":"IF(ISNA(VLOOKUP(ROWS($D$482:D494),Uputstvo!$C$377:$O$426,4,FALSE)),\" \",VLOOKUP(ROWS($D$482:D494),Uputstvo!$C$377:$O$426,4,FALSE))","v":" "},{"$f":"IF(ISNA(VLOOKUP(ROWS($E$482:E494),Uputstvo!$C$377:$O$426,5,FALSE)),\" \",VLOOKUP(ROWS($E$482:E494),Uputstvo!$C$377:$O$426,5,FALSE))","v":" "},{"$f":"IF(ISNA(VLOOKUP(ROWS($F$482:F494),Uputstvo!$C$377:$O$426,6,FALSE)),\" \",VLOOKUP(ROWS($F$482:F494),Uputstvo!$C$377:$O$426,6,FALSE))","v":" "},{"$f":"IF(ISNA(VLOOKUP(ROWS($G$482:G494),Uputstvo!$C$377:$O$426,7,FALSE)),\" \",VLOOKUP(ROWS($G$482:G494),Uputstvo!$C$377:$O$426,7,FALSE))","v":" "},{"$f":"IF(ISNA(VLOOKUP(ROWS($H$482:H494),Uputstvo!$C$377:$O$426,8,FALSE)),\" \",VLOOKUP(ROWS($H$482:H494),Uputstvo!$C$377:$O$426,8,FALSE))","v":" "},{"$f":"IF(ISNA(VLOOKUP(ROWS($I$482:I494),Uputstvo!$C$377:$O$426,9,FALSE)),\" \",VLOOKUP(ROWS($I$482:I494),Uputstvo!$C$377:$O$426,9,FALSE))","v":" "},{"$f":"IF(ISNA(VLOOKUP(ROWS($J$482:J494),Uputstvo!$C$377:$O$426,10,FALSE)),\" \",VLOOKUP(ROWS($J$482:J494),Uputstvo!$C$377:$O$426,10,FALSE))","v":" "},{"$f":"IF(ISNA(VLOOKUP(ROWS($K$482:K494),Uputstvo!$C$377:$O$426,11,FALSE)),\" \",VLOOKUP(ROWS($K$482:K494),Uputstvo!$C$377:$O$426,11,FALSE))","v":" "},{"$f":"IF(ISNA(VLOOKUP(ROWS($L$482:L494),Uputstvo!$C$377:$O$426,12,FALSE)),\" \",VLOOKUP(ROWS($L$482:L494),Uputstvo!$C$377:$O$426,12,FALSE))","v":" "},{"$f":"IF(ISNA(VLOOKUP(ROWS($M$482:M494),Uputstvo!$C$377:$O$426,13,FALSE)),\" \",VLOOKUP(ROWS($M$482:M494),Uputstvo!$C$377:$O$426,13,FALSE))","v":" "},0,0,null,null,null,null,null,null,null,null,null,0]
[14,{"$f":"IF(ISNA(VLOOKUP(ROWS($B$482:B495),Uputstvo!$C$377:$E$426,3,FALSE)),\" \",VLOOKUP(ROWS($B$482:B495),Uputstvo!$C$377:$E$426,3,FALSE))","v":" "},null,{"$f":"IF(ISNA(VLOOKUP(ROWS($D$482:D495),Uputstvo!$C$377:$O$426,4,FALSE)),\" \",VLOOKUP(ROWS($D$482:D495),Uputstvo!$C$377:$O$426,4,FALSE))","v":" "},{"$f":"IF(ISNA(VLOOKUP(ROWS($E$482:E495),Uputstvo!$C$377:$O$426,5,FALSE)),\" \",VLOOKUP(ROWS($E$482:E495),Uputstvo!$C$377:$O$426,5,FALSE))","v":" "},{"$f":"IF(ISNA(VLOOKUP(ROWS($F$482:F495),Uputstvo!$C$377:$O$426,6,FALSE)),\" \",VLOOKUP(ROWS($F$482:F495),Uputstvo!$C$377:$O$426,6,FALSE))","v":" "},{"$f":"IF(ISNA(VLOOKUP(ROWS($G$482:G495),Uputstvo!$C$377:$O$426,7,FALSE)),\" \",VLOOKUP(ROWS($G$482:G495),Uputstvo!$C$377:$O$426,7,FALSE))","v":" "},{"$f":"IF(ISNA(VLOOKUP(ROWS($H$482:H495),Uputstvo!$C$377:$O$426,8,FALSE)),\" \",VLOOKUP(ROWS($H$482:H495),Uputstvo!$C$377:$O$426,8,FALSE))","v":" "},{"$f":"IF(ISNA(VLOOKUP(ROWS($I$482:I495),Uputstvo!$C$377:$O$426,9,FALSE)),\" \",VLOOKUP(ROWS($I$482:I495),Uputstvo!$C$377:$O$426,9,FALSE))","v":" "},{"$f":"IF(ISNA(VLOOKUP(ROWS($J$482:J495),Uputstvo!$C$377:$O$426,10,FALSE)),\" \",VLOOKUP(ROWS($J$482:J495),Uputstvo!$C$377:$O$426,10,FALSE))","v":" "},{"$f":"IF(ISNA(VLOOKUP(ROWS($K$482:K495),Uputstvo!$C$377:$O$426,11,FALSE)),\" \",VLOOKUP(ROWS($K$482:K495),Uputstvo!$C$377:$O$426,11,FALSE))","v":" "},{"$f":"IF(ISNA(VLOOKUP(ROWS($L$482:L495),Uputstvo!$C$377:$O$426,12,FALSE)),\" \",VLOOKUP(ROWS($L$482:L495),Uputstvo!$C$377:$O$426,12,FALSE))","v":" "},{"$f":"IF(ISNA(VLOOKUP(ROWS($M$482:M495),Uputstvo!$C$377:$O$426,13,FALSE)),\" \",VLOOKUP(ROWS($M$482:M495),Uputstvo!$C$377:$O$426,13,FALSE))","v":" "},0,0,null,null,null,null,null,null,null,null,null,0]
[15,{"$f":"IF(ISNA(VLOOKUP(ROWS($B$482:B496),Uputstvo!$C$377:$E$426,3,FALSE)),\" \",VLOOKUP(ROWS($B$482:B496),Uputstvo!$C$377:$E$426,3,FALSE))","v":" "},null,{"$f":"IF(ISNA(VLOOKUP(ROWS($D$482:D496),Uputstvo!$C$377:$O$426,4,FALSE)),\" \",VLOOKUP(ROWS($D$482:D496),Uputstvo!$C$377:$O$426,4,FALSE))","v":" "},{"$f":"IF(ISNA(VLOOKUP(ROWS($E$482:E496),Uputstvo!$C$377:$O$426,5,FALSE)),\" \",VLOOKUP(ROWS($E$482:E496),Uputstvo!$C$377:$O$426,5,FALSE))","v":" "},{"$f":"IF(ISNA(VLOOKUP(ROWS($F$482:F496),Uputstvo!$C$377:$O$426,6,FALSE)),\" \",VLOOKUP(ROWS($F$482:F496),Uputstvo!$C$377:$O$426,6,FALSE))","v":" "},{"$f":"IF(ISNA(VLOOKUP(ROWS($G$482:G496),Uputstvo!$C$377:$O$426,7,FALSE)),\" \",VLOOKUP(ROWS($G$482:G496),Uputstvo!$C$377:$O$426,7,FALSE))","v":" "},{"$f":"IF(ISNA(VLOOKUP(ROWS($H$482:H496),Uputstvo!$C$377:$O$426,8,FALSE)),\" \",VLOOKUP(ROWS($H$482:H496),Uputstvo!$C$377:$O$426,8,FALSE))","v":" "},{"$f":"IF(ISNA(VLOOKUP(ROWS($I$482:I496),Uputstvo!$C$377:$O$426,9,FALSE)),\" \",VLOOKUP(ROWS($I$482:I496),Uputstvo!$C$377:$O$426,9,FALSE))","v":" "},{"$f":"IF(ISNA(VLOOKUP(ROWS($J$482:J496),Uputstvo!$C$377:$O$426,10,FALSE)),\" \",VLOOKUP(ROWS($J$482:J496),Uputstvo!$C$377:$O$426,10,FALSE))","v":" "},{"$f":"IF(ISNA(VLOOKUP(ROWS($K$482:K496),Uputstvo!$C$377:$O$426,11,FALSE)),\" \",VLOOKUP(ROWS($K$482:K496),Uputstvo!$C$377:$O$426,11,FALSE))","v":" "},{"$f":"IF(ISNA(VLOOKUP(ROWS($L$482:L496),Uputstvo!$C$377:$O$426,12,FALSE)),\" \",VLOOKUP(ROWS($L$482:L496),Uputstvo!$C$377:$O$426,12,FALSE))","v":" "},{"$f":"IF(ISNA(VLOOKUP(ROWS($M$482:M496),Uputstvo!$C$377:$O$426,13,FALSE)),\" \",VLOOKUP(ROWS($M$482:M496),Uputstvo!$C$377:$O$426,13,FALSE))","v":" "},0,0,null,null,null,null,null,null,null,null,null,0]
[16,{"$f":"IF(ISNA(VLOOKUP(ROWS($B$482:B497),Uputstvo!$C$377:$E$426,3,FALSE)),\" \",VLOOKUP(ROWS($B$482:B497),Uputstvo!$C$377:$E$426,3,FALSE))","v":" "},null,{"$f":"IF(ISNA(VLOOKUP(ROWS($D$482:D497),Uputstvo!$C$377:$O$426,4,FALSE)),\" \",VLOOKUP(ROWS($D$482:D497),Uputstvo!$C$377:$O$426,4,FALSE))","v":" "},{"$f":"IF(ISNA(VLOOKUP(ROWS($E$482:E497),Uputstvo!$C$377:$O$426,5,FALSE)),\" \",VLOOKUP(ROWS($E$482:E497),Uputstvo!$C$377:$O$426,5,FALSE))","v":" "},{"$f":"IF(ISNA(VLOOKUP(ROWS($F$482:F497),Uputstvo!$C$377:$O$426,6,FALSE)),\" \",VLOOKUP(ROWS($F$482:F497),Uputstvo!$C$377:$O$426,6,FALSE))","v":" "},{"$f":"IF(ISNA(VLOOKUP(ROWS($G$482:G497),Uputstvo!$C$377:$O$426,7,FALSE)),\" \",VLOOKUP(ROWS($G$482:G497),Uputstvo!$C$377:$O$426,7,FALSE))","v":" "},{"$f":"IF(ISNA(VLOOKUP(ROWS($H$482:H497),Uputstvo!$C$377:$O$426,8,FALSE)),\" \",VLOOKUP(ROWS($H$482:H497),Uputstvo!$C$377:$O$426,8,FALSE))","v":" "},{"$f":"IF(ISNA(VLOOKUP(ROWS($I$482:I497),Uputstvo!$C$377:$O$426,9,FALSE)),\" \",VLOOKUP(ROWS($I$482:I497),Uputstvo!$C$377:$O$426,9,FALSE))","v":" "},{"$f":"IF(ISNA(VLOOKUP(ROWS($J$482:J497),Uputstvo!$C$377:$O$426,10,FALSE)),\" \",VLOOKUP(ROWS($J$482:J497),Uputstvo!$C$377:$O$426,10,FALSE))","v":" "},{"$f":"IF(ISNA(VLOOKUP(ROWS($K$482:K497),Uputstvo!$C$377:$O$426,11,FALSE)),\" \",VLOOKUP(ROWS($K$482:K497),Uputstvo!$C$377:$O$426,11,FALSE))","v":" "},{"$f":"IF(ISNA(VLOOKUP(ROWS($L$482:L497),Uputstvo!$C$377:$O$426,12,FALSE)),\" \",VLOOKUP(ROWS($L$482:L497),Uputstvo!$C$377:$O$426,12,FALSE))","v":" "},{"$f":"IF(ISNA(VLOOKUP(ROWS($M$482:M497),Uputstvo!$C$377:$O$426,13,FALSE)),\" \",VLOOKUP(ROWS($M$482:M497),Uputstvo!$C$377:$O$426,13,FALSE))","v":" "},0,0,null,null,null,null,null,null,null,null,null,0]
[17,{"$f":"IF(ISNA(VLOOKUP(ROWS($B$482:B498),Uputstvo!$C$377:$E$426,3,FALSE)),\" \",VLOOKUP(ROWS($B$482:B498),Uputstvo!$C$377:$E$426,3,FALSE))","v":" "},null,{"$f":"IF(ISNA(VLOOKUP(ROWS($D$482:D498),Uputstvo!$C$377:$O$426,4,FALSE)),\" \",VLOOKUP(ROWS($D$482:D498),Uputstvo!$C$377:$O$426,4,FALSE))","v":" "},{"$f":"IF(ISNA(VLOOKUP(ROWS($E$482:E498),Uputstvo!$C$377:$O$426,5,FALSE)),\" \",VLOOKUP(ROWS($E$482:E498),Uputstvo!$C$377:$O$426,5,FALSE))","v":" "},{"$f":"IF(ISNA(VLOOKUP(ROWS($F$482:F498),Uputstvo!$C$377:$O$426,6,FALSE)),\" \",VLOOKUP(ROWS($F$482:F498),Uputstvo!$C$377:$O$426,6,FALSE))","v":" "},{"$f":"IF(ISNA(VLOOKUP(ROWS($G$482:G498),Uputstvo!$C$377:$O$426,7,FALSE)),\" \",VLOOKUP(ROWS($G$482:G498),Uputstvo!$C$377:$O$426,7,FALSE))","v":" "},{"$f":"IF(ISNA(VLOOKUP(ROWS($H$482:H498),Uputstvo!$C$377:$O$426,8,FALSE)),\" \",VLOOKUP(ROWS($H$482:H498),Uputstvo!$C$377:$O$426,8,FALSE))","v":" "},{"$f":"IF(ISNA(VLOOKUP(ROWS($I$482:I498),Uputstvo!$C$377:$O$426,9,FALSE)),\" \",VLOOKUP(ROWS($I$482:I498),Uputstvo!$C$377:$O$426,9,FALSE))","v":" "},{"$f":"IF(ISNA(VLOOKUP(ROWS($J$482:J498),Uputstvo!$C$377:$O$426,10,FALSE)),\" \",VLOOKUP(ROWS($J$482:J498),Uputstvo!$C$377:$O$426,10,FALSE))","v":" "},{"$f":"IF(ISNA(VLOOKUP(ROWS($K$482:K498),Uputstvo!$C$377:$O$426,11,FALSE)),\" \",VLOOKUP(ROWS($K$482:K498),Uputstvo!$C$377:$O$426,11,FALSE))","v":" "},{"$f":"IF(ISNA(VLOOKUP(ROWS($L$482:L498),Uputstvo!$C$377:$O$426,12,FALSE)),\" \",VLOOKUP(ROWS($L$482:L498),Uputstvo!$C$377:$O$426,12,FALSE))","v":" "},{"$f":"IF(ISNA(VLOOKUP(ROWS($M$482:M498),Uputstvo!$C$377:$O$426,13,FALSE)),\" \",VLOOKUP(ROWS($M$482:M498),Uputstvo!$C$377:$O$426,13,FALSE))","v":" "},0,0,null,null,null,null,null,null,null,null,null,0]
[18,{"$f":"IF(ISNA(VLOOKUP(ROWS($B$482:B499),Uputstvo!$C$377:$E$426,3,FALSE)),\" \",VLOOKUP(ROWS($B$482:B499),Uputstvo!$C$377:$E$426,3,FALSE))","v":" "},null,{"$f":"IF(ISNA(VLOOKUP(ROWS($D$482:D499),Uputstvo!$C$377:$O$426,4,FALSE)),\" \",VLOOKUP(ROWS($D$482:D499),Uputstvo!$C$377:$O$426,4,FALSE))","v":" "},{"$f":"IF(ISNA(VLOOKUP(ROWS($E$482:E499),Uputstvo!$C$377:$O$426,5,FALSE)),\" \",VLOOKUP(ROWS($E$482:E499),Uputstvo!$C$377:$O$426,5,FALSE))","v":" "},{"$f":"IF(ISNA(VLOOKUP(ROWS($F$482:F499),Uputstvo!$C$377:$O$426,6,FALSE)),\" \",VLOOKUP(ROWS($F$482:F499),Uputstvo!$C$377:$O$426,6,FALSE))","v":" "},{"$f":"IF(ISNA(VLOOKUP(ROWS($G$482:G499),Uputstvo!$C$377:$O$426,7,FALSE)),\" \",VLOOKUP(ROWS($G$482:G499),Uputstvo!$C$377:$O$426,7,FALSE))","v":" "},{"$f":"IF(ISNA(VLOOKUP(ROWS($H$482:H499),Uputstvo!$C$377:$O$426,8,FALSE)),\" \",VLOOKUP(ROWS($H$482:H499),Uputstvo!$C$377:$O$426,8,FALSE))","v":" "},{"$f":"IF(ISNA(VLOOKUP(ROWS($I$482:I499),Uputstvo!$C$377:$O$426,9,FALSE)),\" \",VLOOKUP(ROWS($I$482:I499),Uputstvo!$C$377:$O$426,9,FALSE))","v":" "},{"$f":"IF(ISNA(VLOOKUP(ROWS($J$482:J499),Uputstvo!$C$377:$O$426,10,FALSE)),\" \",VLOOKUP(ROWS($J$482:J499),Uputstvo!$C$377:$O$426,10,FALSE))","v":" "},{"$f":"IF(ISNA(VLOOKUP(ROWS($K$482:K499),Uputstvo!$C$377:$O$426,11,FALSE)),\" \",VLOOKUP(ROWS($K$482:K499),Uputstvo!$C$377:$O$426,11,FALSE))","v":" "},{"$f":"IF(ISNA(VLOOKUP(ROWS($L$482:L499),Uputstvo!$C$377:$O$426,12,FALSE)),\" \",VLOOKUP(ROWS($L$482:L499),Uputstvo!$C$377:$O$426,12,FALSE))","v":" "},{"$f":"IF(ISNA(VLOOKUP(ROWS($M$482:M499),Uputstvo!$C$377:$O$426,13,FALSE)),\" \",VLOOKUP(ROWS($M$482:M499),Uputstvo!$C$377:$O$426,13,FALSE))","v":" "},0,0,null,null,null,null,null,null,null,null,null,0]
[19,{"$f":"IF(ISNA(VLOOKUP(ROWS($B$482:B500),Uputstvo!$C$377:$E$426,3,FALSE)),\" \",VLOOKUP(ROWS($B$482:B500),Uputstvo!$C$377:$E$426,3,FALSE))","v":" "},null,{"$f":"IF(ISNA(VLOOKUP(ROWS($D$482:D500),Uputstvo!$C$377:$O$426,4,FALSE)),\" \",VLOOKUP(ROWS($D$482:D500),Uputstvo!$C$377:$O$426,4,FALSE))","v":" "},{"$f":"IF(ISNA(VLOOKUP(ROWS($E$482:E500),Uputstvo!$C$377:$O$426,5,FALSE)),\" \",VLOOKUP(ROWS($E$482:E500),Uputstvo!$C$377:$O$426,5,FALSE))","v":" "},{"$f":"IF(ISNA(VLOOKUP(ROWS($F$482:F500),Uputstvo!$C$377:$O$426,6,FALSE)),\" \",VLOOKUP(ROWS($F$482:F500),Uputstvo!$C$377:$O$426,6,FALSE))","v":" "},{"$f":"IF(ISNA(VLOOKUP(ROWS($G$482:G500),Uputstvo!$C$377:$O$426,7,FALSE)),\" \",VLOOKUP(ROWS($G$482:G500),Uputstvo!$C$377:$O$426,7,FALSE))","v":" "},{"$f":"IF(ISNA(VLOOKUP(ROWS($H$482:H500),Uputstvo!$C$377:$O$426,8,FALSE)),\" \",VLOOKUP(ROWS($H$482:H500),Uputstvo!$C$377:$O$426,8,FALSE))","v":" "},{"$f":"IF(ISNA(VLOOKUP(ROWS($I$482:I500),Uputstvo!$C$377:$O$426,9,FALSE)),\" \",VLOOKUP(ROWS($I$482:I500),Uputstvo!$C$377:$O$426,9,FALSE))","v":" "},{"$f":"IF(ISNA(VLOOKUP(ROWS($J$482:J500),Uputstvo!$C$377:$O$426,10,FALSE)),\" \",VLOOKUP(ROWS($J$482:J500),Uputstvo!$C$377:$O$426,10,FALSE))","v":" "},{"$f":"IF(ISNA(VLOOKUP(ROWS($K$482:K500),Uputstvo!$C$377:$O$426,11,FALSE)),\" \",VLOOKUP(ROWS($K$482:K500),Uputstvo!$C$377:$O$426,11,FALSE))","v":" "},{"$f":"IF(ISNA(VLOOKUP(ROWS($L$482:L500),Uputstvo!$C$377:$O$426,12,FALSE)),\" \",VLOOKUP(ROWS($L$482:L500),Uputstvo!$C$377:$O$426,12,FALSE))","v":" "},{"$f":"IF(ISNA(VLOOKUP(ROWS($M$482:M500),Uputstvo!$C$377:$O$426,13,FALSE)),\" \",VLOOKUP(ROWS($M$482:M500),Uputstvo!$C$377:$O$426,13,FALSE))","v":" "},0,0,null,null,null,null,null,null,null,null,null,0]
[20,{"$f":"IF(ISNA(VLOOKUP(ROWS($B$482:B501),Uputstvo!$C$377:$E$426,3,FALSE)),\" \",VLOOKUP(ROWS($B$482:B501),Uputstvo!$C$377:$E$426,3,FALSE))","v":" "},null,{"$f":"IF(ISNA(VLOOKUP(ROWS($D$482:D501),Uputstvo!$C$377:$O$426,4,FALSE)),\" \",VLOOKUP(ROWS($D$482:D501),Uputstvo!$C$377:$O$426,4,FALSE))","v":" "},{"$f":"IF(ISNA(VLOOKUP(ROWS($E$482:E501),Uputstvo!$C$377:$O$426,5,FALSE)),\" \",VLOOKUP(ROWS($E$482:E501),Uputstvo!$C$377:$O$426,5,FALSE))","v":" "},{"$f":"IF(ISNA(VLOOKUP(ROWS($F$482:F501),Uputstvo!$C$377:$O$426,6,FALSE)),\" \",VLOOKUP(ROWS($F$482:F501),Uputstvo!$C$377:$O$426,6,FALSE))","v":" "},{"$f":"IF(ISNA(VLOOKUP(ROWS($G$482:G501),Uputstvo!$C$377:$O$426,7,FALSE)),\" \",VLOOKUP(ROWS($G$482:G501),Uputstvo!$C$377:$O$426,7,FALSE))","v":" "},{"$f":"IF(ISNA(VLOOKUP(ROWS($H$482:H501),Uputstvo!$C$377:$O$426,8,FALSE)),\" \",VLOOKUP(ROWS($H$482:H501),Uputstvo!$C$377:$O$426,8,FALSE))","v":" "},{"$f":"IF(ISNA(VLOOKUP(ROWS($I$482:I501),Uputstvo!$C$377:$O$426,9,FALSE)),\" \",VLOOKUP(ROWS($I$482:I501),Uputstvo!$C$377:$O$426,9,FALSE))","v":" "},{"$f":"IF(ISNA(VLOOKUP(ROWS($J$482:J501),Uputstvo!$C$377:$O$426,10,FALSE)),\" \",VLOOKUP(ROWS($J$482:J501),Uputstvo!$C$377:$O$426,10,FALSE))","v":" "},{"$f":"IF(ISNA(VLOOKUP(ROWS($K$482:K501),Uputstvo!$C$377:$O$426,11,FALSE)),\" \",VLOOKUP(ROWS($K$482:K501),Uputstvo!$C$377:$O$426,11,FALSE))","v":" "},{"$f":"IF(ISNA(VLOOKUP(ROWS($L$482:L501),Uputstvo!$C$377:$O$426,12,FALSE)),\" \",VLOOKUP(ROWS($L$482:L501),Uputstvo!$C$377:$O$426,12,FALSE))","v":" "},{"$f":"IF(ISNA(VLOOKUP(ROWS($M$482:M501),Uputstvo!$C$377:$O$426,13,FALSE)),\" \",VLOOKUP(ROWS($M$482:M501),Uputstvo!$C$377:$O$426,13,FALSE))","v":" "},0,0,null,null,null,null,null,null,null,null,null,0]
[21,{"$f":"IF(ISNA(VLOOKUP(ROWS($B$482:B502),Uputstvo!$C$377:$E$426,3,FALSE)),\" \",VLOOKUP(ROWS($B$482:B502),Uputstvo!$C$377:$E$426,3,FALSE))","v":" "},null,{"$f":"IF(ISNA(VLOOKUP(ROWS($D$482:D502),Uputstvo!$C$377:$O$426,4,FALSE)),\" \",VLOOKUP(ROWS($D$482:D502),Uputstvo!$C$377:$O$426,4,FALSE))","v":" "},{"$f":"IF(ISNA(VLOOKUP(ROWS($E$482:E502),Uputstvo!$C$377:$O$426,5,FALSE)),\" \",VLOOKUP(ROWS($E$482:E502),Uputstvo!$C$377:$O$426,5,FALSE))","v":" "},{"$f":"IF(ISNA(VLOOKUP(ROWS($F$482:F502),Uputstvo!$C$377:$O$426,6,FALSE)),\" \",VLOOKUP(ROWS($F$482:F502),Uputstvo!$C$377:$O$426,6,FALSE))","v":" "},{"$f":"IF(ISNA(VLOOKUP(ROWS($G$482:G502),Uputstvo!$C$377:$O$426,7,FALSE)),\" \",VLOOKUP(ROWS($G$482:G502),Uputstvo!$C$377:$O$426,7,FALSE))","v":" "},{"$f":"IF(ISNA(VLOOKUP(ROWS($H$482:H502),Uputstvo!$C$377:$O$426,8,FALSE)),\" \",VLOOKUP(ROWS($H$482:H502),Uputstvo!$C$377:$O$426,8,FALSE))","v":" "},{"$f":"IF(ISNA(VLOOKUP(ROWS($I$482:I502),Uputstvo!$C$377:$O$426,9,FALSE)),\" \",VLOOKUP(ROWS($I$482:I502),Uputstvo!$C$377:$O$426,9,FALSE))","v":" "},{"$f":"IF(ISNA(VLOOKUP(ROWS($J$482:J502),Uputstvo!$C$377:$O$426,10,FALSE)),\" \",VLOOKUP(ROWS($J$482:J502),Uputstvo!$C$377:$O$426,10,FALSE))","v":" "},{"$f":"IF(ISNA(VLOOKUP(ROWS($K$482:K502),Uputstvo!$C$377:$O$426,11,FALSE)),\" \",VLOOKUP(ROWS($K$482:K502),Uputstvo!$C$377:$O$426,11,FALSE))","v":" "},{"$f":"IF(ISNA(VLOOKUP(ROWS($L$482:L502),Uputstvo!$C$377:$O$426,12,FALSE)),\" \",VLOOKUP(ROWS($L$482:L502),Uputstvo!$C$377:$O$426,12,FALSE))","v":" "},{"$f":"IF(ISNA(VLOOKUP(ROWS($M$482:M502),Uputstvo!$C$377:$O$426,13,FALSE)),\" \",VLOOKUP(ROWS($M$482:M502),Uputstvo!$C$377:$O$426,13,FALSE))","v":" "},0,0,null,null,null,null,null,null,null,null,null,0]
[22,{"$f":"IF(ISNA(VLOOKUP(ROWS($B$482:B503),Uputstvo!$C$377:$E$426,3,FALSE)),\" \",VLOOKUP(ROWS($B$482:B503),Uputstvo!$C$377:$E$426,3,FALSE))","v":" "},null,{"$f":"IF(ISNA(VLOOKUP(ROWS($D$482:D503),Uputstvo!$C$377:$O$426,4,FALSE)),\" \",VLOOKUP(ROWS($D$482:D503),Uputstvo!$C$377:$O$426,4,FALSE))","v":" "},{"$f":"IF(ISNA(VLOOKUP(ROWS($E$482:E503),Uputstvo!$C$377:$O$426,5,FALSE)),\" \",VLOOKUP(ROWS($E$482:E503),Uputstvo!$C$377:$O$426,5,FALSE))","v":" "},{"$f":"IF(ISNA(VLOOKUP(ROWS($F$482:F503),Uputstvo!$C$377:$O$426,6,FALSE)),\" \",VLOOKUP(ROWS($F$482:F503),Uputstvo!$C$377:$O$426,6,FALSE))","v":" "},{"$f":"IF(ISNA(VLOOKUP(ROWS($G$482:G503),Uputstvo!$C$377:$O$426,7,FALSE)),\" \",VLOOKUP(ROWS($G$482:G503),Uputstvo!$C$377:$O$426,7,FALSE))","v":" "},{"$f":"IF(ISNA(VLOOKUP(ROWS($H$482:H503),Uputstvo!$C$377:$O$426,8,FALSE)),\" \",VLOOKUP(ROWS($H$482:H503),Uputstvo!$C$377:$O$426,8,FALSE))","v":" "},{"$f":"IF(ISNA(VLOOKUP(ROWS($I$482:I503),Uputstvo!$C$377:$O$426,9,FALSE)),\" \",VLOOKUP(ROWS($I$482:I503),Uputstvo!$C$377:$O$426,9,FALSE))","v":" "},{"$f":"IF(ISNA(VLOOKUP(ROWS($J$482:J503),Uputstvo!$C$377:$O$426,10,FALSE)),\" \",VLOOKUP(ROWS($J$482:J503),Uputstvo!$C$377:$O$426,10,FALSE))","v":" "},{"$f":"IF(ISNA(VLOOKUP(ROWS($K$482:K503),Uputstvo!$C$377:$O$426,11,FALSE)),\" \",VLOOKUP(ROWS($K$482:K503),Uputstvo!$C$377:$O$426,11,FALSE))","v":" "},{"$f":"IF(ISNA(VLOOKUP(ROWS($L$482:L503),Uputstvo!$C$377:$O$426,12,FALSE)),\" \",VLOOKUP(ROWS($L$482:L503),Uputstvo!$C$377:$O$426,12,FALSE))","v":" "},{"$f":"IF(ISNA(VLOOKUP(ROWS($M$482:M503),Uputstvo!$C$377:$O$426,13,FALSE)),\" \",VLOOKUP(ROWS($M$482:M503),Uputstvo!$C$377:$O$426,13,FALSE))","v":" "},0,0,null,null,null,null,null,null,null,null,null,0]
[23,{"$f":"IF(ISNA(VLOOKUP(ROWS($B$482:B504),Uputstvo!$C$377:$E$426,3,FALSE)),\" \",VLOOKUP(ROWS($B$482:B504),Uputstvo!$C$377:$E$426,3,FALSE))","v":" "},null,{"$f":"IF(ISNA(VLOOKUP(ROWS($D$482:D504),Uputstvo!$C$377:$O$426,4,FALSE)),\" \",VLOOKUP(ROWS($D$482:D504),Uputstvo!$C$377:$O$426,4,FALSE))","v":" "},{"$f":"IF(ISNA(VLOOKUP(ROWS($E$482:E504),Uputstvo!$C$377:$O$426,5,FALSE)),\" \",VLOOKUP(ROWS($E$482:E504),Uputstvo!$C$377:$O$426,5,FALSE))","v":" "},{"$f":"IF(ISNA(VLOOKUP(ROWS($F$482:F504),Uputstvo!$C$377:$O$426,6,FALSE)),\" \",VLOOKUP(ROWS($F$482:F504),Uputstvo!$C$377:$O$426,6,FALSE))","v":" "},{"$f":"IF(ISNA(VLOOKUP(ROWS($G$482:G504),Uputstvo!$C$377:$O$426,7,FALSE)),\" \",VLOOKUP(ROWS($G$482:G504),Uputstvo!$C$377:$O$426,7,FALSE))","v":" "},{"$f":"IF(ISNA(VLOOKUP(ROWS($H$482:H504),Uputstvo!$C$377:$O$426,8,FALSE)),\" \",VLOOKUP(ROWS($H$482:H504),Uputstvo!$C$377:$O$426,8,FALSE))","v":" "},{"$f":"IF(ISNA(VLOOKUP(ROWS($I$482:I504),Uputstvo!$C$377:$O$426,9,FALSE)),\" \",VLOOKUP(ROWS($I$482:I504),Uputstvo!$C$377:$O$426,9,FALSE))","v":" "},{"$f":"IF(ISNA(VLOOKUP(ROWS($J$482:J504),Uputstvo!$C$377:$O$426,10,FALSE)),\" \",VLOOKUP(ROWS($J$482:J504),Uputstvo!$C$377:$O$426,10,FALSE))","v":" "},{"$f":"IF(ISNA(VLOOKUP(ROWS($K$482:K504),Uputstvo!$C$377:$O$426,11,FALSE)),\" \",VLOOKUP(ROWS($K$482:K504),Uputstvo!$C$377:$O$426,11,FALSE))","v":" "},{"$f":"IF(ISNA(VLOOKUP(ROWS($L$482:L504),Uputstvo!$C$377:$O$426,12,FALSE)),\" \",VLOOKUP(ROWS($L$482:L504),Uputstvo!$C$377:$O$426,12,FALSE))","v":" "},{"$f":"IF(ISNA(VLOOKUP(ROWS($M$482:M504),Uputstvo!$C$377:$O$426,13,FALSE)),\" \",VLOOKUP(ROWS($M$482:M504),Uputstvo!$C$377:$O$426,13,FALSE))","v":" "},0,0,null,null,null,null,null,null,null,null,null,0]
[24,{"$f":"IF(ISNA(VLOOKUP(ROWS($B$482:B505),Uputstvo!$C$377:$E$426,3,FALSE)),\" \",VLOOKUP(ROWS($B$482:B505),Uputstvo!$C$377:$E$426,3,FALSE))","v":" "},null,{"$f":"IF(ISNA(VLOOKUP(ROWS($D$482:D505),Uputstvo!$C$377:$O$426,4,FALSE)),\" \",VLOOKUP(ROWS($D$482:D505),Uputstvo!$C$377:$O$426,4,FALSE))","v":" "},{"$f":"IF(ISNA(VLOOKUP(ROWS($E$482:E505),Uputstvo!$C$377:$O$426,5,FALSE)),\" \",VLOOKUP(ROWS($E$482:E505),Uputstvo!$C$377:$O$426,5,FALSE))","v":" "},{"$f":"IF(ISNA(VLOOKUP(ROWS($F$482:F505),Uputstvo!$C$377:$O$426,6,FALSE)),\" \",VLOOKUP(ROWS($F$482:F505),Uputstvo!$C$377:$O$426,6,FALSE))","v":" "},{"$f":"IF(ISNA(VLOOKUP(ROWS($G$482:G505),Uputstvo!$C$377:$O$426,7,FALSE)),\" \",VLOOKUP(ROWS($G$482:G505),Uputstvo!$C$377:$O$426,7,FALSE))","v":" "},{"$f":"IF(ISNA(VLOOKUP(ROWS($H$482:H505),Uputstvo!$C$377:$O$426,8,FALSE)),\" \",VLOOKUP(ROWS($H$482:H505),Uputstvo!$C$377:$O$426,8,FALSE))","v":" "},{"$f":"IF(ISNA(VLOOKUP(ROWS($I$482:I505),Uputstvo!$C$377:$O$426,9,FALSE)),\" \",VLOOKUP(ROWS($I$482:I505),Uputstvo!$C$377:$O$426,9,FALSE))","v":" "},{"$f":"IF(ISNA(VLOOKUP(ROWS($J$482:J505),Uputstvo!$C$377:$O$426,10,FALSE)),\" \",VLOOKUP(ROWS($J$482:J505),Uputstvo!$C$377:$O$426,10,FALSE))","v":" "},{"$f":"IF(ISNA(VLOOKUP(ROWS($K$482:K505),Uputstvo!$C$377:$O$426,11,FALSE)),\" \",VLOOKUP(ROWS($K$482:K505),Uputstvo!$C$377:$O$426,11,FALSE))","v":" "},{"$f":"IF(ISNA(VLOOKUP(ROWS($L$482:L505),Uputstvo!$C$377:$O$426,12,FALSE)),\" \",VLOOKUP(ROWS($L$482:L505),Uputstvo!$C$377:$O$426,12,FALSE))","v":" "},{"$f":"IF(ISNA(VLOOKUP(ROWS($M$482:M505),Uputstvo!$C$377:$O$426,13,FALSE)),\" \",VLOOKUP(ROWS($M$482:M505),Uputstvo!$C$377:$O$426,13,FALSE))","v":" "},0,0,null,null,null,null,null,null,null,null,null,0]
[25,{"$f":"IF(ISNA(VLOOKUP(ROWS($B$482:B506),Uputstvo!$C$377:$E$426,3,FALSE)),\" \",VLOOKUP(ROWS($B$482:B506),Uputstvo!$C$377:$E$426,3,FALSE))","v":" "},null,{"$f":"IF(ISNA(VLOOKUP(ROWS($D$482:D506),Uputstvo!$C$377:$O$426,4,FALSE)),\" \",VLOOKUP(ROWS($D$482:D506),Uputstvo!$C$377:$O$426,4,FALSE))","v":" "},{"$f":"IF(ISNA(VLOOKUP(ROWS($E$482:E506),Uputstvo!$C$377:$O$426,5,FALSE)),\" \",VLOOKUP(ROWS($E$482:E506),Uputstvo!$C$377:$O$426,5,FALSE))","v":" "},{"$f":"IF(ISNA(VLOOKUP(ROWS($F$482:F506),Uputstvo!$C$377:$O$426,6,FALSE)),\" \",VLOOKUP(ROWS($F$482:F506),Uputstvo!$C$377:$O$426,6,FALSE))","v":" "},{"$f":"IF(ISNA(VLOOKUP(ROWS($G$482:G506),Uputstvo!$C$377:$O$426,7,FALSE)),\" \",VLOOKUP(ROWS($G$482:G506),Uputstvo!$C$377:$O$426,7,FALSE))","v":" "},{"$f":"IF(ISNA(VLOOKUP(ROWS($H$482:H506),Uputstvo!$C$377:$O$426,8,FALSE)),\" \",VLOOKUP(ROWS($H$482:H506),Uputstvo!$C$377:$O$426,8,FALSE))","v":" "},{"$f":"IF(ISNA(VLOOKUP(ROWS($I$482:I506),Uputstvo!$C$377:$O$426,9,FALSE)),\" \",VLOOKUP(ROWS($I$482:I506),Uputstvo!$C$377:$O$426,9,FALSE))","v":" "},{"$f":"IF(ISNA(VLOOKUP(ROWS($J$482:J506),Uputstvo!$C$377:$O$426,10,FALSE)),\" \",VLOOKUP(ROWS($J$482:J506),Uputstvo!$C$377:$O$426,10,FALSE))","v":" "},{"$f":"IF(ISNA(VLOOKUP(ROWS($K$482:K506),Uputstvo!$C$377:$O$426,11,FALSE)),\" \",VLOOKUP(ROWS($K$482:K506),Uputstvo!$C$377:$O$426,11,FALSE))","v":" "},{"$f":"IF(ISNA(VLOOKUP(ROWS($L$482:L506),Uputstvo!$C$377:$O$426,12,FALSE)),\" \",VLOOKUP(ROWS($L$482:L506),Uputstvo!$C$377:$O$426,12,FALSE))","v":" "},{"$f":"IF(ISNA(VLOOKUP(ROWS($M$482:M506),Uputstvo!$C$377:$O$426,13,FALSE)),\" \",VLOOKUP(ROWS($M$482:M506),Uputstvo!$C$377:$O$426,13,FALSE))","v":" "},0,0,null,null,null,null,null,null,null,null,null,0]
[26,{"$f":"IF(ISNA(VLOOKUP(ROWS($B$482:B507),Uputstvo!$C$377:$E$426,3,FALSE)),\" \",VLOOKUP(ROWS($B$482:B507),Uputstvo!$C$377:$E$426,3,FALSE))","v":" "},null,{"$f":"IF(ISNA(VLOOKUP(ROWS($D$482:D507),Uputstvo!$C$377:$O$426,4,FALSE)),\" \",VLOOKUP(ROWS($D$482:D507),Uputstvo!$C$377:$O$426,4,FALSE))","v":" "},{"$f":"IF(ISNA(VLOOKUP(ROWS($E$482:E507),Uputstvo!$C$377:$O$426,5,FALSE)),\" \",VLOOKUP(ROWS($E$482:E507),Uputstvo!$C$377:$O$426,5,FALSE))","v":" "},{"$f":"IF(ISNA(VLOOKUP(ROWS($F$482:F507),Uputstvo!$C$377:$O$426,6,FALSE)),\" \",VLOOKUP(ROWS($F$482:F507),Uputstvo!$C$377:$O$426,6,FALSE))","v":" "},{"$f":"IF(ISNA(VLOOKUP(ROWS($G$482:G507),Uputstvo!$C$377:$O$426,7,FALSE)),\" \",VLOOKUP(ROWS($G$482:G507),Uputstvo!$C$377:$O$426,7,FALSE))","v":" "},{"$f":"IF(ISNA(VLOOKUP(ROWS($H$482:H507),Uputstvo!$C$377:$O$426,8,FALSE)),\" \",VLOOKUP(ROWS($H$482:H507),Uputstvo!$C$377:$O$426,8,FALSE))","v":" "},{"$f":"IF(ISNA(VLOOKUP(ROWS($I$482:I507),Uputstvo!$C$377:$O$426,9,FALSE)),\" \",VLOOKUP(ROWS($I$482:I507),Uputstvo!$C$377:$O$426,9,FALSE))","v":" "},{"$f":"IF(ISNA(VLOOKUP(ROWS($J$482:J507),Uputstvo!$C$377:$O$426,10,FALSE)),\" \",VLOOKUP(ROWS($J$482:J507),Uputstvo!$C$377:$O$426,10,FALSE))","v":" "},{"$f":"IF(ISNA(VLOOKUP(ROWS($K$482:K507),Uputstvo!$C$377:$O$426,11,FALSE)),\" \",VLOOKUP(ROWS($K$482:K507),Uputstvo!$C$377:$O$426,11,FALSE))","v":" "},{"$f":"IF(ISNA(VLOOKUP(ROWS($L$482:L507),Uputstvo!$C$377:$O$426,12,FALSE)),\" \",VLOOKUP(ROWS($L$482:L507),Uputstvo!$C$377:$O$426,12,FALSE))","v":" "},{"$f":"IF(ISNA(VLOOKUP(ROWS($M$482:M507),Uputstvo!$C$377:$O$426,13,FALSE)),\" \",VLOOKUP(ROWS($M$482:M507),Uputstvo!$C$377:$O$426,13,FALSE))","v":" "},0,0,null,null,null,null,null,null,null,null,null,0]
[27,{"$f":"IF(ISNA(VLOOKUP(ROWS($B$482:B508),Uputstvo!$C$377:$E$426,3,FALSE)),\" \",VLOOKUP(ROWS($B$482:B508),Uputstvo!$C$377:$E$426,3,FALSE))","v":" "},null,{"$f":"IF(ISNA(VLOOKUP(ROWS($D$482:D508),Uputstvo!$C$377:$O$426,4,FALSE)),\" \",VLOOKUP(ROWS($D$482:D508),Uputstvo!$C$377:$O$426,4,FALSE))","v":" "},{"$f":"IF(ISNA(VLOOKUP(ROWS($E$482:E508),Uputstvo!$C$377:$O$426,5,FALSE)),\" \",VLOOKUP(ROWS($E$482:E508),Uputstvo!$C$377:$O$426,5,FALSE))","v":" "},{"$f":"IF(ISNA(VLOOKUP(ROWS($F$482:F508),Uputstvo!$C$377:$O$426,6,FALSE)),\" \",VLOOKUP(ROWS($F$482:F508),Uputstvo!$C$377:$O$426,6,FALSE))","v":" "},{"$f":"IF(ISNA(VLOOKUP(ROWS($G$482:G508),Uputstvo!$C$377:$O$426,7,FALSE)),\" \",VLOOKUP(ROWS($G$482:G508),Uputstvo!$C$377:$O$426,7,FALSE))","v":" "},{"$f":"IF(ISNA(VLOOKUP(ROWS($H$482:H508),Uputstvo!$C$377:$O$426,8,FALSE)),\" \",VLOOKUP(ROWS($H$482:H508),Uputstvo!$C$377:$O$426,8,FALSE))","v":" "},{"$f":"IF(ISNA(VLOOKUP(ROWS($I$482:I508),Uputstvo!$C$377:$O$426,9,FALSE)),\" \",VLOOKUP(ROWS($I$482:I508),Uputstvo!$C$377:$O$426,9,FALSE))","v":" "},{"$f":"IF(ISNA(VLOOKUP(ROWS($J$482:J508),Uputstvo!$C$377:$O$426,10,FALSE)),\" \",VLOOKUP(ROWS($J$482:J508),Uputstvo!$C$377:$O$426,10,FALSE))","v":" "},{"$f":"IF(ISNA(VLOOKUP(ROWS($K$482:K508),Uputstvo!$C$377:$O$426,11,FALSE)),\" \",VLOOKUP(ROWS($K$482:K508),Uputstvo!$C$377:$O$426,11,FALSE))","v":" "},{"$f":"IF(ISNA(VLOOKUP(ROWS($L$482:L508),Uputstvo!$C$377:$O$426,12,FALSE)),\" \",VLOOKUP(ROWS($L$482:L508),Uputstvo!$C$377:$O$426,12,FALSE))","v":" "},{"$f":"IF(ISNA(VLOOKUP(ROWS($M$482:M508),Uputstvo!$C$377:$O$426,13,FALSE)),\" \",VLOOKUP(ROWS($M$482:M508),Uputstvo!$C$377:$O$426,13,FALSE))","v":" "},0,0,null,null,null,null,null,null,null,null,null,0]
[28,{"$f":"IF(ISNA(VLOOKUP(ROWS($B$482:B509),Uputstvo!$C$377:$E$426,3,FALSE)),\" \",VLOOKUP(ROWS($B$482:B509),Uputstvo!$C$377:$E$426,3,FALSE))","v":" "},null,{"$f":"IF(ISNA(VLOOKUP(ROWS($D$482:D509),Uputstvo!$C$377:$O$426,4,FALSE)),\" \",VLOOKUP(ROWS($D$482:D509),Uputstvo!$C$377:$O$426,4,FALSE))","v":" "},{"$f":"IF(ISNA(VLOOKUP(ROWS($E$482:E509),Uputstvo!$C$377:$O$426,5,FALSE)),\" \",VLOOKUP(ROWS($E$482:E509),Uputstvo!$C$377:$O$426,5,FALSE))","v":" "},{"$f":"IF(ISNA(VLOOKUP(ROWS($F$482:F509),Uputstvo!$C$377:$O$426,6,FALSE)),\" \",VLOOKUP(ROWS($F$482:F509),Uputstvo!$C$377:$O$426,6,FALSE))","v":" "},{"$f":"IF(ISNA(VLOOKUP(ROWS($G$482:G509),Uputstvo!$C$377:$O$426,7,FALSE)),\" \",VLOOKUP(ROWS($G$482:G509),Uputstvo!$C$377:$O$426,7,FALSE))","v":" "},{"$f":"IF(ISNA(VLOOKUP(ROWS($H$482:H509),Uputstvo!$C$377:$O$426,8,FALSE)),\" \",VLOOKUP(ROWS($H$482:H509),Uputstvo!$C$377:$O$426,8,FALSE))","v":" "},{"$f":"IF(ISNA(VLOOKUP(ROWS($I$482:I509),Uputstvo!$C$377:$O$426,9,FALSE)),\" \",VLOOKUP(ROWS($I$482:I509),Uputstvo!$C$377:$O$426,9,FALSE))","v":" "},{"$f":"IF(ISNA(VLOOKUP(ROWS($J$482:J509),Uputstvo!$C$377:$O$426,10,FALSE)),\" \",VLOOKUP(ROWS($J$482:J509),Uputstvo!$C$377:$O$426,10,FALSE))","v":" "},{"$f":"IF(ISNA(VLOOKUP(ROWS($K$482:K509),Uputstvo!$C$377:$O$426,11,FALSE)),\" \",VLOOKUP(ROWS($K$482:K509),Uputstvo!$C$377:$O$426,11,FALSE))","v":" "},{"$f":"IF(ISNA(VLOOKUP(ROWS($L$482:L509),Uputstvo!$C$377:$O$426,12,FALSE)),\" \",VLOOKUP(ROWS($L$482:L509),Uputstvo!$C$377:$O$426,12,FALSE))","v":" "},{"$f":"IF(ISNA(VLOOKUP(ROWS($M$482:M509),Uputstvo!$C$377:$O$426,13,FALSE)),\" \",VLOOKUP(ROWS($M$482:M509),Uputstvo!$C$377:$O$426,13,FALSE))","v":" "},0,0,null,null,null,null,null,null,null,null,null,0]
[29,{"$f":"IF(ISNA(VLOOKUP(ROWS($B$482:B510),Uputstvo!$C$377:$E$426,3,FALSE)),\" \",VLOOKUP(ROWS($B$482:B510),Uputstvo!$C$377:$E$426,3,FALSE))","v":" "},null,{"$f":"IF(ISNA(VLOOKUP(ROWS($D$482:D510),Uputstvo!$C$377:$O$426,4,FALSE)),\" \",VLOOKUP(ROWS($D$482:D510),Uputstvo!$C$377:$O$426,4,FALSE))","v":" "},{"$f":"IF(ISNA(VLOOKUP(ROWS($E$482:E510),Uputstvo!$C$377:$O$426,5,FALSE)),\" \",VLOOKUP(ROWS($E$482:E510),Uputstvo!$C$377:$O$426,5,FALSE))","v":" "},{"$f":"IF(ISNA(VLOOKUP(ROWS($F$482:F510),Uputstvo!$C$377:$O$426,6,FALSE)),\" \",VLOOKUP(ROWS($F$482:F510),Uputstvo!$C$377:$O$426,6,FALSE))","v":" "},{"$f":"IF(ISNA(VLOOKUP(ROWS($G$482:G510),Uputstvo!$C$377:$O$426,7,FALSE)),\" \",VLOOKUP(ROWS($G$482:G510),Uputstvo!$C$377:$O$426,7,FALSE))","v":" "},{"$f":"IF(ISNA(VLOOKUP(ROWS($H$482:H510),Uputstvo!$C$377:$O$426,8,FALSE)),\" \",VLOOKUP(ROWS($H$482:H510),Uputstvo!$C$377:$O$426,8,FALSE))","v":" "},{"$f":"IF(ISNA(VLOOKUP(ROWS($I$482:I510),Uputstvo!$C$377:$O$426,9,FALSE)),\" \",VLOOKUP(ROWS($I$482:I510),Uputstvo!$C$377:$O$426,9,FALSE))","v":" "},{"$f":"IF(ISNA(VLOOKUP(ROWS($J$482:J510),Uputstvo!$C$377:$O$426,10,FALSE)),\" \",VLOOKUP(ROWS($J$482:J510),Uputstvo!$C$377:$O$426,10,FALSE))","v":" "},{"$f":"IF(ISNA(VLOOKUP(ROWS($K$482:K510),Uputstvo!$C$377:$O$426,11,FALSE)),\" \",VLOOKUP(ROWS($K$482:K510),Uputstvo!$C$377:$O$426,11,FALSE))","v":" "},{"$f":"IF(ISNA(VLOOKUP(ROWS($L$482:L510),Uputstvo!$C$377:$O$426,12,FALSE)),\" \",VLOOKUP(ROWS($L$482:L510),Uputstvo!$C$377:$O$426,12,FALSE))","v":" "},{"$f":"IF(ISNA(VLOOKUP(ROWS($M$482:M510),Uputstvo!$C$377:$O$426,13,FALSE)),\" \",VLOOKUP(ROWS($M$482:M510),Uputstvo!$C$377:$O$426,13,FALSE))","v":" "},0,0,null,null,null,null,null,null,null,null,null,0]
[30,{"$f":"IF(ISNA(VLOOKUP(ROWS($B$482:B511),Uputstvo!$C$377:$E$426,3,FALSE)),\" \",VLOOKUP(ROWS($B$482:B511),Uputstvo!$C$377:$E$426,3,FALSE))","v":" "},null,{"$f":"IF(ISNA(VLOOKUP(ROWS($D$482:D511),Uputstvo!$C$377:$O$426,4,FALSE)),\" \",VLOOKUP(ROWS($D$482:D511),Uputstvo!$C$377:$O$426,4,FALSE))","v":" "},{"$f":"IF(ISNA(VLOOKUP(ROWS($E$482:E511),Uputstvo!$C$377:$O$426,5,FALSE)),\" \",VLOOKUP(ROWS($E$482:E511),Uputstvo!$C$377:$O$426,5,FALSE))","v":" "},{"$f":"IF(ISNA(VLOOKUP(ROWS($F$482:F511),Uputstvo!$C$377:$O$426,6,FALSE)),\" \",VLOOKUP(ROWS($F$482:F511),Uputstvo!$C$377:$O$426,6,FALSE))","v":" "},{"$f":"IF(ISNA(VLOOKUP(ROWS($G$482:G511),Uputstvo!$C$377:$O$426,7,FALSE)),\" \",VLOOKUP(ROWS($G$482:G511),Uputstvo!$C$377:$O$426,7,FALSE))","v":" "},{"$f":"IF(ISNA(VLOOKUP(ROWS($H$482:H511),Uputstvo!$C$377:$O$426,8,FALSE)),\" \",VLOOKUP(ROWS($H$482:H511),Uputstvo!$C$377:$O$426,8,FALSE))","v":" "},{"$f":"IF(ISNA(VLOOKUP(ROWS($I$482:I511),Uputstvo!$C$377:$O$426,9,FALSE)),\" \",VLOOKUP(ROWS($I$482:I511),Uputstvo!$C$377:$O$426,9,FALSE))","v":" "},{"$f":"IF(ISNA(VLOOKUP(ROWS($J$482:J511),Uputstvo!$C$377:$O$426,10,FALSE)),\" \",VLOOKUP(ROWS($J$482:J511),Uputstvo!$C$377:$O$426,10,FALSE))","v":" "},{"$f":"IF(ISNA(VLOOKUP(ROWS($K$482:K511),Uputstvo!$C$377:$O$426,11,FALSE)),\" \",VLOOKUP(ROWS($K$482:K511),Uputstvo!$C$377:$O$426,11,FALSE))","v":" "},{"$f":"IF(ISNA(VLOOKUP(ROWS($L$482:L511),Uputstvo!$C$377:$O$426,12,FALSE)),\" \",VLOOKUP(ROWS($L$482:L511),Uputstvo!$C$377:$O$426,12,FALSE))","v":" "},{"$f":"IF(ISNA(VLOOKUP(ROWS($M$482:M511),Uputstvo!$C$377:$O$426,13,FALSE)),\" \",VLOOKUP(ROWS($M$482:M511),Uputstvo!$C$377:$O$426,13,FALSE))","v":" "},0,0,null,null,null,null,null,null,null,null,null,0]
[31,{"$f":"IF(ISNA(VLOOKUP(ROWS($B$482:B512),Uputstvo!$C$377:$E$426,3,FALSE)),\" \",VLOOKUP(ROWS($B$482:B512),Uputstvo!$C$377:$E$426,3,FALSE))","v":" "},null,{"$f":"IF(ISNA(VLOOKUP(ROWS($D$482:D512),Uputstvo!$C$377:$O$426,4,FALSE)),\" \",VLOOKUP(ROWS($D$482:D512),Uputstvo!$C$377:$O$426,4,FALSE))","v":" "},{"$f":"IF(ISNA(VLOOKUP(ROWS($E$482:E512),Uputstvo!$C$377:$O$426,5,FALSE)),\" \",VLOOKUP(ROWS($E$482:E512),Uputstvo!$C$377:$O$426,5,FALSE))","v":" "},{"$f":"IF(ISNA(VLOOKUP(ROWS($F$482:F512),Uputstvo!$C$377:$O$426,6,FALSE)),\" \",VLOOKUP(ROWS($F$482:F512),Uputstvo!$C$377:$O$426,6,FALSE))","v":" "},{"$f":"IF(ISNA(VLOOKUP(ROWS($G$482:G512),Uputstvo!$C$377:$O$426,7,FALSE)),\" \",VLOOKUP(ROWS($G$482:G512),Uputstvo!$C$377:$O$426,7,FALSE))","v":" "},{"$f":"IF(ISNA(VLOOKUP(ROWS($H$482:H512),Uputstvo!$C$377:$O$426,8,FALSE)),\" \",VLOOKUP(ROWS($H$482:H512),Uputstvo!$C$377:$O$426,8,FALSE))","v":" "},{"$f":"IF(ISNA(VLOOKUP(ROWS($I$482:I512),Uputstvo!$C$377:$O$426,9,FALSE)),\" \",VLOOKUP(ROWS($I$482:I512),Uputstvo!$C$377:$O$426,9,FALSE))","v":" "},{"$f":"IF(ISNA(VLOOKUP(ROWS($J$482:J512),Uputstvo!$C$377:$O$426,10,FALSE)),\" \",VLOOKUP(ROWS($J$482:J512),Uputstvo!$C$377:$O$426,10,FALSE))","v":" "},{"$f":"IF(ISNA(VLOOKUP(ROWS($K$482:K512),Uputstvo!$C$377:$O$426,11,FALSE)),\" \",VLOOKUP(ROWS($K$482:K512),Uputstvo!$C$377:$O$426,11,FALSE))","v":" "},{"$f":"IF(ISNA(VLOOKUP(ROWS($L$482:L512),Uputstvo!$C$377:$O$426,12,FALSE)),\" \",VLOOKUP(ROWS($L$482:L512),Uputstvo!$C$377:$O$426,12,FALSE))","v":" "},{"$f":"IF(ISNA(VLOOKUP(ROWS($M$482:M512),Uputstvo!$C$377:$O$426,13,FALSE)),\" \",VLOOKUP(ROWS($M$482:M512),Uputstvo!$C$377:$O$426,13,FALSE))","v":" "},0,0,null,null,null,null,null,null,null,null,null,0]
[32,{"$f":"IF(ISNA(VLOOKUP(ROWS($B$482:B513),Uputstvo!$C$377:$E$426,3,FALSE)),\" \",VLOOKUP(ROWS($B$482:B513),Uputstvo!$C$377:$E$426,3,FALSE))","v":" "},null,{"$f":"IF(ISNA(VLOOKUP(ROWS($D$482:D513),Uputstvo!$C$377:$O$426,4,FALSE)),\" \",VLOOKUP(ROWS($D$482:D513),Uputstvo!$C$377:$O$426,4,FALSE))","v":" "},{"$f":"IF(ISNA(VLOOKUP(ROWS($E$482:E513),Uputstvo!$C$377:$O$426,5,FALSE)),\" \",VLOOKUP(ROWS($E$482:E513),Uputstvo!$C$377:$O$426,5,FALSE))","v":" "},{"$f":"IF(ISNA(VLOOKUP(ROWS($F$482:F513),Uputstvo!$C$377:$O$426,6,FALSE)),\" \",VLOOKUP(ROWS($F$482:F513),Uputstvo!$C$377:$O$426,6,FALSE))","v":" "},{"$f":"IF(ISNA(VLOOKUP(ROWS($G$482:G513),Uputstvo!$C$377:$O$426,7,FALSE)),\" \",VLOOKUP(ROWS($G$482:G513),Uputstvo!$C$377:$O$426,7,FALSE))","v":" "},{"$f":"IF(ISNA(VLOOKUP(ROWS($H$482:H513),Uputstvo!$C$377:$O$426,8,FALSE)),\" \",VLOOKUP(ROWS($H$482:H513),Uputstvo!$C$377:$O$426,8,FALSE))","v":" "},{"$f":"IF(ISNA(VLOOKUP(ROWS($I$482:I513),Uputstvo!$C$377:$O$426,9,FALSE)),\" \",VLOOKUP(ROWS($I$482:I513),Uputstvo!$C$377:$O$426,9,FALSE))","v":" "},{"$f":"IF(ISNA(VLOOKUP(ROWS($J$482:J513),Uputstvo!$C$377:$O$426,10,FALSE)),\" \",VLOOKUP(ROWS($J$482:J513),Uputstvo!$C$377:$O$426,10,FALSE))","v":" "},{"$f":"IF(ISNA(VLOOKUP(ROWS($K$482:K513),Uputstvo!$C$377:$O$426,11,FALSE)),\" \",VLOOKUP(ROWS($K$482:K513),Uputstvo!$C$377:$O$426,11,FALSE))","v":" "},{"$f":"IF(ISNA(VLOOKUP(ROWS($L$482:L513),Uputstvo!$C$377:$O$426,12,FALSE)),\" \",VLOOKUP(ROWS($L$482:L513),Uputstvo!$C$377:$O$426,12,FALSE))","v":" "},{"$f":"IF(ISNA(VLOOKUP(ROWS($M$482:M513),Uputstvo!$C$377:$O$426,13,FALSE)),\" \",VLOOKUP(ROWS($M$482:M513),Uputstvo!$C$377:$O$426,13,FALSE))","v":" "},0,0,null,null,null,null,null,null,null,null,null,0]
[33,{"$f":"IF(ISNA(VLOOKUP(ROWS($B$482:B514),Uputstvo!$C$377:$E$426,3,FALSE)),\" \",VLOOKUP(ROWS($B$482:B514),Uputstvo!$C$377:$E$426,3,FALSE))","v":" "},null,{"$f":"IF(ISNA(VLOOKUP(ROWS($D$482:D514),Uputstvo!$C$377:$O$426,4,FALSE)),\" \",VLOOKUP(ROWS($D$482:D514),Uputstvo!$C$377:$O$426,4,FALSE))","v":" "},{"$f":"IF(ISNA(VLOOKUP(ROWS($E$482:E514),Uputstvo!$C$377:$O$426,5,FALSE)),\" \",VLOOKUP(ROWS($E$482:E514),Uputstvo!$C$377:$O$426,5,FALSE))","v":" "},{"$f":"IF(ISNA(VLOOKUP(ROWS($F$482:F514),Uputstvo!$C$377:$O$426,6,FALSE)),\" \",VLOOKUP(ROWS($F$482:F514),Uputstvo!$C$377:$O$426,6,FALSE))","v":" "},{"$f":"IF(ISNA(VLOOKUP(ROWS($G$482:G514),Uputstvo!$C$377:$O$426,7,FALSE)),\" \",VLOOKUP(ROWS($G$482:G514),Uputstvo!$C$377:$O$426,7,FALSE))","v":" "},{"$f":"IF(ISNA(VLOOKUP(ROWS($H$482:H514),Uputstvo!$C$377:$O$426,8,FALSE)),\" \",VLOOKUP(ROWS($H$482:H514),Uputstvo!$C$377:$O$426,8,FALSE))","v":" "},{"$f":"IF(ISNA(VLOOKUP(ROWS($I$482:I514),Uputstvo!$C$377:$O$426,9,FALSE)),\" \",VLOOKUP(ROWS($I$482:I514),Uputstvo!$C$377:$O$426,9,FALSE))","v":" "},{"$f":"IF(ISNA(VLOOKUP(ROWS($J$482:J514),Uputstvo!$C$377:$O$426,10,FALSE)),\" \",VLOOKUP(ROWS($J$482:J514),Uputstvo!$C$377:$O$426,10,FALSE))","v":" "},{"$f":"IF(ISNA(VLOOKUP(ROWS($K$482:K514),Uputstvo!$C$377:$O$426,11,FALSE)),\" \",VLOOKUP(ROWS($K$482:K514),Uputstvo!$C$377:$O$426,11,FALSE))","v":" "},{"$f":"IF(ISNA(VLOOKUP(ROWS($L$482:L514),Uputstvo!$C$377:$O$426,12,FALSE)),\" \",VLOOKUP(ROWS($L$482:L514),Uputstvo!$C$377:$O$426,12,FALSE))","v":" "},{"$f":"IF(ISNA(VLOOKUP(ROWS($M$482:M514),Uputstvo!$C$377:$O$426,13,FALSE)),\" \",VLOOKUP(ROWS($M$482:M514),Uputstvo!$C$377:$O$426,13,FALSE))","v":" "},0,0,null,null,null,null,null,null,null,null,null,0]
[34,{"$f":"IF(ISNA(VLOOKUP(ROWS($B$482:B515),Uputstvo!$C$377:$E$426,3,FALSE)),\" \",VLOOKUP(ROWS($B$482:B515),Uputstvo!$C$377:$E$426,3,FALSE))","v":" "},null,{"$f":"IF(ISNA(VLOOKUP(ROWS($D$482:D515),Uputstvo!$C$377:$O$426,4,FALSE)),\" \",VLOOKUP(ROWS($D$482:D515),Uputstvo!$C$377:$O$426,4,FALSE))","v":" "},{"$f":"IF(ISNA(VLOOKUP(ROWS($E$482:E515),Uputstvo!$C$377:$O$426,5,FALSE)),\" \",VLOOKUP(ROWS($E$482:E515),Uputstvo!$C$377:$O$426,5,FALSE))","v":" "},{"$f":"IF(ISNA(VLOOKUP(ROWS($F$482:F515),Uputstvo!$C$377:$O$426,6,FALSE)),\" \",VLOOKUP(ROWS($F$482:F515),Uputstvo!$C$377:$O$426,6,FALSE))","v":" "},{"$f":"IF(ISNA(VLOOKUP(ROWS($G$482:G515),Uputstvo!$C$377:$O$426,7,FALSE)),\" \",VLOOKUP(ROWS($G$482:G515),Uputstvo!$C$377:$O$426,7,FALSE))","v":" "},{"$f":"IF(ISNA(VLOOKUP(ROWS($H$482:H515),Uputstvo!$C$377:$O$426,8,FALSE)),\" \",VLOOKUP(ROWS($H$482:H515),Uputstvo!$C$377:$O$426,8,FALSE))","v":" "},{"$f":"IF(ISNA(VLOOKUP(ROWS($I$482:I515),Uputstvo!$C$377:$O$426,9,FALSE)),\" \",VLOOKUP(ROWS($I$482:I515),Uputstvo!$C$377:$O$426,9,FALSE))","v":" "},{"$f":"IF(ISNA(VLOOKUP(ROWS($J$482:J515),Uputstvo!$C$377:$O$426,10,FALSE)),\" \",VLOOKUP(ROWS($J$482:J515),Uputstvo!$C$377:$O$426,10,FALSE))","v":" "},{"$f":"IF(ISNA(VLOOKUP(ROWS($K$482:K515),Uputstvo!$C$377:$O$426,11,FALSE)),\" \",VLOOKUP(ROWS($K$482:K515),Uputstvo!$C$377:$O$426,11,FALSE))","v":" "},{"$f":"IF(ISNA(VLOOKUP(ROWS($L$482:L515),Uputstvo!$C$377:$O$426,12,FALSE)),\" \",VLOOKUP(ROWS($L$482:L515),Uputstvo!$C$377:$O$426,12,FALSE))","v":" "},{"$f":"IF(ISNA(VLOOKUP(ROWS($M$482:M515),Uputstvo!$C$377:$O$426,13,FALSE)),\" \",VLOOKUP(ROWS($M$482:M515),Uputstvo!$C$377:$O$426,13,FALSE))","v":" "},0,0,null,null,null,null,null,null,null,null,null,0]
[35,{"$f":"IF(ISNA(VLOOKUP(ROWS($B$482:B516),Uputstvo!$C$377:$E$426,3,FALSE)),\" \",VLOOKUP(ROWS($B$482:B516),Uputstvo!$C$377:$E$426,3,FALSE))","v":" "},null,{"$f":"IF(ISNA(VLOOKUP(ROWS($D$482:D516),Uputstvo!$C$377:$O$426,4,FALSE)),\" \",VLOOKUP(ROWS($D$482:D516),Uputstvo!$C$377:$O$426,4,FALSE))","v":" "},{"$f":"IF(ISNA(VLOOKUP(ROWS($E$482:E516),Uputstvo!$C$377:$O$426,5,FALSE)),\" \",VLOOKUP(ROWS($E$482:E516),Uputstvo!$C$377:$O$426,5,FALSE))","v":" "},{"$f":"IF(ISNA(VLOOKUP(ROWS($F$482:F516),Uputstvo!$C$377:$O$426,6,FALSE)),\" \",VLOOKUP(ROWS($F$482:F516),Uputstvo!$C$377:$O$426,6,FALSE))","v":" "},{"$f":"IF(ISNA(VLOOKUP(ROWS($G$482:G516),Uputstvo!$C$377:$O$426,7,FALSE)),\" \",VLOOKUP(ROWS($G$482:G516),Uputstvo!$C$377:$O$426,7,FALSE))","v":" "},{"$f":"IF(ISNA(VLOOKUP(ROWS($H$482:H516),Uputstvo!$C$377:$O$426,8,FALSE)),\" \",VLOOKUP(ROWS($H$482:H516),Uputstvo!$C$377:$O$426,8,FALSE))","v":" "},{"$f":"IF(ISNA(VLOOKUP(ROWS($I$482:I516),Uputstvo!$C$377:$O$426,9,FALSE)),\" \",VLOOKUP(ROWS($I$482:I516),Uputstvo!$C$377:$O$426,9,FALSE))","v":" "},{"$f":"IF(ISNA(VLOOKUP(ROWS($J$482:J516),Uputstvo!$C$377:$O$426,10,FALSE)),\" \",VLOOKUP(ROWS($J$482:J516),Uputstvo!$C$377:$O$426,10,FALSE))","v":" "},{"$f":"IF(ISNA(VLOOKUP(ROWS($K$482:K516),Uputstvo!$C$377:$O$426,11,FALSE)),\" \",VLOOKUP(ROWS($K$482:K516),Uputstvo!$C$377:$O$426,11,FALSE))","v":" "},{"$f":"IF(ISNA(VLOOKUP(ROWS($L$482:L516),Uputstvo!$C$377:$O$426,12,FALSE)),\" \",VLOOKUP(ROWS($L$482:L516),Uputstvo!$C$377:$O$426,12,FALSE))","v":" "},{"$f":"IF(ISNA(VLOOKUP(ROWS($M$482:M516),Uputstvo!$C$377:$O$426,13,FALSE)),\" \",VLOOKUP(ROWS($M$482:M516),Uputstvo!$C$377:$O$426,13,FALSE))","v":" "},0,0,null,null,null,null,null,null,null,null,null,0]
[36,{"$f":"IF(ISNA(VLOOKUP(ROWS($B$482:B517),Uputstvo!$C$377:$E$426,3,FALSE)),\" \",VLOOKUP(ROWS($B$482:B517),Uputstvo!$C$377:$E$426,3,FALSE))","v":" "},null,{"$f":"IF(ISNA(VLOOKUP(ROWS($D$482:D517),Uputstvo!$C$377:$O$426,4,FALSE)),\" \",VLOOKUP(ROWS($D$482:D517),Uputstvo!$C$377:$O$426,4,FALSE))","v":" "},{"$f":"IF(ISNA(VLOOKUP(ROWS($E$482:E517),Uputstvo!$C$377:$O$426,5,FALSE)),\" \",VLOOKUP(ROWS($E$482:E517),Uputstvo!$C$377:$O$426,5,FALSE))","v":" "},{"$f":"IF(ISNA(VLOOKUP(ROWS($F$482:F517),Uputstvo!$C$377:$O$426,6,FALSE)),\" \",VLOOKUP(ROWS($F$482:F517),Uputstvo!$C$377:$O$426,6,FALSE))","v":" "},{"$f":"IF(ISNA(VLOOKUP(ROWS($G$482:G517),Uputstvo!$C$377:$O$426,7,FALSE)),\" \",VLOOKUP(ROWS($G$482:G517),Uputstvo!$C$377:$O$426,7,FALSE))","v":" "},{"$f":"IF(ISNA(VLOOKUP(ROWS($H$482:H517),Uputstvo!$C$377:$O$426,8,FALSE)),\" \",VLOOKUP(ROWS($H$482:H517),Uputstvo!$C$377:$O$426,8,FALSE))","v":" "},{"$f":"IF(ISNA(VLOOKUP(ROWS($I$482:I517),Uputstvo!$C$377:$O$426,9,FALSE)),\" \",VLOOKUP(ROWS($I$482:I517),Uputstvo!$C$377:$O$426,9,FALSE))","v":" "},{"$f":"IF(ISNA(VLOOKUP(ROWS($J$482:J517),Uputstvo!$C$377:$O$426,10,FALSE)),\" \",VLOOKUP(ROWS($J$482:J517),Uputstvo!$C$377:$O$426,10,FALSE))","v":" "},{"$f":"IF(ISNA(VLOOKUP(ROWS($K$482:K517),Uputstvo!$C$377:$O$426,11,FALSE)),\" \",VLOOKUP(ROWS($K$482:K517),Uputstvo!$C$377:$O$426,11,FALSE))","v":" "},{"$f":"IF(ISNA(VLOOKUP(ROWS($L$482:L517),Uputstvo!$C$377:$O$426,12,FALSE)),\" \",VLOOKUP(ROWS($L$482:L517),Uputstvo!$C$377:$O$426,12,FALSE))","v":" "},{"$f":"IF(ISNA(VLOOKUP(ROWS($M$482:M517),Uputstvo!$C$377:$O$426,13,FALSE)),\" \",VLOOKUP(ROWS($M$482:M517),Uputstvo!$C$377:$O$426,13,FALSE))","v":" "},0,0,null,null,null,null,null,null,null,null,null,0]
[37,{"$f":"IF(ISNA(VLOOKUP(ROWS($B$482:B518),Uputstvo!$C$377:$E$426,3,FALSE)),\" \",VLOOKUP(ROWS($B$482:B518),Uputstvo!$C$377:$E$426,3,FALSE))","v":" "},null,{"$f":"IF(ISNA(VLOOKUP(ROWS($D$482:D518),Uputstvo!$C$377:$O$426,4,FALSE)),\" \",VLOOKUP(ROWS($D$482:D518),Uputstvo!$C$377:$O$426,4,FALSE))","v":" "},{"$f":"IF(ISNA(VLOOKUP(ROWS($E$482:E518),Uputstvo!$C$377:$O$426,5,FALSE)),\" \",VLOOKUP(ROWS($E$482:E518),Uputstvo!$C$377:$O$426,5,FALSE))","v":" "},{"$f":"IF(ISNA(VLOOKUP(ROWS($F$482:F518),Uputstvo!$C$377:$O$426,6,FALSE)),\" \",VLOOKUP(ROWS($F$482:F518),Uputstvo!$C$377:$O$426,6,FALSE))","v":" "},{"$f":"IF(ISNA(VLOOKUP(ROWS($G$482:G518),Uputstvo!$C$377:$O$426,7,FALSE)),\" \",VLOOKUP(ROWS($G$482:G518),Uputstvo!$C$377:$O$426,7,FALSE))","v":" "},{"$f":"IF(ISNA(VLOOKUP(ROWS($H$482:H518),Uputstvo!$C$377:$O$426,8,FALSE)),\" \",VLOOKUP(ROWS($H$482:H518),Uputstvo!$C$377:$O$426,8,FALSE))","v":" "},{"$f":"IF(ISNA(VLOOKUP(ROWS($I$482:I518),Uputstvo!$C$377:$O$426,9,FALSE)),\" \",VLOOKUP(ROWS($I$482:I518),Uputstvo!$C$377:$O$426,9,FALSE))","v":" "},{"$f":"IF(ISNA(VLOOKUP(ROWS($J$482:J518),Uputstvo!$C$377:$O$426,10,FALSE)),\" \",VLOOKUP(ROWS($J$482:J518),Uputstvo!$C$377:$O$426,10,FALSE))","v":" "},{"$f":"IF(ISNA(VLOOKUP(ROWS($K$482:K518),Uputstvo!$C$377:$O$426,11,FALSE)),\" \",VLOOKUP(ROWS($K$482:K518),Uputstvo!$C$377:$O$426,11,FALSE))","v":" "},{"$f":"IF(ISNA(VLOOKUP(ROWS($L$482:L518),Uputstvo!$C$377:$O$426,12,FALSE)),\" \",VLOOKUP(ROWS($L$482:L518),Uputstvo!$C$377:$O$426,12,FALSE))","v":" "},{"$f":"IF(ISNA(VLOOKUP(ROWS($M$482:M518),Uputstvo!$C$377:$O$426,13,FALSE)),\" \",VLOOKUP(ROWS($M$482:M518),Uputstvo!$C$377:$O$426,13,FALSE))","v":" "},0,0,null,null,null,null,null,null,null,null,null,0]
[38,{"$f":"IF(ISNA(VLOOKUP(ROWS($B$482:B519),Uputstvo!$C$377:$E$426,3,FALSE)),\" \",VLOOKUP(ROWS($B$482:B519),Uputstvo!$C$377:$E$426,3,FALSE))","v":" "},null,{"$f":"IF(ISNA(VLOOKUP(ROWS($D$482:D519),Uputstvo!$C$377:$O$426,4,FALSE)),\" \",VLOOKUP(ROWS($D$482:D519),Uputstvo!$C$377:$O$426,4,FALSE))","v":" "},{"$f":"IF(ISNA(VLOOKUP(ROWS($E$482:E519),Uputstvo!$C$377:$O$426,5,FALSE)),\" \",VLOOKUP(ROWS($E$482:E519),Uputstvo!$C$377:$O$426,5,FALSE))","v":" "},{"$f":"IF(ISNA(VLOOKUP(ROWS($F$482:F519),Uputstvo!$C$377:$O$426,6,FALSE)),\" \",VLOOKUP(ROWS($F$482:F519),Uputstvo!$C$377:$O$426,6,FALSE))","v":" "},{"$f":"IF(ISNA(VLOOKUP(ROWS($G$482:G519),Uputstvo!$C$377:$O$426,7,FALSE)),\" \",VLOOKUP(ROWS($G$482:G519),Uputstvo!$C$377:$O$426,7,FALSE))","v":" "},{"$f":"IF(ISNA(VLOOKUP(ROWS($H$482:H519),Uputstvo!$C$377:$O$426,8,FALSE)),\" \",VLOOKUP(ROWS($H$482:H519),Uputstvo!$C$377:$O$426,8,FALSE))","v":" "},{"$f":"IF(ISNA(VLOOKUP(ROWS($I$482:I519),Uputstvo!$C$377:$O$426,9,FALSE)),\" \",VLOOKUP(ROWS($I$482:I519),Uputstvo!$C$377:$O$426,9,FALSE))","v":" "},{"$f":"IF(ISNA(VLOOKUP(ROWS($J$482:J519),Uputstvo!$C$377:$O$426,10,FALSE)),\" \",VLOOKUP(ROWS($J$482:J519),Uputstvo!$C$377:$O$426,10,FALSE))","v":" "},{"$f":"IF(ISNA(VLOOKUP(ROWS($K$482:K519),Uputstvo!$C$377:$O$426,11,FALSE)),\" \",VLOOKUP(ROWS($K$482:K519),Uputstvo!$C$377:$O$426,11,FALSE))","v":" "},{"$f":"IF(ISNA(VLOOKUP(ROWS($L$482:L519),Uputstvo!$C$377:$O$426,12,FALSE)),\" \",VLOOKUP(ROWS($L$482:L519),Uputstvo!$C$377:$O$426,12,FALSE))","v":" "},{"$f":"IF(ISNA(VLOOKUP(ROWS($M$482:M519),Uputstvo!$C$377:$O$426,13,FALSE)),\" \",VLOOKUP(ROWS($M$482:M519),Uputstvo!$C$377:$O$426,13,FALSE))","v":" "},0,0,null,null,null,null,null,null,null,null,null,0]
[39,{"$f":"IF(ISNA(VLOOKUP(ROWS($B$482:B520),Uputstvo!$C$377:$E$426,3,FALSE)),\" \",VLOOKUP(ROWS($B$482:B520),Uputstvo!$C$377:$E$426,3,FALSE))","v":" "},null,{"$f":"IF(ISNA(VLOOKUP(ROWS($D$482:D520),Uputstvo!$C$377:$O$426,4,FALSE)),\" \",VLOOKUP(ROWS($D$482:D520),Uputstvo!$C$377:$O$426,4,FALSE))","v":" "},{"$f":"IF(ISNA(VLOOKUP(ROWS($E$482:E520),Uputstvo!$C$377:$O$426,5,FALSE)),\" \",VLOOKUP(ROWS($E$482:E520),Uputstvo!$C$377:$O$426,5,FALSE))","v":" "},{"$f":"IF(ISNA(VLOOKUP(ROWS($F$482:F520),Uputstvo!$C$377:$O$426,6,FALSE)),\" \",VLOOKUP(ROWS($F$482:F520),Uputstvo!$C$377:$O$426,6,FALSE))","v":" "},{"$f":"IF(ISNA(VLOOKUP(ROWS($G$482:G520),Uputstvo!$C$377:$O$426,7,FALSE)),\" \",VLOOKUP(ROWS($G$482:G520),Uputstvo!$C$377:$O$426,7,FALSE))","v":" "},{"$f":"IF(ISNA(VLOOKUP(ROWS($H$482:H520),Uputstvo!$C$377:$O$426,8,FALSE)),\" \",VLOOKUP(ROWS($H$482:H520),Uputstvo!$C$377:$O$426,8,FALSE))","v":" "},{"$f":"IF(ISNA(VLOOKUP(ROWS($I$482:I520),Uputstvo!$C$377:$O$426,9,FALSE)),\" \",VLOOKUP(ROWS($I$482:I520),Uputstvo!$C$377:$O$426,9,FALSE))","v":" "},{"$f":"IF(ISNA(VLOOKUP(ROWS($J$482:J520),Uputstvo!$C$377:$O$426,10,FALSE)),\" \",VLOOKUP(ROWS($J$482:J520),Uputstvo!$C$377:$O$426,10,FALSE))","v":" "},{"$f":"IF(ISNA(VLOOKUP(ROWS($K$482:K520),Uputstvo!$C$377:$O$426,11,FALSE)),\" \",VLOOKUP(ROWS($K$482:K520),Uputstvo!$C$377:$O$426,11,FALSE))","v":" "},{"$f":"IF(ISNA(VLOOKUP(ROWS($L$482:L520),Uputstvo!$C$377:$O$426,12,FALSE)),\" \",VLOOKUP(ROWS($L$482:L520),Uputstvo!$C$377:$O$426,12,FALSE))","v":" "},{"$f":"IF(ISNA(VLOOKUP(ROWS($M$482:M520),Uputstvo!$C$377:$O$426,13,FALSE)),\" \",VLOOKUP(ROWS($M$482:M520),Uputstvo!$C$377:$O$426,13,FALSE))","v":" "},0,0,null,null,null,null,null,null,null,null,null,0]
[40,{"$f":"IF(ISNA(VLOOKUP(ROWS($B$482:B521),Uputstvo!$C$377:$E$426,3,FALSE)),\" \",VLOOKUP(ROWS($B$482:B521),Uputstvo!$C$377:$E$426,3,FALSE))","v":" "},null,{"$f":"IF(ISNA(VLOOKUP(ROWS($D$482:D521),Uputstvo!$C$377:$O$426,4,FALSE)),\" \",VLOOKUP(ROWS($D$482:D521),Uputstvo!$C$377:$O$426,4,FALSE))","v":" "},{"$f":"IF(ISNA(VLOOKUP(ROWS($E$482:E521),Uputstvo!$C$377:$O$426,5,FALSE)),\" \",VLOOKUP(ROWS($E$482:E521),Uputstvo!$C$377:$O$426,5,FALSE))","v":" "},{"$f":"IF(ISNA(VLOOKUP(ROWS($F$482:F521),Uputstvo!$C$377:$O$426,6,FALSE)),\" \",VLOOKUP(ROWS($F$482:F521),Uputstvo!$C$377:$O$426,6,FALSE))","v":" "},{"$f":"IF(ISNA(VLOOKUP(ROWS($G$482:G521),Uputstvo!$C$377:$O$426,7,FALSE)),\" \",VLOOKUP(ROWS($G$482:G521),Uputstvo!$C$377:$O$426,7,FALSE))","v":" "},{"$f":"IF(ISNA(VLOOKUP(ROWS($H$482:H521),Uputstvo!$C$377:$O$426,8,FALSE)),\" \",VLOOKUP(ROWS($H$482:H521),Uputstvo!$C$377:$O$426,8,FALSE))","v":" "},{"$f":"IF(ISNA(VLOOKUP(ROWS($I$482:I521),Uputstvo!$C$377:$O$426,9,FALSE)),\" \",VLOOKUP(ROWS($I$482:I521),Uputstvo!$C$377:$O$426,9,FALSE))","v":" "},{"$f":"IF(ISNA(VLOOKUP(ROWS($J$482:J521),Uputstvo!$C$377:$O$426,10,FALSE)),\" \",VLOOKUP(ROWS($J$482:J521),Uputstvo!$C$377:$O$426,10,FALSE))","v":" "},{"$f":"IF(ISNA(VLOOKUP(ROWS($K$482:K521),Uputstvo!$C$377:$O$426,11,FALSE)),\" \",VLOOKUP(ROWS($K$482:K521),Uputstvo!$C$377:$O$426,11,FALSE))","v":" "},{"$f":"IF(ISNA(VLOOKUP(ROWS($L$482:L521),Uputstvo!$C$377:$O$426,12,FALSE)),\" \",VLOOKUP(ROWS($L$482:L521),Uputstvo!$C$377:$O$426,12,FALSE))","v":" "},{"$f":"IF(ISNA(VLOOKUP(ROWS($M$482:M521),Uputstvo!$C$377:$O$426,13,FALSE)),\" \",VLOOKUP(ROWS($M$482:M521),Uputstvo!$C$377:$O$426,13,FALSE))","v":" "},0,0,null,null,null,null,null,null,null,null,null,0]
["УКУПНО  ЗА:",null,{"$f":"$D$4","v":"Програм 8.  Предшколско васпитање и образовање"},{"$f":"SUM(D482:D521)","v":0},0,0,0,0,0,0,0,0,0,0,0,null,null,null,null,null,null,null,null,null,1]
[null,null,null,null,null,null,null,null,null,null,null,null,null,null,null,null,null,null,null,null,null,null,null,null,1]
["*","1-5 циља за сваки програм",null,null,null,null,null,null,null,null,null,null,null,null,null,null,null,null,null,null,null,null,null,null,1]
["**","1-3 индикатора за сваки циљ",null,null,null,null,null,null,null,null,null,null,null,null,null,null,null,null,null,null,null,null,null,null,1]
[null,null,null,null,null,null,null,null,null,null,null,null,null,null,null,null,null,null,null,null,null,null,null,null,1]
[null,null,null,null,null,null,null,null,null,null,null,null,"Одговорно лице",null,null,null,null,null,null,null,null,null,null,null,1]
[null,null,null,null,null,null,null,null,null,null,null,null,null,null,null,null,null,null,null,null,null,null,null,null,1]
[null,"Датум:",null,null,null,null,null,null,null,null,null,null,null,null,null,null,null,null,null,null,null,null,null,null,1]
[null,null,null,null,null,null,null,null,null,null,null,null,null,null,null,null,null,null,null,null,null,null,null,null,1]
[null,null,null,null,null,null,null,null,null,null,null,null,null,null,null,null,null,null,null,null,null,null,null,null,1]
[null,null,null,null,null,null,null,null,null,null,null,null,null,null,null,null,null,null,null,null,null,null,null,null,1]

{"sheet":"Programska_aktivnost","index":1,"n_rows":482,"n_cols":40,"rows_kept":482,"cut":false,"hidden":false,"merged":[[474,13,474,14],[474,3,474,4],[474,5,474,6],[474,7,474,8],[474,9,474,10],[474,11,474,12],[470,11,470,12],[458,7,458,8],[459,7,459,8],[473,5,473,6],[472,7,472,8],[473,7,473,8],[472,5,472,6],[472,3,472,4],[473,9,473,10],[460,7,460,8],[461,7,461,8],[468,13,468,14],[469,13,469,14],[473,13,473,14],[471,13,471,14],[471,5,471,6],[470,5,470,6],[463,5,463,6],[457,7,457,8],[458,9,458,10],[457,9,457,10],[466,7,466,8],[461,9,461,10],[464,7,464,8],[462,7,462,8],[463,9,463,10],[473,11,473,12],[471,11,471,12],[469,11,469,12],[472,9,472,10],[468,9,468,10],[469,9,469,10],[468,11,468,12],[459,9,459,10],[471,9,471,10],[469,7,469,8],[470,7,470,8],[471,7,471,8],[465,9,465,10],[463,7,463,8],[464,9,464,10],[468,7,468,8],[0,0,0,14],[17,3,17,5],[11,3,11,14],[4,0,4,2],[5,0,5,2],[8,3,8,14],[472,13,472,14],[472,11,472,12],[470,13,470,14],[470,9,470,10],[464,13,464,14],[6,0,6,2],[14,3,14,5],[7,0,7,2],[11,0,11,2],[13,3,13,14],[466,13,466,14],[467,13,467,14],[467,9,467,10],[466,9,466,10],[462,13,462,14],[462,9,462,10],[465,13,465,14],[3,3,3,14],[3,0,3,2],[20,11,20,14],[15,0,17,0],[13,0,14,0],[13,1,14,2],[4,3,4,10],[1,0,1,14],[10,0,10,2],[9,0,9,2],[5,3,5,10],[20,3,20,5],[16,3,16,5],[7,3,7,14],[14,11,14,14],[10,3,10,14],[17,11,17,14],[6,3,6,12],[15,11,15,14],[15,3,15,5],[9,3,9,14],[8,0,8,2],[37,1,38,2],[15,1,17,2],[21,1,23,2],[19,1,20,2],[25,1,26,2],[33,3,33,5],[21,11,21,14],[16,11,16,14],[19,3,19,14],[22,3,22,5],[23,11,23,14],[22,11,22,14],[31,1,32,2],[39,0,41,0],[28,3,28,5],[33,0,35,0],[37,0,38,0],[31,0,32,0],[44,0,45,0],[35,3,35,5],[29,3,29,5],[19,0,20,0],[27,0,29,0],[33,1,35,2],[25,3,25,14],[27,3,27,5],[21,0,23,0],[27,1,29,2],[25,0,26,0],[21,3,21,5],[26,3,26,5],[38,11,38,14],[35,11,35,14],[41,3,41,5],[44,3,44,4],[44,5,44,6],[39,3,39,5],[456,3,456,4],[459,3,459,4],[460,3,460,4],[457,5,457,6],[459,5,459,6],[457,3,457,4],[458,5,458,6],[23,3,23,5],[457,1,457,2],[460,1,460,2],[458,1,458,2],[459,1,459,2],[458,3,458,4],[37,3,37,14],[32,3,32,5],[455,1,455,2],[455,3,455,4],[455,5,455,6],[454,3,454,4],[34,11,34,14],[39,1,41,2],[34,3,34,5],[454,5,454,6],[40,3,40,5],[473,0,473,1],[466,1,466,2],[467,1,467,2],[468,1,468,2],[469,1,469,2],[470,1,470,2],[471,1,471,2],[472,1,472,2],[473,3,473,4],[470,3,470,4],[471,3,471,4],[469,3,469,4],[468,3,468,4],[466,3,466,4],[469,5,469,6],[464,5,464,6],[465,5,465,6],[465,3,465,4],[467,3,467,4],[466,5,466,6],[467,5,467,6],[468,5,468,6],[461,1,461,2],[462,1,462,2],[462,3,462,4],[463,1,463,2],[465,1,465,2],[464,1,464,2],[464,3,464,4],[463,3,463,4],[462,5,462,6],[465,11,465,12],[466,11,466,12],[467,11,467,12],[462,11,462,12],[461,11,461,12],[463,11,463,12],[464,11,464,12],[467,7,467,8],[465,7,465,8],[460,5,460,6],[461,5,461,6],[461,13,461,14],[459,13,459,14],[460,13,460,14],[43,0,43,14],[454,1,454,2],[459,11,459,12],[460,9,460,10],[456,13,456,14],[44,1,45,1],[44,11,44,12],[456,5,456,6],[456,1,456,2],[44,9,44,10],[454,9,454,10],[455,9,455,10],[456,7,456,8],[455,7,455,8],[456,9,456,10],[454,7,454,8],[44,2,45,2],[461,3,461,4],[460,11,460,12],[479,12,479,13],[26,11,26,14],[27,11,27,14],[463,13,463,14],[40,11,40,14],[41,11,41,14],[458,13,458,14],[457,13,457,14],[454,13,454,14],[33,11,33,14],[457,11,457,12],[456,11,456,12],[455,13,455,14],[455,11,455,12],[458,11,458,12],[454,11,454,12],[28,11,28,14],[29,11,29,14],[31,3,31,14],[32,11,32,14],[44,13,44,14],[39,11,39,14],[44,7,44,8],[38,3,38,5]]}
["Обрасци за припрему програмског буџета",null,null,null,null,null,null,null,null,null,null,null,null,null,null,null,null,null,null,null,null,null,null,null,0,null,null,null,"остали корисници јавних средстава",null,null,null,null,null,null,"2. ПРОГРАМСКА АКТИВНОСТ",null,null,{"$f":"IF(A2=AJ1,\"\",\" - захтев за додатна средства\")","v":""},"Директни буџетски корисник локалне власти"]
["2. ПРОГРАМСКА АКТИВНОСТ",null,null,null,null,null,null,null,null,null,null,null,null,null,null,null,null,null,null,null,null,null,null,null,null,null,null,null,null,null,null,null,null,null,null,"2. ПРОГРАМСКА АКТИВНОСТ - ЗАХТЕВ ЗА ДОДАТНА СРЕДСТВА",null,null,null,"Индиректни буџетски корисник локалне власти"]
[null,null,null,null,null,null,null,null,null,null,null,null,null,null,null,null,null,null,null,null,null,{"$f":"VLOOKUP($D$4,Uputstvo!$C$38:$D$54,2,FALSE)","v":"п8"},null,null,null,"Вредност у базној години (2016)",null,"Очекивана вредност у 2017. години",null,"Вредност у 2018. години",null,"Вредност у 2019. години",null,"Вредност у 2020. години",null,"Укупно (2018-2020)",null,null,null,"Корисник буџетских средстава на другом нивоу власти"]
["Програм коме припада:",null,null,{"$f":"IF(Program!$D$4=\"\",\"\",Program!$D$4)","v":"Програм 8.  Предшколско васпитање и образовање"},null,null,null,null,null,null,null,null,null,null,null,null,null,null,null,null,null,{"$f":"VLOOKUP($D$5,Uputstvo!$B$137:$C$208,2,FALSE)","v":"ПА_29"},null,null,null,"Буџетска средства","Средства из осталих извора","Буџетска средства","Средства из осталих извора","Буџетска средства","Средства из осталих извора","Буџетска средства","Средства из осталих извора","Буџетска средства","Средства из осталих извора","Буџетска средства","Средства из осталих извора"]
["Шифра и назив:",null,null,"2001-0001  Функционисање и остваривање предшколског васпитања и образовања",null,null,null,null,null,null,null,null,null,null,null,null,null,null,null,null,null,{"$f":"VLOOKUP($B$16,Uputstvo!$B$221:$C$317,2,FALSE)","v":"ПАЦ_46"},null,null,{"$f":"$C$474&AM1&\" (\"&$D$7&\")\"","v":"2001-0001  Функционисање и остваривање предшколског васпитања и образовања (ПРЕДШКОЛСКА УСТАНОВА \"БАМБИ\")"},{"$f":"D452","v":151754000},{"$f":"E452","v":12343000},170977000,12368000,202171000,2600000,180321000,2800000,186833000,2900000,569325000,8300000]
["Функција:",null,null,"911 - Предшколско образовање",null,null,null,null,null,null,null,null,null,null,null,null,null,null,null,null,null,{"$f":"VLOOKUP($B$22,Uputstvo!$B$221:$C$317,2,FALSE)","v":"ПАЦ_47"},null,null,null,null,null,"Вредност у базној години (2016)",null,"Очекивана вредност у 2017. години",null,"Вредност у 2018. години",null,"Вредност у 2019. години",null,"Вредност у 2020. години",null,"Укупно (2018-2020)"]
["Назив организационе јединице/Буџетски корисник:",null,null,"ПРЕДШКОЛСКА УСТАНОВА \"БАМБИ\"",null,null,null,null,null,null,null,null,null,null,null,null,null,null,null,null,null,{"$f":"VLOOKUP($B$28,Uputstvo!$B$221:$C$317,2,FALSE)","v":{"$error":"#N/A"}},null,null,null,null,null,"Буџетска средства","Средства из осталих извора","Буџетска средства","Средства из осталих извора","Буџетска средства","Средства из осталих извора","Буџетска средства","Средства из осталих извора","Буџетска средства","Средства из осталих извора","Буџетска средства","Средства из осталих извора"]
["Сврхa:",null,null,"Омогућавање обухвата предшколске деце у вртићима",null,null,null,null,null,null,null,null,null,null,null,null,null,null,null,null,null,{"$f":"VLOOKUP($B$34,Uputstvo!$B$221:$C$317,2,FALSE)","v":{"$error":"#N/A"}},null,null,null,"Kontrole","p/r",{"$f":"D193-D452","v":0},{"$f":"E193-E452","v":0},0,0,0,0,0,0,0,0,{"$f":"N193-N452","v":0},{"$f":"O193-O452","v":0}]
["Основ:",null,null,"Стратегија одрживог развоја Општине Кула 2009-2019, Закон о буџетском систему ,Закон о основама система образовања и васпитања,Статут ПУ \"Бамби\", План и програм рада ПУ „Бамби“ за 2018.2019. годину, Закон о локалној самоуправи",null,null,null,null,null,null,null,null,null,null,null,null,null,null,null,null,null,{"$f":"VLOOKUP($B$40,Uputstvo!$B$221:$C$317,2,FALSE)","v":{"$error":"#N/A"}},null,null,null,null,"p+r/i",{"$f":"D452+E452-D474","v":0},{"$f":"F452+G452-F474","v":0},{"$f":"H452+I452-H474","v":0},{"$f":"J452+K452-J474","v":0},{"$f":"L452+M452-L474","v":0},{"$f":"N452+O452-N474","v":0}]
["Опис:",null,null,"Предшколска установа обавља делатност којом се обезбеђује васпитање и образовање, исхрана, нега,превентивно-здравствена заштита и социјална заштита деце предшколског узраста у складу са Законом.",null,null,null,null,null,null,null,null,null,null,null,null,null,null,null,null,null,null,null,null,null,null,"приходи из буџета",{"$f":"D127-D457","v":0},{"$f":"F127-F457","v":0},{"$f":"H127-H457","v":0},{"$f":"J127-J457","v":0},{"$f":"L127-L457","v":0},{"$f":"N127-N457","v":0}]
["Мере и поглавље преговора о приступању ЕУ:",null,null,null,null,null,null,null,null,null,null,null,null,null,null,null,null,null,null,null,null,null,null,null,null,null,"transferi",{"$f":"D123-$D$458","v":0},{"$f":"F123-$F$458","v":0},{"$f":"H123-$H$458","v":0},{"$f":"J123-$J$458","v":0},{"$f":"L123-$L$458","v":0},{"$f":"N123-$N$458","v":0}]
["Одговорно лице за спровођење прог. aктивности:",null,null,"директор Снежана Булатовић",null,null,null,null,null,null,null,null,null,null,null,null,null,null,null,null,null,null,null,null,null,733000,{"$f":"SUM(D88:M88)","v":31580000}]
[null,null,null,null,null,null,null,null,null,null,null,null,null,null,null,null,null,null,null,null,null,null,null,null,null,781111,{"$f":"D123+F123+H123+J123+L123+N123","v":0}]
[null,"Циљ*",null,"Индикатори**",null,null,null,null,null,null,null,null,null,null,null,null,null,null,null,null,null,null,null,null,null,791111,{"$f":"D127+F127+H127+J127+L127+N127","v":1461381000}]
[null,null,null,"Назив индикатора",null,null,"Вредност у базној години (2018)","Очекивана вредност у 2019. години","Циљана вредност у 2020. години","Циљана вредност у 2021. години","Циљана вредност у 2022. години","Извор верификације"]
[1,"Обезбеђени адекватни  услови за Васпитно-образовни рад са децом уз повећан обухват",null,"Просечан број деце у групи (јасле, предшколски, припремни предшколски програм/ппп)",null,null,"22","22","20","20","20","Годишњи план рада, Годишњи извештај о реализацији плана рада"]
[null,null,null,"Просечан број деце по васпитачу/васпитачици (јасле, предшколски, припремни предшколски програм)",null,null,"15","15","14","14","14","Годишњи план рада, Годишњи извештај о реализацији плана рада"]
[null,null,null,"Процент деце ослобођене од пуне цене услуге у односу на укупан број деце",null,null,"20","20","20","20","20","Годишњи план рада, Годишњи извештај о реализацији плана рада"]
[]
[null,"Циљ",null,"Индикатори"]
[null,null,null,"Назив индикатора",null,null,"Вредност у базној години (2018)","Очекивана вредност у 2019. години","Циљана вредност у 2020. години","Циљана вредност у 2021. години","Циљана вредност у 2022. години","Извор верификације"]
[2,"Унапређење квалитета предшколског образовања и васпитања ",null,"Број  посебних и специјалних програма у објекту предшколске установе",null,null,"1","1","2","3","4","Годишњи план рада,Годишњи извештај о реализацији плана рада,Предшколски програм"]
[null,null,null,"Проценат стручних радника који су добили најмање 24 бода за стручно усавршавање кроз учешће на семинарима на годишњем нивоу у односу на укупан број стручних сарадника ",null,null,"50","100","100","100","100","Годишњи план рада,Годишњи извештај о реализацији плана рада"]
[null,null,null,"Број објеката у којима су извршена инвестициона улагања на годишњем нивоу, у односу на укупан број објеката ПУ",null,null,"0","1","2","3","4","годишњи план рада,Годишњи извештај о реализацији плана рада"]
[]
[null,"Циљ",null,"Индикатори"]
[null,null,null,"Назив индикатора",null,null,"Вредност у базној години (2018)","Очекивана вредност у 2019. години","Циљана вредност у 2020. години","Циљана вредност у 2021. години","Циљана вредност у 2022. години","Извор верификације"]
[3]
[]
[]
[]
[null,"Циљ",null,"Индикатори"]
[null,null,null,"Назив индикатора",null,null,"Вредност у базној години (2018)","Очекивана вредност у 2019. години","Циљана вредност у 2020. години","Циљана вредност у 2021. години","Циљана вредност у 2022. години","Извор верификације"]
[4]
[]
[]
[]
[null,"Циљ",null,"Индикатори"]
[null,null,null,"Назив индикатора",null,null,"Вредност у базној години (2018)","Очекивана вредност у 2019. години","Циљана вредност у 2020. години","Циљана вредност у 2021. години","Циљана вредност у 2022. години","Извор верификације"]
[5]
[]
[]
[]
["ПЛАНИРАНА СРЕДСТВА ЗА ПРОГРАМСКУ АКТИВНОСТ"]
["Рбр.","Конто","ОПИС","Вредност у базној години (2018)",null,"Очекивана вредност у 2019. години",null,"Вредност у 2020. години",null,"Вредност у 2021. години",null,"Вредност у 2022. години",null,"Укупно (2020-2022)",null,null,null,null,null,null,null,null,null,null,1]
[null,null,null,"Приходи из буџета","Приходи из осталих извора","Приходи из буџета","Приходи из осталих извора","Приходи из буџета","Приходи из осталих извора","Приходи из буџета","Приходи из осталих извора","Приходи из буџета","Приходи из осталих извора","Приходи из буџета","Приходи из осталих извора",null,null,null,null,null,null,null,null,null,1]
[1,2,3,4,5,6,7,8,9,10,11,12,13,"14=(8+10+12)","15=(9+11+13)",null,null,null,null,null,null,null,null,null,1]
[1,300000,"КАПИТАЛ, УТВРЂИВАЊЕ РЕЗУЛТАТА ПОСЛОВАЊА И ВАНБИЛАНСНА ЕВИДЕНЦИЈА\n(2 + 5)",{"$f":"SUM(D49,D52)","v":0},{"$f":"SUM(E49,E52)","v":0},0,0,0,0,0,0,0,0,0,0,null,null,null,null,null,null,null,null,null,{"$f":"SUM(D48:O48)","v":0}]
[2,310000,"КАПИТАЛ (3)",{"$f":"SUM(D50)","v":0},{"$f":"SUM(E50)","v":0},{"$f":"SUM(F50)","v":0},0,0,0,0,0,0,0,0,0,null,null,null,null,null,null,null,null,null,0]
[3,311000,"КАПИТАЛ (4)",{"$f":"SUM(D51)","v":0},{"$f":"SUM(E51)","v":0},0,0,0,0,0,0,0,0,{"$f":"SUM(N51)","v":0},0,null,null,null,null,null,null,null,null,null,0]
[4,311700,"Пренета неутрошена средства из ранијих година",null,null,null,null,null,null,null,null,null,null,{"$f":"SUM(H51,J51,L51)","v":0},{"$f":"SUM(I51,K51,M51)","v":0},null,null,null,null,null,null,null,null,null,{"$f":"SUM(D51:O51)","v":0}]
[5,320000,"УТВРЂИВАЊЕ РЕЗУЛТАТА ПОСЛОВАЊА (6)",{"$f":"SUM(D53)","v":0},{"$f":"SUM(E53)","v":0},0,0,0,0,0,0,0,0,0,0,null,null,null,null,null,null,null,null,null,0]
[6,321000,"УТВРЂИВАЊЕ РЕЗУЛТАТА ПОСЛОВАЊА (7)",{"$f":"SUM(D54)","v":0},0,0,0,0,0,0,0,0,0,0,0,null,null,null,null,null,null,null,null,null,0]
[7,321300,"Нераспоређени вишак прихода и примања или дефицит из ранијих година",null,null,null,null,null,null,null,null,null,null,{"$f":"SUM(H54,J54,L54)","v":0},{"$f":"SUM(I54,K54,M54)","v":0},null,null,null,null,null,null,null,null,null,0]
[{"$f":"A54+1","v":8},700000,"ТЕКУЋИ ПРИХОДИ \n(9 + 32 + 44 + 69 + 74 +78)",{"$f":"D56+D79+D91+D116+D121+D125","v":151754000},{"$f":"E56+E79+E91+E116+E121+E125","v":12343000},170977000,12368000,202171000,2600000,180321000,2800000,186833000,2900000,{"$f":"N56+N79+N91+N116+N121+N125","v":569325000},8300000,null,null,null,null,null,null,null,null,null,{"$f":"SUM(D55:O55)","v":1502692000}]
[{"$f":"A55+1","v":9},710000,"ПОРЕЗИ \n(10 + 14 + 16 + 23 + 29)",{"$f":"D57+D61+D63+D70+D76","v":0},{"$f":"E57+E61+E63+E70+E76","v":0},0,0,0,0,0,0,0,0,0,0,null,null,null,null,null,null,null,null,null,{"$f":"SUM(D56:O56)","v":0}]
[10,711000,"ПОРЕЗ НА ДОХОДАК, ДОБИТ И КАПИТАЛНЕ ДОБИТКЕ (од 11 до 13)",{"$f":"SUM(D58:D60)","v":0},{"$f":"SUM(E58:E60)","v":0},0,0,0,0,0,0,0,0,{"$f":"SUM(H57,J57,L57)","v":0},0,null,null,null,null,null,null,null,null,null,0]
[11,711100,"Порези на доходак и капиталнe добиткe које плаћају физичка лица",null,null,null,null,null,null,null,null,null,null,0,0,null,null,null,null,null,null,null,null,null,0]
[12,711200,"Порези на добит и капиталне добитке које плаћају предузећа и друга правна лица",null,null,null,null,null,null,null,null,null,null,0,0,null,null,null,null,null,null,null,null,null,0]
[13,711300,"Порези на доходак, добит и капиталне добитке који се не могу разврстати између физичких и правних лица",null,null,null,null,null,null,null,null,null,null,0,0,null,null,null,null,null,null,null,null,null,0]
[14,712000,"ПОРЕЗ НА ФОНД ЗАРАДА (15)",{"$f":"SUM(D62)","v":0},0,0,0,0,0,0,0,0,0,0,0,null,null,null,null,null,null,null,null,null,0]
[15,712100,"Порез на фонд зарада",null,null,null,null,null,null,null,null,null,null,0,0,null,null,null,null,null,null,null,null,null,0]
[16,713000,"ПОРЕЗ НА ИМОВИНУ (од 17 до 22)",{"$f":"SUM(D64:D69)","v":0},0,0,0,0,0,0,0,0,0,0,0,null,null,null,null,null,null,null,null,null,0]
[17,713100,"Периодични порези на непокретности",null,null,null,null,null,null,null,null,null,null,0,0,null,null,null,null,null,null,null,null,null,0]
[18,713200,"Периодични порези на нето имовину",null,null,null,null,null,null,null,null,null,null,0,0,null,null,null,null,null,null,null,null,null,0]
[19,713300,"Порези на заоставштину, наслеђе и поклон",null,null,null,null,null,null,null,null,null,null,0,0,null,null,null,null,null,null,null,null,null,0]
[20,713400,"Порези на финансијске и капиталне трансакције",null,null,null,null,null,null,null,null,null,null,0,0,null,null,null,null,null,null,null,null,null,0]
[21,713500,"Други једнократни порези на имовину",null,null,null,null,null,null,null,null,null,null,0,0,null,null,null,null,null,null,null,null,null,0]
[22,713600,"Други периодични порези на имовину",null,null,null,null,null,null,null,null,null,null,0,0,null,null,null,null,null,null,null,null,null,0]
[23,714000,"ПОРЕЗ НА ДОБРА И УСЛУГЕ (од 24 до 28)",{"$f":"SUM(D71:D75)","v":0},0,0,0,0,0,0,0,0,0,0,0,null,null,null,null,null,null,null,null,null,0]
[24,714100,"Општи порези на добра и услуге",null,null,null,null,null,null,null,null,null,null,0,0,null,null,null,null,null,null,null,null,null,0]
[25,714300,"Добит фискалних монопола",null,null,null,null,null,null,null,null,null,null,0,0,null,null,null,null,null,null,null,null,null,0]
[26,714400,"Порези на појединачне услуге",null,null,null,null,null,null,null,null,null,null,0,0,null,null,null,null,null,null,null,null,null,0]
[27,714500,"Порези, таксе и накнаде на употребу добара, на дозволу да се добра употребљавају или делатности обављају",null,null,null,null,null,null,null,null,null,null,0,0,null,null,null,null,null,null,null,null,null,0]
[28,714600,"Други порези на добра и услуге",null,null,null,null,null,null,null,null,null,null,0,0,null,null,null,null,null,null,null,null,null,0]
[29,716000,"ДРУГИ ПОРЕЗИ (30 + 31)",{"$f":"SUM(D77:D78)","v":0},0,0,0,0,0,0,0,0,0,0,0,null,null,null,null,null,null,null,null,null,0]
[30,716100,"Други порези које искључиво плаћају предузећа, односно предузетници",null,null,null,null,null,null,null,null,null,null,0,0,null,null,null,null,null,null,null,null,null,0]
[31,716200,"Други порези које плаћају остала лица или који се не могу идентификовати",null,null,null,null,null,null,null,null,null,null,0,0,null,null,null,null,null,null,null,null,null,0]
[32,730000,"ДОНАЦИЈЕ, ПОМОЋИ И ТРАНСФЕРИ \n(33 + 36 + 41)",{"$f":"D80+D83+D88","v":0},{"$f":"E80+E83+E88","v":11580000},0,11700000,0,2600000,0,2800000,0,2900000,0,8300000,null,null,null,null,null,null,null,null,null,39880000]
[33,731000,"ДОНАЦИЈЕ ОД ИНОСТРАНИХ ДРЖАВА (34 + 35)",{"$f":"SUM(D81:D82)","v":0},0,0,0,0,0,0,0,0,0,0,0,null,null,null,null,null,null,null,null,null,0]
[34,731100,"Текуће донације од иностраних држава",null,null,null,null,null,null,null,null,null,null,0,0,null,null,null,null,null,null,null,null,null,0]
[35,731200,"Капиталне донације од иностраних држава",null,null,null,null,null,null,null,null,null,null,0,0,null,null,null,null,null,null,null,null,null,0]
[36,732000,"ДОНАЦИЈЕ И ПОМОЋИ ОД МЕЂУНАРОДНИХ ОРГАНИЗАЦИЈА (од 37 до 40)",{"$f":"SUM(D84:D87)","v":0},{"$f":"SUM(E84:E87)","v":0},0,0,0,0,0,0,0,0,0,0,null,null,null,null,null,null,null,null,null,0]
[37,732100,"Текуће донације од међународних организација",null,null,null,null,null,null,null,null,null,null,0,0,null,null,null,null,null,null,null,null,null,0]
[38,732200,"Капиталне донације од међународних организација",null,null,null,null,null,null,null,null,null,null,0,0,null,null,null,null,null,null,null,null,null,0]
[39,732300,"Текуће помоћи од ЕУ",null,null,null,null,null,null,null,null,null,null,0,0,null,null,null,null,null,null,null,null,null,0]
[40,732400,"Капиталне помоћи од ЕУ",null,null,null,null,null,null,null,null,null,null,0,0,null,null,null,null,null,null,null,null,null,0]
[41,733000,"ТРАНСФЕРИ ОД ДРУГИХ НИВОА ВЛАСТИ (42 + 43)",{"$f":"SUM(D89:D90)","v":0},11580000,0,11700000,0,2600000,0,2800000,0,2900000,{"$f":"SUM(H88,J88,L88)","v":0},8300000,null,null,null,null,null,null,null,null,null,39880000]
[42,733100,"Текући трансфери од других нивоа власти",null,11580000,null,11700000,null,2600000,null,2800000,null,2900000,{"$f":"SUM(H89,J89,L89)","v":0},8300000,null,null,null,null,null,null,null,null,null,39880000]
[43,733200,"Капитални трансфери од других нивоа власти",null,null,null,null,null,null,null,null,null,null,0,0,null,null,null,null,null,null,null,null,null,0]
[44,740000,"ДРУГИ ПРИХОДИ (45 + 52 + 57 + 64 + 67)",{"$f":"D92+D99+D104+D111+D114","v":0},{"$f":"E92+E99+E104+E111+E114","v":0},0,0,0,0,0,0,0,0,0,0,null,null,null,null,null,null,null,null,null,0]
[45,741000,"ПРИХОДИ ОД ИМОВИНЕ (од 46 до 51)",{"$f":"SUM(D93:D98)","v":0},{"$f":"SUM(E93:E98)","v":0},0,0,0,0,0,0,0,0,0,0,null,null,null,null,null,null,null,null,null,0]
[46,741100,"Камате",null,null,null,null,null,null,null,null,null,null,0,0,null,null,null,null,null,null,null,null,null,0]
[47,741200,"Дивиденде",null,null,null,null,null,null,null,null,null,null,0,0,null,null,null,null,null,null,null,null,null,0]
[48,741300,"Повлачење прихода од квази корпорација",null,null,null,null,null,null,null,null,null,null,0,0,null,null,null,null,null,null,null,null,null,0]
[49,741400,"Приход од имовине који припада имаоцима полиса осигурања",null,null,null,null,null,null,null,null,null,null,0,0,null,null,null,null,null,null,null,null,null,0]
[50,741500,"Закуп непроизведене имовине",null,null,null,null,null,null,null,null,null,null,0,0,null,null,null,null,null,null,null,null,null,0]
[51,741600,"Финансијске промене на финансијским лизинзима",null,null,null,null,null,null,null,null,null,null,0,0,null,null,null,null,null,null,null,null,null,0]
[52,742000,"ПРИХОДИ ОД ПРОДАЈЕ ДОБАРА И УСЛУГА (од 53 до 56)",{"$f":"SUM(D100:D103)","v":0},0,0,0,0,0,0,0,0,0,0,0,null,null,null,null,null,null,null,null,null,0]
[53,742100,"Приходи од продаје добара и услуга или закупа од стране тржишних организација",null,null,null,null,null,null,null,null,null,null,0,0,null,null,null,null,null,null,null,null,null,0]
[54,742200,"Таксе и накнаде",null,null,null,null,null,null,null,null,null,null,0,0,null,null,null,null,null,null,null,null,null,0]
[55,742300,"Споредне продаје добара и услуга које врше државне нетржишне јединице",null,null,null,null,null,null,null,null,null,null,0,0,null,null,null,null,null,null,null,null,null,0]
[56,742400,"Импутиране продаје добара и услуга",null,null,null,null,null,null,null,null,null,null,0,0,null,null,null,null,null,null,null,null,null,0]
[57,743000,"НОВЧАНЕ КАЗНЕ И ОДУЗЕТА ИМОВИНСКА КОРИСТ (од 58 до 63)",{"$f":"SUM(D105:D110)","v":0},0,0,0,0,0,0,0,0,0,0,0,null,null,null,null,null,null,null,null,null,0]
[58,743100,"Приходи од новчаних казни за кривична дела",null,null,null,null,null,null,null,null,null,null,0,0,null,null,null,null,null,null,null,null,null,0]
[59,743200,"Приходи од новчаних казни за привредне преступе",null,null,null,null,null,null,null,null,null,null,0,0,null,null,null,null,null,null,null,null,null,0]
[60,743300,"Приходи од новчаних казни за прекршаје",null,null,null,null,null,null,null,null,null,null,0,0,null,null,null,null,null,null,null,null,null,0]
[61,743400,"Приходи од пенала",null,null,null,null,null,null,null,null,null,null,0,0,null,null,null,null,null,null,null,null,null,0]
[62,743500,"Приходи од одузете имовинске користи",null,null,null,null,null,null,null,null,null,null,0,0,null,null,null,null,null,null,null,null,null,0]
[63,743900,"Остале новчане казне, пенали и приходи од одузете имовинске користи",null,null,null,null,null,null,null,null,null,null,0,0,null,null,null,null,null,null,null,null,null,0]
[64,744000,"ДОБРОВОЉНИ ТРАНСФЕРИ ОД ФИЗИЧКИХ И ПРАВНИХ ЛИЦА (65 + 66)",{"$f":"SUM(D112:D113)","v":0},0,0,0,0,0,0,0,0,0,0,0,null,null,null,null,null,null,null,null,null,0]
[65,744100,"Текући добровољни трансфери од физичких и правних лица",null,null,null,null,null,null,null,null,null,null,0,0,null,null,null,null,null,null,null,null,null,0]
[66,744200,"Капитални добровољни трансфери од физичких и правних лица",null,null,null,null,null,null,null,null,null,null,0,0,null,null,null,null,null,null,null,null,null,0]
[67,745000,"МЕШОВИТИ И НЕОДРЕЂЕНИ ПРИХОДИ (68)",{"$f":"D115","v":0},{"$f":"E115","v":0},0,0,0,0,0,0,0,0,0,0,null,null,null,null,null,null,null,null,null,0]
[68,745100,"Мешовити и неодређени приходи",null,null,null,null,null,null,null,null,null,null,0,0,null,null,null,null,null,null,null,null,null,0]
[69,770000,"МЕМОРАНДУМСКЕ СТАВКЕ ЗА РЕФУНДАЦИЈУ РАСХОДА (70 + 72)",{"$f":"D117+D119","v":0},763000,0,668000,0,0,0,0,0,0,0,0,null,null,null,null,null,null,null,null,null,1431000]
[70,771000,"МЕМОРАНДУМСКЕ СТАВКЕ ЗА РЕФУНДАЦИЈУ РАСХОДА (71)",{"$f":"D118","v":0},{"$f":"E118","v":0},0,0,0,0,0,0,0,0,0,0,null,null,null,null,null,null,null,null,null,0]
[71,771100,"Меморандумске ставке за рефундацију расхода",null,null,null,null,null,null,null,null,null,null,0,0,null,null,null,null,null,null,null,null,null,0]
[72,772000,"МЕМОРАНДУМСКЕ СТАВКЕ ЗА РЕФУНДАЦИЈУ РАСХОДА ИЗ ПРЕТХОДНЕ ГОДИНЕ (73)",{"$f":"D120","v":0},{"$f":"E120","v":763000},0,668000,0,0,0,0,0,0,0,0,null,null,null,null,null,null,null,null,null,1431000]
[{"$f":"A119+1","v":73},772100,"Меморандумске ставке за рефундацију расхода из претходне године",null,763000,null,668000,null,null,null,null,null,null,0,0,null,null,null,null,null,null,null,null,null,{"$f":"SUM(D120:O120)","v":1431000}]
[74,780000,"ТРАНСФЕРИ ИЗМЕЂУ БУЏЕТСКИХ КОРИСНИКА НА ИСТОМ НИВОУ (75)",{"$f":"D122","v":0},0,0,0,0,0,0,0,0,0,0,0,null,null,null,null,null,null,null,null,null,0]
[75,781000,"ТРАНСФЕРИ ИЗМЕЂУ БУЏЕТСКИХ КОРИСНИКА НА ИСТОМ НИВОУ (76 + 77)",{"$f":"SUM(D123:D124)","v":0},0,0,0,0,0,0,0,0,0,0,0,null,null,null,null,null,null,null,null,null,0]
[76,781100,"Трансфери између буџетских корисника на истом нивоу",null,null,null,null,null,null,null,null,null,null,{"$f":"SUM(H123,J123,L123)","v":0},{"$f":"SUM(I123,K123,M123)","v":0},null,null,null,null,null,null,null,null,null,0]
[77,781300,"Трансфери између организација обавезног социјалног осигурања",null,null,null,null,null,null,null,null,null,null,0,0,null,null,null,null,null,null,null,null,null,0]
[78,790000,"ПРИХОДИ ИЗ БУЏЕТА (79)",{"$f":"D126","v":151754000},0,170977000,0,202171000,0,180321000,0,186833000,0,569325000,0,null,null,null,null,null,null,null,null,null,1461381000]
[79,791000,"ПРИХОДИ ИЗ БУЏЕТА (80)",{"$f":"D127","v":151754000},0,170977000,0,202171000,0,180321000,0,186833000,0,569325000,0,null,null,null,null,null,null,null,null,null,1461381000]
[80,791100,"Приходи из буџета",151754000,null,170977000,null,202171000,null,180321000,null,186833000,null,569325000,0,null,null,null,null,null,null,null,null,null,1461381000]
[81,800000,"ПРИМАЊА ОД ПРОДАЈЕ НЕФИНАНСИЈСКЕ ИМОВИНЕ (82 + 89 + 96 + 99)",{"$f":"D129+D136+D143+D146","v":0},{"$f":"E129+E136+E143+E146","v":0},0,0,0,0,0,0,0,0,0,0,null,null,null,null,null,null,null,null,null,0]
[82,810000,"ПРИМАЊА ОД ПРОДАЈЕ ОСНОВНИХ СРЕДСТАВА (83 + 85 + 87)",{"$f":"D130+D132+D134","v":0},{"$f":"E130+E132+E134","v":0},0,0,0,0,0,0,0,0,0,0,null,null,null,null,null,null,null,null,null,0]
[83,811000,"ПРИМАЊА ОД ПРОДАЈЕ НЕПОКРЕТНОСТИ (84)",{"$f":"D131","v":0},{"$f":"E131","v":0},0,0,0,0,0,0,0,0,0,0,null,null,null,null,null,null,null,null,null,0]
[84,811100,"Примања од продаје непокретности",null,null,null,null,null,null,null,null,null,null,0,0,null,null,null,null,null,null,null,null,null,0]
[85,812000,"ПРИМАЊА ОД ПРОДАЈЕ ПОКРЕТНЕ ИМОВИНЕ (86)",{"$f":"D133","v":0},0,0,0,0,0,0,0,0,0,0,0,null,null,null,null,null,null,null,null,null,0]
[86,812100,"Примања од продаје покретне имовине",null,null,null,null,null,null,null,null,null,null,0,0,null,null,null,null,null,null,null,null,null,0]
[87,813000,"ПРИМАЊА ОД ПРОДАЈЕ ОСТАЛИХ ОСНОВНИХ СРЕДСТАВА (88)",{"$f":"D135","v":0},0,0,0,0,0,0,0,0,0,0,0,null,null,null,null,null,null,null,null,null,0]
[88,813100,"Примања од продаје осталих основних средстава",null,null,null,null,null,null,null,null,null,null,0,0,null,null,null,null,null,null,null,null,null,0]
[89,820000,"ПРИМАЊА ОД ПРОДАЈЕ ЗАЛИХА (90 + 92 + 94)",{"$f":"D137+D139+D141","v":0},0,0,0,0,0,0,0,0,0,0,0,null,null,null,null,null,null,null,null,null,0]
[90,821000,"ПРИМАЊА ОД ПРОДАЈЕ РОБНИХ РЕЗЕРВИ (91)",{"$f":"D138","v":0},0,0,0,0,0,0,0,0,0,0,0,null,null,null,null,null,null,null,null,null,0]
[91,821100,"Примања од продаје робних резерви",null,null,null,null,null,null,null,null,null,null,0,0,null,null,null,null,null,null,null,null,null,0]
[92,822000,"ПРИМАЊА ОД ПРОДАЈЕ ЗАЛИХА  ПРОИЗВОДЊЕ (93)",{"$f":"D140","v":0},0,0,0,0,0,0,0,0,0,0,0,null,null,null,null,null,null,null,null,null,0]
[93,822100,"Примања од продаје залиха производње",null,null,null,null,null,null,null,null,null,null,0,0,null,null,null,null,null,null,null,null,null,0]
[94,823000,"ПРИМАЊА ОД ПРОДАЈЕ РОБЕ ЗА ДАЉУ ПРОДАЈУ (95)",{"$f":"D142","v":0},0,0,0,0,0,0,0,0,0,0,0,null,null,null,null,null,null,null,null,null,0]
[95,823100,"Примања од продаје робе за даљу продају",null,null,null,null,null,null,null,null,null,null,0,0,null,null,null,null,null,null,null,null,null,0]
[96,830000,"ПРИМАЊА ОД ПРОДАЈЕ ДРАГОЦЕНОСТИ (97)",{"$f":"D144","v":0},0,0,0,0,0,0,0,0,0,0,0,null,null,null,null,null,null,null,null,null,0]
[97,831000,"ПРИМАЊА ОД ПРОДАЈЕ ДРАГОЦЕНОСТИ (98)",0,0,0,0,0,0,0,0,0,0,0,0,null,null,null,null,null,null,null,null,null,0]
[98,831100,"Примања од продаје драгоцености",null,null,null,null,null,null,null,null,null,null,0,0,null,null,null,null,null,null,null,null,null,0]
[99,840000,"ПРИМАЊА ОД ПРОДАЈЕ ПРИРОДНЕ ИМОВИНЕ (100 + 102 + 104)",{"$f":"D147+D149+D151","v":0},0,0,0,0,0,0,0,0,0,0,0,null,null,null,null,null,null,null,null,null,0]
[100,841000,"ПРИМАЊА ОД ПРОДАЈЕ ЗЕМЉИШТА (101)",{"$f":"D148","v":0},0,0,0,0,0,0,0,0,0,0,0,null,null,null,null,null,null,null,null,null,0]
[101,841100,"Примања од продаје земљишта",null,null,null,null,null,null,null,null,null,null,0,0,null,null,null,null,null,null,null,null,null,0]
[102,842000,"ПРИМАЊА ОД ПРОДАЈЕ ПОДЗЕМНИХ БЛАГА (103)",{"$f":"D150","v":0},0,0,0,0,0,0,0,0,0,0,0,null,null,null,null,null,null,null,null,null,0]
[103,842100,"Примања од продаје подземних блага",null,null,null,null,null,null,null,null,null,null,0,0,null,null,null,null,null,null,null,null,null,0]
[104,843000,"ПРИМАЊА ОД ПРОДАЈЕ ШУМА И ВОДА (105)",{"$f":"D152","v":0},0,0,0,0,0,0,0,0,0,0,0,null,null,null,null,null,null,null,null,null,0]
[105,843100,"Примања од продаје шума и вода",null,null,null,null,null,null,null,null,null,null,{"$f":"SUM(H152,J152,L152)","v":0},0,null,null,null,null,null,null,null,null,null,0]
[106,900000,"ПРИМАЊА ОД ЗАДУЖИВАЊА И ПРОДАЈЕ ФИНАНСИЈСКЕ ИМОВИНЕ (107 + 126)",{"$f":"D154+D173","v":0},{"$f":"E154+E173","v":0},0,0,0,0,0,0,0,0,0,0,null,null,null,null,null,null,null,null,null,0]
[107,910000,"ПРИМАЊА ОД ЗАДУЖИВАЊА (108+118)",{"$f":"D155+D165","v":0},{"$f":"E155+E165","v":0},0,0,0,0,0,0,0,0,0,0,null,null,null,null,null,null,null,null,null,0]
[108,911000,"ПРИМАЊА ОД ДОМАЋИХ ЗАДУЖИВАЊА (од 109 до 117)",{"$f":"SUM(D156:D164)","v":0},0,0,0,0,0,0,0,0,0,0,0,null,null,null,null,null,null,null,null,null,0]
[109,911100,"Примања од емитовања домаћих хартија од вредности, изузев акција",null,null,null,null,null,null,null,null,null,null,0,0,null,null,null,null,null,null,null,null,null,0]
[110,911200,"Примања од задуживања од осталих нивоа власти",null,null,null,null,null,null,null,null,null,null,0,0,null,null,null,null,null,null,null,null,null,0]
[111,911300,"Примања од задуживања од јавних финансијских институција у земљи",null,null,null,null,null,null,null,null,null,null,0,0,null,null,null,null,null,null,null,null,null,0]
[112,911400,"Примања од задуживања од пословних банака у земљи",null,null,null,null,null,null,null,null,null,null,0,0,null,null,null,null,null,null,null,null,null,0]
[113,911500,"Примања од задуживања код осталих поверилаца у земљи",null,null,null,null,null,null,null,null,null,null,0,0,null,null,null,null,null,null,null,null,null,0]
[114,911600,"Примања од задуживања од домаћинстава у земљи",null,null,null,null,null,null,null,null,null,null,0,0,null,null,null,null,null,null,null,null,null,0]
[115,911700,"Примања од домаћих финансијских деривата",null,null,null,null,null,null,null,null,null,null,0,0,null,null,null,null,null,null,null,null,null,0]
[116,911800,"Примања од домаћих меница",null,null,null,null,null,null,null,null,null,null,0,0,null,null,null,null,null,null,null,null,null,0]
[117,911900,"Исправка унутрашњег дуга",null,null,null,null,null,null,null,null,null,null,0,0,null,null,null,null,null,null,null,null,null,0]
[118,912000,"ПРИМАЊА ОД ИНОСТРАНОГ ЗАДУЖИВАЊА (од 119 + 125)",{"$f":"SUM(D166:D172)","v":0},0,0,0,0,0,0,0,0,0,0,0,null,null,null,null,null,null,null,null,null,0]
[119,912100,"Примања од емитовања хартија од вредности, изузев акција, на иностраном финансијском тржишту",null,null,null,null,null,null,null,null,null,null,0,0,null,null,null,null,null,null,null,null,null,0]
[120,912200,"Примања од задуживања од иностраних држава",null,null,null,null,null,null,null,null,null,null,0,0,null,null,null,null,null,null,null,null,null,0]
[121,912300,"Примања од задуживања од мултилатералних институција",null,null,null,null,null,null,null,null,null,null,0,0,null,null,null,null,null,null,null,null,null,0]
[122,912400,"Примања од задуживања од иностраних пословних банака",null,null,null,null,null,null,null,null,null,null,0,0,null,null,null,null,null,null,null,null,null,0]
[123,912500,"Примања од задуживања од осталих иностраних поверилаца",null,null,null,null,null,null,null,null,null,null,0,0,null,null,null,null,null,null,null,null,null,0]
[124,912600,"Примања од иностраних финансијских деривата",null,null,null,null,null,null,null,null,null,null,0,0,null,null,null,null,null,null,null,null,null,0]
[125,912900,"Исправка спољног дуга",null,null,null,null,null,null,null,null,null,null,0,0,null,null,null,null,null,null,null,null,null,0]
[126,920000,"ПРИМАЊА ОД ПРОДАЈЕ ФИНАНСИЈСКЕ ИМОВИНЕ (127 + 137)",{"$f":"D174+D184","v":0},0,0,0,0,0,0,0,0,0,0,0,null,null,null,null,null,null,null,null,null,0]
[127,921000,"ПРИМАЊА ОД ПРОДАЈЕ ДОМАЋЕ ФИНАНСИЈСКЕ ИМОВИНЕ (од 128 до 136) ",{"$f":"SUM(D175:D183)","v":0},0,0,0,0,0,0,0,0,0,0,0,null,null,null,null,null,null,null,null,null,0]
[128,921100,"Примања од продаје домаћих хартија од вредности, изузев акција",null,null,null,null,null,null,null,null,null,null,0,0,null,null,null,null,null,null,null,null,null,0]
[129,921200,"Примања од отплате кредита датих осталим нивоима власти",null,null,null,null,null,null,null,null,null,null,0,0,null,null,null,null,null,null,null,null,null,0]
[130,921300,"Примања од отплате кредита датих домаћим јавним финансијским институцијама",null,null,null,null,null,null,null,null,null,null,0,0,null,null,null,null,null,null,null,null,null,0]
[131,921400,"Примања од отплате кредита домаћим пословним банкама",null,null,null,null,null,null,null,null,null,null,0,0,null,null,null,null,null,null,null,null,null,0]
[132,921500,"Примања од отплате кредита датих домаћим јавним нефинансијским институцијама",null,null,null,null,null,null,null,null,null,null,0,0,null,null,null,null,null,null,null,null,null,0]
[133,921600,"Примања од отплате кредита датих физичким лицима и домаћинствима у земљи",null,null,null,null,null,null,null,null,null,null,0,0,null,null,null,null,null,null,null,null,null,0]
[134,921700,"Примања од отплате кредита датих удружењима грађана у земљи",null,null,null,null,null,null,null,null,null,null,0,0,null,null,null,null,null,null,null,null,null,0]
[135,921800,"Примања од отплате кредита датих нефинансијским приватним предузећима у земљи",null,null,null,null,null,null,null,null,null,null,0,0,null,null,null,null,null,null,null,null,null,0]
[136,921900,"Примања од продаје домаћих акција и осталог капитала",null,null,null,null,null,null,null,null,null,null,0,0,null,null,null,null,null,null,null,null,null,0]
[{"$f":"A183+1","v":137},922000,"ПРИМАЊА ОД ПРОДАЈЕ СТРАНЕ ФИНАНСИЈСКЕ ИМОВИНЕ (од 138 до 145)",{"$f":"SUM(D185:D192)","v":0},{"$f":"SUM(E185:E192)","v":0},0,0,0,0,0,0,0,0,0,0,null,null,null,null,null,null,null,null,null,{"$f":"SUM(D184:O184)","v":0}]
[138,922100,"Примања од продаје страних хартија од вредности, изузев акција",null,null,null,null,null,null,null,null,null,null,0,0,null,null,null,null,null,null,null,null,null,0]
[139,922200,"Примања од отплате кредита датих страним владама",null,null,null,null,null,null,null,null,null,null,0,0,null,null,null,null,null,null,null,null,null,0]
[140,922300,"Примања од отплате кредита датих међународним организацијама",null,null,null,null,null,null,null,null,null,null,0,0,null,null,null,null,null,null,null,null,null,0]
[141,922400,"Примања од отплате кредита датих страним пословним банкама",null,null,null,null,null,null,null,null,null,null,0,0,null,null,null,null,null,null,null,null,null,0]
[142,922500,"Примања од отплате кредита датих страним нефинансијским институцијама",null,null,null,null,null,null,null,null,null,null,0,0,null,null,null,null,null,null,null,null,null,0]
[143,922600,"Примања од отплате кредита датих страним невладиним организацијама",null,null,null,null,null,null,null,null,null,null,0,0,null,null,null,null,null,null,null,null,null,0]
[144,922700,"Примања од продаје страних акција и осталог капитала",null,null,null,null,null,null,null,null,null,null,0,0,null,null,null,null,null,null,null,null,null,0]
[145,922800,"Примања од продаје стране валуте",null,null,null,null,null,null,null,null,null,null,0,0,null,null,null,null,null,null,null,null,null,0]
[146,null,"УКУПНИ ПРИХОДИ, ПРИМАЊА И ПРЕНЕТА СРЕДСТВА ИЗ ПРЕТХОДНЕ ГОДИНЕ (1 + 8 + 81 + 106)",{"$f":"D48+D55+D128+D153","v":151754000},{"$f":"E48+E55+E128+E153","v":12343000},170977000,12368000,202171000,{"$f":"I48+I55+I128+I153","v":2600000},180321000,2800000,186833000,2900000,{"$f":"SUM(H193,J193,L193)","v":569325000},{"$f":"SUM(I193,K193,M193)","v":8300000},null,null,null,null,null,null,null,null,null,1]
[147,400000,"ТЕКУЋИ РАСХОДИ (148+166+211+226+250+263+279+294)",{"$f":"D195+D213+D258+D273+D297+D310+D326+D341","v":150800000},12343000,168277000,12368000,196812000,2600000,178821000,2800000,179315000,2900000,554948000,8300000,null,null,null,null,null,null,null,null,null,1470284000]
[148,410000,"РАСХОДИ ЗА ЗАПОСЛЕНЕ (149+151+155+157+162+164)",{"$f":"D196+D198+D202+D204+D209+D211","v":110901000},{"$f":"E196+E198+E202+E204+E209+E211","v":763000},124434000,668000,150122000,0,139200000,0,150100000,0,439422000,0,null,null,null,null,null,null,null,null,null,1115610000]
[149,411000,"ПЛАТЕ, ДОДАЦИ И НАКНАДЕ ЗАПОСЛЕНИХ (ЗАРАДЕ) (150)",{"$f":"D197","v":91407000},0,99170000,0,120220000,0,111600000,0,120700000,0,352520000,0,null,null,null,null,null,null,null,null,null,895617000]
[150,411100,"Плате, додаци и накнаде запослених",91407000,null,99170000,null,120220000,null,111600000,null,120700000,null,352520000,0,null,null,null,null,null,null,null,null,null,895617000]
[151,412000,"СОЦИЈАЛНИ ДОПРИНОСИ НА ТЕРЕТ ПОСЛОДАВЦА (од 152 до 154)",{"$f":"SUM(D199:D201)","v":16397000},0,17514000,0,20622000,0,19100000,0,20600000,0,60322000,0,null,null,null,null,null,null,null,null,null,154555000]
[152,412100,"Допринос за пензијско и инвалидско осигурање",10957000,null,11900000,null,14500000,null,13000000,null,14400000,null,41900000,0,null,null,null,null,null,null,null,null,null,106657000]
[153,412200,"Допринос за здравствено осигурање",4750000,null,5614000,null,6122000,null,6100000,null,6200000,null,18422000,0,null,null,null,null,null,null,null,null,null,47208000]
[154,412300,"Допринос за незапосленост",690000,null,null,null,null,null,null,null,null,null,0,0,null,null,null,null,null,null,null,null,null,690000]
[155,413000,"НАКНАДЕ У НАТУРИ (156)",{"$f":"D203","v":237000},0,0,0,0,0,0,0,0,0,0,0,null,null,null,null,null,null,null,null,null,237000]
[156,413100,"Накнаде у натури",237000,null,null,null,null,null,null,null,null,null,0,0,null,null,null,null,null,null,null,null,null,237000]
[157,414000,"СОЦИЈАЛНА ДАВАЊА ЗАПОСЛЕНИМА (од 158 до 161)",{"$f":"SUM(D205:D208)","v":0},763000,1000000,668000,880000,0,900000,0,1000000,0,2780000,0,null,null,null,null,null,null,null,null,null,7991000]
[158,414100,"Исплата накнада за време одсуствовања с посла на терет фондова",null,763000,null,668000,null,null,null,null,null,null,0,0,null,null,null,null,null,null,null,null,null,1431000]
[159,414200,"Расходи за образовање деце запослених",null,null,null,null,null,null,null,null,null,null,0,0,null,null,null,null,null,null,null,null,null,0]
[160,414300,"Отпремнине и помоћи",null,null,500000,null,380000,null,400000,null,null,null,780000,0,null,null,null,null,null,null,null,null,null,2060000]
[161,414400,"Помоћ у медицинском лечењу запосленог или чланова уже породице и друге помоћи запосленом",null,null,500000,null,500000,null,500000,null,1000000,null,2000000,0,null,null,null,null,null,null,null,null,null,4500000]
[162,415000,"НАКНАДА ТРОШКОВА ЗА ЗАПОСЛЕНЕ (163)",{"$f":"D210","v":1471000},0,5050000,0,6000000,0,6600000,0,6800000,0,19400000,0,null,null,null,null,null,null,null,null,null,45321000]
[163,415100,"Накнаде трошкова за запослене",1471000,null,5050000,null,6000000,null,6600000,null,6800000,null,19400000,0,null,null,null,null,null,null,null,null,null,45321000]
[164,416000,"НАГРАДЕ ЗАПОСЛЕНИМА И ОСТАЛИ ПОСЕБНИ РАСХОДИ (165)",{"$f":"D212","v":1389000},0,1700000,0,2400000,0,1000000,0,1000000,0,4400000,0,null,null,null,null,null,null,null,null,null,11889000]
[165,416100,"Награде запосленима и остали посебни расходи",1389000,null,1700000,null,2400000,null,1000000,null,1000000,null,4400000,0,null,null,null,null,null,null,null,null,null,11889000]
[166,420000,"КОРИШЋЕЊЕ УСЛУГА И РОБА (167 + 175 + 181 + 190 + 198 + 201) ",{"$f":"D214+D222+D228+D237+D245+D248","v":28534000},11580000,27277000,11700000,38915000,2580000,39521000,2780000,29095000,2880000,{"$f":"SUM(H213,J213,L213)","v":107531000},8240000,null,null,null,null,null,null,null,null,null,310633000]
[167,421000,"СТАЛНИ ТРОШКОВИ (од 168 до 174)",{"$f":"SUM(D215:D221)","v":9463000},2220000,9380000,2200000,12540000,300000,12320000,340000,410000,340000,25270000,980000,null,null,null,null,null,null,null,null,null,75763000]
[168,421100,"Трошкови платног промета и банкарских услуга",195000,5000,120000,120000,140000,100000,150000,100000,170000,100000,460000,300000,null,null,null,null,null,null,null,null,null,1960000]
[169,421200,"Енергетске услуге",7858000,1248000,7800000,1050000,9200000,50000,9350000,60000,null,60000,18550000,170000,null,null,null,null,null,null,null,null,null,55396000]
[170,421300,"Комуналне услуге",813000,667000,843000,730000,2350000,50000,1900000,60000,null,60000,4250000,170000,null,null,null,null,null,null,null,null,null,11893000]
[171,421400,"Услуге комуникација",480000,200000,500000,200000,650000,50000,700000,60000,null,60000,1350000,170000,null,null,null,null,null,null,null,null,null,4420000]
[172,421500,"Трошкови осигурања",110000,100000,110000,100000,200000,50000,220000,60000,240000,60000,660000,170000,null,null,null,null,null,null,null,null,null,2080000]
[173,421600,"Закуп имовине и опреме",null,null,null,null,null,null,null,null,null,null,0,0,null,null,null,null,null,null,null,null,null,0]
[174,421900,"Остали трошкови",7000,null,7000,null,null,null,null,null,null,null,0,0,null,null,null,null,null,null,null,null,null,14000]
[175,422000,"ТРОШКОВИ ПУТОВАЊА (од 176 до 180)",{"$f":"SUM(D223:D227)","v":400000},220000,450000,220000,420000,170000,551000,175000,650000,200000,1621000,545000,null,null,null,null,null,null,null,null,null,5622000]
[176,422100,"Трошкови службених путовања у земљи",240000,195000,300000,180000,300000,120000,406000,135000,500000,150000,1206000,405000,null,null,null,null,null,null,null,null,null,4137000]
[177,422200,"Трошкови службених путовања у иностранство",null,null,null,null,null,null,null,null,null,null,0,0,null,null,null,null,null,null,null,null,null,0]
[178,422300,"Трошкови путовања у оквиру редовног рада",160000,25000,150000,40000,120000,50000,145000,40000,150000,50000,415000,140000,null,null,null,null,null,null,null,null,null,1485000]
[179,422400,"Трошкови путовања ученика",null,null,null,null,null,null,null,null,null,null,0,0,null,null,null,null,null,null,null,null,null,0]
[180,422900,"Остали трошкови транспорта",null,null,null,null,null,null,null,null,null,null,0,0,null,null,null,null,null,null,null,null,null,0]
[181,423000,"УСЛУГЕ ПО УГОВОРУ (од 182 до 189)",{"$f":"SUM(D229:D236)","v":2580000},950000,2580000,950000,4490000,480000,3920000,485000,4105000,540000,12515000,1505000,null,null,null,null,null,null,null,null,null,35100000]
[182,423100,"Административне услуге",null,null,null,null,null,null,null,null,null,null,0,0,null,null,null,null,null,null,null,null,null,0]
[183,423200,"Компјутерске услуге",110000,30000,110000,30000,110000,30000,120000,30000,125000,35000,355000,95000,null,null,null,null,null,null,null,null,null,1180000]
[184,423300,"Услуге образовања и усавршавања запослених",270000,50000,100000,50000,270000,50000,280000,55000,280000,55000,830000,160000,null,null,null,null,null,null,null,null,null,2450000]
[185,423400,"Услуге информисања",100000,150000,100000,150000,150000,50000,200000,50000,250000,50000,600000,150000,null,null,null,null,null,null,null,null,null,2000000]
[186,423500,"Стручне услуге",null,null,null,null,null,null,null,null,null,null,0,0,null,null,null,null,null,null,null,null,null,0]
[187,423600,"Услуге за домаћинство и угоститељство",100000,20000,100000,50000,100000,50000,120000,50000,150000,50000,370000,150000,null,null,null,null,null,null,null,null,null,1310000]
[188,423700,"Репрезентација",null,null,null,null,null,null,null,null,null,null,0,0,null,null,null,null,null,null,null,null,null,0]
[189,423900,"Остале опште услуге",2000000,700000,2170000,670000,3860000,300000,3200000,300000,3300000,350000,10360000,950000,null,null,null,null,null,null,null,null,null,28160000]
[190,424000,"СПЕЦИЈАЛИЗОВАНЕ УСЛУГЕ (од 191 до197)",{"$f":"SUM(D238:D244)","v":380000},150000,420000,150000,480000,0,480000,150000,530000,150000,1490000,300000,null,null,null,null,null,null,null,null,null,4680000]
[191,424100,"Пољопривредне услуге",null,null,null,null,null,null,null,null,null,null,0,0,null,null,null,null,null,null,null,null,null,0]
[192,424200,"Услуге образовања, културе и спорта",250000,50000,300000,100000,250000,null,350000,100000,400000,100000,1000000,200000,null,null,null,null,null,null,null,null,null,3100000]
[193,424300,"Медицинске услуге",null,null,null,null,null,null,null,null,null,null,0,0,null,null,null,null,null,null,null,null,null,0]
[194,424400,"Услуге одржавања аутопутева",null,null,null,null,null,null,null,null,null,null,0,0,null,null,null,null,null,null,null,null,null,0]
[195,424500,"Услуге одржавања националних паркова и природних површина",null,null,null,null,null,null,null,null,null,null,0,0,null,null,null,null,null,null,null,null,null,0]
[196,424600,"Услуге очувања животне средине, науке и геодетске услуге",null,null,null,null,null,null,null,null,null,null,0,0,null,null,null,null,null,null,null,null,null,0]
[197,424900,"Остале специјализоване услуге",130000,100000,120000,50000,230000,null,130000,50000,130000,50000,490000,100000,null,null,null,null,null,null,null,null,null,1580000]
[198,425000,"ТЕКУЋЕ ПОПРАВКЕ И ОДРЖАВАЊЕ (199 + 200)",{"$f":"D246+D247","v":2359000},{"$f":"E246+E247","v":0},2800000,0,2273000,0,3200000,0,3450000,0,8923000,0,null,null,null,null,null,null,null,null,null,23005000]
[199,425100,"Текуће поправке и одржавање зграда и објеката",1899000,null,2300000,null,1563000,null,2700000,null,2900000,null,7163000,0,null,null,null,null,null,null,null,null,null,18525000]
[200,425200,"Текуће поправке и одржавање опреме",460000,null,500000,null,710000,null,500000,null,550000,null,1760000,0,null,null,null,null,null,null,null,null,null,4480000]
[{"$f":"A247+1","v":201},426000,"МАТЕРИЈАЛ (од 202 до 210)",{"$f":"SUM(D249:D257)","v":13352000},8040000,11647000,8180000,18712000,1630000,19050000,1630000,19950000,1650000,57712000,4910000,null,null,null,null,null,null,null,null,null,{"$f":"SUM(D248:O248)","v":166463000}]
[202,426100,"Административни материјал",480000,250000,300000,400000,650000,150000,500000,150000,600000,150000,1750000,450000,null,null,null,null,null,null,null,null,null,5830000]
[203,426200,"Материјали за пољопривреду",null,null,null,null,null,null,null,null,null,null,0,0,null,null,null,null,null,null,null,null,null,0]
[204,426300,"Материјали за образовање и усавршавање запослених",100000,150000,50000,180000,150000,100000,150000,100000,150000,150000,450000,350000,null,null,null,null,null,null,null,null,null,2080000]
[205,426400,"Материјали за саобраћај",200000,600000,200000,550000,400000,200000,800000,100000,800000,100000,2000000,400000,null,null,null,null,null,null,null,null,null,6350000]
[206,426500,"Материјали за очување животне средине и науку",null,null,null,null,null,null,null,null,null,null,0,0,null,null,null,null,null,null,null,null,null,0]
[207,426600,"Материјали за образовање, културу и спорт",600000,800000,847000,1050000,1600000,100000,2000000,100000,2200000,100000,5800000,300000,null,null,null,null,null,null,null,null,null,15497000]
[208,426700,"Медицински и лабораторијски материјали",null,null,null,null,null,null,null,null,null,null,0,0,null,null,null,null,null,null,null,null,null,0]
[209,426800,"Материјали за одржавање хигијене и угоститељство",10275000,5130000,9250000,5000000,14500000,800000,14400000,1000000,15000000,1000000,43900000,2800000,null,null,null,null,null,null,null,null,null,123055000]
[210,426900,"Материјали за посебне намене",1697000,1110000,1000000,1000000,1412000,280000,1200000,180000,1200000,150000,3812000,610000,null,null,null,null,null,null,null,null,null,13651000]
[211,430000,"АМОРТИЗАЦИЈА И УПОТРЕБА СРЕДСТАВА ЗА РАД (212 + 216 + 218 + 220 + 224)",{"$f":"D259+D263+D265+D267+D271","v":0},{"$f":"E259+E263+E265+E267+E271","v":0},0,0,0,0,0,0,0,0,0,0,null,null,null,null,null,null,null,null,null,0]
[212,431000,"АМОРТИЗАЦИЈА НЕКРЕТНИНА И ОПРЕМЕ (од 213 до 215)",{"$f":"SUM(D260:D262)","v":0},0,0,0,0,0,0,0,0,0,0,0,null,null,null,null,null,null,null,null,null,0]
[213,431100,"Амортизација зграда и грађевинскиx објеката",null,null,null,null,null,null,null,null,null,null,0,0,null,null,null,null,null,null,null,null,null,0]
[214,431200,"Амортизација опреме",null,null,null,null,null,null,null,null,null,null,0,0,null,null,null,null,null,null,null,null,null,0]
[215,431300,"Амортизација осталих некретнина и опреме",null,null,null,null,null,null,null,null,null,null,0,0,null,null,null,null,null,null,null,null,null,0]
[216,432000,"АМОРТИЗАЦИЈА КУЛТИВИСАНЕ ИМОВИНЕ (217)",{"$f":"D264","v":0},0,0,0,0,0,0,0,0,0,0,0,null,null,null,null,null,null,null,null,null,0]
[217,432100,"Амортизација култивисане опреме",null,null,null,null,null,null,null,null,null,null,0,0,null,null,null,null,null,null,null,null,null,0]
[218,433000,"УПОТРЕБА ДРАГОЦЕНОСТИ (219)",{"$f":"D266","v":0},0,0,0,0,0,0,0,0,0,0,0,null,null,null,null,null,null,null,null,null,0]
[219,433100,"Употреба драгоцености",null,null,null,null,null,null,null,null,null,null,0,0,null,null,null,null,null,null,null,null,null,0]
[220,434000,"УПОТРЕБА ПРИРОДНЕ ИМОВИНЕ (од 221 до 223)",{"$f":"SUM(D268:D270)","v":0},0,0,0,0,0,0,0,0,0,0,0,null,null,null,null,null,null,null,null,null,0]
[221,434100,"Употреба земљишта",null,null,null,null,null,null,null,null,null,null,0,0,null,null,null,null,null,null,null,null,null,0]
[222,434200,"Употреба подземног блага",null,null,null,null,null,null,null,null,null,null,0,0,null,null,null,null,null,null,null,null,null,0]
[223,434300,"Употреба шума и вода",null,null,null,null,null,null,null,null,null,null,0,0,null,null,null,null,null,null,null,null,null,0]
[224,435000,"АМОРТИЗАЦИЈА НЕМАТЕРИЈАЛНЕ ИМОВИНЕ (225)",{"$f":"D272","v":0},0,0,0,0,0,0,0,0,0,0,0,null,null,null,null,null,null,null,null,null,0]
[225,435100,"Амортизација нематеријалне имовине",null,null,null,null,null,null,null,null,null,null,0,0,null,null,null,null,null,null,null,null,null,0]
[226,440000,"ОТПЛАТА КАМАТА И ПРАТЕЋИ ТРОШКОВИ ЗАДУЖИВАЊА (227 + 237 + 244 + 246)",{"$f":"D274+D284+D291+D293","v":0},0,0,0,0,0,0,0,0,0,0,0,null,null,null,null,null,null,null,null,null,0]
[227,441000,"ОТПЛАТЕ ДОМАЋИХ КАМАТА (од 228 до 236)",{"$f":"SUM(D275:D283)","v":0},{"$f":"SUM(E275:E283)","v":0},0,0,0,0,0,0,0,0,0,0,null,null,null,null,null,null,null,null,null,0]
[228,441100,"Отплата камата на домаће хартије од вредности",null,null,null,null,null,null,null,null,null,null,{"$f":"SUM(H275,J275,L275)","v":0},0,null,null,null,null,null,null,null,null,null,0]
[229,441200,"Отплата камата осталим нивоима власти",null,null,null,null,null,null,null,null,null,null,0,0,null,null,null,null,null,null,null,null,null,0]
[230,441300,"Отплата камата домаћим јавним финансијским институцијама",null,null,null,null,null,null,null,null,null,null,0,0,null,null,null,null,null,null,null,null,null,0]
[231,441400,"Отплата камата домаћим пословним банкама",null,null,null,null,null,null,null,null,null,null,0,0,null,null,null,null,null,null,null,null,null,0]
[232,441500,"Отплата камата осталим домаћим кредиторима",null,null,null,null,null,null,null,null,null,null,0,0,null,null,null,null,null,null,null,null,null,0]
[233,441600,"Отплата камата домаћинствима у земљи",null,null,null,null,null,null,null,null,null,null,0,0,null,null,null,null,null,null,null,null,null,0]
[234,441700,"Отплата камата на домаће финансијске деривате",null,null,null,null,null,null,null,null,null,null,0,0,null,null,null,null,null,null,null,null,null,0]
[235,441800,"Отплата камата на домаће менице",null,null,null,null,null,null,null,null,null,null,0,0,null,null,null,null,null,null,null,null,null,0]
[236,441900,"Финансијске промене на финансијским лизинзима",null,null,null,null,null,null,null,null,null,null,0,0,null,null,null,null,null,null,null,null,null,0]
[237,442000,"ОТПЛАТА СТРАНИХ КАМАТА (од 238 до 243)",{"$f":"SUM(D285:D290)","v":0},0,0,0,0,0,0,0,0,0,0,0,null,null,null,null,null,null,null,null,null,0]
[238,442100,"Отплата камата на хартије од вредности емитоване на иностраном финансијском тржишту",null,null,null,null,null,null,null,null,null,null,0,0,null,null,null,null,null,null,null,null,null,0]
[239,442200,"Отплата камата страним владама",null,null,null,null,null,null,null,null,null,null,0,0,null,null,null,null,null,null,null,null,null,0]
[240,442300,"Отплата камата мултилатералним институцијама",null,null,null,null,null,null,null,null,null,null,0,0,null,null,null,null,null,null,null,null,null,0]
[241,442400,"Отплата камата страним пословним банкама",null,null,null,null,null,null,null,null,null,null,0,0,null,null,null,null,null,null,null,null,null,0]
[242,442500,"Отплата камата осталим страним кредиторима",null,null,null,null,null,null,null,null,null,null,0,0,null,null,null,null,null,null,null,null,null,0]
[243,442600,"Отплата камата на стране финансијске деривате",null,null,null,null,null,null,null,null,null,null,0,0,null,null,null,null,null,null,null,null,null,0]
[244,443000,"ОТПЛАТА КАМАТА ПО ГАРАНЦИЈАМА 245)",{"$f":"D292","v":0},{"$f":"E292","v":0},0,0,0,0,0,0,0,0,0,0,null,null,null,null,null,null,null,null,null,0]
[245,443100,"Отплата камата по гаранцијама",null,null,null,null,null,null,null,null,null,null,0,0,null,null,null,null,null,null,null,null,null,0]
[246,444000,"ПРАТЕЋИ ТРОШКОВИ ЗАДУЖИВАЊА (од 247 до 249)",{"$f":"SUM(D294:D296)","v":0},0,0,0,0,0,0,0,0,0,0,0,null,null,null,null,null,null,null,null,null,0]
[247,444100,"Негативне курсне разлике",null,null,null,null,null,null,null,null,null,null,0,0,null,null,null,null,null,null,null,null,null,0]
[248,444200,"Казне за кашњење",null,null,null,null,null,null,null,null,null,null,0,0,null,null,null,null,null,null,null,null,null,0]
[249,444300,"Остали пратећи трошкови задуживања",null,null,null,null,null,null,null,null,null,null,0,0,null,null,null,null,null,null,null,null,null,0]
[250,450000,"СУБВЕНЦИЈЕ (251 + 254 + 257 + 260)",{"$f":"D298+D301+D304+D307","v":0},0,0,0,0,0,0,0,0,0,0,0,null,null,null,null,null,null,null,null,null,0]
[251,451000,"СУБВЕНЦИЈЕ ЈАВНИМ НЕФИНАНСИЈСКИМ ПРЕДУЗЕЋИМА И ОРГАНИЗАЦИЈАМА (252 + 253)",{"$f":"SUM(D299:D300)","v":0},0,0,0,0,0,0,0,0,0,0,0,null,null,null,null,null,null,null,null,null,0]
[252,451100,"Текуће субвенције јавним нефинансијским предузећима и организацијама",null,null,null,null,null,null,null,null,null,null,0,0,null,null,null,null,null,null,null,null,null,0]
[253,451200,"Капиталне субвенције јавним нефинансијским предузећима и организацијама",null,null,null,null,null,null,null,null,null,null,0,0,null,null,null,null,null,null,null,null,null,0]
[254,452000,"СУБВЕНЦИЈЕ ПРИВАТНИМ ФИНАНСИЈСКИМ ИНСТИТУЦИЈАМА (255 + 256)",{"$f":"SUM(D302:D303)","v":0},0,0,0,0,0,0,0,0,0,0,0,null,null,null,null,null,null,null,null,null,0]
[255,452100,"Текуће субвенције приватним финансијским институцијама",null,null,null,null,null,null,null,null,null,null,0,0,null,null,null,null,null,null,null,null,null,0]
[256,452200,"Капиталне субвенције приватним финансијским институцијама",null,null,null,null,null,null,null,null,null,null,0,0,null,null,null,null,null,null,null,null,null,0]
[257,453000,"СУБВЕНЦИЈЕ ЈАВНИМ ФИНАНСИЈСКИМ ИНСТИТУЦИЈАМА (258 + 259)",{"$f":"SUM(D305:D306)","v":0},0,0,0,0,0,0,0,0,0,0,0,null,null,null,null,null,null,null,null,null,0]
[258,453100,"Текуће субвенције јавним финансијским институцијама",null,null,null,null,null,null,null,null,null,null,0,0,null,null,null,null,null,null,null,null,null,0]
[259,453200,"Капиталне субвенције јавним финансијским институцијама",null,null,null,null,null,null,null,null,null,null,0,0,null,null,null,null,null,null,null,null,null,0]
[260,454000,"СУБВЕНЦИЈЕ ПРИВАТНИМ ПРЕДУЗЕЋИМА (261 + 262)",{"$f":"SUM(D308:D309)","v":0},0,0,0,0,0,0,0,0,0,0,0,null,null,null,null,null,null,null,null,null,0]
[261,454100,"Текуће субвенције приватним предузећима",null,null,null,null,null,null,null,null,null,null,0,0,null,null,null,null,null,null,null,null,null,0]
[262,454200,"Капиталне субвенције приватним предузећима",null,null,null,null,null,null,null,null,null,null,0,0,null,null,null,null,null,null,null,null,null,0]
[263,460000,"ДОНАЦИЈЕ, ДОТАЦИЈЕ И ТРАНСФЕРИ (264 + 267 + 270 + 273 + 276)",{"$f":"D311+D314+D317+D320+D323","v":11285000},{"$f":"E311+E314+E317+E320+E323","v":0},12385000,0,1213000,0,0,0,0,0,1213000,0,null,null,null,null,null,null,null,null,null,26096000]
[264,461000,"ДОНАЦИЈЕ СТРАНИМ ВЛАДАМА (265 + 266)",{"$f":"SUM(D312:D313)","v":0},0,0,0,0,0,0,0,0,0,0,0,null,null,null,null,null,null,null,null,null,0]
[{"$f":"A311+1","v":265},461100,"Текуће донације страним владама",null,null,null,null,null,null,null,null,null,null,0,0,null,null,null,null,null,null,null,null,null,{"$f":"SUM(D312:O312)","v":0}]
[266,461200,"Капиталне донације страним владама",null,null,null,null,null,null,null,null,null,null,0,0,null,null,null,null,null,null,null,null,null,0]
[267,462000,"ДОТАЦИЈЕ МЕЂУНАРОДНИМ ОРГАНИЗАЦИЈАМА (268 + 269)",{"$f":"SUM(D315:D316)","v":0},0,0,0,0,0,0,0,0,0,0,0,null,null,null,null,null,null,null,null,null,0]
[268,462100,"Текуће дотације међународним организацијама",null,null,null,null,null,null,null,null,null,null,0,0,null,null,null,null,null,null,null,null,null,0]
[269,462200,"Капиталне дотације међународним организацијама",null,null,null,null,null,null,null,null,null,null,0,0,null,null,null,null,null,null,null,null,null,0]
[270,463000,"ТРАНСФЕРИ ОСТАЛИМ НИВОИМА ВЛАСТИ (271 + 272)",{"$f":"SUM(D318:D319)","v":0},{"$f":"SUM(E318:E319)","v":0},0,0,0,0,0,0,0,0,0,0,null,null,null,null,null,null,null,null,null,0]
[271,463100,"Текући трансфери осталим нивоима власти",null,null,null,null,null,null,null,null,null,null,0,0,null,null,null,null,null,null,null,null,null,0]
[272,463200,"Капитални трансфери осталим нивоима власти",null,null,null,null,null,null,null,null,null,null,0,0,null,null,null,null,null,null,null,null,null,0]
[273,464000,"ДОТАЦИЈЕ ОРГАНИЗАЦИЈАМА ОБАВЕЗНОГ СОЦИЈАЛНОГ ОСИГУРАЊА (274 + 275)",{"$f":"SUM(D321:D322)","v":0},0,0,0,0,0,0,0,0,0,0,0,null,null,null,null,null,null,null,null,null,0]
[274,464100,"Текуће дотације организацијама обавезног социјалног осигурања",null,null,null,null,null,null,null,null,null,null,0,0,null,null,null,null,null,null,null,null,null,0]
[275,464200,"Капиталне дотације организацијама обавезног социјалног осигурања",null,null,null,null,null,null,null,null,null,null,0,0,null,null,null,null,null,null,null,null,null,0]
[276,465000,"ОСТАЛЕ ДОТАЦИЈЕ И ТРАНСФЕРИ (277 + 278)",{"$f":"SUM(D324:D325)","v":11285000},0,12385000,0,1213000,0,0,0,0,0,1213000,0,null,null,null,null,null,null,null,null,null,26096000]
[277,465100,"Остале текуће дотације и трансфери",11285000,null,12385000,null,1213000,null,null,null,null,null,1213000,0,null,null,null,null,null,null,null,null,null,26096000]
[278,465200,"Остале капиталне дотације и трансфери",null,null,null,null,null,null,null,null,null,null,0,0,null,null,null,null,null,null,null,null,null,0]
[279,470000,"СОЦИЈАЛНО ОСИГУРАЊЕ И СОЦИЈАЛНА ЗАШТИТА (280 + 284)",{"$f":"D327+D331","v":0},0,0,0,0,0,0,0,0,0,0,0,null,null,null,null,null,null,null,null,null,0]
[280,471000,"ПРАВА ИЗ СОЦИЈАЛНОГ ОСИГУРАЊА (ОРГАНИЗАЦИЈЕ ОБАВЕЗНОГ СОЦИЈАЛНОГ ОСИГУРАЊА) (од 281 до 283)",{"$f":"SUM(D328:D330)","v":0},0,0,0,0,0,0,0,0,0,0,0,null,null,null,null,null,null,null,null,null,0]
[281,471100,"Права из социјалног осигурања која се исплаћују непосредно домаћинствима",null,null,null,null,null,null,null,null,null,null,0,0,null,null,null,null,null,null,null,null,null,0]
[282,471200,"Права из социјалног осигурања која се исплаћују непосредно пружаоцима услуга",null,null,null,null,null,null,null,null,null,null,0,0,null,null,null,null,null,null,null,null,null,0]
[283,471900,"Трансфери другим организацијама обавезног социјалног осигурања за доприносе за осигурање",null,null,null,null,null,null,null,null,null,null,0,0,null,null,null,null,null,null,null,null,null,0]
[284,472000,"НАКНАДЕ ЗА СОЦИЈАЛНУ ЗАШТИТУ ИЗ БУЏЕТА (од 285 до 293)",{"$f":"SUM(D332:D340)","v":0},0,0,0,0,0,0,0,0,0,0,0,null,null,null,null,null,null,null,null,null,0]
[285,472100,"Накнаде из буџета у случају болести и инвалидности",null,null,null,null,null,null,null,null,null,null,0,0,null,null,null,null,null,null,null,null,null,0]
[286,472200,"Накнаде из буџета за породиљско одсуство",null,null,null,null,null,null,null,null,null,null,0,0,null,null,null,null,null,null,null,null,null,0]
[287,472300,"Накнаде из буџета за децу и породицу",null,null,null,null,null,null,null,null,null,null,0,0,null,null,null,null,null,null,null,null,null,0]
[288,472400,"Накнаде из буџета за случај незапослености",null,null,null,null,null,null,null,null,null,null,0,0,null,null,null,null,null,null,null,null,null,0]
[289,472500,"Старосне и породичне пензије из буџета",null,null,null,null,null,null,null,null,null,null,0,0,null,null,null,null,null,null,null,null,null,0]
[290,472600,"Накнаде из буџета у случају смрти",null,null,null,null,null,null,null,null,null,null,0,0,null,null,null,null,null,null,null,null,null,0]
[291,472700,"Накнаде из буџета за образовање, културу, науку и спорт",null,null,null,null,null,null,null,null,null,null,0,0,null,null,null,null,null,null,null,null,null,0]
[292,472800,"Накнаде из буџета за становање и живот",null,null,null,null,null,null,null,null,null,null,{"$f":"SUM(H339,J339,L339)","v":0},0,null,null,null,null,null,null,null,null,null,0]
[293,472900,"Остале накнаде из буџета",null,null,null,null,null,null,null,null,null,null,0,0,null,null,null,null,null,null,null,null,null,0]
[294,480000,"ОСТАЛИ РАСХОДИ (295 + 298 + 302 + 304 + 307 + 309)",{"$f":"D342+D345+D349+D351+D354+D356","v":80000},{"$f":"E342+E345+E349+E351+E354+E356","v":0},4181000,0,6562000,20000,100000,20000,120000,20000,6782000,60000,null,null,null,null,null,null,null,null,null,17945000]
[295,481000,"ДОТАЦИЈЕ НЕВЛАДИНИМ ОРГАНИЗАЦИЈАМА (296 + 297)",{"$f":"SUM(D343:D344)","v":0},0,0,0,0,0,0,0,0,0,0,0,null,null,null,null,null,null,null,null,null,0]
[296,481100,"Дотације непрофитним организацијама које пружају помоћ домаћинствима",null,null,null,null,null,null,null,null,null,null,0,0,null,null,null,null,null,null,null,null,null,0]
[297,481900,"Дотације осталим непрофитним институцијама",null,null,null,null,null,null,null,null,null,null,0,0,null,null,null,null,null,null,null,null,null,0]
[298,482000,"ПОРЕЗИ, ОБАВЕЗНЕ ТАКСЕ И КАЗНЕ (од 299 до 301)",{"$f":"SUM(D346:D348)","v":80000},{"$f":"SUM(E346:E348)","v":0},100000,0,90000,20000,100000,20000,120000,20000,310000,60000,null,null,null,null,null,null,null,null,null,920000]
[299,482100,"Остали порези",80000,null,100000,null,90000,10000,100000,20000,120000,20000,310000,50000,null,null,null,null,null,null,null,null,null,900000]
[300,482200,"Обавезне таксе",null,null,null,null,null,10000,null,null,null,null,0,10000,null,null,null,null,null,null,null,null,null,20000]
[301,482300,"Новчане казне и пенали",null,null,null,null,null,null,null,null,null,null,0,0,null,null,null,null,null,null,null,null,null,0]
[302,483000,"НОВЧАНЕ КАЗНЕ И ПЕНАЛИ ПО РЕШЕЊУ СУДОВА (303)",{"$f":"D350","v":0},0,181000,0,650000,0,0,0,0,0,650000,0,null,null,null,null,null,null,null,null,null,1481000]
[303,483100,"Новчане казне и пенали по решењу судова",null,null,181000,null,650000,null,null,null,null,null,650000,0,null,null,null,null,null,null,null,null,null,1481000]
[304,484000,"НАКНАДА ШТЕТЕ ЗА ПОВРЕДЕ ИЛИ ШТЕТУ НАСТАЛУ УСЛЕД ЕЛЕМЕНТАРНИХ НЕПОГОДА ИЛИ ДРУГИХ ПРИРОДНИХ УЗРОКА (305 + 306)",{"$f":"SUM(D352:D353)","v":0},0,0,0,0,0,0,0,0,0,0,0,null,null,null,null,null,null,null,null,null,0]
[305,484100,"Накнада штете за повреде или штету насталу услед елементарних непогода",null,null,null,null,null,null,null,null,null,null,0,0,null,null,null,null,null,null,null,null,null,0]
[306,484200,"Накнада штете од дивљачи",null,null,null,null,null,null,null,null,null,null,0,0,null,null,null,null,null,null,null,null,null,0]
[307,485000,"НАКНАДА ШТЕТЕ ЗА ПОВРЕДЕ ИЛИ ШТЕТУ НАНЕТУ ОД СТРАНЕ ДРЖАВНИХ ОРГАНА (308)",{"$f":"D355","v":0},0,3900000,0,5822000,0,0,0,0,0,5822000,0,null,null,null,null,null,null,null,null,null,15544000]
[308,485100,"Накнада штете за повреде или штету нанету од стране државних органа",null,null,3900000,null,5822000,null,null,null,null,null,5822000,0,null,null,null,null,null,null,null,null,null,15544000]
[309,489000,"РАСХОДИ КОЈИ СЕ ФИНАНСИРАЈУ ИЗ СРЕДСТАВА ЗА РЕАЛИЗАЦИЈУ НАЦИОНАЛНОГ ИНВЕСТИЦИОНОГ ПЛАНА (310)",0,0,0,0,0,0,0,0,0,0,0,0,null,null,null,null,null,null,null,null,null,0]
[310,489100,"Расходи који се финансирају из средстава за реализацију националног инвестиционог плана",null,null,null,null,null,null,null,null,null,null,0,0,null,null,null,null,null,null,null,null,null,0]
[311,500000,"ИЗДАЦИ ЗА НЕФИНАНСИЈСКУ ИМОВИНУ (312 + 334 + 343 + 346 + 354)",{"$f":"D359+D381+D390+D393+D401","v":954000},{"$f":"E359+E381+E390+E393+E401","v":0},2700000,0,5359000,0,1500000,0,7518000,0,14377000,0,null,null,null,null,null,null,null,null,null,32408000]
[312,510000,"ОСНОВНА СРЕДСТВА (313 + 318 + 328 + 330 + 332)",{"$f":"D360+D365+D375+D377+D379","v":954000},{"$f":"E360+E365+E375+E377+E379","v":0},2700000,0,5359000,0,1500000,0,7518000,0,14377000,0,null,null,null,null,null,null,null,null,null,32408000]
[313,511000,"ЗГРАДЕ И ГРАЂЕВИНСКИ ОБЈЕКТИ (од 314 до 317)",{"$f":"SUM(D361:D364)","v":300000},0,1200000,0,739000,0,0,0,2000000,0,2739000,0,null,null,null,null,null,null,null,null,null,6978000]
[314,511100,"Куповина зграда и објеката",null,null,null,null,null,null,null,null,null,null,0,0,null,null,null,null,null,null,null,null,null,0]
[315,511200,"Изградња зграда и објеката",null,null,null,null,null,null,null,null,null,null,0,0,null,null,null,null,null,null,null,null,null,0]
[316,511300,"Капитално одржавање зграда и објеката",null,null,null,null,null,null,null,null,2000000,null,2000000,0,null,null,null,null,null,null,null,null,null,4000000]
[317,511400,"Пројектно планирање",300000,null,1200000,null,739000,null,null,null,null,null,739000,0,null,null,null,null,null,null,null,null,null,2978000]
[318,512000,"МАШИНЕ И ОПРЕМА (од 319 до 327)",{"$f":"SUM(D366:D374)","v":654000},0,1500000,0,4620000,0,1500000,0,5518000,0,11638000,0,null,null,null,null,null,null,null,null,null,25430000]
[319,512100,"Опрема за саобраћај",null,null,null,null,null,null,null,null,null,null,0,0,null,null,null,null,null,null,null,null,null,0]
[320,512200,"Административна опрема",654000,null,1500000,null,2220000,null,1500000,null,5518000,null,9238000,0,null,null,null,null,null,null,null,null,null,20630000]
[321,512300,"Опрема за пољопривреду",null,null,null,null,null,null,null,null,null,null,0,0,null,null,null,null,null,null,null,null,null,0]
[322,512400,"Опрема за заштиту животне средине",null,null,null,null,null,null,null,null,null,null,0,0,null,null,null,null,null,null,null,null,null,0]
[323,512500,"Медицинска и лабораторијска опрема",null,null,null,null,null,null,null,null,null,null,0,0,null,null,null,null,null,null,null,null,null,0]
[324,512600,"Опрема за образовање, културу и спорт",null,null,null,null,null,null,null,null,null,null,0,0,null,null,null,null,null,null,null,null,null,0]
[325,512700,"Опрема за војску",null,null,null,null,null,null,null,null,null,null,0,0,null,null,null,null,null,null,null,null,null,0]
[326,512800,"Опрема за јавну безбедност",null,null,null,null,2400000,null,null,null,null,null,2400000,0,null,null,null,null,null,null,null,null,null,4800000]
[327,512900,"Опрема за производњу, моторна, непокретна и немоторна опрема",null,null,null,null,null,null,null,null,null,null,0,0,null,null,null,null,null,null,null,null,null,0]
[328,513000,"ОСТАЛЕ НЕКРЕТНИНЕ И ОПРЕМА (329)",{"$f":"D376","v":0},{"$f":"E376","v":0},0,0,0,0,0,0,0,0,0,0,null,null,null,null,null,null,null,null,null,0]
[{"$f":"A375+1","v":329},513100,"Остале некретнине и опрема",null,null,null,null,null,null,null,null,null,null,0,0,null,null,null,null,null,null,null,null,null,{"$f":"SUM(D376:O376)","v":0}]
[330,514000,"КУЛТИВИСАНА ИМОВИНА (331)",{"$f":"D378","v":0},{"$f":"E378","v":0},0,0,0,0,0,0,0,0,0,0,null,null,null,null,null,null,null,null,null,0]
[331,514100,"Култивисана имовина",null,null,null,null,null,null,null,null,null,null,0,0,null,null,null,null,null,null,null,null,null,0]
[332,515000,"НЕМАТЕРИЈАЛНА ИМОВИНА (333)",{"$f":"D380","v":0},{"$f":"E380","v":0},0,0,0,0,0,0,0,0,0,0,null,null,null,null,null,null,null,null,null,0]
[333,515100,"Нематеријална имовина",null,null,null,null,null,null,null,null,null,null,0,0,null,null,null,null,null,null,null,null,null,0]
[334,520000,"ЗАЛИХЕ (335 + 337 + 341)",{"$f":"D382+D384+D388","v":0},0,0,0,0,0,0,0,0,0,0,0,null,null,null,null,null,null,null,null,null,0]
[335,521000,"РОБНЕ РЕЗЕРВЕ (336)",{"$f":"D383","v":0},0,0,0,0,0,0,0,0,0,0,0,null,null,null,null,null,null,null,null,null,0]
[336,521100,"Робне резерве",null,null,null,null,null,null,null,null,null,null,0,0,null,null,null,null,null,null,null,null,null,0]
[337,522000,"ЗАЛИХЕ ПРОИЗВОДЊЕ (од 338 до 340)",{"$f":"SUM(D385:D387)","v":0},0,0,0,0,0,0,0,0,0,0,0,null,null,null,null,null,null,null,null,null,0]
[338,522100,"Залихе материјала",null,null,null,null,null,null,null,null,null,null,0,0,null,null,null,null,null,null,null,null,null,0]
[339,522200,"Залихе недовршене производње",null,null,null,null,null,null,null,null,null,null,0,0,null,null,null,null,null,null,null,null,null,0]
[340,522300,"Залихе готових производа",null,null,null,null,null,null,null,null,null,null,0,0,null,null,null,null,null,null,null,null,null,0]
[341,523000,"ЗАЛИХЕ РОБЕ ЗА ДАЉУ ПРОДАЈУ (342)",{"$f":"D389","v":0},0,0,0,0,0,0,0,0,0,0,0,null,null,null,null,null,null,null,null,null,0]
[342,523100,"Залихе робе за даљу продају",null,null,null,null,null,null,null,null,null,null,0,0,null,null,null,null,null,null,null,null,null,0]
[343,530000,"ДРАГОЦЕНОСТИ (344)",{"$f":"D391","v":0},0,0,0,0,0,0,0,0,0,0,0,null,null,null,null,null,null,null,null,null,0]
[344,531000,"ДРАГОЦЕНОСТИ (345)",0,0,0,0,0,0,0,0,0,0,0,0,null,null,null,null,null,null,null,null,null,0]
[345,531100,"Драгоцености",null,null,null,null,null,null,null,null,null,null,0,0,null,null,null,null,null,null,null,null,null,0]
[346,540000,"ПРИРОДНА ИМОВИНА (347 + 349 + 351)",{"$f":"D394+D396+D398","v":0},0,0,0,0,0,0,0,0,0,0,0,null,null,null,null,null,null,null,null,null,0]
[347,541000,"ЗЕМЉИШТЕ (348)",{"$f":"D395","v":0},0,0,0,0,0,0,0,0,0,0,0,null,null,null,null,null,null,null,null,null,0]
[348,541100,"Земљиште",null,null,null,null,null,null,null,null,null,null,0,0,null,null,null,null,null,null,null,null,null,0]
[349,542000,"РУДНА БОГАТСТВА (350)",{"$f":"D397","v":0},0,0,0,0,0,0,0,0,0,0,0,null,null,null,null,null,null,null,null,null,0]
[350,542100,"Копови",null,null,null,null,null,null,null,null,null,null,0,0,null,null,null,null,null,null,null,null,null,0]
[351,543000,"ШУМЕ И ВОДЕ (352 + 353)",{"$f":"SUM(D399:D400)","v":0},0,0,0,0,0,0,0,0,0,0,0,null,null,null,null,null,null,null,null,null,0]
[352,543100,"Шуме",null,null,null,null,null,null,null,null,null,null,0,0,null,null,null,null,null,null,null,null,null,0]
[353,543200,"Воде",null,null,null,null,null,null,null,null,null,null,0,0,null,null,null,null,null,null,null,null,null,0]
[354,550000,"НЕФИНАНСИЈСКА ИМОВИНА КОЈА СЕ ФИНАНСИРА ИЗ СРЕДСТАВА ЗА РЕАЛИЗАЦИЈУ НАЦИОНАЛНОГ ИНВЕСТИЦИОНОГ ПЛАНА (355)",{"$f":"D402","v":0},0,0,0,0,0,0,0,0,0,0,0,null,null,null,null,null,null,null,null,null,0]
[355,551000,"НЕФИНАНСИЈСКА ИМОВИНА КОЈА СЕ ФИНАНСИРА ИЗ СРЕДСТАВА ЗА РЕАЛИЗАЦИЈУ НАЦИОНАЛНОГ ИНВЕСТИЦИОНОГ ПЛАНА (356)",0,0,0,0,0,0,0,0,0,0,0,0,null,null,null,null,null,null,null,null,null,0]
[356,551100,"Нефинансијска имовина која се финансира из средстава за реализацију националног инвестиционог плана",null,null,null,null,null,null,null,null,null,null,{"$f":"SUM(H403,J403,L403)","v":0},0,null,null,null,null,null,null,null,null,null,0]
[357,600000,"ИЗДАЦИ ЗА ОТПЛАТУ ГЛАВНИЦЕ И НАБАВКУ ФИНАНСИЈСКЕ ИМОВИНЕ (358 + 383)",{"$f":"D405+D430","v":0},{"$f":"E405+E430","v":0},0,0,0,0,0,0,0,0,0,0,null,null,null,null,null,null,null,null,null,0]
[358,610000,"ОТПЛАТА ГЛАВНИЦЕ (359 + 369 + 377 + 384)",{"$f":"D406+D416+D424+D426+D428","v":0},{"$f":"E406+E416+E424+E426+E428","v":0},0,0,0,0,0,0,0,0,0,0,null,null,null,null,null,null,null,null,null,0]
[359,611000,"ОТПЛАТА ГЛАВНИЦЕ ДОМАЋИМ КРЕДИТОРИМА (од 360 до 368)",{"$f":"SUM(D407:D415)","v":0},0,0,0,0,0,0,0,0,0,0,0,null,null,null,null,null,null,null,null,null,0]
[360,611100,"Отплата главнице на домаће хартије од вредности, изузев акција",null,null,null,null,null,null,null,null,null,null,0,0,null,null,null,null,null,null,null,null,null,0]
[361,611200,"Отплата главнице осталим нивоима власти",null,null,null,null,null,null,null,null,null,null,0,0,null,null,null,null,null,null,null,null,null,0]
[362,611300,"Отплата главнице домаћим јавним финансијским институцијама",null,null,null,null,null,null,null,null,null,null,0,0,null,null,null,null,null,null,null,null,null,0]
[363,611400,"Отплата главнице домаћим пословним банкама",null,null,null,null,null,null,null,null,null,null,0,0,null,null,null,null,null,null,null,null,null,0]
[364,611500,"Отплата главнице осталим домаћим кредиторима",null,null,null,null,null,null,null,null,null,null,0,0,null,null,null,null,null,null,null,null,null,0]
[365,611600,"Отплата главнице домаћинствима у земљи",null,null,null,null,null,null,null,null,null,null,0,0,null,null,null,null,null,null,null,null,null,0]
[366,611700,"Отплата главнице на домаће финансијске деривате",null,null,null,null,null,null,null,null,null,null,0,0,null,null,null,null,null,null,null,null,null,0]
[367,611800,"Отплата домаћих меница",null,null,null,null,null,null,null,null,null,null,0,0,null,null,null,null,null,null,null,null,null,0]
[368,611900,"Исправка унутрашњег дуга",null,null,null,null,null,null,null,null,null,null,0,0,null,null,null,null,null,null,null,null,null,0]
[369,612000,"ОТПЛАТА ГЛАВНИЦЕ СТРАНИМ КРЕДИТОРИМА (од 370 до 376)",{"$f":"SUM(D417:D423)","v":0},0,0,0,0,0,0,0,0,0,0,0,null,null,null,null,null,null,null,null,null,0]
[370,612100,"Отплата главнице на хартије од вредности, изузев акција, емитоване на иностраном финансијском тржишту",null,null,null,null,null,null,null,null,null,null,0,0,null,null,null,null,null,null,null,null,null,0]
[371,612200,"Отплата главнице страним владама",null,null,null,null,null,null,null,null,null,null,0,0,null,null,null,null,null,null,null,null,null,0]
[372,612300,"Отплата главнице мултилатералним институцијама",null,null,null,null,null,null,null,null,null,null,0,0,null,null,null,null,null,null,null,null,null,0]
[373,612400,"Отплате главнице страним пословним банкама",null,null,null,null,null,null,null,null,null,null,0,0,null,null,null,null,null,null,null,null,null,0]
[374,612500,"Отплате главнице осталим страним кредиторима",null,null,null,null,null,null,null,null,null,null,0,0,null,null,null,null,null,null,null,null,null,0]
[375,612600,"Отплата главнице на стране финансијске деривате",null,null,null,null,null,null,null,null,null,null,0,0,null,null,null,null,null,null,null,null,null,0]
[376,612900,"Исправка спољног дуга",null,null,null,null,null,null,null,null,null,null,0,0,null,null,null,null,null,null,null,null,null,0]
[377,613000,"ОТПЛАТА ГЛАВНИЦЕ ПО ГАРАНЦИЈАМА (378)",{"$f":"D425","v":0},{"$f":"E425","v":0},0,0,0,0,0,0,0,0,0,0,null,null,null,null,null,null,null,null,null,0]
[378,613100,"Отплата главнице по гаранцијама",null,null,null,null,null,null,null,null,null,null,0,0,null,null,null,null,null,null,null,null,null,0]
[379,614000,"ОТПЛАТА ГЛАВНИЦЕ ЗА ФИНАНСИЈСКИ ЛИЗИНГ (380)",{"$f":"D427","v":0},{"$f":"E427","v":0},0,0,0,0,0,0,0,0,0,0,null,null,null,null,null,null,null,null,null,0]
[380,614100,"Отплата главнице за финансијски лизинг",null,null,null,null,null,null,null,null,null,null,0,0,null,null,null,null,null,null,null,null,null,0]
[381,615000,"ОТПЛАТА ГАРАНЦИЈА ПО КОМЕРЦИЈАЛНИМ ТРАНСАКЦИЈАМА (382)",{"$f":"D429","v":0},{"$f":"E429","v":0},0,0,0,0,0,0,0,0,0,0,null,null,null,null,null,null,null,null,null,0]
[382,615100,"Отплата гаранција по комерцијалним трансакцијама",null,null,null,null,null,null,null,null,null,null,0,0,null,null,null,null,null,null,null,null,null,0]
[383,620000,"НАБАВКА ФИНАНСИЈСКЕ ИМОВИНЕ (384 + 394 + 403)",{"$f":"D431+D441+D450","v":0},{"$f":"E431+E441+E450","v":0},0,0,0,0,0,0,0,0,0,0,null,null,null,null,null,null,null,null,null,0]
[384,621000,"НАБАВКА ДОМАЋЕ ФИНАНСИЈСКЕ ИМОВИНЕ (од 385 до 393)",{"$f":"SUM(D432:D440)","v":0},0,0,0,0,0,0,0,0,0,0,0,null,null,null,null,null,null,null,null,null,0]
[385,621100,"Набавка домаћих хартија од вредности, изузев акција",null,null,null,null,null,null,null,null,null,null,0,0,null,null,null,null,null,null,null,null,null,0]
[386,621200,"Кредити осталим нивоима власти",null,null,null,null,null,null,null,null,null,null,0,0,null,null,null,null,null,null,null,null,null,0]
[387,621300,"Кредити домаћим јавним финансијским институцијама",null,null,null,null,null,null,null,null,null,null,0,0,null,null,null,null,null,null,null,null,null,0]
[388,621400,"Кредити домаћим пословним банкама",null,null,null,null,null,null,null,null,null,null,0,0,null,null,null,null,null,null,null,null,null,0]
[389,621500,"Кредити домаћим нефинансијским јавним институцијама",null,null,null,null,null,null,null,null,null,null,0,0,null,null,null,null,null,null,null,null,null,0]
[390,621600,"Кредити физичким лицима и домаћинствима у земљи",null,null,null,null,null,null,null,null,null,null,0,0,null,null,null,null,null,null,null,null,null,0]
[391,621700,"Кредити невладиним организацијама у земљи",null,null,null,null,null,null,null,null,null,null,0,0,null,null,null,null,null,null,null,null,null,0]
[392,621800,"Кредити домаћим нефинансијским приватним предузећима",null,null,null,null,null,null,null,null,null,null,0,0,null,null,null,null,null,null,null,null,null,0]
[{"$f":"A439+1","v":393},621900,"Набавка домаћих акција и осталог капитала",null,null,null,null,null,null,null,null,null,null,0,0,null,null,null,null,null,null,null,null,null,{"$f":"SUM(D440:O440)","v":0}]
[394,622000,"НАБАВКА СТРАНЕ ФИНАНСИЈСКЕ ИМОВИНЕ (од 395 до 402)",{"$f":"SUM(D442:D449)","v":0},{"$f":"SUM(E442:E449)","v":0},0,0,0,0,0,0,0,0,0,0,null,null,null,null,null,null,null,null,null,0]
[395,622100,"Набавка страних хартија од вредности, изузев акција",null,null,null,null,null,null,null,null,null,null,0,0,null,null,null,null,null,null,null,null,null,0]
[396,622200,"Кредити страним владама",null,null,null,null,null,null,null,null,null,null,0,0,null,null,null,null,null,null,null,null,null,0]
[397,622300,"Кредити међународним организацијама",null,null,null,null,null,null,null,null,null,null,0,0,null,null,null,null,null,null,null,null,null,0]
[398,622400,"Кредити страним пословним банкама",null,null,null,null,null,null,null,null,null,null,0,0,null,null,null,null,null,null,null,null,null,0]
[399,622500,"Кредити страним нефинансијским институцијама",null,null,null,null,null,null,null,null,null,null,0,0,null,null,null,null,null,null,null,null,null,0]
[400,622600,"Кредити страним невладиним организацијама",null,null,null,null,null,null,null,null,null,null,0,0,null,null,null,null,null,null,null,null,null,0]
[401,622700,"Набавка страних акција и осталог капитала",null,null,null,null,null,null,null,null,null,null,0,0,null,null,null,null,null,null,null,null,null,0]
[402,622800,"Куповина стране валуте",null,null,null,null,null,null,null,null,null,null,0,0,null,null,null,null,null,null,null,null,null,0]
[403,623000,"НАБАВКА ФИНАНСИЈСКЕ ИМОВИНЕ КОЈА СЕ ФИНАНСИРА ИЗ СРЕДСТАВА ЗА РЕАЛИЗАЦИЈУ НАЦИОНАЛНОГ ИНВЕСТИЦИОНОГ ПЛАНА (404)",{"$f":"D451","v":0},{"$f":"E451","v":0},0,0,0,0,0,0,0,0,0,0,null,null,null,null,null,null,null,null,null,0]
[404,623100,"Набавка финансијске имовине која се финансира из средстава за реализацију националног инвестиционог плана ",null,null,null,null,null,null,null,null,null,null,0,0,null,null,null,null,null,null,null,null,null,0]
[405,null,"УКУПНИ РАСХОДИ И ИЗДАЦИ (147 + 311 + 357)",{"$f":"D404+D358+D194","v":151754000},12343000,170977000,12368000,202171000,2600000,180321000,2800000,186833000,2900000,569325000,8300000,null,null,null,null,null,null,null,null,null,1]
[null,null,"Разлика (146-405 ) [ Укупни приходи, примања и пренета средства - Укупни расходи и издаци]",{"$f":"D193-D452","v":0},{"$f":"E193-E452","v":0},0,0,0,0,0,0,0,0,0,0,null,null,null,null,null,null,null,null,null,1]
[null,null,null,null,null,null,null,null,null,null,null,null,null,null,null,null,null,null,null,null,null,null,null,null,1]
["Шифра","Извори финансирања програмске активности",null,"Вредност у базној години (2018)",null,"Очекивана вредност у 2019. години",null,"Вредност у 2020. години",null,"Вредност у 2021. години",null,"Вредност у 2022. години",null,"Укупно (2020-2022)",null,null,null,null,null,null,null,null,null,null,1]
[1,2,null,3,null,4,null,5,null,6,null,7,null,"8=(5+6+7)",null,null,null,null,null,null,null,null,null,null,1]
["01","Приходи из буџета",null,{"$f":"D452","v":151754000},null,{"$f":"F452","v":170977000},null,{"$f":"H452","v":202171000},null,{"$f":"J452","v":180321000},null,{"$f":"L452","v":186833000},null,{"$f":"SUM(H457,J457,L457)","v":569325000},null,null,null,null,null,null,null,null,null,null,1461381000]
["02","Трансфери између корисника на истом нивоу",null,null,null,null,null,null,null,null,null,null,null,{"$f":"SUM(H458,J458,L458)","v":0},null,null,null,null,null,null,null,null,null,null,0]
["03","Социјални доприноси",null,763000,null,668000,null,null,null,null,null,null,null,0,null,null,null,null,null,null,null,null,null,null,1431000]
["04","Сопствени приходи буџетских корисника",null,null,null,null,null,null,null,null,null,null,null,0,null,null,null,null,null,null,null,null,null,null,0]
["05","Донације од иностраних земаља",null,null,null,null,null,null,null,null,null,null,null,0,null,null,null,null,null,null,null,null,null,null,0]
["06","Донације од међународних организација",null,null,null,null,null,null,null,null,null,null,null,0,null,null,null,null,null,null,null,null,null,null,0]
["07","Трансфери од других нивоа власти",null,11580000,null,11700000,null,2600000,null,2800000,null,2900000,null,8300000,null,null,null,null,null,null,null,null,null,null,39880000]
["08","Добровољни трансфери од физичких и правних лица",null,null,null,null,null,null,null,null,null,null,null,0,null,null,null,null,null,null,null,null,null,null,0]
["09","Примања од продаје нефинансијске имовине",null,null,null,null,null,null,null,null,null,null,null,0,null,null,null,null,null,null,null,null,null,null,0]
["10","Примања од домаћих задуживања",null,null,null,null,null,null,null,null,null,null,null,0,null,null,null,null,null,null,null,null,null,null,0]
["11","Примања од иностраних задуживања",null,null,null,null,null,null,null,null,null,null,null,0,null,null,null,null,null,null,null,null,null,null,0]
["12","Примања од отплате датих кредита и продаје финансијске имовине",null,null,null,null,null,null,null,null,null,null,null,0,null,null,null,null,null,null,null,null,null,null,0]
["13","Нераспоређени вишак прихода из ранијих година",null,null,null,null,null,null,null,null,null,null,null,0,null,null,null,null,null,null,null,null,null,null,0]
["14","Неутрошена средства од приватизације из ранијих година",null,null,null,null,null,null,null,null,null,null,null,0,null,null,null,null,null,null,null,null,null,null,0]
["15","Неутрошена средства донација из ранијих година",null,null,null,null,null,null,null,null,null,null,null,0,null,null,null,null,null,null,null,null,null,null,0]
["16","Родитељски динар за ваннаставне активности",null,null,null,null,null,null,null,null,null,null,null,0,null,null,null,null,null,null,null,null,null,null,0]
["56","Финансијска помоћ ЕУ",null,null,null,null,null,null,null,null,null,null,null,0,null,null,null,null,null,null,null,null,null,null,0]
["УКУПНО  ЗА:",null,{"$f":"$D$5","v":"2001-0001  Функционисање и остваривање предшколског васпитања и образовања"},{"$f":"SUM(D457:E473)","v":164097000},null,{"$f":"SUM(F457:G473)","v":183345000},null,{"$f":"SUM(H457:I473)","v":204771000},null,{"$f":"SUM(J457:K473)","v":183121000},null,{"$f":"SUM(L457:M473)","v":189733000},null,{"$f":"SUM(H474:M474)","v":577625000},null,null,null,null,null,null,null,null,null,null,1]
[null,null,"Разлика ( укупни расходи и издаци -  укупни извори )",{"$f":"D452+E452-D474","v":0},null,{"$f":"F452+G452-F474","v":0},null,{"$f":"H452+I452-H474","v":0},null,{"$f":"J452+K452-J474","v":0},null,{"$f":"L452+M452-L474","v":0},null,{"$f":"N452+O452-N474","v":0},null,null,null,null,null,null,null,null,null,null,1]
[null,null,null,null,null,null,null,null,null,null,null,null,null,null,null,null,null,null,null,null,null,null,null,null,1]
["*","1-3 циља за сваку програмску активност",null,null,null,null,null,null,null,null,null,null,null,null,null,null,null,null,null,null,null,null,null,null,1]
["**","1-3 индикатора исхода/излазног резултата за сваки циљ",null,null,null,null,null,null,null,null,null,null,null,null,null,null,null,null,null,null,null,null,null,null,1]
[null,null,null,null,null,null,null,null,null,null,null,null,null,null,null,null,null,null,null,null,null,null,null,null,1]
[null,null,null,null,null,null,null,null,null,null,null,null,"Одговорно лице",null,null,null,null,null,null,null,null,null,null,null,1]
[null,null,null,null,null,null,null,null,null,null,null,null,null,null,null,null,null,null,null,null,null,null,null,null,1]
[null,"Датум:",null,null,null,null,null,null,null,null,null,null,null,null,null,null,null,null,null,null,null,null,null,null,1]

{"sheet":"Sheet1","index":2,"n_rows":0,"n_cols":0,"rows_kept":0,"cut":false,"hidden":true,"merged":[]}

{"sheet":"Захтев за додатна сред.","index":3,"n_rows":482,"n_cols":40,"rows_kept":482,"cut":false,"hidden":false,"merged":[[0,0,0,14],[1,0,1,14],[3,0,3,2],[3,3,3,14],[4,0,4,2],[4,3,4,10],[8,0,8,2],[8,3,8,14],[9,0,9,2],[9,3,9,14],[10,0,10,2],[10,3,10,14],[5,0,5,2],[5,3,5,10],[6,0,6,2],[6,3,6,12],[7,0,7,2],[7,3,7,14],[15,0,17,0],[15,1,17,2],[15,3,15,5],[15,11,15,14],[16,3,16,5],[16,11,16,14],[17,3,17,5],[17,11,17,14],[11,0,11,2],[11,3,11,14],[13,0,14,0],[13,1,14,2],[13,3,13,14],[14,3,14,5],[14,11,14,14],[19,0,20,0],[19,1,20,2],[19,3,19,14],[20,3,20,5],[20,11,20,14],[21,0,23,0],[21,1,23,2],[21,3,21,5],[21,11,21,14],[22,3,22,5],[27,0,29,0],[27,1,29,2],[27,3,27,5],[27,11,27,14],[28,3,28,5],[28,11,28,14],[29,3,29,5],[29,11,29,14],[22,11,22,14],[23,3,23,5],[23,11,23,14],[25,0,26,0],[25,1,26,2],[25,3,25,14],[26,3,26,5],[26,11,26,14],[31,0,32,0],[31,1,32,2],[31,3,31,14],[32,3,32,5],[32,11,32,14],[33,0,35,0],[33,1,35,2],[33,3,33,5],[33,11,33,14],[34,3,34,5],[39,0,41,0],[39,1,41,2],[39,3,39,5],[39,11,39,14],[40,3,40,5],[40,11,40,14],[41,3,41,5],[41,11,41,14],[34,11,34,14],[35,3,35,5],[35,11,35,14],[37,0,38,0],[37,1,38,2],[37,3,37,14],[38,3,38,5],[38,11,38,14],[43,0,43,14],[44,0,45,0],[44,1,45,1],[44,2,45,2],[44,3,44,4],[44,5,44,6],[44,7,44,8],[44,9,44,10],[44,11,44,12],[44,13,44,14],[454,13,454,14],[455,1,455,2],[455,3,455,4],[455,5,455,6],[455,7,455,8],[455,9,455,10],[455,11,455,12],[455,13,455,14],[454,1,454,2],[454,3,454,4],[454,5,454,6],[454,7,454,8],[454,9,454,10],[454,11,454,12],[456,13,456,14],[457,1,457,2],[457,3,457,4],[457,5,457,6],[457,7,457,8],[457,9,457,10],[457,11,457,12],[457,13,457,14],[456,1,456,2],[456,3,456,4],[456,5,456,6],[456,7,456,8],[456,9,456,10],[456,11,456,12],[458,13,458,14],[459,1,459,2],[459,3,459,4],[459,5,459,6],[459,7,459,8],[459,9,459,10],[459,11,459,12],[459,13,459,14],[458,1,458,2],[458,3,458,4],[458,5,458,6],[458,7,458,8],[458,9,458,10],[458,11,458,12],[460,13,460,14],[461,1,461,2],[461,3,461,4],[461,5,461,6],[461,7,461,8],[461,9,461,10],[461,11,461,12],[461,13,461,14],[460,1,460,2],[460,3,460,4],[460,5,460,6],[460,7,460,8],[460,9,460,10],[460,11,460,12],[462,13,462,14],[463,1,463,2],[463,3,463,4],[463,5,463,6],[463,7,463,8],[463,9,463,10],[463,11,463,12],[463,13,463,14],[462,1,462,2],[462,3,462,4],[462,5,462,6],[462,7,462,8],[462,9,462,10],[462,11,462,12],[464,13,464,14],[465,1,465,2],[465,3,465,4],[465,5,465,6],[465,7,465,8],[465,9,465,10],[465,11,465,12],[465,13,465,14],[464,1,464,2],[464,3,464,4],[464,5,464,6],[464,7,464,8],[464,9,464,10],[464,11,464,12],[466,13,466,14],[467,1,467,2],[467,3,467,4],[467,5,467,6],[467,7,467,8],[467,9,467,10],[467,11,467,12],[467,13,467,14],[466,1,466,2],[466,3,466,4],[466,5,466,6],[466,7,466,8],[466,9,466,10],[466,11,466,12],[468,13,468,14],[469,1,469,2],[469,3,469,4],[469,5,469,6],[469,7,469,8],[469,9,469,10],[469,11,469,12],[469,13,469,14],[468,1,468,2],[468,3,468,4],[468,5,468,6],[468,7,468,8],[468,9,468,10],[468,11,468,12],[470,13,470,14],[471,1,471,2],[471,3,471,4],[471,5,471,6],[471,7,471,8],[471,9,471,10],[471,11,471,12],[471,13,471,14],[470,1,470,2],[470,3,470,4],[470,5,470,6],[470,7,470,8],[470,9,470,10],[470,11,470,12],[479,12,479,13],[474,3,474,4],[474,5,474,6],[474,7,474,8],[474,9,474,10],[474,11,474,12],[474,13,474,14],[472,13,472,14],[473,0,473,1],[473,3,473,4],[473,5,473,6],[473,7,473,8],[473,9,473,10],[473,11,473,12],[473,13,473,14],[472,1,472,2],[472,3,472,4],[472,5,472,6],[472,7,472,8],[472,9,472,10],[472,11,472,12]]}
["Обрасци за припрему програмског буџета",null,null,null,null,null,null,null,null,null,null,null,null,null,null,null,null,null,null,null,null,null,null,null,0,null,null,null,"остали корисници јавних средстава",null,null,null,null,null,null,"2. ПРОГРАМСКА АКТИВНОСТ",null,null,{"$f":"IF(A2=AJ1,\"\",\" - захтев за додатна средства\")","v":" - захтев за додатна средства"},"Директни буџетски корисник локалне власти"]
["2. ПРОГРАМСКА АКТИВНОСТ - ЗАХТЕВ ЗА ДОДАТНА СРЕДСТВА",null,null,null,null,null,null,null,null,null,null,null,null,null,null,null,null,null,null,null,null,null,null,null,null,null,null,null,null,null,null,null,null,null,null,"2. ПРОГРАМСКА АКТИВНОСТ - ЗАХТЕВ ЗА ДОДАТНА СРЕДСТВА",null,null,null,"Индиректни буџетски корисник локалне власти"]
[null,null,null,null,null,null,null,null,null,null,null,null,null,null,null,null,null,null,null,null,null,{"$f":"VLOOKUP($D$4,Uputstvo!$C$38:$D$54,2,FALSE)","v":"п8"},null,null,null,"Вредност у базној години (2016)",null,"Очекивана вредност у 2017. години",null,"Вредност у 2018. години",null,"Вредност у 2019. години",null,"Вредност у 2020. години",null,"Укупно (2018-2020)",null,null,null,"Корисник буџетских средстава на другом нивоу власти"]
["Програм коме припада:",null,null,{"$f":"IF(Program!$D$4=\"\",\"\",Program!$D$4)","v":"Програм 8.  Предшколско васпитање и образовање"},null,null,null,null,null,null,null,null,null,null,null,null,null,null,null,null,null,{"$f":"VLOOKUP($D$5,Uputstvo!$B$137:$C$208,2,FALSE)","v":"ПА_29"},null,null,null,"Буџетска средства","Средства из осталих извора","Буџетска средства","Средства из осталих извора","Буџетска средства","Средства из осталих извора","Буџетска средства","Средства из осталих извора","Буџетска средства","Средства из осталих извора","Буџетска средства","Средства из осталих извора"]
["Шифра и назив:",null,null,"2001-0001  Функционисање и остваривање предшколског васпитања и образовања",null,null,null,null,null,null,null,null,null,null,null,null,null,null,null,null,null,{"$f":"VLOOKUP($B$16,Uputstvo!$B$221:$C$317,2,FALSE)","v":"ПАЦ_46"},null,null,{"$f":"$C$474&AM1&\" (\"&$D$7&\")\"","v":"2001-0001  Функционисање и остваривање предшколског васпитања и образовања - захтев за додатна средства (ПРЕДШКОЛСКА УСТАНОВА \"БАМБИ\")"},{"$f":"D452","v":0},{"$f":"E452","v":0},0,0,0,0,0,0,0,0,0,0]
["Функција:",null,null,"911 - Предшколско образовање",null,null,null,null,null,null,null,null,null,null,null,null,null,null,null,null,null,{"$f":"VLOOKUP($B$22,Uputstvo!$B$221:$C$317,2,FALSE)","v":"ПАЦ_47"},null,null,null,null,null,"Вредност у базној години (2016)",null,"Очекивана вредност у 2017. години",null,"Вредност у 2018. години",null,"Вредност у 2019. години",null,"Вредност у 2020. години",null,"Укупно (2018-2020)"]
["Назив организационе јединице/Буџетски корисник:",null,null,"ПРЕДШКОЛСКА УСТАНОВА \"БАМБИ\"",null,null,null,null,null,null,null,null,null,null,null,null,null,null,null,null,null,{"$f":"VLOOKUP($B$28,Uputstvo!$B$221:$C$317,2,FALSE)","v":{"$error":"#N/A"}},null,null,null,null,null,"Буџетска средства","Средства из осталих извора","Буџетска средства","Средства из осталих извора","Буџетска средства","Средства из осталих извора","Буџетска средства","Средства из осталих извора","Буџетска средства","Средства из осталих извора","Буџетска средства","Средства из осталих извора"]
["Сврхa:",null,null,"Омогућавање обухвата предшколске деце у вртићима",null,null,null,null,null,null,null,null,null,null,null,null,null,null,null,null,null,{"$f":"VLOOKUP($B$34,Uputstvo!$B$221:$C$317,2,FALSE)","v":{"$error":"#N/A"}},null,null,null,"Kontrole","p/r",{"$f":"D193-D452","v":0},{"$f":"E193-E452","v":0},0,0,0,0,0,0,0,0,{"$f":"N193-N452","v":0},{"$f":"O193-O452","v":0}]
["Основ:",null,null,"Стратегија одрживог развоја Општине Кула 2009-2019, Закон о буџетском систему ,Закон о основама система образовања и васпитања,Статут ПУ \"Бамби\", План и програм рада ПУ „Бамби“ за 2018.2019. годину, Закон о локалној самоуправи",null,null,null,null,null,null,null,null,null,null,null,null,null,null,null,null,null,{"$f":"VLOOKUP($B$40,Uputstvo!$B$221:$C$317,2,FALSE)","v":{"$error":"#N/A"}},null,null,null,null,"p+r/i",{"$f":"D452+E452-D474","v":0},{"$f":"F452+G452-F474","v":0},{"$f":"H452+I452-H474","v":0},{"$f":"J452+K452-J474","v":0},{"$f":"L452+M452-L474","v":0},{"$f":"N452+O452-N474","v":0}]
["Опис:",null,null,"Предшколска установа обавља делатност којом се обезбеђује васпитање и образовање, исхрана, нега,превентивно-здравствена заштита и социјална заштита деце предшколског узраста у складу са Законом.",null,null,null,null,null,null,null,null,null,null,null,null,null,null,null,null,null,null,null,null,null,null,"приходи из буџета",{"$f":"D127-D457","v":0},{"$f":"F127-F457","v":0},{"$f":"H127-H457","v":0},{"$f":"J127-J457","v":0},{"$f":"L127-L457","v":0},{"$f":"N127-N457","v":0}]
["Мере и поглавље преговора о приступању ЕУ:",null,null,null,null,null,null,null,null,null,null,null,null,null,null,null,null,null,null,null,null,null,null,null,null,null,"transferi",{"$f":"D123-$D$458","v":0},{"$f":"F123-$F$458","v":0},{"$f":"H123-$H$458","v":0},{"$f":"J123-$J$458","v":0},{"$f":"L123-$L$458","v":0},{"$f":"N123-$N$458","v":0}]
["Одговорно лице за спровођење прог. aктивности:",null,null,"директор Снежана Булатовић",null,null,null,null,null,null,null,null,null,null,null,null,null,null,null,null,null,null,null,null,null,733000,{"$f":"SUM(D88:M88)","v":0}]
[null,null,null,null,null,null,null,null,null,null,null,null,null,null,null,null,null,null,null,null,null,null,null,null,null,781111,{"$f":"D123+F123+H123+J123+L123+N123","v":0}]
[null,"Циљ*",null,"Индикатори**",null,null,null,null,null,null,null,null,null,null,null,null,null,null,null,null,null,null,null,null,null,791111,{"$f":"D127+F127+H127+J127+L127+N127","v":0}]
[null,null,null,"Назив индикатора",null,null,"Вредност у базној години (2018)","Очекивана вредност у 2019. години","Циљана вредност у 2020. години","Циљана вредност у 2021. години","Циљана вредност у 2022. години","Извор верификације"]
[1,"Обезбеђени адекватни  услови за Васпитно-образовни рад са децом уз повећан обухват",null,"Просечан број деце у групи (јасле, предшколски, припремни предшколски програм/ппп)"]
[null,null,null,"Просечан број деце по васпитачу/васпитачици (јасле, предшколски, припремни предшколски програм)"]
[null,null,null,"Процент деце ослобођене од пуне цене услуге у односу на укупан број деце"]
[]
[null,"Циљ",null,"Индикатори"]
[null,null,null,"Назив индикатора",null,null,"Вредност у базној години (2018)","Очекивана вредност у 2019. години","Циљана вредност у 2020. години","Циљана вредност у 2021. години","Циљана вредност у 2022. години","Извор верификације"]
[2,"Унапређење квалитета предшколског образовања и васпитања ",null,"Број  посебних и специјалних програма у објекту предшколске установе"]
[null,null,null,"Проценат стручних сарадника који су добили најмање 24 бода за стручно усавршавање кроз учешће на семинарима на годишњем нивоу у односу на укупан број стручних сарадника "]
[null,null,null,"Број објеката у којима су извршена инвестициона улагања на годишњем нивоу, у односу на укупан број објеката ПУ"]
[]
[null,"Циљ",null,"Индикатори"]
[null,null,null,"Назив индикатора",null,null,"Вредност у базној години (2018)","Очекивана вредност у 2019. години","Циљана вредност у 2020. години","Циљана вредност у 2021. години","Циљана вредност у 2022. години","Извор верификације"]
[3]
[]
[]
[]
[null,"Циљ",null,"Индикатори"]
[null,null,null,"Назив индикатора",null,null,"Вредност у базној години (2018)","Очекивана вредност у 2019. години","Циљана вредност у 2020. години","Циљана вредност у 2021. години","Циљана вредност у 2022. години","Извор верификације"]
[4]
[]
[]
[]
[null,"Циљ",null,"Индикатори"]
[null,null,null,"Назив индикатора",null,null,"Вредност у базној години (2018)","Очекивана вредност у 2019. години","Циљана вредност у 2020. години","Циљана вредност у 2021. години","Циљана вредност у 2022. години","Извор верификације"]
[5]
[]
[]
[]
["ПЛАНИРАНА СРЕДСТВА ЗА ПРОГРАМСКУ АКТИВНОСТ"]
["Рбр.","Конто","ОПИС","Вредност у базној години (2018)",null,"Очекивана вредност у 2019. години",null,"Вредност у 2020. години",null,"Вредност у 2021. години",null,"Вредност у 2022. години",null,"Укупно (2020-2022)",null,null,null,null,null,null,null,null,null,null,1]
[null,null,null,"Приходи из буџета","Приходи из осталих извора","Приходи из буџета","Приходи из осталих извора","Приходи из буџета","Приходи из осталих извора","Приходи из буџета","Приходи из осталих извора","Приходи из буџета","Приходи из осталих извора","Приходи из буџета","Приходи из осталих извора",null,null,null,null,null,null,null,null,null,1]
[1,2,3,4,5,6,7,8,9,10,11,12,13,"14=(8+10+12)","15=(9+11+13)",null,null,null,null,null,null,null,null,null,1]
[1,300000,"КАПИТАЛ, УТВРЂИВАЊЕ РЕЗУЛТАТА ПОСЛОВАЊА И ВАНБИЛАНСНА ЕВИДЕНЦИЈА\n(2 + 5)",{"$f":"SUM(D49,D52)","v":0},{"$f":"SUM(E49,E52)","v":0},0,0,0,0,0,0,0,0,0,0,null,null,null,null,null,null,null,null,null,{"$f":"SUM(D48:O48)","v":0}]
[2,310000,"КАПИТАЛ (3)",{"$f":"SUM(D50)","v":0},{"$f":"SUM(E50)","v":0},{"$f":"SUM(F50)","v":0},0,0,0,0,0,0,0,0,0,null,null,null,null,null,null,null,null,null,0]
[3,311000,"КАПИТАЛ (4)",{"$f":"SUM(D51)","v":0},{"$f":"SUM(E51)","v":0},0,0,0,0,0,0,0,0,{"$f":"SUM(N51)","v":0},0,null,null,null,null,null,null,null,null,null,0]
[4,311700,"Пренета неутрошена средства из ранијих година",null,null,null,null,null,null,null,null,null,null,{"$f":"SUM(H51,J51,L51)","v":0},{"$f":"SUM(I51,K51,M51)","v":0},null,null,null,null,null,null,null,null,null,{"$f":"SUM(D51:O51)","v":0}]
[5,320000,"УТВРЂИВАЊЕ РЕЗУЛТАТА ПОСЛОВАЊА (6)",{"$f":"SUM(D53)","v":0},{"$f":"SUM(E53)","v":0},0,0,0,0,0,0,0,0,0,0,null,null,null,null,null,null,null,null,null,0]
[6,321000,"УТВРЂИВАЊЕ РЕЗУЛТАТА ПОСЛОВАЊА (7)",{"$f":"SUM(D54)","v":0},0,0,0,0,0,0,0,0,0,0,0,null,null,null,null,null,null,null,null,null,0]
[7,321300,"Нераспоређени вишак прихода и примања или дефицит из ранијих година",null,null,null,null,null,null,null,null,null,null,{"$f":"SUM(H54,J54,L54)","v":0},{"$f":"SUM(I54,K54,M54)","v":0},null,null,null,null,null,null,null,null,null,0]
[{"$f":"A54+1","v":8},700000,"ТЕКУЋИ ПРИХОДИ \n(9 + 32 + 44 + 69 + 74 +78)",{"$f":"D56+D79+D91+D116+D121+D125","v":0},{"$f":"E56+E79+E91+E116+E121+E125","v":0},0,0,0,0,0,0,0,0,{"$f":"N56+N79+N91+N116+N121+N125","v":0},0,null,null,null,null,null,null,null,null,null,{"$f":"SUM(D55:O55)","v":0}]
[{"$f":"A55+1","v":9},710000,"ПОРЕЗИ \n(10 + 14 + 16 + 23 + 29)",{"$f":"D57+D61+D63+D70+D76","v":0},{"$f":"E57+E61+E63+E70+E76","v":0},0,0,0,0,0,0,0,0,0,0,null,null,null,null,null,null,null,null,null,{"$f":"SUM(D56:O56)","v":0}]
[10,711000,"ПОРЕЗ НА ДОХОДАК, ДОБИТ И КАПИТАЛНЕ ДОБИТКЕ (од 11 до 13)",{"$f":"SUM(D58:D60)","v":0},{"$f":"SUM(E58:E60)","v":0},0,0,0,0,0,0,0,0,{"$f":"SUM(H57,J57,L57)","v":0},0,null,null,null,null,null,null,null,null,null,0]
[11,711100,"Порези на доходак и капиталнe добиткe које плаћају физичка лица",null,null,null,null,null,null,null,null,null,null,0,0,null,null,null,null,null,null,null,null,null,0]
[12,711200,"Порези на добит и капиталне добитке које плаћају предузећа и друга правна лица",null,null,null,null,null,null,null,null,null,null,0,0,null,null,null,null,null,null,null,null,null,0]
[13,711300,"Порези на доходак, добит и капиталне добитке који се не могу разврстати између физичких и правних лица",null,null,null,null,null,null,null,null,null,null,0,0,null,null,null,null,null,null,null,null,null,0]
[14,712000,"ПОРЕЗ НА ФОНД ЗАРАДА (15)",{"$f":"SUM(D62)","v":0},0,0,0,0,0,0,0,0,0,0,0,null,null,null,null,null,null,null,null,null,0]
[15,712100,"Порез на фонд зарада",null,null,null,null,null,null,null,null,null,null,0,0,null,null,null,null,null,null,null,null,null,0]
[16,713000,"ПОРЕЗ НА ИМОВИНУ (од 17 до 22)",{"$f":"SUM(D64:D69)","v":0},0,0,0,0,0,0,0,0,0,0,0,null,null,null,null,null,null,null,null,null,0]
[17,713100,"Периодични порези на непокретности",null,null,null,null,null,null,null,null,null,null,0,0,null,null,null,null,null,null,null,null,null,0]
[18,713200,"Периодични порези на нето имовину",null,null,null,null,null,null,null,null,null,null,0,0,null,null,null,null,null,null,null,null,null,0]
[19,713300,"Порези на заоставштину, наслеђе и поклон",null,null,null,null,null,null,null,null,null,null,0,0,null,null,null,null,null,null,null,null,null,0]
[20,713400,"Порези на финансијске и капиталне трансакције",null,null,null,null,null,null,null,null,null,null,0,0,null,null,null,null,null,null,null,null,null,0]
[21,713500,"Други једнократни порези на имовину",null,null,null,null,null,null,null,null,null,null,0,0,null,null,null,null,null,null,null,null,null,0]
[22,713600,"Други периодични порези на имовину",null,null,null,null,null,null,null,null,null,null,0,0,null,null,null,null,null,null,null,null,null,0]
[23,714000,"ПОРЕЗ НА ДОБРА И УСЛУГЕ (од 24 до 28)",{"$f":"SUM(D71:D75)","v":0},0,0,0,0,0,0,0,0,0,0,0,null,null,null,null,null,null,null,null,null,0]
[24,714100,"Општи порези на добра и услуге",null,null,null,null,null,null,null,null,null,null,0,0,null,null,null,null,null,null,null,null,null,0]
[25,714300,"Добит фискалних монопола",null,null,null,null,null,null,null,null,null,null,0,0,null,null,null,null,null,null,null,null,null,0]
[26,714400,"Порези на појединачне услуге",null,null,null,null,null,null,null,null,null,null,0,0,null,null,null,null,null,null,null,null,null,0]
[27,714500,"Порези, таксе и накнаде на употребу добара, на дозволу да се добра употребљавају или делатности обављају",null,null,null,null,null,null,null,null,null,null,0,0,null,null,null,null,null,null,null,null,null,0]
[28,714600,"Други порези на добра и услуге",null,null,null,null,null,null,null,null,null,null,0,0,null,null,null,null,null,null,null,null,null,0]
[29,716000,"ДРУГИ ПОРЕЗИ (30 + 31)",{"$f":"SUM(D77:D78)","v":0},0,0,0,0,0,0,0,0,0,0,0,null,null,null,null,null,null,null,null,null,0]
[30,716100,"Други порези које искључиво плаћају предузећа, односно предузетници",null,null,null,null,null,null,null,null,null,null,0,0,null,null,null,null,null,null,null,null,null,0]
[31,716200,"Други порези које плаћају остала лица или који се не могу идентификовати",null,null,null,null,null,null,null,null,null,null,0,0,null,null,null,null,null,null,null,null,null,0]
[32,730000,"ДОНАЦИЈЕ, ПОМОЋИ И ТРАНСФЕРИ \n(33 + 36 + 41)",{"$f":"D80+D83+D88","v":0},{"$f":"E80+E83+E88","v":0},0,0,0,0,0,0,0,0,0,0,null,null,null,null,null,null,null,null,null,0]
[33,731000,"ДОНАЦИЈЕ ОД ИНОСТРАНИХ ДРЖАВА (34 + 35)",{"$f":"SUM(D81:D82)","v":0},0,0,0,0,0,0,0,0,0,0,0,null,null,null,null,null,null,null,null,null,0]
[34,731100,"Текуће донације од иностраних држава",null,null,null,null,null,null,null,null,null,null,0,0,null,null,null,null,null,null,null,null,null,0]
[35,731200,"Капиталне донације од иностраних држава",null,null,null,null,null,null,null,null,null,null,0,0,null,null,null,null,null,null,null,null,null,0]
[36,732000,"ДОНАЦИЈЕ И ПОМОЋИ ОД МЕЂУНАРОДНИХ ОРГАНИЗАЦИЈА (од 37 до 40)",{"$f":"SUM(D84:D87)","v":0},{"$f":"SUM(E84:E87)","v":0},0,0,0,0,0,0,0,0,0,0,null,null,null,null,null,null,null,null,null,0]
[37,732100,"Текуће донације од међународних организација",null,null,null,null,null,null,null,null,null,null,0,0,null,null,null,null,null,null,null,null,null,0]
[38,732200,"Капиталне донације од међународних организација",null,null,null,null,null,null,null,null,null,null,0,0,null,null,null,null,null,null,null,null,null,0]
[39,732300,"Текуће помоћи од ЕУ",null,null,null,null,null,null,null,null,null,null,0,0,null,null,null,null,null,null,null,null,null,0]
[40,732400,"Капиталне помоћи од ЕУ",null,null,null,null,null,null,null,null,null,null,0,0,null,null,null,null,null,null,null,null,null,0]
[41,733000,"ТРАНСФЕРИ ОД ДРУГИХ НИВОА ВЛАСТИ (42 + 43)",{"$f":"SUM(D89:D90)","v":0},0,0,0,0,0,0,0,0,0,{"$f":"SUM(H88,J88,L88)","v":0},0,null,null,null,null,null,null,null,null,null,0]
[42,733100,"Текући трансфери од других нивоа власти",null,null,null,null,null,null,null,null,null,null,{"$f":"SUM(H89,J89,L89)","v":0},0,null,null,null,null,null,null,null,null,null,0]
[43,733200,"Капитални трансфери од других нивоа власти",null,null,null,null,null,null,null,null,null,null,0,0,null,null,null,null,null,null,null,null,null,0]
[44,740000,"ДРУГИ ПРИХОДИ (45 + 52 + 57 + 64 + 67)",{"$f":"D92+D99+D104+D111+D114","v":0},{"$f":"E92+E99+E104+E111+E114","v":0},0,0,0,0,0,0,0,0,0,0,null,null,null,null,null,null,null,null,null,0]
[45,741000,"ПРИХОДИ ОД ИМОВИНЕ (од 46 до 51)",{"$f":"SUM(D93:D98)","v":0},{"$f":"SUM(E93:E98)","v":0},0,0,0,0,0,0,0,0,0,0,null,null,null,null,null,null,null,null,null,0]
[46,741100,"Камате",null,null,null,null,null,null,null,null,null,null,0,0,null,null,null,null,null,null,null,null,null,0]
[47,741200,"Дивиденде",null,null,null,null,null,null,null,null,null,null,0,0,null,null,null,null,null,null,null,null,null,0]
[48,741300,"Повлачење прихода од квази корпорација",null,null,null,null,null,null,null,null,null,null,0,0,null,null,null,null,null,null,null,null,null,0]
[49,741400,"Приход од имовине који припада имаоцима полиса осигурања",null,null,null,null,null,null,null,null,null,null,0,0,null,null,null,null,null,null,null,null,null,0]
[50,741500,"Закуп непроизведене имовине",null,null,null,null,null,null,null,null,null,null,0,0,null,null,null,null,null,null,null,null,null,0]
[51,741600,"Финансијске промене на финансијским лизинзима",null,null,null,null,null,null,null,null,null,null,0,0,null,null,null,null,null,null,null,null,null,0]
[52,742000,"ПРИХОДИ ОД ПРОДАЈЕ ДОБАРА И УСЛУГА (од 53 до 56)",{"$f":"SUM(D100:D103)","v":0},0,0,0,0,0,0,0,0,0,0,0,null,null,null,null,null,null,null,null,null,0]
[53,742100,"Приходи од продаје добара и услуга или закупа од стране тржишних организација",null,null,null,null,null,null,null,null,null,null,0,0,null,null,null,null,null,null,null,null,null,0]
[54,742200,"Таксе и накнаде",null,null,null,null,null,null,null,null,null,null,0,0,null,null,null,null,null,null,null,null,null,0]
[55,742300,"Споредне продаје добара и услуга које врше државне нетржишне јединице",null,null,null,null,null,null,null,null,null,null,0,0,null,null,null,null,null,null,null,null,null,0]
[56,742400,"Импутиране продаје добара и услуга",null,null,null,null,null,null,null,null,null,null,0,0,null,null,null,null,null,null,null,null,null,0]
[57,743000,"НОВЧАНЕ КАЗНЕ И ОДУЗЕТА ИМОВИНСКА КОРИСТ (од 58 до 63)",{"$f":"SUM(D105:D110)","v":0},0,0,0,0,0,0,0,0,0,0,0,null,null,null,null,null,null,null,null,null,0]
[58,743100,"Приходи од новчаних казни за кривична дела",null,null,null,null,null,null,null,null,null,null,0,0,null,null,null,null,null,null,null,null,null,0]
[59,743200,"Приходи од новчаних казни за привредне преступе",null,null,null,null,null,null,null,null,null,null,0,0,null,null,null,null,null,null,null,null,null,0]
[60,743300,"Приходи од новчаних казни за прекршаје",null,null,null,null,null,null,null,null,null,null,0,0,null,null,null,null,null,null,null,null,null,0]
[61,743400,"Приходи од пенала",null,null,null,null,null,null,null,null,null,null,0,0,null,null,null,null,null,null,null,null,null,0]
[62,743500,"Приходи од одузете имовинске користи",null,null,null,null,null,null,null,null,null,null,0,0,null,null,null,null,null,null,null,null,null,0]
[63,743900,"Остале новчане казне, пенали и приходи од одузете имовинске користи",null,null,null,null,null,null,null,null,null,null,0,0,null,null,null,null,null,null,null,null,null,0]
[64,744000,"ДОБРОВОЉНИ ТРАНСФЕРИ ОД ФИЗИЧКИХ И ПРАВНИХ ЛИЦА (65 + 66)",{"$f":"SUM(D112:D113)","v":0},0,0,0,0,0,0,0,0,0,0,0,null,null,null,null,null,null,null,null,null,0]
[65,744100,"Текући добровољни трансфери од физичких и правних лица",null,null,null,null,null,null,null,null,null,null,0,0,null,null,null,null,null,null,null,null,null,0]
[66,744200,"Капитални добровољни трансфери од физичких и правних лица",null,null,null,null,null,null,null,null,null,null,0,0,null,null,null,null,null,null,null,null,null,0]
[67,745000,"МЕШОВИТИ И НЕОДРЕЂЕНИ ПРИХОДИ (68)",{"$f":"D115","v":0},{"$f":"E115","v":0},0,0,0,0,0,0,0,0,0,0,null,null,null,null,null,null,null,null,null,0]
[68,745100,"Мешовити и неодређени приходи",null,null,null,null,null,null,null,null,null,null,0,0,null,null,null,null,null,null,null,null,null,0]
[69,770000,"МЕМОРАНДУМСКЕ СТАВКЕ ЗА РЕФУНДАЦИЈУ РАСХОДА (70 + 72)",{"$f":"D117+D119","v":0},0,0,0,0,0,0,0,0,0,0,0,null,null,null,null,null,null,null,null,null,0]
[70,771000,"МЕМОРАНДУМСКЕ СТАВКЕ ЗА РЕФУНДАЦИЈУ РАСХОДА (71)",{"$f":"D118","v":0},{"$f":"E118","v":0},0,0,0,0,0,0,0,0,0,0,null,null,null,null,null,null,null,null,null,0]
[71,771100,"Меморандумске ставке за рефундацију расхода",null,null,null,null,null,null,null,null,null,null,0,0,null,null,null,null,null,null,null,null,null,0]
[72,772000,"МЕМОРАНДУМСКЕ СТАВКЕ ЗА РЕФУНДАЦИЈУ РАСХОДА ИЗ ПРЕТХОДНЕ ГОДИНЕ (73)",{"$f":"D120","v":0},{"$f":"E120","v":0},0,0,0,0,0,0,0,0,0,0,null,null,null,null,null,null,null,null,null,0]
[{"$f":"A119+1","v":73},772100,"Меморандумске ставке за рефундацију расхода из претходне године",null,null,null,null,null,null,null,null,null,null,0,0,null,null,null,null,null,null,null,null,null,{"$f":"SUM(D120:O120)","v":0}]
[74,780000,"ТРАНСФЕРИ ИЗМЕЂУ БУЏЕТСКИХ КОРИСНИКА НА ИСТОМ НИВОУ (75)",{"$f":"D122","v":0},0,0,0,0,0,0,0,0,0,0,0,null,null,null,null,null,null,null,null,null,0]
[75,781000,"ТРАНСФЕРИ ИЗМЕЂУ БУЏЕТСКИХ КОРИСНИКА НА ИСТОМ НИВОУ (76 + 77)",{"$f":"SUM(D123:D124)","v":0},0,0,0,0,0,0,0,0,0,0,0,null,null,null,null,null,null,null,null,null,0]
[76,781100,"Трансфери између буџетских корисника на истом нивоу",null,null,null,null,null,null,null,null,null,null,{"$f":"SUM(H123,J123,L123)","v":0},{"$f":"SUM(I123,K123,M123)","v":0},null,null,null,null,null,null,null,null,null,0]
[77,781300,"Трансфери између организација обавезног социјалног осигурања",null,null,null,null,null,null,null,null,null,null,0,0,null,null,null,null,null,null,null,null,null,0]
[78,790000,"ПРИХОДИ ИЗ БУЏЕТА (79)",{"$f":"D126","v":0},0,0,0,0,0,0,0,0,0,0,0,null,null,null,null,null,null,null,null,null,0]
[79,791000,"ПРИХОДИ ИЗ БУЏЕТА (80)",{"$f":"D127","v":0},0,0,0,0,0,0,0,0,0,0,0,null,null,null,null,null,null,null,null,null,0]
[80,791100,"Приходи из буџета",null,null,null,null,null,null,null,null,null,null,0,0,null,null,null,null,null,null,null,null,null,0]
[81,800000,"ПРИМАЊА ОД ПРОДАЈЕ НЕФИНАНСИЈСКЕ ИМОВИНЕ (82 + 89 + 96 + 99)",{"$f":"D129+D136+D143+D146","v":0},{"$f":"E129+E136+E143+E146","v":0},0,0,0,0,0,0,0,0,0,0,null,null,null,null,null,null,null,null,null,0]
[82,810000,"ПРИМАЊА ОД ПРОДАЈЕ ОСНОВНИХ СРЕДСТАВА (83 + 85 + 87)",{"$f":"D130+D132+D134","v":0},{"$f":"E130+E132+E134","v":0},0,0,0,0,0,0,0,0,0,0,null,null,null,null,null,null,null,null,null,0]
[83,811000,"ПРИМАЊА ОД ПРОДАЈЕ НЕПОКРЕТНОСТИ (84)",{"$f":"D131","v":0},{"$f":"E131","v":0},0,0,0,0,0,0,0,0,0,0,null,null,null,null,null,null,null,null,null,0]
[84,811100,"Примања од продаје непокретности",null,null,null,null,null,null,null,null,null,null,0,0,null,null,null,null,null,null,null,null,null,0]
[85,812000,"ПРИМАЊА ОД ПРОДАЈЕ ПОКРЕТНЕ ИМОВИНЕ (86)",{"$f":"D133","v":0},0,0,0,0,0,0,0,0,0,0,0,null,null,null,null,null,null,null,null,null,0]
[86,812100,"Примања од продаје покретне имовине",null,null,null,null,null,null,null,null,null,null,0,0,null,null,null,null,null,null,null,null,null,0]
[87,813000,"ПРИМАЊА ОД ПРОДАЈЕ ОСТАЛИХ ОСНОВНИХ СРЕДСТАВА (88)",{"$f":"D135","v":0},0,0,0,0,0,0,0,0,0,0,0,null,null,null,null,null,null,null,null,null,0]
[88,813100,"Примања од продаје осталих основних средстава",null,null,null,null,null,null,null,null,null,null,0,0,null,null,null,null,null,null,null,null,null,0]
[89,820000,"ПРИМАЊА ОД ПРОДАЈЕ ЗАЛИХА (90 + 92 + 94)",{"$f":"D137+D139+D141","v":0},0,0,0,0,0,0,0,0,0,0,0,null,null,null,null,null,null,null,null,null,0]
[90,821000,"ПРИМАЊА ОД ПРОДАЈЕ РОБНИХ РЕЗЕРВИ (91)",{"$f":"D138","v":0},0,0,0,0,0,0,0,0,0,0,0,null,null,null,null,null,null,null,null,null,0]
[91,821100,"Примања од продаје робних резерви",null,null,null,null,null,null,null,null,null,null,0,0,null,null,null,null,null,null,null,null,null,0]
[92,822000,"ПРИМАЊА ОД ПРОДАЈЕ ЗАЛИХА  ПРОИЗВОДЊЕ (93)",{"$f":"D140","v":0},0,0,0,0,0,0,0,0,0,0,0,null,null,null,null,null,null,null,null,null,0]
[93,822100,"Примања од продаје залиха производње",null,null,null,null,null,null,null,null,null,null,0,0,null,null,null,null,null,null,null,null,null,0]
[94,823000,"ПРИМАЊА ОД ПРОДАЈЕ РОБЕ ЗА ДАЉУ ПРОДАЈУ (95)",{"$f":"D142","v":0},0,0,0,0,0,0,0,0,0,0,0,null,null,null,null,null,null,null,null,null,0]
[95,823100,"Примања од продаје робе за даљу продају",null,null,null,null,null,null,null,null,null,null,0,0,null,null,null,null,null,null,null,null,null,0]
[96,830000,"ПРИМАЊА ОД ПРОДАЈЕ ДРАГОЦЕНОСТИ (97)",{"$f":"D144","v":0},0,0,0,0,0,0,0,0,0,0,0,null,null,null,null,null,null,null,null,null,0]
[97,831000,"ПРИМАЊА ОД ПРОДАЈЕ ДРАГОЦЕНОСТИ (98)",0,0,0,0,0,0,0,0,0,0,0,0,null,null,null,null,null,null,null,null,null,0]
[98,831100,"Примања од продаје драгоцености",null,null,null,null,null,null,null,null,null,null,0,0,null,null,null,null,null,null,null,null,null,0]
[99,840000,"ПРИМАЊА ОД ПРОДАЈЕ ПРИРОДНЕ ИМОВИНЕ (100 + 102 + 104)",{"$f":"D147+D149+D151","v":0},0,0,0,0,0,0,0,0,0,0,0,null,null,null,null,null,null,null,null,null,0]
[100,841000,"ПРИМАЊА ОД ПРОДАЈЕ ЗЕМЉИШТА (101)",{"$f":"D148","v":0},0,0,0,0,0,0,0,0,0,0,0,null,null,null,null,null,null,null,null,null,0]
[101,841100,"Примања од продаје земљишта",null,null,null,null,null,null,null,null,null,null,0,0,null,null,null,null,null,null,null,null,null,0]
[102,842000,"ПРИМАЊА ОД ПРОДАЈЕ ПОДЗЕМНИХ БЛАГА (103)",{"$f":"D150","v":0},0,0,0,0,0,0,0,0,0,0,0,null,null,null,null,null,null,null,null,null,0]
[103,842100,"Примања од продаје подземних блага",null,null,null,null,null,null,null,null,null,null,0,0,null,null,null,null,null,null,null,null,null,0]
[104,843000,"ПРИМАЊА ОД ПРОДАЈЕ ШУМА И ВОДА (105)",{"$f":"D152","v":0},0,0,0,0,0,0,0,0,0,0,0,null,null,null,null,null,null,null,null,null,0]
[105,843100,"Примања од продаје шума и вода",null,null,null,null,null,null,null,null,null,null,{"$f":"SUM(H152,J152,L152)","v":0},0,null,null,null,null,null,null,null,null,null,0]
[106,900000,"ПРИМАЊА ОД ЗАДУЖИВАЊА И ПРОДАЈЕ ФИНАНСИЈСКЕ ИМОВИНЕ (107 + 126)",{"$f":"D154+D173","v":0},{"$f":"E154+E173","v":0},0,0,0,0,0,0,0,0,0,0,null,null,null,null,null,null,null,null,null,0]
[107,910000,"ПРИМАЊА ОД ЗАДУЖИВАЊА (108+118)",{"$f":"D155+D165","v":0},{"$f":"E155+E165","v":0},0,0,0,0,0,0,0,0,0,0,null,null,null,null,null,null,null,null,null,0]
[108,911000,"ПРИМАЊА ОД ДОМАЋИХ ЗАДУЖИВАЊА (од 109 до 117)",{"$f":"SUM(D156:D164)","v":0},0,0,0,0,0,0,0,0,0,0,0,null,null,null,null,null,null,null,null,null,0]
[109,911100,"Примања од емитовања домаћих хартија од вредности, изузев акција",null,null,null,null,null,null,null,null,null,null,0,0,null,null,null,null,null,null,null,null,null,0]
[110,911200,"Примања од задуживања од осталих нивоа власти",null,null,null,null,null,null,null,null,null,null,0,0,null,null,null,null,null,null,null,null,null,0]
[111,911300,"Примања од задуживања од јавних финансијских институција у земљи",null,null,null,null,null,null,null,null,null,null,0,0,null,null,null,null,null,null,null,null,null,0]
[112,911400,"Примања од задуживања од пословних банака у земљи",null,null,null,null,null,null,null,null,null,null,0,0,null,null,null,null,null,null,null,null,null,0]
[113,911500,"Примања од задуживања код осталих поверилаца у земљи",null,null,null,null,null,null,null,null,null,null,0,0,null,null,null,null,null,null,null,null,null,0]
[114,911600,"Примања од задуживања од домаћинстава у земљи",null,null,null,null,null,null,null,null,null,null,0,0,null,null,null,null,null,null,null,null,null,0]
[115,911700,"Примања од домаћих финансијских деривата",null,null,null,null,null,null,null,null,null,null,0,0,null,null,null,null,null,null,null,null,null,0]
[116,911800,"Примања од домаћих меница",null,null,null,null,null,null,null,null,null,null,0,0,null,null,null,null,null,null,null,null,null,0]
[117,911900,"Исправка унутрашњег дуга",null,null,null,null,null,null,null,null,null,null,0,0,null,null,null,null,null,null,null,null,null,0]
[118,912000,"ПРИМАЊА ОД ИНОСТРАНОГ ЗАДУЖИВАЊА (од 119 + 125)",{"$f":"SUM(D166:D172)","v":0},0,0,0,0,0,0,0,0,0,0,0,null,null,null,null,null,null,null,null,null,0]
[119,912100,"Примања од емитовања хартија од вредности, изузев акција, на иностраном финансијском тржишту",null,null,null,null,null,null,null,null,null,null,0,0,null,null,null,null,null,null,null,null,null,0]
[120,912200,"Примања од задуживања од иностраних држава",null,null,null,null,null,null,null,null,null,null,0,0,null,null,null,null,null,null,null,null,null,0]
[121,912300,"Примања од задуживања од мултилатералних институција",null,null,null,null,null,null,null,null,null,null,0,0,null,null,null,null,null,null,null,null,null,0]
[122,912400,"Примања од задуживања од иностраних пословних банака",null,null,null,null,null,null,null,null,null,null,0,0,null,null,null,null,null,null,null,null,null,0]
[123,912500,"Примања од задуживања од осталих иностраних поверилаца",null,null,null,null,null,null,null,null,null,null,0,0,null,null,null,null,null,null,null,null,null,0]
[124,912600,"Примања од иностраних финансијских деривата",null,null,null,null,null,null,null,null,null,null,0,0,null,null,null,null,null,null,null,null,null,0]
[125,912900,"Исправка спољног дуга",null,null,null,null,null,null,null,null,null,null,0,0,null,null,null,null,null,null,null,null,null,0]
[126,920000,"ПРИМАЊА ОД ПРОДАЈЕ ФИНАНСИЈСКЕ ИМОВИНЕ (127 + 137)",{"$f":"D174+D184","v":0},0,0,0,0,0,0,0,0,0,0,0,null,null,null,null,null,null,null,null,null,0]
[127,921000,"ПРИМАЊА ОД ПРОДАЈЕ ДОМАЋЕ ФИНАНСИЈСКЕ ИМОВИНЕ (од 128 до 136) ",{"$f":"SUM(D175:D183)","v":0},0,0,0,0,0,0,0,0,0,0,0,null,null,null,null,null,null,null,null,null,0]
[128,921100,"Примања од продаје домаћих хартија од вредности, изузев акција",null,null,null,null,null,null,null,null,null,null,0,0,null,null,null,null,null,null,null,null,null,0]
[129,921200,"Примања од отплате кредита датих осталим нивоима власти",null,null,null,null,null,null,null,null,null,null,0,0,null,null,null,null,null,null,null,null,null,0]
[130,921300,"Примања од отплате кредита датих домаћим јавним финансијским институцијама",null,null,null,null,null,null,null,null,null,null,0,0,null,null,null,null,null,null,null,null,null,0]
[131,921400,"Примања од отплате кредита домаћим пословним банкама",null,null,null,null,null,null,null,null,null,null,0,0,null,null,null,null,null,null,null,null,null,0]
[132,921500,"Примања од отплате кредита датих домаћим јавним нефинансијским институцијама",null,null,null,null,null,null,null,null,null,null,0,0,null,null,null,null,null,null,null,null,null,0]
[133,921600,"Примања од отплате кредита датих физичким лицима и домаћинствима у земљи",null,null,null,null,null,null,null,null,null,null,0,0,null,null,null,null,null,null,null,null,null,0]
[134,921700,"Примања од отплате кредита датих удружењима грађана у земљи",null,null,null,null,null,null,null,null,null,null,0,0,null,null,null,null,null,null,null,null,null,0]
[135,921800,"Примања од отплате кредита датих нефинансијским приватним предузећима у земљи",null,null,null,null,null,null,null,null,null,null,0,0,null,null,null,null,null,null,null,null,null,0]
[136,921900,"Примања од продаје домаћих акција и осталог капитала",null,null,null,null,null,null,null,null,null,null,0,0,null,null,null,null,null,null,null,null,null,0]
[{"$f":"A183+1","v":137},922000,"ПРИМАЊА ОД ПРОДАЈЕ СТРАНЕ ФИНАНСИЈСКЕ ИМОВИНЕ (од 138 до 145)",{"$f":"SUM(D185:D192)","v":0},{"$f":"SUM(E185:E192)","v":0},0,0,0,0,0,0,0,0,0,0,null,null,null,null,null,null,null,null,null,{"$f":"SUM(D184:O184)","v":0}]
[138,922100,"Примања од продаје страних хартија од вредности, изузев акција",null,null,null,null,null,null,null,null,null,null,0,0,null,null,null,null,null,null,null,null,null,0]
[139,922200,"Примања од отплате кредита датих страним владама",null,null,null,null,null,null,null,null,null,null,0,0,null,null,null,null,null,null,null,null,null,0]
[140,922300,"Примања од отплате кредита датих међународним организацијама",null,null,null,null,null,null,null,null,null,null,0,0,null,null,null,null,null,null,null,null,null,0]
[141,922400,"Примања од отплате кредита датих страним пословним банкама",null,null,null,null,null,null,null,null,null,null,0,0,null,null,null,null,null,null,null,null,null,0]
[142,922500,"Примања од отплате кредита датих страним нефинансијским институцијама",null,null,null,null,null,null,null,null,null,null,0,0,null,null,null,null,null,null,null,null,null,0]
[143,922600,"Примања од отплате кредита датих страним невладиним организацијама",null,null,null,null,null,null,null,null,null,null,0,0,null,null,null,null,null,null,null,null,null,0]
[144,922700,"Примања од продаје страних акција и осталог капитала",null,null,null,null,null,null,null,null,null,null,0,0,null,null,null,null,null,null,null,null,null,0]
[145,922800,"Примања од продаје стране валуте",null,null,null,null,null,null,null,null,null,null,0,0,null,null,null,null,null,null,null,null,null,0]
[146,null,"УКУПНИ ПРИХОДИ, ПРИМАЊА И ПРЕНЕТА СРЕДСТВА ИЗ ПРЕТХОДНЕ ГОДИНЕ (1 + 8 + 81 + 106)",{"$f":"D48+D55+D128+D153","v":0},{"$f":"E48+E55+E128+E153","v":0},0,0,0,{"$f":"I48+I55+I128+I153","v":0},0,0,0,0,{"$f":"SUM(H193,J193,L193)","v":0},{"$f":"SUM(I193,K193,M193)","v":0},null,null,null,null,null,null,null,null,null,1]
[147,400000,"ТЕКУЋИ РАСХОДИ (148+166+211+226+250+263+279+294)",{"$f":"D195+D213+D258+D273+D297+D310+D326+D341","v":0},0,0,0,0,0,0,0,0,0,0,0,null,null,null,null,null,null,null,null,null,0]
[148,410000,"РАСХОДИ ЗА ЗАПОСЛЕНЕ (149+151+155+157+162+164)",{"$f":"D196+D198+D202+D204+D209+D211","v":0},{"$f":"E196+E198+E202+E204+E209+E211","v":0},0,0,0,0,0,0,0,0,0,0,null,null,null,null,null,null,null,null,null,0]
[149,411000,"ПЛАТЕ, ДОДАЦИ И НАКНАДЕ ЗАПОСЛЕНИХ (ЗАРАДЕ) (150)",{"$f":"D197","v":0},0,0,0,0,0,0,0,0,0,0,0,null,null,null,null,null,null,null,null,null,0]
[150,411100,"Плате, додаци и накнаде запослених",null,null,null,null,null,null,null,null,null,null,0,0,null,null,null,null,null,null,null,null,null,0]
[151,412000,"СОЦИЈАЛНИ ДОПРИНОСИ НА ТЕРЕТ ПОСЛОДАВЦА (од 152 до 154)",{"$f":"SUM(D199:D201)","v":0},0,0,0,0,0,0,0,0,0,0,0,null,null,null,null,null,null,null,null,null,0]
[152,412100,"Допринос за пензијско и инвалидско осигурање",null,null,null,null,null,null,null,null,null,null,0,0,null,null,null,null,null,null,null,null,null,0]
[153,412200,"Допринос за здравствено осигурање",null,null,null,null,null,null,null,null,null,null,0,0,null,null,null,null,null,null,null,null,null,0]
[154,412300,"Допринос за незапосленост",null,null,null,null,null,null,null,null,null,null,0,0,null,null,null,null,null,null,null,null,null,0]
[155,413000,"НАКНАДЕ У НАТУРИ (156)",{"$f":"D203","v":0},0,0,0,0,0,0,0,0,0,0,0,null,null,null,null,null,null,null,null,null,0]
[156,413100,"Накнаде у натури",null,null,null,null,null,null,null,null,null,null,0,0,null,null,null,null,null,null,null,null,null,0]
[157,414000,"СОЦИЈАЛНА ДАВАЊА ЗАПОСЛЕНИМА (од 158 до 161)",{"$f":"SUM(D205:D208)","v":0},0,0,0,0,0,0,0,0,0,0,0,null,null,null,null,null,null,null,null,null,0]
[158,414100,"Исплата накнада за време одсуствовања с посла на терет фондова",null,null,null,null,null,null,null,null,null,null,0,0,null,null,null,null,null,null,null,null,null,0]
[159,414200,"Расходи за образовање деце запослених",null,null,null,null,null,null,null,null,null,null,0,0,null,null,null,null,null,null,null,null,null,0]
[160,414300,"Отпремнине и помоћи",null,null,null,null,null,null,null,null,null,null,0,0,null,null,null,null,null,null,null,null,null,0]
[161,414400,"Помоћ у медицинском лечењу запосленог или чланова уже породице и друге помоћи запосленом",null,null,null,null,null,null,null,null,null,null,0,0,null,null,null,null,null,null,null,null,null,0]
[162,415000,"НАКНАДА ТРОШКОВА ЗА ЗАПОСЛЕНЕ (163)",{"$f":"D210","v":0},0,0,0,0,0,0,0,0,0,0,0,null,null,null,null,null,null,null,null,null,0]
[163,415100,"Накнаде трошкова за запослене",null,null,null,null,null,null,null,null,null,null,0,0,null,null,null,null,null,null,null,null,null,0]
[164,416000,"НАГРАДЕ ЗАПОСЛЕНИМА И ОСТАЛИ ПОСЕБНИ РАСХОДИ (165)",{"$f":"D212","v":0},0,0,0,0,0,0,0,0,0,0,0,null,null,null,null,null,null,null,null,null,0]
[165,416100,"Награде запосленима и остали посебни расходи",null,null,null,null,null,null,null,null,null,null,0,0,null,null,null,null,null,null,null,null,null,0]
[166,420000,"КОРИШЋЕЊЕ УСЛУГА И РОБА (167 + 175 + 181 + 190 + 198 + 201) ",{"$f":"D214+D222+D228+D237+D245+D248","v":0},0,0,0,0,0,0,0,0,0,{"$f":"SUM(H213,J213,L213)","v":0},0,null,null,null,null,null,null,null,null,null,0]
[167,421000,"СТАЛНИ ТРОШКОВИ (од 168 до 174)",{"$f":"SUM(D215:D221)","v":0},0,0,0,0,0,0,0,0,0,0,0,null,null,null,null,null,null,null,null,null,0]
[168,421100,"Трошкови платног промета и банкарских услуга",null,null,null,null,null,null,null,null,null,null,0,0,null,null,null,null,null,null,null,null,null,0]
[169,421200,"Енергетске услуге",null,null,null,null,null,null,null,null,null,null,0,0,null,null,null,null,null,null,null,null,null,0]
[170,421300,"Комуналне услуге",null,null,null,null,null,null,null,null,null,null,0,0,null,null,null,null,null,null,null,null,null,0]
[171,421400,"Услуге комуникација",null,null,null,null,null,null,null,null,null,null,0,0,null,null,null,null,null,null,null,null,null,0]
[172,421500,"Трошкови осигурања",null,null,null,null,null,null,null,null,null,null,0,0,null,null,null,null,null,null,null,null,null,0]
[173,421600,"Закуп имовине и опреме",null,null,null,null,null,null,null,null,null,null,0,0,null,null,null,null,null,null,null,null,null,0]
[174,421900,"Остали трошкови",null,null,null,null,null,null,null,null,null,null,0,0,null,null,null,null,null,null,null,null,null,0]
[175,422000,"ТРОШКОВИ ПУТОВАЊА (од 176 до 180)",{"$f":"SUM(D223:D227)","v":0},0,0,0,0,0,0,0,0,0,0,0,null,null,null,null,null,null,null,null,null,0]
[176,422100,"Трошкови службених путовања у земљи",null,null,null,null,null,null,null,null,null,null,0,0,null,null,null,null,null,null,null,null,null,0]
[177,422200,"Трошкови службених путовања у иностранство",null,null,null,null,null,null,null,null,null,null,0,0,null,null,null,null,null,null,null,null,null,0]
[178,422300,"Трошкови путовања у оквиру редовног рада",null,null,null,null,null,null,null,null,null,null,0,0,null,null,null,null,null,null,null,null,null,0]
[179,422400,"Трошкови путовања ученика",null,null,null,null,null,null,null,null,null,null,0,0,null,null,null,null,null,null,null,null,null,0]
[180,422900,"Остали трошкови транспорта",null,null,null,null,null,null,null,null,null,null,0,0,null,null,null,null,null,null,null,null,null,0]
[181,423000,"УСЛУГЕ ПО УГОВОРУ (од 182 до 189)",{"$f":"SUM(D229:D236)","v":0},0,0,0,0,0,0,0,0,0,0,0,null,null,null,null,null,null,null,null,null,0]
[182,423100,"Административне услуге",null,null,null,null,null,null,null,null,null,null,0,0,null,null,null,null,null,null,null,null,null,0]
[183,423200,"Компјутерске услуге",null,null,null,null,null,null,null,null,null,null,0,0,null,null,null,null,null,null,null,null,null,0]
[184,423300,"Услуге образовања и усавршавања запослених",null,null,null,null,null,null,null,null,null,null,0,0,null,null,null,null,null,null,null,null,null,0]
[185,423400,"Услуге информисања",null,null,null,null,null,null,null,null,null,null,0,0,null,null,null,null,null,null,null,null,null,0]
[186,423500,"Стручне услуге",null,null,null,null,null,null,null,null,null,null,0,0,null,null,null,null,null,null,null,null,null,0]
[187,423600,"Услуге за домаћинство и угоститељство",null,null,null,null,null,null,null,null,null,null,0,0,null,null,null,null,null,null,null,null,null,0]
[188,423700,"Репрезентација",null,null,null,null,null,null,null,null,null,null,0,0,null,null,null,null,null,null,null,null,null,0]
[189,423900,"Остале опште услуге",null,null,null,null,null,null,null,null,null,null,0,0,null,null,null,null,null,null,null,null,null,0]
[190,424000,"СПЕЦИЈАЛИЗОВАНЕ УСЛУГЕ (од 191 до197)",{"$f":"SUM(D238:D244)","v":0},0,0,0,0,0,0,0,0,0,0,0,null,null,null,null,null,null,null,null,null,0]
[191,424100,"Пољопривредне услуге",null,null,null,null,null,null,null,null,null,null,0,0,null,null,null,null,null,null,null,null,null,0]
[192,424200,"Услуге образовања, културе и спорта",null,null,null,null,null,null,null,null,null,null,0,0,null,null,null,null,null,null,null,null,null,0]
[193,424300,"Медицинске услуге",null,null,null,null,null,null,null,null,null,null,0,0,null,null,null,null,null,null,null,null,null,0]
[194,424400,"Услуге одржавања аутопутева",null,null,null,null,null,null,null,null,null,null,0,0,null,null,null,null,null,null,null,null,null,0]
[195,424500,"Услуге одржавања националних паркова и природних површина",null,null,null,null,null,null,null,null,null,null,0,0,null,null,null,null,null,null,null,null,null,0]
[196,424600,"Услуге очувања животне средине, науке и геодетске услуге",null,null,null,null,null,null,null,null,null,null,0,0,null,null,null,null,null,null,null,null,null,0]
[197,424900,"Остале специјализоване услуге",null,null,null,null,null,null,null,null,null,null,0,0,null,null,null,null,null,null,null,null,null,0]
[198,425000,"ТЕКУЋЕ ПОПРАВКЕ И ОДРЖАВАЊЕ (199 + 200)",{"$f":"D246+D247","v":0},{"$f":"E246+E247","v":0},0,0,0,0,0,0,0,0,0,0,null,null,null,null,null,null,null,null,null,0]
[199,425100,"Текуће поправке и одржавање зграда и објеката",null,null,null,null,null,null,null,null,null,null,0,0,null,null,null,null,null,null,null,null,null,0]
[200,425200,"Текуће поправке и одржавање опреме",null,null,null,null,null,null,null,null,null,null,0,0,null,null,null,null,null,null,null,null,null,0]
[{"$f":"A247+1","v":201},426000,"МАТЕРИЈАЛ (од 202 до 210)",{"$f":"SUM(D249:D257)","v":0},0,0,0,0,0,0,0,0,0,0,0,null,null,null,null,null,null,null,null,null,{"$f":"SUM(D248:O248)","v":0}]
[202,426100,"Административни материјал",null,null,null,null,null,null,null,null,null,null,0,0,null,null,null,null,null,null,null,null,null,0]
[203,426200,"Материјали за пољопривреду",null,null,null,null,null,null,null,null,null,null,0,0,null,null,null,null,null,null,null,null,null,0]
[204,426300,"Материјали за образовање и усавршавање запослених",null,null,null,null,null,null,null,null,null,null,0,0,null,null,null,null,null,null,null,null,null,0]
[205,426400,"Материјали за саобраћај",null,null,null,null,null,null,null,null,null,null,0,0,null,null,null,null,null,null,null,null,null,0]
[206,426500,"Материјали за очување животне средине и науку",null,null,null,null,null,null,null,null,null,null,0,0,null,null,null,null,null,null,null,null,null,0]
[207,426600,"Материјали за образовање, културу и спорт",null,null,null,null,null,null,null,null,null,null,0,0,null,null,null,null,null,null,null,null,null,0]
[208,426700,"Медицински и лабораторијски материјали",null,null,null,null,null,null,null,null,null,null,0,0,null,null,null,null,null,null,null,null,null,0]
[209,426800,"Материјали за одржавање хигијене и угоститељство",null,null,null,null,null,null,null,null,null,null,0,0,null,null,null,null,null,null,null,null,null,0]
[210,426900,"Материјали за посебне намене",null,null,null,null,null,null,null,null,null,null,0,0,null,null,null,null,null,null,null,null,null,0]
[211,430000,"АМОРТИЗАЦИЈА И УПОТРЕБА СРЕДСТАВА ЗА РАД (212 + 216 + 218 + 220 + 224)",{"$f":"D259+D263+D265+D267+D271","v":0},{"$f":"E259+E263+E265+E267+E271","v":0},0,0,0,0,0,0,0,0,0,0,null,null,null,null,null,null,null,null,null,0]
[212,431000,"АМОРТИЗАЦИЈА НЕКРЕТНИНА И ОПРЕМЕ (од 213 до 215)",{"$f":"SUM(D260:D262)","v":0},0,0,0,0,0,0,0,0,0,0,0,null,null,null,null,null,null,null,null,null,0]
[213,431100,"Амортизација зграда и грађевинскиx објеката",null,null,null,null,null,null,null,null,null,null,0,0,null,null,null,null,null,null,null,null,null,0]
[214,431200,"Амортизација опреме",null,null,null,null,null,null,null,null,null,null,0,0,null,null,null,null,null,null,null,null,null,0]
[215,431300,"Амортизација осталих некретнина и опреме",null,null,null,null,null,null,null,null,null,null,0,0,null,null,null,null,null,null,null,null,null,0]
[216,432000,"АМОРТИЗАЦИЈА КУЛТИВИСАНЕ ИМОВИНЕ (217)",{"$f":"D264","v":0},0,0,0,0,0,0,0,0,0,0,0,null,null,null,null,null,null,null,null,null,0]
[217,432100,"Амортизација култивисане опреме",null,null,null,null,null,null,null,null,null,null,0,0,null,null,null,null,null,null,null,null,null,0]
[218,433000,"УПОТРЕБА ДРАГОЦЕНОСТИ (219)",{"$f":"D266","v":0},0,0,0,0,0,0,0,0,0,0,0,null,null,null,null,null,null,null,null,null,0]
[219,433100,"Употреба драгоцености",null,null,null,null,null,null,null,null,null,null,0,0,null,null,null,null,null,null,null,null,null,0]
[220,434000,"УПОТРЕБА ПРИРОДНЕ ИМОВИНЕ (од 221 до 223)",{"$f":"SUM(D268:D270)","v":0},0,0,0,0,0,0,0,0,0,0,0,null,null,null,null,null,null,null,null,null,0]
[221,434100,"Употреба земљишта",null,null,null,null,null,null,null,null,null,null,0,0,null,null,null,null,null,null,null,null,null,0]
[222,434200,"Употреба подземног блага",null,null,null,null,null,null,null,null,null,null,0,0,null,null,null,null,null,null,null,null,null,0]
[223,434300,"Употреба шума и вода",null,null,null,null,null,null,null,null,null,null,0,0,null,null,null,null,null,null,null,null,null,0]
[224,435000,"АМОРТИЗАЦИЈА НЕМАТЕРИЈАЛНЕ ИМОВИНЕ (225)",{"$f":"D272","v":0},0,0,0,0,0,0,0,0,0,0,0,null,null,null,null,null,null,null,null,null,0]
[225,435100,"Амортизација нематеријалне имовине",null,null,null,null,null,null,null,null,null,null,0,0,null,null,null,null,null,null,null,null,null,0]
[226,440000,"ОТПЛАТА КАМАТА И ПРАТЕЋИ ТРОШКОВИ ЗАДУЖИВАЊА (227 + 237 + 244 + 246)",{"$f":"D274+D284+D291+D293","v":0},0,0,0,0,0,0,0,0,0,0,0,null,null,null,null,null,null,null,null,null,0]
[227,441000,"ОТПЛАТЕ ДОМАЋИХ КАМАТА (од 228 до 236)",{"$f":"SUM(D275:D283)","v":0},{"$f":"SUM(E275:E283)","v":0},0,0,0,0,0,0,0,0,0,0,null,null,null,null,null,null,null,null,null,0]
[228,441100,"Отплата камата на домаће хартије од вредности",null,null,null,null,null,null,null,null,null,null,{"$f":"SUM(H275,J275,L275)","v":0},0,null,null,null,null,null,null,null,null,null,0]
[229,441200,"Отплата камата осталим нивоима власти",null,null,null,null,null,null,null,null,null,null,0,0,null,null,null,null,null,null,null,null,null,0]
[230,441300,"Отплата камата домаћим јавним финансијским институцијама",null,null,null,null,null,null,null,null,null,null,0,0,null,null,null,null,null,null,null,null,null,0]
[231,441400,"Отплата камата домаћим пословним банкама",null,null,null,null,null,null,null,null,null,null,0,0,null,null,null,null,null,null,null,null,null,0]
[232,441500,"Отплата камата осталим домаћим кредиторима",null,null,null,null,null,null,null,null,null,null,0,0,null,null,null,null,null,null,null,null,null,0]
[233,441600,"Отплата камата домаћинствима у земљи",null,null,null,null,null,null,null,null,null,null,0,0,null,null,null,null,null,null,null,null,null,0]
[234,441700,"Отплата камата на домаће финансијске деривате",null,null,null,null,null,null,null,null,null,null,0,0,null,null,null,null,null,null,null,null,null,0]
[235,441800,"Отплата камата на домаће менице",null,null,null,null,null,null,null,null,null,null,0,0,null,null,null,null,null,null,null,null,null,0]
[236,441900,"Финансијске промене на финансијским лизинзима",null,null,null,null,null,null,null,null,null,null,0,0,null,null,null,null,null,null,null,null,null,0]
[237,442000,"ОТПЛАТА СТРАНИХ КАМАТА (од 238 до 243)",{"$f":"SUM(D285:D290)","v":0},0,0,0,0,0,0,0,0,0,0,0,null,null,null,null,null,null,null,null,null,0]
[238,442100,"Отплата камата на хартије од вредности емитоване на иностраном финансијском тржишту",null,null,null,null,null,null,null,null,null,null,0,0,null,null,null,null,null,null,null,null,null,0]
[239,442200,"Отплата камата страним владама",null,null,null,null,null,null,null,null,null,null,0,0,null,null,null,null,null,null,null,null,null,0]
[240,442300,"Отплата камата мултилатералним институцијама",null,null,null,null,null,null,null,null,null,null,0,0,null,null,null,null,null,null,null,null,null,0]
[241,442400,"Отплата камата страним пословним банкама",null,null,null,null,null,null,null,null,null,null,0,0,null,null,null,null,null,null,null,null,null,0]
[242,442500,"Отплата камата осталим страним кредиторима",null,null,null,null,null,null,null,null,null,null,0,0,null,null,null,null,null,null,null,null,null,0]
[243,442600,"Отплата камата на стране финансијске деривате",null,null,null,null,null,null,null,null,null,null,0,0,null,null,null,null,null,null,null,null,null,0]
[244,443000,"ОТПЛАТА КАМАТА ПО ГАРАНЦИЈАМА 245)",{"$f":"D292","v":0},{"$f":"E292","v":0},0,0,0,0,0,0,0,0,0,0,null,null,null,null,null,null,null,null,null,0]
[245,443100,"Отплата камата по гаранцијама",null,null,null,null,null,null,null,null,null,null,0,0,null,null,null,null,null,null,null,null,null,0]
[246,444000,"ПРАТЕЋИ ТРОШКОВИ ЗАДУЖИВАЊА (од 247 до 249)",{"$f":"SUM(D294:D296)","v":0},0,0,0,0,0,0,0,0,0,0,0,null,null,null,null,null,null,null,null,null,0]
[247,444100,"Негативне курсне разлике",null,null,null,null,null,null,null,null,null,null,0,0,null,null,null,null,null,null,null,null,null,0]
[248,444200,"Казне за кашњење",null,null,null,null,null,null,null,null,null,null,0,0,null,null,null,null,null,null,null,null,null,0]
[249,444300,"Остали пратећи трошкови задуживања",null,null,null,null,null,null,null,null,null,null,0,0,null,null,null,null,null,null,null,null,null,0]
[250,450000,"СУБВЕНЦИЈЕ (251 + 254 + 257 + 260)",{"$f":"D298+D301+D304+D307","v":0},0,0,0,0,0,0,0,0,0,0,0,null,null,null,null,null,null,null,null,null,0]
[251,451000,"СУБВЕНЦИЈЕ ЈАВНИМ НЕФИНАНСИЈСКИМ ПРЕДУЗЕЋИМА И ОРГАНИЗАЦИЈАМА (252 + 253)",{"$f":"SUM(D299:D300)","v":0},0,0,0,0,0,0,0,0,0,0,0,null,null,null,null,null,null,null,null,null,0]
[252,451100,"Текуће субвенције јавним нефинансијским предузећима и организацијама",null,null,null,null,null,null,null,null,null,null,0,0,null,null,null,null,null,null,null,null,null,0]
[253,451200,"Капиталне субвенције јавним нефинансијским предузећима и организацијама",null,null,null,null,null,null,null,null,null,null,0,0,null,null,null,null,null,null,null,null,null,0]
[254,452000,"СУБВЕНЦИЈЕ ПРИВАТНИМ ФИНАНСИЈСКИМ ИНСТИТУЦИЈАМА (255 + 256)",{"$f":"SUM(D302:D303)","v":0},0,0,0,0,0,0,0,0,0,0,0,null,null,null,null,null,null,null,null,null,0]
[255,452100,"Текуће субвенције приватним финансијским институцијама",null,null,null,null,null,null,null,null,null,null,0,0,null,null,null,null,null,null,null,null,null,0]
[256,452200,"Капиталне субвенције приватним финансијским институцијама",null,null,null,null,null,null,null,null,null,null,0,0,null,null,null,null,null,null,null,null,null,0]
[257,453000,"СУБВЕНЦИЈЕ ЈАВНИМ ФИНАНСИЈСКИМ ИНСТИТУЦИЈАМА (258 + 259)",{"$f":"SUM(D305:D306)","v":0},0,0,0,0,0,0,0,0,0,0,0,null,null,null,null,null,null,null,null,null,0]
[258,453100,"Текуће субвенције јавним финансијским институцијама",null,null,null,null,null,null,null,null,null,null,0,0,null,null,null,null,null,null,null,null,null,0]
[259,453200,"Капиталне субвенције јавним финансијским институцијама",null,null,null,null,null,null,null,null,null,null,0,0,null,null,null,null,null,null,null,null,null,0]
[260,454000,"СУБВЕНЦИЈЕ ПРИВАТНИМ ПРЕДУЗЕЋИМА (261 + 262)",{"$f":"SUM(D308:D309)","v":0},0,0,0,0,0,0,0,0,0,0,0,null,null,null,null,null,null,null,null,null,0]
[261,454100,"Текуће субвенције приватним предузећима",null,null,null,null,null,null,null,null,null,null,0,0,null,null,null,null,null,null,null,null,null,0]
[262,454200,"Капиталне субвенције приватним предузећима",null,null,null,null,null,null,null,null,null,null,0,0,null,null,null,null,null,null,null,null,null,0]
[263,460000,"ДОНАЦИЈЕ, ДОТАЦИЈЕ И ТРАНСФЕРИ (264 + 267 + 270 + 273 + 276)",{"$f":"D311+D314+D317+D320+D323","v":0},{"$f":"E311+E314+E317+E320+E323","v":0},0,0,0,0,0,0,0,0,0,0,null,null,null,null,null,null,null,null,null,0]
[264,461000,"ДОНАЦИЈЕ СТРАНИМ ВЛАДАМА (265 + 266)",{"$f":"SUM(D312:D313)","v":0},0,0,0,0,0,0,0,0,0,0,0,null,null,null,null,null,null,null,null,null,0]
[{"$f":"A311+1","v":265},461100,"Текуће донације страним владама",null,null,null,null,null,null,null,null,null,null,0,0,null,null,null,null,null,null,null,null,null,{"$f":"SUM(D312:O312)","v":0}]
[266,461200,"Капиталне донације страним владама",null,null,null,null,null,null,null,null,null,null,0,0,null,null,null,null,null,null,null,null,null,0]
[267,462000,"ДОТАЦИЈЕ МЕЂУНАРОДНИМ ОРГАНИЗАЦИЈАМА (268 + 269)",{"$f":"SUM(D315:D316)","v":0},0,0,0,0,0,0,0,0,0,0,0,null,null,null,null,null,null,null,null,null,0]
[268,462100,"Текуће дотације међународним организацијама",null,null,null,null,null,null,null,null,null,null,0,0,null,null,null,null,null,null,null,null,null,0]
[269,462200,"Капиталне дотације међународним организацијама",null,null,null,null,null,null,null,null,null,null,0,0,null,null,null,null,null,null,null,null,null,0]
[270,463000,"ТРАНСФЕРИ ОСТАЛИМ НИВОИМА ВЛАСТИ (271 + 272)",{"$f":"SUM(D318:D319)","v":0},{"$f":"SUM(E318:E319)","v":0},0,0,0,0,0,0,0,0,0,0,null,null,null,null,null,null,null,null,null,0]
[271,463100,"Текући трансфери осталим нивоима власти",null,null,null,null,null,null,null,null,null,null,0,0,null,null,null,null,null,null,null,null,null,0]
[272,463200,"Капитални трансфери осталим нивоима власти",null,null,null,null,null,null,null,null,null,null,0,0,null,null,null,null,null,null,null,null,null,0]
[273,464000,"ДОТАЦИЈЕ ОРГАНИЗАЦИЈАМА ОБАВЕЗНОГ СОЦИЈАЛНОГ ОСИГУРАЊА (274 + 275)",{"$f":"SUM(D321:D322)","v":0},0,0,0,0,0,0,0,0,0,0,0,null,null,null,null,null,null,null,null,null,0]
[274,464100,"Текуће дотације организацијама обавезног социјалног осигурања",null,null,null,null,null,null,null,null,null,null,0,0,null,null,null,null,null,null,null,null,null,0]
[275,464200,"Капиталне дотације организацијама обавезног социјалног осигурања",null,null,null,null,null,null,null,null,null,null,0,0,null,null,null,null,null,null,null,null,null,0]
[276,465000,"ОСТАЛЕ ДОТАЦИЈЕ И ТРАНСФЕРИ (277 + 278)",{"$f":"SUM(D324:D325)","v":0},0,0,0,0,0,0,0,0,0,0,0,null,null,null,null,null,null,null,null,null,0]
[277,465100,"Остале текуће дотације и трансфери",null,null,null,null,null,null,null,null,null,null,0,0,null,null,null,null,null,null,null,null,null,0]
[278,465200,"Остале капиталне дотације и трансфери",null,null,null,null,null,null,null,null,null,null,0,0,null,null,null,null,null,null,null,null,null,0]
[279,470000,"СОЦИЈАЛНО ОСИГУРАЊЕ И СОЦИЈАЛНА ЗАШТИТА (280 + 284)",{"$f":"D327+D331","v":0},0,0,0,0,0,0,0,0,0,0,0,null,null,null,null,null,null,null,null,null,0]
[280,471000,"ПРАВА ИЗ СОЦИЈАЛНОГ ОСИГУРАЊА (ОРГАНИЗАЦИЈЕ ОБАВЕЗНОГ СОЦИЈАЛНОГ ОСИГУРАЊА) (од 281 до 283)",{"$f":"SUM(D328:D330)","v":0},0,0,0,0,0,0,0,0,0,0,0,null,null,null,null,null,null,null,null,null,0]
[281,471100,"Права из социјалног осигурања која се исплаћују непосредно домаћинствима",null,null,null,null,null,null,null,null,null,null,0,0,null,null,null,null,null,null,null,null,null,0]
[282,471200,"Права из социјалног осигурања која се исплаћују непосредно пружаоцима услуга",null,null,null,null,null,null,null,null,null,null,0,0,null,null,null,null,null,null,null,null,null,0]
[283,471900,"Трансфери другим организацијама обавезног социјалног осигурања за доприносе за осигурање",null,null,null,null,null,null,null,null,null,null,0,0,null,null,null,null,null,null,null,null,null,0]
[284,472000,"НАКНАДЕ ЗА СОЦИЈАЛНУ ЗАШТИТУ ИЗ БУЏЕТА (од 285 до 293)",{"$f":"SUM(D332:D340)","v":0},0,0,0,0,0,0,0,0,0,0,0,null,null,null,null,null,null,null,null,null,0]
[285,472100,"Накнаде из буџета у случају болести и инвалидности",null,null,null,null,null,null,null,null,null,null,0,0,null,null,null,null,null,null,null,null,null,0]
[286,472200,"Накнаде из буџета за породиљско одсуство",null,null,null,null,null,null,null,null,null,null,0,0,null,null,null,null,null,null,null,null,null,0]
[287,472300,"Накнаде из буџета за децу и породицу",null,null,null,null,null,null,null,null,null,null,0,0,null,null,null,null,null,null,null,null,null,0]
[288,472400,"Накнаде из буџета за случај незапослености",null,null,null,null,null,null,null,null,null,null,0,0,null,null,null,null,null,null,null,null,null,0]
[289,472500,"Старосне и породичне пензије из буџета",null,null,null,null,null,null,null,null,null,null,0,0,null,null,null,null,null,null,null,null,null,0]
[290,472600,"Накнаде из буџета у случају смрти",null,null,null,null,null,null,null,null,null,null,0,0,null,null,null,null,null,null,null,null,null,0]
[291,472700,"Накнаде из буџета за образовање, културу, науку и спорт",null,null,null,null,null,null,null,null,null,null,0,0,null,null,null,null,null,null,null,null,null,0]
[292,472800,"Накнаде из буџета за становање и живот",null,null,null,null,null,null,null,null,null,null,{"$f":"SUM(H339,J339,L339)","v":0},0,null,null,null,null,null,null,null,null,null,0]
[293,472900,"Остале накнаде из буџета",null,null,null,null,null,null,null,null,null,null,0,0,null,null,null,null,null,null,null,null,null,0]
[294,480000,"ОСТАЛИ РАСХОДИ (295 + 298 + 302 + 304 + 307 + 309)",{"$f":"D342+D345+D349+D351+D354+D356","v":0},{"$f":"E342+E345+E349+E351+E354+E356","v":0},0,0,0,0,0,0,0,0,0,0,null,null,null,null,null,null,null,null,null,0]
[295,481000,"ДОТАЦИЈЕ НЕВЛАДИНИМ ОРГАНИЗАЦИЈАМА (296 + 297)",{"$f":"SUM(D343:D344)","v":0},0,0,0,0,0,0,0,0,0,0,0,null,null,null,null,null,null,null,null,null,0]
[296,481100,"Дотације непрофитним организацијама које пружају помоћ домаћинствима",null,null,null,null,null,null,null,null,null,null,0,0,null,null,null,null,null,null,null,null,null,0]
[297,481900,"Дотације осталим непрофитним институцијама",null,null,null,null,null,null,null,null,null,null,0,0,null,null,null,null,null,null,null,null,null,0]
[298,482000,"ПОРЕЗИ, ОБАВЕЗНЕ ТАКСЕ И КАЗНЕ (од 299 до 301)",{"$f":"SUM(D346:D348)","v":0},{"$f":"SUM(E346:E348)","v":0},0,0,0,0,0,0,0,0,0,0,null,null,null,null,null,null,null,null,null,0]
[299,482100,"Остали порези",null,null,null,null,null,null,null,null,null,null,0,0,null,null,null,null,null,null,null,null,null,0]
[300,482200,"Обавезне таксе",null,null,null,null,null,null,null,null,null,null,0,0,null,null,null,null,null,null,null,null,null,0]
[301,482300,"Новчане казне и пенали",null,null,null,null,null,null,null,null,null,null,0,0,null,null,null,null,null,null,null,null,null,0]
[302,483000,"НОВЧАНЕ КАЗНЕ И ПЕНАЛИ ПО РЕШЕЊУ СУДОВА (303)",{"$f":"D350","v":0},0,0,0,0,0,0,0,0,0,0,0,null,null,null,null,null,null,null,null,null,0]
[303,483100,"Новчане казне и пенали по решењу судова",null,null,null,null,null,null,null,null,null,null,0,0,null,null,null,null,null,null,null,null,null,0]
[304,484000,"НАКНАДА ШТЕТЕ ЗА ПОВРЕДЕ ИЛИ ШТЕТУ НАСТАЛУ УСЛЕД ЕЛЕМЕНТАРНИХ НЕПОГОДА ИЛИ ДРУГИХ ПРИРОДНИХ УЗРОКА (305 + 306)",{"$f":"SUM(D352:D353)","v":0},0,0,0,0,0,0,0,0,0,0,0,null,null,null,null,null,null,null,null,null,0]
[305,484100,"Накнада штете за повреде или штету насталу услед елементарних непогода",null,null,null,null,null,null,null,null,null,null,0,0,null,null,null,null,null,null,null,null,null,0]
[306,484200,"Накнада штете од дивљачи",null,null,null,null,null,null,null,null,null,null,0,0,null,null,null,null,null,null,null,null,null,0]
[307,485000,"НАКНАДА ШТЕТЕ ЗА ПОВРЕДЕ ИЛИ ШТЕТУ НАНЕТУ ОД СТРАНЕ ДРЖАВНИХ ОРГАНА (308)",{"$f":"D355","v":0},0,0,0,0,0,0,0,0,0,0,0,null,null,null,null,null,null,null,null,null,0]
[308,485100,"Накнада штете за повреде или штету нанету од стране државних органа",null,null,null,null,null,null,null,null,null,null,0,0,null,null,null,null,null,null,null,null,null,0]
[309,489000,"РАСХОДИ КОЈИ СЕ ФИНАНСИРАЈУ ИЗ СРЕДСТАВА ЗА РЕАЛИЗАЦИЈУ НАЦИОНАЛНОГ ИНВЕСТИЦИОНОГ ПЛАНА (310)",0,0,0,0,0,0,0,0,0,0,0,0,null,null,null,null,null,null,null,null,null,0]
[310,489100,"Расходи који се финансирају из средстава за реализацију националног инвестиционог плана",null,null,null,null,null,null,null,null,null,null,0,0,null,null,null,null,null,null,null,null,null,0]
[311,500000,"ИЗДАЦИ ЗА НЕФИНАНСИЈСКУ ИМОВИНУ (312 + 334 + 343 + 346 + 354)",{"$f":"D359+D381+D390+D393+D401","v":0},{"$f":"E359+E381+E390+E393+E401","v":0},0,0,0,0,0,0,0,0,0,0,null,null,null,null,null,null,null,null,null,0]
[312,510000,"ОСНОВНА СРЕДСТВА (313 + 318 + 328 + 330 + 332)",{"$f":"D360+D365+D375+D377+D379","v":0},{"$f":"E360+E365+E375+E377+E379","v":0},0,0,0,0,0,0,0,0,0,0,null,null,null,null,null,null,null,null,null,0]
[313,511000,"ЗГРАДЕ И ГРАЂЕВИНСКИ ОБЈЕКТИ (од 314 до 317)",{"$f":"SUM(D361:D364)","v":0},0,0,0,0,0,0,0,0,0,0,0,null,null,null,null,null,null,null,null,null,0]
[314,511100,"Куповина зграда и објеката",null,null,null,null,null,null,null,null,null,null,0,0,null,null,null,null,null,null,null,null,null,0]
[315,511200,"Изградња зграда и објеката",null,null,null,null,null,null,null,null,null,null,0,0,null,null,null,null,null,null,null,null,null,0]
[316,511300,"Капитално одржавање зграда и објеката",null,null,null,null,null,null,null,null,null,null,0,0,null,null,null,null,null,null,null,null,null,0]
[317,511400,"Пројектно планирање",null,null,null,null,null,null,null,null,null,null,0,0,null,null,null,null,null,null,null,null,null,0]
[318,512000,"МАШИНЕ И ОПРЕМА (од 319 до 327)",{"$f":"SUM(D366:D374)","v":0},0,0,0,0,0,0,0,0,0,0,0,null,null,null,null,null,null,null,null,null,0]
[319,512100,"Опрема за саобраћај",null,null,null,null,null,null,null,null,null,null,0,0,null,null,null,null,null,null,null,null,null,0]
[320,512200,"Административна опрема",null,null,null,null,null,null,null,null,null,null,0,0,null,null,null,null,null,null,null,null,null,0]
[321,512300,"Опрема за пољопривреду",null,null,null,null,null,null,null,null,null,null,0,0,null,null,null,null,null,null,null,null,null,0]
[322,512400,"Опрема за заштиту животне средине",null,null,null,null,null,null,null,null,null,null,0,0,null,null,null,null,null,null,null,null,null,0]
[323,512500,"Медицинска и лабораторијска опрема",null,null,null,null,null,null,null,null,null,null,0,0,null,null,null,null,null,null,null,null,null,0]
[324,512600,"Опрема за образовање, културу и спорт",null,null,null,null,null,null,null,null,null,null,0,0,null,null,null,null,null,null,null,null,null,0]
[325,512700,"Опрема за војску",null,null,null,null,null,null,null,null,null,null,0,0,null,null,null,null,null,null,null,null,null,0]
[326,512800,"Опрема за јавну безбедност",null,null,null,null,null,null,null,null,null,null,0,0,null,null,null,null,null,null,null,null,null,0]
[327,512900,"Опрема за производњу, моторна, непокретна и немоторна опрема",null,null,null,null,null,null,null,null,null,null,0,0,null,null,null,null,null,null,null,null,null,0]
[328,513000,"ОСТАЛЕ НЕКРЕТНИНЕ И ОПРЕМА (329)",{"$f":"D376","v":0},{"$f":"E376","v":0},0,0,0,0,0,0,0,0,0,0,null,null,null,null,null,null,null,null,null,0]
[{"$f":"A375+1","v":329},513100,"Остале некретнине и опрема",null,null,null,null,null,null,null,null,null,null,0,0,null,null,null,null,null,null,null,null,null,{"$f":"SUM(D376:O376)","v":0}]
[330,514000,"КУЛТИВИСАНА ИМОВИНА (331)",{"$f":"D378","v":0},{"$f":"E378","v":0},0,0,0,0,0,0,0,0,0,0,null,null,null,null,null,null,null,null,null,0]
[331,514100,"Култивисана имовина",null,null,null,null,null,null,null,null,null,null,0,0,null,null,null,null,null,null,null,null,null,0]
[332,515000,"НЕМАТЕРИЈАЛНА ИМОВИНА (333)",{"$f":"D380","v":0},{"$f":"E380","v":0},0,0,0,0,0,0,0,0,0,0,null,null,null,null,null,null,null,null,null,0]
[333,515100,"Нематеријална имовина",null,null,null,null,null,null,null,null,null,null,0,0,null,null,null,null,null,null,null,null,null,0]
[334,520000,"ЗАЛИХЕ (335 + 337 + 341)",{"$f":"D382+D384+D388","v":0},0,0,0,0,0,0,0,0,0,0,0,null,null,null,null,null,null,null,null,null,0]
[335,521000,"РОБНЕ РЕЗЕРВЕ (336)",{"$f":"D383","v":0},0,0,0,0,0,0,0,0,0,0,0,null,null,null,null,null,null,null,null,null,0]
[336,521100,"Робне резерве",null,null,null,null,null,null,null,null,null,null,0,0,null,null,null,null,null,null,null,null,null,0]
[337,522000,"ЗАЛИХЕ ПРОИЗВОДЊЕ (од 338 до 340)",{"$f":"SUM(D385:D387)","v":0},0,0,0,0,0,0,0,0,0,0,0,null,null,null,null,null,null,null,null,null,0]
[338,522100,"Залихе материјала",null,null,null,null,null,null,null,null,null,null,0,0,null,null,null,null,null,null,null,null,null,0]
[339,522200,"Залихе недовршене производње",null,null,null,null,null,null,null,null,null,null,0,0,null,null,null,null,null,null,null,null,null,0]
[340,522300,"Залихе готових производа",null,null,null,null,null,null,null,null,null,null,0,0,null,null,null,null,null,null,null,null,null,0]
[341,523000,"ЗАЛИХЕ РОБЕ ЗА ДАЉУ ПРОДАЈУ (342)",{"$f":"D389","v":0},0,0,0,0,0,0,0,0,0,0,0,null,null,null,null,null,null,null,null,null,0]
[342,523100,"Залихе робе за даљу продају",null,null,null,null,null,null,null,null,null,null,0,0,null,null,null,null,null,null,null,null,null,0]
[343,530000,"ДРАГОЦЕНОСТИ (344)",{"$f":"D391","v":0},0,0,0,0,0,0,0,0,0,0,0,null,null,null,null,null,null,null,null,null,0]
[344,531000,"ДРАГОЦЕНОСТИ (345)",0,0,0,0,0,0,0,0,0,0,0,0,null,null,null,null,null,null,null,null,null,0]
[345,531100,"Драгоцености",null,null,null,null,null,null,null,null,null,null,0,0,null,null,null,null,null,null,null,null,null,0]
[346,540000,"ПРИРОДНА ИМОВИНА (347 + 349 + 351)",{"$f":"D394+D396+D398","v":0},0,0,0,0,0,0,0,0,0,0,0,null,null,null,null,null,null,null,null,null,0]
[347,541000,"ЗЕМЉИШТЕ (348)",{"$f":"D395","v":0},0,0,0,0,0,0,0,0,0,0,0,null,null,null,null,null,null,null,null,null,0]
[348,541100,"Земљиште",null,null,null,null,null,null,null,null,null,null,0,0,null,null,null,null,null,null,null,null,null,0]
[349,542000,"РУДНА БОГАТСТВА (350)",{"$f":"D397","v":0},0,0,0,0,0,0,0,0,0,0,0,null,null,null,null,null,null,null,null,null,0]
[350,542100,"Копови",null,null,null,null,null,null,null,null,null,null,0,0,null,null,null,null,null,null,null,null,null,0]
[351,543000,"ШУМЕ И ВОДЕ (352 + 353)",{"$f":"SUM(D399:D400)","v":0},0,0,0,0,0,0,0,0,0,0,0,null,null,null,null,null,null,null,null,null,0]
[352,543100,"Шуме",null,null,null,null,null,null,null,null,null,null,0,0,null,null,null,null,null,null,null,null,null,0]
[353,543200,"Воде",null,null,null,null,null,null,null,null,null,null,0,0,null,null,null,null,null,null,null,null,null,0]
[354,550000,"НЕФИНАНСИЈСКА ИМОВИНА КОЈА СЕ ФИНАНСИРА ИЗ СРЕДСТАВА ЗА РЕАЛИЗАЦИЈУ НАЦИОНАЛНОГ ИНВЕСТИЦИОНОГ ПЛАНА (355)",{"$f":"D402","v":0},0,0,0,0,0,0,0,0,0,0,0,null,null,null,null,null,null,null,null,null,0]
[355,551000,"НЕФИНАНСИЈСКА ИМОВИНА КОЈА СЕ ФИНАНСИРА ИЗ СРЕДСТАВА ЗА РЕАЛИЗАЦИЈУ НАЦИОНАЛНОГ ИНВЕСТИЦИОНОГ ПЛАНА (356)",0,0,0,0,0,0,0,0,0,0,0,0,null,null,null,null,null,null,null,null,null,0]
[356,551100,"Нефинансијска имовина која се финансира из средстава за реализацију националног инвестиционог плана",null,null,null,null,null,null,null,null,null,null,{"$f":"SUM(H403,J403,L403)","v":0},0,null,null,null,null,null,null,null,null,null,0]
[357,600000,"ИЗДАЦИ ЗА ОТПЛАТУ ГЛАВНИЦЕ И НАБАВКУ ФИНАНСИЈСКЕ ИМОВИНЕ (358 + 383)",{"$f":"D405+D430","v":0},{"$f":"E405+E430","v":0},0,0,0,0,0,0,0,0,0,0,null,null,null,null,null,null,null,null,null,0]
[358,610000,"ОТПЛАТА ГЛАВНИЦЕ (359 + 369 + 377 + 384)",{"$f":"D406+D416+D424+D426+D428","v":0},{"$f":"E406+E416+E424+E426+E428","v":0},0,0,0,0,0,0,0,0,0,0,null,null,null,null,null,null,null,null,null,0]
[359,611000,"ОТПЛАТА ГЛАВНИЦЕ ДОМАЋИМ КРЕДИТОРИМА (од 360 до 368)",{"$f":"SUM(D407:D415)","v":0},0,0,0,0,0,0,0,0,0,0,0,null,null,null,null,null,null,null,null,null,0]
[360,611100,"Отплата главнице на домаће хартије од вредности, изузев акција",null,null,null,null,null,null,null,null,null,null,0,0,null,null,null,null,null,null,null,null,null,0]
[361,611200,"Отплата главнице осталим нивоима власти",null,null,null,null,null,null,null,null,null,null,0,0,null,null,null,null,null,null,null,null,null,0]
[362,611300,"Отплата главнице домаћим јавним финансијским институцијама",null,null,null,null,null,null,null,null,null,null,0,0,null,null,null,null,null,null,null,null,null,0]
[363,611400,"Отплата главнице домаћим пословним банкама",null,null,null,null,null,null,null,null,null,null,0,0,null,null,null,null,null,null,null,null,null,0]
[364,611500,"Отплата главнице осталим домаћим кредиторима",null,null,null,null,null,null,null,null,null,null,0,0,null,null,null,null,null,null,null,null,null,0]
[365,611600,"Отплата главнице домаћинствима у земљи",null,null,null,null,null,null,null,null,null,null,0,0,null,null,null,null,null,null,null,null,null,0]
[366,611700,"Отплата главнице на домаће финансијске деривате",null,null,null,null,null,null,null,null,null,null,0,0,null,null,null,null,null,null,null,null,null,0]
[367,611800,"Отплата домаћих меница",null,null,null,null,null,null,null,null,null,null,0,0,null,null,null,null,null,null,null,null,null,0]
[368,611900,"Исправка унутрашњег дуга",null,null,null,null,null,null,null,null,null,null,0,0,null,null,null,null,null,null,null,null,null,0]
[369,612000,"ОТПЛАТА ГЛАВНИЦЕ СТРАНИМ КРЕДИТОРИМА (од 370 до 376)",{"$f":"SUM(D417:D423)","v":0},0,0,0,0,0,0,0,0,0,0,0,null,null,null,null,null,null,null,null,null,0]
[370,612100,"Отплата главнице на хартије од вредности, изузев акција, емитоване на иностраном финансијском тржишту",null,null,null,null,null,null,null,null,null,null,0,0,null,null,null,null,null,null,null,null,null,0]
[371,612200,"Отплата главнице страним владама",null,null,null,null,null,null,null,null,null,null,0,0,null,null,null,null,null,null,null,null,null,0]
[372,612300,"Отплата главнице мултилатералним институцијама",null,null,null,null,null,null,null,null,null,null,0,0,null,null,null,null,null,null,null,null,null,0]
[373,612400,"Отплате главнице страним пословним банкама",null,null,null,null,null,null,null,null,null,null,0,0,null,null,null,null,null,null,null,null,null,0]
[374,612500,"Отплате главнице осталим страним кредиторима",null,null,null,null,null,null,null,null,null,null,0,0,null,null,null,null,null,null,null,null,null,0]
[375,612600,"Отплата главнице на стране финансијске деривате",null,null,null,null,null,null,null,null,null,null,0,0,null,null,null,null,null,null,null,null,null,0]
[376,612900,"Исправка спољног дуга",null,null,null,null,null,null,null,null,null,null,0,0,null,null,null,null,null,null,null,null,null,0]
[377,613000,"ОТПЛАТА ГЛАВНИЦЕ ПО ГАРАНЦИЈАМА (378)",{"$f":"D425","v":0},{"$f":"E425","v":0},0,0,0,0,0,0,0,0,0,0,null,null,null,null,null,null,null,null,null,0]
[378,613100,"Отплата главнице по гаранцијама",null,null,null,null,null,null,null,null,null,null,0,0,null,null,null,null,null,null,null,null,null,0]
[379,614000,"ОТПЛАТА ГЛАВНИЦЕ ЗА ФИНАНСИЈСКИ ЛИЗИНГ (380)",{"$f":"D427","v":0},{"$f":"E427","v":0},0,0,0,0,0,0,0,0,0,0,null,null,null,null,null,null,null,null,null,0]
[380,614100,"Отплата главнице за финансијски лизинг",null,null,null,null,null,null,null,null,null,null,0,0,null,null,null,null,null,null,null,null,null,0]
[381,615000,"ОТПЛАТА ГАРАНЦИЈА ПО КОМЕРЦИЈАЛНИМ ТРАНСАКЦИЈАМА (382)",{"$f":"D429","v":0},{"$f":"E429","v":0},0,0,0,0,0,0,0,0,0,0,null,null,null,null,null,null,null,null,null,0]
[382,615100,"Отплата гаранција по комерцијалним трансакцијама",null,null,null,null,null,null,null,null,null,null,0,0,null,null,null,null,null,null,null,null,null,0]
[383,620000,"НАБАВКА ФИНАНСИЈСКЕ ИМОВИНЕ (384 + 394 + 403)",{"$f":"D431+D441+D450","v":0},{"$f":"E431+E441+E450","v":0},0,0,0,0,0,0,0,0,0,0,null,null,null,null,null,null,null,null,null,0]
[384,621000,"НАБАВКА ДОМАЋЕ ФИНАНСИЈСКЕ ИМОВИНЕ (од 385 до 393)",{"$f":"SUM(D432:D440)","v":0},0,0,0,0,0,0,0,0,0,0,0,null,null,null,null,null,null,null,null,null,0]
[385,621100,"Набавка домаћих хартија од вредности, изузев акција",null,null,null,null,null,null,null,null,null,null,0,0,null,null,null,null,null,null,null,null,null,0]
[386,621200,"Кредити осталим нивоима власти",null,null,null,null,null,null,null,null,null,null,0,0,null,null,null,null,null,null,null,null,null,0]
[387,621300,"Кредити домаћим јавним финансијским институцијама",null,null,null,null,null,null,null,null,null,null,0,0,null,null,null,null,null,null,null,null,null,0]
[388,621400,"Кредити домаћим пословним банкама",null,null,null,null,null,null,null,null,null,null,0,0,null,null,null,null,null,null,null,null,null,0]
[389,621500,"Кредити домаћим нефинансијским јавним институцијама",null,null,null,null,null,null,null,null,null,null,0,0,null,null,null,null,null,null,null,null,null,0]
[390,621600,"Кредити физичким лицима и домаћинствима у земљи",null,null,null,null,null,null,null,null,null,null,0,0,null,null,null,null,null,null,null,null,null,0]
[391,621700,"Кредити невладиним организацијама у земљи",null,null,null,null,null,null,null,null,null,null,0,0,null,null,null,null,null,null,null,null,null,0]
[392,621800,"Кредити домаћим нефинансијским приватним предузећима",null,null,null,null,null,null,null,null,null,null,0,0,null,null,null,null,null,null,null,null,null,0]
[{"$f":"A439+1","v":393},621900,"Набавка домаћих акција и осталог капитала",null,null,null,null,null,null,null,null,null,null,0,0,null,null,null,null,null,null,null,null,null,{"$f":"SUM(D440:O440)","v":0}]
[394,622000,"НАБАВКА СТРАНЕ ФИНАНСИЈСКЕ ИМОВИНЕ (од 395 до 402)",{"$f":"SUM(D442:D449)","v":0},{"$f":"SUM(E442:E449)","v":0},0,0,0,0,0,0,0,0,0,0,null,null,null,null,null,null,null,null,null,0]
[395,622100,"Набавка страних хартија од вредности, изузев акција",null,null,null,null,null,null,null,null,null,null,0,0,null,null,null,null,null,null,null,null,null,0]
[396,622200,"Кредити страним владама",null,null,null,null,null,null,null,null,null,null,0,0,null,null,null,null,null,null,null,null,null,0]
[397,622300,"Кредити међународним организацијама",null,null,null,null,null,null,null,null,null,null,0,0,null,null,null,null,null,null,null,null,null,0]
[398,622400,"Кредити страним пословним банкама",null,null,null,null,null,null,null,null,null,null,0,0,null,null,null,null,null,null,null,null,null,0]
[399,622500,"Кредити страним нефинансијским институцијама",null,null,null,null,null,null,null,null,null,null,0,0,null,null,null,null,null,null,null,null,null,0]
[400,622600,"Кредити страним невладиним организацијама",null,null,null,null,null,null,null,null,null,null,0,0,null,null,null,null,null,null,null,null,null,0]
[401,622700,"Набавка страних акција и осталог капитала",null,null,null,null,null,null,null,null,null,null,0,0,null,null,null,null,null,null,null,null,null,0]
[402,622800,"Куповина стране валуте",null,null,null,null,null,null,null,null,null,null,0,0,null,null,null,null,null,null,null,null,null,0]
[403,623000,"НАБАВКА ФИНАНСИЈСКЕ ИМОВИНЕ КОЈА СЕ ФИНАНСИРА ИЗ СРЕДСТАВА ЗА РЕАЛИЗАЦИЈУ НАЦИОНАЛНОГ ИНВЕСТИЦИОНОГ ПЛАНА (404)",{"$f":"D451","v":0},{"$f":"E451","v":0},0,0,0,0,0,0,0,0,0,0,null,null,null,null,null,null,null,null,null,0]
[404,623100,"Набавка финансијске имовине која се финансира из средстава за реализацију националног инвестиционог плана ",null,null,null,null,null,null,null,null,null,null,0,0,null,null,null,null,null,null,null,null,null,0]
[405,null,"УКУПНИ РАСХОДИ И ИЗДАЦИ (147 + 311 + 357)",{"$f":"D404+D358+D194","v":0},0,0,0,0,0,0,0,0,0,0,0,null,null,null,null,null,null,null,null,null,1]
[null,null,"Разлика (146-405 ) [ Укупни приходи, примања и пренета средства - Укупни расходи и издаци]",{"$f":"D193-D452","v":0},{"$f":"E193-E452","v":0},0,0,0,0,0,0,0,0,0,0,null,null,null,null,null,null,null,null,null,1]
[null,null,null,null,null,null,null,null,null,null,null,null,null,null,null,null,null,null,null,null,null,null,null,null,1]
["Шифра","Извори финансирања програмске активности",null,"Вредност у базној години (2018)",null,"Очекивана вредност у 2019. години",null,"Вредност у 2020. години",null,"Вредност у 2021. години",null,"Вредност у 2022. години",null,"Укупно (2020-2022)",null,null,null,null,null,null,null,null,null,null,1]
[1,2,null,3,null,4,null,5,null,6,null,7,null,"8=(5+6+7)",null,null,null,null,null,null,null,null,null,null,1]
["01","Приходи из буџета",null,{"$f":"D452","v":0},null,{"$f":"F452","v":0},null,{"$f":"H452","v":0},null,{"$f":"J452","v":0},null,{"$f":"L452","v":0},null,{"$f":"SUM(H457,J457,L457)","v":0},null,null,null,null,null,null,null,null,null,null,0]
["02","Трансфери између корисника на истом нивоу",null,null,null,null,null,null,null,null,null,null,null,{"$f":"SUM(H458,J458,L458)","v":0},null,null,null,null,null,null,null,null,null,null,0]
["03","Социјални доприноси",null,null,null,null,null,null,null,null,null,null,null,0,null,null,null,null,null,null,null,null,null,null,0]
["04","Сопствени приходи буџетских корисника",null,null,null,null,null,null,null,null,null,null,null,0,null,null,null,null,null,null,null,null,null,null,0]
["05","Донације од иностраних земаља",null,null,null,null,null,null,null,null,null,null,null,0,null,null,null,null,null,null,null,null,null,null,0]
["06","Донације од међународних организација",null,null,null,null,null,null,null,null,null,null,null,0,null,null,null,null,null,null,null,null,null,null,0]
["07","Трансфери од других нивоа власти",null,null,null,null,null,null,null,null,null,null,null,0,null,null,null,null,null,null,null,null,null,null,0]
["08","Добровољни трансфери од физичких и правних лица",null,null,null,null,null,null,null,null,null,null,null,0,null,null,null,null,null,null,null,null,null,null,0]
["09","Примања од продаје нефинансијске имовине",null,null,null,null,null,null,null,null,null,null,null,0,null,null,null,null,null,null,null,null,null,null,0]
["10","Примања од домаћих задуживања",null,null,null,null,null,null,null,null,null,null,null,0,null,null,null,null,null,null,null,null,null,null,0]
["11","Примања од иностраних задуживања",null,null,null,null,null,null,null,null,null,null,null,0,null,null,null,null,null,null,null,null,null,null,0]
["12","Примања од отплате датих кредита и продаје финансијске имовине",null,null,null,null,null,null,null,null,null,null,null,0,null,null,null,null,null,null,null,null,null,null,0]
["13","Нераспоређени вишак прихода из ранијих година",null,null,null,null,null,null,null,null,null,null,null,0,null,null,null,null,null,null,null,null,null,null,0]
["14","Неутрошена средства од приватизације из ранијих година",null,null,null,null,null,null,null,null,null,null,null,0,null,null,null,null,null,null,null,null,null,null,0]
["15","Неутрошена средства донација из ранијих година",null,null,null,null,null,null,null,null,null,null,null,0,null,null,null,null,null,null,null,null,null,null,0]
["16","Родитељски динар за ваннаставне активности",null,null,null,null,null,null,null,null,null,null,null,0,null,null,null,null,null,null,null,null,null,null,0]
["56","Финансијска помоћ ЕУ",null,null,null,null,null,null,null,null,null,null,null,0,null,null,null,null,null,null,null,null,null,null,0]
["УКУПНО  ЗА:",null,{"$f":"$D$5","v":"2001-0001  Функционисање и остваривање предшколског васпитања и образовања"},{"$f":"SUM(D457:E473)","v":0},null,{"$f":"SUM(F457:G473)","v":0},null,{"$f":"SUM(H457:I473)","v":0},null,{"$f":"SUM(J457:K473)","v":0},null,{"$f":"SUM(L457:M473)","v":0},null,{"$f":"SUM(H474:M474)","v":0},null,null,null,null,null,null,null,null,null,null,1]
[null,null,"Разлика ( укупни расходи и издаци -  укупни извори )",{"$f":"D452+E452-D474","v":0},null,{"$f":"F452+G452-F474","v":0},null,{"$f":"H452+I452-H474","v":0},null,{"$f":"J452+K452-J474","v":0},null,{"$f":"L452+M452-L474","v":0},null,{"$f":"N452+O452-N474","v":0},null,null,null,null,null,null,null,null,null,null,1]
[null,null,null,null,null,null,null,null,null,null,null,null,null,null,null,null,null,null,null,null,null,null,null,null,1]
["*","1-3 циља за сваку програмску активност",null,null,null,null,null,null,null,null,null,null,null,null,null,null,null,null,null,null,null,null,null,null,1]
["**","1-3 индикатора исхода/излазног резултата за сваки циљ",null,null,null,null,null,null,null,null,null,null,null,null,null,null,null,null,null,null,null,null,null,null,1]
[null,null,null,null,null,null,null,null,null,null,null,null,null,null,null,null,null,null,null,null,null,null,null,null,1]
[null,null,null,null,null,null,null,null,null,null,null,null,"Одговорно лице",null,null,null,null,null,null,null,null,null,null,null,1]
[null,null,null,null,null,null,null,null,null,null,null,null,null,null,null,null,null,null,null,null,null,null,null,null,1]
[null,"Датум:",null,null,null,null,null,null,null,null,null,null,null,null,null,null,null,null,null,null,null,null,null,null,1]

{"sheet":"Projekat","index":4,"n_rows":482,"n_cols":40,"rows_kept":482,"cut":false,"hidden":false,"merged":[[474,3,474,4],[474,5,474,6],[474,7,474,8],[474,9,474,10],[455,9,455,10],[457,9,457,10],[456,5,456,6],[458,9,458,10],[454,3,454,4],[455,3,455,4],[454,5,454,6],[455,5,455,6],[456,3,456,4],[456,7,456,8],[462,5,462,6],[462,7,462,8],[462,9,462,10],[464,9,464,10],[466,5,466,6],[466,7,466,8],[466,9,466,10],[467,5,467,6],[467,7,467,8],[467,9,467,10],[455,7,455,8],[32,3,32,5],[31,1,33,2],[43,0,43,14],[31,0,33,0],[31,11,31,14],[32,11,32,14],[33,11,33,14],[455,1,455,2],[44,2,45,2],[33,3,33,5],[44,3,44,4],[454,1,454,2],[0,0,0,14],[1,0,1,14],[15,3,15,14],[17,3,17,14],[10,0,10,2],[3,3,3,14],[3,0,3,2],[4,0,4,2],[24,3,24,5],[19,11,19,14],[24,11,24,14],[21,11,21,14],[23,3,23,14],[20,3,20,5],[20,11,20,14],[19,1,21,2],[9,0,9,2],[9,3,9,14],[12,3,12,14],[14,3,14,14],[10,3,10,14],[11,3,11,14],[23,1,24,2],[6,3,6,10],[8,3,8,14],[6,0,6,2],[8,0,8,2],[7,0,7,2],[7,3,7,12],[5,0,5,2],[5,3,5,14],[25,0,27,0],[19,3,19,5],[13,3,13,14],[17,0,18,0],[18,3,18,5],[17,1,18,2],[19,0,21,0],[21,3,21,5],[26,11,26,14],[25,11,25,14],[27,11,27,14],[25,1,27,2],[27,3,27,5],[25,3,25,5],[11,0,11,2],[12,0,12,2],[14,0,14,2],[18,11,18,14],[454,9,454,10],[31,3,31,5],[23,0,24,0],[26,3,26,5],[15,0,15,2],[13,0,13,2],[454,13,454,14],[454,7,454,8],[30,3,30,5],[29,0,30,0],[29,1,30,2],[30,11,30,14],[29,3,29,14],[44,0,45,0],[44,11,44,12],[44,1,45,1],[44,5,44,6],[44,9,44,10],[44,7,44,8],[479,12,479,13],[44,13,44,14],[455,11,455,12],[455,13,455,14],[474,11,474,12],[474,13,474,14],[456,13,456,14],[454,11,454,12],[457,13,457,14],[458,13,458,14],[456,11,456,12],[457,11,457,12],[460,13,460,14],[464,13,464,14],[464,11,464,12],[465,13,465,14],[465,11,465,12],[467,11,467,12],[466,11,466,12],[466,13,466,14],[469,13,469,14],[456,1,456,2],[458,1,458,2],[458,3,458,4],[458,5,458,6],[458,11,458,12],[456,9,456,10],[458,7,458,8],[457,1,457,2],[457,3,457,4],[457,5,457,6],[457,7,457,8],[460,1,460,2],[460,3,460,4],[460,11,460,12],[459,13,459,14],[460,9,460,10],[459,7,459,8],[460,5,460,6],[460,7,460,8],[459,9,459,10],[459,11,459,12],[459,1,459,2],[459,3,459,4],[459,5,459,6],[462,1,462,2],[462,3,462,4],[461,1,461,2],[461,3,461,4],[461,5,461,6],[461,7,461,8],[461,9,461,10],[461,13,461,14],[463,9,463,10],[463,11,463,12],[461,11,461,12],[462,13,462,14],[463,13,463,14],[462,11,462,12],[465,1,465,2],[465,3,465,4],[465,5,465,6],[465,7,465,8],[465,9,465,10],[464,1,464,2],[464,3,464,4],[463,5,463,6],[463,7,463,8],[464,5,464,6],[464,7,464,8],[463,1,463,2],[463,3,463,4],[466,1,466,2],[466,3,466,4],[468,5,468,6],[468,7,468,8],[468,9,468,10],[468,11,468,12],[468,13,468,14],[467,1,467,2],[467,3,467,4],[470,9,470,10],[470,11,470,12],[471,13,471,14],[470,13,470,14],[469,7,469,8],[469,9,469,10],[469,11,469,12],[467,13,467,14],[468,1,468,2],[468,3,468,4],[470,5,470,6],[470,7,470,8],[470,1,470,2],[470,3,470,4],[469,1,469,2],[469,3,469,4],[469,5,469,6],[473,7,473,8],[472,13,472,14],[473,9,473,10],[473,11,473,12],[473,13,473,14],[472,9,472,10],[472,11,472,12],[472,7,472,8],[471,1,471,2],[471,3,471,4],[471,5,471,6],[473,0,473,1],[473,3,473,4],[473,5,473,6],[472,1,472,2],[472,3,472,4],[472,5,472,6],[471,7,471,8],[471,9,471,10],[471,11,471,12]]}
["Обрасци за припрему програмског буџета",null,null,null,null,null,null,null,null,null,null,null,null,null,null,null,null,null,null,null,null,null,null,null,0,null,null,null,null,null,null,null,null,null,null,"3. ПРОЈЕКАТ",null,null,null,"Директни буџетски корисник локалне власти"]
["3. ПРОЈЕКАТ",null,null,null,null,null,null,null,null,null,null,null,null,null,null,null,null,null,null,null,null,null,null,null,null,null,null,null,null,null,null,null,null,null,null,"3. ПРОЈЕКАТ - ЗАХТЕВ ЗА ДОДАТНА СРЕДСТВА",null,null,{"$f":"IF(A2=AJ1,\"\",\" - захтев за додатна средства\")","v":""},"Индиректни буџетски корисник локалне власти"]
[null,null,null,null,null,null,null,null,null,null,null,null,null,null,null,null,null,null,null,null,null,null,null,null,null,"Вредност у базној години (2016)",null,"Очекивана вредност у 2017. години",null,"Вредност у 2018. години",null,"Вредност у 2019. години",null,"Вредност у 2020. години",null,"Укупно (2018-2020)",null,null,null,"Корисник буџетских средстава на другом нивоу власти"]
["Програм коме припада:",null,null,{"$f":"IF(Program!$D$4=\"\",\"\",Program!$D$4)","v":"Програм 8.  Предшколско васпитање и образовање"},null,null,null,null,null,null,null,null,null,null,null,null,null,null,null,null,null,null,null,null,null,"Буџетска средства","Средства из осталих извора","Буџетска средства","Средства из осталих извора","Буџетска средства","Средства из осталих извора","Буџетска средства","Средства из осталих извора","Буџетска средства","Средства из осталих извора","Буџетска средства","Средства из осталих извора"]
["Шифра пројекта:",null,null,{"$f":"Program!$D$5","v":"2001"},null,null,null,null,null,null,null,null,null,null,null,null,null,null,null,null,null,null,null,null,{"$f":"$C$474&AM2&\" (\"&$D$8&\")\"","v":"2001-    ()"},{"$f":"D452","v":0},{"$f":"E452","v":0},0,0,0,0,0,0,0,0,0,0]
["Назив пројекта:"]
["Функција:"]
["Назив организационе јединице/Буџетски корисник:",null,null,null,null,null,null,null,null,null,null,null,null,null,null,null,null,null,null,null,null,null,null,null,null,"Kontrole","p/r",{"$f":"D193-D452","v":0},{"$f":"E193-E452","v":0},0,0,0,0,0,0,0,0,{"$f":"N193-N452","v":0},{"$f":"O193-O452","v":0}]
["Сврха:",null,null,null,null,null,null,null,null,null,null,null,null,null,null,null,null,null,null,null,null,null,null,null,null,null,"p+r/i",{"$f":"D452+E452-D474","v":0},{"$f":"F452+G452-F474","v":0},{"$f":"H452+I452-H474","v":0},{"$f":"J452+K452-J474","v":0},{"$f":"L452+M452-L474","v":0},{"$f":"N452+O452-N474","v":0}]
["Основ:",null,null,null,null,null,null,null,null,null,null,null,null,null,null,null,null,null,null,null,null,null,null,null,null,null,"приходи из буџета",{"$f":"D127-$D$457","v":0},{"$f":"F127-$F$457","v":0},{"$f":"H127-$H$457","v":0},{"$f":"J127-$J$457","v":0},{"$f":"L127-$L$457","v":0},{"$f":"N127-$N$457","v":0}]
["Опис:",null,null,null,null,null,null,null,null,null,null,null,null,null,null,null,null,null,null,null,null,null,null,null,null,null,"transferi",{"$f":"D123-$D$458","v":0},{"$f":"F123-$F$458","v":0},{"$f":"H123-$H$458","v":0},{"$f":"J123-$J$458","v":0},{"$f":"L123-$L$458","v":0},{"$f":"N123-$N$458","v":0}]
["Трајање пројекта:"]
["Ознака за капитални пројекат:",null,null,"(статус пројектно техничке документације, постоји или не постоји, статус имовинско правних односа, решени или нерешени)",null,null,null,null,null,null,null,null,null,null,null,null,null,null,null,null,null,null,null,null,null,781111,{"$f":"D123+F123+H123+J123+L123+N123","v":0}]
["Ознака да ли је ИПА пројекат:",null,null,"(бира се ИПА година финансирања и ИПА програм/мере из предефинисане листе коју у базу уноси Министарство финансија",null,null,null,null,null,null,null,null,null,null,null,null,null,null,null,null,null,null,null,null,null,791111,{"$f":"D127+F127+H127+J127+L127+N127","v":0}]
["Мере и поглавље преговора о приступању ЕУ:"]
["Одговорно лице за спровођење пројекта:"]
[]
[null,"Циљ*",null,"Индикатори**"]
[null,null,null,"Назив индикатора",null,null,"Вредност у базној години (2018)","Очекивана вредност у 2019. години","Циљана вредност у 2020. години","Циљана вредност у 2021. години","Циљана вредност у 2022. години","Извор верификације"]
[1]
[]
[]
[]
[null,"Циљ",null,"Индикатори"]
[null,null,null,"Назив индикатора",null,null,"Вредност у базној години (2018)","Очекивана вредност у 2019. години","Циљана вредност у 2020. години","Циљана вредност у 2021. години","Циљана вредност у 2022. години","Извор верификације"]
[2]
[]
[]
[]
[null,"Циљ",null,"Индикатори"]
[null,null,null,"Назив индикатора",null,null,"Вредност у базној години (2018)","Очекивана вредност у 2019. години","Циљана вредност у 2020. години","Циљана вредност у 2021. години","Циљана вредност у 2022. години","Извор верификације"]
[3]
[]
[]
[]
[]
[]
[]
[]
[]
[]
[]
[]
["ПЛАНИРАНА СРЕДСТВА ЗА ПРОЈЕКАТ",null,null,null,null,null,null,null,null,null,null,null,null,null,null,null,null,null,null,null,null,null,null,null,1]
["Рбр.","Конто","ОПИС","Вредност у базној години (2018)",null,"Очекивана вредност у 2019. години",null,"Вредност у 2020. години",null,"Вредност у 2021. години",null,"Вредност у 2022. години",null,"Укупно (2020-2022)",null,null,null,null,null,null,null,null,null,null,1]
[null,null,null,"Приходи из буџета","Приходи из осталих извора","Приходи из буџета","Приходи из осталих извора","Приходи из буџета","Приходи из осталих извора","Приходи из буџета","Приходи из осталих извора","Приходи из буџета","Приходи из осталих извора","Приходи из буџета","Приходи из осталих извора",null,null,null,null,null,null,null,null,null,1]
[1,2,3,4,5,6,7,8,9,10,11,12,13,"14=(8+10+12)","15=(9+11+13)",null,null,null,null,null,null,null,null,null,1]
[1,300000,"КАПИТАЛ, УТВРЂИВАЊЕ РЕЗУЛТАТА ПОСЛОВАЊА И ВАНБИЛАНСНА ЕВИДЕНЦИЈА\n(2 + 5)",{"$f":"SUM(D49,D52)","v":0},{"$f":"SUM(E49,E52)","v":0},0,0,0,0,0,0,0,0,0,0,null,null,null,null,null,null,null,null,null,{"$f":"SUM(D48:O48)","v":0}]
[2,310000,"КАПИТАЛ (3)",{"$f":"SUM(D50)","v":0},{"$f":"SUM(E50)","v":0},0,0,0,0,0,0,0,0,0,0,null,null,null,null,null,null,null,null,null,0]
[3,311000,"КАПИТАЛ (4)",{"$f":"SUM(D51)","v":0},0,0,0,0,0,0,0,0,0,0,0,null,null,null,null,null,null,null,null,null,0]
[4,311700,"Пренета неутрошена средства из ранијих година",null,null,null,null,null,null,null,null,null,null,{"$f":"SUM(H51,J51,L51)","v":0},{"$f":"SUM(I51,K51,M51)","v":0},null,null,null,null,null,null,null,null,null,0]
[5,320000,"УТВРЂИВАЊЕ РЕЗУЛТАТА ПОСЛОВАЊА (6)",{"$f":"SUM(D53)","v":0},{"$f":"SUM(E53)","v":0},0,0,0,0,0,0,0,0,0,0,null,null,null,null,null,null,null,null,null,0]
[6,321000,"УТВРЂИВАЊЕ РЕЗУЛТАТА ПОСЛОВАЊА (7)",{"$f":"SUM(D54)","v":0},0,0,0,0,0,0,0,0,0,0,0,null,null,null,null,null,null,null,null,null,0]
[7,321300,"Нераспоређени вишак прихода и примања или дефицит из ранијих година",null,null,null,null,null,null,null,null,null,null,{"$f":"SUM(H54,J54,L54)","v":0},{"$f":"SUM(I54,K54,M54)","v":0},null,null,null,null,null,null,null,null,null,0]
[{"$f":"A54+1","v":8},700000,"ТЕКУЋИ ПРИХОДИ \n(9 + 32 + 44 + 69 + 74 +78)",{"$f":"D56+D79+D91+D116+D121+D125","v":0},{"$f":"E56+E79+E91+E116+E121+E125","v":0},0,0,0,0,0,0,0,0,{"$f":"N56+N79+N91+N116+N121+N125","v":0},0,null,null,null,null,null,null,null,null,null,{"$f":"SUM(D55:O55)","v":0}]
[{"$f":"A55+1","v":9},710000,"ПОРЕЗИ \n(10 + 14 + 16 + 23 + 29)",{"$f":"D57+D61+D63+D70+D76","v":0},{"$f":"E57+E61+E63+E70+E76","v":0},0,0,0,0,0,0,0,0,0,0,null,null,null,null,null,null,null,null,null,{"$f":"SUM(D56:O56)","v":0}]
[10,711000,"ПОРЕЗ НА ДОХОДАК, ДОБИТ И КАПИТАЛНЕ ДОБИТКЕ (од 11 до 13)",{"$f":"SUM(D58:D60)","v":0},{"$f":"SUM(E58:E60)","v":0},0,0,0,0,0,0,0,0,{"$f":"SUM(H57,J57,L57)","v":0},0,null,null,null,null,null,null,null,null,null,0]
[11,711100,"Порези на доходак и капиталнe добиткe које плаћају физичка лица",null,null,null,null,null,null,null,null,null,null,0,0,null,null,null,null,null,null,null,null,null,0]
[12,711200,"Порези на добит и капиталне добитке које плаћају предузећа и друга правна лица",null,null,null,null,null,null,null,null,null,null,0,0,null,null,null,null,null,null,null,null,null,0]
[13,711300,"Порези на доходак, добит и капиталне добитке који се не могу разврстати између физичких и правних лица",null,null,null,null,null,null,null,null,null,null,0,0,null,null,null,null,null,null,null,null,null,0]
[14,712000,"ПОРЕЗ НА ФОНД ЗАРАДА (15)",{"$f":"SUM(D62)","v":0},0,0,0,0,0,0,0,0,0,0,0,null,null,null,null,null,null,null,null,null,0]
[15,712100,"Порез на фонд зарада",null,null,null,null,null,null,null,null,null,null,0,0,null,null,null,null,null,null,null,null,null,0]
[16,713000,"ПОРЕЗ НА ИМОВИНУ (од 17 до 22)",{"$f":"SUM(D64:D69)","v":0},0,0,0,0,0,0,0,0,0,0,0,null,null,null,null,null,null,null,null,null,0]
[17,713100,"Периодични порези на непокретности",null,null,null,null,null,null,null,null,null,null,0,0,null,null,null,null,null,null,null,null,null,0]
[18,713200,"Периодични порези на нето имовину",null,null,null,null,null,null,null,null,null,null,0,0,null,null,null,null,null,null,null,null,null,0]
[19,713300,"Порези на заоставштину, наслеђе и поклон",null,null,null,null,null,null,null,null,null,null,0,0,null,null,null,null,null,null,null,null,null,0]
[20,713400,"Порези на финансијске и капиталне трансакције",null,null,null,null,null,null,null,null,null,null,0,0,null,null,null,null,null,null,null,null,null,0]
[21,713500,"Други једнократни порези на имовину",null,null,null,null,null,null,null,null,null,null,0,0,null,null,null,null,null,null,null,null,null,0]
[22,713600,"Други периодични порези на имовину",null,null,null,null,null,null,null,null,null,null,0,0,null,null,null,null,null,null,null,null,null,0]
[23,714000,"ПОРЕЗ НА ДОБРА И УСЛУГЕ (од 24 до 28)",{"$f":"SUM(D71:D75)","v":0},0,0,0,0,0,0,0,0,0,0,0,null,null,null,null,null,null,null,null,null,0]
[24,714100,"Општи порези на добра и услуге",null,null,null,null,null,null,null,null,null,null,0,0,null,null,null,null,null,null,null,null,null,0]
[25,714300,"Добит фискалних монопола",null,null,null,null,null,null,null,null,null,null,0,0,null,null,null,null,null,null,null,null,null,0]
[26,714400,"Порези на појединачне услуге",null,null,null,null,null,null,null,null,null,null,0,0,null,null,null,null,null,null,null,null,null,0]
[27,714500,"Порези, таксе и накнаде на употребу добара, на дозволу да се добра употребљавају или делатности обављају",null,null,null,null,null,null,null,null,null,null,0,0,null,null,null,null,null,null,null,null,null,0]
[28,714600,"Други порези на добра и услуге",null,null,null,null,null,null,null,null,null,null,0,0,null,null,null,null,null,null,null,null,null,0]
[29,716000,"ДРУГИ ПОРЕЗИ (30 + 31)",{"$f":"SUM(D77:D78)","v":0},0,0,0,0,0,0,0,0,0,0,0,null,null,null,null,null,null,null,null,null,0]
[30,716100,"Други порези које искључиво плаћају предузећа, односно предузетници",null,null,null,null,null,null,null,null,null,null,0,0,null,null,null,null,null,null,null,null,null,0]
[31,716200,"Други порези које плаћају остала лица или који се не могу идентификовати",null,null,null,null,null,null,null,null,null,null,0,0,null,null,null,null,null,null,null,null,null,0]
[32,730000,"ДОНАЦИЈЕ, ПОМОЋИ И ТРАНСФЕРИ \n(33 + 36 + 41)",{"$f":"D80+D83+D88","v":0},{"$f":"E80+E83+E88","v":0},0,0,0,0,0,0,0,0,0,0,null,null,null,null,null,null,null,null,null,0]
[33,731000,"ДОНАЦИЈЕ ОД ИНОСТРАНИХ ДРЖАВА (34 + 35)",{"$f":"SUM(D81:D82)","v":0},0,0,0,0,0,0,0,0,0,0,0,null,null,null,null,null,null,null,null,null,0]
[34,731100,"Текуће донације од иностраних држава",null,null,null,null,null,null,null,null,null,null,0,0,null,null,null,null,null,null,null,null,null,0]
[35,731200,"Капиталне донације од иностраних држава",null,null,null,null,null,null,null,null,null,null,0,0,null,null,null,null,null,null,null,null,null,0]
[36,732000,"ДОНАЦИЈЕ И ПОМОЋИ ОД МЕЂУНАРОДНИХ ОРГАНИЗАЦИЈА (од 37 до 40)",{"$f":"SUM(D84:D87)","v":0},{"$f":"SUM(E84:E87)","v":0},0,0,0,0,0,0,0,0,0,0,null,null,null,null,null,null,null,null,null,0]
[37,732100,"Текуће донације од међународних организација",null,null,null,null,null,null,null,null,null,null,0,0,null,null,null,null,null,null,null,null,null,0]
[38,732200,"Капиталне донације од међународних организација",null,null,null,null,null,null,null,null,null,null,0,0,null,null,null,null,null,null,null,null,null,0]
[39,732300,"Текуће помоћи од ЕУ",null,null,null,null,null,null,null,null,null,null,0,0,null,null,null,null,null,null,null,null,null,0]
[40,732400,"Капиталне помоћи од ЕУ",null,null,null,null,null,null,null,null,null,null,0,0,null,null,null,null,null,null,null,null,null,0]
[41,733000,"ТРАНСФЕРИ ОД ДРУГИХ НИВОА ВЛАСТИ (42 + 43)",{"$f":"SUM(D89:D90)","v":0},0,0,0,0,0,0,0,0,0,{"$f":"SUM(H88,J88,L88)","v":0},0,null,null,null,null,null,null,null,null,null,0]
[42,733100,"Текући трансфери од других нивоа власти",null,null,null,null,null,null,null,null,null,null,{"$f":"SUM(H89,J89,L89)","v":0},0,null,null,null,null,null,null,null,null,null,0]
[43,733200,"Капитални трансфери од других нивоа власти",null,null,null,null,null,null,null,null,null,null,0,0,null,null,null,null,null,null,null,null,null,0]
[44,740000,"ДРУГИ ПРИХОДИ (45 + 52 + 57 + 64 + 67)",{"$f":"D92+D99+D104+D111+D114","v":0},{"$f":"E92+E99+E104+E111+E114","v":0},0,0,0,0,0,0,0,0,0,0,null,null,null,null,null,null,null,null,null,0]
[45,741000,"ПРИХОДИ ОД ИМОВИНЕ (од 46 до 51)",{"$f":"SUM(D93:D98)","v":0},{"$f":"SUM(E93:E98)","v":0},0,0,0,0,0,0,0,0,0,0,null,null,null,null,null,null,null,null,null,0]
[46,741100,"Камате",null,null,null,null,null,null,null,null,null,null,0,0,null,null,null,null,null,null,null,null,null,0]
[47,741200,"Дивиденде",null,null,null,null,null,null,null,null,null,null,0,0,null,null,null,null,null,null,null,null,null,0]
[48,741300,"Повлачење прихода од квази корпорација",null,null,null,null,null,null,null,null,null,null,0,0,null,null,null,null,null,null,null,null,null,0]
[49,741400,"Приход од имовине који припада имаоцима полиса осигурања",null,null,null,null,null,null,null,null,null,null,0,0,null,null,null,null,null,null,null,null,null,0]
[50,741500,"Закуп непроизведене имовине",null,null,null,null,null,null,null,null,null,null,0,0,null,null,null,null,null,null,null,null,null,0]
[51,741600,"Финансијске промене на финансијским лизинзима",null,null,null,null,null,null,null,null,null,null,0,0,null,null,null,null,null,null,null,null,null,0]
[52,742000,"ПРИХОДИ ОД ПРОДАЈЕ ДОБАРА И УСЛУГА (од 53 до 56)",{"$f":"SUM(D100:D103)","v":0},0,0,0,0,0,0,0,0,0,0,0,null,null,null,null,null,null,null,null,null,0]
[53,742100,"Приходи од продаје добара и услуга или закупа од стране тржишних организација",null,null,null,null,null,null,null,null,null,null,0,0,null,null,null,null,null,null,null,null,null,0]
[54,742200,"Таксе и накнаде",null,null,null,null,null,null,null,null,null,null,0,0,null,null,null,null,null,null,null,null,null,0]
[55,742300,"Споредне продаје добара и услуга које врше државне нетржишне јединице",null,null,null,null,null,null,null,null,null,null,0,0,null,null,null,null,null,null,null,null,null,0]
[56,742400,"Импутиране продаје добара и услуга",null,null,null,null,null,null,null,null,null,null,0,0,null,null,null,null,null,null,null,null,null,0]
[57,743000,"НОВЧАНЕ КАЗНЕ И ОДУЗЕТА ИМОВИНСКА КОРИСТ (од 58 до 63)",{"$f":"SUM(D105:D110)","v":0},0,0,0,0,0,0,0,0,0,0,0,null,null,null,null,null,null,null,null,null,0]
[58,743100,"Приходи од новчаних казни за кривична дела",null,null,null,null,null,null,null,null,null,null,0,0,null,null,null,null,null,null,null,null,null,0]
[59,743200,"Приходи од новчаних казни за привредне преступе",null,null,null,null,null,null,null,null,null,null,0,0,null,null,null,null,null,null,null,null,null,0]
[60,743300,"Приходи од новчаних казни за прекршаје",null,null,null,null,null,null,null,null,null,null,0,0,null,null,null,null,null,null,null,null,null,0]
[61,743400,"Приходи од пенала",null,null,null,null,null,null,null,null,null,null,0,0,null,null,null,null,null,null,null,null,null,0]
[62,743500,"Приходи од одузете имовинске користи",null,null,null,null,null,null,null,null,null,null,0,0,null,null,null,null,null,null,null,null,null,0]
[63,743900,"Остале новчане казне, пенали и приходи од одузете имовинске користи",null,null,null,null,null,null,null,null,null,null,0,0,null,null,null,null,null,null,null,null,null,0]
[64,744000,"ДОБРОВОЉНИ ТРАНСФЕРИ ОД ФИЗИЧКИХ И ПРАВНИХ ЛИЦА (65 + 66)",{"$f":"SUM(D112:D113)","v":0},0,0,0,0,0,0,0,0,0,0,0,null,null,null,null,null,null,null,null,null,0]
[65,744100,"Текући добровољни трансфери од физичких и правних лица",null,null,null,null,null,null,null,null,null,null,0,0,null,null,null,null,null,null,null,null,null,0]
[66,744200,"Капитални добровољни трансфери од физичких и правних лица",null,null,null,null,null,null,null,null,null,null,0,0,null,null,null,null,null,null,null,null,null,0]
[67,745000,"МЕШОВИТИ И НЕОДРЕЂЕНИ ПРИХОДИ (68)",{"$f":"D115","v":0},{"$f":"E115","v":0},0,0,0,0,0,0,0,0,0,0,null,null,null,null,null,null,null,null,null,0]
[68,745100,"Мешовити и неодређени приходи",null,null,null,null,null,null,null,null,null,null,0,0,null,null,null,null,null,null,null,null,null,0]
[69,770000,"МЕМОРАНДУМСКЕ СТАВКЕ ЗА РЕФУНДАЦИЈУ РАСХОДА (70 + 72)",{"$f":"D117+D119","v":0},0,0,0,0,0,0,0,0,0,0,0,null,null,null,null,null,null,null,null,null,0]
[70,771000,"МЕМОРАНДУМСКЕ СТАВКЕ ЗА РЕФУНДАЦИЈУ РАСХОДА (71)",{"$f":"D118","v":0},{"$f":"E118","v":0},0,0,0,0,0,0,0,0,0,0,null,null,null,null,null,null,null,null,null,0]
[71,771100,"Меморандумске ставке за рефундацију расхода",null,null,null,null,null,null,null,null,null,null,0,0,null,null,null,null,null,null,null,null,null,0]
[72,772000,"МЕМОРАНДУМСКЕ СТАВКЕ ЗА РЕФУНДАЦИЈУ РАСХОДА ИЗ ПРЕТХОДНЕ ГОДИНЕ (73)",{"$f":"D120","v":0},{"$f":"E120","v":0},0,0,0,0,0,0,0,0,0,0,null,null,null,null,null,null,null,null,null,0]
[{"$f":"A119+1","v":73},772100,"Меморандумске ставке за рефундацију расхода из претходне године",null,null,null,null,null,null,null,null,null,null,0,0,null,null,null,null,null,null,null,null,null,{"$f":"SUM(D120:O120)","v":0}]
[74,780000,"ТРАНСФЕРИ ИЗМЕЂУ БУЏЕТСКИХ КОРИСНИКА НА ИСТОМ НИВОУ (75)",{"$f":"D122","v":0},0,0,0,0,0,0,0,0,0,0,0,null,null,null,null,null,null,null,null,null,0]
[75,781000,"ТРАНСФЕРИ ИЗМЕЂУ БУЏЕТСКИХ КОРИСНИКА НА ИСТОМ НИВОУ (76 + 77)",{"$f":"SUM(D123:D124)","v":0},0,0,0,0,0,0,0,0,0,0,0,null,null,null,null,null,null,null,null,null,0]
[76,781100,"Трансфери између буџетских корисника на истом нивоу",null,null,null,null,null,null,null,null,null,null,0,{"$f":"SUM(I123,K123,M123)","v":0},null,null,null,null,null,null,null,null,null,0]
[77,781300,"Трансфери између организација обавезног социјалног осигурања",null,null,null,null,null,null,null,null,null,null,{"$f":"SUM(H124,J124,L124)","v":0},{"$f":"SUM(I124,K124,M124)","v":0},null,null,null,null,null,null,null,null,null,0]
[78,790000,"ПРИХОДИ ИЗ БУЏЕТА (79)",{"$f":"D126","v":0},0,0,0,0,0,0,0,0,0,0,0,null,null,null,null,null,null,null,null,null,0]
[79,791000,"ПРИХОДИ ИЗ БУЏЕТА (80)",{"$f":"D127","v":0},0,0,0,0,0,0,0,0,0,0,{"$f":"SUM(I126,K126,M126)","v":0},null,null,null,null,null,null,null,null,null,0]
[80,791100,"Приходи из буџета",null,null,null,null,null,null,null,null,null,null,{"$f":"SUM(H127,J127,L127)","v":0},{"$f":"SUM(I127,K127,M127)","v":0},null,null,null,null,null,null,null,null,null,0]
[81,800000,"ПРИМАЊА ОД ПРОДАЈЕ НЕФИНАНСИЈСКЕ ИМОВИНЕ (82 + 89 + 96 + 99)",{"$f":"D129+D136+D143+D146","v":0},{"$f":"E129+E136+E143+E146","v":0},0,0,0,0,0,0,0,0,0,0,null,null,null,null,null,null,null,null,null,0]
[82,810000,"ПРИМАЊА ОД ПРОДАЈЕ ОСНОВНИХ СРЕДСТАВА (83 + 85 + 87)",{"$f":"D130+D132+D134","v":0},{"$f":"E130+E132+E134","v":0},0,0,0,0,0,0,0,0,0,0,null,null,null,null,null,null,null,null,null,0]
[83,811000,"ПРИМАЊА ОД ПРОДАЈЕ НЕПОКРЕТНОСТИ (84)",{"$f":"D131","v":0},{"$f":"E131","v":0},0,0,0,0,0,0,0,0,0,0,null,null,null,null,null,null,null,null,null,0]
[84,811100,"Примања од продаје непокретности",null,null,null,null,null,null,null,null,null,null,0,0,null,null,null,null,null,null,null,null,null,0]
[85,812000,"ПРИМАЊА ОД ПРОДАЈЕ ПОКРЕТНЕ ИМОВИНЕ (86)",{"$f":"D133","v":0},0,0,0,0,0,0,0,0,0,0,0,null,null,null,null,null,null,null,null,null,0]
[86,812100,"Примања од продаје покретне имовине",null,null,null,null,null,null,null,null,null,null,0,0,null,null,null,null,null,null,null,null,null,0]
[87,813000,"ПРИМАЊА ОД ПРОДАЈЕ ОСТАЛИХ ОСНОВНИХ СРЕДСТАВА (88)",{"$f":"D135","v":0},0,0,0,0,0,0,0,0,0,0,0,null,null,null,null,null,null,null,null,null,0]
[88,813100,"Примања од продаје осталих основних средстава",null,null,null,null,null,null,null,null,null,null,0,0,null,null,null,null,null,null,null,null,null,0]
[89,820000,"ПРИМАЊА ОД ПРОДАЈЕ ЗАЛИХА (90 + 92 + 94)",{"$f":"D137+D139+D141","v":0},0,0,0,0,0,0,0,0,0,0,0,null,null,null,null,null,null,null,null,null,0]
[90,821000,"ПРИМАЊА ОД ПРОДАЈЕ РОБНИХ РЕЗЕРВИ (91)",{"$f":"D138","v":0},0,0,0,0,0,0,0,0,0,0,0,null,null,null,null,null,null,null,null,null,0]
[91,821100,"Примања од продаје робних резерви",null,null,null,null,null,null,null,null,null,null,0,0,null,null,null,null,null,null,null,null,null,0]
[92,822000,"ПРИМАЊА ОД ПРОДАЈЕ ЗАЛИХА  ПРОИЗВОДЊЕ (93)",{"$f":"D140","v":0},0,0,0,0,0,0,0,0,0,0,0,null,null,null,null,null,null,null,null,null,0]
[93,822100,"Примања од продаје залиха производње",null,null,null,null,null,null,null,null,null,null,0,0,null,null,null,null,null,null,null,null,null,0]
[94,823000,"ПРИМАЊА ОД ПРОДАЈЕ РОБЕ ЗА ДАЉУ ПРОДАЈУ (95)",{"$f":"D142","v":0},0,0,0,0,0,0,0,0,0,0,0,null,null,null,null,null,null,null,null,null,0]
[95,823100,"Примања од продаје робе за даљу продају",null,null,null,null,null,null,null,null,null,null,0,0,null,null,null,null,null,null,null,null,null,0]
[96,830000,"ПРИМАЊА ОД ПРОДАЈЕ ДРАГОЦЕНОСТИ (97)",{"$f":"D144","v":0},0,0,0,0,0,0,0,0,0,0,0,null,null,null,null,null,null,null,null,null,0]
[97,831000,"ПРИМАЊА ОД ПРОДАЈЕ ДРАГОЦЕНОСТИ (98)",0,0,0,0,0,0,0,0,0,0,0,0,null,null,null,null,null,null,null,null,null,0]
[98,831100,"Примања од продаје драгоцености",null,null,null,null,null,null,null,null,null,null,0,0,null,null,null,null,null,null,null,null,null,0]
[99,840000,"ПРИМАЊА ОД ПРОДАЈЕ ПРИРОДНЕ ИМОВИНЕ (100 + 102 + 104)",{"$f":"D147+D149+D151","v":0},0,0,0,0,0,0,0,0,0,0,0,null,null,null,null,null,null,null,null,null,0]
[100,841000,"ПРИМАЊА ОД ПРОДАЈЕ ЗЕМЉИШТА (101)",{"$f":"D148","v":0},0,0,0,0,0,0,0,0,0,0,0,null,null,null,null,null,null,null,null,null,0]
[101,841100,"Примања од продаје земљишта",null,null,null,null,null,null,null,null,null,null,0,0,null,null,null,null,null,null,null,null,null,0]
[102,842000,"ПРИМАЊА ОД ПРОДАЈЕ ПОДЗЕМНИХ БЛАГА (103)",{"$f":"D150","v":0},0,0,0,0,0,0,0,0,0,0,0,null,null,null,null,null,null,null,null,null,0]
[103,842100,"Примања од продаје подземних блага",null,null,null,null,null,null,null,null,null,null,0,0,null,null,null,null,null,null,null,null,null,0]
[104,843000,"ПРИМАЊА ОД ПРОДАЈЕ ШУМА И ВОДА (105)",{"$f":"D152","v":0},0,0,0,0,0,0,0,0,0,0,0,null,null,null,null,null,null,null,null,null,0]
[105,843100,"Примања од продаје шума и вода",null,null,null,null,null,null,null,null,null,null,{"$f":"SUM(H152,J152,L152)","v":0},0,null,null,null,null,null,null,null,null,null,0]
[106,900000,"ПРИМАЊА ОД ЗАДУЖИВАЊА И ПРОДАЈЕ ФИНАНСИЈСКЕ ИМОВИНЕ (107 + 126)",{"$f":"D154+D173","v":0},{"$f":"E154+E173","v":0},0,0,0,0,0,0,0,0,0,0,null,null,null,null,null,null,null,null,null,0]
[107,910000,"ПРИМАЊА ОД ЗАДУЖИВАЊА (108+118)",{"$f":"D155+D165","v":0},{"$f":"E155+E165","v":0},0,0,0,0,0,0,0,0,0,0,null,null,null,null,null,null,null,null,null,0]
[108,911000,"ПРИМАЊА ОД ДОМАЋИХ ЗАДУЖИВАЊА (од 109 до 117)",{"$f":"SUM(D156:D164)","v":0},0,0,0,0,0,0,0,0,0,0,0,null,null,null,null,null,null,null,null,null,0]
[109,911100,"Примања од емитовања домаћих хартија од вредности, изузев акција",null,null,null,null,null,null,null,null,null,null,0,0,null,null,null,null,null,null,null,null,null,0]
[110,911200,"Примања од задуживања од осталих нивоа власти",null,null,null,null,null,null,null,null,null,null,0,0,null,null,null,null,null,null,null,null,null,0]
[111,911300,"Примања од задуживања од јавних финансијских институција у земљи",null,null,null,null,null,null,null,null,null,null,0,0,null,null,null,null,null,null,null,null,null,0]
[112,911400,"Примања од задуживања од пословних банака у земљи",null,null,null,null,null,null,null,null,null,null,0,0,null,null,null,null,null,null,null,null,null,0]
[113,911500,"Примања од задуживања код осталих поверилаца у земљи",null,null,null,null,null,null,null,null,null,null,0,0,null,null,null,null,null,null,null,null,null,0]
[114,911600,"Примања од задуживања од домаћинстава у земљи",null,null,null,null,null,null,null,null,null,null,0,0,null,null,null,null,null,null,null,null,null,0]
[115,911700,"Примања од домаћих финансијских деривата",null,null,null,null,null,null,null,null,null,null,0,0,null,null,null,null,null,null,null,null,null,0]
[116,911800,"Примања од домаћих меница",null,null,null,null,null,null,null,null,null,null,0,0,null,null,null,null,null,null,null,null,null,0]
[117,911900,"Исправка унутрашњег дуга",null,null,null,null,null,null,null,null,null,null,0,0,null,null,null,null,null,null,null,null,null,0]
[118,912000,"ПРИМАЊА ОД ИНОСТРАНОГ ЗАДУЖИВАЊА (од 119 + 125)",{"$f":"SUM(D166:D172)","v":0},0,0,0,0,0,0,0,0,0,0,0,null,null,null,null,null,null,null,null,null,0]
[119,912100,"Примања од емитовања хартија од вредности, изузев акција, на иностраном финансијском тржишту",null,null,null,null,null,null,null,null,null,null,0,0,null,null,null,null,null,null,null,null,null,0]
[120,912200,"Примања од задуживања од иностраних држава",null,null,null,null,null,null,null,null,null,null,0,0,null,null,null,null,null,null,null,null,null,0]
[121,912300,"Примања од задуживања од мултилатералних институција",null,null,null,null,null,null,null,null,null,null,0,0,null,null,null,null,null,null,null,null,null,0]
[122,912400,"Примања од задуживања од иностраних пословних банака",null,null,null,null,null,null,null,null,null,null,0,0,null,null,null,null,null,null,null,null,null,0]
[123,912500,"Примања од задуживања од осталих иностраних поверилаца",null,null,null,null,null,null,null,null,null,null,0,0,null,null,null,null,null,null,null,null,null,0]
[124,912600,"Примања од иностраних финансијских деривата",null,null,null,null,null,null,null,null,null,null,0,0,null,null,null,null,null,null,null,null,null,0]
[125,912900,"Исправка спољног дуга",null,null,null,null,null,null,null,null,null,null,0,0,null,null,null,null,null,null,null,null,null,0]
[126,920000,"ПРИМАЊА ОД ПРОДАЈЕ ФИНАНСИЈСКЕ ИМОВИНЕ (127 + 137)",{"$f":"D174+D184","v":0},0,0,0,0,0,0,0,0,0,0,0,null,null,null,null,null,null,null,null,null,0]
[127,921000,"ПРИМАЊА ОД ПРОДАЈЕ ДОМАЋЕ ФИНАНСИЈСКЕ ИМОВИНЕ (од 128 до 136) ",{"$f":"SUM(D175:D183)","v":0},0,0,0,0,0,0,0,0,0,0,0,null,null,null,null,null,null,null,null,null,0]
[128,921100,"Примања од продаје домаћих хартија од вредности, изузев акција",null,null,null,null,null,null,null,null,null,null,0,0,null,null,null,null,null,null,null,null,null,0]
[129,921200,"Примања од отплате кредита датих осталим нивоима власти",null,null,null,null,null,null,null,null,null,null,0,0,null,null,null,null,null,null,null,null,null,0]
[130,921300,"Примања од отплате кредита датих домаћим јавним финансијским институцијама",null,null,null,null,null,null,null,null,null,null,0,0,null,null,null,null,null,null,null,null,null,0]
[131,921400,"Примања од отплате кредита домаћим пословним банкама",null,null,null,null,null,null,null,null,null,null,0,0,null,null,null,null,null,null,null,null,null,0]
[132,921500,"Примања од отплате кредита датих домаћим јавним нефинансијским институцијама",null,null,null,null,null,null,null,null,null,null,0,0,null,null,null,null,null,null,null,null,null,0]
[133,921600,"Примања од отплате кредита датих физичким лицима и домаћинствима у земљи",null,null,null,null,null,null,null,null,null,null,0,0,null,null,null,null,null,null,null,null,null,0]
[134,921700,"Примања од отплате кредита датих удружењима грађана у земљи",null,null,null,null,null,null,null,null,null,null,0,0,null,null,null,null,null,null,null,null,null,0]
[135,921800,"Примања од отплате кредита датих нефинансијским приватним предузећима у земљи",null,null,null,null,null,null,null,null,null,null,0,0,null,null,null,null,null,null,null,null,null,0]
[136,921900,"Примања од продаје домаћих акција и осталог капитала",null,null,null,null,null,null,null,null,null,null,0,0,null,null,null,null,null,null,null,null,null,0]
[{"$f":"A183+1","v":137},922000,"ПРИМАЊА ОД ПРОДАЈЕ СТРАНЕ ФИНАНСИЈСКЕ ИМОВИНЕ (од 138 до 145)",{"$f":"SUM(D185:D192)","v":0},{"$f":"SUM(E185:E192)","v":0},0,0,0,0,0,0,0,0,0,0,null,null,null,null,null,null,null,null,null,{"$f":"SUM(D184:O184)","v":0}]
[138,922100,"Примања од продаје страних хартија од вредности, изузев акција",null,null,null,null,null,null,null,null,null,null,0,0,null,null,null,null,null,null,null,null,null,0]
[139,922200,"Примања од отплате кредита датих страним владама",null,null,null,null,null,null,null,null,null,null,0,0,null,null,null,null,null,null,null,null,null,0]
[140,922300,"Примања од отплате кредита датих међународним организацијама",null,null,null,null,null,null,null,null,null,null,0,0,null,null,null,null,null,null,null,null,null,0]
[141,922400,"Примања од отплате кредита датих страним пословним банкама",null,null,null,null,null,null,null,null,null,null,0,0,null,null,null,null,null,null,null,null,null,0]
[142,922500,"Примања од отплате кредита датих страним нефинансијским институцијама",null,null,null,null,null,null,null,null,null,null,0,0,null,null,null,null,null,null,null,null,null,0]
[143,922600,"Примања од отплате кредита датих страним невладиним организацијама",null,null,null,null,null,null,null,null,null,null,0,0,null,null,null,null,null,null,null,null,null,0]
[144,922700,"Примања од продаје страних акција и осталог капитала",null,null,null,null,null,null,null,null,null,null,0,0,null,null,null,null,null,null,null,null,null,0]
[145,922800,"Примања од продаје стране валуте",null,null,null,null,null,null,null,null,null,null,0,0,null,null,null,null,null,null,null,null,null,0]
[146,null,"УКУПНИ ПРИХОДИ, ПРИМАЊА И ПРЕНЕТА СРЕДСТВА ИЗ ПРЕТХОДНЕ ГОДИНЕ (1 + 8 + 81 + 106)",{"$f":"D48+D55+D128+D153","v":0},{"$f":"E48+E55+E128+E153","v":0},0,0,0,0,0,0,0,0,{"$f":"SUM(H193,J193,L193)","v":0},{"$f":"SUM(I193,K193,M193)","v":0},null,null,null,null,null,null,null,null,null,1]
[147,400000,"ТЕКУЋИ РАСХОДИ (148+166+211+226+250+263+279+294)",{"$f":"D195+D213+D258+D273+D297+D310+D326+D341","v":0},0,0,0,0,0,0,0,0,0,0,0,null,null,null,null,null,null,null,null,null,0]
[148,410000,"РАСХОДИ ЗА ЗАПОСЛЕНЕ (149+151+155+157+162+164)",{"$f":"D196+D198+D202+D204+D209+D211","v":0},{"$f":"E196+E198+E202+E204+E209+E211","v":0},0,0,0,0,0,0,0,0,0,0,null,null,null,null,null,null,null,null,null,0]
[149,411000,"ПЛАТЕ, ДОДАЦИ И НАКНАДЕ ЗАПОСЛЕНИХ (ЗАРАДЕ) (150)",{"$f":"D197","v":0},0,0,0,0,0,0,0,0,0,0,0,null,null,null,null,null,null,null,null,null,0]
[150,411100,"Плате, додаци и накнаде запослених",null,null,null,null,null,null,null,null,null,null,0,0,null,null,null,null,null,null,null,null,null,0]
[151,412000,"СОЦИЈАЛНИ ДОПРИНОСИ НА ТЕРЕТ ПОСЛОДАВЦА (од 152 до 154)",{"$f":"SUM(D199:D201)","v":0},0,0,0,0,0,0,0,0,0,0,0,null,null,null,null,null,null,null,null,null,0]
[152,412100,"Допринос за пензијско и инвалидско осигурање",null,null,null,null,null,null,null,null,null,null,0,0,null,null,null,null,null,null,null,null,null,0]
[153,412200,"Допринос за здравствено осигурање",null,null,null,null,null,null,null,null,null,null,0,0,null,null,null,null,null,null,null,null,null,0]
[154,412300,"Допринос за незапосленост",null,null,null,null,null,null,null,null,null,null,0,0,null,null,null,null,null,null,null,null,null,0]
[155,413000,"НАКНАДЕ У НАТУРИ (156)",{"$f":"D203","v":0},0,0,0,0,0,0,0,0,0,0,0,null,null,null,null,null,null,null,null,null,0]
[156,413100,"Накнаде у натури",null,null,null,null,null,null,null,null,null,null,0,0,null,null,null,null,null,null,null,null,null,0]
[157,414000,"СОЦИЈАЛНА ДАВАЊА ЗАПОСЛЕНИМА (од 158 до 161)",{"$f":"SUM(D205:D208)","v":0},0,0,0,0,0,0,0,0,0,0,0,null,null,null,null,null,null,null,null,null,0]
[158,414100,"Исплата накнада за време одсуствовања с посла на терет фондова",null,null,null,null,null,null,null,null,null,null,0,0,null,null,null,null,null,null,null,null,null,0]
[159,414200,"Расходи за образовање деце запослених",null,null,null,null,null,null,null,null,null,null,0,0,null,null,null,null,null,null,null,null,null,0]
[160,414300,"Отпремнине и помоћи",null,null,null,null,null,null,null,null,null,null,0,0,null,null,null,null,null,null,null,null,null,0]
[161,414400,"Помоћ у медицинском лечењу запосленог или чланова уже породице и друге помоћи запосленом",null,null,null,null,null,null,null,null,null,null,0,0,null,null,null,null,null,null,null,null,null,0]
[162,415000,"НАКНАДА ТРОШКОВА ЗА ЗАПОСЛЕНЕ (163)",{"$f":"D210","v":0},0,0,0,0,0,0,0,0,0,0,0,null,null,null,null,null,null,null,null,null,0]
[163,415100,"Накнаде трошкова за запослене",null,null,null,null,null,null,null,null,null,null,0,0,null,null,null,null,null,null,null,null,null,0]
[164,416000,"НАГРАДЕ ЗАПОСЛЕНИМА И ОСТАЛИ ПОСЕБНИ РАСХОДИ (165)",{"$f":"D212","v":0},0,0,0,0,0,0,0,0,0,0,0,null,null,null,null,null,null,null,null,null,0]
[165,416100,"Награде запосленима и остали посебни расходи",null,null,null,null,null,null,null,null,null,null,0,0,null,null,null,null,null,null,null,null,null,0]
[166,420000,"КОРИШЋЕЊЕ УСЛУГА И РОБА (167 + 175 + 181 + 190 + 198 + 201) ",{"$f":"D214+D222+D228+D237+D245+D248","v":0},0,0,0,0,0,0,0,0,0,{"$f":"SUM(H213,J213,L213)","v":0},0,null,null,null,null,null,null,null,null,null,0]
[167,421000,"СТАЛНИ ТРОШКОВИ (од 168 до 174)",{"$f":"SUM(D215:D221)","v":0},0,0,0,0,0,0,0,0,0,0,0,null,null,null,null,null,null,null,null,null,0]
[168,421100,"Трошкови платног промета и банкарских услуга",null,null,null,null,null,null,null,null,null,null,0,0,null,null,null,null,null,null,null,null,null,0]
[169,421200,"Енергетске услуге",null,null,null,null,null,null,null,null,null,null,0,0,null,null,null,null,null,null,null,null,null,0]
[170,421300,"Комуналне услуге",null,null,null,null,null,null,null,null,null,null,0,0,null,null,null,null,null,null,null,null,null,0]
[171,421400,"Услуге комуникација",null,null,null,null,null,null,null,null,null,null,0,0,null,null,null,null,null,null,null,null,null,0]
[172,421500,"Трошкови осигурања",null,null,null,null,null,null,null,null,null,null,0,0,null,null,null,null,null,null,null,null,null,0]
[173,421600,"Закуп имовине и опреме",null,null,null,null,null,null,null,null,null,null,0,0,null,null,null,null,null,null,null,null,null,0]
[174,421900,"Остали трошкови",null,null,null,null,null,null,null,null,null,null,0,0,null,null,null,null,null,null,null,null,null,0]
[175,422000,"ТРОШКОВИ ПУТОВАЊА (од 176 до 180)",{"$f":"SUM(D223:D227)","v":0},0,0,0,0,0,0,0,0,0,0,0,null,null,null,null,null,null,null,null,null,0]
[176,422100,"Трошкови службених путовања у земљи",null,null,null,null,null,null,null,null,null,null,0,0,null,null,null,null,null,null,null,null,null,0]
[177,422200,"Трошкови службених путовања у иностранство",null,null,null,null,null,null,null,null,null,null,0,0,null,null,null,null,null,null,null,null,null,0]
[178,422300,"Трошкови путовања у оквиру редовног рада",null,null,null,null,null,null,null,null,null,null,0,0,null,null,null,null,null,null,null,null,null,0]
[179,422400,"Трошкови путовања ученика",null,null,null,null,null,null,null,null,null,null,0,0,null,null,null,null,null,null,null,null,null,0]
[180,422900,"Остали трошкови транспорта",null,null,null,null,null,null,null,null,null,null,0,0,null,null,null,null,null,null,null,null,null,0]
[181,423000,"УСЛУГЕ ПО УГОВОРУ (од 182 до 189)",{"$f":"SUM(D229:D236)","v":0},0,0,0,0,0,0,0,0,0,0,0,null,null,null,null,null,null,null,null,null,0]
[182,423100,"Административне услуге",null,null,null,null,null,null,null,null,null,null,0,0,null,null,null,null,null,null,null,null,null,0]
[183,423200,"Компјутерске услуге",null,null,null,null,null,null,null,null,null,null,0,0,null,null,null,null,null,null,null,null,null,0]
[184,423300,"Услуге образовања и усавршавања запослених",null,null,null,null,null,null,null,null,null,null,0,0,null,null,null,null,null,null,null,null,null,0]
[185,423400,"Услуге информисања",null,null,null,null,null,null,null,null,null,null,0,0,null,null,null,null,null,null,null,null,null,0]
[186,423500,"Стручне услуге",null,null,null,null,null,null,null,null,null,null,0,0,null,null,null,null,null,null,null,null,null,0]
[187,423600,"Услуге за домаћинство и угоститељство",null,null,null,null,null,null,null,null,null,null,0,0,null,null,null,null,null,null,null,null,null,0]
[188,423700,"Репрезентација",null,null,null,null,null,null,null,null,null,null,0,0,null,null,null,null,null,null,null,null,null,0]
[189,423900,"Остале опште услуге",null,null,null,null,null,null,null,null,null,null,0,0,null,null,null,null,null,null,null,null,null,0]
[190,424000,"СПЕЦИЈАЛИЗОВАНЕ УСЛУГЕ (од 191 до197)",{"$f":"SUM(D238:D244)","v":0},0,0,0,0,0,0,0,0,0,0,0,null,null,null,null,null,null,null,null,null,0]
[191,424100,"Пољопривредне услуге",null,null,null,null,null,null,null,null,null,null,0,0,null,null,null,null,null,null,null,null,null,0]
[192,424200,"Услуге образовања, културе и спорта",null,null,null,null,null,null,null,null,null,null,0,0,null,null,null,null,null,null,null,null,null,0]
[193,424300,"Медицинске услуге",null,null,null,null,null,null,null,null,null,null,0,0,null,null,null,null,null,null,null,null,null,0]
[194,424400,"Услуге одржавања аутопутева",null,null,null,null,null,null,null,null,null,null,0,0,null,null,null,null,null,null,null,null,null,0]
[195,424500,"Услуге одржавања националних паркова и природних површина",null,null,null,null,null,null,null,null,null,null,0,0,null,null,null,null,null,null,null,null,null,0]
[196,424600,"Услуге очувања животне средине, науке и геодетске услуге",null,null,null,null,null,null,null,null,null,null,0,0,null,null,null,null,null,null,null,null,null,0]
[197,424900,"Остале специјализоване услуге",null,null,null,null,null,null,null,null,null,null,0,0,null,null,null,null,null,null,null,null,null,0]
[198,425000,"ТЕКУЋЕ ПОПРАВКЕ И ОДРЖАВАЊЕ (199 + 200)",{"$f":"D246+D247","v":0},{"$f":"E246+E247","v":0},0,0,0,0,0,0,0,0,0,0,null,null,null,null,null,null,null,null,null,0]
[199,425100,"Текуће поправке и одржавање зграда и објеката",null,null,null,null,null,null,null,null,null,null,0,0,null,null,null,null,null,null,null,null,null,0]
[200,425200,"Текуће поправке и одржавање опреме",null,null,null,null,null,null,null,null,null,null,0,0,null,null,null,null,null,null,null,null,null,0]
[{"$f":"A247+1","v":201},426000,"МАТЕРИЈАЛ (од 202 до 210)",{"$f":"SUM(D249:D257)","v":0},0,0,0,0,0,0,0,0,0,0,0,null,null,null,null,null,null,null,null,null,{"$f":"SUM(D248:O248)","v":0}]
[202,426100,"Административни материјал",null,null,null,null,null,null,null,null,null,null,0,0,null,null,null,null,null,null,null,null,null,0]
[203,426200,"Материјали за пољопривреду",null,null,null,null,null,null,null,null,null,null,0,0,null,null,null,null,null,null,null,null,null,0]
[204,426300,"Материјали за образовање и усавршавање запослених",null,null,null,null,null,null,null,null,null,null,0,0,null,null,null,null,null,null,null,null,null,0]
[205,426400,"Материјали за саобраћај",null,null,null,null,null,null,null,null,null,null,0,0,null,null,null,null,null,null,null,null,null,0]
[206,426500,"Материјали за очување животне средине и науку",null,null,null,null,null,null,null,null,null,null,0,0,null,null,null,null,null,null,null,null,null,0]
[207,426600,"Материјали за образовање, културу и спорт",null,null,null,null,null,null,null,null,null,null,0,0,null,null,null,null,null,null,null,null,null,0]
[208,426700,"Медицински и лабораторијски материјали",null,null,null,null,null,null,null,null,null,null,0,0,null,null,null,null,null,null,null,null,null,0]
[209,426800,"Материјали за одржавање хигијене и угоститељство",null,null,null,null,null,null,null,null,null,null,0,0,null,null,null,null,null,null,null,null,null,0]
[210,426900,"Материјали за посебне намене",null,null,null,null,null,null,null,null,null,null,0,0,null,null,null,null,null,null,null,null,null,0]
[211,430000,"АМОРТИЗАЦИЈА И УПОТРЕБА СРЕДСТАВА ЗА РАД (212 + 216 + 218 + 220 + 224)",{"$f":"D259+D263+D265+D267+D271","v":0},{"$f":"E259+E263+E265+E267+E271","v":0},0,0,0,0,0,0,0,0,0,0,null,null,null,null,null,null,null,null,null,0]
[212,431000,"АМОРТИЗАЦИЈА НЕКРЕТНИНА И ОПРЕМЕ (од 213 до 215)",{"$f":"SUM(D260:D262)","v":0},0,0,0,0,0,0,0,0,0,0,0,null,null,null,null,null,null,null,null,null,0]
[213,431100,"Амортизација зграда и грађевинскиx објеката",null,null,null,null,null,null,null,null,null,null,0,0,null,null,null,null,null,null,null,null,null,0]
[214,431200,"Амортизација опреме",null,null,null,null,null,null,null,null,null,null,0,0,null,null,null,null,null,null,null,null,null,0]
[215,431300,"Амортизација осталих некретнина и опреме",null,null,null,null,null,null,null,null,null,null,0,0,null,null,null,null,null,null,null,null,null,0]
[216,432000,"АМОРТИЗАЦИЈА КУЛТИВИСАНЕ ИМОВИНЕ (217)",{"$f":"D264","v":0},0,0,0,0,0,0,0,0,0,0,0,null,null,null,null,null,null,null,null,null,0]
[217,432100,"Амортизација култивисане опреме",null,null,null,null,null,null,null,null,null,null,0,0,null,null,null,null,null,null,null,null,null,0]
[218,433000,"УПОТРЕБА ДРАГОЦЕНОСТИ (219)",{"$f":"D266","v":0},0,0,0,0,0,0,0,0,0,0,0,null,null,null,null,null,null,null,null,null,0]
[219,433100,"Употреба драгоцености",null,null,null,null,null,null,null,null,null,null,0,0,null,null,null,null,null,null,null,null,null,0]
[220,434000,"УПОТРЕБА ПРИРОДНЕ ИМОВИНЕ (од 221 до 223)",{"$f":"SUM(D268:D270)","v":0},0,0,0,0,0,0,0,0,0,0,0,null,null,null,null,null,null,null,null,null,0]
[221,434100,"Употреба земљишта",null,null,null,null,null,null,null,null,null,null,0,0,null,null,null,null,null,null,null,null,null,0]
[222,434200,"Употреба подземног блага",null,null,null,null,null,null,null,null,null,null,0,0,null,null,null,null,null,null,null,null,null,0]
[223,434300,"Употреба шума и вода",null,null,null,null,null,null,null,null,null,null,0,0,null,null,null,null,null,null,null,null,null,0]
[224,435000,"АМОРТИЗАЦИЈА НЕМАТЕРИЈАЛНЕ ИМОВИНЕ (225)",{"$f":"D272","v":0},0,0,0,0,0,0,0,0,0,0,0,null,null,null,null,null,null,null,null,null,0]
[225,435100,"Амортизација нематеријалне имовине",null,null,null,null,null,null,null,null,null,null,0,0,null,null,null,null,null,null,null,null,null,0]
[226,440000,"ОТПЛАТА КАМАТА И ПРАТЕЋИ ТРОШКОВИ ЗАДУЖИВАЊА (227 + 237 + 244 + 246)",{"$f":"D274+D284+D291+D293","v":0},0,0,0,0,0,0,0,0,0,0,0,null,null,null,null,null,null,null,null,null,0]
[227,441000,"ОТПЛАТЕ ДОМАЋИХ КАМАТА (од 228 до 236)",{"$f":"SUM(D275:D283)","v":0},{"$f":"SUM(E275:E283)","v":0},0,0,0,0,0,0,0,0,0,0,null,null,null,null,null,null,null,null,null,0]
[228,441100,"Отплата камата на домаће хартије од вредности",null,null,null,null,null,null,null,null,null,null,{"$f":"SUM(H275,J275,L275)","v":0},0,null,null,null,null,null,null,null,null,null,0]
[229,441200,"Отплата камата осталим нивоима власти",null,null,null,null,null,null,null,null,null,null,0,0,null,null,null,null,null,null,null,null,null,0]
[230,441300,"Отплата камата домаћим јавним финансијским институцијама",null,null,null,null,null,null,null,null,null,null,0,0,null,null,null,null,null,null,null,null,null,0]
[231,441400,"Отплата камата домаћим пословним банкама",null,null,null,null,null,null,null,null,null,null,0,0,null,null,null,null,null,null,null,null,null,0]
[232,441500,"Отплата камата осталим домаћим кредиторима",null,null,null,null,null,null,null,null,null,null,0,0,null,null,null,null,null,null,null,null,null,0]
[233,441600,"Отплата камата домаћинствима у земљи",null,null,null,null,null,null,null,null,null,null,0,0,null,null,null,null,null,null,null,null,null,0]
[234,441700,"Отплата камата на домаће финансијске деривате",null,null,null,null,null,null,null,null,null,null,0,0,null,null,null,null,null,null,null,null,null,0]
[235,441800,"Отплата камата на домаће менице",null,null,null,null,null,null,null,null,null,null,0,0,null,null,null,null,null,null,null,null,null,0]
[236,441900,"Финансијске промене на финансијским лизинзима",null,null,null,null,null,null,null,null,null,null,0,0,null,null,null,null,null,null,null,null,null,0]
[237,442000,"ОТПЛАТА СТРАНИХ КАМАТА (од 238 до 243)",{"$f":"SUM(D285:D290)","v":0},0,0,0,0,0,0,0,0,0,0,0,null,null,null,null,null,null,null,null,null,0]
[238,442100,"Отплата камата на хартије од вредности емитоване на иностраном финансијском тржишту",null,null,null,null,null,null,null,null,null,null,0,0,null,null,null,null,null,null,null,null,null,0]
[239,442200,"Отплата камата страним владама",null,null,null,null,null,null,null,null,null,null,0,0,null,null,null,null,null,null,null,null,null,0]
[240,442300,"Отплата камата мултилатералним институцијама",null,null,null,null,null,null,null,null,null,null,0,0,null,null,null,null,null,null,null,null,null,0]
[241,442400,"Отплата камата страним пословним банкама",null,null,null,null,null,null,null,null,null,null,0,0,null,null,null,null,null,null,null,null,null,0]
[242,442500,"Отплата камата осталим страним кредиторима",null,null,null,null,null,null,null,null,null,null,0,0,null,null,null,null,null,null,null,null,null,0]
[243,442600,"Отплата камата на стране финансијске деривате",null,null,null,null,null,null,null,null,null,null,0,0,null,null,null,null,null,null,null,null,null,0]
[244,443000,"ОТПЛАТА КАМАТА ПО ГАРАНЦИЈАМА 245)",{"$f":"D292","v":0},{"$f":"E292","v":0},0,0,0,0,0,0,0,0,0,0,null,null,null,null,null,null,null,null,null,0]
[245,443100,"Отплата камата по гаранцијама",null,null,null,null,null,null,null,null,null,null,0,0,null,null,null,null,null,null,null,null,null,0]
[246,444000,"ПРАТЕЋИ ТРОШКОВИ ЗАДУЖИВАЊА (од 247 до 249)",{"$f":"SUM(D294:D296)","v":0},0,0,0,0,0,0,0,0,0,0,0,null,null,null,null,null,null,null,null,null,0]
[247,444100,"Негативне курсне разлике",null,null,null,null,null,null,null,null,null,null,0,0,null,null,null,null,null,null,null,null,null,0]
[248,444200,"Казне за кашњење",null,null,null,null,null,null,null,null,null,null,0,0,null,null,null,null,null,null,null,null,null,0]
[249,444300,"Остали пратећи трошкови задуживања",null,null,null,null,null,null,null,null,null,null,0,0,null,null,null,null,null,null,null,null,null,0]
[250,450000,"СУБВЕНЦИЈЕ (251 + 254 + 257 + 260)",{"$f":"D298+D301+D304+D307","v":0},0,0,0,0,0,0,0,0,0,0,0,null,null,null,null,null,null,null,null,null,0]
[251,451000,"СУБВЕНЦИЈЕ ЈАВНИМ НЕФИНАНСИЈСКИМ ПРЕДУЗЕЋИМА И ОРГАНИЗАЦИЈАМА (252 + 253)",{"$f":"SUM(D299:D300)","v":0},0,0,0,0,0,0,0,0,0,0,0,null,null,null,null,null,null,null,null,null,0]
[252,451100,"Текуће субвенције јавним нефинансијским предузећима и организацијама",null,null,null,null,null,null,null,null,null,null,0,0,null,null,null,null,null,null,null,null,null,0]
[253,451200,"Капиталне субвенције јавним нефинансијским предузећима и организацијама",null,null,null,null,null,null,null,null,null,null,0,0,null,null,null,null,null,null,null,null,null,0]
[254,452000,"СУБВЕНЦИЈЕ ПРИВАТНИМ ФИНАНСИЈСКИМ ИНСТИТУЦИЈАМА (255 + 256)",{"$f":"SUM(D302:D303)","v":0},0,0,0,0,0,0,0,0,0,0,0,null,null,null,null,null,null,null,null,null,0]
[255,452100,"Текуће субвенције приватним финансијским институцијама",null,null,null,null,null,null,null,null,null,null,0,0,null,null,null,null,null,null,null,null,null,0]
[256,452200,"Капиталне субвенције приватним финансијским институцијама",null,null,null,null,null,null,null,null,null,null,0,0,null,null,null,null,null,null,null,null,null,0]
[257,453000,"СУБВЕНЦИЈЕ ЈАВНИМ ФИНАНСИЈСКИМ ИНСТИТУЦИЈАМА (258 + 259)",{"$f":"SUM(D305:D306)","v":0},0,0,0,0,0,0,0,0,0,0,0,null,null,null,null,null,null,null,null,null,0]
[258,453100,"Текуће субвенције јавним финансијским институцијама",null,null,null,null,null,null,null,null,null,null,0,0,null,null,null,null,null,null,null,null,null,0]
[259,453200,"Капиталне субвенције јавним финансијским институцијама",null,null,null,null,null,null,null,null,null,null,0,0,null,null,null,null,null,null,null,null,null,0]
[260,454000,"СУБВЕНЦИЈЕ ПРИВАТНИМ ПРЕДУЗЕЋИМА (261 + 262)",{"$f":"SUM(D308:D309)","v":0},0,0,0,0,0,0,0,0,0,0,0,null,null,null,null,null,null,null,null,null,0]
[261,454100,"Текуће субвенције приватним предузећима",null,null,null,null,null,null,null,null,null,null,0,0,null,null,null,null,null,null,null,null,null,0]
[262,454200,"Капиталне субвенције приватним предузећима",null,null,null,null,null,null,null,null,null,null,0,0,null,null,null,null,null,null,null,null,null,0]
[263,460000,"ДОНАЦИЈЕ, ДОТАЦИЈЕ И ТРАНСФЕРИ (264 + 267 + 270 + 273 + 276)",{"$f":"D311+D314+D317+D320+D323","v":0},{"$f":"E311+E314+E317+E320+E323","v":0},0,0,0,0,0,0,0,0,0,0,null,null,null,null,null,null,null,null,null,0]
[264,461000,"ДОНАЦИЈЕ СТРАНИМ ВЛАДАМА (265 + 266)",{"$f":"SUM(D312:D313)","v":0},0,0,0,0,0,0,0,0,0,0,0,null,null,null,null,null,null,null,null,null,0]
[{"$f":"A311+1","v":265},461100,"Текуће донације страним владама",null,null,null,null,null,null,null,null,null,null,0,0,null,null,null,null,null,null,null,null,null,{"$f":"SUM(D312:O312)","v":0}]
[266,461200,"Капиталне донације страним владама",null,null,null,null,null,null,null,null,null,null,0,0,null,null,null,null,null,null,null,null,null,0]
[267,462000,"ДОТАЦИЈЕ МЕЂУНАРОДНИМ ОРГАНИЗАЦИЈАМА (268 + 269)",{"$f":"SUM(D315:D316)","v":0},0,0,0,0,0,0,0,0,0,0,0,null,null,null,null,null,null,null,null,null,0]
[268,462100,"Текуће дотације међународним организацијама",null,null,null,null,null,null,null,null,null,null,0,0,null,null,null,null,null,null,null,null,null,0]
[269,462200,"Капиталне дотације међународним организацијама",null,null,null,null,null,null,null,null,null,null,0,0,null,null,null,null,null,null,null,null,null,0]
[270,463000,"ТРАНСФЕРИ ОСТАЛИМ НИВОИМА ВЛАСТИ (271 + 272)",{"$f":"SUM(D318:D319)","v":0},{"$f":"SUM(E318:E319)","v":0},0,0,0,0,0,0,0,0,0,0,null,null,null,null,null,null,null,null,null,0]
[271,463100,"Текући трансфери осталим нивоима власти",null,null,null,null,null,null,null,null,null,null,0,0,null,null,null,null,null,null,null,null,null,0]
[272,463200,"Капитални трансфери осталим нивоима власти",null,null,null,null,null,null,null,null,null,null,0,0,null,null,null,null,null,null,null,null,null,0]
[273,464000,"ДОТАЦИЈЕ ОРГАНИЗАЦИЈАМА ОБАВЕЗНОГ СОЦИЈАЛНОГ ОСИГУРАЊА (274 + 275)",{"$f":"SUM(D321:D322)","v":0},0,0,0,0,0,0,0,0,0,0,0,null,null,null,null,null,null,null,null,null,0]
[274,464100,"Текуће дотације организацијама обавезног социјалног осигурања",null,null,null,null,null,null,null,null,null,null,0,0,null,null,null,null,null,null,null,null,null,0]
[275,464200,"Капиталне дотације организацијама обавезног социјалног осигурања",null,null,null,null,null,null,null,null,null,null,0,0,null,null,null,null,null,null,null,null,null,0]
[276,465000,"ОСТАЛЕ ДОТАЦИЈЕ И ТРАНСФЕРИ (277 + 278)",{"$f":"SUM(D324:D325)","v":0},0,0,0,0,0,0,0,0,0,0,0,null,null,null,null,null,null,null,null,null,0]
[277,465100,"Остале текуће дотације и трансфери",null,null,null,null,null,null,null,null,null,null,0,0,null,null,null,null,null,null,null,null,null,0]
[278,465200,"Остале капиталне дотације и трансфери",null,null,null,null,null,null,null,null,null,null,0,0,null,null,null,null,null,null,null,null,null,0]
[279,470000,"СОЦИЈАЛНО ОСИГУРАЊЕ И СОЦИЈАЛНА ЗАШТИТА (280 + 284)",{"$f":"D327+D331","v":0},0,0,0,0,0,0,0,0,0,0,0,null,null,null,null,null,null,null,null,null,0]
[280,471000,"ПРАВА ИЗ СОЦИЈАЛНОГ ОСИГУРАЊА (ОРГАНИЗАЦИЈЕ ОБАВЕЗНОГ СОЦИЈАЛНОГ ОСИГУРАЊА) (од 281 до 283)",{"$f":"SUM(D328:D330)","v":0},0,0,0,0,0,0,0,0,0,0,0,null,null,null,null,null,null,null,null,null,0]
[281,471100,"Права из социјалног осигурања која се исплаћују непосредно домаћинствима",null,null,null,null,null,null,null,null,null,null,0,0,null,null,null,null,null,null,null,null,null,0]
[282,471200,"Права из социјалног осигурања која се исплаћују непосредно пружаоцима услуга",null,null,null,null,null,null,null,null,null,null,0,0,null,null,null,null,null,null,null,null,null,0]
[283,471900,"Трансфери другим организацијама обавезног социјалног осигурања за доприносе за осигурање",null,null,null,null,null,null,null,null,null,null,0,0,null,null,null,null,null,null,null,null,null,0]
[284,472000,"НАКНАДЕ ЗА СОЦИЈАЛНУ ЗАШТИТУ ИЗ БУЏЕТА (од 285 до 293)",{"$f":"SUM(D332:D340)","v":0},0,0,0,0,0,0,0,0,0,0,0,null,null,null,null,null,null,null,null,null,0]
[285,472100,"Накнаде из буџета у случају болести и инвалидности",null,null,null,null,null,null,null,null,null,null,0,0,null,null,null,null,null,null,null,null,null,0]
[286,472200,"Накнаде из буџета за породиљско одсуство",null,null,null,null,null,null,null,null,null,null,0,0,null,null,null,null,null,null,null,null,null,0]
[287,472300,"Накнаде из буџета за децу и породицу",null,null,null,null,null,null,null,null,null,null,0,0,null,null,null,null,null,null,null,null,null,0]
[288,472400,"Накнаде из буџета за случај незапослености",null,null,null,null,null,null,null,null,null,null,0,0,null,null,null,null,null,null,null,null,null,0]
[289,472500,"Старосне и породичне пензије из буџета",null,null,null,null,null,null,null,null,null,null,0,0,null,null,null,null,null,null,null,null,null,0]
[290,472600,"Накнаде из буџета у случају смрти",null,null,null,null,null,null,null,null,null,null,0,0,null,null,null,null,null,null,null,null,null,0]
[291,472700,"Накнаде из буџета за образовање, културу, науку и спорт",null,null,null,null,null,null,null,null,null,null,0,0,null,null,null,null,null,null,null,null,null,0]
[292,472800,"Накнаде из буџета за становање и живот",null,null,null,null,null,null,null,null,null,null,{"$f":"SUM(H339,J339,L339)","v":0},0,null,null,null,null,null,null,null,null,null,0]
[293,472900,"Остале накнаде из буџета",null,null,null,null,null,null,null,null,null,null,0,0,null,null,null,null,null,null,null,null,null,0]
[294,480000,"ОСТАЛИ РАСХОДИ (295 + 298 + 302 + 304 + 307 + 309)",{"$f":"D342+D345+D349+D351+D354+D356","v":0},{"$f":"E342+E345+E349+E351+E354+E356","v":0},0,0,0,0,0,0,0,0,0,0,null,null,null,null,null,null,null,null,null,0]
[295,481000,"ДОТАЦИЈЕ НЕВЛАДИНИМ ОРГАНИЗАЦИЈАМА (296 + 297)",{"$f":"SUM(D343:D344)","v":0},0,0,0,0,0,0,0,0,0,0,0,null,null,null,null,null,null,null,null,null,0]
[296,481100,"Дотације непрофитним организацијама које пружају помоћ домаћинствима",null,null,null,null,null,null,null,null,null,null,0,0,null,null,null,null,null,null,null,null,null,0]
[297,481900,"Дотације осталим непрофитним институцијама",null,null,null,null,null,null,null,null,null,null,0,0,null,null,null,null,null,null,null,null,null,0]
[298,482000,"ПОРЕЗИ, ОБАВЕЗНЕ ТАКСЕ И КАЗНЕ (од 299 до 301)",{"$f":"SUM(D346:D348)","v":0},{"$f":"SUM(E346:E348)","v":0},0,0,0,0,0,0,0,0,0,0,null,null,null,null,null,null,null,null,null,0]
[299,482100,"Остали порези",null,null,null,null,null,null,null,null,null,null,0,0,null,null,null,null,null,null,null,null,null,0]
[300,482200,"Обавезне таксе",null,null,null,null,null,null,null,null,null,null,0,0,null,null,null,null,null,null,null,null,null,0]
[301,482300,"Новчане казне и пенали",null,null,null,null,null,null,null,null,null,null,0,0,null,null,null,null,null,null,null,null,null,0]
[302,483000,"НОВЧАНЕ КАЗНЕ И ПЕНАЛИ ПО РЕШЕЊУ СУДОВА (303)",{"$f":"D350","v":0},0,0,0,0,0,0,0,0,0,0,0,null,null,null,null,null,null,null,null,null,0]
[303,483100,"Новчане казне и пенали по решењу судова",null,null,null,null,null,null,null,null,null,null,0,0,null,null,null,null,null,null,null,null,null,0]
[304,484000,"НАКНАДА ШТЕТЕ ЗА ПОВРЕДЕ ИЛИ ШТЕТУ НАСТАЛУ УСЛЕД ЕЛЕМЕНТАРНИХ НЕПОГОДА ИЛИ ДРУГИХ ПРИРОДНИХ УЗРОКА (305 + 306)",{"$f":"SUM(D352:D353)","v":0},0,0,0,0,0,0,0,0,0,0,0,null,null,null,null,null,null,null,null,null,0]
[305,484100,"Накнада штете за повреде или штету насталу услед елементарних непогода",null,null,null,null,null,null,null,null,null,null,0,0,null,null,null,null,null,null,null,null,null,0]
[306,484200,"Накнада штете од дивљачи",null,null,null,null,null,null,null,null,null,null,0,0,null,null,null,null,null,null,null,null,null,0]
[307,485000,"НАКНАДА ШТЕТЕ ЗА ПОВРЕДЕ ИЛИ ШТЕТУ НАНЕТУ ОД СТРАНЕ ДРЖАВНИХ ОРГАНА (308)",{"$f":"D355","v":0},0,0,0,0,0,0,0,0,0,0,0,null,null,null,null,null,null,null,null,null,0]
[308,485100,"Накнада штете за повреде или штету нанету од стране државних органа",null,null,null,null,null,null,null,null,null,null,0,0,null,null,null,null,null,null,null,null,null,0]
[309,489000,"РАСХОДИ КОЈИ СЕ ФИНАНСИРАЈУ ИЗ СРЕДСТАВА ЗА РЕАЛИЗАЦИЈУ НАЦИОНАЛНОГ ИНВЕСТИЦИОНОГ ПЛАНА (310)",0,0,0,0,0,0,0,0,0,0,0,0,null,null,null,null,null,null,null,null,null,0]
[310,489100,"Расходи који се финансирају из средстава за реализацију националног инвестиционог плана",null,null,null,null,null,null,null,null,null,null,0,0,null,null,null,null,null,null,null,null,null,0]
[311,500000,"ИЗДАЦИ ЗА НЕФИНАНСИЈСКУ ИМОВИНУ (312 + 334 + 343 + 346 + 354)",{"$f":"D359+D381+D390+D393+D401","v":0},{"$f":"E359+E381+E390+E393+E401","v":0},0,0,0,0,0,0,0,0,0,0,null,null,null,null,null,null,null,null,null,0]
[312,510000,"ОСНОВНА СРЕДСТВА (313 + 318 + 328 + 330 + 332)",{"$f":"D360+D365+D375+D377+D379","v":0},{"$f":"E360+E365+E375+E377+E379","v":0},0,0,0,0,0,0,0,0,0,0,null,null,null,null,null,null,null,null,null,0]
[313,511000,"ЗГРАДЕ И ГРАЂЕВИНСКИ ОБЈЕКТИ (од 314 до 317)",{"$f":"SUM(D361:D364)","v":0},0,0,0,0,0,0,0,0,0,0,0,null,null,null,null,null,null,null,null,null,0]
[314,511100,"Куповина зграда и објеката",null,null,null,null,null,null,null,null,null,null,0,0,null,null,null,null,null,null,null,null,null,0]
[315,511200,"Изградња зграда и објеката",null,null,null,null,null,null,null,null,null,null,0,0,null,null,null,null,null,null,null,null,null,0]
[316,511300,"Капитално одржавање зграда и објеката",null,null,null,null,null,null,null,null,null,null,0,0,null,null,null,null,null,null,null,null,null,0]
[317,511400,"Пројектно планирање",null,null,null,null,null,null,null,null,null,null,0,0,null,null,null,null,null,null,null,null,null,0]
[318,512000,"МАШИНЕ И ОПРЕМА (од 319 до 327)",{"$f":"SUM(D366:D374)","v":0},0,0,0,0,0,0,0,0,0,0,0,null,null,null,null,null,null,null,null,null,0]
[319,512100,"Опрема за саобраћај",null,null,null,null,null,null,null,null,null,null,0,0,null,null,null,null,null,null,null,null,null,0]
[320,512200,"Административна опрема",null,null,null,null,null,null,null,null,null,null,0,0,null,null,null,null,null,null,null,null,null,0]
[321,512300,"Опрема за пољопривреду",null,null,null,null,null,null,null,null,null,null,0,0,null,null,null,null,null,null,null,null,null,0]
[322,512400,"Опрема за заштиту животне средине",null,null,null,null,null,null,null,null,null,null,0,0,null,null,null,null,null,null,null,null,null,0]
[323,512500,"Медицинска и лабораторијска опрема",null,null,null,null,null,null,null,null,null,null,0,0,null,null,null,null,null,null,null,null,null,0]
[324,512600,"Опрема за образовање, културу и спорт",null,null,null,null,null,null,null,null,null,null,0,0,null,null,null,null,null,null,null,null,null,0]
[325,512700,"Опрема за војску",null,null,null,null,null,null,null,null,null,null,0,0,null,null,null,null,null,null,null,null,null,0]
[326,512800,"Опрема за јавну безбедност",null,null,null,null,null,null,null,null,null,null,0,0,null,null,null,null,null,null,null,null,null,0]
[327,512900,"Опрема за производњу, моторна, непокретна и немоторна опрема",null,null,null,null,null,null,null,null,null,null,0,0,null,null,null,null,null,null,null,null,null,0]
[328,513000,"ОСТАЛЕ НЕКРЕТНИНЕ И ОПРЕМА (329)",{"$f":"D376","v":0},{"$f":"E376","v":0},0,0,0,0,0,0,0,0,0,0,null,null,null,null,null,null,null,null,null,0]
[{"$f":"A375+1","v":329},513100,"Остале некретнине и опрема",null,null,null,null,null,null,null,null,null,null,0,0,null,null,null,null,null,null,null,null,null,{"$f":"SUM(D376:O376)","v":0}]
[330,514000,"КУЛТИВИСАНА ИМОВИНА (331)",{"$f":"D378","v":0},{"$f":"E378","v":0},0,0,0,0,0,0,0,0,0,0,null,null,null,null,null,null,null,null,null,0]
[331,514100,"Култивисана имовина",null,null,null,null,null,null,null,null,null,null,0,0,null,null,null,null,null,null,null,null,null,0]
[332,515000,"НЕМАТЕРИЈАЛНА ИМОВИНА (333)",{"$f":"D380","v":0},{"$f":"E380","v":0},0,0,0,0,0,0,0,0,0,0,null,null,null,null,null,null,null,null,null,0]
[333,515100,"Нематеријална имовина",null,null,null,null,null,null,null,null,null,null,0,0,null,null,null,null,null,null,null,null,null,0]
[334,520000,"ЗАЛИХЕ (335 + 337 + 341)",{"$f":"D382+D384+D388","v":0},0,0,0,0,0,0,0,0,0,0,0,null,null,null,null,null,null,null,null,null,0]
[335,521000,"РОБНЕ РЕЗЕРВЕ (336)",{"$f":"D383","v":0},0,0,0,0,0,0,0,0,0,0,0,null,null,null,null,null,null,null,null,null,0]
[336,521100,"Робне резерве",null,null,null,null,null,null,null,null,null,null,0,0,null,null,null,null,null,null,null,null,null,0]
[337,522000,"ЗАЛИХЕ ПРОИЗВОДЊЕ (од 338 до 340)",{"$f":"SUM(D385:D387)","v":0},0,0,0,0,0,0,0,0,0,0,0,null,null,null,null,null,null,null,null,null,0]
[338,522100,"Залихе материјала",null,null,null,null,null,null,null,null,null,null,0,0,null,null,null,null,null,null,null,null,null,0]
[339,522200,"Залихе недовршене производње",null,null,null,null,null,null,null,null,null,null,0,0,null,null,null,null,null,null,null,null,null,0]
[340,522300,"Залихе готових производа",null,null,null,null,null,null,null,null,null,null,0,0,null,null,null,null,null,null,null,null,null,0]
[341,523000,"ЗАЛИХЕ РОБЕ ЗА ДАЉУ ПРОДАЈУ (342)",{"$f":"D389","v":0},0,0,0,0,0,0,0,0,0,0,0,null,null,null,null,null,null,null,null,null,0]
[342,523100,"Залихе робе за даљу продају",null,null,null,null,null,null,null,null,null,null,0,0,null,null,null,null,null,null,null,null,null,0]
[343,530000,"ДРАГОЦЕНОСТИ (344)",{"$f":"D391","v":0},0,0,0,0,0,0,0,0,0,0,0,null,null,null,null,null,null,null,null,null,0]
[344,531000,"ДРАГОЦЕНОСТИ (345)",0,0,0,0,0,0,0,0,0,0,0,0,null,null,null,null,null,null,null,null,null,0]
[345,531100,"Драгоцености",null,null,null,null,null,null,null,null,null,null,0,0,null,null,null,null,null,null,null,null,null,0]
[346,540000,"ПРИРОДНА ИМОВИНА (347 + 349 + 351)",{"$f":"D394+D396+D398","v":0},0,0,0,0,0,0,0,0,0,0,0,null,null,null,null,null,null,null,null,null,0]
[347,541000,"ЗЕМЉИШТЕ (348)",{"$f":"D395","v":0},0,0,0,0,0,0,0,0,0,0,0,null,null,null,null,null,null,null,null,null,0]
[348,541100,"Земљиште",null,null,null,null,null,null,null,null,null,null,0,0,null,null,null,null,null,null,null,null,null,0]
[349,542000,"РУДНА БОГАТСТВА (350)",{"$f":"D397","v":0},0,0,0,0,0,0,0,0,0,0,0,null,null,null,null,null,null,null,null,null,0]
[350,542100,"Копови",null,null,null,null,null,null,null,null,null,null,0,0,null,null,null,null,null,null,null,null,null,0]
[351,543000,"ШУМЕ И ВОДЕ (352 + 353)",{"$f":"SUM(D399:D400)","v":0},0,0,0,0,0,0,0,0,0,0,0,null,null,null,null,null,null,null,null,null,0]
[352,543100,"Шуме",null,null,null,null,null,null,null,null,null,null,0,0,null,null,null,null,null,null,null,null,null,0]
[353,543200,"Воде",null,null,null,null,null,null,null,null,null,null,0,0,null,null,null,null,null,null,null,null,null,0]
[354,550000,"НЕФИНАНСИЈСКА ИМОВИНА КОЈА СЕ ФИНАНСИРА ИЗ СРЕДСТАВА ЗА РЕАЛИЗАЦИЈУ НАЦИОНАЛНОГ ИНВЕСТИЦИОНОГ ПЛАНА (355)",{"$f":"D402","v":0},0,0,0,0,0,0,0,0,0,0,0,null,null,null,null,null,null,null,null,null,0]
[355,551000,"НЕФИНАНСИЈСКА ИМОВИНА КОЈА СЕ ФИНАНСИРА ИЗ СРЕДСТАВА ЗА РЕАЛИЗАЦИЈУ НАЦИОНАЛНОГ ИНВЕСТИЦИОНОГ ПЛАНА (356)",0,0,0,0,0,0,0,0,0,0,0,0,null,null,null,null,null,null,null,null,null,0]
[356,551100,"Нефинансијска имовина која се финансира из средстава за реализацију националног инвестиционог плана",null,null,null,null,null,null,null,null,null,null,{"$f":"SUM(H403,J403,L403)","v":0},0,null,null,null,null,null,null,null,null,null,0]
[357,600000,"ИЗДАЦИ ЗА ОТПЛАТУ ГЛАВНИЦЕ И НАБАВКУ ФИНАНСИЈСКЕ ИМОВИНЕ (358 + 383)",{"$f":"D405+D430","v":0},{"$f":"E405+E430","v":0},0,0,0,0,0,0,0,0,0,0,null,null,null,null,null,null,null,null,null,0]
[358,610000,"ОТПЛАТА ГЛАВНИЦЕ (359 + 369 + 377 + 384)",{"$f":"D406+D416+D424+D426+D428","v":0},{"$f":"E406+E416+E424+E426+E428","v":0},0,0,0,0,0,0,0,0,0,0,null,null,null,null,null,null,null,null,null,0]
[359,611000,"ОТПЛАТА ГЛАВНИЦЕ ДОМАЋИМ КРЕДИТОРИМА (од 360 до 368)",{"$f":"SUM(D407:D415)","v":0},0,0,0,0,0,0,0,0,0,0,0,null,null,null,null,null,null,null,null,null,0]
[360,611100,"Отплата главнице на домаће хартије од вредности, изузев акција",null,null,null,null,null,null,null,null,null,null,0,0,null,null,null,null,null,null,null,null,null,0]
[361,611200,"Отплата главнице осталим нивоима власти",null,null,null,null,null,null,null,null,null,null,0,0,null,null,null,null,null,null,null,null,null,0]
[362,611300,"Отплата главнице домаћим јавним финансијским институцијама",null,null,null,null,null,null,null,null,null,null,0,0,null,null,null,null,null,null,null,null,null,0]
[363,611400,"Отплата главнице домаћим пословним банкама",null,null,null,null,null,null,null,null,null,null,0,0,null,null,null,null,null,null,null,null,null,0]
[364,611500,"Отплата главнице осталим домаћим кредиторима",null,null,null,null,null,null,null,null,null,null,0,0,null,null,null,null,null,null,null,null,null,0]
[365,611600,"Отплата главнице домаћинствима у земљи",null,null,null,null,null,null,null,null,null,null,0,0,null,null,null,null,null,null,null,null,null,0]
[366,611700,"Отплата главнице на домаће финансијске деривате",null,null,null,null,null,null,null,null,null,null,0,0,null,null,null,null,null,null,null,null,null,0]
[367,611800,"Отплата домаћих меница",null,null,null,null,null,null,null,null,null,null,0,0,null,null,null,null,null,null,null,null,null,0]
[368,611900,"Исправка унутрашњег дуга",null,null,null,null,null,null,null,null,null,null,0,0,null,null,null,null,null,null,null,null,null,0]
[369,612000,"ОТПЛАТА ГЛАВНИЦЕ СТРАНИМ КРЕДИТОРИМА (од 370 до 376)",{"$f":"SUM(D417:D423)","v":0},0,0,0,0,0,0,0,0,0,0,0,null,null,null,null,null,null,null,null,null,0]
[370,612100,"Отплата главнице на хартије од вредности, изузев акција, емитоване на иностраном финансијском тржишту",null,null,null,null,null,null,null,null,null,null,0,0,null,null,null,null,null,null,null,null,null,0]
[371,612200,"Отплата главнице страним владама",null,null,null,null,null,null,null,null,null,null,0,0,null,null,null,null,null,null,null,null,null,0]
[372,612300,"Отплата главнице мултилатералним институцијама",null,null,null,null,null,null,null,null,null,null,0,0,null,null,null,null,null,null,null,null,null,0]
[373,612400,"Отплате главнице страним пословним банкама",null,null,null,null,null,null,null,null,null,null,0,0,null,null,null,null,null,null,null,null,null,0]
[374,612500,"Отплате главнице осталим страним кредиторима",null,null,null,null,null,null,null,null,null,null,0,0,null,null,null,null,null,null,null,null,null,0]
[375,612600,"Отплата главнице на стране финансијске деривате",null,null,null,null,null,null,null,null,null,null,0,0,null,null,null,null,null,null,null,null,null,0]
[376,612900,"Исправка спољног дуга",null,null,null,null,null,null,null,null,null,null,0,0,null,null,null,null,null,null,null,null,null,0]
[377,613000,"ОТПЛАТА ГЛАВНИЦЕ ПО ГАРАНЦИЈАМА (378)",{"$f":"D425","v":0},{"$f":"E425","v":0},0,0,0,0,0,0,0,0,0,0,null,null,null,null,null,null,null,null,null,0]
[378,613100,"Отплата главнице по гаранцијама",null,null,null,null,null,null,null,null,null,null,0,0,null,null,null,null,null,null,null,null,null,0]
[379,614000,"ОТПЛАТА ГЛАВНИЦЕ ЗА ФИНАНСИЈСКИ ЛИЗИНГ (380)",{"$f":"D427","v":0},{"$f":"E427","v":0},0,0,0,0,0,0,0,0,0,0,null,null,null,null,null,null,null,null,null,0]
[380,614100,"Отплата главнице за финансијски лизинг",null,null,null,null,null,null,null,null,null,null,0,0,null,null,null,null,null,null,null,null,null,0]
[381,615000,"ОТПЛАТА ГАРАНЦИЈА ПО КОМЕРЦИЈАЛНИМ ТРАНСАКЦИЈАМА (382)",{"$f":"D429","v":0},{"$f":"E429","v":0},0,0,0,0,0,0,0,0,0,0,null,null,null,null,null,null,null,null,null,0]
[382,615100,"Отплата гаранција по комерцијалним трансакцијама",null,null,null,null,null,null,null,null,null,null,0,0,null,null,null,null,null,null,null,null,null,0]
[383,620000,"НАБАВКА ФИНАНСИЈСКЕ ИМОВИНЕ (384 + 394 + 403)",{"$f":"D431+D441+D450","v":0},{"$f":"E431+E441+E450","v":0},0,0,0,0,0,0,0,0,0,0,null,null,null,null,null,null,null,null,null,0]
[384,621000,"НАБАВКА ДОМАЋЕ ФИНАНСИЈСКЕ ИМОВИНЕ (од 385 до 393)",{"$f":"SUM(D432:D440)","v":0},0,0,0,0,0,0,0,0,0,0,0,null,null,null,null,null,null,null,null,null,0]
[385,621100,"Набавка домаћих хартија од вредности, изузев акција",null,null,null,null,null,null,null,null,null,null,0,0,null,null,null,null,null,null,null,null,null,0]
[386,621200,"Кредити осталим нивоима власти",null,null,null,null,null,null,null,null,null,null,0,0,null,null,null,null,null,null,null,null,null,0]
[387,621300,"Кредити домаћим јавним финансијским институцијама",null,null,null,null,null,null,null,null,null,null,0,0,null,null,null,null,null,null,null,null,null,0]
[388,621400,"Кредити домаћим пословним банкама",null,null,null,null,null,null,null,null,null,null,0,0,null,null,null,null,null,null,null,null,null,0]
[389,621500,"Кредити домаћим нефинансијским јавним институцијама",null,null,null,null,null,null,null,null,null,null,0,0,null,null,null,null,null,null,null,null,null,0]
[390,621600,"Кредити физичким лицима и домаћинствима у земљи",null,null,null,null,null,null,null,null,null,null,0,0,null,null,null,null,null,null,null,null,null,0]
[391,621700,"Кредити невладиним организацијама у земљи",null,null,null,null,null,null,null,null,null,null,0,0,null,null,null,null,null,null,null,null,null,0]
[392,621800,"Кредити домаћим нефинансијским приватним предузећима",null,null,null,null,null,null,null,null,null,null,0,0,null,null,null,null,null,null,null,null,null,0]
[{"$f":"A439+1","v":393},621900,"Набавка домаћих акција и осталог капитала",null,null,null,null,null,null,null,null,null,null,0,0,null,null,null,null,null,null,null,null,null,{"$f":"SUM(D440:O440)","v":0}]
[394,622000,"НАБАВКА СТРАНЕ ФИНАНСИЈСКЕ ИМОВИНЕ (од 395 до 402)",{"$f":"SUM(D442:D449)","v":0},{"$f":"SUM(E442:E449)","v":0},0,0,0,0,0,0,0,0,0,0,null,null,null,null,null,null,null,null,null,0]
[395,622100,"Набавка страних хартија од вредности, изузев акција",null,null,null,null,null,null,null,null,null,null,0,0,null,null,null,null,null,null,null,null,null,0]
[396,622200,"Кредити страним владама",null,null,null,null,null,null,null,null,null,null,0,0,null,null,null,null,null,null,null,null,null,0]
[397,622300,"Кредити међународним организацијама",null,null,null,null,null,null,null,null,null,null,0,0,null,null,null,null,null,null,null,null,null,0]
[398,622400,"Кредити страним пословним банкама",null,null,null,null,null,null,null,null,null,null,0,0,null,null,null,null,null,null,null,null,null,0]
[399,622500,"Кредити страним нефинансијским институцијама",null,null,null,null,null,null,null,null,null,null,0,0,null,null,null,null,null,null,null,null,null,0]
[400,622600,"Кредити страним невладиним организацијама",null,null,null,null,null,null,null,null,null,null,0,0,null,null,null,null,null,null,null,null,null,0]
[401,622700,"Набавка страних акција и осталог капитала",null,null,null,null,null,null,null,null,null,null,0,0,null,null,null,null,null,null,null,null,null,0]
[402,622800,"Куповина стране валуте",null,null,null,null,null,null,null,null,null,null,0,0,null,null,null,null,null,null,null,null,null,0]
[403,623000,"НАБАВКА ФИНАНСИЈСКЕ ИМОВИНЕ КОЈА СЕ ФИНАНСИРА ИЗ СРЕДСТАВА ЗА РЕАЛИЗАЦИЈУ НАЦИОНАЛНОГ ИНВЕСТИЦИОНОГ ПЛАНА (404)",{"$f":"D451","v":0},{"$f":"E451","v":0},0,0,0,0,0,0,0,0,0,0,null,null,null,null,null,null,null,null,null,0]
[404,623100,"Набавка финансијске имовине која се финансира из средстава за реализацију националног инвестиционог плана ",null,null,null,null,null,null,null,null,null,null,0,0,null,null,null,null,null,null,null,null,null,0]
[405,null,"УКУПНИ РАСХОДИ И ИЗДАЦИ (147 + 311 + 357)",{"$f":"D404+D358+D194","v":0},0,0,0,0,0,0,0,0,0,0,0,null,null,null,null,null,null,null,null,null,1]
[null,null,"Разлика (146-405 ) [ Укупни приходи, примања и пренета средства - Укупни расходи и издаци]",{"$f":"D193-D452","v":0},{"$f":"E193-E452","v":0},0,0,0,0,0,0,0,0,0,0,null,null,null,null,null,null,null,null,null,1]
[null,null,null,null,null,null,null,null,null,null,null,null,null,null,null,null,null,null,null,null,null,null,null,null,1]
["Шифра","Извори финансирања пројекта",null,"Вредност у базној години (2018)",null,"Очекивана вредност у 2019. години",null,"Вредност у 2020. години",null,"Вредност у 2021. години",null,"Вредност у 2022. години",null,"Укупно (2020-2022)",null,null,null,null,null,null,null,null,null,null,1]
[1,2,null,3,null,4,null,5,null,6,null,7,null,"8=(5+6+7)",null,null,null,null,null,null,null,null,null,null,1]
["01","Приходи из буџета",null,{"$f":"D452","v":0},null,{"$f":"F452","v":0},null,{"$f":"H452","v":0},null,{"$f":"J452","v":0},null,{"$f":"L452","v":0},null,{"$f":"SUM(H457,J457,L457)","v":0},null,null,null,null,null,null,null,null,null,null,0]
["02","Трансфери између корисника на истом нивоу",null,null,null,null,null,null,null,null,null,null,null,{"$f":"SUM(H458,J458,L458)","v":0},null,null,null,null,null,null,null,null,null,null,0]
["03","Социјални доприноси",null,null,null,null,null,null,null,null,null,null,null,0,null,null,null,null,null,null,null,null,null,null,0]
["04","Сопствени приходи буџетских корисника",null,null,null,null,null,null,null,null,null,null,null,0,null,null,null,null,null,null,null,null,null,null,0]
["05","Донације од иностраних земаља",null,null,null,null,null,null,null,null,null,null,null,0,null,null,null,null,null,null,null,null,null,null,0]
["06","Донације од међународних организација",null,null,null,null,null,null,null,null,null,null,null,0,null,null,null,null,null,null,null,null,null,null,0]
["07","Трансфери од других нивоа власти",null,null,null,null,null,null,null,null,null,null,null,0,null,null,null,null,null,null,null,null,null,null,0]
["08","Добровољни трансфери од физичких и правних лица",null,null,null,null,null,null,null,null,null,null,null,0,null,null,null,null,null,null,null,null,null,null,0]
["09","Примања од продаје нефинансијске имовине",null,null,null,null,null,null,null,null,null,null,null,0,null,null,null,null,null,null,null,null,null,null,0]
["10","Примања од домаћих задуживања",null,null,null,null,null,null,null,null,null,null,null,0,null,null,null,null,null,null,null,null,null,null,0]
["11","Примања од иностраних задуживања",null,null,null,null,null,null,null,null,null,null,null,0,null,null,null,null,null,null,null,null,null,null,0]
["12","Примања од отплате датих кредита и продаје финансијске имовине",null,null,null,null,null,null,null,null,null,null,null,0,null,null,null,null,null,null,null,null,null,null,0]
["13","Нераспоређени вишак прихода из ранијих година",null,null,null,null,null,null,null,null,null,null,null,0,null,null,null,null,null,null,null,null,null,null,0]
["14","Неутрошена средства од приватизације из ранијих година",null,null,null,null,null,null,null,null,null,null,null,0,null,null,null,null,null,null,null,null,null,null,0]
["15","Неутрошена средства донација из ранијих година",null,null,null,null,null,null,null,null,null,null,null,0,null,null,null,null,null,null,null,null,null,null,0]
["16","Родитељски динар за ваннаставне активности",null,null,null,null,null,null,null,null,null,null,null,0,null,null,null,null,null,null,null,null,null,null,0]
["56","Финансијска помоћ ЕУ",null,null,null,null,null,null,null,null,null,null,null,{"$f":"SUM(H473,J473,L473)","v":0},null,null,null,null,null,null,null,null,null,null,0]
["УКУПНО  ЗА:",null,{"$f":"$D$5&\"-\"&$E$5&\"   \"&$D$6","v":"2001-   "},{"$f":"SUM(D457:E473)","v":0},null,{"$f":"SUM(F457:G473)","v":0},null,{"$f":"SUM(H457:I473)","v":0},null,{"$f":"SUM(J457:K473)","v":0},null,{"$f":"SUM(L457:M473)","v":0},null,{"$f":"SUM(H474:M474)","v":0},null,null,null,null,null,null,null,null,null,null,1]
[null,null,"Разлика ( укупни расходи и издаци -  укупни извори )",{"$f":"D452+E452-D474","v":0},null,{"$f":"F452+G452-F474","v":0},null,{"$f":"H452+I452-H474","v":0},null,{"$f":"J452+K452-J474","v":0},null,{"$f":"L452+M452-L474","v":0},null,{"$f":"N452+O452-N474","v":0},null,null,null,null,null,null,null,null,null,null,1]
[null,null,null,null,null,null,null,null,null,null,null,null,null,null,null,null,null,null,null,null,null,null,null,null,1]
["*","1-3 циља за сваку програмску активност",null,null,null,null,null,null,null,null,null,null,null,null,null,null,null,null,null,null,null,null,null,null,1]
["**","1-3 индикатора исхода/излазног резултата за сваки циљ",null,null,null,null,null,null,null,null,null,null,null,null,null,null,null,null,null,null,null,null,null,null,1]
[null,null,null,null,null,null,null,null,null,null,null,null,null,null,null,null,null,null,null,null,null,null,null,null,1]
[null,null,null,null,null,null,null,null,null,null,null,null,"Одговорно лице",null,null,null,null,null,null,null,null,null,null,null,1]
[null,null,null,null,null,null,null,null,null,null,null,null,null,null,null,null,null,null,null,null,null,null,null,null,1]
[null,"Датум:",null,null,null,null,null,null,null,null,null,null,null,null,null,null,null,null,null,null,null,null,null,null,1]

{"sheet":"Sheet2","index":5,"n_rows":0,"n_cols":0,"rows_kept":0,"cut":false,"hidden":true,"merged":[]}

{"sheet":"Uputstvo","index":6,"n_rows":1740,"n_cols":256,"rows_kept":1740,"cut":false,"hidden":false,"merged":[[1811,44,1811,45],[1811,46,1811,47],[1811,48,1811,49],[1804,50,1804,51],[1808,50,1808,51],[1809,44,1809,45],[1811,50,1811,51],[1807,48,1807,49],[1806,48,1806,49],[1809,46,1809,47],[1811,34,1811,35],[1811,40,1811,41],[1811,36,1811,37],[1811,38,1811,39],[1811,24,1811,25],[1811,26,1811,27],[1811,28,1811,29],[1811,30,1811,31],[1810,24,1810,25],[1810,26,1810,27],[1807,44,1807,45],[1807,46,1807,47],[1807,34,1807,35],[1807,36,1807,37],[1807,38,1807,39],[1807,40,1807,41],[1810,34,1810,35],[1810,36,1810,37],[1804,48,1804,49],[1805,50,1805,51],[1805,48,1805,49],[1805,46,1805,47],[1806,46,1806,47],[1805,44,1805,45],[1806,44,1806,45],[1795,64,1795,65],[1796,64,1796,65],[1804,64,1804,65],[1797,60,1797,61],[1799,44,1799,45],[1807,50,1807,51],[1810,44,1810,45],[1810,46,1810,47],[1810,48,1810,49],[1810,50,1810,51],[1809,50,1809,51],[1808,46,1808,47],[1808,44,1808,45],[1809,48,1809,49],[1808,48,1808,49],[1806,50,1806,51],[1800,54,1800,55],[1800,56,1800,57],[1801,54,1801,55],[1801,56,1801,57],[1804,56,1804,57],[1804,54,1804,55],[1806,54,1806,55],[1806,56,1806,57],[1797,54,1797,55],[1797,56,1797,57],[1796,54,1796,55],[1808,54,1808,55],[1808,56,1808,57],[1800,70,1800,71],[1800,68,1800,69],[1799,70,1799,71],[1789,70,1789,71],[1796,70,1796,71],[1791,70,1791,71],[1792,70,1792,71],[1792,68,1792,69],[1799,68,1799,69],[1795,66,1795,67],[1795,68,1795,69],[1794,68,1794,69],[1794,66,1794,67],[1804,44,1804,45],[1804,46,1804,47],[1800,64,1800,65],[1800,66,1800,67],[1799,66,1799,67],[1794,64,1794,65],[1794,54,1794,55],[1794,56,1794,57],[1796,56,1796,57],[1802,68,1802,69],[1803,64,1803,65],[1793,64,1793,65],[1793,66,1793,67],[1793,68,1793,69],[1804,58,1804,59],[1804,60,1804,61],[1802,58,1802,59],[1802,60,1802,61],[1798,56,1798,57],[1810,70,1810,71],[1774,118,1774,119],[1782,114,1782,115],[1807,70,1807,71],[1808,70,1808,71],[1809,70,1809,71],[1806,70,1806,71],[1784,70,1784,71],[1785,70,1785,71],[1786,70,1786,71],[1796,66,1796,67],[1796,68,1796,69],[1797,64,1797,65],[1797,66,1797,67],[1797,68,1797,69],[1791,66,1791,67],[1791,68,1791,69],[1792,66,1792,67],[1798,64,1798,65],[1798,66,1798,67],[1798,68,1798,69],[1788,68,1788,69],[1798,96,1798,97],[1798,98,1798,99],[1797,70,1797,71],[1798,70,1798,71],[1792,64,1792,65],[1790,68,1790,69],[1793,98,1793,99],[1797,98,1797,99],[1792,98,1792,99],[1796,98,1796,99],[1811,70,1811,71],[1801,70,1801,71],[1802,70,1802,71],[1803,70,1803,71],[1804,70,1804,71],[1805,70,1805,71],[1773,110,1773,111],[1772,104,1772,105],[1773,106,1773,107],[1776,120,1776,121],[1773,108,1773,109],[1774,108,1774,109],[1774,116,1774,117],[1774,114,1774,115],[1776,116,1776,117],[1776,104,1776,105],[1771,120,1771,121],[1776,108,1776,109],[1786,110,1786,111],[1785,104,1785,105],[1784,110,1784,111],[1774,120,1774,121],[1775,114,1775,115],[1775,116,1775,117],[1771,104,1771,105],[1771,106,1771,107],[1775,118,1775,119],[1775,120,1775,121],[1784,104,1784,105],[1784,106,1784,107],[1784,108,1784,109],[1785,88,1785,89],[1774,110,1774,111],[1771,108,1771,109],[1771,110,1771,111],[1773,70,1773,71],[1781,114,1781,115],[1774,70,1774,71],[1785,90,1785,91],[1776,114,1776,115],[1776,118,1776,119],[1781,116,1781,117],[1786,88,1786,89],[1786,90,1786,91],[1778,70,1778,71],[1779,70,1779,71],[1780,70,1780,71],[1783,70,1783,71],[1779,106,1779,107],[1779,108,1779,109],[1779,110,1779,111],[1781,108,1781,109],[1781,110,1781,111],[1772,110,1772,111],[1782,100,1782,101],[1775,100,1775,101],[1779,100,1779,101],[1774,100,1774,101],[1777,100,1777,101],[1783,100,1783,101],[1785,100,1785,101],[1784,96,1784,97],[1784,98,1784,99],[1785,96,1785,97],[1805,156,1805,157],[1805,158,1805,159],[1803,156,1803,157],[1798,156,1798,157],[1800,154,1800,155],[1800,158,1800,159],[1804,156,1804,157],[1799,158,1799,159],[1795,156,1795,157],[1781,118,1781,119],[1777,120,1777,121],[1778,116,1778,117],[1778,118,1778,119],[1777,118,1777,119],[1780,116,1780,117],[1780,118,1780,119],[1778,120,1778,121],[1783,120,1783,121],[1779,118,1779,119],[1779,120,1779,121],[1781,120,1781,121],[1780,120,1780,121],[1796,156,1796,157],[1802,156,1802,157],[1801,156,1801,157],[1796,154,1796,155],[1795,154,1795,155],[1789,154,1789,155],[1787,158,1787,159],[1786,154,1786,155],[1786,156,1786,157],[1786,158,1786,159],[1800,166,1800,167],[1784,166,1784,167],[1785,164,1785,165],[1804,164,1804,165],[1787,164,1787,165],[1799,160,1799,161],[1787,160,1787,161],[1786,164,1786,165],[1799,164,1799,165],[1799,166,1799,167],[1799,168,1799,169],[1785,158,1785,159],[1764,70,1764,71],[1765,70,1765,71],[1766,70,1766,71],[1767,70,1767,71],[1788,158,1788,159],[1798,154,1798,155],[1797,154,1797,155],[1775,70,1775,71],[1776,70,1776,71],[1777,70,1777,71],[1787,70,1787,71],[1781,70,1781,71],[1782,70,1782,71],[1795,158,1795,159],[1801,154,1801,155],[1768,70,1768,71],[1769,70,1769,71],[1788,70,1788,71],[1795,70,1795,71],[1790,70,1790,71],[1793,70,1793,71],[1794,70,1794,71],[1800,168,1800,169],[1802,170,1802,171],[1803,164,1803,165],[1808,166,1808,167],[1808,168,1808,169],[1808,170,1808,171],[1802,164,1802,165],[1802,166,1802,167],[1802,168,1802,169],[1805,170,1805,171],[1807,164,1807,165],[1807,166,1807,167],[1807,168,1807,169],[1807,170,1807,171],[1806,170,1806,171],[1800,170,1800,171],[1801,164,1801,165],[1801,166,1801,167],[1801,168,1801,169],[1801,170,1801,171],[1806,168,1806,169],[1800,164,1800,165],[1798,168,1798,169],[1798,170,1798,171],[1805,164,1805,165],[1798,164,1798,165],[1803,166,1803,167],[1799,170,1799,171],[1798,166,1798,167],[1796,168,1796,169],[1811,164,1811,165],[1811,166,1811,167],[1811,168,1811,169],[1811,170,1811,171],[1810,164,1810,165],[1803,170,1803,171],[1804,168,1804,169],[1804,170,1804,171],[1805,166,1805,167],[1805,168,1805,169],[1809,164,1809,165],[1809,166,1809,167],[1809,168,1809,169],[1809,170,1809,171],[1808,164,1808,165],[1810,166,1810,167],[1810,168,1810,169],[1810,170,1810,171],[1803,168,1803,169],[1806,164,1806,165],[1806,166,1806,167],[1804,166,1804,167],[1796,170,1796,171],[1797,164,1797,165],[1797,166,1797,167],[1797,168,1797,169],[1797,170,1797,171],[1796,164,1796,165],[1796,166,1796,167],[1794,168,1794,169],[1794,170,1794,171],[1795,164,1795,165],[1795,166,1795,167],[1795,168,1795,169],[1795,170,1795,171],[1794,166,1794,167],[1794,164,1794,165],[1787,170,1787,171],[1786,168,1786,169],[1786,170,1786,171],[1785,168,1785,169],[1785,170,1785,171],[1792,168,1792,169],[1792,170,1792,171],[1793,164,1793,165],[1793,166,1793,167],[1793,168,1793,169],[1793,170,1793,171],[1792,164,1792,165],[1792,166,1792,167],[1790,168,1790,169],[1790,170,1790,171],[1791,164,1791,165],[1791,166,1791,167],[1791,168,1791,169],[1791,170,1791,171],[1790,164,1790,165],[1790,166,1790,167],[1788,168,1788,169],[1788,170,1788,171],[1789,164,1789,165],[1789,166,1789,167],[1789,168,1789,169],[1789,170,1789,171],[1788,164,1788,165],[1785,166,1785,167],[1808,156,1808,157],[1807,154,1807,155],[1806,154,1806,155],[1808,154,1808,155],[1807,156,1807,157],[1808,160,1808,161],[1797,158,1797,159],[1797,160,1797,161],[1801,158,1801,159],[1801,160,1801,161],[1798,160,1798,161],[1800,160,1800,161],[1804,158,1804,159],[1803,158,1803,159],[1803,160,1803,161],[1772,170,1772,171],[1773,166,1773,167],[1773,168,1773,169],[1773,170,1773,171],[1774,166,1774,167],[1776,170,1776,171],[1774,170,1774,171],[1772,166,1772,167],[1774,168,1774,169],[1772,168,1772,169],[1779,170,1779,171],[1778,170,1778,171],[1777,166,1777,167],[1777,168,1777,169],[1777,170,1777,171],[1776,166,1776,167],[1776,168,1776,169],[1811,154,1811,155],[1811,156,1811,157],[1811,158,1811,159],[1811,160,1811,161],[1775,170,1775,171],[1774,164,1774,165],[1810,156,1810,157],[1802,158,1802,159],[1802,160,1802,161],[1797,156,1797,157],[1810,158,1810,159],[1810,160,1810,161],[1798,158,1798,159],[1775,168,1775,169],[1788,166,1788,167],[1786,160,1786,161],[1788,160,1788,161],[1775,160,1775,161],[1787,166,1787,167],[1809,160,1809,161],[1808,158,1808,159],[1781,168,1781,169],[1784,164,1784,165],[1806,160,1806,161],[1796,158,1796,159],[1796,160,1796,161],[1804,160,1804,161],[1791,160,1791,161],[1794,158,1794,159],[1809,154,1809,155],[1809,156,1809,157],[1809,158,1809,159],[1795,160,1795,161],[1784,154,1784,155],[1794,156,1794,157],[1786,166,1786,167],[1790,154,1790,155],[1784,156,1784,157],[1784,158,1784,159],[1794,160,1794,161],[1763,170,1763,171],[1764,166,1764,167],[1764,168,1764,169],[1764,170,1764,171],[1767,170,1767,171],[1763,166,1763,167],[1763,168,1763,169],[1770,166,1770,167],[1765,168,1765,169],[1765,170,1765,171],[1765,166,1765,167],[1770,168,1770,169],[1770,170,1770,171],[1768,166,1768,167],[1768,168,1768,169],[1768,170,1768,171],[1769,166,1769,167],[1769,168,1769,169],[1783,166,1783,167],[1783,168,1783,169],[1783,170,1783,171],[1781,170,1781,171],[1792,154,1792,155],[1792,156,1792,157],[1762,170,1762,171],[1762,166,1762,167],[1762,164,1762,165],[1769,164,1769,165],[1771,170,1771,171],[1766,170,1766,171],[1767,164,1767,165],[1767,166,1767,167],[1767,168,1767,169],[1769,170,1769,171],[1807,158,1807,159],[1807,160,1807,161],[1790,156,1790,157],[1790,158,1790,159],[1790,160,1790,161],[1792,160,1792,161],[1799,156,1799,157],[1805,160,1805,161],[1800,156,1800,157],[1792,158,1792,159],[1806,156,1806,157],[1806,158,1806,159],[1778,166,1778,167],[1778,168,1778,169],[1779,166,1779,167],[1779,168,1779,169],[1780,170,1780,171],[1780,166,1780,167],[1782,168,1782,169],[1782,170,1782,171],[1784,168,1784,169],[1784,170,1784,171],[1762,168,1762,169],[1784,160,1784,161],[1791,158,1791,159],[1763,164,1763,165],[1781,166,1781,167],[1781,164,1781,165],[1771,166,1771,167],[1771,168,1771,169],[1780,168,1780,169],[1768,164,1768,165],[1787,168,1787,169],[1764,164,1764,165],[1773,154,1773,155],[1773,156,1773,157],[1773,160,1773,161],[1776,164,1776,165],[1773,158,1773,159],[1765,164,1765,165],[1766,164,1766,165],[1766,168,1766,169],[1766,166,1766,167],[1785,154,1785,155],[1785,156,1785,157],[1781,154,1781,155],[1779,154,1779,155],[1779,156,1779,157],[1782,166,1782,167],[1775,166,1775,167],[1772,164,1772,165],[1773,164,1773,165],[1775,164,1775,165],[1783,154,1783,155],[1785,160,1785,161],[1783,160,1783,161],[1775,154,1775,155],[1770,164,1770,165],[1777,164,1777,165],[1772,158,1772,159],[1778,156,1778,157],[1779,158,1779,159],[1782,164,1782,165],[1771,164,1771,165],[1780,156,1780,157],[1781,156,1781,157],[1778,158,1778,159],[1783,164,1783,165],[1778,164,1778,165],[1780,164,1780,165],[1779,164,1779,165],[1783,158,1783,159],[1788,156,1788,157],[1787,154,1787,155],[1769,156,1769,157],[1769,158,1769,159],[1766,158,1766,159],[1766,160,1766,161],[1767,154,1767,155],[1775,156,1775,157],[1775,158,1775,159],[1776,154,1776,155],[1778,154,1778,155],[1772,154,1772,155],[1777,160,1777,161],[1772,160,1772,161],[1774,160,1774,161],[1793,156,1793,157],[1793,158,1793,159],[1787,156,1787,157],[1791,156,1791,157],[1789,156,1789,157],[1793,160,1793,161],[1789,160,1789,161],[1789,158,1789,159],[1781,160,1781,161],[1778,160,1778,161],[1780,160,1780,161],[1781,158,1781,159],[1782,160,1782,161],[1779,160,1779,161],[1780,158,1780,159],[1782,158,1782,159],[1783,156,1783,157],[1810,154,1810,155],[1762,154,1762,155],[1762,156,1762,157],[1762,158,1762,159],[1782,156,1782,157],[1763,158,1763,159],[1768,158,1768,159],[1777,154,1777,155],[1777,156,1777,157],[1777,158,1777,159],[1762,160,1762,161],[1782,154,1782,155],[1780,154,1780,155],[1788,154,1788,155],[1763,160,1763,161],[1763,154,1763,155],[1763,156,1763,157],[1776,156,1776,157],[1774,156,1774,157],[1772,156,1772,157],[1770,154,1770,155],[1770,156,1770,157],[1770,158,1770,159],[1770,160,1770,161],[1771,156,1771,157],[1771,154,1771,155],[1771,158,1771,159],[1771,160,1771,161],[1767,156,1767,157],[1767,158,1767,159],[1769,160,1769,161],[1768,160,1768,161],[1765,158,1765,159],[1765,160,1765,161],[1774,154,1774,155],[1800,150,1800,151],[1802,154,1802,155],[1809,150,1809,151],[1798,150,1798,151],[1764,154,1764,155],[1764,156,1764,157],[1764,158,1764,159],[1764,160,1764,161],[1765,156,1765,157],[1765,154,1765,155],[1799,154,1799,155],[1803,154,1803,155],[1804,154,1804,155],[1805,154,1805,155],[1791,154,1791,155],[1799,150,1799,151],[1794,154,1794,155],[1792,150,1792,151],[1793,150,1793,151],[1793,154,1793,155],[1769,154,1769,155],[1768,156,1768,157],[1768,154,1768,155],[1767,160,1767,161],[1766,154,1766,155],[1766,156,1766,157],[1776,158,1776,159],[1776,160,1776,161],[1774,158,1774,159],[1811,146,1811,147],[1802,144,1802,145],[1804,144,1804,145],[1811,148,1811,149],[1806,144,1806,145],[1806,146,1806,147],[1806,148,1806,149],[1810,146,1810,147],[1810,148,1810,149],[1810,144,1810,145],[1807,144,1807,145],[1807,146,1807,147],[1807,148,1807,149],[1811,150,1811,151],[1808,144,1808,145],[1808,146,1808,147],[1808,148,1808,149],[1808,150,1808,151],[1809,144,1809,145],[1809,146,1809,147],[1809,148,1809,149],[1811,144,1811,145],[1810,150,1810,151],[1800,144,1800,145],[1800,146,1800,147],[1800,148,1800,149],[1798,144,1798,145],[1798,146,1798,147],[1795,150,1795,151],[1798,148,1798,149],[1807,150,1807,151],[1801,148,1801,149],[1804,150,1804,151],[1805,148,1805,149],[1802,148,1802,149],[1804,148,1804,149],[1803,148,1803,149],[1803,150,1803,151],[1806,150,1806,151],[1805,150,1805,151],[1804,146,1804,147],[1801,144,1801,145],[1802,150,1802,151],[1805,144,1805,145],[1805,146,1805,147],[1802,146,1802,147],[1803,144,1803,145],[1803,146,1803,147],[1801,146,1801,147],[1801,150,1801,151],[1799,144,1799,145],[1799,146,1799,147],[1799,148,1799,149],[1793,148,1793,149],[1794,148,1794,149],[1791,146,1791,147],[1790,144,1790,145],[1792,148,1792,149],[1797,150,1797,151],[1795,148,1795,149],[1795,144,1795,145],[1796,146,1796,147],[1797,148,1797,149],[1797,144,1797,145],[1796,150,1796,151],[1797,146,1797,147],[1795,146,1795,147],[1792,144,1792,145],[1791,148,1791,149],[1796,148,1796,149],[1792,146,1792,147],[1794,144,1794,145],[1794,146,1794,147],[1796,144,1796,145],[1794,150,1794,151],[1791,144,1791,145],[1784,150,1784,151],[1786,148,1786,149],[1786,150,1786,151],[1776,146,1776,147],[1776,148,1776,149],[1781,150,1781,151],[1782,150,1782,151],[1777,150,1777,151],[1791,150,1791,151],[1789,148,1789,149],[1789,150,1789,151],[1789,146,1789,147],[1783,150,1783,151],[1790,146,1790,147],[1788,146,1788,147],[1788,148,1788,149],[1788,150,1788,151],[1790,148,1790,149],[1790,150,1790,151],[1787,146,1787,147],[1786,146,1786,147],[1780,150,1780,151],[1779,148,1779,149],[1779,150,1779,151],[1778,150,1778,151],[1776,150,1776,151],[1785,150,1785,151],[1780,146,1780,147],[1787,148,1787,149],[1787,150,1787,151],[1777,146,1777,147],[1784,148,1784,149],[1762,144,1762,145],[1762,146,1762,147],[1762,148,1762,149],[1762,150,1762,151],[1763,144,1763,145],[1763,146,1763,147],[1763,148,1763,149],[1763,150,1763,151],[1765,150,1765,151],[1764,146,1764,147],[1765,146,1765,147],[1765,148,1765,149],[1766,144,1766,145],[1766,146,1766,147],[1765,144,1765,145],[1764,150,1764,151],[1764,148,1764,149],[1764,144,1764,145],[1767,144,1767,145],[1772,144,1772,145],[1777,144,1777,145],[1775,144,1775,145],[1773,144,1773,145],[1774,144,1774,145],[1771,144,1771,145],[1766,148,1766,149],[1766,150,1766,151],[1767,146,1767,147],[1767,148,1767,149],[1768,150,1768,151],[1771,146,1771,147],[1771,148,1771,149],[1771,150,1771,151],[1769,146,1769,147],[1767,150,1767,151],[1774,150,1774,151],[1772,148,1772,149],[1772,150,1772,151],[1769,148,1769,149],[1769,150,1769,151],[1770,144,1770,145],[1770,146,1770,147],[1770,148,1770,149],[1770,150,1770,151],[1769,144,1769,145],[1773,146,1773,147],[1773,148,1773,149],[1773,150,1773,151],[1775,148,1775,149],[1775,150,1775,151],[1778,144,1778,145],[1776,144,1776,145],[1778,140,1778,141],[1782,140,1782,141],[1783,138,1783,139],[1787,140,1787,141],[1781,144,1781,145],[1781,140,1781,141],[1789,144,1789,145],[1788,144,1788,145],[1797,140,1797,141],[1796,140,1796,141],[1795,140,1795,141],[1793,136,1793,137],[1768,144,1768,145],[1768,146,1768,147],[1768,148,1768,149],[1774,148,1774,149],[1778,146,1778,147],[1785,144,1785,145],[1785,146,1785,147],[1781,148,1781,149],[1778,148,1778,149],[1783,148,1783,149],[1782,148,1782,149],[1780,148,1780,149],[1783,144,1783,145],[1784,144,1784,145],[1777,148,1777,149],[1785,148,1785,149],[1783,146,1783,147],[1786,144,1786,145],[1781,138,1781,139],[1779,146,1779,147],[1780,138,1780,139],[1780,140,1780,141],[1779,140,1779,141],[1780,144,1780,145],[1793,140,1793,141],[1798,136,1798,137],[1784,138,1784,139],[1789,138,1789,139],[1788,136,1788,137],[1794,136,1794,137],[1788,138,1788,139],[1792,136,1792,137],[1792,138,1792,139],[1798,138,1798,139],[1797,138,1797,139],[1798,140,1798,141],[1795,136,1795,137],[1795,138,1795,139],[1794,138,1794,139],[1790,136,1790,137],[1793,144,1793,145],[1793,146,1793,147],[1779,144,1779,145],[1805,140,1805,141],[1802,138,1802,139],[1802,140,1802,141],[1801,138,1801,139],[1802,136,1802,137],[1781,136,1781,137],[1780,136,1780,137],[1796,136,1796,137],[1796,138,1796,139],[1784,140,1784,141],[1773,140,1773,141],[1774,140,1774,141],[1772,146,1772,147],[1774,146,1774,147],[1775,146,1775,147],[1779,138,1779,139],[1788,140,1788,141],[1787,138,1787,139],[1791,140,1791,141],[1790,140,1790,141],[1803,138,1803,139],[1789,140,1789,141],[1803,140,1803,141],[1783,140,1783,141],[1785,140,1785,141],[1792,140,1792,141],[1794,140,1794,141],[1781,146,1781,147],[1782,144,1782,145],[1782,146,1782,147],[1787,144,1787,145],[1784,146,1784,147],[1808,140,1808,141],[1799,138,1799,139],[1799,140,1799,141],[1800,138,1800,139],[1800,140,1800,141],[1800,136,1800,137],[1799,136,1799,137],[1807,140,1807,141],[1811,134,1811,135],[1811,136,1811,137],[1809,134,1809,135],[1809,136,1809,137],[1809,138,1809,139],[1808,136,1808,137],[1808,138,1808,139],[1810,134,1810,135],[1811,138,1811,139],[1811,140,1811,141],[1810,136,1810,137],[1810,138,1810,139],[1810,140,1810,141],[1809,140,1809,141],[1805,136,1805,137],[1807,138,1807,139],[1804,136,1804,137],[1804,138,1804,139],[1804,140,1804,141],[1801,140,1801,141],[1806,136,1806,137],[1806,138,1806,139],[1806,140,1806,141],[1805,138,1805,139],[1789,134,1789,135],[1789,136,1789,137],[1793,138,1793,139],[1807,134,1807,135],[1807,136,1807,137],[1808,134,1808,135],[1800,134,1800,135],[1801,134,1801,135],[1801,136,1801,137],[1803,134,1803,135],[1803,136,1803,137],[1805,134,1805,135],[1806,134,1806,135],[1804,134,1804,135],[1797,136,1797,137],[1775,140,1775,141],[1778,138,1778,139],[1776,138,1776,139],[1777,138,1777,139],[1784,136,1784,137],[1790,138,1790,139],[1782,136,1782,137],[1791,136,1791,137],[1791,138,1791,139],[1787,136,1787,137],[1782,138,1782,139],[1785,136,1785,137],[1785,138,1785,139],[1783,136,1783,137],[1786,136,1786,137],[1786,138,1786,139],[1786,140,1786,141],[1776,140,1776,141],[1777,140,1777,141],[1762,140,1762,141],[1765,140,1765,141],[1766,140,1766,141],[1764,138,1764,139],[1764,140,1764,141],[1763,138,1763,139],[1763,140,1763,141],[1762,138,1762,139],[1766,138,1766,139],[1767,140,1767,141],[1772,134,1772,135],[1769,134,1769,135],[1769,136,1769,137],[1771,140,1771,141],[1771,136,1771,137],[1771,138,1771,139],[1770,134,1770,135],[1770,140,1770,141],[1768,140,1768,141],[1769,140,1769,141],[1772,140,1772,141],[1769,138,1769,139],[1762,134,1762,135],[1763,134,1763,135],[1763,136,1763,137],[1762,136,1762,137],[1764,136,1764,137],[1767,138,1767,139],[1768,134,1768,135],[1768,136,1768,137],[1768,138,1768,139],[1765,138,1765,139],[1774,138,1774,139],[1773,138,1773,139],[1764,134,1764,135],[1775,134,1775,135],[1783,134,1783,135],[1766,134,1766,135],[1765,134,1765,135],[1780,134,1780,135],[1775,136,1775,137],[1775,138,1775,139],[1782,134,1782,135],[1781,134,1781,135],[1774,134,1774,135],[1771,134,1771,135],[1772,136,1772,137],[1772,138,1772,139],[1765,136,1765,137],[1767,134,1767,135],[1773,134,1773,135],[1773,136,1773,137],[1766,136,1766,137],[1767,136,1767,137],[1770,136,1770,137],[1770,138,1770,139],[1779,134,1779,135],[1779,136,1779,137],[1777,134,1777,135]],"merged_total":3456,"flags":["merged_cut"]}
[null,"Програми","Шифра","Сврха",null,null,null,null,null,null,null,null,null,null,null,null,null,null,null,null,null,null,null,null,null,null,null,null,null,null,null,null,null,null,null,null,null,null,null,null,null,null,null,null,null,null,null,null,null,null,null,null,null,null,null,null,null,null,null,null,null,null,null,null,null,null,null,null,null,null,"ФУНКЦИОНАЛНА КЛАСИФИКАЦИЈА",null,null,"КЛАСИФИКАЦИЈА ПО ИЗВОРИМА ФИНАНСИРАЊА",null,null,null,"ЕКОНОМСКА КЛАСИФИКАЦИЈА - 3 nivo",null,null,null,null,null,null,null,null,null,null,null,"000","СОЦИЈАЛНА ЗАШТИТА",null,null,{"$f":"BS2&\" - \"&BT2","v":"0 - СОЦИЈАЛНА ЗАШТИТА"},null,null,null,null,"КЛАСИФИКАЦИЈА ПО ИЗВОРИМА ФИНАНСИРАЊА"]
[null,"Програм 1.  Становање, урбанизам и просторно планирање","1101","Планирање, уређење и коришћење простора у локалној заједници засновано на начелима  одрживог развоја, равномерног територијалног развоја и рационалног коришћења земљишта; Подстицање одрживог развоја становања кроз унапређење услова становања грађана и очување и унапређење вредности стамбеног фонда",null,null,null,null,null,null,null,null,null,null,null,null,null,null,null,null,null,null,null,null,null,null,null,null,null,null,null,null,null,null,null,null,null,null,null,null,null,null,null,null,null,null,null,null,null,null,null,null,null,null,null,null,null,null,null,null,null,null,null,null,null,null,null,null,null,null,0,"СОЦИЈАЛНА ЗАШТИТА",null,"01","Приходи из буџета","01",null,411,"Плате, додаци и накнаде запослених (зараде)",411,null,null,null,null,null,null,null,null,null,"010","Болест и инвалидност",null,null,{"$f":"BS3&\" - \"&BT3","v":"10 - Болест и инвалидност"},null,null,null,null,"01","Приходи из буџета",null,null,{"$f":"CU2&\" - \"&CV2","v":"01 - Приходи из буџета"}]
[null,"Програм 2.  Комуналне делатности","1102","Пружања комуналних услуга од значаја за остварење животних потреба физичких и правних лица уз обезбеђење одговарајућег квалитета, обима, доступности и континуитета;  Одрживо снабдевање корисника топлотном енергијом;  Редовно, сигурно  и одрживо  снабдевање водом за пиће становника, уређивање начина коришћења и управљања изворима, јавним бунарима и чесмама.\n",null,null,null,null,null,null,null,null,null,null,null,null,null,null,null,null,null,null,null,null,null,null,null,null,null,null,null,null,null,null,null,null,null,null,null,null,null,null,null,null,null,null,null,null,null,null,null,null,null,null,null,null,null,null,null,null,null,null,null,null,null,null,null,null,null,null,10,"Болест и инвалидност",null,"02","Трансфери између корисника на истом нивоу","02",null,412,"Социјални доприноси на терет послодавца",412,null,null,null,null,null,null,null,null,null,"020","Старост",null,null,"20 - Старост",null,null,null,null,"02","Трансфери између корисника на истом нивоу",null,null,{"$f":"CU3&\" - \"&CV3","v":"02 - Трансфери између корисника на истом нивоу"}]
[null,"Програм 3.  Локални економски развој","1501","Обезбеђивање стимулативног оквира за пословање и адекватног привредног амбијента за привлачење инвестиција.",null,null,null,null,null,null,null,null,null,null,null,null,null,null,null,null,null,null,null,null,null,null,null,null,null,null,null,null,null,null,null,null,null,null,null,null,null,null,null,null,null,null,null,null,null,null,null,null,null,null,null,null,null,null,null,null,null,null,null,null,null,null,null,null,null,null,20,"Старост",null,"03","Социјални доприноси","03",null,413,"Накнаде у натури",413,null,null,null,null,null,null,null,null,null,"030","Корисници породичне пензије",null,null,"30 - Корисници породичне пензије",null,null,null,null,"03","Социјални доприноси",null,null,"03 - Социјални доприноси"]
[null,"Програм 4.  Развој туризма","1502","Унапређење туристичке понуде у граду/општини.",null,null,null,null,null,null,null,null,null,null,null,null,null,null,null,null,null,null,null,null,null,null,null,null,null,null,null,null,null,null,null,null,null,null,null,null,null,null,null,null,null,null,null,null,null,null,null,null,null,null,null,null,null,null,null,null,null,null,null,null,null,null,null,null,null,null,30,"Корисници породичне пензије",null,"04","Сопствени приходи буџетских корисника","04",null,414,"Социјална давања запосленима",414,null,null,null,null,null,null,null,null,null,"040","Породица и деца",null,null,"40 - Породица и деца",null,null,null,null,"04","Сопствени приходи буџетских корисника",null,null,"04 - Сопствени приходи буџетских корисника"]
[null,"Програм 5.  Пољопривреда и рурални развој","0101","Унапређивање пољопривредне производње у граду/општини.",null,null,null,null,null,null,null,null,null,null,null,null,null,null,null,null,null,null,null,null,null,null,null,null,null,null,null,null,null,null,null,null,null,null,null,null,null,null,null,null,null,null,null,null,null,null,null,null,null,null,null,null,null,null,null,null,null,null,null,null,null,null,null,null,null,null,40,"Породица и деца",null,"05","Донације од иностраних земаља","05",null,415,"Накнаде трошкова за запослене",415,null,null,null,null,null,null,null,null,null,"050","Незапосленост",null,null,"50 - Незапосленост",null,null,null,null,"05","Донације од иностраних земаља",null,null,"05 - Донације од иностраних земаља"]
[null,"Програм 6.  Заштита животне средине","0401","Обезбеђивање услова за одрживи развој локалне заједнице одговорним односом према животној средини;  Ефикасно и одрживо управљање отпадним водама;  Одрживо управљање отпадом.",null,null,null,null,null,null,null,null,null,null,null,null,null,null,null,null,null,null,null,null,null,null,null,null,null,null,null,null,null,null,null,null,null,null,null,null,null,null,null,null,null,null,null,null,null,null,null,null,null,null,null,null,null,null,null,null,null,null,null,null,null,null,null,null,null,null,50,"Незапосленост",null,"06","Донације од међународних организација","06",null,416,"Награде запосленима и остали посебни расходи",416,null,null,null,null,null,null,null,null,null,"060","Становање",null,null,"60 - Становање",null,null,null,null,"06","Донације од међународних организација",null,null,"06 - Донације од међународних организација"]
[null,"Програм 7.  Организација саобраћаја и саобраћајна инфраструктура","0701","Унапређење организације саобраћаја и унапређење саобраћајне инфраструктуре у локалној самоуправи.",null,null,null,null,null,null,null,null,null,null,null,null,null,null,null,null,null,null,null,null,null,null,null,null,null,null,null,null,null,null,null,null,null,null,null,null,null,null,null,null,null,null,null,null,null,null,null,null,null,null,null,null,null,null,null,null,null,null,null,null,null,null,null,null,null,null,60,"Становање",null,"07","Донације од осталих нивоа власти","07",null,417,"Посланички додатак",417,null,null,null,null,null,null,null,null,null,"070","Социјална помоћ угроженом становништву, некласификована на другом месту",null,null,"70 - Социјална помоћ угроженом становништву, некласификована на другом месту",null,null,null,null,"07","Трансфери од других нивоа власти",null,null,{"$f":"CU8&\" - \"&CV8","v":"07 - Трансфери од других нивоа власти"}]
[null,"Програм 8.  Предшколско васпитање и образовање","2001","Омогућавање обухвата предшколске деце у вртићима.",null,null,null,null,null,null,null,null,null,null,null,null,null,null,null,null,null,null,null,null,null,null,null,null,null,null,null,null,null,null,null,null,null,null,null,null,null,null,null,null,null,null,null,null,null,null,null,null,null,null,null,null,null,null,null,null,null,null,null,null,null,null,null,null,null,null,70,"Социјална помоћ угроженом становништву, некласификована на другом месту",null,"08","Донације од невладиних организација и појединаца","08",null,418,"Судијски додатак.",418,null,null,null,null,null,null,null,null,null,"080","Социјална заштита -  истраживање и развој",null,null,"80 - Социјална заштита -  истраживање и развој",null,null,null,null,"08","Добровољни трансфери од физичких и правних лица",null,null,"08 - Добровољни трансфери од физичких и правних лица",null,null,null,null,null,null,"ПОСТУПАК ЗА ПОПУЊАВАЊЕ ОБРАЗАЦА",null,null,null,null,null,null,null,null,null,null,null,null,null,null,"ГРАФИЧКИ ПРИКАЗ ПОЧЕТНИХ ПОДЕШАВАЊА "]
[null,"Програм 9.  Основно образовање и васпитање","2002","Доступност основног образовања свој деци са територије града/општине у складу са прописаним стандардима.",null,null,null,null,null,null,null,null,null,null,null,null,null,null,null,null,null,null,null,null,null,null,null,null,null,null,null,null,null,null,null,null,null,null,null,null,null,null,null,null,null,null,null,null,null,null,null,null,null,null,null,null,null,null,null,null,null,null,null,null,null,null,null,null,null,null,80,"Социјална заштита -  истраживање и развој",null,"09","Примања од продаје нефинансијске имовине","09",null,421,"Стални трошкови",421,null,null,null,null,null,null,null,null,null,"090","Социјална заштита некласификована на другом месту",null,null,"90 - Социјална заштита некласификована на другом месту",null,null,null,null,"09","Примања од продаје нефинансијске имовине",null,null,"09 - Примања од продаје нефинансијске имовине"]
[null,"Програм 10.  Средње образовање и васпитање","2003","Доступност средњег образовања у складу са прописаним стандардима и потребама за образовним профилима који одговарају циљевима развоја града/општине и привреде.",null,null,null,null,null,null,null,null,null,null,null,null,null,null,null,null,null,null,null,null,null,null,null,null,null,null,null,null,null,null,null,null,null,null,null,null,null,null,null,null,null,null,null,null,null,null,null,null,null,null,null,null,null,null,null,null,null,null,null,null,null,null,null,null,null,null,90,"Социјална заштита некласификована на другом месту",null,"10","Примања од домаћих задуживања","10",null,422,"Трошкови путовања",422,null,null,null,null,null,null,null,null,null,100,"ОПШТЕ ЈАВНЕ УСЛУГЕ",null,null,"100 - ОПШТЕ ЈАВНЕ УСЛУГЕ",null,null,null,null,"10","Примања од домаћих задуживања",null,null,"10 - Примања од домаћих задуживања"]
[null,null,null,null,null,null,null,null,null,null,null,null,null,null,null,null,null,null,null,null,null,null,null,null,null,null,null,null,null,null,null,null,null,null,null,null,null,null,null,null,null,null,null,null,null,null,null,null,null,null,null,null,null,null,null,null,null,null,null,null,null,null,null,null,null,null,null,null,null,null,100,"ОПШТЕ ЈАВНЕ УСЛУГЕ",null,null,null,null,null,null,null,null,null,null,null,null,null,null,null,null,null,null,null,null,null,"110 - Извршни и законодавни органи, финансијски и фискални послови и спољни послови",null,null,null,null,null,null,null,null,{"$f":"CU13&\" - \"&CV13","v":"11 - Примања од иностраних задуживања"},null,null,null,null,null,null,"I","ПОДЕШАВАЊЕ ПОЧЕТНИХ ПАРАМЕТАРА:"]
[null,"Програм 11.  Социјална и дечја заштита","0901","Обезбеђивање свеобухватне социјалне заштите и помоћи најугроженијем становништву града/општине.",null,null,null,null,null,null,null,null,null,null,null,null,null,null,null,null,null,null,null,null,null,null,null,null,null,null,null,null,null,null,null,null,null,null,null,null,null,null,null,null,null,null,null,null,null,null,null,null,null,null,null,null,null,null,null,null,null,null,null,null,null,null,null,null,null,null,110,"Извршни и законодавни органи, финансијски и фискални послови и спољни послови",null,"11","Примања од иностраних задуживања","11",null,423,"Услуге по уговору",423,null,null,null,null,null,null,null,null,null,110,"Извршни и законодавни органи, финансијски и фискални послови и спољни послови",null,null,"111 - Извршни и законодавни органи",null,null,null,null,"11","Примања од иностраних задуживања",null,null,{"$f":"CU14&\" - \"&CV14","v":"12 - Примања од отплате датих кредита и продаје финансијске имовине"},null,null,null,null,null,null,null,"Прво што је потребно урадити јесте да омогућите макрое у Вашој верзији Ексела. У зависности од верзије по покретању документа добићете обавештење да су макрои онемогућени и питање да ли желите да омогућите макрое. Кликом на опцију \"Еnable this content\" или \"Enable macros\" омогућавају се програмске процедуре које су неопходне за рад документа. За кориснике који попуњавају обрасце у Екселу 2003 активирање макроа приказано је на сликама.",null,null,null,null,null,null,null,null,null,null,null,null,null,"1. Корак: За верзију Ексела 2003, у зависности од сигурносних подешавања, покретањем документа добићете обавештење да су макрои онемогућени, како би омогућили процедуре и формуле у документу омогућавање макроа се врши кликом на опцију \"Tools\" > \"Options\""]
[null,"Програм 12.  Здравствена заштита","1801","Доступност примарне здравствене заштите у складу са националним стандардима и обезбеђивање и спровођење активности у областима деловања јавног здравља.\n\n",null,null,null,null,null,null,null,null,null,null,null,null,null,null,null,null,null,null,null,null,null,null,null,null,null,null,null,null,null,null,null,null,null,null,null,null,null,null,null,null,null,null,null,null,null,null,null,null,null,null,null,null,null,null,null,null,null,null,null,null,null,null,null,null,null,null,111,"Извршни и законодавни органи",null,"12","Примања од отплате датих кредита и продаје финансијске имовине","12",null,424,"Специјализоване услуге",424,null,null,null,null,null,null,null,null,null,111,"Извршни и законодавни органи",null,null,"112 - Финансијски и фискални послови",null,null,null,null,"12","Примања од отплате датих кредита и продаје финансијске имовине",null,null,{"$f":"CU15&\" - \"&CV15","v":"13 - Нераспоређени вишак прихода из ранијих година"},null,null,null,null,null,null,null,"Након омогућавања макроа у радном листу \"Програм\", у ћелији \"D4\" изаберете назив Програма. Овим поступком сте подесили параметре за рад у радним листовима \"Програмска активност\" и \"Пројекат\". Након избора програма пређите на обрасце програмска активност и пројекат. Вредности у финансијском плану програма се аутоматски учитавају. "]
[null,"Програм 13.  Развој културе и информисања","1201","Очување, унапређење и представљање културног-историјског наслеђа, културне разноврсности, продукције и стваралаштва у локалној заједници;\nОстваривање права грађана информисање и унапређење јавног информисања.",null,null,null,null,null,null,null,null,null,null,null,null,null,null,null,null,null,null,null,null,null,null,null,null,null,null,null,null,null,null,null,null,null,null,null,null,null,null,null,null,null,null,null,null,null,null,null,null,null,null,null,null,null,null,null,null,null,null,null,null,null,null,null,null,null,null,112,"Финансијски и фискални послови",null,"13","Нераспоређени вишак прихода из ранијих година","13",null,425,"Текуће поправке и одржавање",425,null,null,null,null,null,null,null,null,null,112,"Финансијски и фискални послови",null,null,"113 - Спољни послови",null,null,null,null,"13","Нераспоређени вишак прихода из ранијих година",null,null,{"$f":"CU16&\" - \"&CV16","v":"14 - Неутрошена средства од приватизације из ранијих година"}]
[null,"Програм 14.  Развој спорта и омладине","1301","Обезбеђивање приступа спорту и подршка пројектима везаним за развој спорта; Обезбеђивање услова за развој и спровођење омладинске политике.",null,null,null,null,null,null,null,null,null,null,null,null,null,null,null,null,null,null,null,null,null,null,null,null,null,null,null,null,null,null,null,null,null,null,null,null,null,null,null,null,null,null,null,null,null,null,null,null,null,null,null,null,null,null,null,null,null,null,null,null,null,null,null,null,null,null,113,"Спољни послови",null,"14","Неутрошена средства од приватизације из претходних година","14",null,426,"Материјал",426,null,null,null,null,null,null,null,null,null,113,"Спољни послови",null,null,"120 - Економска помоћ иностранству",null,null,null,null,"14","Неутрошена средства од приватизације из ранијих година",null,null,{"$f":"CU18&\" - \"&CV18","v":"15 - Неутрошена средства донација из ранијих година"}]
[null,null,null,null,null,null,null,null,null,null,null,null,null,null,null,null,null,null,null,null,null,null,null,null,null,null,null,null,null,null,null,null,null,null,null,null,null,null,null,null,null,null,null,null,null,null,null,null,null,null,null,null,null,null,null,null,null,null,null,null,null,null,null,null,null,null,null,null,null,null,120,"Економска помоћ иностранству",null,null,null,null,null,null,null,null,null,null,null,null,null,null,null,null,null,null,null,null,null,"121 - Економска помоћ земљама у развоју и земљама у транзицији",null,null,null,null,null,null,null,null,{"$f":"CU19&\" - \"&CV19","v":"16 - Родитељски динар за ваннаставне активности"},null,null,null,null,null,null,"II ","КОПИРАЊЕ ПОТРЕБНОГ БРОЈA SHEET-ОВА ЗА ПРОГРАМСКЕ АКТИВНОСТИ И ПРОЈЕКТЕ"]
[null,"Програм 15.  Опште услуге локалне самоуправе","0602","Обезбеђивање услуга јавне управе и остваривање и заштита права грађана и јавног интереса;  Одрживо управљање финансијама и администрирање изворних прихода локалне самоуправе;  Сервисирање обавеза које проистичу из задуживања за финансирање буџета  и  управљање  јавним  дугом;  Пружање ефикасне интервенције, ублажавање последица и обезбеђење снабдевености и стабилности на тржишту у случају ванредних  ситуација.",null,null,null,null,null,null,null,null,null,null,null,null,null,null,null,null,null,null,null,null,null,null,null,null,null,null,null,null,null,null,null,null,null,null,null,null,null,null,null,null,null,null,null,null,null,null,null,null,null,null,null,null,null,null,null,null,null,null,null,null,null,null,null,null,null,null,121,"Економска помоћ земљама у развоју и земљама у транзицији",null,"15","Неутрошена средства донација из претходних година","15",null,431,"Амортизација некретнина и опреме",431,null,null,null,null,null,null,null,null,null,120,"Економска помоћ иностранству",null,null,"122 - Економска помоћ преко међународних организација",null,null,null,null,"15","Неутрошена средства донација из ранијих година",null,null,{"$f":"CU20&\" - \"&CV20","v":"56 - Финансијска помоћ ЕУ"},null,null,null,null,null,null,null,"Сваки програм се састоји из различитог броја програмских активности и пројеката те је неопходно да за онај број програмских активности и пројеката који Вам је потребан ископирате радне листове \"Програмска активност\" и \"Пројекат\". Поступак копирања је следећи:"]
[null,"Програм 16.  Политички систем локалне самоуправе","2101","Обављање основних функција изборних органа локалне самоуправе.",null,null,null,null,null,null,null,null,null,null,null,null,null,null,null,null,null,null,null,null,null,null,null,null,null,null,null,null,null,null,null,null,null,null,null,null,null,null,null,null,null,null,null,null,null,null,null,null,null,null,null,null,null,null,null,null,null,null,null,null,null,null,null,null,null,null,122,"Економска помоћ преко међународних организација",null,"16","Родитељски динар за ваннаставне активности","16",null,432,"Амортизација култивисане имовине",432,null,null,null,null,null,null,null,null,null,121,"Економска помоћ земљама у развоју и земљама у транзицији",null,null,"130 - Опште услуге",null,null,null,null,"16","Родитељски динар за ваннаставне активности",null,null,null,null,null,null,null,null,null,null,"1) Копирање потребног броја програмских активности: Уколико у оквиру програма Ваш буџетски корисник реализује више програмских активности потребно је да у горњем десном углу обрасца \"Програмска активност\" притиснете опцију \"КОПИРАЈ НОВУ ПРОГРАМСКУ АКТИВНОСТ\" , након тога појавиће Вам се нови прозор где уносите број нових програмских активности које желите да попуните(копирате). Кликом на ОК , извршиће се копирање потребног броја прог. активности."]
[null,"Програм 17.  Енергетска ефикасност и обновљиви извори енергије","0501","Одрживи енергетски развој локалне самоуправе кроз постицање унапређења енергетске ефикасности, побољшање енергетске инфраструктуре и ширу употребу обновљивих извора енергије.",null,null,null,null,null,null,null,null,null,null,null,null,null,null,null,null,null,null,null,null,null,null,null,null,null,null,null,null,null,null,null,null,null,null,null,null,null,null,null,null,null,null,null,null,null,null,null,null,null,null,null,null,null,null,null,null,null,null,null,null,null,null,null,null,null,null,130,"Опште услуге",null,null,null,null,null,433,"Употреба драгоцености",433,null,null,null,null,null,null,null,null,null,122,"Економска помоћ преко међународних организација",null,null,"131 - Опште кадровске услуге",null,null,null,null,56,"Финансијска помоћ ЕУ",null,null,null,null,null,null,null,null,null,null,"2) За нови пројекат:  Исти поступак као код обрасца програмска активност само што се копира образац \"Пројекат\""]
[null,null,null,null,null,null,null,null,null,null,null,null,null,null,null,null,null,null,null,null,null,null,null,null,null,null,null,null,null,null,null,null,null,null,null,null,null,null,null,null,null,null,null,null,null,null,null,null,null,null,null,null,null,null,null,null,null,null,null,null,null,null,null,null,null,null,null,null,null,null,131,"Опште кадровске услуге",null,null,null,null,null,434,"Употреба природне имовине",434,null,null,null,null,null,null,null,null,null,130,"Опште услуге",null,null,"132 - Опште услуге планирања и статистике"]
[null,null,null,null,null,null,null,null,null,null,null,null,null,null,null,null,null,null,null,null,null,null,null,null,null,null,null,null,null,null,null,null,null,null,null,null,null,null,null,null,null,null,null,null,null,null,null,null,null,null,null,null,null,null,null,null,null,null,null,null,null,null,null,null,null,null,null,null,null,null,132,"Опште услуге планирања и статистике",null,null,null,null,null,435,"Амортизација нематеријалне имовине",435,null,null,null,null,null,null,null,null,null,131,"Опште кадровске услуге",null,null,"133 - Остале опште услуге"]
[null,null,null,null,null,null,null,null,null,null,null,null,null,null,null,null,null,null,null,null,null,null,null,null,null,null,null,null,null,null,null,null,null,null,null,null,null,null,null,null,null,null,null,null,null,null,null,null,null,null,null,null,null,null,null,null,null,null,null,null,null,null,null,null,null,null,null,null,null,null,133,"Остале опште услуге",null,null,null,null,null,441,"Отплата домаћих камата",441,null,null,null,null,null,null,null,null,null,132,"Опште услуге планирања и статистике",null,null,"150 - Опште јавне услуге -  истраживање и развој",null,null,null,null,null,null,null,null,null,null,null,null,null,null,null,"III","ЗНАЧЕЊЕ ПОЈЕДИНИХ НАСЛОВА КОД ПРОГРАМА, ПРОГРАМСКИХ АКТИВНОСТИ И ПРОЈЕКАТА И ИНФОРМАЦИЈЕ КОЈЕ СЕ УНОСЕ"]
[null,null,null,null,null,null,null,null,null,null,null,null,null,null,null,null,null,null,null,null,null,null,null,null,null,null,null,null,null,null,null,null,null,null,null,null,null,null,null,null,null,null,null,null,null,null,null,null,null,null,null,null,null,null,null,null,null,null,null,null,null,null,null,null,null,null,null,null,null,null,150,"Опште јавне услуге -  истраживање и развој",null,null,null,null,null,442,"Отплата страних камата",442,null,null,null,null,null,null,null,null,null,133,"Остале опште услуге",null,null,"160 - Опште јавне услуге некласификоване на другом месту",null,null,null,null,null,null,null,null,null,null,null,null,null,null,null,null,"1)  У табелама у којима се исказују индикатори: "]
[null,null,null,null,null,null,null,null,null,null,null,null,null,null,null,null,null,null,null,null,null,null,null,null,null,null,null,null,null,null,null,null,null,null,null,null,null,null,null,null,null,null,null,null,null,null,null,null,null,null,null,null,null,null,null,null,null,null,null,null,null,null,null,null,null,null,null,null,null,null,160,"Опште јавне услуге некласификоване на другом месту",null,null,null,null,null,443,"Отплата камата по гаранцијама",443,null,null,null,null,null,null,null,null,null,140,"Основно истраживање",null,null,"170 - Трансакције јавног  дуга"]
[null,null,null,null,null,null,null,null,null,null,null,null,null,null,null,null,null,null,null,null,null,null,null,null,null,null,null,null,null,null,null,null,null,null,null,null,null,null,null,null,null,null,null,null,null,null,null,null,null,null,null,null,null,null,null,null,null,null,null,null,null,null,null,null,null,null,null,null,null,null,170,"Трансакције јавног  дуга",null,null,null,null,null,4511,"Текуће субвенције јавним нефинансијским предузећима и организацијама",451,null,null,null,null,null,null,null,null,null,160,"Опште јавне услуге некласификоване на другом месту",null,null,"180 - Трансфери општег карактера између различитих нивоа власти",null,null,null,null,null,null,null,null,null,null,null,null,null,null,null,null," - наслов колоне \"Вредност у базној години (2018)\" односи се на иницијалну референтну вредност индикатора у односу на коју настојимо да пратимо промене током времена (у буџетском циклусу за 2020. годину то ће бити 2018. година, кроз наредне буџетске циклусе ће бити расположиве вредности са краја 2019/2020/итд.). За буџетску кампању 2020., као иницијалну референтну вредност у овој колони треба унети вредност према расположивим подацима за крај 2018. године тј. из завршног рачуна. Уколико нису познати подаци о вредности индикатора за крај 2018. године, унети вредност индикатора из периода који претходи крају 2018. године и за који су подаци доступни (нпр. средина 2018. године, крај 2017. године и сл.)."]
[null,null,null,null,null,null,null,null,null,null,null,null,null,null,null,null,null,null,null,null,null,null,null,null,null,null,null,null,null,null,null,null,null,null,null,null,null,null,null,null,null,null,null,null,null,null,null,null,null,null,null,null,null,null,null,null,null,null,null,null,null,null,null,null,null,null,null,null,null,null,180,"Трансфери општег карактера између различитих нивоа власти",null,null,null,null,null,4512,"Капиталне субвенције јавним нефинансијским предузећима и организацијама",null,null,null,null,null,null,null,null,null,null,170,"Трансакције јавног  дуга",null,null,"200 - ОДБРАНА",null,null,null,null,null,null,null,null,null,null,null,null,null,null,null,null," - наслов колоне \"Очекивана вредност у 2019. години\" односи се на вредност индикатора пројектовану за крај текуће године у којој се припрема буџет за наредну годину. Будући да у периоду припреме буџета за 2020. годину нису познате вредности индикатора које ће бити коначно остварене до краја текуће 2019. године, у ову колону уносе се планиране/очекиване вредности индикатора. Уколико се у циклусу припреме буџета за 2020. годину користи исти индикатор који је коришћен и у циклусу за 2019. годину, у ову колону уноси се вредност индикатора која је исказана као пројекција за 2019. годину уколико је она и даље реална, а уколико није реална потребно је унети вредност индикатора за коју се објективно процењује да ће бити остварена до краја 2019. године."]
[null,null,null,null,null,null,null,null,null,null,null,null,null,null,null,null,null,null,null,null,null,null,null,null,null,null,null,null,null,null,null,null,null,null,null,null,null,null,null,null,null,null,null,null,null,null,null,null,null,null,null,null,null,null,null,null,null,null,null,null,null,null,null,null,null,null,null,null,null,null,200,"ОДБРАНА",null,null,null,null,null,452,"Субвенције приватним финансијским институцијама",452,null,null,null,null,null,null,null,null,null,180,"Трансфери општег карактера између различитих нивоа власти",null,null,"210 - Војна одбрана",null,null,null,null,null,null,null,null,null,null,null,null,null,null,null,null," - У колонама које се односе на циљане вредности за 2020., 2021. и 2022. годину, корисник уноси очекиване вредности индикатора према пројекцијама за крај сваке односне године.   "]
[null,null,null,null,null,null,null,null,null,null,null,null,null,null,null,null,null,null,null,null,null,null,null,null,null,null,null,null,null,null,null,null,null,null,null,null,null,null,null,null,null,null,null,null,null,null,null,null,null,null,null,null,null,null,null,null,null,null,null,null,null,null,null,null,null,null,null,null,null,null,210,"Војна одбрана",null,null,null,null,null,453,"Субвенције јавним финансијским институцијама",453,null,null,null,null,null,null,null,null,null,200,"ОДБРАНА",null,null,"220 - Цивилна одбрана",null,null,null,null,null,null,null,null,null,null,null,null,null,null,null,null,"2) У табелама у којима се исказују приходи / примања  и расходи/издаци :"]
[null,null,null,null,null,null,null,null,null,null,null,null,null,null,null,null,null,null,null,null,null,null,null,null,null,null,null,null,null,null,null,null,null,null,null,null,null,null,null,null,null,null,null,null,null,null,null,null,null,null,null,null,null,null,null,null,null,null,null,null,null,null,null,null,null,null,null,null,null,null,220,"Цивилна одбрана",null,null,null,null,null,454,"Субвенције приватним предузећима",454,null,null,null,null,null,null,null,null,null,210,"Војна одбрана",null,null,"240 - Одбрана - истраживање и развој",null,null,null,null,null,null,null,null,null,null,null,null,null,null,null,null,"  - наслов колоне \"Конто\" се односи на шифре конта прописаних Правилником о класификационом оквиру и контном плану за буџетски систем на нивоу класе, категорије, групе и синтетичког конта (четвороцифрени) ниво,                                                                     - наслов колоне \"ОПИС\" се односи на назив шифре конта .                                                                                                                                     - наслов колоне \"Вредност у базној години (2018)“ односи се на вредност прихода/расхода из последњег завршног рачуна буџетског корисника. За буџетску кампању 2020. то је завршни рачун из 2018. године. У наредним буџетским циклусима, корисници коригују године у складу са буџетском кампањом која је у току;                                                                                                                                                                                                                            "]
[null,null,null,null,null,null,null,null,null,null,null,null,null,null,null,null,null,null,null,null,null,null,null,null,null,null,null,null,null,null,null,null,null,null,null,null,null,null,null,null,null,null,null,null,null,null,null,null,null,null,null,null,null,null,null,null,null,null,null,null,null,null,null,null,null,null,null,null,null,null,240,"Одбрана - истраживање и развој",null,null,null,null,null,461,"Донације страним владама",461,null,null,null,null,null,null,null,null,null,220,"Цивилна одбрана",null,null,"250 - Одбрана некласификована на другом месту",null,null,null,null,null,null,null,null,null,null,null,null,null,null,null,null," - наслов колоне \"Очекивана вредност у 2019. години“ односи се на вредност прихода/расхода који је усвојен последњом Одлуком о буџету општине/града односно финансијским планом буџетског корисника. За буџетску кампању 2020. то је Одлука о буџету или Одлука о последњем ребалансу за 2019. годину у тренутку почетка припреме буџета за 2020. годину. "]
[null,null,null,null,null,null,null,null,null,null,null,null,null,null,null,null,null,null,null,null,null,null,null,null,null,null,null,null,null,null,null,null,null,null,null,null,null,null,null,null,null,null,null,null,null,null,null,null,null,null,null,null,null,null,null,null,null,null,null,null,null,null,null,null,null,null,null,null,null,null,250,"Одбрана некласификована на другом месту",null,null,null,null,null,462,"Донације и дотације међународним организацијама",462,null,null,null,null,null,null,null,null,null,230,"Војна помоћ иностранству",null,null,"300 - ЈАВНИ РЕД И БЕЗБЕДНОСТ",null,null,null,null,null,null,null,null,null,null,null,null,null,null,null,null,"При томе, директни и индиректни корисници буџета локалне самоуправе:\n1) у колони \"Приходи из буџета\" исказују се искључиво планирана средства (приходи и примања, односно расходи и издаци) из извора финансирања 01 - Приходи из буџета, а\n2)  у колони \"Приходи из осталих извора\" исказују се укупно планирана средства (приходи и примања, односно расходи и издаци) из свих осталих извора (извори финансирања од 03 – 16 и 56 ).  "]
[null,null,null,null,null,null,null,null,null,null,null,null,null,null,null,null,null,null,null,null,null,null,null,null,null,null,null,null,null,null,null,null,null,null,null,null,null,null,null,null,null,null,null,null,null,null,null,null,null,null,null,null,null,null,null,null,null,null,null,null,null,null,null,null,null,null,null,null,null,null,300,"ЈАВНИ РЕД И БЕЗБЕДНОСТ",null,null,null,null,null,null,null,null,null,null,null,null,null,null,null,null,null,null,null,null,null,"310 - Услуге полиције",null,null,null,null,null,null,null,null,null,null,null,null,null,null,null,null,"НАПОМЕНА:\n Када је реч о индиректним корисницима Републичког буџета:\n1) у колони \"Приходи из буџета\" исказују се искључиво планирана средства (приходи и примања, односно расходи и издаци) која ће добити из буџета Републике, а\n2) у колони \"Приходи из осталих извора\" исказују се укупно планирана средства (приходи и примања, односно расходи и издаци) на извору 07 - која ће добити  из  буџета локлане самоуправе, као и на извору 06 - средства добијена од донација."]
[null,null,null,null,null,null,null,null,null,null,null,null,null,null,null,null,null,null,null,null,null,null,null,null,null,null,null,null,null,null,null,null,null,null,null,null,null,null,null,null,null,null,null,null,null,null,null,null,null,null,null,null,null,null,null,null,null,null,null,null,null,null,null,null,null,null,null,null,null,null,310,"Услуге полиције",null,null,null,null,null,4632,"Капитални трансфери осталим нивоима власти",4632,null,null,null,null,null,null,null,null,null,250,"Одбрана некласификована на другом месту",null,null,"320 - Услуге противпожарне заштите"]
[null,null,null,null,null,null,null,null,null,null,null,null,null,null,null,null,null,null,null,null,null,null,null,null,null,null,null,null,null,null,null,null,null,null,null,null,null,null,null,null,null,null,null,null,null,null,null,null,null,null,null,null,null,null,null,null,null,null,null,null,null,null,null,null,null,null,null,null,null,null,320,"Услуге противпожарне заштите",null,null,null,null,null,464,"Дотације организацијама обавезног социјалног осигурања",464,null,null,null,null,null,null,null,null,null,300,"ЈАВНИ РЕД И БЕЗБЕДНОСТ",null,null,"330 - Судови"]
[null,null,null,null,null,null,null,null,null,null,null,null,null,null,null,null,null,null,null,null,null,null,null,null,null,null,null,null,null,null,null,null,null,null,null,null,null,null,null,null,null,null,null,null,null,null,null,null,null,null,null,null,null,null,null,null,null,null,null,null,null,null,null,null,null,null,null,null,null,null,330,"Судови",null,null,null,null,null,465,"Остале донације, дотације и трансфери",465,null,null,null,null,null,null,null,null,null,310,"Услуге полиције",null,null,"350 - Јавни ред и безбедност - истраживање и развој"]
[null,"Врста Активности","Програми",null,null,null,null,null,null,null,null,null,null,null,null,null,null,null,null,null,null,null,null,null,null,null,null,null,null,null,null,null,null,null,null,null,null,null,null,null,null,null,null,null,null,null,null,null,null,null,null,null,null,null,null,null,null,null,null,null,null,null,null,null,null,null,null,null,null,null,350,"Јавни ред и безбедност - истраживање и развој",null,null,null,null,null,472,"Накнаде за социјалну заштиту из буџета",472,null,null,null,null,null,null,null,null,null,320,"Услуге противпожарне заштите",null,null,"360 - Јавни ред и безбедност  некласификован на другом месту"]
[null,"Активност","Програм 1.  Становање, урбанизам и просторно планирање","п1","1101-0001  Просторно и урбанистичко планирање","1101-0002  Спровођење урбанистичких и просторних планова","1101-0003  Управљање грађевинским земљиштем","1101-0004  Стамбена подршка","1101-0005  Остваривање јавног интереса у одржавању зграда",null,null,null,null,null,null,null,null,null,null,null,null,null,null,null,null,null,null,null,null,null,null,null,null,null,null,null,null,null,null,null,null,null,null,null,null,null,null,null,null,null,null,null,null,null,null,null,null,null,null,null,null,null,null,null,null,null,null,null,null,null,360,"Јавни ред и безбедност  некласификован на другом месту",null,null,null,null,null,481,"Дотације невладиним организацијама",481,null,null,null,null,null,null,null,null,null,330,"Судови",null,null,"400 - ЕКОНОМСКИ ПОСЛОВИ"]
[null,"Пројекат","Програм 2.  Комуналне делатности","п2","1102-0001  Управљање/одржавање јавним осветљењем","1102-0002  Одржавање јавних зелених површина  ","1102-0003  Одржавање чистоће на површинама јавне намене","1102-0004  Зоохигијена","1102-0005  Уређивање, одржавање и коришћење пијаца","1102-0006  Одржавање гробаља и погребне услуге","1102-0007  Прозводња и дистрибуција топлотне енергије","1102-0008  Управљање и снабдевање водом за пиће",null,null,null,null,null,null,null,null,null,null,null,null,null,null,null,null,null,null,null,null,null,null,null,null,null,null,null,null,null,null,null,null,null,null,null,null,null,null,null,null,null,null,null,null,null,null,null,null,null,null,null,null,null,null,null,null,null,null,400,"ЕКОНОМСКИ ПОСЛОВИ",null,null,null,null,null,482,"Порези, обавезне таксе, казне и пенали",482,null,null,null,null,null,null,null,null,null,350,"Јавни ред и безбедност - истраживање и развој",null,null,"410 - Општи економски и комерцијални послови и послови по питању рада"]
[null,null,"Програм 3.  Локални економски развој","п3","1501-0001  Унапређење привредног и инвестиционог амбијента","1501-0002  Мере активне политике запошљавања","1501-0003  Подршка економском развоју и промоцији предузетништва",null,null,null,null,null,null,null,null,null,null,null,null,null,null,null,null,null,null,null,null,null,null,null,null,null,null,null,null,null,null,null,null,null,null,null,null,null,null,null,null,null,null,null,null,null,null,null,null,null,null,null,null,null,null,null,null,null,null,null,null,null,null,null,410,"Општи економски и комерцијални послови и послови по питању рада",null,null,null,null,null,483,"Новчане казне и пенали по решењу судова",483,null,null,null,null,null,null,null,null,null,360,"Јавни ред и безбедност  некласификован на другом месту",null,null,"411 - Општи економски и комерцијални послови"]
[null,null,"Програм 4.  Развој туризма","п4","1502-0001  Управљање развојем туризма","1502-0002  Промоција туристичке понуде",null,null,null,null,null,null,null,null,null,null,null,null,null,null,null,null,null,null,null,null,null,null,null,null,null,null,null,null,null,null,null,null,null,null,null,null,null,null,null,null,null,null,null,null,null,null,null,null,null,null,null,null,null,null,null,null,null,null,null,null,null,null,null,null,411,"Општи економски и комерцијални послови",null,null,null,null,null,484,"Накнада штете за повреде или штету насталу услед елементарних непогода или других природних узрока",484,null,null,null,null,null,null,null,null,null,400,"ЕКОНОМСКИ ПОСЛОВИ",null,null,"412 - Општи послови по питању рада"]
[null,null,"Програм 5.  Пољопривреда и рурални развој","п5","0101-0001  Подршка за спровођење пољопривредне политике у локалној заједници","0101-0002  Мере подршке руралном развоју",null,null,null,null,null,null,null,null,null,null,null,null,null,null,null,null,null,null,null,null,null,null,null,null,null,null,null,null,null,null,null,null,null,null,null,null,null,null,null,null,null,null,null,null,null,null,null,null,null,null,null,null,null,null,null,null,null,null,null,null,null,null,null,null,412,"Општи послови по питању рада",null,null,null,null,null,485,"Накнада штете за повреде или штету нанету од стране државних органа",485,null,null,null,null,null,null,null,null,null,410,"Општи економски и комерцијални послови и послови по питању рада",null,null,"420 - Пољопривреда, шумарство, лов и риболов"]
[null,null,"Програм 6.  Заштита животне средине","п6","0401-0001  Управљање заштитом животне средине","0401-0002  Праћење квалитета елемената животне средине","0401-0003  Заштита природе","0401-0004  Управљање отпадним водама","0401-0005  Управљање комуналним отпадом   ","0401-0006  Управљање осталим врстама отпада",null,null,null,null,null,null,null,null,null,null,null,null,null,null,null,null,null,null,null,null,null,null,null,null,null,null,null,null,null,null,null,null,null,null,null,null,null,null,null,null,null,null,null,null,null,null,null,null,null,null,null,null,null,null,null,null,null,null,null,null,420,"Пољопривреда, шумарство, лов и риболов",null,null,null,null,null,489,"Расходи који се финансирају из средстава за реализацију националног инвестиционог плана",489,null,null,null,null,null,null,null,null,null,411,"Општи економски и комерцијални послови",null,null,"421 - Пољопривреда"]
[null,null,"Програм 7.  Организација саобраћаја и саобраћајна инфраструктура","п7","0701-0002  Управљање и одржавање саобраћајне инфраструктуре","0701-0004  Јавни градски и приградски превоз путника",null,null,null,null,null,null,null,null,null,null,null,null,null,null,null,null,null,null,null,null,null,null,null,null,null,null,null,null,null,null,null,null,null,null,null,null,null,null,null,null,null,null,null,null,null,null,null,null,null,null,null,null,null,null,null,null,null,null,null,null,null,null,null,null,421,"Пољопривреда",null,null,null,null,null,494,"Административни трансфери из буџета - Текући расходи",494,null,null,null,null,null,null,null,null,null,412,"Општи послови по питању рада",null,null,"422 - Шумарство"]
[null,null,"Програм 8.  Предшколско васпитање и образовање","п8","2001-0001  Функционисање и остваривање предшколског васпитања и образовања",null,null,null,null,null,null,null,null,null,null,null,null,null,null,null,null,null,null,null,null,null,null,null,null,null,null,null,null,null,null,null,null,null,null,null,null,null,null,null,null,null,null,null,null,null,null,null,null,null,null,null,null,null,null,null,null,null,null,null,null,null,null,null,null,null,422,"Шумарство",null,null,null,null,null,495,"Административни трансфери из буџета - Издаци за нефинансијску имовину",495,null,null,null,null,null,null,null,null,null,420,"Пољопривреда, шумарство, лов и риболов",null,null,"423 - Лов и риболов"]
[null,null,"Програм 9.  Основно образовање и васпитање","п9","2002-0001  Функционисање основних школа",null,null,null,null,null,null,null,null,null,null,null,null,null,null,null,null,null,null,null,null,null,null,null,null,null,null,null,null,null,null,null,null,null,null,null,null,null,null,null,null,null,null,null,null,null,null,null,null,null,null,null,null,null,null,null,null,null,null,null,null,null,null,null,null,null,423,"Лов и риболов",null,null,null,null,null,496,"Административни трансфери из буџета - Издаци за отплату главнице и набавку финансијске имовине",496,null,null,null,null,null,null,null,null,null,421,"Пољопривреда",null,null,"430 - Гориво и енергија",null,null,null,null,null,null,null,null,null,null,null,null,null,null,null,"IV","ПОПУЊАВАЊЕ ПРОГАМА, ПРОГРАМСКИХ АКТИВНОСТИ И ПРОЈЕКАТА"]
[null,null,"Програм 10.  Средње образовање и васпитање","п10","2003-0001  Функционисање средњих школа",null,null,null,null,null,null,null,null,null,null,null,null,null,null,null,null,null,null,null,null,null,null,null,null,null,null,null,null,null,null,null,null,null,null,null,null,null,null,null,null,null,null,null,null,null,null,null,null,null,null,null,null,null,null,null,null,null,null,null,null,null,null,null,null,null,430,"Гориво и енергија",null,null,null,null,null,499,"Административни трансфери из буџета - Средства резерве",499,null,null,null,null,null,null,null,null,null,422,"Шумарство",null,null,"431 - Угаљ и остала чврста минерална горива",null,null,null,null,null,null,null,null,null,null,null,null,null,null,null,null,"1) За Програм:  Након завршеног избора програма , шифра програма, сектор коме припада програм и сврха програма се учитавају аутоматски, тако да почетак попуњавања креће од Основа програма. Унета је заштита за ћелије у којима се налазе функције, како их корисник не би случајно променио или обрисао. У радном листу \"Програм\" су на располагању кориснику још три циља са индикаторима који се приказују опцијом \"+\" на ободу леве стране документа.",null,null,null,null,null,null,null,null,null,null,null,null,null,"2. Корак : Након завршених сигурносних подешавања, потребно је да угасите ексел и поново покренете документ. Приликом поновног покретања документа добићете обавештење и питање да ли желите да омогућите макрое. Кликом на \"Yes\" завршили сте активирање документа."]
[null,null,"Програм 11.  Социјална и дечја заштита","п11","0901-0001  Једнократне помоћи и други облици помоћи","0901-0002  Породични и домски смештај, прихватилишта и друге врсте смештаја","0901-0003  Дневне услуге у заједници","0901-0004  Саветодавно-терапијске и социјално-едукативне услуге","0901-0005  Подршка реализацији програма Црвеног крста","0901-0006  Подршка деци и породицама са децом","0901-0007  Подршка рађању и родитељству","0901-0008  Подршка особама са инвалидитетом",null,null,null,null,null,null,null,null,null,null,null,null,null,null,null,null,null,null,null,null,null,null,null,null,null,null,null,null,null,null,null,null,null,null,null,null,null,null,null,null,null,null,null,null,null,null,null,null,null,null,null,null,null,null,null,null,null,null,431,"Угаљ и остала чврста минерална горива",null,null,null,null,null,511,"Зграде и грађевински објекти",511,null,null,null,null,null,null,null,null,null,423,"Лов и риболов",null,null,"432 - Нафта и природни гас",null,null,null,null,null,null,null,null,null,null,null,null,null,null,null,null,"Након попуњених циљева и индикатора корисник не мора да попуњава остатак обрасца јер матрица аутоматски повлачи податке из других радних листова. Ексел документ подржава до 40 програмских активности и пројеката у оквиру једног програма. "]
[null,null,"Програм 12.  Здравствена заштита","п12","1801-0001  Функционисање установа примарне здравствене заштите","1801-0002  Мртвозорство","1801-0003  Спровођење активности  из области друштвене бриге за јавно здравље",null,null,null,null,null,null,null,null,null,null,null,null,null,null,null,null,null,null,null,null,null,null,null,null,null,null,null,null,null,null,null,null,null,null,null,null,null,null,null,null,null,null,null,null,null,null,null,null,null,null,null,null,null,null,null,null,null,null,null,null,null,null,null,432,"Нафта и природни гас",null,null,null,null,null,512,"Машине и опрема",512,null,null,null,null,null,null,null,null,null,430,"Гориво и енергија",null,null,"433 - Нуклеарно гориво"]
[null,null,"Програм 13.  Развој културе и информисања","п13","1201-0001  Функционисање локалних установа културе ","1201-0002  Јачање културне продукције и уметничког стваралаштва","1201-0003  Унапређење система очувања и представљања културно-историјског наслеђа","1201-0004  Остваривање и унапређивање јавног интереса у области јавног информисања  ","1201-0005  Унапређење јавног информисања на језицима националних мањина","1201-0006  Унапређење јавног информисања особа са инвалидитетом",null,null,null,null,null,null,null,null,null,null,null,null,null,null,null,null,null,null,null,null,null,null,null,null,null,null,null,null,null,null,null,null,null,null,null,null,null,null,null,null,null,null,null,null,null,null,null,null,null,null,null,null,null,null,null,null,null,null,null,null,433,"Нуклеарно гориво",null,null,null,null,null,513,"Остале некретнине и опрема",513,null,null,null,null,null,null,null,null,null,431,"Угаљ и остала чврста минерална горива",null,null,"434 - Остала горива",null,null,null,null,null,null,null,null,null,null,null,null,null,null,null,null,"2) За програмску активност: Пре попуњавања радног листа \"Програмска активност\" проверите да ли сте изабрали потребан Програм у радном листу \"Програм\". Пошто се назив програма аутоматски учитава корисник бира програмску активност из листе програмских активности које потпадају под изабрани програм. Након тога из падајуће листе се бира функција расхода , назив буџетског корисника, сврха, правни основ, опис итд. Свака појединачна програмска активност се попуњавана у посебном радном листу. У зависности од изабране програмске активности, у делу обрасца који се односи на дефинисање циљева и индикатора, из падајућих листа можете одабрати понуђене циљеве и индикаторе који су дефинисани од стране СКГО-а, али је остављена могућност за сопствено дефинисање. "]
[null,null,"Програм 14.  Развој спорта и омладине","п14","1301-0004  Функционисање локалних спортских установа","1301-0002  Подршка предшколском и школском спорту","1301-0001  Подршка локалним спортским организацијама, удружењима и савезима","1301-0005  Спровођење омладинске политике  ",null,null,null,null,null,null,null,null,null,null,null,null,null,null,null,null,null,null,null,null,null,null,null,null,null,null,null,null,null,null,null,null,null,null,null,null,null,null,null,null,null,null,null,null,null,null,null,null,null,null,null,null,null,null,null,null,null,null,null,null,null,null,434,"Остала горива",null,null,null,null,null,514,"Култивисана имовина",514,null,null,null,null,null,null,null,null,null,432,"Нафта и природни гас",null,null,"435 - Електрична енергија",null,null,null,null,null,null,null,null,null,null,null,null,null,null,null,null,"Након попуњеног описног дела и дела везаног за циљеве и индикаторе, део обрасца који се односи на приходе, расходе и изворе финансирања попуњавати тако што се уносе вредности у белим пољима на контима четвороцифреног нивоа (за 2018. годину су поља обележена жутом бојом како би се нагласила година за коју се врши процес припреме буџета). Ради лакшег попуњавања кликом на опцију \"ЗАМРЗНИ ЗАГЛАВЉЕ ПЛАН. СРЕДСТАВА\", заглавље се фиксира у горњем делу екрана чиме корисник има увек у виду опис колона у којима уноси вредност за конта која се налазе у другим деловима табеле. У финансијском делу су унета сва конта на нивоу синтетичког конта (четвороцифрени ниво) за ниво локалне самоуправе.  "]
[null,null,"Програм 15.  Опште услуге локалне самоуправе","п15","0602-0001  Функционисање локалне самоуправе и градских општина","0602-0002  Функционисање месних заједница","0602-0003  Сервисирање јавног дуга","0602-0004  Општинско/градско правобранилаштво","0602-0005  Омбудсман","0602-0006  Инспекцијски послови","0602-0007  Функционисање националних савета националних мањина","0602-0009  Текућа буџетска резерва","0602-0010  Стална буџетска резерва","0602-0011  Робне резерве","0602-0014  Управљање у ванредним ситуацијама",null,null,null,null,null,null,null,null,null,null,null,null,null,null,null,null,null,null,null,null,null,null,null,null,null,null,null,null,null,null,null,null,null,null,null,null,null,null,null,null,null,null,null,null,null,null,null,null,null,null,null,null,null,null,null,435,"Електрична енергија",null,null,null,null,null,515,"Нематеријална имовина",515,null,null,null,null,null,null,null,null,null,433,"Нуклеарно гориво",null,null,"436 - Остала енергија",null,null,null,null,null,null,null,null,null,null,null,null,null,null,null,null,"Додавање и брисање колона и редова није дозвољено, цифре се уносе без децимала. Након завршетка попуњавања података у финанансијском плану , кликните на дугме \"Сакриј празне редове\" како би се сва сувишна конта и празни редови уклонили из фин. плана. "]
[null,null,"Програм 16.  Политички систем локалне самоуправе","п16","2101-0001  Функционисање Скупштине","2101-0002  Функционисање извршних органа","2101-0003  Подршка раду извршних органа власти и скупштине",null,null,null,null,null,null,null,null,null,null,null,null,null,null,null,null,null,null,null,null,null,null,null,null,null,null,null,null,null,null,null,null,null,null,null,null,null,null,null,null,null,null,null,null,null,null,null,null,null,null,null,null,null,null,null,null,null,null,null,null,null,null,null,436,"Остала енергија",null,null,null,null,null,521,"Робне резерве",521,null,null,null,null,null,null,null,null,null,434,"Остала горива",null,null,"440 - Рударство, производња и изградња",null,null,null,null,null,null,null,null,null,null,null,null,null,null,null,null,"3) За пројекте: у ћелји \"Е5\" упишите шифру пројекта у формату П1,П2,П3.итд у зависности од редоследа пројеката у оквиру програма. За пројекте које ЛС реализује заједнос са републичким органом у ћелији \"D5\" уписати шифру пројекта коју је одредио републички орган. Поступак попуњавања дела који се односи на трошкове и изворе финансирања је идентичан као и код програмске активности."]
[null,null,"Програм 17.  Енергетска ефикасност и обновљиви извори енергије","п17","0501-0001  Енергетски менаџмент",null,null,null,null,null,null,null,null,null,null,null,null,null,null,null,null,null,null,null,null,null,null,null,null,null,null,null,null,null,null,null,null,null,null,null,null,null,null,null,null,null,null,null,null,null,null,null,null,null,null,null,null,null,null,null,null,null,null,null,null,null,null,null,null,null,440,"Рударство, производња и изградња",null,null,null,null,null,522,"Залихе производње",522,null,null,null,null,null,null,null,null,null,435,"Електрична енергија",null,null,"441 - Ископавање минералних ресурса, изузев минералних горива"]
[null,null,null,null,null,null,null,null,null,null,null,null,null,null,null,null,null,null,null,null,null,null,null,null,null,null,null,null,null,null,null,null,null,null,null,null,null,null,null,null,null,null,null,null,null,null,null,null,null,null,null,null,null,null,null,null,null,null,null,null,null,null,null,null,null,null,null,null,null,null,441,"Ископавање минералних ресурса, изузев минералних горива",null,null,null,null,null,523,"Залихе робе за даљу продају",523,null,null,null,null,null,null,null,null,null,436,"Остала енергија",null,null,"442 - Производња"]
[null,"Сектори",null,null,null,null,null,null,null,null,null,null,null,null,null,null,null,null,null,null,null,null,null,null,null,null,null,null,null,null,null,null,null,null,null,null,null,null,null,null,null,null,null,null,null,null,null,null,null,null,null,null,null,null,null,null,null,null,null,null,null,null,null,null,null,null,null,null,null,null,442,"Производња",null,null,null,null,null,531,"Драгоцености",531,null,null,null,null,null,null,null,null,null,440,"Рударство, производња и изградња",null,null,"443 - Изградња"]
[null,"Сектор_1__Пољопривреда_и_рурални_развој","Програм_5__Развој_пољопривреде",null,null,null,null,null,null,null,null,null,null,null,null,null,null,null,null,null,null,null,null,null,null,null,null,null,null,null,null,null,null,null,null,null,null,null,null,null,null,null,null,null,null,null,null,null,null,null,null,null,null,null,null,null,null,null,null,null,null,null,null,null,null,null,null,null,null,null,443,"Изградња",null,null,null,null,null,541,"Земљиште",541,null,null,null,null,null,null,null,null,null,441,"Ископавање минералних ресурса, изузев минералних горива",null,null,"450 - Саобраћај",null,null,null,null,null,null,null,null,null,null,null,null,null,null,null,"V","ПОПУЊАВАЊЕ ЗАХТЕВА ЗА ДОДАТНА СРЕДСТВА"]
[null,"Сектор_4__Заштита_животне_средине","Програм_6__Заштита_животне_средине",null,null,null,null,null,null,null,null,null,null,null,null,null,null,null,null,null,null,null,null,null,null,null,null,null,null,null,null,null,null,null,null,null,null,null,null,null,null,null,null,null,null,null,null,null,null,null,null,null,null,null,null,null,null,null,null,null,null,null,null,null,null,null,null,null,null,null,450,"Саобраћај",null,null,null,null,null,542,"Рудна богатства",542,null,null,null,null,null,null,null,null,null,442,"Производња",null,null,"451 - Друмски саобраћај",null,null,null,null,null,null,null,null,null,null,null,null,null,null,null,null,"Уколико одобреним лимитом буџетском кориснику недостају средства за одређене програмске активности односно пројекте, за  програмску активност/пројекат за који се траже додатна средства ископирати потребан радни лист (у зависности од тога да ли се ради о програмској активности или пројекту) као што је објашњено у Одељку II  - Копирање потребног броја \"Sheet\"-ова за програмске активности и пројекте, а затим у ископираном радном листу у наслову обрасца (ред 2.) из падајуће листе изабрати други наслов односно програмска активност/пројекат - Захтев за додатна средства. На овај начин у радном листу \"Програм\" у списку програмских активности и пројеката биће посебно приказани захтеви за додатним средствима за програмске активности и пројекте за износе преко одобреног лимита.",null,null,null,null,null,null,null,null,null,null,null,null,null,"3. Корак: У обрасцу \"Program\" у реду \"Назив програма\" изаберите програм са падајуће листе, након тога у обрасцу \"Programska aktivnost\" и \"Projekat\" уносите потребне податке, а уколико Ваш буџетски корисник има више програмских активности и пројеката у оквиру једног програма - у ћелији \"P1\" се налази опција за копирање потребног броја додатних програм. активности и пројеката."]
[null,"Сектор_6__Опште_услуге_јавне_управе","Програм_2__Комунална_делатност","Програм_15__Локална_самоуправа",null,null,null,null,null,null,null,null,null,null,null,null,null,null,null,null,null,null,null,null,null,null,null,null,null,null,null,null,null,null,null,null,null,null,null,null,null,null,null,null,null,null,null,null,null,null,null,null,null,null,null,null,null,null,null,null,null,null,null,null,null,null,null,null,null,null,451,"Друмски саобраћај",null,null,null,null,null,543,"Шуме и воде",543,null,null,null,null,null,null,null,null,null,443,"Изградња",null,null,"452 - Водени саобраћај"]
[null,"Сектор_7__Саобраћај_и_саобраћајна_инфраструктура","Програм_7__Путна_инфраструктура",null,null,null,null,null,null,null,null,null,null,null,null,null,null,null,null,null,null,null,null,null,null,null,null,null,null,null,null,null,null,null,null,null,null,null,null,null,null,null,null,null,null,null,null,null,null,null,null,null,null,null,null,null,null,null,null,null,null,null,null,null,null,null,null,null,null,null,452,"Водени саобраћај",null,null,null,null,null,551,"Нефинансијска имовина која се финансира из средстава за реализацију националног инвестиционог плана",551,null,null,null,null,null,null,null,null,null,450,"Саобраћај",null,null,"453 - Железнички саобраћај",null,null,null,null,null,null,null,null,null,null,null,null,null,null,null,"VI","ЗАШТИТА ФОРМУЛА И ВАЛИДАЦИЈА ПОДАТАКА"]
[null,"Сектор_9__Социјална_заштита","Програм_11__Социјална_и_дечја_заштита",null,null,null,null,null,null,null,null,null,null,null,null,null,null,null,null,null,null,null,null,null,null,null,null,null,null,null,null,null,null,null,null,null,null,null,null,null,null,null,null,null,null,null,null,null,null,null,null,null,null,null,null,null,null,null,null,null,null,null,null,null,null,null,null,null,null,null,453,"Железнички саобраћај",null,null,null,null,null,611,"Отплата главнице домаћим кредиторима",611,null,null,null,null,null,null,null,null,null,451,"Друмски саобраћај",null,null,"454 - Ваздушни саобраћај",null,null,null,null,null,null,null,null,null,null,null,null,null,null,null,null,"Одређени број ћелија у документу је заштићен од измена како би се заштитиле кључне формуле и процедуре документа.  Радни лист \"Упутство\" се не сме брисати. За детаљније информације о попуњавању образаца посетите сајт www.skgo.org.rs "]
[null,"Сектор_11__Урбанизам_и_просторно_планирање","Програм_1__Локални_развој_и_просторно_планирање",null,null,null,null,null,null,null,null,null,null,null,null,null,null,null,null,null,null,null,null,null,null,null,null,null,null,null,null,null,null,null,null,null,null,null,null,null,null,null,null,null,null,null,null,null,null,null,null,null,null,null,null,null,null,null,null,null,null,null,null,null,null,null,null,null,null,null,454,"Ваздушни саобраћај",null,null,null,null,null,620,"Набавка финансијске имовине",620,null,null,null,null,null,null,null,null,null,452,"Водени саобраћај",null,null,"455 - Цевоводи и други облици саобраћаја"]
[null,"Сектор_12__Култура_комуникације_и_медији","Програм_13__Развој_културе",null,null,null,null,null,null,null,null,null,null,null,null,null,null,null,null,null,null,null,null,null,null,null,null,null,null,null,null,null,null,null,null,null,null,null,null,null,null,null,null,null,null,null,null,null,null,null,null,null,null,null,null,null,null,null,null,null,null,null,null,null,null,null,null,null,null,null,455,"Цевоводи и други облици саобраћаја",null,null,null,null,null,null,null,null,null,null,null,null,null,null,null,null,null,453,"Железнички саобраћај",null,null,"460 - Комуникације"]
[null,"Сектор_13__Спорт_и_омладина","Програм_14__Развој_спорта_и_омладине",null,null,null,null,null,null,null,null,null,null,null,null,null,null,null,null,null,null,null,null,null,null,null,null,null,null,null,null,null,null,null,null,null,null,null,null,null,null,null,null,null,null,null,null,null,null,null,null,null,null,null,null,null,null,null,null,null,null,null,null,null,null,null,null,null,null,null,460,"Комуникације",null,null,null,null,null,null,null,null,null,null,null,null,null,null,null,null,null,454,"Ваздушни саобраћај",null,null,"470 - Остале делатности"]
[null,"Сектор_15__Економска_и_развојна_политика","Програм_3__Локални_економски_развој","Програм_4__Развој_туризма",null,null,null,null,null,null,null,null,null,null,null,null,null,null,null,null,null,null,null,null,null,null,null,null,null,null,null,null,null,null,null,null,null,null,null,null,null,null,null,null,null,null,null,null,null,null,null,null,null,null,null,null,null,null,null,null,null,null,null,null,null,null,null,null,null,null,470,"Остале делатности",null,null,null,null,null,null,null,null,null,null,null,null,null,null,null,null,null,455,"Цевоводи и други облици саобраћаја",null,null,"471 - Трговина, смештај и складиштење"]
[null,"Сектор_18__Здравство","Програм_12__Примарна_здравствена_заштита",null,null,null,null,null,null,null,null,null,null,null,null,null,null,null,null,null,null,null,null,null,null,null,null,null,null,null,null,null,null,null,null,null,null,null,null,null,null,null,null,null,null,null,null,null,null,null,null,null,null,null,null,null,null,null,null,null,null,null,null,null,null,null,null,null,null,null,471,"Трговина, смештај и складиштење",null,null,null,null,null,null,null,null,null,null,null,null,null,null,null,null,null,460,"Комуникације",null,null,{"$f":"BS67&\" - \"&BT67","v":"472 - Хотели и ресторани"}]
[null,"Сектор_20__Образовање","Програм_8__Предшколско_васпитање","Програм_9__Основно_образовање","Програм_10_Средње_образовање",null,null,null,null,null,null,null,null,null,null,null,null,null,null,null,null,null,null,null,null,null,null,null,null,null,null,null,null,null,null,null,null,null,null,null,null,null,null,null,null,null,null,null,null,null,null,null,null,null,null,null,null,null,null,null,null,null,null,null,null,null,null,null,null,null,472,"Хотели и ресторани",null,null,null,null,null,null,null,null,null,null,null,null,null,null,null,null,null,470,"Остале делатности",null,null,"473 - Туризам"]
[null,null,null,null,null,null,null,null,null,null,null,null,null,null,null,null,null,null,null,null,null,null,null,null,null,null,null,null,null,null,null,null,null,null,null,null,null,null,null,null,null,null,null,null,null,null,null,null,null,null,null,null,null,null,null,null,null,null,null,null,null,null,null,null,null,null,null,null,null,null,473,"Туризам",null,null,null,null,null,null,null,null,null,null,null,null,null,null,null,null,null,471,"Трговина, смештај и складиштење",null,null,"474 - Вишенаменски развојни пројекти"]
[null,null,null,null,null,null,null,null,null,null,null,null,null,null,null,null,null,null,null,null,null,null,null,null,null,null,null,null,null,null,null,null,null,null,null,null,null,null,null,null,null,null,null,null,null,null,null,null,null,null,null,null,null,null,null,null,null,null,null,null,null,null,null,null,null,null,null,null,null,null,474,"Вишенаменски развојни пројекти",null,null,null,null,null,null,null,null,null,null,null,null,null,null,null,null,null,472,"Хотели и ресторани",null,null,"480 - Економски послови -  истраживање и развој"]
[null,null,null,null,null,null,null,null,null,null,null,null,null,null,null,null,null,null,null,null,null,null,null,null,null,null,null,null,null,null,null,null,null,null,null,null,null,null,null,null,null,null,null,null,null,null,null,null,null,null,null,null,null,null,null,null,null,null,null,null,null,null,null,null,null,null,null,null,null,null,480,"Економски послови -  истраживање и развој",null,null,null,null,null,null,null,null,null,null,null,null,null,null,null,null,null,473,"Туризам",null,null,"481 - Истраживање и развој - Општи економски и комерцијални послови и послови по питању рада"]
[null,null,null,null,null,null,null,null,null,null,null,null,null,null,null,null,null,null,null,null,null,null,null,null,null,null,null,null,null,null,null,null,null,null,null,null,null,null,null,null,null,null,null,null,null,null,null,null,null,null,null,null,null,null,null,null,null,null,null,null,null,null,null,null,null,null,null,null,null,null,481,"Истраживање и развој - Општи економски и комерцијални послови и послови по питању рада",null,null,null,null,null,null,null,null,null,null,null,null,null,null,null,null,null,474,"Вишенаменски развојни пројекти",null,null,"482 - Истраживање и развој - Пољопривреда, шумарство, лов и риболов"]
[null,null,null,null,null,null,null,null,null,null,null,null,null,null,null,null,null,null,null,null,null,null,null,null,null,null,null,null,null,null,null,null,null,null,null,null,null,null,null,null,null,null,null,null,null,null,null,null,null,null,null,null,null,null,null,null,null,null,null,null,null,null,null,null,null,null,null,null,null,null,482,"Истраживање и развој - Пољопривреда, шумарство, лов и риболов",null,null,null,null,null,null,null,null,null,null,null,null,null,null,null,null,null,480,"Економски послови -  истраживање и развој",null,null,"483 - Истраживање и развој - Гориво и енергија"]
[null,null,null,null,null,null,null,null,null,null,null,null,null,null,null,null,null,null,null,null,null,null,null,null,null,null,null,null,null,null,null,null,null,null,null,null,null,null,null,null,null,null,null,null,null,null,null,null,null,null,null,null,null,null,null,null,null,null,null,null,null,null,null,null,null,null,null,null,null,null,483,"Истраживање и развој - Гориво и енергија",null,null,null,null,null,null,null,null,null,null,null,null,null,null,null,null,null,481,"Истраживање и развој - Општи економски и комерцијални послови и послови по питању рада",null,null,"484 - Истраживање и развој - Рударство, производња и изградња"]
[null,null,null,null,null,null,null,null,null,null,null,null,null,null,null,null,null,null,null,null,null,null,null,null,null,null,null,null,null,null,null,null,null,null,null,null,null,null,null,null,null,null,null,null,null,null,null,null,null,null,null,null,null,null,null,null,null,null,null,null,null,null,null,null,null,null,null,null,null,null,484,"Истраживање и развој - Рударство, производња и изградња",null,null,null,null,null,null,null,null,null,null,null,null,null,null,null,null,null,482,"Истраживање и развој - Пољопривреда, шумарство, лов и риболов",null,null,"485 - Истраживање и развој - Саобраћај"]
[null,null,null,null,null,null,null,null,null,null,null,null,null,null,null,null,null,null,null,null,null,null,null,null,null,null,null,null,null,null,null,null,null,null,null,null,null,null,null,null,null,null,null,null,null,null,null,null,null,null,null,null,null,null,null,null,null,null,null,null,null,null,null,null,null,null,null,null,null,null,485,"Истраживање и развој - Саобраћај",null,null,null,null,null,null,null,null,null,null,null,null,null,null,null,null,null,483,"Истраживање и развој - Гориво и енергија",null,null,"486 - Истраживање и развој - Комуникације"]
[null,"1101","ПГ_1",null,"Просторни развој у складу са плановима","Унапређење стамбеног положаја грађана",null,null,null,null,null,null,null,null,null,null,null,null,null,null,null,null,null,null,null,null,null,null,null,null,null,null,null,null,null,null,null,null,null,null,null,null,null,null,null,null,null,null,null,null,null,null,null,null,null,null,null,null,null,null,null,null,null,null,null,null,null,null,null,null,486,"Истраживање и развој - Комуникације",null,null,null,null,null,null,null,null,null,null,null,null,null,null,null,null,null,484,"Истраживање и развој - Рударство, производња и изградња",null,null,"487 - Истраживање и развој - Остале делатности"]
[null,"1102","ПГ_2",null,"Повећање покривеност насеља и територије рационалним јавним осветљењем","Повећање покривеност територије комуналним делатностима одржавања јавних зелених површина, одржавања чистоће на површинама јавне намене и зоохигијене","Адекватан квалитет пружених услуга  уз рационално спровођење даљинског грејања","Повећање покривености корисника и територије квалитетним услугама водоснабдевања","Рационално снабдевање водом за пиће",null,null,null,null,null,null,null,null,null,null,null,null,null,null,null,null,null,null,null,null,null,null,null,null,null,null,null,null,null,null,null,null,null,null,null,null,null,null,null,null,null,null,null,null,null,null,null,null,null,null,null,null,null,null,null,null,null,null,null,null,null,487,"Истраживање и развој - Остале делатности",null,null,null,null,null,null,null,null,null,null,null,null,null,null,null,null,null,485,"Истраживање и развој - Саобраћај",null,null,"490 - Економски послови некласификовани на другом месту"]
[null,"1501","ПГ_3",null,"Повећање  запослености на територији града/општине","Отварање нових предузећа и предузетничких радњи на  територији града/општине",null,null,null,null,null,null,null,null,null,null,null,null,null,null,null,null,null,null,null,null,null,null,null,null,null,null,null,null,null,null,null,null,null,null,null,null,null,null,null,null,null,null,null,null,null,null,null,null,null,null,null,null,null,null,null,null,null,null,null,null,null,null,null,null,490,"Економски послови некласификовани на другом месту",null,null,null,null,null,null,null,null,null,null,null,null,null,null,null,null,null,486,"Истраживање и развој - Комуникације",null,null,"500 - ЗАШТИТА ЖИВОТНЕ СРЕДИНЕ"]
[null,"1502","ПГ_4",null,"Повећање прихода од туризма","Повећање смештајних капацитета туристичке понуде",null,null,null,null,null,null,null,null,null,null,null,null,null,null,null,null,null,null,null,null,null,null,null,null,null,null,null,null,null,null,null,null,null,null,null,null,null,null,null,null,null,null,null,null,null,null,null,null,null,null,null,null,null,null,null,null,null,null,null,null,null,null,null,null,500,"ЗАШТИТА ЖИВОТНЕ СРЕДИНЕ",null,null,null,null,null,null,null,null,null,null,null,null,null,null,null,null,null,487,"Истраживање и развој - Остале делатности",null,null,"510 - Управљање отпадом"]
[null,"0101","ПГ_5",null,"Раст производње и стабилност дохотка произвођача","Унапређење конкурентности произвођача",null,null,null,null,null,null,null,null,null,null,null,null,null,null,null,null,null,null,null,null,null,null,null,null,null,null,null,null,null,null,null,null,null,null,null,null,null,null,null,null,null,null,null,null,null,null,null,null,null,null,null,null,null,null,null,null,null,null,null,null,null,null,null,null,510,"Управљање отпадом",null,null,null,null,null,null,null,null,null,null,null,null,null,null,null,null,null,490,"Економски послови некласификовани на другом месту",null,null,"520 - Управљање отпадним водама"]
[null,"0401","ПГ_6",null,"Унапређење заштите природе","Унапређење  квалитета елемената животне  средине","Унапређење управљања отпадним водама","Унапређење управљања комуналним и осталим отпадом",null,null,null,null,null,null,null,null,null,null,null,null,null,null,null,null,null,null,null,null,null,null,null,null,null,null,null,null,null,null,null,null,null,null,null,null,null,null,null,null,null,null,null,null,null,null,null,null,null,null,null,null,null,null,null,null,null,null,null,null,null,null,520,"Управљање отпадним водама",null,null,null,null,null,null,null,null,null,null,null,null,null,null,null,null,null,500,"ЗАШТИТА ЖИВОТНЕ СРЕДИНЕ",null,null,"530 - Смањење загађености"]
[null,"0701","ПГ_7",null,"Развијеност инфраструктуре у контексту доприноса социо економском развоју","Повећање безбедности учесника у саобраћају и смањење броја саобраћајних незгода","Повећање одрживости и доступности транспорта",null,null,null,null,null,null,null,null,null,null,null,null,null,null,null,null,null,null,null,null,null,null,null,null,null,null,null,null,null,null,null,null,null,null,null,null,null,null,null,null,null,null,null,null,null,null,null,null,null,null,null,null,null,null,null,null,null,null,null,null,null,null,null,530,"Смањење загађености",null,null,null,null,null,null,null,null,null,null,null,null,null,null,null,null,null,510,"Управљање отпадом",null,null,"540 - Заштита биљног и животињског света  и крајолика"]
[null,"2001","ПГ_8",null,"Повећање  обухвата деце предшколским васпитањем  и  образовањем","Унапређење доступности предшколског васпитања за децу из осетљивих група",null,null,null,null,null,null,null,null,null,null,null,null,null,null,null,null,null,null,null,null,null,null,null,null,null,null,null,null,null,null,null,null,null,null,null,null,null,null,null,null,null,null,null,null,null,null,null,null,null,null,null,null,null,null,null,null,null,null,null,null,null,null,null,null,540,"Заштита биљног и животињског света  и крајолика",null,null,null,null,null,null,null,null,null,null,null,null,null,null,null,null,null,520,"Управљање отпадним водама",null,null,"550 - Заштита животне средине -  истраживање и развој"]
[null,"2002","ПГ_9",null,"Потпуни обухват основним  образовањем и васпитањем","Унапређење доступности основног образовања деци из осетљивих група","Унапређен квалитет основног образовања",null,null,null,null,null,null,null,null,null,null,null,null,null,null,null,null,null,null,null,null,null,null,null,null,null,null,null,null,null,null,null,null,null,null,null,null,null,null,null,null,null,null,null,null,null,null,null,null,null,null,null,null,null,null,null,null,null,null,null,null,null,null,null,550,"Заштита животне средине -  истраживање и развој",null,null,null,null,null,null,null,null,null,null,null,null,null,null,null,null,null,530,"Смањење загађености",null,null,"560 - Заштита животне средине некласификована на другом месту"]
[null,"2003","ПГ_10",null,"Повећање обухвата средњошколског образовања","Унапређење доступности средњег образовања",null,null,null,null,null,null,null,null,null,null,null,null,null,null,null,null,null,null,null,null,null,null,null,null,null,null,null,null,null,null,null,null,null,null,null,null,null,null,null,null,null,null,null,null,null,null,null,null,null,null,null,null,null,null,null,null,null,null,null,null,null,null,null,null,560,"Заштита животне средине некласификована на другом месту",null,null,null,null,null,null,null,null,null,null,null,null,null,null,null,null,null,540,"Заштита биљног и животињског света  и крајолика",null,null,"600 - ПОСЛОВИ СТАНОВАЊА И  ЗАЈЕДНИЦЕ"]
[null,"0901","ПГ_11",null,"Повећање доступности права и услуга социјалне заштите","Унапређење квалитета услуга социјалне заштите","Унапређење ефикасности пружених услуга","Повећање доступности права и механизама социјалне заштите за жене у локалној заједници",null,null,null,null,null,null,null,null,null,null,null,null,null,null,null,null,null,null,null,null,null,null,null,null,null,null,null,null,null,null,null,null,null,null,null,null,null,null,null,null,null,null,null,null,null,null,null,null,null,null,null,null,null,null,null,null,null,null,null,null,null,null,600,"ПОСЛОВИ СТАНОВАЊА И  ЗАЈЕДНИЦЕ",null,null,null,null,null,null,null,null,null,null,null,null,null,null,null,null,null,550,"Заштита животне средине -  истраживање и развој",null,null,"610 - Стамбени развој"]
[null,"1801","ПГ_12",null,"Унапређење здравља становништва",null,null,null,null,null,null,null,null,null,null,null,null,null,null,null,null,null,null,null,null,null,null,null,null,null,null,null,null,null,null,null,null,null,null,null,null,null,null,null,null,null,null,null,null,null,null,null,null,null,null,null,null,null,null,null,null,null,null,null,null,null,null,null,null,null,610,"Стамбени развој",null,null,null,null,null,null,null,null,null,null,null,null,null,null,null,null,null,560,"Заштита животне средине некласификована на другом месту",null,null,"620 - Развој заједнице"]
[null,"1201","ПГ_13",null,"Подстицање развоја културе","Остваривање јавног интереса из обласи информисања",null,null,null,null,null,null,null,null,null,null,null,null,null,null,null,null,null,null,null,null,null,null,null,null,null,null,null,null,null,null,null,null,null,null,null,null,null,null,null,null,null,null,null,null,null,null,null,null,null,null,null,null,null,null,null,null,null,null,null,null,null,null,null,null,620,"Развој заједнице",null,null,null,null,null,null,null,null,null,null,null,null,null,null,null,null,null,600,"ПОСЛОВИ СТАНОВАЊА И  ЗАЈЕДНИЦЕ",null,null,"630 - Водоснабдевање"]
[null,"1301","ПГ_14",null,"Обезбеђење услова за бављење спортом свих грађана и грађанки  града/општине","Активно партнерство субјеката омладинске политике у развоју омладинске политике и спровођењу омладинских активности, као и у развоју и спровођењу локалних политика које се тичу младих",null,null,null,null,null,null,null,null,null,null,null,null,null,null,null,null,null,null,null,null,null,null,null,null,null,null,null,null,null,null,null,null,null,null,null,null,null,null,null,null,null,null,null,null,null,null,null,null,null,null,null,null,null,null,null,null,null,null,null,null,null,null,null,null,630,"Водоснабдевање",null,null,null,null,null,null,null,null,null,null,null,null,null,null,null,null,null,610,"Стамбени развој",null,null,"640 - Улична расвета"]
[null,"0602","ПГ_15",null,"Одрживо управно и финансијско функционисање града/општине у складу надлежностима и пословима локалне самоуправе",null,null,null,null,null,null,null,null,null,null,null,null,null,null,null,null,null,null,null,null,null,null,null,null,null,null,null,null,null,null,null,null,null,null,null,null,null,null,null,null,null,null,null,null,null,null,null,null,null,null,null,null,null,null,null,null,null,null,null,null,null,null,null,null,null,640,"Улична расвета",null,null,null,null,null,null,null,null,null,null,null,null,null,null,null,null,null,620,"Развој заједнице",null,null,"650 - Послови становања и заједнице - истраживање и развој"]
[null,"2101","ПГ_16",null,"Ефикасно и ефективно функционисање органа политичког система локалне самоуправе",null,null,null,null,null,null,null,null,null,null,null,null,null,null,null,null,null,null,null,null,null,null,null,null,null,null,null,null,null,null,null,null,null,null,null,null,null,null,null,null,null,null,null,null,null,null,null,null,null,null,null,null,null,null,null,null,null,null,null,null,null,null,null,null,null,650,"Послови становања и заједнице - истраживање и развој",null,null,null,null,null,null,null,null,null,null,null,null,null,null,null,null,null,630,"Водоснабдевање",null,null,"660 - Послови становања и заједнице некласификовани на другом месту"]
[null,"0501","ПГ_17",null,"Смањење потрошње енергије","Смањење расхода за енергију","Повећање удела обновљивих извора енергије у укупној потрошњи",null,null,null,null,null,null,null,null,null,null,null,null,null,null,null,null,null,null,null,null,null,null,null,null,null,null,null,null,null,null,null,null,null,null,null,null,null,null,null,null,null,null,null,null,null,null,null,null,null,null,null,null,null,null,null,null,null,null,null,null,null,null,null,660,"Послови становања и заједнице некласификовани на другом месту",null,null,null,null,null,null,null,null,null,null,null,null,null,null,null,null,null,640,"Улична расвета",null,null,"700 - ЗДРАВСТВО"]
[null,"Просторни развој у складу са плановима","ПГЦ_1","Проценат покривености територије урбанистичком планском документацијом","Проценат грађевинског земљишта потпуно опремљеног комуналном инфраструктуром ",null,null,null,null,null,null,null,null,null,null,null,null,null,null,null,null,null,null,null,null,null,null,null,null,null,null,null,null,null,null,null,null,null,null,null,null,null,null,null,null,null,null,null,null,null,null,null,null,null,null,null,null,null,null,null,null,null,null,null,null,null,null,null,null,null,700,"ЗДРАВСТВО",null,null,null,null,null,null,null,null,null,null,null,null,null,null,null,null,null,650,"Послови становања и заједнице - истраживање и развој",null,null,"710 - Медицински производи, помагала и опрема"]
[null,"Унапређење стамбеног положаја грађана","ПГЦ_2","Број домаћинстава којима је решено стамбено питање","Величина јавног стамбеног фонда",null,null,null,null,null,null,null,null,null,null,null,null,null,null,null,null,null,null,null,null,null,null,null,null,null,null,null,null,null,null,null,null,null,null,null,null,null,null,null,null,null,null,null,null,null,null,null,null,null,null,null,null,null,null,null,null,null,null,null,null,null,null,null,null,null,710,"Медицински производи, помагала и опрема",null,null,null,null,null,null,null,null,null,null,null,null,null,null,null,null,null,660,"Послови становања и заједнице некласификовани на другом месту",null,null,"711 - Фармацеутски производи"]
[null,"Повећање покривеност насеља и територије рационалним јавним осветљењем","ПГЦ_3","Дужина улица и  саобраћајница (км) које су покривене јавним осветљењем у односу на укупну дужину улица и саобраћајница","Укупна количина потрошене електричне енергије (годишње)",null,null,null,null,null,null,null,null,null,null,null,null,null,null,null,null,null,null,null,null,null,null,null,null,null,null,null,null,null,null,null,null,null,null,null,null,null,null,null,null,null,null,null,null,null,null,null,null,null,null,null,null,null,null,null,null,null,null,null,null,null,null,null,null,null,711,"Фармацеутски производи",null,null,null,null,null,null,null,null,null,null,null,null,null,null,null,null,null,700,"ЗДРАВСТВО",null,null,"712 - Остали медицински производи"]
[null,"Повећање покривеност територије комуналним делатностима одржавања јавних зелених површина, одржавања чистоће на површинама јавне намене и зоохигијене","ПГЦ_4","Број м2 јавних зелених површина на којима се уређује и одржава зеленило у односу на укупан број м2 јавних зелених површина"," Број м2 површина јавне намене где се одржава чистоћа у односу на укупан број м2 јавне намене","Број м2 територије покирвен услугом зоохигијене у односу на укупан број м2 територије",null,null,null,null,null,null,null,null,null,null,null,null,null,null,null,null,null,null,null,null,null,null,null,null,null,null,null,null,null,null,null,null,null,null,null,null,null,null,null,null,null,null,null,null,null,null,null,null,null,null,null,null,null,null,null,null,null,null,null,null,null,null,null,null,712,"Остали медицински производи",null,null,null,null,null,null,null,null,null,null,null,null,null,null,null,null,null,710,"Медицински производи, помагала и опрема",null,null,"713 - Терапеутска помагала и опрема"]
[null,"Адекватан квалитет пружених услуга  уз рационално спровођење даљинског грејања","ПГЦ_5","Просечна цена грејања по утрошеној топлотној енергији","Однос произведене и испоручене топлотне енергије","Проценат корисника код којих се обрачун врши по утрошеној топлотној енергији",null,null,null,null,null,null,null,null,null,null,null,null,null,null,null,null,null,null,null,null,null,null,null,null,null,null,null,null,null,null,null,null,null,null,null,null,null,null,null,null,null,null,null,null,null,null,null,null,null,null,null,null,null,null,null,null,null,null,null,null,null,null,null,null,713,"Терапеутска помагала и опрема",null,null,null,null,null,null,null,null,null,null,null,null,null,null,null,null,null,711,"Фармацеутски производи",null,null,"720 - Ванболничке услуге"]
[null,"Повећање покривености корисника и територије квалитетним услугама водоснабдевања","ПГЦ_6","Проценат домаћинстава обухваћених услугом у односу на укупан број домаћинстава","Број насељeних места обухваћених услугама у односу на укупан број насеља","Број неисправних узорака воде у односу на укупан број анализираних узорака (физичко-хемијских и микробиолошких)",null,null,null,null,null,null,null,null,null,null,null,null,null,null,null,null,null,null,null,null,null,null,null,null,null,null,null,null,null,null,null,null,null,null,null,null,null,null,null,null,null,null,null,null,null,null,null,null,null,null,null,null,null,null,null,null,null,null,null,null,null,null,null,null,720,"Ванболничке услуге",null,null,null,null,null,null,null,null,null,null,null,null,null,null,null,null,null,712,"Остали медицински производи",null,null,"721 - Опште медицинске услуге"]
[null,"Рационално снабдевање водом за пиће","ПГЦ_7","Специфична потрошња воде (литар/становник/дан)","Степен физичких губитака у мрежи (%) ","Цена воде по м3",null,null,null,null,null,null,null,null,null,null,null,null,null,null,null,null,null,null,null,null,null,null,null,null,null,null,null,null,null,null,null,null,null,null,null,null,null,null,null,null,null,null,null,null,null,null,null,null,null,null,null,null,null,null,null,null,null,null,null,null,null,null,null,null,721,"Опште медицинске услуге",null,null,null,null,null,null,null,null,null,null,null,null,null,null,null,null,null,713,"Терапеутска помагала и опрема",null,null,"722 - Специјализоване медицинске услуге"]
[null,"Повећање  запослености на територији града/општине","ПГЦ_8","Број становника града/општине који су запослени на новим радним местима, а налазили су се на евиденцији НСЗ (разврстаних  по полу и старости)","Број евидентираних незапослених лица на евиденцији НСЗ (разврстаних по полу и старости)",null,null,null,null,null,null,null,null,null,null,null,null,null,null,null,null,null,null,null,null,null,null,null,null,null,null,null,null,null,null,null,null,null,null,null,null,null,null,null,null,null,null,null,null,null,null,null,null,null,null,null,null,null,null,null,null,null,null,null,null,null,null,null,null,null,722,"Специјализоване медицинске услуге",null,null,null,null,null,null,null,null,null,null,null,null,null,null,null,null,null,720,"Ванболничке услуге",null,null,"723 - Стоматолошке услуге"]
[null,"Отварање нових предузећа и предузетничких радњи на  територији града/општине","ПГЦ_9","Број отворених  / број затворених предузећа","Број отворених/затворених предузетничких радњи ","Број предузетника/предузетница по становнику у граду/општини у односу на просек РС","Број предузетничких радњи активних након прве две године од оснивања;",null,null,null,null,null,null,null,null,null,null,null,null,null,null,null,null,null,null,null,null,null,null,null,null,null,null,null,null,null,null,null,null,null,null,null,null,null,null,null,null,null,null,null,null,null,null,null,null,null,null,null,null,null,null,null,null,null,null,null,null,null,null,null,723,"Стоматолошке услуге",null,null,null,null,null,null,null,null,null,null,null,null,null,null,null,null,null,721,"Опште медицинске услуге",null,null,"724 - Парамедицинске услуге"]
[null,"Повећање прихода од туризма","ПГЦ_10","Проценат повећања броја ноћења","Проценат повећања укупног броја гостију  ","Пораст прихода од боравишне таксе",null,null,null,null,null,null,null,null,null,null,null,null,null,null,null,null,null,null,null,null,null,null,null,null,null,null,null,null,null,null,null,null,null,null,null,null,null,null,null,null,null,null,null,null,null,null,null,null,null,null,null,null,null,null,null,null,null,null,null,null,null,null,null,null,724,"Парамедицинске услуге",null,null,null,null,null,null,null,null,null,null,null,null,null,null,null,null,null,722,"Специјализоване медицинске услуге",null,null,"730 - Болничке услуге"]
[null,"Повећање смештајних капацитета туристичке понуде","ПГЦ_11","Проценат пораста регистрованих пружалаца услуга ноћења у граду/општини","Број новорегистрованих кревета",null,null,null,null,null,null,null,null,null,null,null,null,null,null,null,null,null,null,null,null,null,null,null,null,null,null,null,null,null,null,null,null,null,null,null,null,null,null,null,null,null,null,null,null,null,null,null,null,null,null,null,null,null,null,null,null,null,null,null,null,null,null,null,null,null,730,"Болничке услуге",null,null,null,null,null,null,null,null,null,null,null,null,null,null,null,null,null,723,"Стоматолошке услуге",null,null,"731 - Опште болничке услуге"]
[null,"Раст производње и стабилност дохотка произвођача","ПГЦ_12","Удео регистрованих пољопривредних газдинстава у укупном броју пољопривредних газдинстава","Учешће коришћеног  пољопривредног земљишта (КПЗ) у укупној површини ЈЛС\nподручјем III категорије",null,null,null,null,null,null,null,null,null,null,null,null,null,null,null,null,null,null,null,null,null,null,null,null,null,null,null,null,null,null,null,null,null,null,null,null,null,null,null,null,null,null,null,null,null,null,null,null,null,null,null,null,null,null,null,null,null,null,null,null,null,null,null,null,null,731,"Опште болничке услуге",null,null,null,null,null,null,null,null,null,null,null,null,null,null,null,null,null,724,"Парамедицинске услуге",null,null,"732 - Специјализоване болничке услуге"]
[null,"Унапређење конкурентности произвођача","ПГЦ_13","Просечна величина поседа (коришћеног  пољопривредног земљишта)  по пољопривредном газдинству","Проценат наводњаване површине у односу на укупну површину коришћеног  пољопривредног земљишта (КПЗ)",null,null,null,null,null,null,null,null,null,null,null,null,null,null,null,null,null,null,null,null,null,null,null,null,null,null,null,null,null,null,null,null,null,null,null,null,null,null,null,null,null,null,null,null,null,null,null,null,null,null,null,null,null,null,null,null,null,null,null,null,null,null,null,null,null,732,"Специјализоване болничке услуге",null,null,null,null,null,null,null,null,null,null,null,null,null,null,null,null,null,730,"Болничке услуге",null,null,"733 - Услуге медицинских центара и породилишта"]
[null,"Унапређење заштите природе","ПГЦ_14","Проценат територије под заштитом III категорије","Број подручја која су проглашена заштићеним\nподручјем III категорије\n",null,null,null,null,null,null,null,null,null,null,null,null,null,null,null,null,null,null,null,null,null,null,null,null,null,null,null,null,null,null,null,null,null,null,null,null,null,null,null,null,null,null,null,null,null,null,null,null,null,null,null,null,null,null,null,null,null,null,null,null,null,null,null,null,null,733,"Услуге медицинских центара и породилишта",null,null,null,null,null,null,null,null,null,null,null,null,null,null,null,null,null,731,"Опште болничке услуге",null,null,"734 - Услуге домова  за негу и опоравак"]
[null,"Унапређење  квалитета елемената животне  средине","ПГЦ_15","Број дана у току године с прекорачењем граничних вредности квалитета ваздуха","Вредност укупног индикатора буке","Вредност индикатора ноћне буке ",null,null,null,null,null,null,null,null,null,null,null,null,null,null,null,null,null,null,null,null,null,null,null,null,null,null,null,null,null,null,null,null,null,null,null,null,null,null,null,null,null,null,null,null,null,null,null,null,null,null,null,null,null,null,null,null,null,null,null,null,null,null,null,null,734,"Услуге домова  за негу и опоравак",null,null,null,null,null,null,null,null,null,null,null,null,null,null,null,null,null,732,"Специјализоване болничке услуге",null,null,"740 - Услуге јавног здравства"]
[null,"Унапређење управљања отпадним водама","ПГЦ_16","Број становника прикључен на јавну канализацију у односу на укупан број становника","Проценат становништва прикљученог на постројења за пречишћавање отпадних вода из јавне канализације са примарним, секундарним и терцијарним третманом у односу на укупан број становника на територији града/општине","Удео испуштених непречишћених отпадних вода у површинска   водна   тела   (водопријемнике)   у   односу   на   укупну количину   испуштених   отпадних   вода у граду/општини",null,null,null,null,null,null,null,null,null,null,null,null,null,null,null,null,null,null,null,null,null,null,null,null,null,null,null,null,null,null,null,null,null,null,null,null,null,null,null,null,null,null,null,null,null,null,null,null,null,null,null,null,null,null,null,null,null,null,null,null,null,null,null,null,740,"Услуге јавног здравства",null,null,null,null,null,null,null,null,null,null,null,null,null,null,null,null,null,733,"Услуге медицинских центара и породилишта",null,null,"750 - Здравство  истраживање и развој"]
[null,"Унапређење управљања комуналним и осталим отпадом","ПГЦ_17","Проценат становништва покривеног услугом прикупљања комуналног отпада","Број „дивљих“ депонија","Проценат рециклираног отпада",null,null,null,null,null,null,null,null,null,null,null,null,null,null,null,null,null,null,null,null,null,null,null,null,null,null,null,null,null,null,null,null,null,null,null,null,null,null,null,null,null,null,null,null,null,null,null,null,null,null,null,null,null,null,null,null,null,null,null,null,null,null,null,null,750,"Здравство  истраживање и развој",null,null,null,null,null,null,null,null,null,null,null,null,null,null,null,null,null,734,"Услуге домова  за негу и опоравак",null,null,"760 - Здравство некласификовано на другом месту"]
[null,"Развијеност инфраструктуре у контексту доприноса социо економском развоју","ПГЦ_18","Дужина изграђених саобраћајница које су у надлежности града/општине (у км)","Повећање просечне густине мреже улица и локалних путева (однос површине града/општине и км изграђене саобраћајне мреже)","Број насеља до којих не постоји приступ асфалтним путем",null,null,null,null,null,null,null,null,null,null,null,null,null,null,null,null,null,null,null,null,null,null,null,null,null,null,null,null,null,null,null,null,null,null,null,null,null,null,null,null,null,null,null,null,null,null,null,null,null,null,null,null,null,null,null,null,null,null,null,null,null,null,null,null,760,"Здравство некласификовано на другом месту",null,null,null,null,null,null,null,null,null,null,null,null,null,null,null,null,null,740,"Услуге јавног здравства",null,null,"800 - РЕКРЕАЦИЈА, СПОРТ, КУЛТУРА И ВЕРЕ"]
[null,"Повећање безбедности учесника у саобраћају и смањење броја саобраћајних незгода","ПГЦ_19","Број саобраћајних незгода/инцидената у односу на број  из претходне године","Број смртних исхода у односу на број  из претходне године","Број повређених људи у односу на број  из претходне године",null,null,null,null,null,null,null,null,null,null,null,null,null,null,null,null,null,null,null,null,null,null,null,null,null,null,null,null,null,null,null,null,null,null,null,null,null,null,null,null,null,null,null,null,null,null,null,null,null,null,null,null,null,null,null,null,null,null,null,null,null,null,null,null,800,"РЕКРЕАЦИЈА, СПОРТ, КУЛТУРА И ВЕРЕ",null,null,null,null,null,null,null,null,null,null,null,null,null,null,null,null,null,750,"Здравство  истраживање и развој",null,null,"810 - Услуге рекреације и спорта"]
[null,"Повећање одрживости и доступности транспорта","ПГЦ_20","Удео улагања у инфраструктуру намењену пешацима у односу на сва улагања у саобраћај","Удео улагања у бициклистичку инфраструктуру у односу на сва улагања у саобраћај","Удео  улагања у јавни транспорт у односу на сва улагања у саобраћај",null,null,null,null,null,null,null,null,null,null,null,null,null,null,null,null,null,null,null,null,null,null,null,null,null,null,null,null,null,null,null,null,null,null,null,null,null,null,null,null,null,null,null,null,null,null,null,null,null,null,null,null,null,null,null,null,null,null,null,null,null,null,null,null,810,"Услуге рекреације и спорта",null,null,null,null,null,null,null,null,null,null,null,null,null,null,null,null,null,760,"Здравство некласификовано на другом месту",null,null,"820 - Услуге културе"]
[null,"Повећање  обухвата деце предшколским васпитањем  и  образовањем","ПГЦ_21","Проценат деце која су уписана у предшколске установе (Број деце која су уписана у предшколске установе у односу на укупан број деце у граду/општини (јаслена група, предшколска група и ППП)","Проценат уписане деце у односу на број укупно пријављене деце",null,null,null,null,null,null,null,null,null,null,null,null,null,null,null,null,null,null,null,null,null,null,null,null,null,null,null,null,null,null,null,null,null,null,null,null,null,null,null,null,null,null,null,null,null,null,null,null,null,null,null,null,null,null,null,null,null,null,null,null,null,null,null,null,null,820,"Услуге културе",null,null,null,null,null,null,null,null,null,null,null,null,null,null,null,null,null,800,"РЕКРЕАЦИЈА, СПОРТ, КУЛТУРА И ВЕРЕ",null,null,"830 - Услуге емитовања и штампања"]
[null,"Унапређење доступности предшколског васпитања за децу из осетљивих група","ПГЦ_22","Проценат деце са додатним образовним потребама која су укључена у редовне  програме ПОВ у односу на укупан број деце","Проценат објеката који су прилагодили простор за децу са инвалидитетом у односу на укупан број објеката ПУ","Проценат Рома који похађају предшколски програм у односу на укупан број ромске деце",null,null,null,null,null,null,null,null,null,null,null,null,null,null,null,null,null,null,null,null,null,null,null,null,null,null,null,null,null,null,null,null,null,null,null,null,null,null,null,null,null,null,null,null,null,null,null,null,null,null,null,null,null,null,null,null,null,null,null,null,null,null,null,null,830,"Услуге емитовања и штампања",null,null,null,null,null,null,null,null,null,null,null,null,null,null,null,null,null,810,"Услуге рекреације и спорта",null,null,"840 - Верске  и остале услуге заједнице"]
[null,"Потпуни обухват основним  образовањем и васпитањем","ПГЦ_23","Обухват деце основним образовањем (разложено према полу)","Стопа прекида основног образовања (разложено према полу)",null,null,null,null,null,null,null,null,null,null,null,null,null,null,null,null,null,null,null,null,null,null,null,null,null,null,null,null,null,null,null,null,null,null,null,null,null,null,null,null,null,null,null,null,null,null,null,null,null,null,null,null,null,null,null,null,null,null,null,null,null,null,null,null,null,840,"Верске  и остале услуге заједнице",null,null,null,null,null,null,null,null,null,null,null,null,null,null,null,null,null,820,"Услуге културе",null,null,"850 - Рекреација, спорт, култура и вере  - истраживање и развој"]
[null,"Унапређење доступности основног образовања деци из осетљивих група","ПГЦ_24","Проценат деце која се школују у редовним основним школама на основу индивидуалног образовног плана (ИОП2) у односу на укупан број деце одговарајуће старосне групе","Број објеката који су прилагодили простор за децу са инвалидитетом у односу на укупан број објеката основних школа",null,null,null,null,null,null,null,null,null,null,null,null,null,null,null,null,null,null,null,null,null,null,null,null,null,null,null,null,null,null,null,null,null,null,null,null,null,null,null,null,null,null,null,null,null,null,null,null,null,null,null,null,null,null,null,null,null,null,null,null,null,null,null,null,null,850,"Рекреација, спорт, култура и вере  - истраживање и развој",null,null,null,null,null,null,null,null,null,null,null,null,null,null,null,null,null,830,"Услуге емитовања и штампања",null,null,"860 - Рекреација, спорт, култура и вере, некласификовано на другом месту"]
[null,"Унапређен квалитет основног образовања","ПГЦ_25","Просечан број поена на матурском испиту (математика/српски/ општи)","Проценат ученика који је учествовао на републичким такмичењима",null,null,null,null,null,null,null,null,null,null,null,null,null,null,null,null,null,null,null,null,null,null,null,null,null,null,null,null,null,null,null,null,null,null,null,null,null,null,null,null,null,null,null,null,null,null,null,null,null,null,null,null,null,null,null,null,null,null,null,null,null,null,null,null,null,860,"Рекреација, спорт, култура и вере, некласификовано на другом месту",null,null,null,null,null,null,null,null,null,null,null,null,null,null,null,null,null,840,"Верске  и остале услуге заједнице",null,null,"900 - ОБРАЗОВАЊЕ"]
[null,"Повећање обухвата средњошколског образовања","ПГЦ_26","Број деце која су обухваћена средњим образовањем (разложен по полу)","Стопа прекида средњег образовања (разложено према полу)",null,null,null,null,null,null,null,null,null,null,null,null,null,null,null,null,null,null,null,null,null,null,null,null,null,null,null,null,null,null,null,null,null,null,null,null,null,null,null,null,null,null,null,null,null,null,null,null,null,null,null,null,null,null,null,null,null,null,null,null,null,null,null,null,null,900,"ОБРАЗОВАЊЕ",null,null,null,null,null,null,null,null,null,null,null,null,null,null,null,null,null,850,"Рекреација, спорт, култура и вере  - истраживање и развој",null,null,"910 - Предшколско и основно образовање"]
[null,"Унапређење доступности средњег образовања","ПГЦ_27","Број објеката који су прилагодили простор за децу  са инвалидитетом у односу на укупан број објеката средњих школа","Проценат деце која се школују у средњим школама на основу индивидуалног образовног плана (ИОП2) у односу на укупан број деце одговарајуће старосне групе",null,null,null,null,null,null,null,null,null,null,null,null,null,null,null,null,null,null,null,null,null,null,null,null,null,null,null,null,null,null,null,null,null,null,null,null,null,null,null,null,null,null,null,null,null,null,null,null,null,null,null,null,null,null,null,null,null,null,null,null,null,null,null,null,null,910,"Предшколско и основно образовање",null,null,null,null,null,null,null,null,null,null,null,null,null,null,null,null,null,860,"Рекреација, спорт, култура и вере, некласификовано на другом месту",null,null,"911 - Предшколско образовање"]
[null,"Повећање доступности права и услуга социјалне заштите","ПГЦ_28","Проценат корисника мера и услуга социјалне и дечје заштите који се финансирају из буџета града/општине у односу на број становника","Проценат корисника финансијске подршке и подршке у натури у односу на укупан број корисника социјалне и дечје заштите","Проценат корисника локалних социјалних услуга у односу на укупан број корисника социјалне и дечје заштите",null,null,null,null,null,null,null,null,null,null,null,null,null,null,null,null,null,null,null,null,null,null,null,null,null,null,null,null,null,null,null,null,null,null,null,null,null,null,null,null,null,null,null,null,null,null,null,null,null,null,null,null,null,null,null,null,null,null,null,null,null,null,null,null,911,"Предшколско образовање",null,null,null,null,null,null,null,null,null,null,null,null,null,null,null,null,null,900,"ОБРАЗОВАЊЕ",null,null,"912 - Основно образовање"]
[null,"Унапређење квалитета услуга социјалне заштите","ПГЦ_29","Удео корисника лиценцираних услуга у укупном броју корисника услуга","Проценат лиценцираних пружалаца услуге у односу на укупан број подржаних пружалаца услуге",null,null,null,null,null,null,null,null,null,null,null,null,null,null,null,null,null,null,null,null,null,null,null,null,null,null,null,null,null,null,null,null,null,null,null,null,null,null,null,null,null,null,null,null,null,null,null,null,null,null,null,null,null,null,null,null,null,null,null,null,null,null,null,null,null,912,"Основно образовање",null,null,null,null,null,null,null,null,null,null,null,null,null,null,null,null,null,910,"Предшколско и основно образовање",null,null,"913 - Основно образовање са домом ученика"]
[null,"Унапређење ефикасности пружених услуга","ПГЦ_30","Проценат корисника који су учествовали/партиципирали у цени  услуге",null,null,null,null,null,null,null,null,null,null,null,null,null,null,null,null,null,null,null,null,null,null,null,null,null,null,null,null,null,null,null,null,null,null,null,null,null,null,null,null,null,null,null,null,null,null,null,null,null,null,null,null,null,null,null,null,null,null,null,null,null,null,null,null,null,null,913,"Основно образовање са домом ученика",null,null,null,null,null,null,null,null,null,null,null,null,null,null,null,null,null,911,"Предшколско образовање",null,null,"914 - Основно образовање са средњом школом"]
[null,"Повећање доступности права и механизама социјалне заштите за жене у локалној заједници","ПГЦ_31","Удео жена корисница социјалних помоћи у укупном броју корисника социјалне помоћи","Број услуга намењених женама са искуством насиља у породици или у партнерском односу","Удео средстава намењених женама са искуством насиља у породици или у партнерском односу у односу на укупан износ средстава за социјалне услуге у заједници",null,null,null,null,null,null,null,null,null,null,null,null,null,null,null,null,null,null,null,null,null,null,null,null,null,null,null,null,null,null,null,null,null,null,null,null,null,null,null,null,null,null,null,null,null,null,null,null,null,null,null,null,null,null,null,null,null,null,null,null,null,null,null,null,914,"Основно образовање са средњом школом",null,null,null,null,null,null,null,null,null,null,null,null,null,null,null,null,null,912,"Основно образовање",null,null,"915 - Специјално основно образовање"]
[null,"Унапређење здравља становништва","ПГЦ_32","Очекивано трајање живота  становника града/општине","Покривеност становништва примарном здравственом заштитом","Стандардизоване стопе смртности водећих хроничних незаразних болести\n- кардио и цереброваскуларне болести (инфаркт и инсулт мождани);\n- дијабет;\n- малигна обољења;\n- остало (прецизирати по опредељењу ЈЛС)\nстопа смртности одојчади\n",null,null,null,null,null,null,null,null,null,null,null,null,null,null,null,null,null,null,null,null,null,null,null,null,null,null,null,null,null,null,null,null,null,null,null,null,null,null,null,null,null,null,null,null,null,null,null,null,null,null,null,null,null,null,null,null,null,null,null,null,null,null,null,null,915,"Специјално основно образовање",null,null,null,null,null,null,null,null,null,null,null,null,null,null,null,null,null,913,"Основно образовање са домом ученика",null,null,"916 - Основно образовање са средњом школом и домом ученика"]
[null,"Подстицање развоја културе","ПГЦ_33","Број реализованих програма на 1000 становника који доприносе остваривању општег интереса у култури","Број посетилаца програма који доприносе остваривању општег интереса у култури који су одржани на 1000 становника","Укупан број чланова удружења грађана из области културе",null,null,null,null,null,null,null,null,null,null,null,null,null,null,null,null,null,null,null,null,null,null,null,null,null,null,null,null,null,null,null,null,null,null,null,null,null,null,null,null,null,null,null,null,null,null,null,null,null,null,null,null,null,null,null,null,null,null,null,null,null,null,null,null,916,"Основно образовање са средњом школом и домом ученика",null,null,null,null,null,null,null,null,null,null,null,null,null,null,null,null,null,914,"Основно образовање са средњом школом",null,null,"920 - Средње образовање"]
[null,"Остваривање јавног интереса из обласи информисања","ПГЦ_34","Број сати произведених и емитованих ТВ и радио садржаја који доприносе остварењу општег интереса","Број примерака локалних штампаних медија који доприносе остваривању општег интереса у области јавног информисања",null,null,null,null,null,null,null,null,null,null,null,null,null,null,null,null,null,null,null,null,null,null,null,null,null,null,null,null,null,null,null,null,null,null,null,null,null,null,null,null,null,null,null,null,null,null,null,null,null,null,null,null,null,null,null,null,null,null,null,null,null,null,null,null,null,920,"Средње образовање",null,null,null,null,null,null,null,null,null,null,null,null,null,null,null,null,null,915,"Специјално основно образовање",null,null,"921 - Ниже средње образовање"]
[null,"Обезбеђење услова за бављење спортом свих грађана и грађанки  града/општине","ПГЦ_35","Број спортских организација преко којих се остварује јавни интерес у области спорта","Број чланова спортских организација и удружења","Број жена чланова спортских организација и удружења","Број спроведених акција, програма и пројеката који подржавају активно и рекреативно бављење спортом",null,null,null,null,null,null,null,null,null,null,null,null,null,null,null,null,null,null,null,null,null,null,null,null,null,null,null,null,null,null,null,null,null,null,null,null,null,null,null,null,null,null,null,null,null,null,null,null,null,null,null,null,null,null,null,null,null,null,null,null,null,null,null,921,"Ниже средње образовање",null,null,null,null,null,null,null,null,null,null,null,null,null,null,null,null,null,916,"Основно образовање са средњом школом и домом ученика",null,null,"922 - Више средње образовање"]
[null,"Активно партнерство субјеката омладинске политике у развоју омладинске политике и спровођењу омладинских активности, као и у развоју и спровођењу локалних политика које се тичу младих","ПГЦ_36","% укључених младих у омладинске програме/ пројекте у односу на укупан број младих у локалној заједници","Број институција и организација са којима је остварено партнерство путем споразума о сарадњи","Регистрован број волонтера",null,null,null,null,null,null,null,null,null,null,null,null,null,null,null,null,null,null,null,null,null,null,null,null,null,null,null,null,null,null,null,null,null,null,null,null,null,null,null,null,null,null,null,null,null,null,null,null,null,null,null,null,null,null,null,null,null,null,null,null,null,null,null,null,922,"Више средње образовање",null,null,null,null,null,null,null,null,null,null,null,null,null,null,null,null,null,920,"Средње образовање",null,null,"923 - Средње образовање са домом ученика"]
[null,"Одрживо управно и финансијско функционисање града/општине у складу надлежностима и пословима локалне самоуправе","ПГЦ_37","Суфицит или дефицит локалног буџета","Однос броја запослених у граду/општини и законом утврђеног максималног броја запослених","Број донетих  аката органа и служби града/општине","Број остварених услуга  градске/општинске управе (укупан број предмета који су у току, број решења, дозвола, потврда и других докумената издатих  физичким и правним лицима)",null,null,null,null,null,null,null,null,null,null,null,null,null,null,null,null,null,null,null,null,null,null,null,null,null,null,null,null,null,null,null,null,null,null,null,null,null,null,null,null,null,null,null,null,null,null,null,null,null,null,null,null,null,null,null,null,null,null,null,null,null,null,null,923,"Средње образовање са домом ученика",null,null,null,null,null,null,null,null,null,null,null,null,null,null,null,null,null,921,"Ниже средње образовање",null,null,"930 - Више образовање"]
[null,"Ефикасно и ефективно функционисање органа политичког система локалне самоуправе","ПГЦ_38",null,null,null,null,null,null,null,null,null,null,null,null,null,null,null,null,null,null,null,null,null,null,null,null,null,null,null,null,null,null,null,null,null,null,null,null,null,null,null,null,null,null,null,null,null,null,null,null,null,null,null,null,null,null,null,null,null,null,null,null,null,null,null,null,null,null,null,930,"Више образовање",null,null,null,null,null,null,null,null,null,null,null,null,null,null,null,null,null,922,"Више средње образовање",null,null,{"$f":"BS131&\" - \"&BT131","v":"931 - Више образовање"}]
[null,"Смањење потрошње енергије","ПГЦ_39","Укупна потрошња примарне енергије у јавним зградама (ten )","Укупна потрошња примарне енергије у јавним зградама по становнику (ten)","Укупна потрошња примарне енергије у јавним зградама по м2 површине јавних зграда",null,null,null,null,null,null,null,null,null,null,null,null,null,null,null,null,null,null,null,null,null,null,null,null,null,null,null,null,null,null,null,null,null,null,null,null,null,null,null,null,null,null,null,null,null,null,null,null,null,null,null,null,null,null,null,null,null,null,null,null,null,null,null,null,931,"Више образовање",null,null,null,null,null,null,null,null,null,null,null,null,null,null,null,null,null,923,"Средње образовање са домом ученика",null,null,{"$f":"BS132&\" - \"&BT132","v":"932 - Више образовање са студентским домом"}]
[null,"Смањење расхода за енергију","ПГЦ_40","Укупни расходи за набавку енергије (РСД)","Укупни расходи за набавку енергије у јавним зградама (РСД)","Процентуално учешће расхода за набавку енергије у укупним расходима",null,null,null,null,null,null,null,null,null,null,null,null,null,null,null,null,null,null,null,null,null,null,null,null,null,null,null,null,null,null,null,null,null,null,null,null,null,null,null,null,null,null,null,null,null,null,null,null,null,null,null,null,null,null,null,null,null,null,null,null,null,null,null,null,932,"Више образовање са студентским домом",null,null,null,null,null,null,null,null,null,null,null,null,null,null,null,null,null,930,"Више образовање",null,null,{"$f":"BS133&\" - \"&BT133","v":"940 - Високо образовање"}]
[null,"Повећање удела обновљивих извора енергије у укупној потрошњи","ПГЦ_41","Удео обновљивих извора енергије у укупној потрошњи",null,null,null,null,null,null,null,null,null,null,null,null,null,null,null,null,null,null,null,null,null,null,null,null,null,null,null,null,null,null,null,null,null,null,null,null,null,null,null,null,null,null,null,null,null,null,null,null,null,null,null,null,null,null,null,null,null,null,null,null,null,null,null,null,null,null,940,"Високо образовање",null,null,null,null,null,null,null,null,null,null,null,null,null,null,null,null,null,null,null,null,null,"941 - Високо образовање - први степен"]
[null,null,null,null,null,null,null,null,null,null,null,null,null,null,null,null,null,null,null,null,null,null,null,null,null,null,null,null,null,null,null,null,null,null,null,null,null,null,null,null,null,null,null,null,null,null,null,null,null,null,null,null,null,null,null,null,null,null,null,null,null,null,null,null,null,null,null,null,null,null,941,"Високо образовање - први степен",null,null,null,null,null,null,null,null,null,null,null,null,null,null,null,null,null,null,null,null,null,"942 - Високо образовање -  други степен"]
[null,null,null,null,null,null,null,null,null,null,null,null,null,null,null,null,null,null,null,null,null,null,null,null,null,null,null,null,null,null,null,null,null,null,null,null,null,null,null,null,null,null,null,null,null,null,null,null,null,null,null,null,null,null,null,null,null,null,null,null,null,null,null,null,null,null,null,null,null,null,942,"Високо образовање -  други степен",null,null,null,null,null,null,null,null,null,null,null,null,null,null,null,null,null,null,null,null,null,"950 - Образовање које није дефинисано нивоом"]
[null,null,null,null,null,null,null,null,null,null,null,null,null,null,null,null,null,null,null,null,null,null,null,null,null,null,null,null,null,null,null,null,null,null,null,null,null,null,null,null,null,null,null,null,null,null,null,null,null,null,null,null,null,null,null,null,null,null,null,null,null,null,null,null,null,null,null,null,null,null,950,"Образовање које није дефинисано нивоом",null,null,null,null,null,null,null,null,null,null,null,null,null,null,null,null,null,931,"Више образовање",null,null,"960 - Помоћне услуге образовању"]
[null,"1101-0001  Просторно и урбанистичко планирање","ПА_1",null,"Повећање покривености територије планском и урбанистичком документацијом",null,null,null,null,null,null,null,null,null,null,null,null,null,null,null,null,null,null,null,null,null,null,null,null,null,null,null,null,null,null,null,null,null,null,null,null,null,null,null,null,null,null,null,null,null,null,null,null,null,null,null,null,null,null,null,null,null,null,null,null,null,null,null,null,null,960,"Помоћне услуге образовању",null,null,null,null,null,null,null,null,null,null,null,null,null,null,null,null,null,932,"Више образовање са студентским домом",null,null,"970 - Образовање -  истраживање и развој"]
[null,"1101-0002  Спровођење урбанистичких и просторних планова","ПА_2",null,"Ефикасно администрирање захтева за издавање грађевинских дозвола (ефикасно издавање грађевинских дозвола)","Ефикасан процес озакоњења",null,null,null,null,null,null,null,null,null,null,null,null,null,null,null,null,null,null,null,null,null,null,null,null,null,null,null,null,null,null,null,null,null,null,null,null,null,null,null,null,null,null,null,null,null,null,null,null,null,null,null,null,null,null,null,null,null,null,null,null,null,null,null,null,970,"Образовање -  истраживање и развој",null,null,null,null,null,null,null,null,null,null,null,null,null,null,null,null,null,940,"Високо образовање",null,null,"980 - Образовање некласификовано на другом месту"]
[null,"1101-0003  Управљање грађевинским земљиштем","ПА_3",null,"Стављање у функцију грађевинског земљишта",null,null,null,null,null,null,null,null,null,null,null,null,null,null,null,null,null,null,null,null,null,null,null,null,null,null,null,null,null,null,null,null,null,null,null,null,null,null,null,null,null,null,null,null,null,null,null,null,null,null,null,null,null,null,null,null,null,null,null,null,null,null,null,null,null,980,"Образовање некласификовано на другом месту",null,null,null,null,null,null,null,null,null,null,null,null,null,null,null,null,null,941,"Високо образовање - први степен"]
[null,"1101-0004  Стамбена подршка","ПА_4",null,"Планско управљање стамбеном подршком",null,null,null,null,null,null,null,null,null,null,null,null,null,null,null,null,null,null,null,null,null,null,null,null,null,null,null,null,null,null,null,null,null,null,null,null,null,null,null,null,null,null,null,null,null,null,null,null,null,null,null,null,null,null,null,null,null,null,null,null,null,null,null,null,null,null,null,null,null,null,null,null,null,null,null,null,null,null,null,null,null,null,null,null,942,"Високо образовање -  други степен"]
[null,"1101-0005  Остваривање јавног интереса у одржавању зграда","ПА_5",null,"Очување и унапређење стамбеног фонда",null,null,null,null,null,null,null,null,null,null,null,null,null,null,null,null,null,null,null,null,null,null,null,null,null,null,null,null,null,null,null,null,null,null,null,null,null,null,null,null,null,null,null,null,null,null,null,null,null,null,null,null,null,null,null,null,null,null,null,null,null,null,null,null,null,null,null,null,null,null,null,null,null,null,null,null,null,null,null,null,null,null,null,null,950,"Образовање које није дефинисано нивоом"]
[null,"1102-0001  Управљање/одржавање јавним осветљењем","ПА_6",null,"Адекватнo управљање јавним осветљењем","Ефикасно и рационално спровођење јавног осветљења и минималан негативан утицај на животну средину",null,null,null,null,null,null,null,null,null,null,null,null,null,null,null,null,null,null,null,null,null,null,null,null,null,null,null,null,null,null,null,null,null,null,null,null,null,null,null,null,null,null,null,null,null,null,null,null,null,null,null,null,null,null,null,null,null,null,null,null,null,null,null,null,null,null,null,null,null,null,null,null,null,null,null,null,null,null,null,null,null,null,null,960,"Помоћне услуге образовању",null,null,{"$f":"BS143&\" - \"&BT143","v":" - "}]
[null,"1102-0002  Одржавање јавних зелених површина  ","ПА_7",null,"Максимална могућа покривеност насеља и територије услугама уређења и одржавања зеленила","Адекватан квалитет пружених услуга уређења и одржавања јавних зелених површина",null,null,null,null,null,null,null,null,null,null,null,null,null,null,null,null,null,null,null,null,null,null,null,null,null,null,null,null,null,null,null,null,null,null,null,null,null,null,null,null,null,null,null,null,null,null,null,null,null,null,null,null,null,null,null,null,null,null,null,null,null,null,null,null,null,null,null,null,null,null,null,null,null,null,null,null,null,null,null,null,null,null,null,970,"Образовање -  истраживање и развој",null,null,{"$f":"BS144&\" - \"&BT144","v":" - "}]
[null,"1102-0003  Одржавање чистоће на површинама јавне намене","ПА_8",null,"Максимална могућа покривеност насеља и територије услугама одржавања чистоће јавних површина",null,null,null,null,null,null,null,null,null,null,null,null,null,null,null,null,null,null,null,null,null,null,null,null,null,null,null,null,null,null,null,null,null,null,null,null,null,null,null,null,null,null,null,null,null,null,null,null,null,null,null,null,null,null,null,null,null,null,null,null,null,null,null,null,null,null,null,null,null,null,null,null,null,null,null,null,null,null,null,null,null,null,null,null,980,"Образовање некласификовано на другом месту",null,null,{"$f":"BS145&\" - \"&BT145","v":" - "}]
[null,"1102-0004  Зоохигијена","ПА_9",null,"Унапређење заштите од заразних и других болести које преносе животиње","Унапређење заштите од заразних и других болести које преносе инсекти"]
[null,"1102-0005  Уређивање, одржавање и коришћење пијаца","ПА_10",null,"Адекватан квалитет пружених услуга уређивања, одржавања и коришћења пијаца"]
[null,"1102-0006  Одржавање гробаља и погребне услуге","ПА_11",null,"Адекватан квалитет пружених услуга одржавања гробаља и погребних услуга"]
[null,"1102-0007  Прозводња и дистрибуција топлотне енергије","ПА_12",null,"Оптимална покривеност корисника и територије услугама даљинског грејања и развој дистрибутивног система","Адекватан квалитет пружених услуга  уз рационално спровођење даљинског грејања ","Ефикасно и рационално спровођење  даљинског грејања и минималан негативан утицај на животну средину"]
[null,"1102-0008  Управљање и снабдевање водом за пиће","ПА_13",null,"Адекватан квалитет пружених услуга водоснабдевања"]
[null,"1501-0001  Унапређење привредног и инвестиционог амбијента","ПА_14",null,"Унапређење административних поступака и развој адекватних сервиса и услуга  за пружање подршке постојећој привреди","Успостављање функционалне  пословне инфраструктуре ","Ревитализација браунфилд локација за покретање привредних активости"]
[null,"1501-0002  Мере активне политике запошљавања","ПА_15",null,"Повећање броја запослених кроз мере активне политике запошљавања"]
[null,"1501-0003  Подршка економском развоју и промоцији предузетништва","ПА_16",null,"Подстицаји града/општине за развој предузетништва","Успостављање механизама за финансијску подршку производним предузећима и предузетницима/предузетницама који послују на територији града/општине за развој нових производа и проширење производње"]
[null,"1502-0001  Управљање развојем туризма","ПА_17",null,"Повећање квалитета туристичке понуде и услуге"]
[null,"1502-0002  Промоција туристичке понуде","ПА_18",null,"Адекватна промоција туристичке понуде града/општине на циљаним тржиштима"]
[null,"0101-0001  Подршка за спровођење пољопривредне политике у локалној заједници","ПА_19",null,"Стварање услова за развој и унапређење пољопривредне производње","Ефикасно управљање пољопривредним земљиштем у државној својини "]
[null,"0101-0002  Мере подршке руралном развоју","ПА_20",null,"Унапређење руралног развоја"]
[null,"0401-0001  Управљање заштитом животне средине","ПА_21",null,"Испуњење обавеза у складу са законима у домену постојања стратешких и оперативних планова као и мера заштите"]
[null,"0401-0002  Праћење квалитета елемената животне средине","ПА_22",null,"Праћење у складу са прописаним законским обавезама","Контрола квалитета  елемената животне средине"]
[null,"0401-0003  Заштита природе","ПА_23",null,"Унапређење заштите природних вредности"]
[null,"0401-0004  Управљање отпадним водама","ПА_24",null,"Максимална могућа покривеност корисника и територије услугама уклањања отпадних вода","Адекватан квалитет пружених услуга одвођења отпадних вода","Ефикасно и рационално спровођење уклањања отпадних вода и минималан негативан утицај на животну средину"]
[null,"0401-0005  Управљање комуналним отпадом   ","ПА_25",null,"Спровођење редовних мерења на територији града/општине и испуњење обавеза у складу са законима "]
[null,"0401-0006  Управљање осталим врстама отпада","ПА_26",null,"Одрживо управљање осталим врстама отпада"]
[null,"0701-0002  Управљање и одржавање саобраћајне инфраструктуре","ПА_27",null,"Одржавање квалитета путне мреже кроз реконструкцију и  редовно одржавање асфалтног покривача","Одржавање квалитета улица кроз реконструкцију и редовно одржавање асфалтног покривача","Опремање и одржавање саобраћајне сигнализације на путевима и улицама"]
[null,"0701-0004  Јавни градски и приградски превоз путника","ПА_28",null,"Максимална могућа покривеност корисника и територије услугама јавног превоза","Адекватан квалитет пружених услуга јавног превоза ","Ефикасно и рационално спровођење јавног превоза и минималан негативан утицај на животну средину"]
[null,"2001-0001  Функционисање и остваривање предшколског васпитања и образовања","ПА_29",null,"Обезбеђени адекватни  услови за Васпитно-образовни рад са децом уз повећан обухват","Унапређење квалитета предшколског образовања и васпитања "]
[null,"2002-0001  Функционисање основних школа","ПА_30",null,"Обезбеђени прописани услови за васпитно-образовни рад са децом у основним школама","Унапређење квалитета образовања и васпитања у основним школама","Повећање доступности и приступачности основног образовања деци"]
[null,"2003-0001  Функционисање средњих школа","ПА_31",null,"Обезбеђени прописани услови за васпитно-образовни рад у средњим школама и безбедно одвијање наставе","Унапређење квалитета образовања у средњим школама"]
[null,"0901-0001  Једнократне помоћи и други облици помоћи","ПА_32",null,"Унапређење заштите сиромашних"]
[null,"0901-0002  Породични и домски смештај, прихватилишта и друге врсте смештаја","ПА_33",null,"Обезбеђење услуге смештаја"]
[null,"0901-0003  Дневне услуге у заједници","ПА_34",null,"Подстицање развоја разноврсних социјалних  и других услуга у заједници","Унапређење доступности и ефикасности дневних услуга у заједници за стара лица","Унапређење доступности и ефикасности дневних услуга у заједници за особе са инвалидитетом"]
[null,"0901-0004  Саветодавно-терапијске и социјално-едукативне услуге","ПА_35",null,"Подршка развоју мреже услуга  социјалне заштите предвиђене Одлуком о социјалној заштити и Законом о социјалној заштити"]
[null,"0901-0005  Подршка реализацији програма Црвеног крста","ПА_36",null,"Социјално деловање - олакшавање људске патње пружањем неопходне ургентне помоћи лицима у невољи, развијањем солидарности међу људима, организовањем различитих облика помоћи"]
[null,"0901-0006  Подршка деци и породицама са децом","ПА_37",null,"Обезбеђивање финансијске подршке за децу и породицу","Унапређење популационе политике","Унапређење услуга социјалне заштите за децу и породицу"]
[null,"0901-0007  Подршка рађању и родитељству","ПА_38",null,"Подршка породицама да остваре жељени број деце"]
[null,"0901-0008  Подршка особама са инвалидитетом","ПА_39",null,"Обезбеђивање услуга социјалне заштите за старије и одрасле са инвалидитетом"]
[null,"1801-0001  Функционисање установа примарне здравствене заштите","ПА_40",null,"Унапређење доступности, квалитета и ефикасности примарне здравствене заштите"]
[null,"1801-0002  Мртвозорство","ПА_41"]
[null,"1801-0003  Спровођење активности  из области друштвене бриге за јавно здравље","ПА_42",null,"Стварање услова за очување и унапређење здравља становништва"]
[null,"1201-0001  Функционисање локалних установа културе ","ПА_43",null,"Обезбеђење редовног функционисања установа културе"]
[null,"1201-0002  Јачање културне продукције и уметничког стваралаштва","ПА_44",null,"Повећање учешћа грађана у културној продукцији и уметничком стваралаштву","Унапређење разноврсности  културне понуде"]
[null,"1201-0003  Унапређење система очувања и представљања културно-историјског наслеђа","ПА_45",null,"Очувања и заштита културног наслеђа","Унапређење презентације културног наслеђа"]
[null,"1201-0004  Остваривање и унапређивање јавног интереса у области јавног информисања  ","ПА_46",null,"Повећана понуда квалитетних медијских садржаја из области друштвеног живота локалне заједнице"]
[null,"1201-0005  Унапређење јавног информисања на језицима националних мањина","ПА_47",null,"Унапређење права националних мањина за информисање на сопственом језику"]
[null,"1201-0006  Унапређење јавног информисања особа са инвалидитетом","ПА_48",null,"Унапређење права особа са инвалидитетом  за информисање на сопственом језику"]
[null,"1301-0004  Функционисање локалних спортских установа","ПА_49",null,"Обезбеђивање услова за рад установа из области спорта"]
[null,"1301-0002  Подршка предшколском и школском спорту","ПА_50",null,"Унапређење предшколског и школског спорта","Повећање учешћа девојчица у спортским активностима"]
[null,"1301-0001  Подршка локалним спортским организацијама, удружењима и савезима","ПА_51",null,"Унапређење подршке локалним спортским организацијама  преко којих се остварује јавни интерес у области спорта","Унапређење рекреативног спорта"]
[null,"1301-0005  Спровођење омладинске политике  ","ПА_52",null,"Подршка активном укључивању младих у различите друштвене активности"]
[null,"0602-0001  Функционисање локалне самоуправе и градских општина","ПА_53",null,"Функционисање управе"]
[null,"0602-0002  Функционисање месних заједница","ПА_54",null,"Обезбеђено задовољавање потреба и интереса локалног становништва деловањем месних заједница"]
[null,"0602-0003  Сервисирање јавног дуга","ПА_55",null,"Одржавање финансијске стабилности града/општине и финансирање капиталних инвестиционих расхода "]
[null,"0602-0004  Општинско/градско правобранилаштво","ПА_56",null,"Заштита имовинских права и интереса  града/општине "]
[null,"0602-0005  Омбудсман","ПА_57",null,"Обезбеђена заштита права грађана пред управом и јавним службама  града/општине  и контрола над повредама прописа и општих аката  града/општине "]
[null,"0602-0006  Инспекцијски послови","ПА_58",null,"Квалитетно обављање инспекцијских послова"]
[null,"0602-0007  Функционисање националних савета националних мањина","ПА_59",null,"Остваривање права националних мањина у локалној заједници"]
[null,"0602-0009  Текућа буџетска резерва","ПА_60"]
[null,"0602-0010  Стална буџетска резерва","ПА_61"]
[null,"0602-0011  Робне резерве","ПА_62"]
[null,"0602-0014  Управљање у ванредним ситуацијама","ПА_63",null,"Изградња ефикасног превентивног система заштите и спасавања на избегавању последица елементарних и других непогода"]
[null,"2101-0001  Функционисање Скупштине","ПА_64",null,"Функционисање локалне скуштине"]
[null,"2101-0002  Функционисање извршних органа","ПА_65",null,"Функционисање извршних органа"]
[null,"2101-0003  Подршка раду извршних органа власти и скупштине","ПА_66",null,"Функционисање извршних органа власти скуштине"]
[null,"0501-0001  Енергетски менаџмент","ПА_67",null,"Успостављање система енергетског менаџмента ","Фунционисање система енергетског менаџмента"]
[]
[]
[]
[]
[]
[]
[]
[]
[]
[]
[]
[]
[]
[]
[]
[]
[]
[null,"Повећање покривености територије планском и урбанистичком документацијом","ПАЦ_1","Усвојен просторни план града/општине","Број усвојених планова генералне регулације у односу на број предвиђених планова вишег реда ","Проценат површине покривен плановима детаљне регулације "]
[null,"Ефикасно администрирање захтева за издавање грађевинских дозвола (ефикасно издавање грађевинских дозвола)","ПАЦ_2","Проценат издатих грађевинских дозвола у односу на број поднесених захтева","Просечно потребно време за издавање грађевинских дозвола (у данима, од дана када је поднета комплетна документација)"]
[null,"Ефикасан процес озакоњења","ПАЦ_3","Проценат решених захтева за озакоњења","Укупан број озакоњених објеката у години"]
[null,"Стављање у функцију грађевинског земљишта","ПАЦ_4","Површина земљишта датог у закуп ","Број локација комунално опремљеног земљишта "]
[null,"Планско управљање стамбеном подршком","ПАЦ_5","Број корисника стамбене подршке ","Број станова у јавној својини у режиму непрофитног закупа"]
[null,"Очување и унапређење стамбеног фонда","ПАЦ_6","Број склопљених уговора о бесповратном суфинансирању  активности на инвестиционом одржавању и унапређењу својстава зграде"]
[null,"Адекватнo управљање јавним осветљењем","ПАЦ_7","Укупан број интервенција по поднетим иницијативама грађана за замену светиљки када престану да раде","Укупан број замена светиљки након пуцања лампи (на годишњој бази)"]
[null,"Ефикасно и рационално спровођење јавног осветљења и минималан негативан утицај на животну средину","ПАЦ_8","Укупан број светиљки које су замењене савременијим (кумулативно из године у годину)","Удео енергетски ефикасних сијалица у укупном броју сијалица јавног осветљења"]
[null,"Максимална могућа покривеност насеља и територије услугама уређења и одржавања зеленила","ПАЦ_9","Број м2 јавних зелених површина на којима се уређује и одржава зеленило у односу на укупан број м2  зелених површина","Укупна дужина дрвореда ( у метрима)"]
[null,"Адекватан квалитет пружених услуга уређења и одржавања јавних зелених површина","ПАЦ_10","Динамика уређења јавних зелених површина ","Број извршених инспекцијских контрола"]
[null,"Максимална могућа покривеност насеља и територије услугама одржавања чистоће јавних површина","ПАЦ_11","Степен покривености територије услугама одржавања чистоће јавно-прометних површина (број улица које се чисте у односу на укупан број улица у граду/општини)"]
[null,"Унапређење заштите од заразних и других болести које преносе животиње","ПАЦ_12","Број ухваћених и збринутих паса и мачака луталица ","Јавне површине на којима је рађена дератизација (у км2)","Број пријављених уједа од паса и мачака луталица од стране оштећених "]
[null,"Унапређење заштите од заразних и других болести које преносе инсекти","ПАЦ_13","Јавне површине на којима је рађена дезинсекција (у км2)","Број извршених запрашивања за сузбијање комараца и крпеља "]
[null,"Адекватан квалитет пружених услуга уређивања, одржавања и коришћења пијаца","ПАЦ_14","Број опремљених пијачних места у односу на укупан број пијачних места предвиђених у складу са градском/општинском одлуком"]
[null,"Адекватан квалитет пружених услуга одржавања гробаља и погребних услуга","ПАЦ_15","Број интервенција у односу на укупан број  поднетих иницијатива грађана за чишћење и одржавање гробаља"]
[null,"Оптимална покривеност корисника и територије услугама даљинског грејања и развој дистрибутивног система","ПАЦ_16","Степен покривености корисника услугом  даљинског грејања (број услужених домаћинстава у односу на укупни број домаћинстава у граду/општини)"]
[null,"Адекватан квалитет пружених услуга  уз рационално спровођење даљинског грејања ","ПАЦ_17","Укупан број притужби грађана на квалитет и редовност пружене услуге  даљинског грејања","Проценат корисника код којих се обрачун врши по утрошеној топлотној енергији"]
[null,"Ефикасно и рационално спровођење  даљинског грејања и минималан негативан утицај на животну средину","ПАЦ_18","Просечна цена грејања по утрошеној топлотној енергији","Однос произведене и испоручене топлотне енергије ","Степен произведене топлотне енергије из обновљивих извора у односу на укупну произведену топлотну енергију "]
[null,"Адекватан квалитет пружених услуга водоснабдевања","ПАЦ_19","Број кварова по км водоводне мреже"]
[null,"Унапређење административних поступака и развој адекватних сервиса и услуга  за пружање подршке постојећој привреди","ПАЦ_20","Број унапређених процедура ради лакшег пословања привреде на локалном нивоу","Број предузећа која су користила услуге и сервисе града / општине у односу на укупан број предузећа","Број  пројеката за унапређење инвестиионог амбијента на 1000 становника"]
[null,"Успостављање функционалне  пословне инфраструктуре ","ПАЦ_21","Број корисника технолошких паркова, бизнис инкубатора и сл.","Степен искоришћености земљишта/простора у индустријским зонама"]
[null,"Ревитализација браунфилд локација за покретање привредних активости","ПАЦ_22","Степен искоришћености ревитализованих браунфилд локација"]
[null,"Повећање броја запослених кроз мере активне политике запошљавања","ПАЦ_23","Број новозапослених кроз реализацију мера активне политике запошљавања","Број новозапослених жена кроз реализацију мера активне политике запошљавања","Број новозапослених особа старијих од 50 година кроз реализацију мера активне политике запошљавања"]
[null,"Подстицаји града/општине за развој предузетништва","ПАЦ_24","Број новооснованих предузетничких радњи (разврстаних  по полу власника) на територији града/општине уз учешће подстицаја локалне самоуправе у односу на укупан број новооснованих предузетничких радњи.","Број новооснованих предузећа на територији града/општине уз учешће подстицаја локалне самоуправе у односу на укупан број новооснованих предузећа.","Број подржаних извозно орјентисаних малих и средњих предузећа и предузетника (МСПП)","Број подржаних пројеката који промовишу предузетништво"]
[null,"Успостављање механизама за финансијску подршку производним предузећима и предузетницима/предузетницама који послују на територији града/општине за развој нових производа и проширење производње","ПАЦ_25","Број нових производа развијених уз финансијску подршку","Број новозапослених радника/радница уз помоћ успостављеног механизма за обуку радне снаге за познатог послодавца и за специфичне производне процесе","Број реализованих професионалних радних пракси уз финансијску подршку града/општине","Број подржаних МСПП који су модернизовали и/или проширили своје капацитете (број МСПП где су жене власнице) "]
[null,"Повећање квалитета туристичке понуде и услуге","ПАЦ_26","Број уређених и на адекватан начин обележених (туристичка сигнализација) туристичких локалитета у граду/општини у оносу на укупан број локалитета","Проценат реализације програма развоја туризма града/општине у односу на годишњи план"]
[null,"Адекватна промоција туристичке понуде града/општине на циљаним тржиштима","ПАЦ_27","Број догађаја који промовишу туристичку понуду града/општине у земљи и/или иностранству на којима учествује ТО града/општине","Број  дистрибуираног пропагандног материјала","Број одржаних промотивних акција са  партнерским организацијама "]
[null,"Стварање услова за развој и унапређење пољопривредне производње","ПАЦ_28","Број регистрованих пољопривредних газдинстава која су корисници кредитне подршке у односу на укупан број пољопривредних газдинстава","Број регистрованих пољопривредних газдинстава која су корисници директног плаћања у односу на укупан број пољопривредних газдинстава","Број едукација намењених пољопривредним произвођачима на територији града/општине","Број учесника едукација"]
[null,"Ефикасно управљање пољопривредним земљиштем у државној својини ","ПАЦ_29","Проценат обухваћености пољопривредног земљишта у годишњем Програму заштите, уређења и  коришћења пољопривредног земљишта "]
[null,"Унапређење руралног развоја","ПАЦ_30","Проценат коришћења  пољопривредног земљишта обухваћених годишњим програмом, у односу на укупне расположиве пољопривредне површине ","Број регистрованих пољопривредних газдинстава која су корисници мера руралног развоја у односу на укупан број пољопривредних газдинстава "]
[null,"Испуњење обавеза у складу са законима у домену постојања стратешких и оперативних планова као и мера заштите","ПАЦ_31","Усвојен програм заштите животне средине са акционим планом ","Усвојен План квалитета ваздуха","Усвојен Акциони план заштите од буке"]
[null,"Праћење у складу са прописаним законским обавезама","ПАЦ_32","Проценат правних лица која достављају податке за локални регистар у односу на укупан број правних лица која су обавезна да достављају податке","Број урађених мониторинга"]
[null,"Контрола квалитета  елемената животне средине","ПАЦ_33","Број извршених инспекцијских надзора над спровођењем мера заштите ваздуха од загађивања у објектима за које надлежни орган града/општине (и/или АП) издаје одобрење за градњу, односно употребну дозволу у односу на укупан број ових објеката","Број инспекцијских надзора над спровођењем мера заштите од буке за постројења и активности за које интегрисану дозволу издаје надлежни орган града/општине у односу на укупан број ових постројења","Број извршених инспекцијских надзора над изворима зрачења за које одобрење за изградњу и почетак рада издаје надлежни орган града/општине у односу на укупан број ових извора"]
[null,"Унапређење заштите природних вредности","ПАЦ_34","Проценат територије под заштитом III категорије","Број подручја која су проглашена заштићеним подручјем III категорије"]
[null,"Максимална могућа покривеност корисника и територије услугама уклањања отпадних вода","ПАЦ_35","Проценат домаћинстава обухваћених услугом у односу на укупан број домаћинстава","Проценат покривености територије услугама прикупљања и одвођења отпадних вода (мерено кроз број насеља у односу на укупан број насеља)"]
[null,"Адекватан квалитет пружених услуга одвођења отпадних вода","ПАЦ_36","Број интервенција  на канализационој мрежи"]
[null,"Ефикасно и рационално спровођење уклањања отпадних вода и минималан негативан утицај на животну средину","ПАЦ_37","Однос пречишћених отпадних вода у односу на укупну количину ","Продајна цена испуштене воде по м3"]
[null,"Спровођење редовних мерења на територији града/општине и испуњење обавеза у складу са законима ","ПАЦ_38","Број извршених контрола или надзора мера поступања са отпадом  у складу са Законом о управљању отпадом","Број спроведених мерења количина комуналног отпада у складу са Законом о управљању отпадом"]
[null,"Одрживо управљање осталим врстама отпада","ПАЦ_39","Број очишћених „дивљих“ депонија ","Количина прикупљеног осталог отпада"]
[null,"Одржавање квалитета путне мреже кроз реконструкцију и  редовно одржавање асфалтног покривача","ПАЦ_40","Проценат санираних путева од укупне дужине путне мреже која захтева санацију и/или реконструкцију ","Број километара санираних и/или реконструисаних путева","Износ трошкова одржавања путева по км "]
[null,"Одржавање квалитета улица кроз реконструкцију и редовно одржавање асфалтног покривача","ПАЦ_41","Проценат од укупне дужине улица која захтева санацију и/или реконструкцију ","Број километара санираних и/или реконструисаних улица","Износ трошкова одржавања улица по км "]
[null,"Опремање и одржавање саобраћајне сигнализације на путевима и улицама","ПАЦ_42","Број поправљених и новопостављених саобраћајних знакова и семафора ","Дужина хоризонталне саобраћајне сигнализације (у км)"]
[null,"Максимална могућа покривеност корисника и територије услугама јавног превоза","ПАЦ_43","Проценат покривености грађана услугом  јавног превоза (број грађана који живе у насељима где постоји организован јавни превоз односу на укупни број грађана у граду/општини)","Проценат покривености територије услугом јавног превоза (мерено кроз број насеља где постоји организован јавни превоз у односу на укупан број насеља)"]
[null,"Адекватан квалитет пружених услуга јавног превоза ","ПАЦ_44","Просечна старост возила јавног превоза"]
[null,"Ефикасно и рационално спровођење јавног превоза и минималан негативан утицај на животну средину","ПАЦ_45","Број превезених путника у јавном превозу на годишњем нивоу","Проценат возила која користе обновљиве изворе"]
[null,"Обезбеђени адекватни  услови за Васпитно-образовни рад са децом уз повећан обухват","ПАЦ_46","Просечан број деце у групи (јасле, предшколски, припремни предшколски програм/ппп)","Просечан број деце по васпитачу/васпитачици (јасле, предшколски, припремни предшколски програм)","Процент деце ослобођене од пуне цене услуге у односу на укупан број деце"]
[null,"Унапређење квалитета предшколског образовања и васпитања ","ПАЦ_47","Број  посебних и специјалних програма у објекту предшколске установе","Проценат стручних сарадника који су добили најмање 24 бода за стручно усавршавање кроз учешће на семинарима на годишњем нивоу у односу на укупан број стручних сарадника ","Број објеката у којима су извршена инвестициона улагања на годишњем нивоу, у односу на укупан број објеката ПУ"]
[null,"Обезбеђени прописани услови за васпитно-образовни рад са децом у основним школама","ПАЦ_48","Просечан број ученика по одељењу (разврстани по полу)","Проценат школа у којима је надлежна инспекција (санитарна за хигијену, грађевинска за грађевинске услове и инспрекција заштите која котролише безбедност и здравље на раду) констатовала неиспуњење основних критериијума"]
[null,"Унапређење квалитета образовања и васпитања у основним школама","ПАЦ_49","Број ученика који похађају ваннаставне активности/у односу на укупан број ученика","Број стручних лица која су добила најмање 24 бода за стручно усавршавање кроз учешће на семинарима на годишњем нивоу","Број талентоване деце подржане од стране града/општине у односу на укупан број деце у школама","Број деце која се образују по ИОП3"]
[null,"Повећање доступности и приступачности основног образовања деци","ПАЦ_50","Проценат деце којој је обезбеђена бесплатна исхрана у односу на укупан број деце ","Проценат деце којој је обезбеђен бесплатан школски превоз у односу на укупан број деце (у складу са ЗОСОВ)","Проценат објеката прилагођених деци са инвалидитетом и посебним потребама "]
[null,"Обезбеђени прописани услови за васпитно-образовни рад у средњим школама и безбедно одвијање наставе","ПАЦ_51","Просечан број ученика по одељењу","Проценат школа у којима је надлежна инспекција (санитарна за хигијену, грађевинска за грађевинске услове и инспекција заштите која контролише безбедност и здравље на раду) констатовала неиспуњење основних критеријума"]
[null,"Унапређење квалитета образовања у средњим школама","ПАЦ_52","Број ученика који похађају ваннаставне активности/у односу на укупан број ученика","Број запослених који су добили најмање 24 бода за стручно усавршавање кроз учешће на семинарима на годишњем нивоу","Број талентоване деце подржане од стране града/општине у односу на укупан број деце у школама","Број деце која се образују по ИОП3"]
[null,"Унапређење заштите сиромашних","ПАЦ_53","Проценат грађана који добијају новчане накнаде и помоћ у натури у складу са Одлуком о социјалној заштити у односу на укупан број грађана ","Број корисника једнократне новчане помоћи у односу на укупан број грађана (нпр. набавка огрева и сл.) у односу на укупан број грађана","Број грађана - корисника других мера материјалне подршке ","Број грађана - корисника субвенција (нпр. комуналних услуга, услуга  превоза) у односу на укупан број грађана"]
[null,"Обезбеђење услуге смештаја","ПАЦ_54","Број корисника услуга смештаја прихватилишта","Број корисника других услуга смештаја","Просечан број дана по кориснику услуге"]
[null,"Подстицање развоја разноврсних социјалних  и других услуга у заједници","ПАЦ_55","Број удружења / хуманитарних организација које добијају средства из буџета града/општине"]
[null,"Унапређење доступности и ефикасности дневних услуга у заједници за стара лица","ПАЦ_56","Број програма које реализују ове организације","Удео броја еквивалентних корисника по моделу интензивног пружања услуге у броју становника старијих од 65 година","Јединични трошкови по сату"]
[null,"Унапређење доступности и ефикасности дневних услуга у заједници за особе са инвалидитетом","ПАЦ_57","Број еквивалентних корисника по моделу интензивног пружања услуге на 1000 становника радног узраста","Јединични трошкови по сату"]
[null,"Подршка развоју мреже услуга  социјалне заштите предвиђене Одлуком о социјалној заштити и Законом о социјалној заштити","ПАЦ_58","Број услуга социјалне заштите предвиђених Одлуком о социјалној заштити -  укупно","Број корисника услуга у заједници у односу на укупан број грађана ","Број корисника саветодавно-терапијских и социо - едукативних услуга у заједници "]
[null,"Социјално деловање - олакшавање људске патње пружањем неопходне ургентне помоћи лицима у невољи, развијањем солидарности међу људима, организовањем различитих облика помоћи","ПАЦ_59","Број акција на прикупљању различитих  врста  помоћи ","Број дистрибуираних пакета за социјално угрожено становништво","Број корисника народне кухиње ( или број подељених оброка у народној кухињи)","Број волонтера Црвеног крста "]
[null,"Обезбеђивање финансијске подршке за децу и породицу","ПАЦ_60","Број деце која примају финансијску подршку у  односу на укупан број деце у граду/општини"]
[null,"Унапређење популационе политике","ПАЦ_61","Број мера материјалне подршке намењен мерама локалне популационе политике (нпр. подршка материнству, подршка породиљама, накнада за новорођену децу)"]
[null,"Унапређење услуга социјалне заштите за децу и породицу","ПАЦ_62","Број услуга","Број корисника услуга"]
[null,"Подршка породицама да остваре жељени број деце","ПАЦ_63","Број деце корисника давања у укупном броју рођене деце ","Просечан износ давања за мере подршке рађању по рођеном детету"]
[null,"Обезбеђивање услуга социјалне заштите за старије и одрасле са инвалидитетом","ПАЦ_64","Број услуга","Број корисника услуга"]
[null,"Унапређење доступности, квалитета и ефикасности примарне здравствене заштите","ПАЦ_65","Број обраћања саветнику за заштиту права пацијената","Број здравствених радника/сарадника подржаних едукативним програмима","Проценат реализације планова инвестирања у објекте и опрему установа примарне здравствене заштите ","Број становника обухваћених промотивно превентивним активностима у односу на укупан број становника","Број здравствених радника/лекара финансираних из буџета града/општине"]
[null,"Стварање услова за очување и унапређење здравља становништва","ПАЦ_66","Проценат реализованих у односу на планираних посебних програма и пројеката из области јавног здравља","Број посебних програма и пројеката из области јавног здравља","Број становника обухваћених посебним програмима и пројектима из области јавног здравља (може и по категоријама становништва)"]
[null,"Обезбеђење редовног функционисања установа културе","ПАЦ_67","Број запослених у установама културе у односу на укупан број запослених у ЈЛС"]
[null,"Повећање учешћа грађана у културној продукцији и уметничком стваралаштву","ПАЦ_68","Број грађана који су учествовали у програмима културне продукције уметничког стваралаштва \nБрој грађана из осетљивих група који су учествовали у програмима културне продукције уметничког стваралаштва\nБрој програма и пројеката удружења грађана подржаних од стране града/општине\n","Број грађана из осетљивих група који су учествовали у програмима културне продукције уметничког стваралаштва"]
[null,"Унапређење разноврсности  културне понуде","ПАЦ_69","Број програма и пројеката удружења грађана подржаних од стране града/општине","Број програма и пројеката подржаних од стране града/општине намењених осетљивим друштвеним групама"]
[null,"Очувања и заштита културног наслеђа","ПАЦ_70","Број пројеката за очување и заштиту културног наслеђа у надлежности ЈЛС са комплетном пројектно-техничком документацијом за рехабилитацију","Проценат споменика културе код којих су на годишњем нивоу извршена улагања у односу на укупан број споменика културе у надлежности ЈЛС"]
[null,"Унапређење презентације културног наслеђа","ПАЦ_71","Број реализованих програма који промовишу локално културно наслеђе у односу на број планираних програма ","Број посетилаца реализованих програма/манифестација по становнику","Број публикација о културном наслеђу по становнику"]
[null,"Повећана понуда квалитетних медијских садржаја из области друштвеног живота локалне заједнице","ПАЦ_72","Број програмских садржаја подржаних на конкурисма јавног информисања","Број различитих тематских типова програма за боље информисање "]
[null,"Унапређење права националних мањина за информисање на сопственом језику","ПАЦ_73","Број медијских садржаја подржаних на конкурисма јавног информисања на језицима националних мањина ","Број пројеката/програма мултијезичког карактера "]
[null,"Унапређење права особа са инвалидитетом  за информисање на сопственом језику","ПАЦ_74","Број медијских садржаја садржаја у форматима приступачним за ОСИ (знаковни језик, синтетизатор гласа и Брајево писмо)  "]
[null,"Обезбеђивање услова за рад установа из области спорта","ПАЦ_75","Број програма које реализују установе из области спорта","Број спортских организација који користе услуге установе из области спорта","Број одржаних спортских приредби у установама из области спорта","Степен искоришћења капацитета установа"]
[null,"Унапређење предшколског и школског спорта","ПАЦ_76","Број објеката који је доступан за коришћење предшколском, школском спорту","Просечан број  сати у години када су постојећи објекти доступни предшколском, школском спорту","Број програма којима се реализују активности школског спорта","Проценат деце која су укључена у школска такмичења у односу на укупан број деце ","Број деце укључен у спортске активности у односу на укупан број школске деце"]
[null,"Повећање учешћа девојчица у спортским активностима","ПАЦ_77","Број девојчица укључен у спортске активности у односу на укупан број школске деце","Проценат девојчица које су укључене у школска такмичења у односу на укупан број девојчица"]
[null,"Унапређење подршке локалним спортским организацијама  преко којих се остварује јавни интерес у области спорта","ПАЦ_78","Број посебних програма спортских организација финансираних од стране града/општине","Број годишњих програма спортских организација финансираних од стране града/општине","Број стипендираних категорисаних спортиста"]
[null,"Унапређење рекреативног спорта","ПАЦ_79","Број програма којима се реализују активности из рекреативног спорта","Број програма за вежбање старих особа и особа са инвалидитетом","Број програма омасовљења женског спорта"]
[null,"Подршка активном укључивању младих у различите друштвене активности","ПАЦ_80","Број младих корисника услуга мера омладинске политике","Број младих жена корисника услуга "]
[null,"Функционисање управе","ПАЦ_81","Број решених предмета по запосленом ","Проценат решених  предмета у календарској години (у законском року, ван законског рока)","Проценат попуњености радних места која подразумевају вођење управног поступка"]
[null,"Обезбеђено задовољавање потреба и интереса локалног становништва деловањем месних заједница","ПАЦ_82","Број иницијатива /предлога месних заједница према граду/општини у вези са питањима од интереса за локално становништво"]
[null,"Одржавање финансијске стабилности града/општине и финансирање капиталних инвестиционих расхода ","ПАЦ_83","Учешће издатака за сервисирање дугова у текућим приходима ≤ 15%","Удео дугорочних дугова за финансирање капиталних инвестиционих расхода у укупном јавног дугу града/општине"]
[null,"Заштита имовинских права и интереса  града/општине ","ПАЦ_84","Број решених предмета у односу на укупан број предмета на годишњем нивоу","Број правних мишљења која су дата органима  града/општине, стручним службама и другим правним лицима чија имовинска и друга права заступа "]
[null,"Обезбеђена заштита права грађана пред управом и јавним службама  града/општине  и контрола над повредама прописа и општих аката  града/општине ","ПАЦ_85","Број грађана чија су права заштићена кроз поступак пред заштитником грађана у односу на укупан број поступака","Број усвојених препорука заштитника грађана упућених управи и јавним службама града/општине у односу на укупан број препорука "]
[null,"Квалитетно обављање инспекцијских послова","ПАЦ_86","Број решених предмета грађана у односу на број примљених предмета "]
[null,"Остваривање права националних мањина у локалној заједници","ПАЦ_87","Проценат остварења програма националних мањина који се финансира из буџета града/општине","Број реализованих пројеката националних мањина"]
[null,null,"ПАЦ_88"]
[null,null,"ПАЦ_89"]
[null,null,"ПАЦ_90"]
[null,null,"ПАЦ_91"]
[null,"Изградња ефикасног превентивног система заштите и спасавања на избегавању последица елементарних и других непогода","ПАЦ_92","Број идентификованих објеката критичне инфраструктуре (нпр. трафо станице)"]
[null,"Функционисање локалне скуштине","ПАЦ_93","Број усвојених аката ","Број седница скупштине","Број седница сталних радних тела "]
[null,"Функционисање извршних органа","ПАЦ_94","Број усвојених аката","Број седница извршних органа","Број донетих аката "]
[null,"Функционисање извршних органа власти скуштине","ПАЦ_95","Број припремљених седница"]
[null,"Успостављање система енергетског менаџмента ","ПАЦ_96","Постојање енергетског менаџера","Израђен попис јанвих зграда са карактеристикама","Израђен енергетски биланс"]
[null,"Фунционисање система енергетског менаџмента","ПАЦ_97","Број израђених годишњих енергетских биланса","Постојање локалне одлуке о енергетској ефикасности "]
[]
[]
[]
[]
[]
[]
[]
[]
[]
[]
[]
[]
[]
[]
[]
[]
[]
[]
[]
[]
[]
[]
[]
[]
[]
[]
[]
[]
[]
[]
[]
[]
[]
[]
[]
[]
[]
[]
[]
[null,"Програм 1.  Становање, урбанизам и просторно планирање","Урбанизам и просторно планирање"]
[null,"Програм 2.  Комуналне делатности","Урбанизам и просторно планирање"]
[null,"Програм 3.  Локални економски развој","Економска и развојна политика"]
[null,"Програм 4.  Развој туризма","Економска и развојна политика"]
[null,"Програм 5.  Пољопривреда и рурални развој","Пољопривреда и рурални развој"]
[null,"Програм 6.  Заштита животне средине","Заштита животне средине"]
[null,"Програм 7.  Организација саобраћаја и саобраћајна инфраструктура","Саобраћај и саобраћајна инфраструктура"]
[null,"Програм 8.  Предшколско васпитање и образовање","Образовање"]
[null,"Програм 9.  Основно образовање и васпитање","Образовање"]
[null,"Програм 10.  Средње образовање и васпитање","Образовање"]
[null,"Програм 11.  Социјална и дечја заштита","Социјална заштита"]
[null,"Програм 12.  Здравствена заштита","Здравствена заштита"]
[null,"Програм 13.  Развој културе и информисања","Култура, комуникације и медији"]
[null,"Програм 14.  Развој спорта и омладине","Спорт и омладина"]
[null,"Програм 15.  Опште услуге локалне самоуправе","Опште услуге јавне управе"]
[null,"Програм 16.  Политички систем локалне самоуправе","Политички систем "]
[null,"Програм 17.  Енергетска ефикасност и обновљиви извори енергије","Енергетика"]
[]
[null,null,null,null,null,"rashodi 2015",null,"rashodi 2016",null,"rashodi 2017",null,"rashodi 2018",null,"rashodi 2019"]
[null,null,null,"Списак програмских активности и пројеката у оквиру програма",null,"budzetska","ostalo","budzetska","ostalo ","budzetska","ostalo ","budzetska","ostalo ","budzetska","ostalo "]
[null,1,{"$f":"IF(P377>0,MAX($C$375:C376)+1,\"\")","v":""},{"$f":"IF(ISERROR(INDEX(WS,ROWS($B$377:$B377))),\"\",MID(INDEX(WS,ROWS($B$377:$B377)), FIND(\"]\",INDEX(WS,ROWS($B$377:$B377)))+1,32))&T(NOW())","v":""},{"$f":"IF($D377<>\"\",INDIRECT(\"'\"&$D377&\"'\"&\"!y5\"),\"\")","v":""},{"$f":"IF($D377<>\"\",INDIRECT(\"'\"&$D377&\"'\"&\"!z5\"),\"\")","v":""},{"$f":"IF($D377<>\"\",INDIRECT(\"'\"&$D377&\"'\"&\"!aa5\"),\"\")","v":""},{"$f":"IF($D377<>\"\",INDIRECT(\"'\"&$D377&\"'\"&\"!ab5\"),\"\")","v":""},{"$f":"IF($D377<>\"\",INDIRECT(\"'\"&$D377&\"'\"&\"!ac5\"),\"\")","v":""},{"$f":"IF($D377<>\"\",INDIRECT(\"'\"&$D377&\"'\"&\"!ad5\"),\"\")","v":""},{"$f":"IF($D377<>\"\",INDIRECT(\"'\"&$D377&\"'\"&\"!ae5\"),\"\")","v":""},{"$f":"IF($D377<>\"\",INDIRECT(\"'\"&$D377&\"'\"&\"!af5\"),\"\")","v":""},{"$f":"IF($D377<>\"\",INDIRECT(\"'\"&$D377&\"'\"&\"!ag5\"),\"\")","v":""},{"$f":"IF($D377<>\"\",INDIRECT(\"'\"&$D377&\"'\"&\"!ah5\"),\"\")","v":""},{"$f":"IF($D377<>\"\",INDIRECT(\"'\"&$D377&\"'\"&\"!ai5\"),\"\")","v":""},{"$f":"SUM(F377:O377)","v":0}]
[null,2,{"$f":"IF(P378>0,MAX($C$375:C377)+1,\"\")","v":""},{"$f":"IF(ISERROR(INDEX(WS,ROWS($B$377:$B378))),\"\",MID(INDEX(WS,ROWS($B$377:$B378)), FIND(\"]\",INDEX(WS,ROWS($B$377:$B378)))+1,32))&T(NOW())","v":""},{"$f":"IF($D378<>\"\",INDIRECT(\"'\"&$D378&\"'\"&\"!y5\"),\"\")","v":""},{"$f":"IF($D378<>\"\",INDIRECT(\"'\"&$D378&\"'\"&\"!z5\"),\"\")","v":""},{"$f":"IF($D378<>\"\",INDIRECT(\"'\"&$D378&\"'\"&\"!aa5\"),\"\")","v":""},{"$f":"IF($D378<>\"\",INDIRECT(\"'\"&$D378&\"'\"&\"!ab5\"),\"\")","v":""},{"$f":"IF($D378<>\"\",INDIRECT(\"'\"&$D378&\"'\"&\"!ac5\"),\"\")","v":""},{"$f":"IF($D378<>\"\",INDIRECT(\"'\"&$D378&\"'\"&\"!ad5\"),\"\")","v":""},{"$f":"IF($D378<>\"\",INDIRECT(\"'\"&$D378&\"'\"&\"!ae5\"),\"\")","v":""},{"$f":"IF($D378<>\"\",INDIRECT(\"'\"&$D378&\"'\"&\"!af5\"),\"\")","v":""},{"$f":"IF($D378<>\"\",INDIRECT(\"'\"&$D378&\"'\"&\"!ag5\"),\"\")","v":""},{"$f":"IF($D378<>\"\",INDIRECT(\"'\"&$D378&\"'\"&\"!ah5\"),\"\")","v":""},{"$f":"IF($D378<>\"\",INDIRECT(\"'\"&$D378&\"'\"&\"!ai5\"),\"\")","v":""},{"$f":"SUM(F378:O378)","v":0}]
[null,3,{"$f":"IF(P379>0,MAX($C$375:C378)+1,\"\")","v":""},{"$f":"IF(ISERROR(INDEX(WS,ROWS($B$377:$B379))),\"\",MID(INDEX(WS,ROWS($B$377:$B379)), FIND(\"]\",INDEX(WS,ROWS($B$377:$B379)))+1,32))&T(NOW())","v":""},{"$f":"IF($D379<>\"\",INDIRECT(\"'\"&$D379&\"'\"&\"!y5\"),\"\")","v":""},{"$f":"IF($D379<>\"\",INDIRECT(\"'\"&$D379&\"'\"&\"!z5\"),\"\")","v":""},{"$f":"IF($D379<>\"\",INDIRECT(\"'\"&$D379&\"'\"&\"!aa5\"),\"\")","v":""},{"$f":"IF($D379<>\"\",INDIRECT(\"'\"&$D379&\"'\"&\"!ab5\"),\"\")","v":""},{"$f":"IF($D379<>\"\",INDIRECT(\"'\"&$D379&\"'\"&\"!ac5\"),\"\")","v":""},{"$f":"IF($D379<>\"\",INDIRECT(\"'\"&$D379&\"'\"&\"!ad5\"),\"\")","v":""},{"$f":"IF($D379<>\"\",INDIRECT(\"'\"&$D379&\"'\"&\"!ae5\"),\"\")","v":""},{"$f":"IF($D379<>\"\",INDIRECT(\"'\"&$D379&\"'\"&\"!af5\"),\"\")","v":""},{"$f":"IF($D379<>\"\",INDIRECT(\"'\"&$D379&\"'\"&\"!ag5\"),\"\")","v":""},{"$f":"IF($D379<>\"\",INDIRECT(\"'\"&$D379&\"'\"&\"!ah5\"),\"\")","v":""},{"$f":"IF($D379<>\"\",INDIRECT(\"'\"&$D379&\"'\"&\"!ai5\"),\"\")","v":""},0]
[null,4,{"$f":"IF(P380>0,MAX($C$375:C379)+1,\"\")","v":""},{"$f":"IF(ISERROR(INDEX(WS,ROWS($B$377:$B380))),\"\",MID(INDEX(WS,ROWS($B$377:$B380)), FIND(\"]\",INDEX(WS,ROWS($B$377:$B380)))+1,32))&T(NOW())","v":""},"","","","","","","","","","","",0]
[null,5,{"$f":"IF(P381>0,MAX($C$375:C380)+1,\"\")","v":""},{"$f":"IF(ISERROR(INDEX(WS,ROWS($B$377:$B381))),\"\",MID(INDEX(WS,ROWS($B$377:$B381)), FIND(\"]\",INDEX(WS,ROWS($B$377:$B381)))+1,32))&T(NOW())","v":""},"","","","","","","","","","","",0]
[null,6,{"$f":"IF(P382>0,MAX($C$375:C381)+1,\"\")","v":""},{"$f":"IF(ISERROR(INDEX(WS,ROWS($B$377:$B382))),\"\",MID(INDEX(WS,ROWS($B$377:$B382)), FIND(\"]\",INDEX(WS,ROWS($B$377:$B382)))+1,32))&T(NOW())","v":""},"","","","","","","","","","","",0]
[null,7,{"$f":"IF(P383>0,MAX($C$375:C382)+1,\"\")","v":""},{"$f":"IF(ISERROR(INDEX(WS,ROWS($B$377:$B383))),\"\",MID(INDEX(WS,ROWS($B$377:$B383)), FIND(\"]\",INDEX(WS,ROWS($B$377:$B383)))+1,32))&T(NOW())","v":""},"","","","","","","","","","","",0]
[null,8,{"$f":"IF(P384>0,MAX($C$375:C383)+1,\"\")","v":""},{"$f":"IF(ISERROR(INDEX(WS,ROWS($B$377:$B384))),\"\",MID(INDEX(WS,ROWS($B$377:$B384)), FIND(\"]\",INDEX(WS,ROWS($B$377:$B384)))+1,32))&T(NOW())","v":""},"","","","","","","","","","","",0,{"$f":"IF($D384<>\"\",INDIRECT(\"'\"&$D384&\"'\"&\"!as3\"),\"\")","v":""},{"$f":"IF($D384<>\"\",INDIRECT(\"'\"&$D384&\"'\"&\"!at3\"),\"\")","v":""}]
[null,9,{"$f":"IF(P385>0,MAX($C$375:C384)+1,\"\")","v":""},{"$f":"IF(ISERROR(INDEX(WS,ROWS($B$377:$B385))),\"\",MID(INDEX(WS,ROWS($B$377:$B385)), FIND(\"]\",INDEX(WS,ROWS($B$377:$B385)))+1,32))&T(NOW())","v":""},"","","","","","","","","","","",0,"","",{"$f":"IF($D385<>\"\",INDIRECT(\"'\"&$D385&\"'\"&\"!au3\"),\"\")","v":""},{"$f":"IF($D385<>\"\",INDIRECT(\"'\"&$D385&\"'\"&\"!av3\"),\"\")","v":""},{"$f":"IF($D385<>\"\",INDIRECT(\"'\"&$D385&\"'\"&\"!aw3\"),\"\")","v":""},{"$f":"IF($D385<>\"\",INDIRECT(\"'\"&$D385&\"'\"&\"!ax3\"),\"\")","v":""},{"$f":"IF($D385<>\"\",INDIRECT(\"'\"&$D385&\"'\"&\"!ay3\"),\"\")","v":""},{"$f":"IF($D385<>\"\",INDIRECT(\"'\"&$D385&\"'\"&\"!az3\"),\"\")","v":""},{"$f":"IF($D385<>\"\",INDIRECT(\"'\"&$D385&\"'\"&\"!ba3\"),\"\")","v":""},{"$f":"IF($D385<>\"\",INDIRECT(\"'\"&$D385&\"'\"&\"!bb3\"),\"\")","v":""},{"$f":"IF($D385<>\"\",INDIRECT(\"'\"&$D385&\"'\"&\"!bc3\"),\"\")","v":""},{"$f":"IF($D385<>\"\",INDIRECT(\"'\"&$D385&\"'\"&\"!bd3\"),\"\")","v":""},{"$f":"IF($D385<>\"\",INDIRECT(\"'\"&$D385&\"'\"&\"!as4\"),\"\")","v":""},{"$f":"IF($D385<>\"\",INDIRECT(\"'\"&$D385&\"'\"&\"!at4\"),\"\")","v":""},{"$f":"IF($D385<>\"\",INDIRECT(\"'\"&$D385&\"'\"&\"!au4\"),\"\")","v":""},{"$f":"IF($D385<>\"\",INDIRECT(\"'\"&$D385&\"'\"&\"!av4\"),\"\")","v":""},{"$f":"IF($D385<>\"\",INDIRECT(\"'\"&$D385&\"'\"&\"!aw4\"),\"\")","v":""},{"$f":"IF($D385<>\"\",INDIRECT(\"'\"&$D385&\"'\"&\"!ax4\"),\"\")","v":""},{"$f":"IF($D385<>\"\",INDIRECT(\"'\"&$D385&\"'\"&\"!ay4\"),\"\")","v":""},{"$f":"IF($D385<>\"\",INDIRECT(\"'\"&$D385&\"'\"&\"!az4\"),\"\")","v":""},{"$f":"IF($D385<>\"\",INDIRECT(\"'\"&$D385&\"'\"&\"!ba4\"),\"\")","v":""},{"$f":"IF($D385<>\"\",INDIRECT(\"'\"&$D385&\"'\"&\"!bb4\"),\"\")","v":""},{"$f":"IF($D385<>\"\",INDIRECT(\"'\"&$D385&\"'\"&\"!bc4\"),\"\")","v":""},{"$f":"IF($D385<>\"\",INDIRECT(\"'\"&$D385&\"'\"&\"!bd4\"),\"\")","v":""},{"$f":"IF($D385<>\"\",INDIRECT(\"'\"&$D385&\"'\"&\"!as5\"),\"\")","v":""},{"$f":"IF($D385<>\"\",INDIRECT(\"'\"&$D385&\"'\"&\"!at5\"),\"\")","v":""},{"$f":"IF($D385<>\"\",INDIRECT(\"'\"&$D385&\"'\"&\"!au5\"),\"\")","v":""},{"$f":"IF($D385<>\"\",INDIRECT(\"'\"&$D385&\"'\"&\"!av5\"),\"\")","v":""},{"$f":"IF($D385<>\"\",INDIRECT(\"'\"&$D385&\"'\"&\"!aw5\"),\"\")","v":""},{"$f":"IF($D385<>\"\",INDIRECT(\"'\"&$D385&\"'\"&\"!ax5\"),\"\")","v":""},{"$f":"IF($D385<>\"\",INDIRECT(\"'\"&$D385&\"'\"&\"!ay5\"),\"\")","v":""},{"$f":"IF($D385<>\"\",INDIRECT(\"'\"&$D385&\"'\"&\"!az5\"),\"\")","v":""},{"$f":"IF($D385<>\"\",INDIRECT(\"'\"&$D385&\"'\"&\"!ba5\"),\"\")","v":""},{"$f":"IF($D385<>\"\",INDIRECT(\"'\"&$D385&\"'\"&\"!bb5\"),\"\")","v":""},{"$f":"IF($D385<>\"\",INDIRECT(\"'\"&$D385&\"'\"&\"!bc5\"),\"\")","v":""},{"$f":"IF($D385<>\"\",INDIRECT(\"'\"&$D385&\"'\"&\"!bd5\"),\"\")","v":""},{"$f":"IF($D385<>\"\",INDIRECT(\"'\"&$D385&\"'\"&\"!as6\"),\"\")","v":""},{"$f":"IF($D385<>\"\",INDIRECT(\"'\"&$D385&\"'\"&\"!at6\"),\"\")","v":""},{"$f":"IF($D385<>\"\",INDIRECT(\"'\"&$D385&\"'\"&\"!au6\"),\"\")","v":""},{"$f":"IF($D385<>\"\",INDIRECT(\"'\"&$D385&\"'\"&\"!av6\"),\"\")","v":""},{"$f":"IF($D385<>\"\",INDIRECT(\"'\"&$D385&\"'\"&\"!aw6\"),\"\")","v":""},{"$f":"IF($D385<>\"\",INDIRECT(\"'\"&$D385&\"'\"&\"!ax6\"),\"\")","v":""},{"$f":"IF($D385<>\"\",INDIRECT(\"'\"&$D385&\"'\"&\"!ay6\"),\"\")","v":""},{"$f":"IF($D385<>\"\",INDIRECT(\"'\"&$D385&\"'\"&\"!az6\"),\"\")","v":""},{"$f":"IF($D385<>\"\",INDIRECT(\"'\"&$D385&\"'\"&\"!ba6\"),\"\")","v":""},{"$f":"IF($D385<>\"\",INDIRECT(\"'\"&$D385&\"'\"&\"!bb6\"),\"\")","v":""},{"$f":"IF($D385<>\"\",INDIRECT(\"'\"&$D385&\"'\"&\"!bc6\"),\"\")","v":""},{"$f":"IF($D385<>\"\",INDIRECT(\"'\"&$D385&\"'\"&\"!bd6\"),\"\")","v":""},{"$f":"IF($D385<>\"\",INDIRECT(\"'\"&$D385&\"'\"&\"!as7\"),\"\")","v":""},{"$f":"IF($D385<>\"\",INDIRECT(\"'\"&$D385&\"'\"&\"!at7\"),\"\")","v":""},{"$f":"IF($D385<>\"\",INDIRECT(\"'\"&$D385&\"'\"&\"!au7\"),\"\")","v":""},{"$f":"IF($D385<>\"\",INDIRECT(\"'\"&$D385&\"'\"&\"!av7\"),\"\")","v":""},{"$f":"IF($D385<>\"\",INDIRECT(\"'\"&$D385&\"'\"&\"!aw7\"),\"\")","v":""},{"$f":"IF($D385<>\"\",INDIRECT(\"'\"&$D385&\"'\"&\"!ax7\"),\"\")","v":""},{"$f":"IF($D385<>\"\",INDIRECT(\"'\"&$D385&\"'\"&\"!ay7\"),\"\")","v":""},{"$f":"IF($D385<>\"\",INDIRECT(\"'\"&$D385&\"'\"&\"!az7\"),\"\")","v":""},{"$f":"IF($D385<>\"\",INDIRECT(\"'\"&$D385&\"'\"&\"!ba7\"),\"\")","v":""},{"$f":"IF($D385<>\"\",INDIRECT(\"'\"&$D385&\"'\"&\"!bb7\"),\"\")","v":""},{"$f":"IF($D385<>\"\",INDIRECT(\"'\"&$D385&\"'\"&\"!bc7\"),\"\")","v":""},{"$f":"IF($D385<>\"\",INDIRECT(\"'\"&$D385&\"'\"&\"!bd7\"),\"\")","v":""},{"$f":"IF($D385<>\"\",INDIRECT(\"'\"&$D385&\"'\"&\"!as8\"),\"\")","v":""},{"$f":"IF($D385<>\"\",INDIRECT(\"'\"&$D385&\"'\"&\"!at8\"),\"\")","v":""},{"$f":"IF($D385<>\"\",INDIRECT(\"'\"&$D385&\"'\"&\"!au8\"),\"\")","v":""},{"$f":"IF($D385<>\"\",INDIRECT(\"'\"&$D385&\"'\"&\"!av8\"),\"\")","v":""},{"$f":"IF($D385<>\"\",INDIRECT(\"'\"&$D385&\"'\"&\"!aw8\"),\"\")","v":""},{"$f":"IF($D385<>\"\",INDIRECT(\"'\"&$D385&\"'\"&\"!ax8\"),\"\")","v":""},{"$f":"IF($D385<>\"\",INDIRECT(\"'\"&$D385&\"'\"&\"!ay8\"),\"\")","v":""},{"$f":"IF($D385<>\"\",INDIRECT(\"'\"&$D385&\"'\"&\"!az8\"),\"\")","v":""},{"$f":"IF($D385<>\"\",INDIRECT(\"'\"&$D385&\"'\"&\"!ba8\"),\"\")","v":""},{"$f":"IF($D385<>\"\",INDIRECT(\"'\"&$D385&\"'\"&\"!bb8\"),\"\")","v":""},{"$f":"IF($D385<>\"\",INDIRECT(\"'\"&$D385&\"'\"&\"!bc8\"),\"\")","v":""},{"$f":"IF($D385<>\"\",INDIRECT(\"'\"&$D385&\"'\"&\"!bd8\"),\"\")","v":""},{"$f":"IF($D385<>\"\",INDIRECT(\"'\"&$D385&\"'\"&\"!as9\"),\"\")","v":""},{"$f":"IF($D385<>\"\",INDIRECT(\"'\"&$D385&\"'\"&\"!at9\"),\"\")","v":""},{"$f":"IF($D385<>\"\",INDIRECT(\"'\"&$D385&\"'\"&\"!au9\"),\"\")","v":""},{"$f":"IF($D385<>\"\",INDIRECT(\"'\"&$D385&\"'\"&\"!av9\"),\"\")","v":""},{"$f":"IF($D385<>\"\",INDIRECT(\"'\"&$D385&\"'\"&\"!aw9\"),\"\")","v":""},{"$f":"IF($D385<>\"\",INDIRECT(\"'\"&$D385&\"'\"&\"!ax9\"),\"\")","v":""},{"$f":"IF($D385<>\"\",INDIRECT(\"'\"&$D385&\"'\"&\"!ay9\"),\"\")","v":""},{"$f":"IF($D385<>\"\",INDIRECT(\"'\"&$D385&\"'\"&\"!az9\"),\"\")","v":""},{"$f":"IF($D385<>\"\",INDIRECT(\"'\"&$D385&\"'\"&\"!ba9\"),\"\")","v":""},{"$f":"IF($D385<>\"\",INDIRECT(\"'\"&$D385&\"'\"&\"!bb9\"),\"\")","v":""},{"$f":"IF($D385<>\"\",INDIRECT(\"'\"&$D385&\"'\"&\"!bc9\"),\"\")","v":""},{"$f":"IF($D385<>\"\",INDIRECT(\"'\"&$D385&\"'\"&\"!bd9\"),\"\")","v":""},{"$f":"IF($D385<>\"\",INDIRECT(\"'\"&$D385&\"'\"&\"!as10\"),\"\")","v":""},{"$f":"IF($D385<>\"\",INDIRECT(\"'\"&$D385&\"'\"&\"!at10\"),\"\")","v":""},{"$f":"IF($D385<>\"\",INDIRECT(\"'\"&$D385&\"'\"&\"!au10\"),\"\")","v":""},{"$f":"IF($D385<>\"\",INDIRECT(\"'\"&$D385&\"'\"&\"!av10\"),\"\")","v":""},{"$f":"IF($D385<>\"\",INDIRECT(\"'\"&$D385&\"'\"&\"!aw10\"),\"\")","v":""},{"$f":"IF($D385<>\"\",INDIRECT(\"'\"&$D385&\"'\"&\"!ax10\"),\"\")","v":""},{"$f":"IF($D385<>\"\",INDIRECT(\"'\"&$D385&\"'\"&\"!ay10\"),\"\")","v":""},{"$f":"IF($D385<>\"\",INDIRECT(\"'\"&$D385&\"'\"&\"!az10\"),\"\")","v":""},{"$f":"IF($D385<>\"\",INDIRECT(\"'\"&$D385&\"'\"&\"!ba10\"),\"\")","v":""},{"$f":"IF($D385<>\"\",INDIRECT(\"'\"&$D385&\"'\"&\"!bb10\"),\"\")","v":""},{"$f":"IF($D385<>\"\",INDIRECT(\"'\"&$D385&\"'\"&\"!bc10\"),\"\")","v":""},{"$f":"IF($D385<>\"\",INDIRECT(\"'\"&$D385&\"'\"&\"!bd10\"),\"\")","v":""},{"$f":"IF($D385<>\"\",INDIRECT(\"'\"&$D385&\"'\"&\"!as11\"),\"\")","v":""},{"$f":"IF($D385<>\"\",INDIRECT(\"'\"&$D385&\"'\"&\"!at11\"),\"\")","v":""},{"$f":"IF($D385<>\"\",INDIRECT(\"'\"&$D385&\"'\"&\"!au11\"),\"\")","v":""},{"$f":"IF($D385<>\"\",INDIRECT(\"'\"&$D385&\"'\"&\"!av11\"),\"\")","v":""},{"$f":"IF($D385<>\"\",INDIRECT(\"'\"&$D385&\"'\"&\"!aw11\"),\"\")","v":""},{"$f":"IF($D385<>\"\",INDIRECT(\"'\"&$D385&\"'\"&\"!ax11\"),\"\")","v":""},{"$f":"IF($D385<>\"\",INDIRECT(\"'\"&$D385&\"'\"&\"!ay11\"),\"\")","v":""},{"$f":"IF($D385<>\"\",INDIRECT(\"'\"&$D385&\"'\"&\"!az11\"),\"\")","v":""},{"$f":"IF($D385<>\"\",INDIRECT(\"'\"&$D385&\"'\"&\"!ba11\"),\"\")","v":""},{"$f":"IF($D385<>\"\",INDIRECT(\"'\"&$D385&\"'\"&\"!bb11\"),\"\")","v":""},{"$f":"IF($D385<>\"\",INDIRECT(\"'\"&$D385&\"'\"&\"!bc11\"),\"\")","v":""},{"$f":"IF($D385<>\"\",INDIRECT(\"'\"&$D385&\"'\"&\"!bd11\"),\"\")","v":""},{"$f":"IF($D385<>\"\",INDIRECT(\"'\"&$D385&\"'\"&\"!as12\"),\"\")","v":""},{"$f":"IF($D385<>\"\",INDIRECT(\"'\"&$D385&\"'\"&\"!at12\"),\"\")","v":""},{"$f":"IF($D385<>\"\",INDIRECT(\"'\"&$D385&\"'\"&\"!au12\"),\"\")","v":""},{"$f":"IF($D385<>\"\",INDIRECT(\"'\"&$D385&\"'\"&\"!av12\"),\"\")","v":""},{"$f":"IF($D385<>\"\",INDIRECT(\"'\"&$D385&\"'\"&\"!aw12\"),\"\")","v":""},{"$f":"IF($D385<>\"\",INDIRECT(\"'\"&$D385&\"'\"&\"!ax12\"),\"\")","v":""},{"$f":"IF($D385<>\"\",INDIRECT(\"'\"&$D385&\"'\"&\"!ay12\"),\"\")","v":""},{"$f":"IF($D385<>\"\",INDIRECT(\"'\"&$D385&\"'\"&\"!az12\"),\"\")","v":""},{"$f":"IF($D385<>\"\",INDIRECT(\"'\"&$D385&\"'\"&\"!ba12\"),\"\")","v":""},{"$f":"IF($D385<>\"\",INDIRECT(\"'\"&$D385&\"'\"&\"!bb12\"),\"\")","v":""},{"$f":"IF($D385<>\"\",INDIRECT(\"'\"&$D385&\"'\"&\"!bc12\"),\"\")","v":""},{"$f":"IF($D385<>\"\",INDIRECT(\"'\"&$D385&\"'\"&\"!bd12\"),\"\")","v":""},{"$f":"IF($D385<>\"\",INDIRECT(\"'\"&$D385&\"'\"&\"!as13\"),\"\")","v":""},{"$f":"IF($D385<>\"\",INDIRECT(\"'\"&$D385&\"'\"&\"!at13\"),\"\")","v":""},{"$f":"IF($D385<>\"\",INDIRECT(\"'\"&$D385&\"'\"&\"!au13\"),\"\")","v":""},{"$f":"IF($D385<>\"\",INDIRECT(\"'\"&$D385&\"'\"&\"!av13\"),\"\")","v":""},{"$f":"IF($D385<>\"\",INDIRECT(\"'\"&$D385&\"'\"&\"!aw13\"),\"\")","v":""},{"$f":"IF($D385<>\"\",INDIRECT(\"'\"&$D385&\"'\"&\"!ax13\"),\"\")","v":""},{"$f":"IF($D385<>\"\",INDIRECT(\"'\"&$D385&\"'\"&\"!ay13\"),\"\")","v":""},{"$f":"IF($D385<>\"\",INDIRECT(\"'\"&$D385&\"'\"&\"!az13\"),\"\")","v":""},{"$f":"IF($D385<>\"\",INDIRECT(\"'\"&$D385&\"'\"&\"!ba13\"),\"\")","v":""},{"$f":"IF($D385<>\"\",INDIRECT(\"'\"&$D385&\"'\"&\"!bb13\"),\"\")","v":""},{"$f":"IF($D385<>\"\",INDIRECT(\"'\"&$D385&\"'\"&\"!bc13\"),\"\")","v":""},{"$f":"IF($D385<>\"\",INDIRECT(\"'\"&$D385&\"'\"&\"!bd13\"),\"\")","v":""},{"$f":"IF($D385<>\"\",INDIRECT(\"'\"&$D385&\"'\"&\"!as14\"),\"\")","v":""},{"$f":"IF($D385<>\"\",INDIRECT(\"'\"&$D385&\"'\"&\"!at14\"),\"\")","v":""},{"$f":"IF($D385<>\"\",INDIRECT(\"'\"&$D385&\"'\"&\"!au14\"),\"\")","v":""},{"$f":"IF($D385<>\"\",INDIRECT(\"'\"&$D385&\"'\"&\"!av14\"),\"\")","v":""},{"$f":"IF($D385<>\"\",INDIRECT(\"'\"&$D385&\"'\"&\"!aw14\"),\"\")","v":""},{"$f":"IF($D385<>\"\",INDIRECT(\"'\"&$D385&\"'\"&\"!ax14\"),\"\")","v":""},{"$f":"IF($D385<>\"\",INDIRECT(\"'\"&$D385&\"'\"&\"!ay14\"),\"\")","v":""},{"$f":"IF($D385<>\"\",INDIRECT(\"'\"&$D385&\"'\"&\"!az14\"),\"\")","v":""},{"$f":"IF($D385<>\"\",INDIRECT(\"'\"&$D385&\"'\"&\"!ba14\"),\"\")","v":""},{"$f":"IF($D385<>\"\",INDIRECT(\"'\"&$D385&\"'\"&\"!bb14\"),\"\")","v":""},{"$f":"IF($D385<>\"\",INDIRECT(\"'\"&$D385&\"'\"&\"!bc14\"),\"\")","v":""},{"$f":"IF($D385<>\"\",INDIRECT(\"'\"&$D385&\"'\"&\"!bd14\"),\"\")","v":""},{"$f":"IF($D385<>\"\",INDIRECT(\"'\"&$D385&\"'\"&\"!as15\"),\"\")","v":""},{"$f":"IF($D385<>\"\",INDIRECT(\"'\"&$D385&\"'\"&\"!at15\"),\"\")","v":""},{"$f":"IF($D385<>\"\",INDIRECT(\"'\"&$D385&\"'\"&\"!au15\"),\"\")","v":""},{"$f":"IF($D385<>\"\",INDIRECT(\"'\"&$D385&\"'\"&\"!av15\"),\"\")","v":""},{"$f":"IF($D385<>\"\",INDIRECT(\"'\"&$D385&\"'\"&\"!aw15\"),\"\")","v":""},{"$f":"IF($D385<>\"\",INDIRECT(\"'\"&$D385&\"'\"&\"!ax15\"),\"\")","v":""},{"$f":"IF($D385<>\"\",INDIRECT(\"'\"&$D385&\"'\"&\"!ay15\"),\"\")","v":""},{"$f":"IF($D385<>\"\",INDIRECT(\"'\"&$D385&\"'\"&\"!az15\"),\"\")","v":""},{"$f":"IF($D385<>\"\",INDIRECT(\"'\"&$D385&\"'\"&\"!ba15\"),\"\")","v":""},{"$f":"IF($D385<>\"\",INDIRECT(\"'\"&$D385&\"'\"&\"!bb15\"),\"\")","v":""},{"$f":"IF($D385<>\"\",INDIRECT(\"'\"&$D385&\"'\"&\"!bc15\"),\"\")","v":""},{"$f":"IF($D385<>\"\",INDIRECT(\"'\"&$D385&\"'\"&\"!bd15\"),\"\")","v":""},{"$f":"IF($D385<>\"\",INDIRECT(\"'\"&$D385&\"'\"&\"!as16\"),\"\")","v":""},{"$f":"IF($D385<>\"\",INDIRECT(\"'\"&$D385&\"'\"&\"!at16\"),\"\")","v":""},{"$f":"IF($D385<>\"\",INDIRECT(\"'\"&$D385&\"'\"&\"!au16\"),\"\")","v":""},{"$f":"IF($D385<>\"\",INDIRECT(\"'\"&$D385&\"'\"&\"!av16\"),\"\")","v":""},{"$f":"IF($D385<>\"\",INDIRECT(\"'\"&$D385&\"'\"&\"!aw16\"),\"\")","v":""},{"$f":"IF($D385<>\"\",INDIRECT(\"'\"&$D385&\"'\"&\"!ax16\"),\"\")","v":""},{"$f":"IF($D385<>\"\",INDIRECT(\"'\"&$D385&\"'\"&\"!ay16\"),\"\")","v":""},{"$f":"IF($D385<>\"\",INDIRECT(\"'\"&$D385&\"'\"&\"!az16\"),\"\")","v":""},{"$f":"IF($D385<>\"\",INDIRECT(\"'\"&$D385&\"'\"&\"!ba16\"),\"\")","v":""},{"$f":"IF($D385<>\"\",INDIRECT(\"'\"&$D385&\"'\"&\"!bb16\"),\"\")","v":""},{"$f":"IF($D385<>\"\",INDIRECT(\"'\"&$D385&\"'\"&\"!bc16\"),\"\")","v":""},{"$f":"IF($D385<>\"\",INDIRECT(\"'\"&$D385&\"'\"&\"!bd16\"),\"\")","v":""},{"$f":"IF($D385<>\"\",INDIRECT(\"'\"&$D385&\"'\"&\"!as17\"),\"\")","v":""},{"$f":"IF($D385<>\"\",INDIRECT(\"'\"&$D385&\"'\"&\"!at17\"),\"\")","v":""},{"$f":"IF($D385<>\"\",INDIRECT(\"'\"&$D385&\"'\"&\"!au17\"),\"\")","v":""},{"$f":"IF($D385<>\"\",INDIRECT(\"'\"&$D385&\"'\"&\"!av17\"),\"\")","v":""},{"$f":"IF($D385<>\"\",INDIRECT(\"'\"&$D385&\"'\"&\"!aw17\"),\"\")","v":""},{"$f":"IF($D385<>\"\",INDIRECT(\"'\"&$D385&\"'\"&\"!ax17\"),\"\")","v":""},{"$f":"IF($D385<>\"\",INDIRECT(\"'\"&$D385&\"'\"&\"!ay17\"),\"\")","v":""},{"$f":"IF($D385<>\"\",INDIRECT(\"'\"&$D385&\"'\"&\"!az17\"),\"\")","v":""},{"$f":"IF($D385<>\"\",INDIRECT(\"'\"&$D385&\"'\"&\"!ba17\"),\"\")","v":""},{"$f":"IF($D385<>\"\",INDIRECT(\"'\"&$D385&\"'\"&\"!bb17\"),\"\")","v":""},{"$f":"IF($D385<>\"\",INDIRECT(\"'\"&$D385&\"'\"&\"!bc17\"),\"\")","v":""},{"$f":"IF($D385<>\"\",INDIRECT(\"'\"&$D385&\"'\"&\"!bd17\"),\"\")","v":""},{"$f":"IF($D385<>\"\",INDIRECT(\"'\"&$D385&\"'\"&\"!as18\"),\"\")","v":""},{"$f":"IF($D385<>\"\",INDIRECT(\"'\"&$D385&\"'\"&\"!at18\"),\"\")","v":""},{"$f":"IF($D385<>\"\",INDIRECT(\"'\"&$D385&\"'\"&\"!au18\"),\"\")","v":""},{"$f":"IF($D385<>\"\",INDIRECT(\"'\"&$D385&\"'\"&\"!av18\"),\"\")","v":""},{"$f":"IF($D385<>\"\",INDIRECT(\"'\"&$D385&\"'\"&\"!aw18\"),\"\")","v":""},{"$f":"IF($D385<>\"\",INDIRECT(\"'\"&$D385&\"'\"&\"!ax18\"),\"\")","v":""},{"$f":"IF($D385<>\"\",INDIRECT(\"'\"&$D385&\"'\"&\"!ay18\"),\"\")","v":""},{"$f":"IF($D385<>\"\",INDIRECT(\"'\"&$D385&\"'\"&\"!az18\"),\"\")","v":""},{"$f":"IF($D385<>\"\",INDIRECT(\"'\"&$D385&\"'\"&\"!ba18\"),\"\")","v":""},{"$f":"IF($D385<>\"\",INDIRECT(\"'\"&$D385&\"'\"&\"!bb18\"),\"\")","v":""},{"$f":"IF($D385<>\"\",INDIRECT(\"'\"&$D385&\"'\"&\"!bc18\"),\"\")","v":""},{"$f":"IF($D385<>\"\",INDIRECT(\"'\"&$D385&\"'\"&\"!bd18\"),\"\")","v":""},{"$f":"IF($D385<>\"\",INDIRECT(\"'\"&$D385&\"'\"&\"!as19\"),\"\")","v":""},{"$f":"IF($D385<>\"\",INDIRECT(\"'\"&$D385&\"'\"&\"!at19\"),\"\")","v":""},{"$f":"IF($D385<>\"\",INDIRECT(\"'\"&$D385&\"'\"&\"!au19\"),\"\")","v":""},{"$f":"IF($D385<>\"\",INDIRECT(\"'\"&$D385&\"'\"&\"!av19\"),\"\")","v":""},{"$f":"IF($D385<>\"\",INDIRECT(\"'\"&$D385&\"'\"&\"!aw19\"),\"\")","v":""},{"$f":"IF($D385<>\"\",INDIRECT(\"'\"&$D385&\"'\"&\"!ax19\"),\"\")","v":""},{"$f":"IF($D385<>\"\",INDIRECT(\"'\"&$D385&\"'\"&\"!ay19\"),\"\")","v":""},{"$f":"IF($D385<>\"\",INDIRECT(\"'\"&$D385&\"'\"&\"!az19\"),\"\")","v":""},{"$f":"IF($D385<>\"\",INDIRECT(\"'\"&$D385&\"'\"&\"!ba19\"),\"\")","v":""},{"$f":"IF($D385<>\"\",INDIRECT(\"'\"&$D385&\"'\"&\"!bb19\"),\"\")","v":""},{"$f":"IF($D385<>\"\",INDIRECT(\"'\"&$D385&\"'\"&\"!bc19\"),\"\")","v":""},{"$f":"IF($D385<>\"\",INDIRECT(\"'\"&$D385&\"'\"&\"!bd19\"),\"\")","v":""},{"$f":"IF($D385<>\"\",INDIRECT(\"'\"&$D385&\"'\"&\"!as20\"),\"\")","v":""},{"$f":"IF($D385<>\"\",INDIRECT(\"'\"&$D385&\"'\"&\"!at20\"),\"\")","v":""},{"$f":"IF($D385<>\"\",INDIRECT(\"'\"&$D385&\"'\"&\"!au20\"),\"\")","v":""},{"$f":"IF($D385<>\"\",INDIRECT(\"'\"&$D385&\"'\"&\"!av20\"),\"\")","v":""},{"$f":"IF($D385<>\"\",INDIRECT(\"'\"&$D385&\"'\"&\"!aw20\"),\"\")","v":""},{"$f":"IF($D385<>\"\",INDIRECT(\"'\"&$D385&\"'\"&\"!ax20\"),\"\")","v":""},{"$f":"IF($D385<>\"\",INDIRECT(\"'\"&$D385&\"'\"&\"!ay20\"),\"\")","v":""},{"$f":"IF($D385<>\"\",INDIRECT(\"'\"&$D385&\"'\"&\"!az20\"),\"\")","v":""},{"$f":"IF($D385<>\"\",INDIRECT(\"'\"&$D385&\"'\"&\"!ba20\"),\"\")","v":""},{"$f":"IF($D385<>\"\",INDIRECT(\"'\"&$D385&\"'\"&\"!bb20\"),\"\")","v":""},{"$f":"IF($D385<>\"\",INDIRECT(\"'\"&$D385&\"'\"&\"!bc20\"),\"\")","v":""},{"$f":"IF($D385<>\"\",INDIRECT(\"'\"&$D385&\"'\"&\"!bd20\"),\"\")","v":""},{"$f":"IF($D385<>\"\",INDIRECT(\"'\"&$D385&\"'\"&\"!as21\"),\"\")","v":""},{"$f":"IF($D385<>\"\",INDIRECT(\"'\"&$D385&\"'\"&\"!at21\"),\"\")","v":""},{"$f":"IF($D385<>\"\",INDIRECT(\"'\"&$D385&\"'\"&\"!au21\"),\"\")","v":""},{"$f":"IF($D385<>\"\",INDIRECT(\"'\"&$D385&\"'\"&\"!av21\"),\"\")","v":""},{"$f":"IF($D385<>\"\",INDIRECT(\"'\"&$D385&\"'\"&\"!aw21\"),\"\")","v":""},{"$f":"IF($D385<>\"\",INDIRECT(\"'\"&$D385&\"'\"&\"!ax21\"),\"\")","v":""},{"$f":"IF($D385<>\"\",INDIRECT(\"'\"&$D385&\"'\"&\"!ay21\"),\"\")","v":""},{"$f":"IF($D385<>\"\",INDIRECT(\"'\"&$D385&\"'\"&\"!az21\"),\"\")","v":""},{"$f":"IF($D385<>\"\",INDIRECT(\"'\"&$D385&\"'\"&\"!ba21\"),\"\")","v":""},{"$f":"IF($D385<>\"\",INDIRECT(\"'\"&$D385&\"'\"&\"!bb21\"),\"\")","v":""},{"$f":"IF($D385<>\"\",INDIRECT(\"'\"&$D385&\"'\"&\"!bc21\"),\"\")","v":""},{"$f":"IF($D385<>\"\",INDIRECT(\"'\"&$D385&\"'\"&\"!bd21\"),\"\")","v":""},{"$f":"IF($D385<>\"\",INDIRECT(\"'\"&$D385&\"'\"&\"!as22\"),\"\")","v":""},{"$f":"IF($D385<>\"\",INDIRECT(\"'\"&$D385&\"'\"&\"!at22\"),\"\")","v":""},{"$f":"IF($D385<>\"\",INDIRECT(\"'\"&$D385&\"'\"&\"!au22\"),\"\")","v":""},{"$f":"IF($D385<>\"\",INDIRECT(\"'\"&$D385&\"'\"&\"!av22\"),\"\")","v":""},{"$f":"IF($D385<>\"\",INDIRECT(\"'\"&$D385&\"'\"&\"!aw22\"),\"\")","v":""},{"$f":"IF($D385<>\"\",INDIRECT(\"'\"&$D385&\"'\"&\"!ax22\"),\"\")","v":""},{"$f":"IF($D385<>\"\",INDIRECT(\"'\"&$D385&\"'\"&\"!ay22\"),\"\")","v":""},{"$f":"IF($D385<>\"\",INDIRECT(\"'\"&$D385&\"'\"&\"!az22\"),\"\")","v":""},{"$f":"IF($D385<>\"\",INDIRECT(\"'\"&$D385&\"'\"&\"!ba22\"),\"\")","v":""},{"$f":"IF($D385<>\"\",INDIRECT(\"'\"&$D385&\"'\"&\"!bb22\"),\"\")","v":""},{"$f":"IF($D385<>\"\",INDIRECT(\"'\"&$D385&\"'\"&\"!bc22\"),\"\")","v":""},{"$f":"IF($D385<>\"\",INDIRECT(\"'\"&$D385&\"'\"&\"!bd22\"),\"\")","v":""}]
[null,10,{"$f":"IF(P386>0,MAX($C$375:C385)+1,\"\")","v":""},{"$f":"IF(ISERROR(INDEX(WS,ROWS($B$377:$B386))),\"\",MID(INDEX(WS,ROWS($B$377:$B386)), FIND(\"]\",INDEX(WS,ROWS($B$377:$B386)))+1,32))&T(NOW())","v":""},"","","","","","","","","","","",0,"","","","","","","","","","","","","","","","","","","","","","","","","","","","","","","","","","","","","","","","","","","","","","","","","","","","","","","","","","","","","","","","","","","","","","","","","","","","","","","","","","","","","","","","","","","","","","","","","","","","","","","","","","","","","","","","","","","","","","","","","","","","","","","","","","","","","","","","","","","","","","","","","","","","","","","","","","","","","","","","","","","","","","","","","","","","","","","","","","","","","","","","","","","","","","","","","","","","","","","","","","","","","","","","","","","","","","","","","","","","","","","","","","","","","","","","","","","","","","","",""]
[null,11,{"$f":"IF(P387>0,MAX($C$375:C386)+1,\"\")","v":""},{"$f":"IF(ISERROR(INDEX(WS,ROWS($B$377:$B387))),\"\",MID(INDEX(WS,ROWS($B$377:$B387)), FIND(\"]\",INDEX(WS,ROWS($B$377:$B387)))+1,32))&T(NOW())","v":""},"","","","","","","","","","","",0,"","","","","","","","","","","","","","","","","","","","","","","","","","","","","","","","","","","","","","","","","","","","","","","","","","","","","","","","","","","","","","","","","","","","","","","","","","","","","","","","","","","","","","","","","","","","","","","","","","","","","","","","","","","","","","","","","","","","","","","","","","","","","","","","","","","","","","","","","","","","","","","","","","","","","","","","","","","","","","","","","","","","","","","","","","","","","","","","","","","","","","","","","","","","","","","","","","","","","","","","","","","","","","","","","","","","","","","","","","","","","","","","","","","","","","","","","","","","","","","",""]
[null,12,{"$f":"IF(P388>0,MAX($C$375:C387)+1,\"\")","v":""},{"$f":"IF(ISERROR(INDEX(WS,ROWS($B$377:$B388))),\"\",MID(INDEX(WS,ROWS($B$377:$B388)), FIND(\"]\",INDEX(WS,ROWS($B$377:$B388)))+1,32))&T(NOW())","v":""},"","","","","","","","","","","",0,"","","","","","","","","","","","","","","","","","","","","","","","","","","","","","","","","","","","","","","","","","","","","","","","","","","","","","","","","","","","","","","","","","","","","","","","","","","","","","","","","","","","","","","","","","","","","","","","","","","","","","","","","","","","","","","","","","","","","","","","","","","","","","","","","","","","","","","","","","","","","","","","","","","","","","","","","","","","","","","","","","","","","","","","","","","","","","","","","","","","","","","","","","","","","","","","","","","","","","","","","","","","","","","","","","","","","","","","","","","","","","","","","","","","","","","","","","","","","","","",""]
[null,13,{"$f":"IF(P389>0,MAX($C$375:C388)+1,\"\")","v":""},{"$f":"IF(ISERROR(INDEX(WS,ROWS($B$377:$B389))),\"\",MID(INDEX(WS,ROWS($B$377:$B389)), FIND(\"]\",INDEX(WS,ROWS($B$377:$B389)))+1,32))&T(NOW())","v":""},"","","","","","","","","","","",0,"","","","","","","","","","","","","","","","","","","","","","","","","","","","","","","","","","","","","","","","","","","","","","","","","","","","","","","","","","","","","","","","","","","","","","","","","","","","","","","","","","","","","","","","","","","","","","","","","","","","","","","","","","","","","","","","","","","","","","","","","","","","","","","","","","","","","","","","","","","","","","","","","","","","","","","","","","","","","","","","","","","","","","","","","","","","","","","","","","","","","","","","","","","","","","","","","","","","","","","","","","","","","","","","","","","","","","","","","","","","","","","","","","","","","","","","","","","","","","","",""]
[null,14,{"$f":"IF(P390>0,MAX($C$375:C389)+1,\"\")","v":""},{"$f":"IF(ISERROR(INDEX(WS,ROWS($B$377:$B390))),\"\",MID(INDEX(WS,ROWS($B$377:$B390)), FIND(\"]\",INDEX(WS,ROWS($B$377:$B390)))+1,32))&T(NOW())","v":""},"","","","","","","","","","","",0,"","","","","","","","","","","","","","","","","","","","","","","","","","","","","","","","","","","","","","","","","","","","","","","","","","","","","","","","","","","","","","","","","","","","","","","","","","","","","","","","","","","","","","","","","","","","","","","","","","","","","","","","","","","","","","","","","","","","","","","","","","","","","","","","","","","","","","","","","","","","","","","","","","","","","","","","","","","","","","","","","","","","","","","","","","","","","","","","","","","","","","","","","","","","","","","","","","","","","","","","","","","","","","","","","","","","","","","","","","","","","","","","","","","","","","","","","","","","","","","",""]
[null,15,{"$f":"IF(P391>0,MAX($C$375:C390)+1,\"\")","v":""},{"$f":"IF(ISERROR(INDEX(WS,ROWS($B$377:$B391))),\"\",MID(INDEX(WS,ROWS($B$377:$B391)), FIND(\"]\",INDEX(WS,ROWS($B$377:$B391)))+1,32))&T(NOW())","v":""},"","","","","","","","","","","",0,"","","","","","","","","","","","","","","","","","","","","","","","","","","","","","","","","","","","","","","","","","","","","","","","","","","","","","","","","","","","","","","","","","","","","","","","","","","","","","","","","","","","","","","","","","","","","","","","","","","","","","","","","","","","","","","","","","","","","","","","","","","","","","","","","","","","","","","","","","","","","","","","","","","","","","","","","","","","","","","","","","","","","","","","","","","","","","","","","","","","","","","","","","","","","","","","","","","","","","","","","","","","","","","","","","","","","","","","","","","","","","","","","","","","","","","","","","","","","","","",""]
[null,16,{"$f":"IF(P392>0,MAX($C$375:C391)+1,\"\")","v":""},{"$f":"IF(ISERROR(INDEX(WS,ROWS($B$377:$B392))),\"\",MID(INDEX(WS,ROWS($B$377:$B392)), FIND(\"]\",INDEX(WS,ROWS($B$377:$B392)))+1,32))&T(NOW())","v":""},"","","","","","","","","","","",0,"","","","","","","","","","","","","","","","","","","","","","","","","","","","","","","","","","","","","","","","","","","","","","","","","","","","","","","","","","","","","","","","","","","","","","","","","","","","","","","","","","","","","","","","","","","","","","","","","","","","","","","","","","","","","","","","","","","","","","","","","","","","","","","","","","","","","","","","","","","","","","","","","","","","","","","","","","","","","","","","","","","","","","","","","","","","","","","","","","","","","","","","","","","","","","","","","","","","","","","","","","","","","","","","","","","","","","","","","","","","","","","","","","","","","","","","","","","","","","","",""]
[null,17,{"$f":"IF(P393>0,MAX($C$375:C392)+1,\"\")","v":""},{"$f":"IF(ISERROR(INDEX(WS,ROWS($B$377:$B393))),\"\",MID(INDEX(WS,ROWS($B$377:$B393)), FIND(\"]\",INDEX(WS,ROWS($B$377:$B393)))+1,32))&T(NOW())","v":""},"","","","","","","","","","","",0,"","","","","","","","","","","","","","","","","","","","","","","","","","","","","","","","","","","","","","","","","","","","","","","","","","","","","","","","","","","","","","","","","","","","","","","","","","","","","","","","","","","","","","","","","","","","","","","","","","","","","","","","","","","","","","","","","","","","","","","","","","","","","","","","","","","","","","","","","","","","","","","","","","","","","","","","","","","","","","","","","","","","","","","","","","","","","","","","","","","","","","","","","","","","","","","","","","","","","","","","","","","","","","","","","","","","","","","","","","","","","","","","","","","","","","","","","","","","","","","",""]
[null,18,{"$f":"IF(P394>0,MAX($C$375:C393)+1,\"\")","v":""},{"$f":"IF(ISERROR(INDEX(WS,ROWS($B$377:$B394))),\"\",MID(INDEX(WS,ROWS($B$377:$B394)), FIND(\"]\",INDEX(WS,ROWS($B$377:$B394)))+1,32))&T(NOW())","v":""},"","","","","","","","","","","",0,"","","","","","","","","","","","","","","","","","","","","","","","","","","","","","","","","","","","","","","","","","","","","","","","","","","","","","","","","","","","","","","","","","","","","","","","","","","","","","","","","","","","","","","","","","","","","","","","","","","","","","","","","","","","","","","","","","","","","","","","","","","","","","","","","","","","","","","","","","","","","","","","","","","","","","","","","","","","","","","","","","","","","","","","","","","","","","","","","","","","","","","","","","","","","","","","","","","","","","","","","","","","","","","","","","","","","","","","","","","","","","","","","","","","","","","","","","","","","","","",""]
[null,19,{"$f":"IF(P395>0,MAX($C$375:C394)+1,\"\")","v":""},{"$f":"IF(ISERROR(INDEX(WS,ROWS($B$377:$B395))),\"\",MID(INDEX(WS,ROWS($B$377:$B395)), FIND(\"]\",INDEX(WS,ROWS($B$377:$B395)))+1,32))&T(NOW())","v":""},"","","","","","","","","","","",0,"","","","","","","","","","","","","","","","","","","","","","","","","","","","","","","","","","","","","","","","","","","","","","","","","","","","","","","","","","","","","","","","","","","","","","","","","","","","","","","","","","","","","","","","","","","","","","","","","","","","","","","","","","","","","","","","","","","","","","","","","","","","","","","","","","","","","","","","","","","","","","","","","","","","","","","","","","","","","","","","","","","","","","","","","","","","","","","","","","","","","","","","","","","","","","","","","","","","","","","","","","","","","","","","","","","","","","","","","","","","","","","","","","","","","","","","","","","","","","","",""]
[null,20,{"$f":"IF(P396>0,MAX($C$375:C395)+1,\"\")","v":""},{"$f":"IF(ISERROR(INDEX(WS,ROWS($B$377:$B396))),\"\",MID(INDEX(WS,ROWS($B$377:$B396)), FIND(\"]\",INDEX(WS,ROWS($B$377:$B396)))+1,32))&T(NOW())","v":""},"","","","","","","","","","","",0,"","","","","","","","","","","","","","","","","","","","","","","","","","","","","","","","","","","","","","","","","","","","","","","","","","","","","","","","","","","","","","","","","","","","","","","","","","","","","","","","","","","","","","","","","","","","","","","","","","","","","","","","","","","","","","","","","","","","","","","","","","","","","","","","","","","","","","","","","","","","","","","","","","","","","","","","","","","","","","","","","","","","","","","","","","","","","","","","","","","","","","","","","","","","","","","","","","","","","","","","","","","","","","","","","","","","","","","","","","","","","","","","","","","","","","","","","","","","","","","",""]
[null,21,{"$f":"IF(P397>0,MAX($C$375:C396)+1,\"\")","v":""},{"$f":"IF(ISERROR(INDEX(WS,ROWS($B$377:$B397))),\"\",MID(INDEX(WS,ROWS($B$377:$B397)), FIND(\"]\",INDEX(WS,ROWS($B$377:$B397)))+1,32))&T(NOW())","v":""},"","","","","","","","","","","",0,"","","","","","","","","","","","","","","","","","","","","","","","","","","","","","","","","","","","","","","","","","","","","","","","","","","","","","","","","","","","","","","","","","","","","","","","","","","","","","","","","","","","","","","","","","","","","","","","","","","","","","","","","","","","","","","","","","","","","","","","","","","","","","","","","","","","","","","","","","","","","","","","","","","","","","","","","","","","","","","","","","","","","","","","","","","","","","","","","","","","","","","","","","","","","","","","","","","","","","","","","","","","","","","","","","","","","","","","","","","","","","","","","","","","","","","","","","","","","","","",""]
[null,22,{"$f":"IF(P398>0,MAX($C$375:C397)+1,\"\")","v":""},{"$f":"IF(ISERROR(INDEX(WS,ROWS($B$377:$B398))),\"\",MID(INDEX(WS,ROWS($B$377:$B398)), FIND(\"]\",INDEX(WS,ROWS($B$377:$B398)))+1,32))&T(NOW())","v":""},"","","","","","","","","","","",0,"","","","","","","","","","","","","","","","","","","","","","","","","","","","","","","","","","","","","","","","","","","","","","","","","","","","","","","","","","","","","","","","","","","","","","","","","","","","","","","","","","","","","","","","","","","","","","","","","","","","","","","","","","","","","","","","","","","","","","","","","","","","","","","","","","","","","","","","","","","","","","","","","","","","","","","","","","","","","","","","","","","","","","","","","","","","","","","","","","","","","","","","","","","","","","","","","","","","","","","","","","","","","","","","","","","","","","","","","","","","","","","","","","","","","","","","","","","","","","","",""]
[null,23,{"$f":"IF(P399>0,MAX($C$375:C398)+1,\"\")","v":""},{"$f":"IF(ISERROR(INDEX(WS,ROWS($B$377:$B399))),\"\",MID(INDEX(WS,ROWS($B$377:$B399)), FIND(\"]\",INDEX(WS,ROWS($B$377:$B399)))+1,32))&T(NOW())","v":""},"","","","","","","","","","","",0,"","","","","","","","","","","","","","","","","","","","","","","","","","","","","","","","","","","","","","","","","","","","","","","","","","","","","","","","","","","","","","","","","","","","","","","","","","","","","","","","","","","","","","","","","","","","","","","","","","","","","","","","","","","","","","","","","","","","","","","","","","","","","","","","","","","","","","","","","","","","","","","","","","","","","","","","","","","","","","","","","","","","","","","","","","","","","","","","","","","","","","","","","","","","","","","","","","","","","","","","","","","","","","","","","","","","","","","","","","","","","","","","","","","","","","","","","","","","","","","",""]
[null,24,{"$f":"IF(P400>0,MAX($C$375:C399)+1,\"\")","v":""},{"$f":"IF(ISERROR(INDEX(WS,ROWS($B$377:$B400))),\"\",MID(INDEX(WS,ROWS($B$377:$B400)), FIND(\"]\",INDEX(WS,ROWS($B$377:$B400)))+1,32))&T(NOW())","v":""},"","","","","","","","","","","",0,"","","","","","","","","","","","","","","","","","","","","","","","","","","","","","","","","","","","","","","","","","","","","","","","","","","","","","","","","","","","","","","","","","","","","","","","","","","","","","","","","","","","","","","","","","","","","","","","","","","","","","","","","","","","","","","","","","","","","","","","","","","","","","","","","","","","","","","","","","","","","","","","","","","","","","","","","","","","","","","","","","","","","","","","","","","","","","","","","","","","","","","","","","","","","","","","","","","","","","","","","","","","","","","","","","","","","","","","","","","","","","","","","","","","","","","","","","","","","","","",""]
[null,25,{"$f":"IF(P401>0,MAX($C$375:C400)+1,\"\")","v":""},{"$f":"IF(ISERROR(INDEX(WS,ROWS($B$377:$B401))),\"\",MID(INDEX(WS,ROWS($B$377:$B401)), FIND(\"]\",INDEX(WS,ROWS($B$377:$B401)))+1,32))&T(NOW())","v":""},"","","","","","","","","","","",0,"","","","","","","","","","","","","","","","","","","","","","","","","","","","","","","","","","","","","","","","","","","","","","","","","","","","","","","","","","","","","","","","","","","","","","","","","","","","","","","","","","","","","","","","","","","","","","","","","","","","","","","","","","","","","","","","","","","","","","","","","","","","","","","","","","","","","","","","","","","","","","","","","","","","","","","","","","","","","","","","","","","","","","","","","","","","","","","","","","","","","","","","","","","","","","","","","","","","","","","","","","","","","","","","","","","","","","","","","","","","","","","","","","","","","","","","","","","","","","","",""]
[null,26,{"$f":"IF(P402>0,MAX($C$375:C401)+1,\"\")","v":""},{"$f":"IF(ISERROR(INDEX(WS,ROWS($B$377:$B402))),\"\",MID(INDEX(WS,ROWS($B$377:$B402)), FIND(\"]\",INDEX(WS,ROWS($B$377:$B402)))+1,32))&T(NOW())","v":""},"","","","","","","","","","","",0,"","","","","","","","","","","","","","","","","","","","","","","","","","","","","","","","","","","","","","","","","","","","","","","","","","","","","","","","","","","","","","","","","","","","","","","","","","","","","","","","","","","","","","","","","","","","","","","","","","","","","","","","","","","","","","","","","","","","","","","","","","","","","","","","","","","","","","","","","","","","","","","","","","","","","","","","","","","","","","","","","","","","","","","","","","","","","","","","","","","","","","","","","","","","","","","","","","","","","","","","","","","","","","","","","","","","","","","","","","","","","","","","","","","","","","","","","","","","","","","",""]
[null,27,{"$f":"IF(P403>0,MAX($C$375:C402)+1,\"\")","v":""},{"$f":"IF(ISERROR(INDEX(WS,ROWS($B$377:$B403))),\"\",MID(INDEX(WS,ROWS($B$377:$B403)), FIND(\"]\",INDEX(WS,ROWS($B$377:$B403)))+1,32))&T(NOW())","v":""},"","","","","","","","","","","",0,"","","","","","","","","","","","","","","","","","","","","","","","","","","","","","","","","","","","","","","","","","","","","","","","","","","","","","","","","","","","","","","","","","","","","","","","","","","","","","","","","","","","","","","","","","","","","","","","","","","","","","","","","","","","","","","","","","","","","","","","","","","","","","","","","","","","","","","","","","","","","","","","","","","","","","","","","","","","","","","","","","","","","","","","","","","","","","","","","","","","","","","","","","","","","","","","","","","","","","","","","","","","","","","","","","","","","","","","","","","","","","","","","","","","","","","","","","","","","","","",""]
[null,28,{"$f":"IF(P404>0,MAX($C$375:C403)+1,\"\")","v":""},{"$f":"IF(ISERROR(INDEX(WS,ROWS($B$377:$B404))),\"\",MID(INDEX(WS,ROWS($B$377:$B404)), FIND(\"]\",INDEX(WS,ROWS($B$377:$B404)))+1,32))&T(NOW())","v":""},"","","","","","","","","","","",0,"","","","","","","","","","","","","","","","","","","","","","","","","","","","","","","","","","","","","","","","","","","","","","","","","","","","","","","","","","","","","","","","","","","","","","","","","","","","","","","","","","","","","","","","","","","","","","","","","","","","","","","","","","","","","","","","","","","","","","","","","","","","","","","","","","","","","","","","","","","","","","","","","","","","","","","","","","","","","","","","","","","","","","","","","","","","","","","","","","","","","","","","","","","","","","","","","","","","","","","","","","","","","","","","","","","","","","","","","","","","","","","","","","","","","","","","","","","","","","","",""]
[null,29,{"$f":"IF(P405>0,MAX($C$375:C404)+1,\"\")","v":""},{"$f":"IF(ISERROR(INDEX(WS,ROWS($B$377:$B405))),\"\",MID(INDEX(WS,ROWS($B$377:$B405)), FIND(\"]\",INDEX(WS,ROWS($B$377:$B405)))+1,32))&T(NOW())","v":""},"","","","","","","","","","","",0,"","","","","","","","","","","","","","","","","","","","","","","","","","","","","","","","","","","","","","","","","","","","","","","","","","","","","","","","","","","","","","","","","","","","","","","","","","","","","","","","","","","","","","","","","","","","","","","","","","","","","","","","","","","","","","","","","","","","","","","","","","","","","","","","","","","","","","","","","","","","","","","","","","","","","","","","","","","","","","","","","","","","","","","","","","","","","","","","","","","","","","","","","","","","","","","","","","","","","","","","","","","","","","","","","","","","","","","","","","","","","","","","","","","","","","","","","","","","","","","",""]
[null,30,{"$f":"IF(P406>0,MAX($C$375:C405)+1,\"\")","v":""},{"$f":"IF(ISERROR(INDEX(WS,ROWS($B$377:$B406))),\"\",MID(INDEX(WS,ROWS($B$377:$B406)), FIND(\"]\",INDEX(WS,ROWS($B$377:$B406)))+1,32))&T(NOW())","v":""},"","","","","","","","","","","",0,"","","","","","","","","","","","","","","","","","","","","","","","","","","","","","","","","","","","","","","","","","","","","","","","","","","","","","","","","","","","","","","","","","","","","","","","","","","","","","","","","","","","","","","","","","","","","","","","","","","","","","","","","","","","","","","","","","","","","","","","","","","","","","","","","","","","","","","","","","","","","","","","","","","","","","","","","","","","","","","","","","","","","","","","","","","","","","","","","","","","","","","","","","","","","","","","","","","","","","","","","","","","","","","","","","","","","","","","","","","","","","","","","","","","","","","","","","","","","","","",""]
[null,31,{"$f":"IF(P407>0,MAX($C$375:C406)+1,\"\")","v":""},{"$f":"IF(ISERROR(INDEX(WS,ROWS($B$377:$B407))),\"\",MID(INDEX(WS,ROWS($B$377:$B407)), FIND(\"]\",INDEX(WS,ROWS($B$377:$B407)))+1,32))&T(NOW())","v":""},"","","","","","","","","","","",0,"","","","","","","","","","","","","","","","","","","","","","","","","","","","","","","","","","","","","","","","","","","","","","","","","","","","","","","","","","","","","","","","","","","","","","","","","","","","","","","","","","","","","","","","","","","","","","","","","","","","","","","","","","","","","","","","","","","","","","","","","","","","","","","","","","","","","","","","","","","","","","","","","","","","","","","","","","","","","","","","","","","","","","","","","","","","","","","","","","","","","","","","","","","","","","","","","","","","","","","","","","","","","","","","","","","","","","","","","","","","","","","","","","","","","","","","","","","","","","","",""]
[null,32,{"$f":"IF(P408>0,MAX($C$375:C407)+1,\"\")","v":""},{"$f":"IF(ISERROR(INDEX(WS,ROWS($B$377:$B408))),\"\",MID(INDEX(WS,ROWS($B$377:$B408)), FIND(\"]\",INDEX(WS,ROWS($B$377:$B408)))+1,32))&T(NOW())","v":""},"","","","","","","","","","","",0,"","","","","","","","","","","","","","","","","","","","","","","","","","","","","","","","","","","","","","","","","","","","","","","","","","","","","","","","","","","","","","","","","","","","","","","","","","","","","","","","","","","","","","","","","","","","","","","","","","","","","","","","","","","","","","","","","","","","","","","","","","","","","","","","","","","","","","","","","","","","","","","","","","","","","","","","","","","","","","","","","","","","","","","","","","","","","","","","","","","","","","","","","","","","","","","","","","","","","","","","","","","","","","","","","","","","","","","","","","","","","","","","","","","","","","","","","","","","","","","",""]
[null,33,{"$f":"IF(P409>0,MAX($C$375:C408)+1,\"\")","v":""},{"$f":"IF(ISERROR(INDEX(WS,ROWS($B$377:$B409))),\"\",MID(INDEX(WS,ROWS($B$377:$B409)), FIND(\"]\",INDEX(WS,ROWS($B$377:$B409)))+1,32))&T(NOW())","v":""},"","","","","","","","","","","",0,"","","","","","","","","","","","","","","","","","","","","","","","","","","","","","","","","","","","","","","","","","","","","","","","","","","","","","","","","","","","","","","","","","","","","","","","","","","","","","","","","","","","","","","","","","","","","","","","","","","","","","","","","","","","","","","","","","","","","","","","","","","","","","","","","","","","","","","","","","","","","","","","","","","","","","","","","","","","","","","","","","","","","","","","","","","","","","","","","","","","","","","","","","","","","","","","","","","","","","","","","","","","","","","","","","","","","","","","","","","","","","","","","","","","","","","","","","","","","","","",""]
[null,34,{"$f":"IF(P410>0,MAX($C$375:C409)+1,\"\")","v":""},{"$f":"IF(ISERROR(INDEX(WS,ROWS($B$377:$B410))),\"\",MID(INDEX(WS,ROWS($B$377:$B410)), FIND(\"]\",INDEX(WS,ROWS($B$377:$B410)))+1,32))&T(NOW())","v":""},"","","","","","","","","","","",0,"","","","","","","","","","","","","","","","","","","","","","","","","","","","","","","","","","","","","","","","","","","","","","","","","","","","","","","","","","","","","","","","","","","","","","","","","","","","","","","","","","","","","","","","","","","","","","","","","","","","","","","","","","","","","","","","","","","","","","","","","","","","","","","","","","","","","","","","","","","","","","","","","","","","","","","","","","","","","","","","","","","","","","","","","","","","","","","","","","","","","","","","","","","","","","","","","","","","","","","","","","","","","","","","","","","","","","","","","","","","","","","","","","","","","","","","","","","","","","","",""]
[null,35,{"$f":"IF(P411>0,MAX($C$375:C410)+1,\"\")","v":""},{"$f":"IF(ISERROR(INDEX(WS,ROWS($B$377:$B411))),\"\",MID(INDEX(WS,ROWS($B$377:$B411)), FIND(\"]\",INDEX(WS,ROWS($B$377:$B411)))+1,32))&T(NOW())","v":""},"","","","","","","","","","","",0,"","","","","","","","","","","","","","","","","","","","","","","","","","","","","","","","","","","","","","","","","","","","","","","","","","","","","","","","","","","","","","","","","","","","","","","","","","","","","","","","","","","","","","","","","","","","","","","","","","","","","","","","","","","","","","","","","","","","","","","","","","","","","","","","","","","","","","","","","","","","","","","","","","","","","","","","","","","","","","","","","","","","","","","","","","","","","","","","","","","","","","","","","","","","","","","","","","","","","","","","","","","","","","","","","","","","","","","","","","","","","","","","","","","","","","","","","","","","","","","",""]
[null,36,{"$f":"IF(P412>0,MAX($C$375:C411)+1,\"\")","v":""},{"$f":"IF(ISERROR(INDEX(WS,ROWS($B$377:$B412))),\"\",MID(INDEX(WS,ROWS($B$377:$B412)), FIND(\"]\",INDEX(WS,ROWS($B$377:$B412)))+1,32))&T(NOW())","v":""},"","","","","","","","","","","",0,"","","","","","","","","","","","","","","","","","","","","","","","","","","","","","","","","","","","","","","","","","","","","","","","","","","","","","","","","","","","","","","","","","","","","","","","","","","","","","","","","","","","","","","","","","","","","","","","","","","","","","","","","","","","","","","","","","","","","","","","","","","","","","","","","","","","","","","","","","","","","","","","","","","","","","","","","","","","","","","","","","","","","","","","","","","","","","","","","","","","","","","","","","","","","","","","","","","","","","","","","","","","","","","","","","","","","","","","","","","","","","","","","","","","","","","","","","","","","","","",""]
[null,37,{"$f":"IF(P413>0,MAX($C$375:C412)+1,\"\")","v":""},{"$f":"IF(ISERROR(INDEX(WS,ROWS($B$377:$B413))),\"\",MID(INDEX(WS,ROWS($B$377:$B413)), FIND(\"]\",INDEX(WS,ROWS($B$377:$B413)))+1,32))&T(NOW())","v":""},"","","","","","","","","","","",0,"","","","","","","","","","","","","","","","","","","","","","","","","","","","","","","","","","","","","","","","","","","","","","","","","","","","","","","","","","","","","","","","","","","","","","","","","","","","","","","","","","","","","","","","","","","","","","","","","","","","","","","","","","","","","","","","","","","","","","","","","","","","","","","","","","","","","","","","","","","","","","","","","","","","","","","","","","","","","","","","","","","","","","","","","","","","","","","","","","","","","","","","","","","","","","","","","","","","","","","","","","","","","","","","","","","","","","","","","","","","","","","","","","","","","","","","","","","","","","","",""]
[null,38,{"$f":"IF(P414>0,MAX($C$375:C413)+1,\"\")","v":""},{"$f":"IF(ISERROR(INDEX(WS,ROWS($B$377:$B414))),\"\",MID(INDEX(WS,ROWS($B$377:$B414)), FIND(\"]\",INDEX(WS,ROWS($B$377:$B414)))+1,32))&T(NOW())","v":""},"","","","","","","","","","","",0,"","","","","","","","","","","","","","","","","","","","","","","","","","","","","","","","","","","","","","","","","","","","","","","","","","","","","","","","","","","","","","","","","","","","","","","","","","","","","","","","","","","","","","","","","","","","","","","","","","","","","","","","","","","","","","","","","","","","","","","","","","","","","","","","","","","","","","","","","","","","","","","","","","","","","","","","","","","","","","","","","","","","","","","","","","","","","","","","","","","","","","","","","","","","","","","","","","","","","","","","","","","","","","","","","","","","","","","","","","","","","","","","","","","","","","","","","","","","","","","",""]
[null,39,{"$f":"IF(P415>0,MAX($C$375:C414)+1,\"\")","v":""},{"$f":"IF(ISERROR(INDEX(WS,ROWS($B$377:$B415))),\"\",MID(INDEX(WS,ROWS($B$377:$B415)), FIND(\"]\",INDEX(WS,ROWS($B$377:$B415)))+1,32))&T(NOW())","v":""},"","","","","","","","","","","",0,"","","","","","","","","","","","","","","","","","","","","","","","","","","","","","","","","","","","","","","","","","","","","","","","","","","","","","","","","","","","","","","","","","","","","","","","","","","","","","","","","","","","","","","","","","","","","","","","","","","","","","","","","","","","","","","","","","","","","","","","","","","","","","","","","","","","","","","","","","","","","","","","","","","","","","","","","","","","","","","","","","","","","","","","","","","","","","","","","","","","","","","","","","","","","","","","","","","","","","","","","","","","","","","","","","","","","","","","","","","","","","","","","","","","","","","","","","","","","","","",""]
[null,40,{"$f":"IF(P416>0,MAX($C$375:C415)+1,\"\")","v":""},{"$f":"IF(ISERROR(INDEX(WS,ROWS($B$377:$B416))),\"\",MID(INDEX(WS,ROWS($B$377:$B416)), FIND(\"]\",INDEX(WS,ROWS($B$377:$B416)))+1,32))&T(NOW())","v":""},{"$f":"IF($D416<>\"\",INDIRECT(\"'\"&$D416&\"'\"&\"!y5\"),\"\")","v":""},{"$f":"IF($D416<>\"\",INDIRECT(\"'\"&$D416&\"'\"&\"!z5\"),\"\")","v":""},{"$f":"IF($D416<>\"\",INDIRECT(\"'\"&$D416&\"'\"&\"!aa5\"),\"\")","v":""},{"$f":"IF($D416<>\"\",INDIRECT(\"'\"&$D416&\"'\"&\"!ab5\"),\"\")","v":""},{"$f":"IF($D416<>\"\",INDIRECT(\"'\"&$D416&\"'\"&\"!ac5\"),\"\")","v":""},{"$f":"IF($D416<>\"\",INDIRECT(\"'\"&$D416&\"'\"&\"!ad5\"),\"\")","v":""},{"$f":"IF($D416<>\"\",INDIRECT(\"'\"&$D416&\"'\"&\"!ae5\"),\"\")","v":""},{"$f":"IF($D416<>\"\",INDIRECT(\"'\"&$D416&\"'\"&\"!af5\"),\"\")","v":""},{"$f":"IF($D416<>\"\",INDIRECT(\"'\"&$D416&\"'\"&\"!ag5\"),\"\")","v":""},{"$f":"IF($D416<>\"\",INDIRECT(\"'\"&$D416&\"'\"&\"!ah5\"),\"\")","v":""},{"$f":"IF($D416<>\"\",INDIRECT(\"'\"&$D416&\"'\"&\"!ai5\"),\"\")","v":""},0,"","","","","","","","","","","","","","","","","","","","","","","","","","","","","","","","","","","","","","","","","","","","","","","","","","","","","","","","","","","","","","","","","","","","","","","","","","","","","","","","","","","","","","","","","","","","","","","","","","","","","","","","","","","","","","","","","","","","","","","","","","","","","","","","","","","","","","","","","","","","","","","","","","","","","","","","","","","","","","","","","","","","","","","","","","","","","","","","","","","","","","","","","","","","","","","","","","","","","","","","","","","","","","","","","","","","","","","","","","","","","","","","","","","","","","","","","","","","","","","",""]
[null,41,{"$f":"IF(P417>0,MAX($C$375:C416)+1,\"\")","v":""},{"$f":"IF(ISERROR(INDEX(WS,ROWS($B$377:$B417))),\"\",MID(INDEX(WS,ROWS($B$377:$B417)), FIND(\"]\",INDEX(WS,ROWS($B$377:$B417)))+1,32))&T(NOW())","v":""},"","","","","","","","","","","",0,"","","","","","","","","","","","","","","","","","","","","","","","","","","","","","","","","","","","","","","","","","","","","","","","","","","","","","","","","","","","","","","","","","","","","","","","","","","","","","","","","","","","","","","","","","","","","","","","","","","","","","","","","","","","","","","","","","","","","","","","","","","","","","","","","","","","","","","","","","","","","","","","","","","","","","","","","","","","","","","","","","","","","","","","","","","","","","","","","","","","","","","","","","","","","","","","","","","","","","","","","","","","","","","","","","","","","","","","","","","","","","","","","","","","","","","","","","","","","","","",""]
[null,42,{"$f":"IF(P418>0,MAX($C$375:C417)+1,\"\")","v":""},{"$f":"IF(ISERROR(INDEX(WS,ROWS($B$377:$B418))),\"\",MID(INDEX(WS,ROWS($B$377:$B418)), FIND(\"]\",INDEX(WS,ROWS($B$377:$B418)))+1,32))&T(NOW())","v":""},"","","","","","","","","","","",0,"","","","","","","","","","","","","","","","","","","","","","","","","","","","","","","","","","","","","","","","","","","","","","","","","","","","","","","","","","","","","","","","","","","","","","","","","","","","","","","","","","","","","","","","","","","","","","","","","","","","","","","","","","","","","","","","","","","","","","","","","","","","","","","","","","","","","","","","","","","","","","","","","","","","","","","","","","","","","","","","","","","","","","","","","","","","","","","","","","","","","","","","","","","","","","","","","","","","","","","","","","","","","","","","","","","","","","","","","","","","","","","","","","","","","","","","","","","","","","","",""]
[null,43,{"$f":"IF(P419>0,MAX($C$375:C418)+1,\"\")","v":""},{"$f":"IF(ISERROR(INDEX(WS,ROWS($B$377:$B419))),\"\",MID(INDEX(WS,ROWS($B$377:$B419)), FIND(\"]\",INDEX(WS,ROWS($B$377:$B419)))+1,32))&T(NOW())","v":""},"","","","","","","","","","","",0,"","","","","","","","","","","","","","","","","","","","","","","","","","","","","","","","","","","","","","","","","","","","","","","","","","","","","","","","","","","","","","","","","","","","","","","","","","","","","","","","","","","","","","","","","","","","","","","","","","","","","","","","","","","","","","","","","","","","","","","","","","","","","","","","","","","","","","","","","","","","","","","","","","","","","","","","","","","","","","","","","","","","","","","","","","","","","","","","","","","","","","","","","","","","","","","","","","","","","","","","","","","","","","","","","","","","","","","","","","","","","","","","","","","","","","","","","","","","","","","",""]
[null,44,{"$f":"IF(P420>0,MAX($C$375:C419)+1,\"\")","v":""},{"$f":"IF(ISERROR(INDEX(WS,ROWS($B$377:$B420))),\"\",MID(INDEX(WS,ROWS($B$377:$B420)), FIND(\"]\",INDEX(WS,ROWS($B$377:$B420)))+1,32))&T(NOW())","v":""},"","","","","","","","","","","",0,"","","","","","","","","","","","","","","","","","","","","","","","","","","","","","","","","","","","","","","","","","","","","","","","","","","","","","","","","","","","","","","","","","","","","","","","","","","","","","","","","","","","","","","","","","","","","","","","","","","","","","","","","","","","","","","","","","","","","","","","","","","","","","","","","","","","","","","","","","","","","","","","","","","","","","","","","","","","","","","","","","","","","","","","","","","","","","","","","","","","","","","","","","","","","","","","","","","","","","","","","","","","","","","","","","","","","","","","","","","","","","","","","","","","","","","","","","","","","","","",""]
[null,45,{"$f":"IF(P421>0,MAX($C$375:C420)+1,\"\")","v":""},{"$f":"IF(ISERROR(INDEX(WS,ROWS($B$377:$B421))),\"\",MID(INDEX(WS,ROWS($B$377:$B421)), FIND(\"]\",INDEX(WS,ROWS($B$377:$B421)))+1,32))&T(NOW())","v":""},"","","","","","","","","","","",0,"","","","","","","","","","","","","","","","","","","","","","","","","","","","","","","","","","","","","","","","","","","","","","","","","","","","","","","","","","","","","","","","","","","","","","","","","","","","","","","","","","","","","","","","","","","","","","","","","","","","","","","","","","","","","","","","","","","","","","","","","","","","","","","","","","","","","","","","","","","","","","","","","","","","","","","","","","","","","","","","","","","","","","","","","","","","","","","","","","","","","","","","","","","","","","","","","","","","","","","","","","","","","","","","","","","","","","","","","","","","","","","","","","","","","","","","","","","","","","","",""]
[null,46,{"$f":"IF(P422>0,MAX($C$375:C421)+1,\"\")","v":""},{"$f":"IF(ISERROR(INDEX(WS,ROWS($B$377:$B422))),\"\",MID(INDEX(WS,ROWS($B$377:$B422)), FIND(\"]\",INDEX(WS,ROWS($B$377:$B422)))+1,32))&T(NOW())","v":""},"","","","","","","","","","","",0,"","","","","","","","","","","","","","","","","","","","","","","","","","","","","","","","","","","","","","","","","","","","","","","","","","","","","","","","","","","","","","","","","","","","","","","","","","","","","","","","","","","","","","","","","","","","","","","","","","","","","","","","","","","","","","","","","","","","","","","","","","","","","","","","","","","","","","","","","","","","","","","","","","","","","","","","","","","","","","","","","","","","","","","","","","","","","","","","","","","","","","","","","","","","","","","","","","","","","","","","","","","","","","","","","","","","","","","","","","","","","","","","","","","","","","","","","","","","","","","",""]
[null,47,{"$f":"IF(P423>0,MAX($C$375:C422)+1,\"\")","v":""},{"$f":"IF(ISERROR(INDEX(WS,ROWS($B$377:$B423))),\"\",MID(INDEX(WS,ROWS($B$377:$B423)), FIND(\"]\",INDEX(WS,ROWS($B$377:$B423)))+1,32))&T(NOW())","v":""},{"$f":"IF($D423<>\"\",INDIRECT(\"'\"&$D423&\"'\"&\"!y5\"),\"\")","v":""},{"$f":"IF($D423<>\"\",INDIRECT(\"'\"&$D423&\"'\"&\"!z5\"),\"\")","v":""},{"$f":"IF($D423<>\"\",INDIRECT(\"'\"&$D423&\"'\"&\"!aa5\"),\"\")","v":""},{"$f":"IF($D423<>\"\",INDIRECT(\"'\"&$D423&\"'\"&\"!ab5\"),\"\")","v":""},{"$f":"IF($D423<>\"\",INDIRECT(\"'\"&$D423&\"'\"&\"!ac5\"),\"\")","v":""},{"$f":"IF($D423<>\"\",INDIRECT(\"'\"&$D423&\"'\"&\"!ad5\"),\"\")","v":""},{"$f":"IF($D423<>\"\",INDIRECT(\"'\"&$D423&\"'\"&\"!ae5\"),\"\")","v":""},{"$f":"IF($D423<>\"\",INDIRECT(\"'\"&$D423&\"'\"&\"!af5\"),\"\")","v":""},{"$f":"IF($D423<>\"\",INDIRECT(\"'\"&$D423&\"'\"&\"!ag5\"),\"\")","v":""},{"$f":"IF($D423<>\"\",INDIRECT(\"'\"&$D423&\"'\"&\"!ah5\"),\"\")","v":""},{"$f":"IF($D423<>\"\",INDIRECT(\"'\"&$D423&\"'\"&\"!ai5\"),\"\")","v":""},0,"","","","","","","","","","","","","","","","","","","","","","","","","","","","","","","","","","","","","","","","","","","","","","","","","","","","","","","","","","","","","","","","","","","","","","","","","","","","","","","","","","","","","","","","","","","","","","","","","","","","","","","","","","","","","","","","","","","","","","","","","","","","","","","","","","","","","","","","","","","","","","","","","","","","","","","","","","","","","","","","","","","","","","","","","","","","","","","","","","","","","","","","","","","","","","","","","","","","","","","","","","","","","","","","","","","","","","","","","","","","","","","","","","","","","","","","","","","","","","","",""]
[null,48,{"$f":"IF(P424>0,MAX($C$375:C423)+1,\"\")","v":""},{"$f":"IF(ISERROR(INDEX(WS,ROWS($B$377:$B424))),\"\",MID(INDEX(WS,ROWS($B$377:$B424)), FIND(\"]\",INDEX(WS,ROWS($B$377:$B424)))+1,32))&T(NOW())","v":""},"","","","","","","","","","","",0,"","","","","","","","","","","","","","","","","","","","","","","","","","","","","","","","","","","","","","","","","","","","","","","","","","","","","","","","","","","","","","","","","","","","","","","","","","","","","","","","","","","","","","","","","","","","","","","","","","","","","","","","","","","","","","","","","","","","","","","","","","","","","","","","","","","","","","","","","","","","","","","","","","","","","","","","","","","","","","","","","","","","","","","","","","","","","","","","","","","","","","","","","","","","","","","","","","","","","","","","","","","","","","","","","","","","","","","","","","","","","","","","","","","","","","","","","","","","","","","",""]
[null,49,{"$f":"IF(P425>0,MAX($C$375:C424)+1,\"\")","v":""},{"$f":"IF(ISERROR(INDEX(WS,ROWS($B$377:$B425))),\"\",MID(INDEX(WS,ROWS($B$377:$B425)), FIND(\"]\",INDEX(WS,ROWS($B$377:$B425)))+1,32))&T(NOW())","v":""},"","","","","","","","","","","",0,"","","","","","","","","","","","","","","","","","","","","","","","","","","","","","","","","","","","","","","","","","","","","","","","","","","","","","","","","","","","","","","","","","","","","","","","","","","","","","","","","","","","","","","","","","","","","","","","","","","","","","","","","","","","","","","","","","","","","","","","","","","","","","","","","","","","","","","","","","","","","","","","","","","","","","","","","","","","","","","","","","","","","","","","","","","","","","","","","","","","","","","","","","","","","","","","","","","","","","","","","","","","","","","","","","","","","","","","","","","","","","","","","","","","","","","","","","","","","","","",""]
[null,50,{"$f":"IF(P426>0,MAX($C$375:C425)+1,\"\")","v":""},{"$f":"IF(ISERROR(INDEX(WS,ROWS($B$377:$B426))),\"\",MID(INDEX(WS,ROWS($B$377:$B426)), FIND(\"]\",INDEX(WS,ROWS($B$377:$B426)))+1,32))&T(NOW())","v":""},"","","","","","","","","","","",0,"","","","","","","","","","","","","","","","","","","","","","","","","","","","","","","","","","","","","","","","","","","","","","","","","","","","","","","","","","","","","","","","","","","","","","","","","","","","","","","","","","","","","","","","","","","","","","","","","","","","","","","","","","","","","","","","","","","","","","","","","","","","","","","","","","","","","","","","","","","","","","","","","","","","","","","","","","","","","","","","","","","","","","","","","","","","","","","","","","","","","","","","","","","","","","","","","","","","","","","","","","","","","","","","","","","","","","","","","","","","","","","","","","","","","","","","","","","","","","","",""]
[]
[]
[]
[]
[]
[]
[]
[]
[]
[]
[]
[]
[]
[]
[]
[]
[]
[]
[]
[]
[]
[]
[]
[]
[]
[]
[]
[]
[]
[]
[]
[]
[]
[]
[]
[]
[]
[]
[]
[]
[]
[]
[]
[]
[]
[]
[]
[]
[]
[]
[]
[]
[]
[]
[]
[]
[]
[]
[]
[]
[]
[]
[]
[]
[]
[]
[]
[]
[]
[]
[]
[]
[]
[]
[]
[]
[]
[]
[]
[]
[]
[]
[]
[]
[]
[]
[]
[]
[]
[]
[]
[]
[]
[]
[]
[]
[]
[]
[]
[]
[]
[]
[]
[]
[]
[]
[]
[]
[]
[]
[]
[]
[]
[]
[]
[]
[]
[]
[]
[]
[]
[]
[]
[]
[]
[]
[]
[]
[]
[]
[]
[]
[]
[]
[]
[]
[]
[]
[]
[]
[]
[]
[]
[]
[]
[]
[]
[]
[]
[]
[]
[]
[]
[]
[]
[]
[]
[]
[]
[]
[]
[]
[]
[]
[]
[]
[]
[]
[]
[]
[]
[]
[]
[]
[]
[]
[]
[]
[]
[]
[]
[]
[]
[]
[]
[]
[]
[]
[]
[]
[]
[]
[]
[]
[]
[]
[]
[]
[]
[]
[]
[]
[]
[]
[]
[]
[]
[]
[]
[]
[]
[]
[]
[]
[]
[]
[]
[]
[]
[]
[]
[]
[]
[]
[]
[]
[]
[]
[]
[]
[]
[]
[]
[]
[]
[]
[]
[]
[]
[]
[]
[]
[]
[]
[]
[]
[]
[]
[]
[]
[]
[]
[]
[]
[]
[]
[]
[]
[]
[]
[]
[]
[]
[]
[]
[]
[]
[]
[]
[]
[]
[]
[]
[]
[]
[]
[]
[]
[]
[]
[]
[]
[]
[]
[]
[]
[]
[]
[]
[]
[]
[]
[]
[]
[]
[]
[]
[]
[]
[]
[]
[]
[]
[]
[]
[]
[]
[]
[]
[]
[]
[]
[]
[]
[]
[]
[]
[]
[]
[]
[]
[]
[]
[]
[]
[]
[]
[]
[]
[]
[]
[]
[]
[]
[]
[]
[]
[]
[]
[]
[]
[]
[]
[]
[]
[]
[]
[]
[]
[]
[]
[]
[]
[]
[]
[]
[]
[]
[]
[]
[]
[]
[]
[]
[]
[]
[]
[]
[]
[]
[]
[]
[]
[]
[]
[]
[]
[]
[]
[]
[]
[]
[]
[]
[]
[]
[]
[]
[]
[]
[]
[]
[]
[]
[]
[]
[]
[]
[]
[]
[]
[]
[]
[]
[]
[]
[]
[]
[]
[]
[]
[]
[]
[]
[]
[]
[]
[]
[]
[]
[]
[]
[]
[]
[]
[]
[]
[]
[]
[]
[]
[]
[]
[]
[]
[]
[]
[]
[]
[]
[]
[]
[]
[]
[]
[]
[]
[]
[]
[]
[]
[]
[]
[]
[]
[]
[]
[]
[]
[]
[]
[]
[]
[]
[]
[]
[]
[]
[]
[]
[]
[]
[]
[]
[]
[]
[]
[]
[]
[]
[]
[]
[]
[]
[]
[]
[]
[]
[]
[]
[]
[]
[]
[]
[]
[]
[]
[]
[]
[]
[]
[]
[]
[]
[]
[]
[]
[]
[]
[]
[]
[]
[]
[]
[]
[]
[]
[]
[]
[]
[]
[]
[]
[]
[]
[]
[]
[]
[]
[]
[]
[]
[]
[]
[]
[]
[]
[]
[]
[]
[]
[]
[]
[]
[]
[]
[]
[]
[]
[]
[]
[]
[]
[]
[]
[]
[]
[]
[]
[]
[]
[]
[]
[]
[]
[]
[]
[]
[]
[]
[]
[]
[]
[]
[]
[]
[]
[]
[]
[]
[]
[]
[]
[]
[]
[]
[]
[]
[]
[]
[]
[]
[]
[]
[]
[]
[]
[]
[]
[]
[]
[]
[]
[]
[]
[]
[]
[]
[]
[]
[]
[]
[]
[]
[]
[]
[]
[]
[]
[]
[]
[]
[]
[]
[]
[]
[]
[]
[]
[]
[]
[]
[]
[]
[]
[]
[]
[]
[]
[]
[]
[]
[]
[]
[]
[]
[]
[]
[]
[]
[]
[]
[]
[]
[]
[]
[]
[]
[]
[]
[]
[]
[]
[]
[]
[]
[]
[]
[]
[]
[]
[]
[]
[]
[]
[]
[]
[]
[]
[]
[]
[]
[]
[]
[]
[]
[]
[]
[]
[]
[]
[]
[]
[]
[]
[]
[]
[]
[]
[]
[]
[]
[]
[]
[]
[]
[]
[]
[]
[]
[]
[]
[]
[]
[]
[]
[]
[]
[]
[]
[]
[]
[]
[]
[]
[]
[]
[]
[]
[]
[]
[]
[]
[]
[]
[]
[]
[]
[]
[]
[]
[]
[]
[]
[]
[]
[]
[]
[]
[]
[]
[]
[]
[]
[]
[]
[]
[]
[]
[]
[]
[]
[]
[]
[]
[]
[]
[]
[]
[]
[]
[]
[]
[]
[]
[]
[]
[]
[]
[]
[]
[]
[]
[]
[]
[]
[]
[]
[]
[]
[]
[]
[]
[]
[]
[]
[]
[]
[]
[]
[]
[]
[]
[]
[]
[]
[]
[]
[]
[]
[]
[]
[]
[]
[]
[]
[]
[]
[]
[]
[]
[]
[]
[]
[]
[]
[]
[]
[]
[]
[]
[]
[]
[]
[]
[]
[]
[]
[]
[]
[]
[]
[]
[]
[]
[]
[]
[]
[]
[]
[]
[]
[]
[]
[]
[]
[]
[]
[]
[]
[]
[]
[]
[]
[]
[]
[]
[]
[]
[]
[]
[]
[]
[]
[]
[]
[]
[]
[]
[]
[]
[]
[]
[]
[]
[]
[]
[]
[]
[]
[]
[]
[]
[]
[]
[]
[]
[]
[]
[]
[]
[]
[]
[]
[]
[]
[]
[]
[]
[]
[]
[]
[]
[]
[]
[]
[]
[]
[]
[]
[]
[]
[]
[]
[]
[]
[]
[]
[]
[]
[]
[]
[]
[]
[]
[]
[]
[]
[]
[]
[]
[]
[]
[]
[]
[]
[]
[]
[]
[]
[]
[]
[]
[]
[]
[]
[]
[]
[]
[]
[]
[]
[]
[]
[]
[]
[]
[]
[]
[]
[]
[]
[]
[]
[]
[]
[]
[]
[]
[]
[]
[]
[]
[]
[]
[]
[]
[]
[]
[]
[]
[]
[]
[]
[]
[]
[]
[]
[]
[]
[]
[]
[]
[]
[]
[]
[]
[]
[]
[]
[]
[]
[]
[]
[]
[]
[]
[]
[]
[]
[]
[]
[]
[]
[]
[]
[]
[]
[]
[]
[]
[]
[]
[]
[]
[]
[]
[]
[]
[]
[]
[]
[]
[]
[]
[]
[]
[]
[]
[]
[]
[]
[]
[]
[]
[]
[]
[]
[]
[]
[]
[]
[]
[]
[]
[]
[]
[]
[]
[]
[]
[]
[]
[]
[]
[]
[]
[]
[]
[]
[]
[]
[]
[]
[]
[]
[]
[]
[]
[]
[]
[]
[]
[]
[]
[]
[]
[]
[]
[]
[]
[]
[]
[]
[]
[]
[]
[]
[]
[]
[]
[]
[]
[]
[]
[]
[]
[]
[]
[]
[]
[]
[]
[]
[]
[]
[]
[]
[]
[]
[]
[]
[]
[]
[]
[]
[]
[]
[]
[]
[]
[]
[]
[]
[]
[]
[]
[]
[]
[]
[]
[]
[]
[]
[]
[]
[]
[]
[]
[]
[]
[]
[]
[]
[]
[]
[]
[]
[]
[]
[]
[]
[]
[]
[]
[]
[]
[]
[]
[]
[]
[]
[]
[]
[]
[]
[]
[]
[]
[]
[]
[]
[]
[]
[]
[]
[]
[]
[]
[]
[]
[]
[]
[]
[]
[]
[]
[]
[]
[]
[]
[]
[]
[]
[]
[]
[]
[]
[]
[]
[]
[]
[]
[]
[]
[]
[]
[]
[]
[]
[]
[]
[]
[]
[]
[]
[]
[]
[]
[]
[]
[]
[]
[]
[]
[]
[]
[]
[]
[]
[]
[]
[]
[]
[]
[]
[]
[]
[]
[]
[]
[]
[]
[]
[]
[]
[]
[]
[]
[]
[]
[]
[]
[]
[]
[]
[]
[]
[]
[]
[]
[]
[]
[]
[]
[]
[]
[]
[]
[]
[]
[]
[]
[]
[]
[]
[]
[]
[]
[]
[]
[]
[]
[]
[]
[]
[]
[]
[]
[]
[]
[]
[]
[null,null,null,null,null,null,null,null,"prvi red",null,null,null,null,null,null,null,null,null,"drugi red",null,null,null,null,"treci red",null,null,null,null,"treci red",null,null,null,null,null,null,null,null,null,"cetvrti red",null,null,null,null,null,null,null,null,null,"5 red",null,null,null,null,null,null,null,null,null,"6 red",null,null,null,null,null,null,null,null,null,"7 red",null,null,null,null,null,null,null,null,null,"8 red",null,null,null,null,null,null,null,null,null,"9 red",null,null,null,null,null,null,null,null,null,"10 red",null,null,null,null,null,null,null,null,null,"11 red",null,null,null,null,null,null,null,null,null,"12 red",null,null,null,null,null,null,null,null,null,"13 red",null,null,null,null,null,null,null,null,null,"14 red",null,null,null,null,null,null,null,null,null,"15 red",null,null,null,null,null,null,null,null,null,"16 red",null,null,null,null,null,null,null,null,null,"17 red",null,null,null,null,null,null,null,null,"Suma"]