{"text_format":"1","workbook":"xlsx","n_sheets":15,"sheets":["Uputstvo","Podaci","UnObr1","StObr1","UnObr2","StObr2","UnObr3","StObr3","UnObr4","StObr4","UnObr5","StObr5","Kontrole","KontrolnaStampa","Spisak"],"not_rendered":{"charts":0,"images":0,"macros":1,"external_links":0,"defined_names":8,"comments":1,"pivot_tables":0},"unopened":[],"bounds":{"document_bytes":16777216,"sheet_cells":100000,"rows_first":2000,"rows_last":500,"rows_between":2000,"halvings":0,"cell_chars":16384,"cell_head_chars":4096},"cells_cut":0,"cells_raw":0,"read":"whole","date_system":"1900"}

{"sheet":"Uputstvo","index":0,"n_rows":100,"n_cols":1,"rows_kept":100,"cut":false,"hidden":false,"merged":[]}
["Potrebno je ući u Tools>Macro>Security i podesiti Security Level na MEDIUM ili LOW.\n (excel 2003)\nili office button > excel options > trust center > trust center settings > macro settings > enable all macros > ok > ok (excel 2007). \nU oba slučaja čekirati Trust access to the Visual Basic (VBA) project object model\nZatim izaći iz programa pa ponovo pokrenuti datoteku"]
[]
["U kartici \"Podaci\" popunjavaju se podaci o korisniku budžetskih sredstava i njih je \nneophodno uneti zbog štampe obrazaca. Jedinstveni broj KBS i matični broj se popunjavaju sa vodećim nulama."]
[]
["U karticama UnObr1, UnObr2, UnObr3, UnObr4, UnObr5 :"]
[]
["Popunjavaju se samo bela polja, dok se u zasenčenim podaci sami izračunavaju."]
[]
["Nisu dozvoljeni zarezi i  tačke, podaci se upisuju samo kao celi brojevi."]
[]
["Pritiskom na zeleno dugme \"Štampa\" dobija se forma za štampu za taj obrazac."]
[]
["U kartici \"Kontrole\" nalaze se logičke kontrole u upoređenja ispravnosti jedinstvenog broja KBS i matičnog broja prema spisku Uprave za trezor. Ukoliko su polja crvene boje, \nznači da ta logička kontrola nije dobra ili su neispravni ili neupareni jedinstveni broj KBS i matični broj (treba da budu zelene boje)."]
[]
["Na kraju rada, sveska se spašava kao \"Zavrsni_XXXXX_N, gde je XXXXX oznaka JBBK,\na N oznaka statusne promene. Ukoliko nije bilo statusne promene oznaka N je \"0\", a ukoliko je bilo statusne promene oznaka N za period pre statusne promene je \"1\", a posle \nstatusne promene\"2\". "]
["Postupak spašavanja:\nFile>Save As...\nZavrsni_00458_0.xls (primer za JBKB 458 i bez statusne promene)"]
[]
[]
[]
[]
[]
[]
[]
[]
[]
[]
[]
[]
[]
[]
[]
[]
[]
[]
[]
[]
[]
[]
[]
[]
[]
[]
[]
[]
[]
[]
[]
[]
[]
[]
[]
[]
[]
[]
[]
[]
[]
[]
[]
[]
[]
[]
[]
[]
[]
[]
[]
[]
[]
[]
[]
[]
[]
[]
[]
[]
[]
[]
[]
[]
[]
[]
[]
[]
[]
[]
[]
[]
[]
[]
[]
[]
[]
[]
[]
[]
[]
[]
[]
["x"]

{"sheet":"Podaci","index":1,"n_rows":21,"n_cols":27,"rows_kept":21,"cut":false,"hidden":false,"merged":[[20,4,20,12],[12,1,12,41],[16,3,16,11],[17,3,17,11],[1,1,1,11],[1,12,1,17],[11,1,11,41],[8,1,8,3],[8,4,8,15],[8,26,8,42],[8,17,8,25],[10,1,10,39],[3,1,3,24],[4,1,4,42],[6,1,6,6],[6,7,6,15],[6,25,6,37],[6,17,6,24]]}
[]
[null,"Јединствени број КБС:",null,null,null,null,null,null,null,null,null,null,"08590"]
[]
[null,"НАЗИВ КОРИСНИКА БУЏЕТСКИХ СРЕДСТАВА:"]
[null,"ПРЕДШКОЛСКА  УСТАНОВА  \"БАМБИ\"  "]
[]
[null,"СЕДИШТЕ:",null,null,null,null,null,"КУЛА",null,null,null,null,null,null,null,null,null,"МАТИЧНИ БРОЈ:",null,null,null,null,null,null,null,"08004935"]
[]
[null,"ПИБ:",null,null,100261597,null,null,null,null,null,null,null,null,null,null,null,null,"БРОЈ ПОДРАЧУНА:",null,null,null,null,null,null,null,null,"840-49661-40"]
[]
[null,"НАЗИВ НАДЛЕЖНОГ ДИРЕКТНОГ КОРИСНИКА БУЏЕТСКИХ СРЕДСТАВА:"]
[null,"ОПШТИНА  КУЛА"]
[null,"(Попуњава само индиректни корисник буџетских средстава)"]
[]
[]
[null,"Период за који се ради финансијски извештај: "]
[null,"од:",null,"01.01.2017.",null,null,null,null,null,null,null,null,"(дд.мм.гггг.)"]
[null,"до:",null,"31.12.2017.",null,null,null,null,null,null,null,null,"(дд.мм.гггг.)"]
[]
[]
[null,"Датум:",null,null,"23.02.2018.",null,null,null,null,null,null,null,null,"(дд.мм.гггг.)"]

{"sheet":"UnObr1","index":2,"n_rows":250,"n_cols":9,"rows_kept":250,"cut":false,"hidden":false,"merged":[[207,2,207,4],[208,2,208,4],[209,2,209,4],[210,2,210,4],[203,2,203,4],[204,2,204,4],[216,2,216,4],[230,2,230,4],[228,2,228,4],[229,2,229,4],[220,2,220,4],[221,2,221,4],[222,2,222,4],[223,2,223,4],[211,2,211,4],[212,2,212,4],[213,2,213,4],[214,2,214,4],[215,2,215,4],[217,2,217,4],[205,2,205,4],[206,2,206,4],[245,2,245,4],[246,2,246,4],[233,2,233,4],[234,2,234,4],[235,2,235,4],[236,2,236,4],[238,2,238,4],[239,2,239,4],[240,2,240,4],[242,2,242,4],[243,2,243,4],[244,2,244,4],[231,2,231,4],[232,2,232,4],[224,2,224,4],[225,2,225,4],[226,2,226,4],[227,2,227,4],[218,2,218,4],[219,2,219,4],[241,2,241,4],[237,2,237,4],[199,2,199,4],[200,2,200,4],[201,2,201,4],[202,2,202,4],[195,2,195,4],[196,2,196,4],[197,2,197,4],[198,2,198,4],[191,2,191,4],[192,2,192,4],[193,2,193,4],[194,2,194,4],[187,2,187,4],[188,2,188,4],[189,2,189,4],[190,2,190,4],[183,2,183,4],[184,2,184,4],[185,2,185,4],[186,2,186,4],[180,2,180,4],[182,2,182,4],[181,2,181,4],[178,2,178,4],[179,2,179,4],[168,2,168,4],[169,2,169,4],[170,2,170,4],[171,2,171,4],[172,2,172,4],[173,2,173,4],[174,2,174,4],[175,2,175,4],[176,2,176,4],[177,2,177,4],[165,2,165,4],[167,2,167,4],[166,2,166,4],[161,2,161,4],[162,2,162,4],[163,2,163,4],[164,2,164,4],[157,2,157,4],[158,2,158,4],[159,2,159,4],[160,2,160,4],[153,2,153,4],[154,2,154,4],[155,2,155,4],[156,2,156,4],[149,2,149,4],[150,2,150,4],[151,2,151,4],[152,2,152,4],[145,2,145,4],[146,2,146,4],[147,2,147,4],[148,2,148,4],[141,2,141,4],[142,2,142,4],[143,2,143,4],[144,2,144,4],[137,2,137,4],[138,2,138,4],[139,2,139,4],[140,2,140,4],[133,2,133,4],[134,2,134,4],[135,2,135,4],[136,2,136,4],[129,2,129,4],[130,2,130,4],[131,2,131,4],[132,2,132,4],[125,2,125,4],[126,2,126,4],[127,2,127,4],[128,2,128,4],[121,2,121,4],[122,2,122,4],[123,2,123,4],[124,2,124,4],[117,2,117,4],[118,2,118,4],[119,2,119,4],[120,2,120,4],[113,2,113,4],[114,2,114,4],[115,2,115,4],[116,2,116,4],[111,2,111,4],[110,2,110,4],[112,2,112,4],[106,2,106,4],[107,2,107,4],[108,2,108,4],[109,2,109,4],[102,2,102,4],[103,2,103,4],[104,2,104,4],[105,2,105,4],[88,2,88,4],[81,2,81,4],[82,2,82,4],[98,2,98,4],[99,2,99,4],[100,2,100,4],[101,2,101,4],[93,2,93,4],[95,2,95,4],[96,2,96,4],[97,2,97,4],[94,2,94,4],[78,0,79,0],[0,0,2,0],[0,1,2,1],[0,2,2,2],[0,4,0,6],[1,4,2,4],[1,5,2,5],[1,3,2,3],[249,2,249,4],[78,1,79,1],[78,2,79,4],[78,5,78,6],[80,2,80,4],[247,2,247,4],[248,2,248,4],[83,2,83,4],[84,2,84,4],[85,2,85,4],[89,2,89,4],[90,2,90,4],[91,2,91,4],[92,2,92,4],[86,2,86,4],[87,2,87,4]]}
["Ознака ОП","Број конта","Опис","Износ из претходне године","Износ текуће године",null,null,null,"Штампа"]
[null,null,null,"(почетно стање)","Бруто","Исправка вредности","Нето"]
[null,null,null,null,null,null,"(5 – 6)"]
[1,2,3,4,5,6,7]
[null,null,"АКТИВА"]
[1001,"000000","НEФИНАНСИЈСКА ИМОВИНА \n(1002 + 1020)",{"$f":"D7+D25","v":80930},{"$f":"E7+E25","v":131995},{"$f":"F7+F25","v":53120},{"$f":"E6-F6","v":78875}]
[1002,"010000","НЕФИНАНСИЈСКА ИМОВИНА У СТАЛНИМ СРЕДСТВИМА \n(1003 + 1007 + 1009 + 1011 + 1015 + 1018)",{"$f":"D8+D12+D14+D16+D20+D23","v":80930},{"$f":"E8+E12+E14+E16+E20+E23","v":131995},{"$f":"F8+F12+F14+F16+F20+F23","v":53120},{"$f":"E7-F7","v":78875}]
[1003,"011000","НЕКРЕТНИНЕ И ОПРЕМА \n(од 1004 до 1006)",{"$f":"SUM(D9:D11)","v":80930},{"$f":"SUM(E9:E11)","v":131995},{"$f":"SUM(F9:F11)","v":53120},78875]
[1004,"011100","Зграде и грађевински објекти",72129,102749,32157,{"$f":"E9-F9","v":70592}]
[1005,"011200","Опрема",8801,29246,20963,{"$f":"E10-F10","v":8283}]
[1006,"011300","Остале некретнине и опрема",null,null,null,{"$f":"E11-F11","v":0}]
[1007,"012000","КУЛТИВИСАНА ИМОВИНА (1008)",{"$f":"D13","v":0},{"$f":"E13","v":0},{"$f":"F13","v":0},0]
[1008,"012100","Култивисана имовина",null,null,null,0]
[1009,"013000","ДРАГОЦЕНОСТИ (1010)",{"$f":"D15","v":0},{"$f":"E15","v":0},{"$f":"F15","v":0},0]
[1010,"013100","Драгоцености",null,null,null,0]
[1011,"014000","ПРИРОДНА ИМОВИНА \n(од 1012 до 1014)",{"$f":"SUM(D17:D19)","v":0},{"$f":"SUM(E17:E19)","v":0},{"$f":"SUM(F17:F19)","v":0},0]
[1012,"014100","Земљиште ",null,null,null,0]
[1013,"014200","Подземна блага",null,null,null,0]
[1014,"014300","Шуме и воде",null,null,null,0]
[1015,"015000","НЕФИНАНСИЈСКА ИМОВИНА У ПРИПРЕМИ И АВАНСИ (1016 + 1017)",{"$f":"D21+D22","v":0},{"$f":"E21+E22","v":0},{"$f":"F21+F22","v":0},0]
[1016,"015100","Нефинансијска имовина у припреми",null,null,null,0]
[1017,"015200","Аванси за нефинансијску имовину",null,null,null,0]
[1018,"016000","НЕМАТЕРИЈАЛНА ИМОВИНА (1019)",{"$f":"D24","v":0},{"$f":"E24","v":0},{"$f":"F24","v":0},0]
[1019,"016100","Нематеријална имовина",null,null,null,0]
[1020,"020000","НЕФИНАНСИЈСКА ИМОВИНА У ЗАЛИХАМА (1021 + 1025)",{"$f":"D26+D30","v":0},{"$f":"E26+E30","v":0},{"$f":"F26+F30","v":0},0]
[1021,"021000","ЗАЛИХЕ (од 1022 до 1024)",{"$f":"SUM(D27:D29)","v":0},{"$f":"SUM(E27:E29)","v":0},{"$f":"SUM(F27:F29)","v":0},0]
[1022,"021100","Робне резерве",null,null,null,0]
[1023,"021200","Залихе производње",null,null,null,0]
[1024,"021300","Роба за даљу продају",null,null,null,0]
[1025,"022000","ЗАЛИХЕ СИТНОГ ИНВЕНТАРА И ПОТРОШНОГ МАТЕРИЈАЛА\n(1026 + 1027)",{"$f":"D31+D32","v":0},{"$f":"E31+E32","v":0},{"$f":"F31+F32","v":0},0]
[1026,"022100","Залихе ситног инвентара ",null,null,null,0]
[1027,"022200","Залихе потрошног материјала",null,null,null,0]
[1028,100000,"ФИНАНСИЈСКА ИМОВИНА \n(1029 + 1049 + 1067)",{"$f":"D34+D54+D72","v":3409},{"$f":"E34+E54+E72","v":6804},{"$f":"F34+F54+F72","v":0},6804]
[1029,110000,"ДУГОРОЧНА ФИНАНСИЈСКА ИМОВИНА (1030 + 1040)",{"$f":"D35+D45","v":0},{"$f":"E35+E45","v":0},{"$f":"F35+F45","v":0},0]
[1030,111000,"ДУГОРОЧНА ДОМАЋА ФИНАНСИЈСКА ИМОВИНА \n(од 1031 до 1039)",{"$f":"SUM(D36:D44)","v":0},{"$f":"SUM(E36:E44)","v":0},{"$f":"SUM(F36:F44)","v":0},0]
[1031,111100,"Дугорочне домаће хартије од вредности, изузев акција",null,null,null,0]
[1032,111200,"Кредити осталим нивоима власти",null,null,null,0]
[1033,111300,"Кредити домаћим јавним финансијским институцијама",null,null,null,0]
[1034,111400,"Кредити домаћим пословним банкама",null,null,null,0]
[1035,111500,"Кредити домаћим јавним нефинансијским  институцијама",null,null,null,0]
[1036,111600,"Кредити физичким лицима и домаћинствима у земљи",null,null,null,0]
[1037,111700,"Кредити домаћим невладиним организацијама",null,null,null,0]
[1038,111800,"Кредити домаћим нефинансијским приватним предузећима",null,null,null,0]
[1039,111900,"Домаће акције и остали капитал",null,null,null,0]
[1040,112000,"ДУГОРОЧНA СТРАНА ФИНАНСИЈСКА ИМОВИНА (од 1041 до 1048)",{"$f":"SUM(D46:D53)","v":0},{"$f":"SUM(E46:E53)","v":0},{"$f":"SUM(F46:F53)","v":0},0]
[1041,112100,"Дугорочне стране хартије од вредности, изузев акција",null,null,null,0]
[1042,112200,"Кредити страним владама",null,null,null,0]
[1043,112300,"Кредити међународним организацијама",null,null,null,0]
[1044,112400,"Кредити страним пословним банкама",null,null,null,0]
[1045,112500,"Кредити страним нефинансијским институцијама",null,null,null,0]
[1046,112600,"Кредити страним невладиним организацијама",null,null,null,0]
[1047,112700,"Стране акције и остали капитал",null,null,null,0]
[1048,112800,"Страни финансијски деривати",null,null,null,0]
[1049,120000,"НОВЧАНА СРЕДСТВА, ПЛЕМЕНИТИ МЕТАЛИ, ХАРТИЈЕ ОД ВРЕДНОСТИ, ПОТРАЖИВАЊА И КРАТКОРОЧНИ ПЛАСМАНИ (1050 + 1060 + 1062)",{"$f":"D55+D65+D67","v":711},{"$f":"E55+E65+E67","v":807},{"$f":"F55+F65+F67","v":0},807]
[1050,121000,"НОВЧАНА СРЕДСТВА, ПЛЕМЕНИТИ МЕТАЛИ, ХАРТИЈЕ ОД ВРЕДНОСТИ (од 1051 до 1059)",{"$f":"SUM(D56:D64)","v":1},{"$f":"SUM(E56:E64)","v":6},{"$f":"SUM(F56:F64)","v":0},6]
[1051,121100,"Жиро и текући рачуни",1,6,null,6]
[1052,121200,"Издвојена новчана средства и акредитиви",null,null,null,0]
[1053,121300,"Благајна",null,null,null,0]
[1054,121400,"Девизни рачун",null,null,null,0]
[1055,121500,"Девизни акредитиви",null,null,null,0]
[1056,121600,"Девизна благајна",null,null,null,0]
[1057,121700,"Остала новчана средства",null,null,null,0]
[1058,121800,"Племенити метали",null,null,null,0]
[1059,121900,"Хартије од вредности",null,null,null,0]
[1060,122000,"КРАТКОРОЧНА ПОТРАЖИВАЊА (1061)",{"$f":"D66","v":710},{"$f":"E66","v":801},{"$f":"F66","v":0},801]
[1061,122100,"Потраживања по основу продаје и друга потраживања",710,801,null,801]
[1062,123000,"КРАТКОРОЧНИ ПЛАСМАНИ\n(од 1063 до 1066)",{"$f":"SUM(D68:D71)","v":0},{"$f":"SUM(E68:E71)","v":0},{"$f":"SUM(F68:F71)","v":0},0]
[1063,123100,"Краткорочни кредити",null,null,null,0]
[1064,123200,"Дати аванси, депозити и кауције",null,null,null,0]
[1065,123300,"Хартије од вредности намењене продаји",null,null,null,0]
[1066,123900,"Остали краткорочни пласмани",null,null,null,{"$f":"E71-F71","v":0}]
[1067,130000,"АКТИВНА ВРЕМЕНСКА РАЗГРАНИЧЕЊА (1068)",{"$f":"D73","v":2698},{"$f":"E73","v":5997},{"$f":"F73","v":0},5997]
[1068,131000,"АКТИВНА ВРЕМЕНСКА РАЗГРАНИЧЕЊА (од 1069 до 1071)",{"$f":"SUM(D74:D76)","v":2698},{"$f":"SUM(E74:E76)","v":5997},{"$f":"SUM(F74:F76)","v":0},5997]
[1069,131100,"Разграничени расходи до једне године",null,null,null,0]
[1070,131200,"Обрачунати неплаћени расходи и издаци",2698,5997,null,5997]
[1071,131300,"Остала активна временска разграничења",null,null,null,0]
[1072,null,"УКУПНА АКТИВА (1001 + 1028)",{"$f":"D6+D33","v":84339},{"$f":"E6+E33","v":138799},{"$f":"F6+F33","v":53120},85679]
[1073,351000,"ВАНБИЛАНСНА АКТИВА",null,1964,null,1964]
["Ознака ОП","Број конта","Опис",null,null,"Износ"]
[null,null,null,null,null,"Претходна година","Текућа година"]
[1,2,3,null,null,4,5]
[null,null,"ПАСИВА"]
[1074,200000,"ОБАВЕЗЕ (1075 + 1099 + 1118 + 1173 + 1198 + 1212)",null,null,{"$f":"F84+F108+F127+F182+F207+F221","v":3408},{"$f":"G84+G108+G127+G182+G207+G221","v":6798}]
[1075,210000,"ДУГОРОЧНЕ ОБАВЕЗЕ (1076 + 1086 + 1093 + 1095 + 1097)",null,null,{"$f":"F85+F95+F102+F104+F106","v":0},{"$f":"G85+G95+G102+G104+G106","v":0}]
[1076,211000,"ДОМАЋЕ ДУГОРОЧНЕ ОБАВЕЗЕ (од 1077 до 1085)",null,null,{"$f":"SUM(F86:F94)","v":0},{"$f":"SUM(G86:G94)","v":0}]
[1077,211100,"Обавезе по основу емитованих хартија од вредности, изузев акција"]
[1078,211200,"Обавезе по основу дугорочних кредита од осталих нивоа власти"]
[1079,211300,"Обавезе по основу дугорочних кредита од домаћих јавних финансијских институција"]
[1080,211400,"Обавезе по основу дугорочних кредита од домаћих пословних банака"]
[1081,211500,"Обавезе по основу дугорочних кредита од осталих домаћих кредитора"]
[1082,211600,"Обавезе по основу дугорочних кредита од домаћинстава у земљи"]
[1083,211700,"Дугорочне обавезе по основу домаћих финансијских деривата"]
[1084,211800,"Дугорочне обавезе по основу домаћих меница"]
[1085,211900,"Дугорочне обавезе за финансијске лизинге"]
[1086,212000,"СТРАНЕ ДУГОРОЧНЕ ОБАВЕЗЕ (од 1087 до 1092)",null,null,{"$f":"SUM(F96:F101)","v":0},{"$f":"SUM(G96:G101)","v":0}]
[1087,212100,"Дугорочне стране обавезе по основу емитованих хартија од вредности, изузев акција"]
[1088,212200,"Обавезе по основу дугорочних кредита од страних влада"]
[1089,212300,"Обавезе по основу дугорочних кредита од мултилатералних институција"]
[1090,212400,"Обавезе по основу дугорочних кредита од страних пословних банака"]
[1091,212500,"Обавезе по основу дугорочних кредита од осталих страних кредитора"]
[1092,212600,"Дугорочне обавезе по основу страних финансијских деривата"]
[1093,213000,"ДУГОРОЧНЕ ОБАВЕЗЕ ПО ОСНОВУ ГАРАНЦИЈА (1094)",null,null,{"$f":"F103","v":0},{"$f":"G103","v":0}]
[1094,213100,"Дугорочне обавезе по основу гаранција"]
[1095,214000,"ОБАВЕЗЕ ПО ОСНОВУ ОТПЛАТЕ ГЛАВНИЦЕ ЗА ФИНАНСИЈСКИ ЛИЗИНГ (1096)",null,null,{"$f":"F105","v":0},{"$f":"G105","v":0}]
[1096,214100,"Обавезе по основу отплате главнице зa финансијски лизинг"]
[1097,215000,"ОБАВЕЗЕ ПО ОСНОВУ ОТПЛАТА ГАРАНЦИЈА ПО КОМЕРЦИЈАЛНИМ ТРАНСАКЦИЈАМА (1098)",null,null,{"$f":"F107","v":0},{"$f":"G107","v":0}]
[1098,215100,"Обавезе по основу отплата гаранција по комерцијалним трансакцијама"]
[1099,220000,"КРАТКОРОЧНЕ ОБАВЕЗЕ (1100 + 1109 + 1116)",null,null,{"$f":"F109+F118+F125","v":0},{"$f":"G109+G118+G125","v":0}]
[1100,221000,"КРАТКОРОЧНЕ ДОМАЋЕ ОБАВЕЗЕ (од 1101 до 1108)",null,null,{"$f":"SUM(F110:F117)","v":0},{"$f":"SUM(G110:G117)","v":0}]
[1101,221100,"Краткорочне домаће обавезе по основу емитованих хартија од вредности, изузев акција"]
[1102,221200,"Обавезе по основу краткорочних кредита од осталих нивоа власти"]
[1103,221300,"Обавезе по основу краткорочних кредита од домаћих јавних финансијских институција"]
[1104,221400,"Обавезе по основу краткорочних кредита од домаћих пословних банака"]
[1105,221500,"Обавезе по основу краткорочних кредита од осталих домаћих кредитора"]
[1106,221600,"Обавезе по основу краткорочних кредита од домаћинстава у земљи"]
[1107,221700,"Краткорочне обавезе по основу домаћих финансијских деривата"]
[1108,221800,"Краткорочне обавезе по основу домаћих меница"]
[1109,222000,"КРАТКОРОЧНЕ СТРАНЕ ОБАВЕЗЕ (од 1110 до 1115)",null,null,{"$f":"SUM(F119:F124)","v":0},{"$f":"SUM(G119:G124)","v":0}]
[1110,222100,"Краткорочне стране обавезе по основу емитованих хартија од вредности, изузев акција"]
[1111,222200,"Обавезе по основу краткорочних кредита од страних влада"]
[1112,222300,"Обавезе по основу краткорочних кредита од мултилатералних институција"]
[1113,222400,"Обавезе по основу краткорочних кредита од страних пословних банака"]
[1114,222500,"Обавезе по основу краткорочних кредита од осталих страних кредитора"]
[1115,222600,"Краткорочне обавезе по основу страних финансијских деривата"]
[1116,223000,"КРАТКОРОЧНЕ ОБАВЕЗЕ ПО ОСНОВУ ГАРАНЦИЈА (1117)",null,null,{"$f":"F126","v":0},{"$f":"G126","v":0}]
[1117,223100,"Краткорочне обавезе по основу гаранција"]
[1118,230000,"ОБАВЕЗЕ ПО ОСНОВУ РАСХОДА ЗА ЗАПОСЛЕНЕ (1119 + 1125 + 1131 + 1137 + 1141+ 1147 + 1153 + 1161 + 1167)",null,null,{"$f":"F128+F134+F140+F146+F150+F156+F162+F170+F176","v":1371},{"$f":"G128+G134+G140+G146+G150+G156+G162+G170+G176","v":3918}]
[1119,231000,"ОБАВЕЗЕ ЗА ПЛАТЕ И ДОДАТКЕ (од 1120 до 1124)",null,null,{"$f":"SUM(F129:F133)","v":0},{"$f":"SUM(G129:G133)","v":2324}]
[1120,231100,"Обавезе за нето плате и додатке",null,null,null,1629]
[1121,231200,"Обавезе по основу пореза на плате и додатке",null,null,null,233]
[1122,231300,"Обавезе по основу доприноса за пензијско и инвалидско осигурање на плате и додатке",null,null,null,325]
[1123,231400,"Обавезе по основу доприноса за здравствено осигурање на плате и додатке",null,null,null,120]
[1124,231500,"Обавезе по основу доприноса за незапосленост на плате и додатке",null,null,null,17]
[1125,232000,"ОБАВЕЗЕ ПО ОСНОВУ НАКНАДА ЗАПОСЛЕНИМА (од 1126 до 1130)",null,null,{"$f":"SUM(F135:F139)","v":1371},{"$f":"SUM(G135:G139)","v":1178}]
[1126,232100,"Обавезе по основу нето накнада запосленима",null,null,840,767]
[1127,232200,"Обавезе по основу пореза на плате за накнаде запосленима",null,null,91,76]
[1128,232300,"Обавезе по основу доприноса за пензијско и инвалидско осигурање за накнаде запосленима",null,null,316,231]
[1129,232400,"Обавезе по основу доприноса за здравствено осигурање за накнаде запосленима",null,null,108,91]
[1130,232500,"Обавезе по основу доприноса за незапосленост за накнаде запосленима",null,null,16,13]
[1131,233000,"ОБАВЕЗЕ ЗА НАГРАДЕ И ОСТАЛЕ ПОСЕБНЕ РАСХОДЕ (од 1132 до 1136)",null,null,{"$f":"SUM(F141:F145)","v":0},{"$f":"SUM(G141:G145)","v":0}]
[1132,233100,"Обавезе по основу нето исплата награда и осталих посебних расхода"]
[1133,233200,"Обавезе по основу пореза на награде и остале посебне расходе"]
[1134,233300,"Обавезе по основу доприноса за пензијско и инвалидско осигурање за награде и остале посебне расходе"]
[1135,233400,"Обавезе по основу доприноса за здравствено осигурање за награде и остале посебне расходе"]
[1136,233500,"Обавезе по основу доприноса за случај незапослености за награде и остале посебне расходе"]
[1137,234000,"ОБАВЕЗЕ ПО ОСНОВУ СОЦИЈАЛНИХ ДОПРИНОСА НА ТЕРЕТ ПОСЛОДАВЦА (од 1138 до 1140)",null,null,{"$f":"SUM(F147:F149)","v":0},{"$f":"SUM(G147:G149)","v":416}]
[1138,234100,"Обавезе по основу доприноса за пензијско и инвалидско осигурање на терет послодавца",null,null,null,279]
[1139,234200,"Обавезе по основу доприноса за здравствено осигурање на терет послодавца",null,null,null,120]
[1140,234300,"Обавезе по основу доприноса за случај незапослености на терет послодавца",null,null,null,17]
[1141,235000,"ОБАВЕЗЕ ПО ОСНОВУ НАКНАДА У НАТУРИ (од 1142 до 1146)",null,null,{"$f":"SUM(F151:F155)","v":0},{"$f":"SUM(G151:G155)","v":0}]
[1142,235100,"Обавезе по основу нето накнада у натури"]
[1143,235200,"Обавезе по основу пореза на накнаде у натури"]
[1144,235300,"Обавезе по основу доприноса за пензијско и инвалидско осигурање за накнаде у натури"]
[1145,235400,"Обавезе по основу доприноса за здравствено осигурање за накнаде у натури"]
[1146,235500,"Обавезе по основу доприноса за случај незапослености за накнаде у натури"]
[1147,236000,"ОБАВЕЗЕ ПО ОСНОВУ СОЦИЈАЛНЕ ПОМОЋИ ЗАПОСЛЕНИМА (од 1148 до 1152)",null,null,{"$f":"SUM(F157:F161)","v":0},{"$f":"SUM(G157:G161)","v":0}]
[1148,236100,"Обавезе по основу нето исплата социјалне помоћи запосленима"]
[1149,236200,"Обавезе по основу пореза на социјалну помоћ запосленима"]
[1150,236300,"Обавезе по основу доприноса за пензијско и инвалидско осигурање за социјалну помоћ запосленима"]
[1151,236400,"Обавезе по основу доприноса за здравствено осигурање за социјалну помоћ запосленима"]
[1152,236500,"Обавезе по основу доприноса за случај незапослености за социјалну помоћ запосленима"]
[1153,237000,"СЛУЖБЕНА ПУТОВАЊА И УСЛУГЕ ПО УГОВОРУ (од 1154 до 1160)",null,null,{"$f":"SUM(F163:F169)","v":0},{"$f":"SUM(G163:G169)","v":0}]
[1154,237100,"Обавезе по основу нето исплата за службена путовања"]
[1155,237200,"Обавезе по основу пореза на исплате за службена путовања "]
[1156,237300,"Обавезе по основу нето исплата за услуге по уговору"]
[1157,237400,"Обавезе по основу пореза на исплате за услуге по уговору"]
[1158,237500,"Обавезе по основу доприноса за пензијско и инвалидско осигурање за услуге по уговору"]
[1159,237600,"Обавезе по основу доприноса за здравствено осигурање за услуге по уговору"]
[1160,237700,"Обавезе по основу доприноса за случај незапослености за услуге по уговору"]
[1161,238000,"ОБАВЕЗЕ ПО ОСНОВУ ПОСЛАНИЧКИХ ДОДАТАКА (од 1162 до 1166)",null,null,{"$f":"SUM(F171:F175)","v":0},{"$f":"SUM(G171:G175)","v":0}]
[1162,238100,"Обавезе за нето исплаћени посланички додатак"]
[1163,238200,"Обавезе по основу пореза на исплаћени посланички додатак"]
[1164,238300,"Обавезе по основу доприноса за пензијско и инвалидско осигурање за посланички додатак"]
[1165,238400,"Обавезе по основу доприноса за здравствено осигурање за посланички додатак"]
[1166,238500,"Обавезе по основу доприноса за случај незапослености за посланички додатак"]
[1167,239000,"ОБАВЕЗЕ ПО ОСНОВУ СУДИЈСКИХ ДОДАТАКА (од 1168 до 1172)",null,null,{"$f":"SUM(F177:F181)","v":0},{"$f":"SUM(G177:G181)","v":0}]
[1168,239100,"Обавезе за нето исплаћени судијски додатак"]
[1169,239200,"Обавезе по основу пореза на исплаћени судијски додатак"]
[1170,239300,"Обавезе по основу доприноса за пензијско и инвалидско осигурање за судијски додатак"]
[1171,239400,"Обавезе по основу доприноса за здравствено осигурање за судијски додатак"]
[1172,239500,"Обавезе по основу доприноса за случај незапослености за судијски додатак"]
[1173,240000,"ОБАВЕЗЕ ПО ОСНОВУ ОСТАЛИХ РАСХОДА, ИЗУЗЕВ РАСХОДА ЗА ЗАПОСЛЕНЕ (1174 + 1179+ 1184 + 1189 + 1192)",null,null,{"$f":"F183+F188+F193+F198+F201","v":0},{"$f":"G183+G188+G193+G198+G201","v":0}]
[1174,241000,"ОБАВЕЗЕ ПО ОСНОВУ ОТПЛАТЕ КАМАТА И ПРАТЕЋИХ ТРОШКОВА ЗАДУЖИВАЊА (од 1175 до 1178)",null,null,{"$f":"SUM(F184:F187)","v":0},{"$f":"SUM(G184:G187)","v":0}]
[1175,241100,"Обавезе по основу отплате домаћих камата"]
[1176,241200,"Обавезе по основу отплате страних камата"]
[1177,241300,"Обавезе по основу отплате камата по гаранцијама"]
[1178,241400,"Обавезе по основу пратећих трошкова задуживања"]
[1179,242000,"ОБАВЕЗЕ ПО ОСНОВУ СУБВЕНЦИЈА (од 1180 до 1183)",null,null,{"$f":"SUM(F189:F192)","v":0},{"$f":"SUM(G189:G192)","v":0}]
[1180,242100,"Обавезе по основу субвенција нефинансијским предузећима"]
[1181,242200,"Обавезе по основу субвенција приватним финансијским предузећима"]
[1182,242300,"Обавезе по основу субвенција јавним финансијским установама"]
[1183,242400,"Обавезе по основу субвенција приватним предузећима"]
[1184,243000,"ОБАВЕЗЕ ПО ОСНОВУ ДОНАЦИЈА, ДОТАЦИЈА И ТРАНСФЕРА (од 1185 до 1188)",null,null,{"$f":"SUM(F194:F197)","v":0},{"$f":"SUM(G194:G197)","v":0}]
[1185,243100,"Обавезе по основу донација страним владама"]
[1186,243200,"Обавезе по основу дотација међународним организацијама"]
[1187,243300,"Обавезе по основу трансфера осталим нивоима власти"]
[1188,243400,"Обавезе по основу дотација организацијама обавезног социјалног осигурања"]
[1189,244000,"ОБАВЕЗЕ ЗА СОЦИЈАЛНО ОСИГУРАЊЕ (1190 + 1191)",null,null,{"$f":"F199+F200","v":0},{"$f":"G199+G200","v":0}]
[1190,244100,"Обавезе по основу права из социјалног осигурања код организација обавезног социјалног осигурања"]
[1191,244200,"Обавезе по основу социјалне помоћи из буџета"]
[1192,245000,"ОБАВЕЗЕ ЗА ОСТАЛЕ РАСХОДЕ (од 1193 до 1197)",null,null,{"$f":"SUM(F202:F206)","v":0},{"$f":"SUM(G202:G206)","v":0}]
[1193,245100,"Обавезе по основу дотација невладиним организацијама"]
[1194,245200,"Обавезе за остале порезе, обавезне таксе и казне"]
[1195,245300,"Обавезе по основу казни и пенала по решењима судова"]
[1196,245400,"Обавезе по основу накнаде штете за повреде и штете услед елементарних непогода"]
[1197,245500,"Обавезе по основу накнаде штете или повреда нанетих од стране државних органа"]
[1198,250000,"ОБАВЕЗЕ ИЗ ПОСЛОВАЊА (1199 + 1203 + 1206 + 1208)",null,null,{"$f":"F208+F212+F215+F217","v":1327},{"$f":"G208+G212+G215+G217","v":2097}]
[1199,251000,"ПРИМЉЕНИ АВАНСИ, ДЕПОЗИТИ И КАУЦИЈЕ (од 1200 до 1202)",null,null,{"$f":"SUM(F209:F211)","v":0},{"$f":"SUM(G209:G211)","v":0}]
[1200,251100,"Примљени аванси"]
[1201,251200,"Примљени депозити"]
[1202,251300,"Примљене кауције"]
[1203,252000,"ОБАВЕЗЕ ПРЕМА ДОБАВЉАЧИМА (1204 + 1205)",null,null,{"$f":"F213+F214","v":1327},{"$f":"G213+G214","v":1654}]
[1204,252100,"Добављачи у земљи",null,null,1327,1654]
[1205,252200,"Добављачи у иностранству"]
[1206,253000,"ОБАВЕЗЕ ЗА ИЗДАТЕ ЧЕКОВЕ И ОБВЕЗНИЦЕ (1207)",null,null,{"$f":"F216","v":0},{"$f":"G216","v":0}]
[1207,253100,"Обавезе за издате чекове и обвезнице"]
[1208,254000,"ОСТАЛЕ ОБАВЕЗЕ (1209 до 1211)",null,null,{"$f":"SUM(F218:F220)","v":0},{"$f":"SUM(G218:G220)","v":443}]
[1209,254100,"Обавезе из односа буџета и буџетских корисника",null,null,null,426]
[1210,254200,"Остале обавезе буџета"]
[1211,254900,"Остале обавезе из пословања",null,null,null,17]
[1212,290000,"ПАСИВНА ВРЕМЕНСКА РАЗГРАНИЧЕЊА (1213)",null,null,{"$f":"F222","v":710},{"$f":"G222","v":783}]
[1213,291000,"ПАСИВНА ВРЕМЕНСКА РАЗГРАНИЧЕЊА (од 1214 до 1217)",null,null,{"$f":"SUM(F223:F226)","v":710},{"$f":"SUM(G223:G226)","v":783}]
[1214,291100,"Разграничени приходи и примања"]
[1215,291200,"Разграничени плаћени расходи и издаци"]
[1216,291300,"Обрачунати ненаплаћени приходи и примања"]
[1217,291900,"Остала пасивна временска разграничења",null,null,710,783]
[1218,300000,"КАПИТАЛ, УТВРЂИВАЊЕ РЕЗУЛТАТА ПОСЛОВАЊА И ВАНБИЛАНСНА ЕВИДЕНЦИЈА\n(1219 + 1229 - 1230 + 1231 - 1232 + 1233 - 1234)",null,null,{"$f":"IF((F228+F238-F239+F240-F241+F243-F244)>=0,F228+F238-F239+F240-F241+F243-F244,0)","v":80931},{"$f":"IF((G228+G238-G239+G240-G241+G243-G244)>=0,G228+G238-G239+G240-G241+G243-G244,0)","v":78881}]
[1219,310000,"КАПИТАЛ (1220)",null,null,{"$f":"F229","v":80930},{"$f":"G229","v":78875}]
[1220,311000,"КАПИТАЛ (1221 + 1222 - 1223 + 1224 + 1225 - 1226 + 1227 + 1228)",null,null,{"$f":"IF((F230+F231-F232+F233+F234-F235+F236+F237)>=0,F230+F231-F232+F233+F234-F235+F236+F237,0)","v":80930},{"$f":"IF((G230+G231-G232+G233+G234-G235+G236+G237)>=0,G230+G231-G232+G233+G234-G235+G236+G237,0)","v":78875}]
[1221,311100,"Нефинансијска имовина у сталним средствима",null,null,80930,78875]
[1222,311200,"Нефинансијска имовина у залихама"]
[1223,311300,"Исправка вредности сопствених извора нефинансијске имовине, у сталним средствима, за набавке из кредита"]
[1224,311400,"Финансијска имовина"]
[1225,311500,"Извори новчаних средстава"]
[1226,311600,"Утрошена средства текућих прихода и примања од продаје нефинансијске имовине у току једне године"]
[1227,311700,"Пренета неутрошена средства из ранијих година"]
[1228,311900,"Остали сопствени извори"]
[1229,321121,"Вишак прихода и примања – суфицит",null,null,null,5]
[1230,321122,"Мањак прихода и примања – дефицит"]
[1231,321311,"Нераспоређени вишак прихода и примања из ранијих година",null,null,1,1]
[1232,321312,"Дефицит из ранијих година"]
[null,null,"ПРОМЕНЕ У ВРЕДНОСТИ И ОБИМУ"]
[1233,null,"ПОЗИТИВНЕ ПРОМЕНЕ У ВРЕДНОСТИ И ОБИМУ (1235 + 1237 - 1236 - 1238)",null,null,{"$f":"IF((F245+F247-F246-F248)>=0,F245+F247-F246-F248,0)","v":0},{"$f":"IF((G245+G247-G246-G248)>=0,G245+G247-G246-G248,0)","v":0}]
[1234,null,"НЕГАТИВНЕ ПРОМЕНЕ У ВРЕДНОСТИ И ОБИМУ (1236 + 1238 - 1235 - 1237)",null,null,{"$f":"IF((F246+F248-F245-F247)>=0,F246+F248-F245-F247,0)","v":0},{"$f":"IF((G246+G248-G245-G247)>=0,G246+G248-G245-G247,0)","v":0}]
[1235,330000,"ДОБИТИ КОЈЕ СУ РЕЗУЛТАТ ПРОМЕНЕ ВРЕДНОСТИ - ПОТРАЖНИ САЛДО"]
[1236,330000,"ДОБИТИ КОЈЕ СУ РЕЗУЛТАТ ПРОМЕНЕ ВРЕДНОСТИ - ДУГОВНИ САЛДО"]
[1237,340000,"ДРУГЕ ПРОМЕНЕ У ОБИМУ - ПОТРАЖНИ САЛДО"]
[1238,340000,"ДРУГЕ ПРОМЕНЕ У ОБИМУ - ДУГОВНИ САЛДО"]
[1239,null,"УКУПНА ПАСИВА (1074 + 1218)",null,null,{"$f":"F83+F227","v":84339},{"$f":"G83+G227","v":85679}]
[1240,352000,"ВАНБИЛАНСНА ПАСИВА ",null,null,null,1964]

{"sheet":"StObr1","index":3,"n_rows":315,"n_cols":44,"rows_kept":315,"cut":false,"hidden":false,"merged":[[253,34,254,43],[255,0,255,2],[255,3,255,6],[255,7,255,23],[255,24,255,33],[255,34,255,43],[154,0,154,2],[154,3,154,6],[154,7,154,23],[154,24,154,33],[154,34,154,43],[251,0,254,2],[251,3,254,6],[251,7,254,23],[251,24,252,43],[253,24,254,33],[150,0,153,2],[150,3,153,6],[150,7,153,23],[150,24,151,43],[152,24,153,33],[152,34,153,43],[155,0,155,2],[155,3,155,6],[155,7,155,23],[155,24,155,33],[155,34,155,43],[156,0,156,2],[156,3,156,6],[156,7,156,23],[156,24,156,33],[156,34,156,43],[0,37,0,42],[1,0,1,43],[4,0,5,2],[4,4,5,9],[4,11,5,18],[4,20,5,24],[4,26,5,30],[4,32,5,32],[4,34,5,43],[16,1,16,42],[7,1,7,24],[8,1,8,42],[10,1,10,6],[10,7,10,15],[10,17,10,23],[10,25,10,37],[27,34,27,38],[27,39,27,43],[17,1,17,41],[20,15,20,26],[23,35,23,43],[12,1,12,3],[12,4,12,15],[12,17,12,24],[12,25,12,40],[14,1,14,39],[21,15,21,19],[21,25,21,29],[28,7,28,23],[28,24,28,28],[28,29,28,33],[28,34,28,38],[24,0,27,2],[24,3,27,6],[24,7,27,23],[24,24,27,28],[24,29,26,43],[27,29,27,33],[28,39,28,43],[29,0,29,2],[29,3,29,6],[29,7,29,23],[29,24,29,28],[29,29,29,33],[29,34,29,38],[29,39,29,43],[28,0,28,2],[28,3,28,6],[31,34,31,38],[31,39,31,43],[30,0,30,2],[30,3,30,6],[30,7,30,23],[30,24,30,28],[30,29,30,33],[30,34,30,38],[32,7,32,23],[32,24,32,28],[32,29,32,33],[32,34,32,38],[30,39,30,43],[31,0,31,2],[31,3,31,6],[31,7,31,23],[31,24,31,28],[31,29,31,33],[32,39,32,43],[33,0,33,2],[33,3,33,6],[33,7,33,23],[33,24,33,28],[33,29,33,33],[33,34,33,38],[33,39,33,43],[32,0,32,2],[32,3,32,6],[35,34,35,38],[35,39,35,43],[34,0,34,2],[34,3,34,6],[34,7,34,23],[34,24,34,28],[34,29,34,33],[34,34,34,38],[36,7,36,23],[36,24,36,28],[36,29,36,33],[36,34,36,38],[34,39,34,43],[35,0,35,2],[35,3,35,6],[35,7,35,23],[35,24,35,28],[35,29,35,33],[36,39,36,43],[37,0,37,2],[37,3,37,6],[37,7,37,23],[37,24,37,28],[37,29,37,33],[37,34,37,38],[37,39,37,43],[36,0,36,2],[36,3,36,6],[39,34,39,38],[39,39,39,43],[38,0,38,2],[38,3,38,6],[38,7,38,23],[38,24,38,28],[38,29,38,33],[38,34,38,38],[40,7,40,23],[40,24,40,28],[40,29,40,33],[40,34,40,38],[38,39,38,43],[39,0,39,2],[39,3,39,6],[39,7,39,23],[39,24,39,28],[39,29,39,33],[40,39,40,43],[41,0,41,2],[41,3,41,6],[41,7,41,23],[41,24,41,28],[41,29,41,33],[41,34,41,38],[41,39,41,43],[40,0,40,2],[40,3,40,6],[43,34,43,38],[43,39,43,43],[42,0,42,2],[42,3,42,6],[42,7,42,23],[42,24,42,28],[42,29,42,33],[42,34,42,38],[44,7,44,23],[44,24,44,28],[44,29,44,33],[44,34,44,38],[42,39,42,43],[43,0,43,2],[43,3,43,6],[43,7,43,23],[43,24,43,28],[43,29,43,33],[44,39,44,43],[45,0,45,2],[45,3,45,6],[45,7,45,23],[45,24,45,28],[45,29,45,33],[45,34,45,38],[45,39,45,43],[44,0,44,2],[44,3,44,6],[46,0,49,2],[46,3,49,6],[46,7,49,23],[46,24,49,28],[46,29,48,43],[49,29,49,33],[49,34,49,38],[49,39,49,43],[51,34,51,38],[51,39,51,43],[50,0,50,2],[50,3,50,6],[50,7,50,23],[50,24,50,28],[50,29,50,33],[50,34,50,38],[52,7,52,23],[52,24,52,28],[52,29,52,33],[52,34,52,38],[50,39,50,43],[51,0,51,2],[51,3,51,6],[51,7,51,23],[51,24,51,28],[51,29,51,33],[52,39,52,43],[53,0,53,2],[53,3,53,6],[53,7,53,23],[53,24,53,28],[53,29,53,33],[53,34,53,38],[53,39,53,43],[52,0,52,2],[52,3,52,6],[55,34,55,38],[55,39,55,43],[54,0,54,2],[54,3,54,6],[54,7,54,23],[54,24,54,28],[54,29,54,33],[54,34,54,38],[56,7,56,23],[56,24,56,28],[56,29,56,33],[56,34,56,38],[54,39,54,43],[55,0,55,2],[55,3,55,6],[55,7,55,23],[55,24,55,28],[55,29,55,33],[56,39,56,43],[57,0,57,2],[57,3,57,6],[57,7,57,23],[57,24,57,28],[57,29,57,33],[57,34,57,38],[57,39,57,43],[56,0,56,2],[56,3,56,6],[59,34,59,38],[59,39,59,43],[58,0,58,2],[58,3,58,6],[58,7,58,23],[58,24,58,28],[58,29,58,33],[58,34,58,38],[60,7,60,23],[60,24,60,28],[60,29,60,33],[60,34,60,38],[58,39,58,43],[59,0,59,2],[59,3,59,6],[59,7,59,23],[59,24,59,28],[59,29,59,33],[60,39,60,43],[61,0,61,2],[61,3,61,6],[61,7,61,23],[61,24,61,28],[61,29,61,33],[61,34,61,38],[61,39,61,43],[60,0,60,2],[60,3,60,6],[63,34,63,38],[63,39,63,43],[62,0,62,2],[62,3,62,6],[62,7,62,23],[62,24,62,28],[62,29,62,33],[62,34,62,38],[64,7,64,23],[64,24,64,28],[64,29,64,33],[64,34,64,38],[62,39,62,43],[63,0,63,2],[63,3,63,6],[63,7,63,23],[63,24,63,28],[63,29,63,33],[64,39,64,43],[65,0,65,2],[65,3,65,6],[65,7,65,23],[65,24,65,28],[65,29,65,33],[65,34,65,38],[65,39,65,43],[64,0,64,2],[64,3,64,6],[67,34,67,38],[67,39,67,43],[66,0,66,2],[66,3,66,6],[66,7,66,23],[66,24,66,28],[66,29,66,33],[66,34,66,38],[68,7,68,23],[68,24,68,28],[68,29,68,33],[68,34,68,38],[66,39,66,43],[67,0,67,2],[67,3,67,6],[67,7,67,23],[67,24,67,28],[67,29,67,33],[68,39,68,43],[69,0,69,2],[69,3,69,6],[69,7,69,23],[69,24,69,28],[69,29,69,33],[69,34,69,38],[69,39,69,43],[68,0,68,2],[68,3,68,6],[71,34,71,38],[71,39,71,43],[70,0,70,2],[70,3,70,6],[70,7,70,23],[70,24,70,28],[70,29,70,33],[70,34,70,38],[72,7,72,23],[72,24,72,28],[72,29,72,33],[72,34,72,38],[70,39,70,43],[71,0,71,2],[71,3,71,6],[71,7,71,23],[71,24,71,28],[71,29,71,33],[72,39,72,43],[73,0,73,2],[73,3,73,6],[73,7,73,23],[73,24,73,28],[73,29,73,33],[73,34,73,38],[73,39,73,43],[72,0,72,2],[72,3,72,6],[75,34,75,38],[75,39,75,43],[74,0,74,2],[74,3,74,6],[74,7,74,23],[74,24,74,28],[74,29,74,33],[74,34,74,38],[76,7,76,23],[76,24,76,28],[76,29,76,33],[76,34,76,38],[74,39,74,43],[75,0,75,2],[75,3,75,6],[75,7,75,23],[75,24,75,28],[75,29,75,33],[76,39,76,43],[77,0,77,2],[77,3,77,6],[77,7,77,23],[77,24,77,28],[77,29,77,33],[77,34,77,38],[77,39,77,43],[76,0,76,2],[76,3,76,6],[79,34,79,38],[79,39,79,43],[78,0,78,2],[78,3,78,6],[78,7,78,23],[78,24,78,28],[78,29,78,33],[78,34,78,38],[80,7,80,23],[80,24,80,28],[80,29,80,33],[80,34,80,38],[78,39,78,43],[79,0,79,2],[79,3,79,6],[79,7,79,23],[79,24,79,28],[79,29,79,33],[80,39,80,43],[81,0,81,2],[81,3,81,6],[81,7,81,23],[81,24,81,28],[81,29,81,33],[81,34,81,38],[81,39,81,43],[80,0,80,2],[80,3,80,6],[86,29,86,33],[86,34,86,38],[86,39,86,43],[82,0,82,2],[82,3,82,6],[82,7,82,23],[82,24,82,28],[82,29,82,33],[82,34,82,38],[87,7,87,23],[87,24,87,28],[87,29,87,33],[87,34,87,38],[82,39,82,43],[83,0,86,2],[83,3,86,6],[83,7,86,23],[83,24,86,28],[83,29,85,43],[87,39,87,43],[88,0,88,2],[88,3,88,6],[88,7,88,23],[88,24,88,28],[88,29,88,33],[88,34,88,38],[88,39,88,43],[87,0,87,2],[87,3,87,6],[90,34,90,38],[90,39,90,43],[89,0,89,2],[89,3,89,6],[89,7,89,23],[89,24,89,28],[89,29,89,33],[89,34,89,38],[91,7,91,23],[91,24,91,28],[91,29,91,33],[91,34,91,38],[89,39,89,43],[90,0,90,2],[90,3,90,6],[90,7,90,23],[90,24,90,28],[90,29,90,33],[91,39,91,43],[92,0,92,2],[92,3,92,6],[92,7,92,23],[92,24,92,28],[92,29,92,33],[92,34,92,38],[92,39,92,43],[91,0,91,2],[91,3,91,6],[94,34,94,38],[94,39,94,43],[93,0,93,2],[93,3,93,6],[93,7,93,23],[93,24,93,28],[93,29,93,33],[93,34,93,38],[95,7,95,23],[95,24,95,28],[95,29,95,33],[95,34,95,38],[93,39,93,43],[94,0,94,2],[94,3,94,6],[94,7,94,23],[94,24,94,28],[94,29,94,33],[95,39,95,43],[96,0,96,2],[96,3,96,6],[96,7,96,23],[96,24,96,28],[96,29,96,33],[96,34,96,38],[96,39,96,43],[95,0,95,2],[95,3,95,6],[98,34,98,38],[98,39,98,43],[97,0,97,2],[97,3,97,6],[97,7,97,23],[97,24,97,28],[97,29,97,33],[97,34,97,38],[99,7,99,23],[99,24,99,28],[99,29,99,33],[99,34,99,38],[97,39,97,43],[98,0,98,2],[98,3,98,6],[98,7,98,23],[98,24,98,28],[98,29,98,33],[99,39,99,43],[100,0,100,2],[100,3,100,6],[100,7,100,23],[100,24,100,28],[100,29,100,33],[100,34,100,38],[100,39,100,43],[99,0,99,2],[99,3,99,6],[102,34,102,38],[102,39,102,43],[101,0,101,2],[101,3,101,6],[101,7,101,23],[101,24,101,28],[101,29,101,33],[101,34,101,38],[103,7,103,23],[103,24,103,28],[103,29,103,33],[103,34,103,38],[101,39,101,43],[102,0,102,2],[102,3,102,6],[102,7,102,23],[102,24,102,28],[102,29,102,33],[103,39,103,43],[104,0,104,2],[104,3,104,6],[104,7,104,23],[104,24,104,28],[104,29,104,33],[104,34,104,38],[104,39,104,43],[103,0,103,2],[103,3,103,6],[106,34,106,38],[106,39,106,43],[105,0,105,2],[105,3,105,6],[105,7,105,23],[105,24,105,28],[105,29,105,33],[105,34,105,38],[107,7,107,23],[107,24,107,28],[107,29,107,33],[107,34,107,38],[105,39,105,43],[106,0,106,2],[106,3,106,6],[106,7,106,23],[106,24,106,28],[106,29,106,33],[107,39,107,43],[108,0,108,2],[108,3,108,6],[108,7,108,23],[108,24,108,28],[108,29,108,33],[108,34,108,38],[108,39,108,43],[107,0,107,2],[107,3,107,6],[110,34,110,38],[110,39,110,43],[109,0,109,2],[109,3,109,6],[109,7,109,23],[109,24,109,28],[109,29,109,33],[109,34,109,38],[111,7,111,23],[111,24,111,28],[111,29,111,33],[111,34,111,38],[109,39,109,43],[110,0,110,2],[110,3,110,6],[110,7,110,23],[110,24,110,28],[110,29,110,33],[111,39,111,43],[112,0,112,2],[112,3,112,6],[112,7,112,23],[112,24,112,28],[112,29,112,33],[112,34,112,38],[112,39,112,43],[111,0,111,2],[111,3,111,6],[113,0,116,2],[113,3,116,6],[113,7,116,23],[113,24,114,43],[115,24,116,33],[115,34,116,43],[117,0,117,2],[117,3,117,6],[117,7,117,23],[117,24,117,33],[117,34,117,43],[118,0,118,2],[118,3,118,6],[118,7,118,23],[118,24,118,33],[118,34,118,43],[119,0,119,2],[119,3,119,6],[119,7,119,23],[119,24,119,33],[119,34,119,43],[120,0,120,2],[120,3,120,6],[120,7,120,23],[120,24,120,33],[120,34,120,43],[121,0,121,2],[121,3,121,6],[121,7,121,23],[121,24,121,33],[121,34,121,43],[122,0,122,2],[122,3,122,6],[122,7,122,23],[122,24,122,33],[122,34,122,43],[123,0,123,2],[123,3,123,6],[123,7,123,23],[123,24,123,33],[123,34,123,43],[124,0,124,2],[124,3,124,6],[124,7,124,23],[124,24,124,33],[124,34,124,43],[125,0,125,2],[125,3,125,6],[125,7,125,23],[125,24,125,33],[125,34,125,43],[126,0,126,2],[126,3,126,6],[126,7,126,23],[126,24,126,33],[126,34,126,43],[127,0,127,2],[127,3,127,6],[127,7,127,23],[127,24,127,33],[127,34,127,43],[128,0,128,2],[128,3,128,6],[128,7,128,23],[128,24,128,33],[128,34,128,43],[129,0,129,2],[129,3,129,6],[129,7,129,23],[129,24,129,33],[129,34,129,43],[130,0,130,2],[130,3,130,6],[130,7,130,23],[130,24,130,33],[130,34,130,43],[131,0,131,2],[131,3,131,6],[131,7,131,23],[131,24,131,33],[131,34,131,43],[132,0,132,2],[132,3,132,6],[132,7,132,23],[132,24,132,33],[132,34,132,43],[133,0,133,2],[133,3,133,6],[133,7,133,23],[133,24,133,33],[133,34,133,43],[134,0,134,2],[134,3,134,6],[134,7,134,23],[134,24,134,33],[134,34,134,43],[135,0,135,2],[135,3,135,6],[135,7,135,23],[135,24,135,33],[135,34,135,43],[136,0,136,2],[136,3,136,6],[136,7,136,23],[136,24,136,33],[136,34,136,43],[137,0,137,2],[137,3,137,6],[137,7,137,23],[137,24,137,33],[137,34,137,43],[138,0,138,2],[138,3,138,6],[138,7,138,23],[138,24,138,33],[138,34,138,43],[139,0,139,2],[139,3,139,6],[139,7,139,23],[139,24,139,33],[139,34,139,43],[140,0,140,2],[140,3,140,6],[140,7,140,23],[140,24,140,33],[140,34,140,43],[141,0,141,2],[141,3,141,6],[141,7,141,23],[141,24,141,33],[141,34,141,43],[142,0,142,2],[142,3,142,6],[142,7,142,23],[142,24,142,33],[142,34,142,43],[143,0,143,2],[143,3,143,6],[143,7,143,23],[143,24,143,33],[143,34,143,43],[144,0,144,2],[144,3,144,6],[144,7,144,23],[144,24,144,33],[144,34,144,43],[145,0,145,2],[145,3,145,6],[145,7,145,23],[145,24,145,33],[145,34,145,43],[146,0,146,2],[146,3,146,6],[146,7,146,23],[146,24,146,33],[146,34,146,43],[147,0,147,2],[147,3,147,6],[147,7,147,23],[147,24,147,33],[147,34,147,43],[148,0,148,2],[148,3,148,6],[148,7,148,23],[148,24,148,33],[148,34,148,43],[149,0,149,2],[149,3,149,6],[149,7,149,23],[149,24,149,33],[149,34,149,43],[157,0,157,2],[157,3,157,6],[157,7,157,23],[157,24,157,33],[157,34,157,43],[158,0,158,2],[158,3,158,6],[158,7,158,23],[158,24,158,33],[158,34,158,43],[159,0,159,2],[159,3,159,6],[159,7,159,23],[159,24,159,33],[159,34,159,43],[160,0,160,2],[160,3,160,6],[160,7,160,23],[160,24,160,33],[160,34,160,43],[161,0,161,2],[161,3,161,6],[161,7,161,23],[161,24,161,33],[161,34,161,43],[162,0,162,2],[162,3,162,6],[162,7,162,23],[162,24,162,33],[162,34,162,43],[163,0,163,2],[163,3,163,6],[163,7,163,23],[163,24,163,33],[163,34,163,43],[164,0,164,2],[164,3,164,6],[164,7,164,23],[164,24,164,33],[164,34,164,43],[165,0,165,2],[165,3,165,6],[165,7,165,23],[165,24,165,33],[165,34,165,43],[166,0,166,2],[166,3,166,6],[166,7,166,23],[166,24,166,33],[166,34,166,43],[167,0,167,2],[167,3,167,6],[167,7,167,23],[167,24,167,33],[167,34,167,43],[168,0,168,2],[168,3,168,6],[168,7,168,23],[168,24,168,33],[168,34,168,43],[169,0,169,2],[169,3,169,6],[169,7,169,23],[169,24,169,33],[169,34,169,43],[170,0,170,2],[170,3,170,6],[170,7,170,23],[170,24,170,33],[170,34,170,43],[171,0,171,2],[171,3,171,6],[171,7,171,23],[171,24,171,33],[171,34,171,43],[172,0,172,2],[172,3,172,6],[172,7,172,23],[172,24,172,33],[172,34,172,43],[173,0,173,2],[173,3,173,6],[173,7,173,23],[173,24,173,33],[173,34,173,43],[174,0,174,2],[174,3,174,6],[174,7,174,23],[174,24,174,33],[174,34,174,43],[175,0,175,2],[175,3,175,6],[175,7,175,23],[175,24,175,33],[175,34,175,43],[176,0,176,2],[176,3,176,6],[176,7,176,23],[176,24,176,33],[176,34,176,43],[177,0,177,2],[177,3,177,6],[177,7,177,23],[177,24,177,33],[177,34,177,43],[178,0,178,2],[178,3,178,6],[178,7,178,23],[178,24,178,33],[178,34,178,43],[179,0,179,2],[179,3,179,6],[179,7,179,23],[179,24,179,33],[179,34,179,43],[180,0,180,2],[180,3,180,6],[180,7,180,23],[180,24,180,33],[180,34,180,43],[181,0,181,2],[181,3,181,6],[181,7,181,23],[181,24,181,33],[181,34,181,43],[182,0,182,2],[182,3,182,6],[182,7,182,23],[182,24,182,33],[182,34,182,43],[183,0,183,2],[183,3,183,6],[183,7,183,23],[183,24,183,33],[183,34,183,43],[189,0,189,2],[189,3,189,6],[189,7,189,23],[189,24,189,33],[189,34,189,43],[184,0,187,2],[184,3,187,6],[184,7,187,23],[184,24,185,43],[186,24,187,33],[186,34,187,43],[188,0,188,2],[188,3,188,6],[188,7,188,23],[188,24,188,33],[188,34,188,43],[190,0,190,2],[190,3,190,6],[190,7,190,23],[190,24,190,33],[190,34,190,43],[191,0,191,2],[191,3,191,6],[191,7,191,23],[191,24,191,33],[191,34,191,43],[192,0,192,2],[192,3,192,6],[192,7,192,23],[192,24,192,33],[192,34,192,43],[193,0,193,2],[193,3,193,6],[193,7,193,23],[193,24,193,33],[193,34,193,43],[194,0,194,2],[194,3,194,6],[194,7,194,23],[194,24,194,33],[194,34,194,43],[195,0,195,2],[195,3,195,6],[195,7,195,23],[195,24,195,33],[195,34,195,43],[196,0,196,2],[196,3,196,6],[196,7,196,23],[196,24,196,33],[196,34,196,43],[197,0,197,2],[197,3,197,6],[197,7,197,23],[197,24,197,33],[197,34,197,43],[198,0,198,2],[198,3,198,6],[198,7,198,23],[198,24,198,33],[198,34,198,43],[199,0,199,2],[199,3,199,6],[199,7,199,23],[199,24,199,33],[199,34,199,43],[200,0,200,2],[200,3,200,6],[200,7,200,23],[200,24,200,33],[200,34,200,43],[201,0,201,2],[201,3,201,6]],"merged_total":1507,"flags":["merged_cut"]}
[null,null,null,null,null,null,null,null,null,null,null,null,null,null,null,null,null,null,null,null,null,null,null,null,null,null,null,null,null,null,null,null,null,null,null,null,null,"Образац 1"]
["ПОПУЊАВА УПРАВА ЗА ТРЕЗОР - ФИЛИЈАЛА"]
[7,5,1,null,null,{"$f":"IF(LEN(Podaci!M2) > 4, MID(RIGHT(Podaci!$M$2,5),1,1),0)","v":"0"},{"$f":"IF(LEN(Podaci!M2) > 3, MID(RIGHT(Podaci!$M$2,4),1,1),0)","v":"8"},{"$f":"IF(LEN(Podaci!M2) > 2, MID(RIGHT(Podaci!$M$2,3),1,1),0)","v":"5"},{"$f":"MID(RIGHT(Podaci!$M$2,2),1,1)","v":"9"},{"$f":"MID(RIGHT(Podaci!$M$2,1),1,1)","v":"0"},null,{"$f":"IF(LEN(Podaci!Z7) > 7, MID(RIGHT(Podaci!$Z$7,8),1,1),0)","v":"0"},{"$f":"IF(LEN(Podaci!Z7) > 6, MID(RIGHT(Podaci!$Z$7,7),1,1),0)","v":"8"},{"$f":"MID(RIGHT(Podaci!$Z$7,6),1,1)","v":"0"},{"$f":"MID(RIGHT(Podaci!$Z$7,5),1,1)","v":"0"},{"$f":"MID(RIGHT(Podaci!$Z$7,4),1,1)","v":"4"},{"$f":"MID(RIGHT(Podaci!$Z$7,3),1,1)","v":"9"},{"$f":"MID(RIGHT(Podaci!$Z$7,2),1,1)","v":"3"},{"$f":"MID(RIGHT(Podaci!$Z$7,1),1,1)","v":"5"}]
[1,2,3,null,4,5,6,7,8,9,null,10,11,12,13,14,15,16,17,null,18,19,20,21,22,null,23,24,25,26,27,null,28,null,29,30,31,32,33,34,35,36,37,38]
["Врста\nпосла",null,null,null,"Јединствени\nброј КБС",null,null,null,null,null,null,null,null,null,null,null,null,null,null,null,"Седиште\nУТ",null,null,null,null,null,"Надлежни\nдиректни\nКБС"]
[]
[]
[null,"НАЗИВ КОРИСНИКА БУЏЕТСКИХ СРЕДСТАВА"]
[null,{"$f":"Podaci!B5","v":"ПРЕДШКОЛСКА  УСТАНОВА  \"БАМБИ\"  "}]
[]
[null,"СЕДИШТЕ",null,null,null,null,null,{"$f":"Podaci!H7","v":"КУЛА"},null,null,null,null,null,null,null,null,null,"МАТИЧНИ БРОЈ",null,null,null,null,null,null,null,{"$f":"Podaci!Z7","v":"08004935"}]
[]
[null,"ПИБ",null,null,{"$f":"Podaci!E9","v":100261597},null,null,null,null,null,null,null,null,null,null,null,null,"БРОЈ ПОДРАЧУНА",null,null,null,null,null,null,null,{"$f":"Podaci!AA9","v":"840-49661-40"}]
[]
[null,"НАЗИВ НАДЛЕЖНОГ ДИРЕКТНОГ КОРИСНИКА БУЏЕТСКИХ СРЕДСТАВА"]
[]
[null,{"$f":"Podaci!B12","v":"ОПШТИНА  КУЛА"}]
[null,"(Попуњава само индиректни корисник буџетских средстава)"]
[]
[]
[null,null,null,null,null,null,null,null,null,null,null,null,null,null,null,"БИЛАНС СТАЊА"]
[null,null,null,null,null,null,null,null,null,null,"у периоду од",null,null,null,null,{"$f":"Podaci!D17","v":"01.01.2017."},null,null,null,null,"године",null,null,"до",null,{"$f":"Podaci!D18","v":"31.12.2017."},null,null,null,null,"године"]
[]
[null,null,null,null,null,null,null,null,null,null,null,null,null,null,null,null,null,null,null,null,null,null,null,null,null,null,null,null,null,null,null,null,null,null,null,"(У хиљадама динара)"]
["Ознака\nОП",null,null,"Број\nконта",null,null,null,"Опис",null,null,null,null,null,null,null,null,null,null,null,null,null,null,null,null,"Износ из\nпретходне\nгодине\n(почетно\nстање)",null,null,null,null,"Износ текуће године"]
[]
[]
[null,null,null,null,null,null,null,null,null,null,null,null,null,null,null,null,null,null,null,null,null,null,null,null,null,null,null,null,null,"Бруто",null,null,null,null,"Исправка\nвредности",null,null,null,null,"Нето\n(5 - 6)"]
[1,null,null,2,null,null,null,3,null,null,null,null,null,null,null,null,null,null,null,null,null,null,null,null,4,null,null,null,null,5,null,null,null,null,6,null,null,null,null,7]
[null,null,null,null,null,null,null,"АКТИВА"]
[1001,null,null,"000000",null,null,null,"НEФИНАНСИЈСКА ИМОВИНА \n(1002 + 1020)",null,null,null,null,null,null,null,null,null,null,null,null,null,null,null,null,{"$f":"UnObr1!D6","v":80930},null,null,null,null,{"$f":"UnObr1!E6","v":131995},null,null,null,null,{"$f":"UnObr1!F6","v":53120},null,null,null,null,{"$f":"UnObr1!G6","v":78875}]
[1002,null,null,"010000",null,null,null,"НЕФИНАНСИЈСКА ИМОВИНА У \nСТАЛНИМ СРЕДСТВИМА \n(1003 + 1007 + 1009 + 1011 + 1015 + 1018)",null,null,null,null,null,null,null,null,null,null,null,null,null,null,null,null,{"$f":"UnObr1!D7","v":80930},null,null,null,null,{"$f":"UnObr1!E7","v":131995},null,null,null,null,{"$f":"UnObr1!F7","v":53120},null,null,null,null,{"$f":"UnObr1!G7","v":78875}]
[1003,null,null,"011000",null,null,null,"НЕКРЕТНИНЕ И ОПРЕМА \n(од 1004 до 1006)",null,null,null,null,null,null,null,null,null,null,null,null,null,null,null,null,{"$f":"UnObr1!D8","v":80930},null,null,null,null,{"$f":"UnObr1!E8","v":131995},null,null,null,null,{"$f":"UnObr1!F8","v":53120},null,null,null,null,{"$f":"UnObr1!G8","v":78875}]
[1004,null,null,"011100",null,null,null,"Зграде и грађевински објекти",null,null,null,null,null,null,null,null,null,null,null,null,null,null,null,null,{"$f":"UnObr1!D9","v":72129},null,null,null,null,{"$f":"UnObr1!E9","v":102749},null,null,null,null,{"$f":"UnObr1!F9","v":32157},null,null,null,null,{"$f":"UnObr1!G9","v":70592}]
[1005,null,null,"011200",null,null,null,"Опрема",null,null,null,null,null,null,null,null,null,null,null,null,null,null,null,null,{"$f":"UnObr1!D10","v":8801},null,null,null,null,{"$f":"UnObr1!E10","v":29246},null,null,null,null,{"$f":"UnObr1!F10","v":20963},null,null,null,null,{"$f":"UnObr1!G10","v":8283}]
[1006,null,null,"011300",null,null,null,"Остале некретнине и опрема",null,null,null,null,null,null,null,null,null,null,null,null,null,null,null,null,{"$f":"UnObr1!D11","v":0},null,null,null,null,{"$f":"UnObr1!E11","v":0},null,null,null,null,{"$f":"UnObr1!F11","v":0},null,null,null,null,{"$f":"UnObr1!G11","v":0}]
[1007,null,null,"012000",null,null,null,"КУЛТИВИСАНА ИМОВИНА (1008)",null,null,null,null,null,null,null,null,null,null,null,null,null,null,null,null,{"$f":"UnObr1!D12","v":0},null,null,null,null,{"$f":"UnObr1!E12","v":0},null,null,null,null,{"$f":"UnObr1!F12","v":0},null,null,null,null,{"$f":"UnObr1!G12","v":0}]
[1008,null,null,"012100",null,null,null,"Култивисана имовина",null,null,null,null,null,null,null,null,null,null,null,null,null,null,null,null,{"$f":"UnObr1!D13","v":0},null,null,null,null,{"$f":"UnObr1!E13","v":0},null,null,null,null,{"$f":"UnObr1!F13","v":0},null,null,null,null,{"$f":"UnObr1!G13","v":0}]
[1009,null,null,"013000",null,null,null,"ДРАГОЦЕНОСТИ (1010)",null,null,null,null,null,null,null,null,null,null,null,null,null,null,null,null,{"$f":"UnObr1!D14","v":0},null,null,null,null,{"$f":"UnObr1!E14","v":0},null,null,null,null,{"$f":"UnObr1!F14","v":0},null,null,null,null,{"$f":"UnObr1!G14","v":0}]
[1010,null,null,"013100",null,null,null,"Драгоцености",null,null,null,null,null,null,null,null,null,null,null,null,null,null,null,null,{"$f":"UnObr1!D15","v":0},null,null,null,null,{"$f":"UnObr1!E15","v":0},null,null,null,null,{"$f":"UnObr1!F15","v":0},null,null,null,null,{"$f":"UnObr1!G15","v":0}]
[1011,null,null,"014000",null,null,null,"ПРИРОДНА ИМОВИНА \n(од 1012 до 1014)",null,null,null,null,null,null,null,null,null,null,null,null,null,null,null,null,{"$f":"UnObr1!D16","v":0},null,null,null,null,{"$f":"UnObr1!E16","v":0},null,null,null,null,{"$f":"UnObr1!F16","v":0},null,null,null,null,{"$f":"UnObr1!G16","v":0}]
[1012,null,null,"014100",null,null,null,"Земљиште ",null,null,null,null,null,null,null,null,null,null,null,null,null,null,null,null,{"$f":"UnObr1!D17","v":0},null,null,null,null,{"$f":"UnObr1!E17","v":0},null,null,null,null,{"$f":"UnObr1!F17","v":0},null,null,null,null,{"$f":"UnObr1!G17","v":0}]
[1013,null,null,"014200",null,null,null,"Подземна блага",null,null,null,null,null,null,null,null,null,null,null,null,null,null,null,null,{"$f":"UnObr1!D18","v":0},null,null,null,null,{"$f":"UnObr1!E18","v":0},null,null,null,null,{"$f":"UnObr1!F18","v":0},null,null,null,null,{"$f":"UnObr1!G18","v":0}]
[1014,null,null,"014300",null,null,null,"Шуме и воде",null,null,null,null,null,null,null,null,null,null,null,null,null,null,null,null,{"$f":"UnObr1!D19","v":0},null,null,null,null,{"$f":"UnObr1!E19","v":0},null,null,null,null,{"$f":"UnObr1!F19","v":0},null,null,null,null,{"$f":"UnObr1!G19","v":0}]
[1015,null,null,"015000",null,null,null,"НЕФИНАНСИЈСКА ИМОВИНА У \nПРИПРЕМИ И АВАНСИ (1016 + 1017)",null,null,null,null,null,null,null,null,null,null,null,null,null,null,null,null,{"$f":"UnObr1!D20","v":0},null,null,null,null,{"$f":"UnObr1!E20","v":0},null,null,null,null,{"$f":"UnObr1!F20","v":0},null,null,null,null,{"$f":"UnObr1!G20","v":0}]
[1016,null,null,"015100",null,null,null,"Нефинансијска имовина у припреми",null,null,null,null,null,null,null,null,null,null,null,null,null,null,null,null,{"$f":"UnObr1!D21","v":0},null,null,null,null,{"$f":"UnObr1!E21","v":0},null,null,null,null,{"$f":"UnObr1!F21","v":0},null,null,null,null,{"$f":"UnObr1!G21","v":0}]
["Ознака\nОП",null,null,"Број\nконта",null,null,null,"Опис",null,null,null,null,null,null,null,null,null,null,null,null,null,null,null,null,"Износ из\nпретходне\nгодине\n(почетно\nстање)",null,null,null,null,"Износ текуће године"]
[]
[]
[null,null,null,null,null,null,null,null,null,null,null,null,null,null,null,null,null,null,null,null,null,null,null,null,null,null,null,null,null,"Бруто",null,null,null,null,"Исправка\nвредности",null,null,null,null,"Нето\n(5 - 6)"]
[1,null,null,2,null,null,null,3,null,null,null,null,null,null,null,null,null,null,null,null,null,null,null,null,4,null,null,null,null,5,null,null,null,null,6,null,null,null,null,7]
[1017,null,null,"015200",21000,21000,21000,"Аванси за нефинансијску имовину","ЗАЛИХЕ (од 1018 до 1020)","ЗАЛИХЕ (од 1018 до 1020)","ЗАЛИХЕ (од 1018 до 1020)","ЗАЛИХЕ (од 1018 до 1020)","ЗАЛИХЕ (од 1018 до 1020)","ЗАЛИХЕ (од 1018 до 1020)","ЗАЛИХЕ (од 1018 до 1020)","ЗАЛИХЕ (од 1018 до 1020)","ЗАЛИХЕ (од 1018 до 1020)","ЗАЛИХЕ (од 1018 до 1020)","ЗАЛИХЕ (од 1018 до 1020)","ЗАЛИХЕ (од 1018 до 1020)","ЗАЛИХЕ (од 1018 до 1020)","ЗАЛИХЕ (од 1018 до 1020)","ЗАЛИХЕ (од 1018 до 1020)","ЗАЛИХЕ (од 1018 до 1020)",{"$f":"UnObr1!D22","v":0},null,null,null,null,{"$f":"UnObr1!E22","v":0},null,null,null,null,{"$f":"UnObr1!F22","v":0},null,null,null,null,{"$f":"UnObr1!G22","v":0}]
[1018,null,null,"016000",21000,21000,21000,"НЕМАТЕРИЈАЛНА ИМОВИНА (1019)","ЗАЛИХЕ (од 1018 до 1020)","ЗАЛИХЕ (од 1018 до 1020)","ЗАЛИХЕ (од 1018 до 1020)","ЗАЛИХЕ (од 1018 до 1020)","ЗАЛИХЕ (од 1018 до 1020)","ЗАЛИХЕ (од 1018 до 1020)","ЗАЛИХЕ (од 1018 до 1020)","ЗАЛИХЕ (од 1018 до 1020)","ЗАЛИХЕ (од 1018 до 1020)","ЗАЛИХЕ (од 1018 до 1020)","ЗАЛИХЕ (од 1018 до 1020)","ЗАЛИХЕ (од 1018 до 1020)","ЗАЛИХЕ (од 1018 до 1020)","ЗАЛИХЕ (од 1018 до 1020)","ЗАЛИХЕ (од 1018 до 1020)","ЗАЛИХЕ (од 1018 до 1020)",{"$f":"UnObr1!D23","v":0},null,null,null,null,{"$f":"UnObr1!E23","v":0},null,null,null,null,{"$f":"UnObr1!F23","v":0},null,null,null,null,{"$f":"UnObr1!G23","v":0}]
[1019,null,null,"016100",21000,21000,21000,"Нематеријална имовина","ЗАЛИХЕ (од 1018 до 1020)","ЗАЛИХЕ (од 1018 до 1020)","ЗАЛИХЕ (од 1018 до 1020)","ЗАЛИХЕ (од 1018 до 1020)","ЗАЛИХЕ (од 1018 до 1020)","ЗАЛИХЕ (од 1018 до 1020)","ЗАЛИХЕ (од 1018 до 1020)","ЗАЛИХЕ (од 1018 до 1020)","ЗАЛИХЕ (од 1018 до 1020)","ЗАЛИХЕ (од 1018 до 1020)","ЗАЛИХЕ (од 1018 до 1020)","ЗАЛИХЕ (од 1018 до 1020)","ЗАЛИХЕ (од 1018 до 1020)","ЗАЛИХЕ (од 1018 до 1020)","ЗАЛИХЕ (од 1018 до 1020)","ЗАЛИХЕ (од 1018 до 1020)",{"$f":"UnObr1!D24","v":0},null,null,null,null,{"$f":"UnObr1!E24","v":0},null,null,null,null,{"$f":"UnObr1!F24","v":0},null,null,null,null,{"$f":"UnObr1!G24","v":0}]
[1020,null,null,"020000",21000,21000,21000,"НЕФИНАНСИЈСКА ИМОВИНА У ЗАЛИХАМА \n(1021 + 1025)","ЗАЛИХЕ (од 1018 до 1020)","ЗАЛИХЕ (од 1018 до 1020)","ЗАЛИХЕ (од 1018 до 1020)","ЗАЛИХЕ (од 1018 до 1020)","ЗАЛИХЕ (од 1018 до 1020)","ЗАЛИХЕ (од 1018 до 1020)","ЗАЛИХЕ (од 1018 до 1020)","ЗАЛИХЕ (од 1018 до 1020)","ЗАЛИХЕ (од 1018 до 1020)","ЗАЛИХЕ (од 1018 до 1020)","ЗАЛИХЕ (од 1018 до 1020)","ЗАЛИХЕ (од 1018 до 1020)","ЗАЛИХЕ (од 1018 до 1020)","ЗАЛИХЕ (од 1018 до 1020)","ЗАЛИХЕ (од 1018 до 1020)","ЗАЛИХЕ (од 1018 до 1020)",{"$f":"UnObr1!D25","v":0},null,null,null,null,{"$f":"UnObr1!E25","v":0},null,null,null,null,{"$f":"UnObr1!F25","v":0},null,null,null,null,{"$f":"UnObr1!G25","v":0}]
[1021,null,null,"021000",21000,21000,21000,"ЗАЛИХЕ (од 1022 до 1024)","ЗАЛИХЕ (од 1018 до 1020)","ЗАЛИХЕ (од 1018 до 1020)","ЗАЛИХЕ (од 1018 до 1020)","ЗАЛИХЕ (од 1018 до 1020)","ЗАЛИХЕ (од 1018 до 1020)","ЗАЛИХЕ (од 1018 до 1020)","ЗАЛИХЕ (од 1018 до 1020)","ЗАЛИХЕ (од 1018 до 1020)","ЗАЛИХЕ (од 1018 до 1020)","ЗАЛИХЕ (од 1018 до 1020)","ЗАЛИХЕ (од 1018 до 1020)","ЗАЛИХЕ (од 1018 до 1020)","ЗАЛИХЕ (од 1018 до 1020)","ЗАЛИХЕ (од 1018 до 1020)","ЗАЛИХЕ (од 1018 до 1020)","ЗАЛИХЕ (од 1018 до 1020)",{"$f":"UnObr1!D26","v":0},null,null,null,null,{"$f":"UnObr1!E26","v":0},null,null,null,null,{"$f":"UnObr1!F26","v":0},null,null,null,null,{"$f":"UnObr1!G26","v":0}]
[1022,null,null,"021100",21000,21000,21000,"Робне резерве","ЗАЛИХЕ (од 1018 до 1020)","ЗАЛИХЕ (од 1018 до 1020)","ЗАЛИХЕ (од 1018 до 1020)","ЗАЛИХЕ (од 1018 до 1020)","ЗАЛИХЕ (од 1018 до 1020)","ЗАЛИХЕ (од 1018 до 1020)","ЗАЛИХЕ (од 1018 до 1020)","ЗАЛИХЕ (од 1018 до 1020)","ЗАЛИХЕ (од 1018 до 1020)","ЗАЛИХЕ (од 1018 до 1020)","ЗАЛИХЕ (од 1018 до 1020)","ЗАЛИХЕ (од 1018 до 1020)","ЗАЛИХЕ (од 1018 до 1020)","ЗАЛИХЕ (од 1018 до 1020)","ЗАЛИХЕ (од 1018 до 1020)","ЗАЛИХЕ (од 1018 до 1020)",{"$f":"UnObr1!D27","v":0},null,null,null,null,{"$f":"UnObr1!E27","v":0},null,null,null,null,{"$f":"UnObr1!F27","v":0},null,null,null,null,{"$f":"UnObr1!G27","v":0}]
[1023,null,null,"021200",21000,21000,21000,"Залихе производње","ЗАЛИХЕ (од 1018 до 1020)","ЗАЛИХЕ (од 1018 до 1020)","ЗАЛИХЕ (од 1018 до 1020)","ЗАЛИХЕ (од 1018 до 1020)","ЗАЛИХЕ (од 1018 до 1020)","ЗАЛИХЕ (од 1018 до 1020)","ЗАЛИХЕ (од 1018 до 1020)","ЗАЛИХЕ (од 1018 до 1020)","ЗАЛИХЕ (од 1018 до 1020)","ЗАЛИХЕ (од 1018 до 1020)","ЗАЛИХЕ (од 1018 до 1020)","ЗАЛИХЕ (од 1018 до 1020)","ЗАЛИХЕ (од 1018 до 1020)","ЗАЛИХЕ (од 1018 до 1020)","ЗАЛИХЕ (од 1018 до 1020)","ЗАЛИХЕ (од 1018 до 1020)",{"$f":"UnObr1!D28","v":0},null,null,null,null,{"$f":"UnObr1!E28","v":0},null,null,null,null,{"$f":"UnObr1!F28","v":0},null,null,null,null,{"$f":"UnObr1!G28","v":0}]
[1024,null,null,"021300",21000,21000,21000,"Роба за даљу продају","ЗАЛИХЕ (од 1018 до 1020)","ЗАЛИХЕ (од 1018 до 1020)","ЗАЛИХЕ (од 1018 до 1020)","ЗАЛИХЕ (од 1018 до 1020)","ЗАЛИХЕ (од 1018 до 1020)","ЗАЛИХЕ (од 1018 до 1020)","ЗАЛИХЕ (од 1018 до 1020)","ЗАЛИХЕ (од 1018 до 1020)","ЗАЛИХЕ (од 1018 до 1020)","ЗАЛИХЕ (од 1018 до 1020)","ЗАЛИХЕ (од 1018 до 1020)","ЗАЛИХЕ (од 1018 до 1020)","ЗАЛИХЕ (од 1018 до 1020)","ЗАЛИХЕ (од 1018 до 1020)","ЗАЛИХЕ (од 1018 до 1020)","ЗАЛИХЕ (од 1018 до 1020)",{"$f":"UnObr1!D29","v":0},null,null,null,null,{"$f":"UnObr1!E29","v":0},null,null,null,null,{"$f":"UnObr1!F29","v":0},null,null,null,null,{"$f":"UnObr1!G29","v":0}]
[1025,null,null,"022000",21000,21000,21000,"ЗАЛИХЕ СИТНОГ ИНВЕНТАРА И \nПОТРОШНОГ МАТЕРИЈАЛА (1026 + 1027)","ЗАЛИХЕ (од 1018 до 1020)","ЗАЛИХЕ (од 1018 до 1020)","ЗАЛИХЕ (од 1018 до 1020)","ЗАЛИХЕ (од 1018 до 1020)","ЗАЛИХЕ (од 1018 до 1020)","ЗАЛИХЕ (од 1018 до 1020)","ЗАЛИХЕ (од 1018 до 1020)","ЗАЛИХЕ (од 1018 до 1020)","ЗАЛИХЕ (од 1018 до 1020)","ЗАЛИХЕ (од 1018 до 1020)","ЗАЛИХЕ (од 1018 до 1020)","ЗАЛИХЕ (од 1018 до 1020)","ЗАЛИХЕ (од 1018 до 1020)","ЗАЛИХЕ (од 1018 до 1020)","ЗАЛИХЕ (од 1018 до 1020)","ЗАЛИХЕ (од 1018 до 1020)",{"$f":"UnObr1!D30","v":0},null,null,null,null,{"$f":"UnObr1!E30","v":0},null,null,null,null,{"$f":"UnObr1!F30","v":0},null,null,null,null,{"$f":"UnObr1!G30","v":0}]
[1026,null,null,"022100",21000,21000,21000,"Залихе ситног инвентара ","ЗАЛИХЕ (од 1018 до 1020)","ЗАЛИХЕ (од 1018 до 1020)","ЗАЛИХЕ (од 1018 до 1020)","ЗАЛИХЕ (од 1018 до 1020)","ЗАЛИХЕ (од 1018 до 1020)","ЗАЛИХЕ (од 1018 до 1020)","ЗАЛИХЕ (од 1018 до 1020)","ЗАЛИХЕ (од 1018 до 1020)","ЗАЛИХЕ (од 1018 до 1020)","ЗАЛИХЕ (од 1018 до 1020)","ЗАЛИХЕ (од 1018 до 1020)","ЗАЛИХЕ (од 1018 до 1020)","ЗАЛИХЕ (од 1018 до 1020)","ЗАЛИХЕ (од 1018 до 1020)","ЗАЛИХЕ (од 1018 до 1020)","ЗАЛИХЕ (од 1018 до 1020)",{"$f":"UnObr1!D31","v":0},null,null,null,null,{"$f":"UnObr1!E31","v":0},null,null,null,null,{"$f":"UnObr1!F31","v":0},null,null,null,null,{"$f":"UnObr1!G31","v":0}]
[1027,null,null,"022200",21000,21000,21000,"Залихе потрошног материјала","ЗАЛИХЕ (од 1018 до 1020)","ЗАЛИХЕ (од 1018 до 1020)","ЗАЛИХЕ (од 1018 до 1020)","ЗАЛИХЕ (од 1018 до 1020)","ЗАЛИХЕ (од 1018 до 1020)","ЗАЛИХЕ (од 1018 до 1020)","ЗАЛИХЕ (од 1018 до 1020)","ЗАЛИХЕ (од 1018 до 1020)","ЗАЛИХЕ (од 1018 до 1020)","ЗАЛИХЕ (од 1018 до 1020)","ЗАЛИХЕ (од 1018 до 1020)","ЗАЛИХЕ (од 1018 до 1020)","ЗАЛИХЕ (од 1018 до 1020)","ЗАЛИХЕ (од 1018 до 1020)","ЗАЛИХЕ (од 1018 до 1020)","ЗАЛИХЕ (од 1018 до 1020)",{"$f":"UnObr1!D32","v":0},null,null,null,null,{"$f":"UnObr1!E32","v":0},null,null,null,null,{"$f":"UnObr1!F32","v":0},null,null,null,null,{"$f":"UnObr1!G32","v":0}]
[1028,null,null,100000,21000,21000,21000,"ФИНАНСИЈСКА ИМОВИНА \n(1029 + 1049 + 1067)","ЗАЛИХЕ (од 1018 до 1020)","ЗАЛИХЕ (од 1018 до 1020)","ЗАЛИХЕ (од 1018 до 1020)","ЗАЛИХЕ (од 1018 до 1020)","ЗАЛИХЕ (од 1018 до 1020)","ЗАЛИХЕ (од 1018 до 1020)","ЗАЛИХЕ (од 1018 до 1020)","ЗАЛИХЕ (од 1018 до 1020)","ЗАЛИХЕ (од 1018 до 1020)","ЗАЛИХЕ (од 1018 до 1020)","ЗАЛИХЕ (од 1018 до 1020)","ЗАЛИХЕ (од 1018 до 1020)","ЗАЛИХЕ (од 1018 до 1020)","ЗАЛИХЕ (од 1018 до 1020)","ЗАЛИХЕ (од 1018 до 1020)","ЗАЛИХЕ (од 1018 до 1020)",{"$f":"UnObr1!D33","v":3409},null,null,null,null,{"$f":"UnObr1!E33","v":6804},null,null,null,null,{"$f":"UnObr1!F33","v":0},null,null,null,null,{"$f":"UnObr1!G33","v":6804}]
[1029,null,null,110000,21000,21000,21000,"ДУГОРОЧНА ФИНАНСИЈСКА ИМОВИНА \n(1030 + 1040)","ЗАЛИХЕ (од 1018 до 1020)","ЗАЛИХЕ (од 1018 до 1020)","ЗАЛИХЕ (од 1018 до 1020)","ЗАЛИХЕ (од 1018 до 1020)","ЗАЛИХЕ (од 1018 до 1020)","ЗАЛИХЕ (од 1018 до 1020)","ЗАЛИХЕ (од 1018 до 1020)","ЗАЛИХЕ (од 1018 до 1020)","ЗАЛИХЕ (од 1018 до 1020)","ЗАЛИХЕ (од 1018 до 1020)","ЗАЛИХЕ (од 1018 до 1020)","ЗАЛИХЕ (од 1018 до 1020)","ЗАЛИХЕ (од 1018 до 1020)","ЗАЛИХЕ (од 1018 до 1020)","ЗАЛИХЕ (од 1018 до 1020)","ЗАЛИХЕ (од 1018 до 1020)",{"$f":"UnObr1!D34","v":0},null,null,null,null,{"$f":"UnObr1!E34","v":0},null,null,null,null,{"$f":"UnObr1!F34","v":0},null,null,null,null,{"$f":"UnObr1!G34","v":0}]
[1030,null,null,111000,21000,21000,21000,"ДУГОРОЧНА ДОМАЋА ФИНАНСИЈСКА \nИМОВИНА (од 1031 до 1039)","ЗАЛИХЕ (од 1018 до 1020)","ЗАЛИХЕ (од 1018 до 1020)","ЗАЛИХЕ (од 1018 до 1020)","ЗАЛИХЕ (од 1018 до 1020)","ЗАЛИХЕ (од 1018 до 1020)","ЗАЛИХЕ (од 1018 до 1020)","ЗАЛИХЕ (од 1018 до 1020)","ЗАЛИХЕ (од 1018 до 1020)","ЗАЛИХЕ (од 1018 до 1020)","ЗАЛИХЕ (од 1018 до 1020)","ЗАЛИХЕ (од 1018 до 1020)","ЗАЛИХЕ (од 1018 до 1020)","ЗАЛИХЕ (од 1018 до 1020)","ЗАЛИХЕ (од 1018 до 1020)","ЗАЛИХЕ (од 1018 до 1020)","ЗАЛИХЕ (од 1018 до 1020)",{"$f":"UnObr1!D35","v":0},null,null,null,null,{"$f":"UnObr1!E35","v":0},null,null,null,null,{"$f":"UnObr1!F35","v":0},null,null,null,null,{"$f":"UnObr1!G35","v":0}]
[1031,null,null,111100,21000,21000,21000,"Дугорочне домаће хартије од вредности, \nизузев акција","ЗАЛИХЕ (од 1018 до 1020)","ЗАЛИХЕ (од 1018 до 1020)","ЗАЛИХЕ (од 1018 до 1020)","ЗАЛИХЕ (од 1018 до 1020)","ЗАЛИХЕ (од 1018 до 1020)","ЗАЛИХЕ (од 1018 до 1020)","ЗАЛИХЕ (од 1018 до 1020)","ЗАЛИХЕ (од 1018 до 1020)","ЗАЛИХЕ (од 1018 до 1020)","ЗАЛИХЕ (од 1018 до 1020)","ЗАЛИХЕ (од 1018 до 1020)","ЗАЛИХЕ (од 1018 до 1020)","ЗАЛИХЕ (од 1018 до 1020)","ЗАЛИХЕ (од 1018 до 1020)","ЗАЛИХЕ (од 1018 до 1020)","ЗАЛИХЕ (од 1018 до 1020)",{"$f":"UnObr1!D36","v":0},null,null,null,null,{"$f":"UnObr1!E36","v":0},null,null,null,null,{"$f":"UnObr1!F36","v":0},null,null,null,null,{"$f":"UnObr1!G36","v":0}]
[1032,null,null,111200,21000,21000,21000,"Кредити осталим нивоима власти","ЗАЛИХЕ (од 1018 до 1020)","ЗАЛИХЕ (од 1018 до 1020)","ЗАЛИХЕ (од 1018 до 1020)","ЗАЛИХЕ (од 1018 до 1020)","ЗАЛИХЕ (од 1018 до 1020)","ЗАЛИХЕ (од 1018 до 1020)","ЗАЛИХЕ (од 1018 до 1020)","ЗАЛИХЕ (од 1018 до 1020)","ЗАЛИХЕ (од 1018 до 1020)","ЗАЛИХЕ (од 1018 до 1020)","ЗАЛИХЕ (од 1018 до 1020)","ЗАЛИХЕ (од 1018 до 1020)","ЗАЛИХЕ (од 1018 до 1020)","ЗАЛИХЕ (од 1018 до 1020)","ЗАЛИХЕ (од 1018 до 1020)","ЗАЛИХЕ (од 1018 до 1020)",{"$f":"UnObr1!D37","v":0},null,null,null,null,{"$f":"UnObr1!E37","v":0},null,null,null,null,{"$f":"UnObr1!F37","v":0},null,null,null,null,{"$f":"UnObr1!G37","v":0}]
[1033,null,null,111300,21000,21000,21000,"Кредити домаћим јавним финансијским \nинституцијама","ЗАЛИХЕ (од 1018 до 1020)","ЗАЛИХЕ (од 1018 до 1020)","ЗАЛИХЕ (од 1018 до 1020)","ЗАЛИХЕ (од 1018 до 1020)","ЗАЛИХЕ (од 1018 до 1020)","ЗАЛИХЕ (од 1018 до 1020)","ЗАЛИХЕ (од 1018 до 1020)","ЗАЛИХЕ (од 1018 до 1020)","ЗАЛИХЕ (од 1018 до 1020)","ЗАЛИХЕ (од 1018 до 1020)","ЗАЛИХЕ (од 1018 до 1020)","ЗАЛИХЕ (од 1018 до 1020)","ЗАЛИХЕ (од 1018 до 1020)","ЗАЛИХЕ (од 1018 до 1020)","ЗАЛИХЕ (од 1018 до 1020)","ЗАЛИХЕ (од 1018 до 1020)",{"$f":"UnObr1!D38","v":0},null,null,null,null,{"$f":"UnObr1!E38","v":0},null,null,null,null,{"$f":"UnObr1!F38","v":0},null,null,null,null,{"$f":"UnObr1!G38","v":0}]
[1034,null,null,111400,21000,21000,21000,"Кредити домаћим пословним банкама","ЗАЛИХЕ (од 1018 до 1020)","ЗАЛИХЕ (од 1018 до 1020)","ЗАЛИХЕ (од 1018 до 1020)","ЗАЛИХЕ (од 1018 до 1020)","ЗАЛИХЕ (од 1018 до 1020)","ЗАЛИХЕ (од 1018 до 1020)","ЗАЛИХЕ (од 1018 до 1020)","ЗАЛИХЕ (од 1018 до 1020)","ЗАЛИХЕ (од 1018 до 1020)","ЗАЛИХЕ (од 1018 до 1020)","ЗАЛИХЕ (од 1018 до 1020)","ЗАЛИХЕ (од 1018 до 1020)","ЗАЛИХЕ (од 1018 до 1020)","ЗАЛИХЕ (од 1018 до 1020)","ЗАЛИХЕ (од 1018 до 1020)","ЗАЛИХЕ (од 1018 до 1020)",{"$f":"UnObr1!D39","v":0},null,null,null,null,{"$f":"UnObr1!E39","v":0},null,null,null,null,{"$f":"UnObr1!F39","v":0},null,null,null,null,{"$f":"UnObr1!G39","v":0}]
[1035,null,null,111500,21000,21000,21000,"Кредити домаћим јавним нефинансијским  \nинституцијама","ЗАЛИХЕ (од 1018 до 1020)","ЗАЛИХЕ (од 1018 до 1020)","ЗАЛИХЕ (од 1018 до 1020)","ЗАЛИХЕ (од 1018 до 1020)","ЗАЛИХЕ (од 1018 до 1020)","ЗАЛИХЕ (од 1018 до 1020)","ЗАЛИХЕ (од 1018 до 1020)","ЗАЛИХЕ (од 1018 до 1020)","ЗАЛИХЕ (од 1018 до 1020)","ЗАЛИХЕ (од 1018 до 1020)","ЗАЛИХЕ (од 1018 до 1020)","ЗАЛИХЕ (од 1018 до 1020)","ЗАЛИХЕ (од 1018 до 1020)","ЗАЛИХЕ (од 1018 до 1020)","ЗАЛИХЕ (од 1018 до 1020)","ЗАЛИХЕ (од 1018 до 1020)",{"$f":"UnObr1!D40","v":0},null,null,null,null,{"$f":"UnObr1!E40","v":0},null,null,null,null,{"$f":"UnObr1!F40","v":0},null,null,null,null,{"$f":"UnObr1!G40","v":0}]
[1036,null,null,111600,21000,21000,21000,"Кредити физичким лицима и \nдомаћинствима у земљи","ЗАЛИХЕ (од 1018 до 1020)","ЗАЛИХЕ (од 1018 до 1020)","ЗАЛИХЕ (од 1018 до 1020)","ЗАЛИХЕ (од 1018 до 1020)","ЗАЛИХЕ (од 1018 до 1020)","ЗАЛИХЕ (од 1018 до 1020)","ЗАЛИХЕ (од 1018 до 1020)","ЗАЛИХЕ (од 1018 до 1020)","ЗАЛИХЕ (од 1018 до 1020)","ЗАЛИХЕ (од 1018 до 1020)","ЗАЛИХЕ (од 1018 до 1020)","ЗАЛИХЕ (од 1018 до 1020)","ЗАЛИХЕ (од 1018 до 1020)","ЗАЛИХЕ (од 1018 до 1020)","ЗАЛИХЕ (од 1018 до 1020)","ЗАЛИХЕ (од 1018 до 1020)",{"$f":"UnObr1!D41","v":0},null,null,null,null,{"$f":"UnObr1!E41","v":0},null,null,null,null,{"$f":"UnObr1!F41","v":0},null,null,null,null,{"$f":"UnObr1!G41","v":0}]
[1037,null,null,111700,21000,21000,21000,"Кредити домаћим невладиним \nорганизацијама","ЗАЛИХЕ (од 1018 до 1020)","ЗАЛИХЕ (од 1018 до 1020)","ЗАЛИХЕ (од 1018 до 1020)","ЗАЛИХЕ (од 1018 до 1020)","ЗАЛИХЕ (од 1018 до 1020)","ЗАЛИХЕ (од 1018 до 1020)","ЗАЛИХЕ (од 1018 до 1020)","ЗАЛИХЕ (од 1018 до 1020)","ЗАЛИХЕ (од 1018 до 1020)","ЗАЛИХЕ (од 1018 до 1020)","ЗАЛИХЕ (од 1018 до 1020)","ЗАЛИХЕ (од 1018 до 1020)","ЗАЛИХЕ (од 1018 до 1020)","ЗАЛИХЕ (од 1018 до 1020)","ЗАЛИХЕ (од 1018 до 1020)","ЗАЛИХЕ (од 1018 до 1020)",{"$f":"UnObr1!D42","v":0},null,null,null,null,{"$f":"UnObr1!E42","v":0},null,null,null,null,{"$f":"UnObr1!F42","v":0},null,null,null,null,{"$f":"UnObr1!G42","v":0}]
[1038,null,null,111800,21000,21000,21000,"Кредити домаћим нефинансијским \nприватним предузећима","ЗАЛИХЕ (од 1018 до 1020)","ЗАЛИХЕ (од 1018 до 1020)","ЗАЛИХЕ (од 1018 до 1020)","ЗАЛИХЕ (од 1018 до 1020)","ЗАЛИХЕ (од 1018 до 1020)","ЗАЛИХЕ (од 1018 до 1020)","ЗАЛИХЕ (од 1018 до 1020)","ЗАЛИХЕ (од 1018 до 1020)","ЗАЛИХЕ (од 1018 до 1020)","ЗАЛИХЕ (од 1018 до 1020)","ЗАЛИХЕ (од 1018 до 1020)","ЗАЛИХЕ (од 1018 до 1020)","ЗАЛИХЕ (од 1018 до 1020)","ЗАЛИХЕ (од 1018 до 1020)","ЗАЛИХЕ (од 1018 до 1020)","ЗАЛИХЕ (од 1018 до 1020)",{"$f":"UnObr1!D43","v":0},null,null,null,null,{"$f":"UnObr1!E43","v":0},null,null,null,null,{"$f":"UnObr1!F43","v":0},null,null,null,null,{"$f":"UnObr1!G43","v":0}]
[1039,null,null,111900,21000,21000,21000,"Домаће акције и остали капитал","ЗАЛИХЕ (од 1018 до 1020)","ЗАЛИХЕ (од 1018 до 1020)","ЗАЛИХЕ (од 1018 до 1020)","ЗАЛИХЕ (од 1018 до 1020)","ЗАЛИХЕ (од 1018 до 1020)","ЗАЛИХЕ (од 1018 до 1020)","ЗАЛИХЕ (од 1018 до 1020)","ЗАЛИХЕ (од 1018 до 1020)","ЗАЛИХЕ (од 1018 до 1020)","ЗАЛИХЕ (од 1018 до 1020)","ЗАЛИХЕ (од 1018 до 1020)","ЗАЛИХЕ (од 1018 до 1020)","ЗАЛИХЕ (од 1018 до 1020)","ЗАЛИХЕ (од 1018 до 1020)","ЗАЛИХЕ (од 1018 до 1020)","ЗАЛИХЕ (од 1018 до 1020)",{"$f":"UnObr1!D44","v":0},null,null,null,null,{"$f":"UnObr1!E44","v":0},null,null,null,null,{"$f":"UnObr1!F44","v":0},null,null,null,null,{"$f":"UnObr1!G44","v":0}]
[1040,null,null,112000,21000,21000,21000,"ДУГОРОЧНA СТРАНА ФИНАНСИЈСКА \nИМОВИНА (од 1041 до 1048)","ЗАЛИХЕ (од 1018 до 1020)","ЗАЛИХЕ (од 1018 до 1020)","ЗАЛИХЕ (од 1018 до 1020)","ЗАЛИХЕ (од 1018 до 1020)","ЗАЛИХЕ (од 1018 до 1020)","ЗАЛИХЕ (од 1018 до 1020)","ЗАЛИХЕ (од 1018 до 1020)","ЗАЛИХЕ (од 1018 до 1020)","ЗАЛИХЕ (од 1018 до 1020)","ЗАЛИХЕ (од 1018 до 1020)","ЗАЛИХЕ (од 1018 до 1020)","ЗАЛИХЕ (од 1018 до 1020)","ЗАЛИХЕ (од 1018 до 1020)","ЗАЛИХЕ (од 1018 до 1020)","ЗАЛИХЕ (од 1018 до 1020)","ЗАЛИХЕ (од 1018 до 1020)",{"$f":"UnObr1!D45","v":0},null,null,null,null,{"$f":"UnObr1!E45","v":0},null,null,null,null,{"$f":"UnObr1!F45","v":0},null,null,null,null,{"$f":"UnObr1!G45","v":0}]
[1041,null,null,112100,21000,21000,21000,"Дугорочне стране хартије од вредности, \nизузев акција","ЗАЛИХЕ (од 1018 до 1020)","ЗАЛИХЕ (од 1018 до 1020)","ЗАЛИХЕ (од 1018 до 1020)","ЗАЛИХЕ (од 1018 до 1020)","ЗАЛИХЕ (од 1018 до 1020)","ЗАЛИХЕ (од 1018 до 1020)","ЗАЛИХЕ (од 1018 до 1020)","ЗАЛИХЕ (од 1018 до 1020)","ЗАЛИХЕ (од 1018 до 1020)","ЗАЛИХЕ (од 1018 до 1020)","ЗАЛИХЕ (од 1018 до 1020)","ЗАЛИХЕ (од 1018 до 1020)","ЗАЛИХЕ (од 1018 до 1020)","ЗАЛИХЕ (од 1018 до 1020)","ЗАЛИХЕ (од 1018 до 1020)","ЗАЛИХЕ (од 1018 до 1020)",{"$f":"UnObr1!D46","v":0},null,null,null,null,{"$f":"UnObr1!E46","v":0},null,null,null,null,{"$f":"UnObr1!F46","v":0},null,null,null,null,{"$f":"UnObr1!G46","v":0}]
[1042,null,null,112200,21000,21000,21000,"Кредити страним владама","ЗАЛИХЕ (од 1018 до 1020)","ЗАЛИХЕ (од 1018 до 1020)","ЗАЛИХЕ (од 1018 до 1020)","ЗАЛИХЕ (од 1018 до 1020)","ЗАЛИХЕ (од 1018 до 1020)","ЗАЛИХЕ (од 1018 до 1020)","ЗАЛИХЕ (од 1018 до 1020)","ЗАЛИХЕ (од 1018 до 1020)","ЗАЛИХЕ (од 1018 до 1020)","ЗАЛИХЕ (од 1018 до 1020)","ЗАЛИХЕ (од 1018 до 1020)","ЗАЛИХЕ (од 1018 до 1020)","ЗАЛИХЕ (од 1018 до 1020)","ЗАЛИХЕ (од 1018 до 1020)","ЗАЛИХЕ (од 1018 до 1020)","ЗАЛИХЕ (од 1018 до 1020)",{"$f":"UnObr1!D47","v":0},null,null,null,null,{"$f":"UnObr1!E47","v":0},null,null,null,null,{"$f":"UnObr1!F47","v":0},null,null,null,null,{"$f":"UnObr1!G47","v":0}]
[1043,null,null,112300,21000,21000,21000,"Кредити међународним организацијама","ЗАЛИХЕ (од 1018 до 1020)","ЗАЛИХЕ (од 1018 до 1020)","ЗАЛИХЕ (од 1018 до 1020)","ЗАЛИХЕ (од 1018 до 1020)","ЗАЛИХЕ (од 1018 до 1020)","ЗАЛИХЕ (од 1018 до 1020)","ЗАЛИХЕ (од 1018 до 1020)","ЗАЛИХЕ (од 1018 до 1020)","ЗАЛИХЕ (од 1018 до 1020)","ЗАЛИХЕ (од 1018 до 1020)","ЗАЛИХЕ (од 1018 до 1020)","ЗАЛИХЕ (од 1018 до 1020)","ЗАЛИХЕ (од 1018 до 1020)","ЗАЛИХЕ (од 1018 до 1020)","ЗАЛИХЕ (од 1018 до 1020)","ЗАЛИХЕ (од 1018 до 1020)",{"$f":"UnObr1!D48","v":0},null,null,null,null,{"$f":"UnObr1!E48","v":0},null,null,null,null,{"$f":"UnObr1!F48","v":0},null,null,null,null,{"$f":"UnObr1!G48","v":0}]
[1044,null,null,112400,21000,21000,21000,"Кредити страним пословним банкама","ЗАЛИХЕ (од 1018 до 1020)","ЗАЛИХЕ (од 1018 до 1020)","ЗАЛИХЕ (од 1018 до 1020)","ЗАЛИХЕ (од 1018 до 1020)","ЗАЛИХЕ (од 1018 до 1020)","ЗАЛИХЕ (од 1018 до 1020)","ЗАЛИХЕ (од 1018 до 1020)","ЗАЛИХЕ (од 1018 до 1020)","ЗАЛИХЕ (од 1018 до 1020)","ЗАЛИХЕ (од 1018 до 1020)","ЗАЛИХЕ (од 1018 до 1020)","ЗАЛИХЕ (од 1018 до 1020)","ЗАЛИХЕ (од 1018 до 1020)","ЗАЛИХЕ (од 1018 до 1020)","ЗАЛИХЕ (од 1018 до 1020)","ЗАЛИХЕ (од 1018 до 1020)",{"$f":"UnObr1!D49","v":0},null,null,null,null,{"$f":"UnObr1!E49","v":0},null,null,null,null,{"$f":"UnObr1!F49","v":0},null,null,null,null,{"$f":"UnObr1!G49","v":0}]
[1045,null,null,112500,21000,21000,21000,"Кредити страним нефинансијским \nинституцијама","ЗАЛИХЕ (од 1018 до 1020)","ЗАЛИХЕ (од 1018 до 1020)","ЗАЛИХЕ (од 1018 до 1020)","ЗАЛИХЕ (од 1018 до 1020)","ЗАЛИХЕ (од 1018 до 1020)","ЗАЛИХЕ (од 1018 до 1020)","ЗАЛИХЕ (од 1018 до 1020)","ЗАЛИХЕ (од 1018 до 1020)","ЗАЛИХЕ (од 1018 до 1020)","ЗАЛИХЕ (од 1018 до 1020)","ЗАЛИХЕ (од 1018 до 1020)","ЗАЛИХЕ (од 1018 до 1020)","ЗАЛИХЕ (од 1018 до 1020)","ЗАЛИХЕ (од 1018 до 1020)","ЗАЛИХЕ (од 1018 до 1020)","ЗАЛИХЕ (од 1018 до 1020)",{"$f":"UnObr1!D50","v":0},null,null,null,null,{"$f":"UnObr1!E50","v":0},null,null,null,null,{"$f":"UnObr1!F50","v":0},null,null,null,null,{"$f":"UnObr1!G50","v":0}]
[1046,null,null,112600,21000,21000,21000,"Кредити страним невладиним \nорганизацијама","ЗАЛИХЕ (од 1018 до 1020)","ЗАЛИХЕ (од 1018 до 1020)","ЗАЛИХЕ (од 1018 до 1020)","ЗАЛИХЕ (од 1018 до 1020)","ЗАЛИХЕ (од 1018 до 1020)","ЗАЛИХЕ (од 1018 до 1020)","ЗАЛИХЕ (од 1018 до 1020)","ЗАЛИХЕ (од 1018 до 1020)","ЗАЛИХЕ (од 1018 до 1020)","ЗАЛИХЕ (од 1018 до 1020)","ЗАЛИХЕ (од 1018 до 1020)","ЗАЛИХЕ (од 1018 до 1020)","ЗАЛИХЕ (од 1018 до 1020)","ЗАЛИХЕ (од 1018 до 1020)","ЗАЛИХЕ (од 1018 до 1020)","ЗАЛИХЕ (од 1018 до 1020)",{"$f":"UnObr1!D51","v":0},null,null,null,null,{"$f":"UnObr1!E51","v":0},null,null,null,null,{"$f":"UnObr1!F51","v":0},null,null,null,null,{"$f":"UnObr1!G51","v":0}]
[1047,null,null,112700,21000,21000,21000,"Стране акције и остали капитал","ЗАЛИХЕ (од 1018 до 1020)","ЗАЛИХЕ (од 1018 до 1020)","ЗАЛИХЕ (од 1018 до 1020)","ЗАЛИХЕ (од 1018 до 1020)","ЗАЛИХЕ (од 1018 до 1020)","ЗАЛИХЕ (од 1018 до 1020)","ЗАЛИХЕ (од 1018 до 1020)","ЗАЛИХЕ (од 1018 до 1020)","ЗАЛИХЕ (од 1018 до 1020)","ЗАЛИХЕ (од 1018 до 1020)","ЗАЛИХЕ (од 1018 до 1020)","ЗАЛИХЕ (од 1018 до 1020)","ЗАЛИХЕ (од 1018 до 1020)","ЗАЛИХЕ (од 1018 до 1020)","ЗАЛИХЕ (од 1018 до 1020)","ЗАЛИХЕ (од 1018 до 1020)",{"$f":"UnObr1!D52","v":0},null,null,null,null,{"$f":"UnObr1!E52","v":0},null,null,null,null,{"$f":"UnObr1!F52","v":0},null,null,null,null,{"$f":"UnObr1!G52","v":0}]
[1048,null,null,112800,21000,21000,21000,"Страни финансијски деривати","ЗАЛИХЕ (од 1018 до 1020)","ЗАЛИХЕ (од 1018 до 1020)","ЗАЛИХЕ (од 1018 до 1020)","ЗАЛИХЕ (од 1018 до 1020)","ЗАЛИХЕ (од 1018 до 1020)","ЗАЛИХЕ (од 1018 до 1020)","ЗАЛИХЕ (од 1018 до 1020)","ЗАЛИХЕ (од 1018 до 1020)","ЗАЛИХЕ (од 1018 до 1020)","ЗАЛИХЕ (од 1018 до 1020)","ЗАЛИХЕ (од 1018 до 1020)","ЗАЛИХЕ (од 1018 до 1020)","ЗАЛИХЕ (од 1018 до 1020)","ЗАЛИХЕ (од 1018 до 1020)","ЗАЛИХЕ (од 1018 до 1020)","ЗАЛИХЕ (од 1018 до 1020)",{"$f":"UnObr1!D53","v":0},null,null,null,null,{"$f":"UnObr1!E53","v":0},null,null,null,null,{"$f":"UnObr1!F53","v":0},null,null,null,null,{"$f":"UnObr1!G53","v":0}]
["Ознака\nОП",null,null,"Број\nконта",null,null,null,"Опис",null,null,null,null,null,null,null,null,null,null,null,null,null,null,null,null,"Износ из\nпретходне\nгодине\n(почетно\nстање)",null,null,null,null,"Износ текуће године"]
[]
[]
[null,null,null,null,null,null,null,null,null,null,null,null,null,null,null,null,null,null,null,null,null,null,null,null,null,null,null,null,null,"Бруто",null,null,null,null,"Исправка\nвредности",null,null,null,null,"Нето\n(5 - 6)"]
[1,null,null,2,null,null,null,3,null,null,null,null,null,null,null,null,null,null,null,null,null,null,null,null,4,null,null,null,null,5,null,null,null,null,6,null,null,null,null,7]
[1049,null,null,120000,121400,121400,121400,"НОВЧАНА СРЕДСТВА, ПЛЕМЕНИТИ МЕТАЛИ, ХАРТИЈЕ ОД ВРЕДНОСТИ, ПОТРАЖИВАЊА И КРАТКОРОЧНИ ПЛАСМАНИ (1050 + 1060 + 1062)","Девизни рачун","Девизни рачун","Девизни рачун","Девизни рачун","Девизни рачун","Девизни рачун","Девизни рачун","Девизни рачун","Девизни рачун","Девизни рачун","Девизни рачун","Девизни рачун","Девизни рачун","Девизни рачун","Девизни рачун","Девизни рачун",{"$f":"UnObr1!D54","v":711},null,null,null,null,{"$f":"UnObr1!E54","v":807},null,null,null,null,{"$f":"UnObr1!F54","v":0},null,null,null,null,{"$f":"UnObr1!G54","v":807}]
[1050,null,null,121000,121400,121400,121400,"НОВЧАНА СРЕДСТВА, ПЛЕМЕНИТИ МЕТАЛИ, ХАРТИЈЕ ОД ВРЕДНОСТИ (од 1051 до 1059)","Девизни рачун","Девизни рачун","Девизни рачун","Девизни рачун","Девизни рачун","Девизни рачун","Девизни рачун","Девизни рачун","Девизни рачун","Девизни рачун","Девизни рачун","Девизни рачун","Девизни рачун","Девизни рачун","Девизни рачун","Девизни рачун",{"$f":"UnObr1!D55","v":1},null,null,null,null,{"$f":"UnObr1!E55","v":6},null,null,null,null,{"$f":"UnObr1!F55","v":0},null,null,null,null,{"$f":"UnObr1!G55","v":6}]
[1051,null,null,121100,121400,121400,121400,"Жиро и текући рачуни","Девизни рачун","Девизни рачун","Девизни рачун","Девизни рачун","Девизни рачун","Девизни рачун","Девизни рачун","Девизни рачун","Девизни рачун","Девизни рачун","Девизни рачун","Девизни рачун","Девизни рачун","Девизни рачун","Девизни рачун","Девизни рачун",{"$f":"UnObr1!D56","v":1},null,null,null,null,{"$f":"UnObr1!E56","v":6},null,null,null,null,{"$f":"UnObr1!F56","v":0},null,null,null,null,{"$f":"UnObr1!G56","v":6}]
[1052,null,null,121200,121400,121400,121400,"Издвојена новчана средства и акредитиви","Девизни рачун","Девизни рачун","Девизни рачун","Девизни рачун","Девизни рачун","Девизни рачун","Девизни рачун","Девизни рачун","Девизни рачун","Девизни рачун","Девизни рачун","Девизни рачун","Девизни рачун","Девизни рачун","Девизни рачун","Девизни рачун",{"$f":"UnObr1!D57","v":0},null,null,null,null,{"$f":"UnObr1!E57","v":0},null,null,null,null,{"$f":"UnObr1!F57","v":0},null,null,null,null,{"$f":"UnObr1!G57","v":0}]
[1053,null,null,121300,121400,121400,121400,"Благајна","Девизни рачун","Девизни рачун","Девизни рачун","Девизни рачун","Девизни рачун","Девизни рачун","Девизни рачун","Девизни рачун","Девизни рачун","Девизни рачун","Девизни рачун","Девизни рачун","Девизни рачун","Девизни рачун","Девизни рачун","Девизни рачун",{"$f":"UnObr1!D58","v":0},null,null,null,null,{"$f":"UnObr1!E58","v":0},null,null,null,null,{"$f":"UnObr1!F58","v":0},null,null,null,null,{"$f":"UnObr1!G58","v":0}]
[1054,null,null,121400,121400,121400,121400,"Девизни рачун","Девизни рачун","Девизни рачун","Девизни рачун","Девизни рачун","Девизни рачун","Девизни рачун","Девизни рачун","Девизни рачун","Девизни рачун","Девизни рачун","Девизни рачун","Девизни рачун","Девизни рачун","Девизни рачун","Девизни рачун","Девизни рачун",{"$f":"UnObr1!D59","v":0},null,null,null,null,{"$f":"UnObr1!E59","v":0},null,null,null,null,{"$f":"UnObr1!F59","v":0},null,null,null,null,{"$f":"UnObr1!G59","v":0}]
[1055,null,null,121500,121400,121400,121400,"Девизни акредитиви","Девизни рачун","Девизни рачун","Девизни рачун","Девизни рачун","Девизни рачун","Девизни рачун","Девизни рачун","Девизни рачун","Девизни рачун","Девизни рачун","Девизни рачун","Девизни рачун","Девизни рачун","Девизни рачун","Девизни рачун","Девизни рачун",{"$f":"UnObr1!D60","v":0},null,null,null,null,{"$f":"UnObr1!E60","v":0},null,null,null,null,{"$f":"UnObr1!F60","v":0},null,null,null,null,{"$f":"UnObr1!G60","v":0}]
[1056,null,null,121600,121400,121400,121400,"Девизна благајна","Девизни рачун","Девизни рачун","Девизни рачун","Девизни рачун","Девизни рачун","Девизни рачун","Девизни рачун","Девизни рачун","Девизни рачун","Девизни рачун","Девизни рачун","Девизни рачун","Девизни рачун","Девизни рачун","Девизни рачун","Девизни рачун",{"$f":"UnObr1!D61","v":0},null,null,null,null,{"$f":"UnObr1!E61","v":0},null,null,null,null,{"$f":"UnObr1!F61","v":0},null,null,null,null,{"$f":"UnObr1!G61","v":0}]
[1057,null,null,121700,121400,121400,121400,"Остала новчана средства","Девизни рачун","Девизни рачун","Девизни рачун","Девизни рачун","Девизни рачун","Девизни рачун","Девизни рачун","Девизни рачун","Девизни рачун","Девизни рачун","Девизни рачун","Девизни рачун","Девизни рачун","Девизни рачун","Девизни рачун","Девизни рачун",{"$f":"UnObr1!D62","v":0},null,null,null,null,{"$f":"UnObr1!E62","v":0},null,null,null,null,{"$f":"UnObr1!F62","v":0},null,null,null,null,{"$f":"UnObr1!G62","v":0}]
[1058,null,null,121800,121400,121400,121400,"Племенити метали","Девизни рачун","Девизни рачун","Девизни рачун","Девизни рачун","Девизни рачун","Девизни рачун","Девизни рачун","Девизни рачун","Девизни рачун","Девизни рачун","Девизни рачун","Девизни рачун","Девизни рачун","Девизни рачун","Девизни рачун","Девизни рачун",{"$f":"UnObr1!D63","v":0},null,null,null,null,{"$f":"UnObr1!E63","v":0},null,null,null,null,{"$f":"UnObr1!F63","v":0},null,null,null,null,{"$f":"UnObr1!G63","v":0}]
[1059,null,null,121900,121400,121400,121400,"Хартије од вредности","Девизни рачун","Девизни рачун","Девизни рачун","Девизни рачун","Девизни рачун","Девизни рачун","Девизни рачун","Девизни рачун","Девизни рачун","Девизни рачун","Девизни рачун","Девизни рачун","Девизни рачун","Девизни рачун","Девизни рачун","Девизни рачун",{"$f":"UnObr1!D64","v":0},null,null,null,null,{"$f":"UnObr1!E64","v":0},null,null,null,null,{"$f":"UnObr1!F64","v":0},null,null,null,null,{"$f":"UnObr1!G64","v":0}]
[1060,null,null,122000,121400,121400,121400,"КРАТКОРОЧНА ПОТРАЖИВАЊА (1061)","Девизни рачун","Девизни рачун","Девизни рачун","Девизни рачун","Девизни рачун","Девизни рачун","Девизни рачун","Девизни рачун","Девизни рачун","Девизни рачун","Девизни рачун","Девизни рачун","Девизни рачун","Девизни рачун","Девизни рачун","Девизни рачун",{"$f":"UnObr1!D65","v":710},null,null,null,null,{"$f":"UnObr1!E65","v":801},null,null,null,null,{"$f":"UnObr1!F65","v":0},null,null,null,null,{"$f":"UnObr1!G65","v":801}]
[1061,null,null,122100,121400,121400,121400,"Потраживања по основу продаје и друга потраживања","Девизни рачун","Девизни рачун","Девизни рачун","Девизни рачун","Девизни рачун","Девизни рачун","Девизни рачун","Девизни рачун","Девизни рачун","Девизни рачун","Девизни рачун","Девизни рачун","Девизни рачун","Девизни рачун","Девизни рачун","Девизни рачун",{"$f":"UnObr1!D66","v":710},null,null,null,null,{"$f":"UnObr1!E66","v":801},null,null,null,null,{"$f":"UnObr1!F66","v":0},null,null,null,null,{"$f":"UnObr1!G66","v":801}]
[1062,null,null,123000,121400,121400,121400,"КРАТКОРОЧНИ ПЛАСМАНИ (од 1063 до 1066)","Девизни рачун","Девизни рачун","Девизни рачун","Девизни рачун","Девизни рачун","Девизни рачун","Девизни рачун","Девизни рачун","Девизни рачун","Девизни рачун","Девизни рачун","Девизни рачун","Девизни рачун","Девизни рачун","Девизни рачун","Девизни рачун",{"$f":"UnObr1!D67","v":0},null,null,null,null,{"$f":"UnObr1!E67","v":0},null,null,null,null,{"$f":"UnObr1!F67","v":0},null,null,null,null,{"$f":"UnObr1!G67","v":0}]
[1063,null,null,123100,121400,121400,121400,"Краткорочни кредити","Девизни рачун","Девизни рачун","Девизни рачун","Девизни рачун","Девизни рачун","Девизни рачун","Девизни рачун","Девизни рачун","Девизни рачун","Девизни рачун","Девизни рачун","Девизни рачун","Девизни рачун","Девизни рачун","Девизни рачун","Девизни рачун",{"$f":"UnObr1!D68","v":0},null,null,null,null,{"$f":"UnObr1!E68","v":0},null,null,null,null,{"$f":"UnObr1!F68","v":0},null,null,null,null,{"$f":"UnObr1!G68","v":0}]
[1064,null,null,123200,121400,121400,121400,"Дати аванси, депозити и кауције","Девизни рачун","Девизни рачун","Девизни рачун","Девизни рачун","Девизни рачун","Девизни рачун","Девизни рачун","Девизни рачун","Девизни рачун","Девизни рачун","Девизни рачун","Девизни рачун","Девизни рачун","Девизни рачун","Девизни рачун","Девизни рачун",{"$f":"UnObr1!D69","v":0},null,null,null,null,{"$f":"UnObr1!E69","v":0},null,null,null,null,{"$f":"UnObr1!F69","v":0},null,null,null,null,{"$f":"UnObr1!G69","v":0}]
[1065,null,null,123300,121400,121400,121400,"Хартије од вредности намењене продаји","Девизни рачун","Девизни рачун","Девизни рачун","Девизни рачун","Девизни рачун","Девизни рачун","Девизни рачун","Девизни рачун","Девизни рачун","Девизни рачун","Девизни рачун","Девизни рачун","Девизни рачун","Девизни рачун","Девизни рачун","Девизни рачун",{"$f":"UnObr1!D70","v":0},null,null,null,null,{"$f":"UnObr1!E70","v":0},null,null,null,null,{"$f":"UnObr1!F70","v":0},null,null,null,null,{"$f":"UnObr1!G70","v":0}]
[1066,null,null,123900,121400,121400,121400,"Остали краткорочни пласмани","Девизни рачун","Девизни рачун","Девизни рачун","Девизни рачун","Девизни рачун","Девизни рачун","Девизни рачун","Девизни рачун","Девизни рачун","Девизни рачун","Девизни рачун","Девизни рачун","Девизни рачун","Девизни рачун","Девизни рачун","Девизни рачун",{"$f":"UnObr1!D71","v":0},null,null,null,null,{"$f":"UnObr1!E71","v":0},null,null,null,null,{"$f":"UnObr1!F71","v":0},null,null,null,null,{"$f":"UnObr1!G71","v":0}]
[1067,null,null,130000,121400,121400,121400,"АКТИВНА ВРЕМЕНСКА РАЗГРАНИЧЕЊА (1068)","Девизни рачун","Девизни рачун","Девизни рачун","Девизни рачун","Девизни рачун","Девизни рачун","Девизни рачун","Девизни рачун","Девизни рачун","Девизни рачун","Девизни рачун","Девизни рачун","Девизни рачун","Девизни рачун","Девизни рачун","Девизни рачун",{"$f":"UnObr1!D72","v":2698},null,null,null,null,{"$f":"UnObr1!E72","v":5997},null,null,null,null,{"$f":"UnObr1!F72","v":0},null,null,null,null,{"$f":"UnObr1!G72","v":5997}]
[1068,null,null,131000,121400,121400,121400,"АКТИВНА ВРЕМЕНСКА РАЗГРАНИЧЕЊА \n(од 1069 до 1071)","Девизни рачун","Девизни рачун","Девизни рачун","Девизни рачун","Девизни рачун","Девизни рачун","Девизни рачун","Девизни рачун","Девизни рачун","Девизни рачун","Девизни рачун","Девизни рачун","Девизни рачун","Девизни рачун","Девизни рачун","Девизни рачун",{"$f":"UnObr1!D73","v":2698},null,null,null,null,{"$f":"UnObr1!E73","v":5997},null,null,null,null,{"$f":"UnObr1!F73","v":0},null,null,null,null,{"$f":"UnObr1!G73","v":5997}]
[1069,null,null,131100,121400,121400,121400,"Разграничени расходи до једне године","Девизни рачун","Девизни рачун","Девизни рачун","Девизни рачун","Девизни рачун","Девизни рачун","Девизни рачун","Девизни рачун","Девизни рачун","Девизни рачун","Девизни рачун","Девизни рачун","Девизни рачун","Девизни рачун","Девизни рачун","Девизни рачун",{"$f":"UnObr1!D74","v":0},null,null,null,null,{"$f":"UnObr1!E74","v":0},null,null,null,null,{"$f":"UnObr1!F74","v":0},null,null,null,null,{"$f":"UnObr1!G74","v":0}]
[1070,null,null,131200,121400,121400,121400,"Обрачунати неплаћени расходи и издаци","Девизни рачун","Девизни рачун","Девизни рачун","Девизни рачун","Девизни рачун","Девизни рачун","Девизни рачун","Девизни рачун","Девизни рачун","Девизни рачун","Девизни рачун","Девизни рачун","Девизни рачун","Девизни рачун","Девизни рачун","Девизни рачун",{"$f":"UnObr1!D75","v":2698},null,null,null,null,{"$f":"UnObr1!E75","v":5997},null,null,null,null,{"$f":"UnObr1!F75","v":0},null,null,null,null,{"$f":"UnObr1!G75","v":5997}]
[1071,null,null,131300,121400,121400,121400,"Остала активна временска разграничења","Девизни рачун","Девизни рачун","Девизни рачун","Девизни рачун","Девизни рачун","Девизни рачун","Девизни рачун","Девизни рачун","Девизни рачун","Девизни рачун","Девизни рачун","Девизни рачун","Девизни рачун","Девизни рачун","Девизни рачун","Девизни рачун",{"$f":"UnObr1!D76","v":0},null,null,null,null,{"$f":"UnObr1!E76","v":0},null,null,null,null,{"$f":"UnObr1!F76","v":0},null,null,null,null,{"$f":"UnObr1!G76","v":0}]
[1072,null,null,null,null,null,null,"УКУПНА АКТИВА (1001 + 1028)","Девизни рачун","Девизни рачун","Девизни рачун","Девизни рачун","Девизни рачун","Девизни рачун","Девизни рачун","Девизни рачун","Девизни рачун","Девизни рачун","Девизни рачун","Девизни рачун","Девизни рачун","Девизни рачун","Девизни рачун","Девизни рачун",{"$f":"UnObr1!D77","v":84339},null,null,null,null,{"$f":"UnObr1!E77","v":138799},null,null,null,null,{"$f":"UnObr1!F77","v":53120},null,null,null,null,{"$f":"UnObr1!G77","v":85679}]
[1073,null,null,351000,121400,121400,121400,"ВАНБИЛАНСНА АКТИВА","Девизни рачун","Девизни рачун","Девизни рачун","Девизни рачун","Девизни рачун","Девизни рачун","Девизни рачун","Девизни рачун","Девизни рачун","Девизни рачун","Девизни рачун","Девизни рачун","Девизни рачун","Девизни рачун","Девизни рачун","Девизни рачун",{"$f":"UnObr1!D78","v":0},null,null,null,null,{"$f":"UnObr1!E78","v":1964},null,null,null,null,{"$f":"UnObr1!F78","v":0},null,null,null,null,{"$f":"UnObr1!G78","v":1964}]
["Ознака\nОП",null,null,"Број\nконта",null,null,null,"Опис",null,null,null,null,null,null,null,null,null,null,null,null,null,null,null,null,"Износ"]
[]
[null,null,null,null,null,null,null,null,null,null,null,null,null,null,null,null,null,null,null,null,null,null,null,null,"Претходна година",null,null,null,null,null,null,null,null,null,"Текућа година"]
[]
[1,null,null,2,null,null,null,3,null,null,null,null,null,null,null,null,null,null,null,null,null,null,null,null,4,null,null,null,null,null,null,null,null,5,5]
["     ",null,null,null,null,null,null,"ПАСИВА"]
[1074,null,null,200000,200000,200000,200000,"ОБАВЕЗЕ (1075 + 1099 + 1118 + 1173 + 1198 + 1212)","ОБАВЕЗЕ (1070 + 1089 + 1108 + 1159 + 1184 + 1197)","ОБАВЕЗЕ (1070 + 1089 + 1108 + 1159 + 1184 + 1197)","ОБАВЕЗЕ (1070 + 1089 + 1108 + 1159 + 1184 + 1197)","ОБАВЕЗЕ (1070 + 1089 + 1108 + 1159 + 1184 + 1197)","ОБАВЕЗЕ (1070 + 1089 + 1108 + 1159 + 1184 + 1197)","ОБАВЕЗЕ (1070 + 1089 + 1108 + 1159 + 1184 + 1197)","ОБАВЕЗЕ (1070 + 1089 + 1108 + 1159 + 1184 + 1197)","ОБАВЕЗЕ (1070 + 1089 + 1108 + 1159 + 1184 + 1197)","ОБАВЕЗЕ (1070 + 1089 + 1108 + 1159 + 1184 + 1197)","ОБАВЕЗЕ (1070 + 1089 + 1108 + 1159 + 1184 + 1197)","ОБАВЕЗЕ (1070 + 1089 + 1108 + 1159 + 1184 + 1197)","ОБАВЕЗЕ (1070 + 1089 + 1108 + 1159 + 1184 + 1197)","ОБАВЕЗЕ (1070 + 1089 + 1108 + 1159 + 1184 + 1197)","ОБАВЕЗЕ (1070 + 1089 + 1108 + 1159 + 1184 + 1197)","ОБАВЕЗЕ (1070 + 1089 + 1108 + 1159 + 1184 + 1197)","ОБАВЕЗЕ (1070 + 1089 + 1108 + 1159 + 1184 + 1197)",{"$f":"UnObr1!F83","v":3408},null,null,null,null,null,null,null,null,null,{"$f":"UnObr1!G83","v":6798}]
[1075,null,null,210000,200000,200000,200000,"ДУГОРОЧНЕ ОБАВЕЗЕ \n(1076 + 1086 + 1093 + 1095 + 1097)","ОБАВЕЗЕ (1070 + 1089 + 1108 + 1159 + 1184 + 1197)","ОБАВЕЗЕ (1070 + 1089 + 1108 + 1159 + 1184 + 1197)","ОБАВЕЗЕ (1070 + 1089 + 1108 + 1159 + 1184 + 1197)","ОБАВЕЗЕ (1070 + 1089 + 1108 + 1159 + 1184 + 1197)","ОБАВЕЗЕ (1070 + 1089 + 1108 + 1159 + 1184 + 1197)","ОБАВЕЗЕ (1070 + 1089 + 1108 + 1159 + 1184 + 1197)","ОБАВЕЗЕ (1070 + 1089 + 1108 + 1159 + 1184 + 1197)","ОБАВЕЗЕ (1070 + 1089 + 1108 + 1159 + 1184 + 1197)","ОБАВЕЗЕ (1070 + 1089 + 1108 + 1159 + 1184 + 1197)","ОБАВЕЗЕ (1070 + 1089 + 1108 + 1159 + 1184 + 1197)","ОБАВЕЗЕ (1070 + 1089 + 1108 + 1159 + 1184 + 1197)","ОБАВЕЗЕ (1070 + 1089 + 1108 + 1159 + 1184 + 1197)","ОБАВЕЗЕ (1070 + 1089 + 1108 + 1159 + 1184 + 1197)","ОБАВЕЗЕ (1070 + 1089 + 1108 + 1159 + 1184 + 1197)","ОБАВЕЗЕ (1070 + 1089 + 1108 + 1159 + 1184 + 1197)","ОБАВЕЗЕ (1070 + 1089 + 1108 + 1159 + 1184 + 1197)",{"$f":"UnObr1!F84","v":0},null,null,null,null,null,null,null,null,null,{"$f":"UnObr1!G84","v":0}]
[1076,null,null,211000,200000,200000,200000,"ДОМАЋЕ ДУГОРОЧНЕ ОБАВЕЗЕ (од 1077 до 1085)","ОБАВЕЗЕ (1070 + 1089 + 1108 + 1159 + 1184 + 1197)","ОБАВЕЗЕ (1070 + 1089 + 1108 + 1159 + 1184 + 1197)","ОБАВЕЗЕ (1070 + 1089 + 1108 + 1159 + 1184 + 1197)","ОБАВЕЗЕ (1070 + 1089 + 1108 + 1159 + 1184 + 1197)","ОБАВЕЗЕ (1070 + 1089 + 1108 + 1159 + 1184 + 1197)","ОБАВЕЗЕ (1070 + 1089 + 1108 + 1159 + 1184 + 1197)","ОБАВЕЗЕ (1070 + 1089 + 1108 + 1159 + 1184 + 1197)","ОБАВЕЗЕ (1070 + 1089 + 1108 + 1159 + 1184 + 1197)","ОБАВЕЗЕ (1070 + 1089 + 1108 + 1159 + 1184 + 1197)","ОБАВЕЗЕ (1070 + 1089 + 1108 + 1159 + 1184 + 1197)","ОБАВЕЗЕ (1070 + 1089 + 1108 + 1159 + 1184 + 1197)","ОБАВЕЗЕ (1070 + 1089 + 1108 + 1159 + 1184 + 1197)","ОБАВЕЗЕ (1070 + 1089 + 1108 + 1159 + 1184 + 1197)","ОБАВЕЗЕ (1070 + 1089 + 1108 + 1159 + 1184 + 1197)","ОБАВЕЗЕ (1070 + 1089 + 1108 + 1159 + 1184 + 1197)","ОБАВЕЗЕ (1070 + 1089 + 1108 + 1159 + 1184 + 1197)",{"$f":"UnObr1!F85","v":0},null,null,null,null,null,null,null,null,null,{"$f":"UnObr1!G85","v":0}]
[1077,null,null,211100,200000,200000,200000,"Обавезе по основу емитованих хартија од вредности, изузев акција","ОБАВЕЗЕ (1070 + 1089 + 1108 + 1159 + 1184 + 1197)","ОБАВЕЗЕ (1070 + 1089 + 1108 + 1159 + 1184 + 1197)","ОБАВЕЗЕ (1070 + 1089 + 1108 + 1159 + 1184 + 1197)","ОБАВЕЗЕ (1070 + 1089 + 1108 + 1159 + 1184 + 1197)","ОБАВЕЗЕ (1070 + 1089 + 1108 + 1159 + 1184 + 1197)","ОБАВЕЗЕ (1070 + 1089 + 1108 + 1159 + 1184 + 1197)","ОБАВЕЗЕ (1070 + 1089 + 1108 + 1159 + 1184 + 1197)","ОБАВЕЗЕ (1070 + 1089 + 1108 + 1159 + 1184 + 1197)","ОБАВЕЗЕ (1070 + 1089 + 1108 + 1159 + 1184 + 1197)","ОБАВЕЗЕ (1070 + 1089 + 1108 + 1159 + 1184 + 1197)","ОБАВЕЗЕ (1070 + 1089 + 1108 + 1159 + 1184 + 1197)","ОБАВЕЗЕ (1070 + 1089 + 1108 + 1159 + 1184 + 1197)","ОБАВЕЗЕ (1070 + 1089 + 1108 + 1159 + 1184 + 1197)","ОБАВЕЗЕ (1070 + 1089 + 1108 + 1159 + 1184 + 1197)","ОБАВЕЗЕ (1070 + 1089 + 1108 + 1159 + 1184 + 1197)","ОБАВЕЗЕ (1070 + 1089 + 1108 + 1159 + 1184 + 1197)",{"$f":"UnObr1!F86","v":0},null,null,null,null,null,null,null,null,null,{"$f":"UnObr1!G86","v":0}]
[1078,null,null,211200,200000,200000,200000,"Обавезе по основу дугорочних кредита од осталих \nнивоа власти","ОБАВЕЗЕ (1070 + 1089 + 1108 + 1159 + 1184 + 1197)","ОБАВЕЗЕ (1070 + 1089 + 1108 + 1159 + 1184 + 1197)","ОБАВЕЗЕ (1070 + 1089 + 1108 + 1159 + 1184 + 1197)","ОБАВЕЗЕ (1070 + 1089 + 1108 + 1159 + 1184 + 1197)","ОБАВЕЗЕ (1070 + 1089 + 1108 + 1159 + 1184 + 1197)","ОБАВЕЗЕ (1070 + 1089 + 1108 + 1159 + 1184 + 1197)","ОБАВЕЗЕ (1070 + 1089 + 1108 + 1159 + 1184 + 1197)","ОБАВЕЗЕ (1070 + 1089 + 1108 + 1159 + 1184 + 1197)","ОБАВЕЗЕ (1070 + 1089 + 1108 + 1159 + 1184 + 1197)","ОБАВЕЗЕ (1070 + 1089 + 1108 + 1159 + 1184 + 1197)","ОБАВЕЗЕ (1070 + 1089 + 1108 + 1159 + 1184 + 1197)","ОБАВЕЗЕ (1070 + 1089 + 1108 + 1159 + 1184 + 1197)","ОБАВЕЗЕ (1070 + 1089 + 1108 + 1159 + 1184 + 1197)","ОБАВЕЗЕ (1070 + 1089 + 1108 + 1159 + 1184 + 1197)","ОБАВЕЗЕ (1070 + 1089 + 1108 + 1159 + 1184 + 1197)","ОБАВЕЗЕ (1070 + 1089 + 1108 + 1159 + 1184 + 1197)",{"$f":"UnObr1!F87","v":0},null,null,null,null,null,null,null,null,null,{"$f":"UnObr1!G87","v":0}]
[1079,null,null,211300,200000,200000,200000,"Обавезе по основу дугорочних кредита од домаћих \nјавних финансијских институција","ОБАВЕЗЕ (1070 + 1089 + 1108 + 1159 + 1184 + 1197)","ОБАВЕЗЕ (1070 + 1089 + 1108 + 1159 + 1184 + 1197)","ОБАВЕЗЕ (1070 + 1089 + 1108 + 1159 + 1184 + 1197)","ОБАВЕЗЕ (1070 + 1089 + 1108 + 1159 + 1184 + 1197)","ОБАВЕЗЕ (1070 + 1089 + 1108 + 1159 + 1184 + 1197)","ОБАВЕЗЕ (1070 + 1089 + 1108 + 1159 + 1184 + 1197)","ОБАВЕЗЕ (1070 + 1089 + 1108 + 1159 + 1184 + 1197)","ОБАВЕЗЕ (1070 + 1089 + 1108 + 1159 + 1184 + 1197)","ОБАВЕЗЕ (1070 + 1089 + 1108 + 1159 + 1184 + 1197)","ОБАВЕЗЕ (1070 + 1089 + 1108 + 1159 + 1184 + 1197)","ОБАВЕЗЕ (1070 + 1089 + 1108 + 1159 + 1184 + 1197)","ОБАВЕЗЕ (1070 + 1089 + 1108 + 1159 + 1184 + 1197)","ОБАВЕЗЕ (1070 + 1089 + 1108 + 1159 + 1184 + 1197)","ОБАВЕЗЕ (1070 + 1089 + 1108 + 1159 + 1184 + 1197)","ОБАВЕЗЕ (1070 + 1089 + 1108 + 1159 + 1184 + 1197)","ОБАВЕЗЕ (1070 + 1089 + 1108 + 1159 + 1184 + 1197)",{"$f":"UnObr1!F88","v":0},null,null,null,null,null,null,null,null,null,{"$f":"UnObr1!G88","v":0}]
[1080,null,null,211400,200000,200000,200000,"Обавезе по основу дугорочних кредита од домаћих пословних банака","ОБАВЕЗЕ (1070 + 1089 + 1108 + 1159 + 1184 + 1197)","ОБАВЕЗЕ (1070 + 1089 + 1108 + 1159 + 1184 + 1197)","ОБАВЕЗЕ (1070 + 1089 + 1108 + 1159 + 1184 + 1197)","ОБАВЕЗЕ (1070 + 1089 + 1108 + 1159 + 1184 + 1197)","ОБАВЕЗЕ (1070 + 1089 + 1108 + 1159 + 1184 + 1197)","ОБАВЕЗЕ (1070 + 1089 + 1108 + 1159 + 1184 + 1197)","ОБАВЕЗЕ (1070 + 1089 + 1108 + 1159 + 1184 + 1197)","ОБАВЕЗЕ (1070 + 1089 + 1108 + 1159 + 1184 + 1197)","ОБАВЕЗЕ (1070 + 1089 + 1108 + 1159 + 1184 + 1197)","ОБАВЕЗЕ (1070 + 1089 + 1108 + 1159 + 1184 + 1197)","ОБАВЕЗЕ (1070 + 1089 + 1108 + 1159 + 1184 + 1197)","ОБАВЕЗЕ (1070 + 1089 + 1108 + 1159 + 1184 + 1197)","ОБАВЕЗЕ (1070 + 1089 + 1108 + 1159 + 1184 + 1197)","ОБАВЕЗЕ (1070 + 1089 + 1108 + 1159 + 1184 + 1197)","ОБАВЕЗЕ (1070 + 1089 + 1108 + 1159 + 1184 + 1197)","ОБАВЕЗЕ (1070 + 1089 + 1108 + 1159 + 1184 + 1197)",{"$f":"UnObr1!F89","v":0},null,null,null,null,null,null,null,null,null,{"$f":"UnObr1!G89","v":0}]
[1081,null,null,211500,200000,200000,200000,"Обавезе по основу дугорочних кредита од осталих \nдомаћих кредитора","ОБАВЕЗЕ (1070 + 1089 + 1108 + 1159 + 1184 + 1197)","ОБАВЕЗЕ (1070 + 1089 + 1108 + 1159 + 1184 + 1197)","ОБАВЕЗЕ (1070 + 1089 + 1108 + 1159 + 1184 + 1197)","ОБАВЕЗЕ (1070 + 1089 + 1108 + 1159 + 1184 + 1197)","ОБАВЕЗЕ (1070 + 1089 + 1108 + 1159 + 1184 + 1197)","ОБАВЕЗЕ (1070 + 1089 + 1108 + 1159 + 1184 + 1197)","ОБАВЕЗЕ (1070 + 1089 + 1108 + 1159 + 1184 + 1197)","ОБАВЕЗЕ (1070 + 1089 + 1108 + 1159 + 1184 + 1197)","ОБАВЕЗЕ (1070 + 1089 + 1108 + 1159 + 1184 + 1197)","ОБАВЕЗЕ (1070 + 1089 + 1108 + 1159 + 1184 + 1197)","ОБАВЕЗЕ (1070 + 1089 + 1108 + 1159 + 1184 + 1197)","ОБАВЕЗЕ (1070 + 1089 + 1108 + 1159 + 1184 + 1197)","ОБАВЕЗЕ (1070 + 1089 + 1108 + 1159 + 1184 + 1197)","ОБАВЕЗЕ (1070 + 1089 + 1108 + 1159 + 1184 + 1197)","ОБАВЕЗЕ (1070 + 1089 + 1108 + 1159 + 1184 + 1197)","ОБАВЕЗЕ (1070 + 1089 + 1108 + 1159 + 1184 + 1197)",{"$f":"UnObr1!F90","v":0},null,null,null,null,null,null,null,null,null,{"$f":"UnObr1!G90","v":0}]
[1082,null,null,211600,200000,200000,200000,"Обавезе по основу дугорочних кредита од \nдомаћинстава у земљи","ОБАВЕЗЕ (1070 + 1089 + 1108 + 1159 + 1184 + 1197)","ОБАВЕЗЕ (1070 + 1089 + 1108 + 1159 + 1184 + 1197)","ОБАВЕЗЕ (1070 + 1089 + 1108 + 1159 + 1184 + 1197)","ОБАВЕЗЕ (1070 + 1089 + 1108 + 1159 + 1184 + 1197)","ОБАВЕЗЕ (1070 + 1089 + 1108 + 1159 + 1184 + 1197)","ОБАВЕЗЕ (1070 + 1089 + 1108 + 1159 + 1184 + 1197)","ОБАВЕЗЕ (1070 + 1089 + 1108 + 1159 + 1184 + 1197)","ОБАВЕЗЕ (1070 + 1089 + 1108 + 1159 + 1184 + 1197)","ОБАВЕЗЕ (1070 + 1089 + 1108 + 1159 + 1184 + 1197)","ОБАВЕЗЕ (1070 + 1089 + 1108 + 1159 + 1184 + 1197)","ОБАВЕЗЕ (1070 + 1089 + 1108 + 1159 + 1184 + 1197)","ОБАВЕЗЕ (1070 + 1089 + 1108 + 1159 + 1184 + 1197)","ОБАВЕЗЕ (1070 + 1089 + 1108 + 1159 + 1184 + 1197)","ОБАВЕЗЕ (1070 + 1089 + 1108 + 1159 + 1184 + 1197)","ОБАВЕЗЕ (1070 + 1089 + 1108 + 1159 + 1184 + 1197)","ОБАВЕЗЕ (1070 + 1089 + 1108 + 1159 + 1184 + 1197)",{"$f":"UnObr1!F91","v":0},null,null,null,null,null,null,null,null,null,{"$f":"UnObr1!G91","v":0}]
[1083,null,null,211700,200000,200000,200000,"Дугорочне обавезе по основу домаћих финансијских деривата","ОБАВЕЗЕ (1070 + 1089 + 1108 + 1159 + 1184 + 1197)","ОБАВЕЗЕ (1070 + 1089 + 1108 + 1159 + 1184 + 1197)","ОБАВЕЗЕ (1070 + 1089 + 1108 + 1159 + 1184 + 1197)","ОБАВЕЗЕ (1070 + 1089 + 1108 + 1159 + 1184 + 1197)","ОБАВЕЗЕ (1070 + 1089 + 1108 + 1159 + 1184 + 1197)","ОБАВЕЗЕ (1070 + 1089 + 1108 + 1159 + 1184 + 1197)","ОБАВЕЗЕ (1070 + 1089 + 1108 + 1159 + 1184 + 1197)","ОБАВЕЗЕ (1070 + 1089 + 1108 + 1159 + 1184 + 1197)","ОБАВЕЗЕ (1070 + 1089 + 1108 + 1159 + 1184 + 1197)","ОБАВЕЗЕ (1070 + 1089 + 1108 + 1159 + 1184 + 1197)","ОБАВЕЗЕ (1070 + 1089 + 1108 + 1159 + 1184 + 1197)","ОБАВЕЗЕ (1070 + 1089 + 1108 + 1159 + 1184 + 1197)","ОБАВЕЗЕ (1070 + 1089 + 1108 + 1159 + 1184 + 1197)","ОБАВЕЗЕ (1070 + 1089 + 1108 + 1159 + 1184 + 1197)","ОБАВЕЗЕ (1070 + 1089 + 1108 + 1159 + 1184 + 1197)","ОБАВЕЗЕ (1070 + 1089 + 1108 + 1159 + 1184 + 1197)",{"$f":"UnObr1!F92","v":0},null,null,null,null,null,null,null,null,null,{"$f":"UnObr1!G92","v":0}]
[1084,null,null,211800,200000,200000,200000,"Дугорочне обавезе по основу домаћих меница","ОБАВЕЗЕ (1070 + 1089 + 1108 + 1159 + 1184 + 1197)","ОБАВЕЗЕ (1070 + 1089 + 1108 + 1159 + 1184 + 1197)","ОБАВЕЗЕ (1070 + 1089 + 1108 + 1159 + 1184 + 1197)","ОБАВЕЗЕ (1070 + 1089 + 1108 + 1159 + 1184 + 1197)","ОБАВЕЗЕ (1070 + 1089 + 1108 + 1159 + 1184 + 1197)","ОБАВЕЗЕ (1070 + 1089 + 1108 + 1159 + 1184 + 1197)","ОБАВЕЗЕ (1070 + 1089 + 1108 + 1159 + 1184 + 1197)","ОБАВЕЗЕ (1070 + 1089 + 1108 + 1159 + 1184 + 1197)","ОБАВЕЗЕ (1070 + 1089 + 1108 + 1159 + 1184 + 1197)","ОБАВЕЗЕ (1070 + 1089 + 1108 + 1159 + 1184 + 1197)","ОБАВЕЗЕ (1070 + 1089 + 1108 + 1159 + 1184 + 1197)","ОБАВЕЗЕ (1070 + 1089 + 1108 + 1159 + 1184 + 1197)","ОБАВЕЗЕ (1070 + 1089 + 1108 + 1159 + 1184 + 1197)","ОБАВЕЗЕ (1070 + 1089 + 1108 + 1159 + 1184 + 1197)","ОБАВЕЗЕ (1070 + 1089 + 1108 + 1159 + 1184 + 1197)","ОБАВЕЗЕ (1070 + 1089 + 1108 + 1159 + 1184 + 1197)",{"$f":"UnObr1!F93","v":0},null,null,null,null,null,null,null,null,null,{"$f":"UnObr1!G93","v":0}]
[1085,null,null,211900,200000,200000,200000,"Дугорочне обавезе за финансијске лизинге","ОБАВЕЗЕ (1070 + 1089 + 1108 + 1159 + 1184 + 1197)","ОБАВЕЗЕ (1070 + 1089 + 1108 + 1159 + 1184 + 1197)","ОБАВЕЗЕ (1070 + 1089 + 1108 + 1159 + 1184 + 1197)","ОБАВЕЗЕ (1070 + 1089 + 1108 + 1159 + 1184 + 1197)","ОБАВЕЗЕ (1070 + 1089 + 1108 + 1159 + 1184 + 1197)","ОБАВЕЗЕ (1070 + 1089 + 1108 + 1159 + 1184 + 1197)","ОБАВЕЗЕ (1070 + 1089 + 1108 + 1159 + 1184 + 1197)","ОБАВЕЗЕ (1070 + 1089 + 1108 + 1159 + 1184 + 1197)","ОБАВЕЗЕ (1070 + 1089 + 1108 + 1159 + 1184 + 1197)","ОБАВЕЗЕ (1070 + 1089 + 1108 + 1159 + 1184 + 1197)","ОБАВЕЗЕ (1070 + 1089 + 1108 + 1159 + 1184 + 1197)","ОБАВЕЗЕ (1070 + 1089 + 1108 + 1159 + 1184 + 1197)","ОБАВЕЗЕ (1070 + 1089 + 1108 + 1159 + 1184 + 1197)","ОБАВЕЗЕ (1070 + 1089 + 1108 + 1159 + 1184 + 1197)","ОБАВЕЗЕ (1070 + 1089 + 1108 + 1159 + 1184 + 1197)","ОБАВЕЗЕ (1070 + 1089 + 1108 + 1159 + 1184 + 1197)",{"$f":"UnObr1!F94","v":0},null,null,null,null,null,null,null,null,null,{"$f":"UnObr1!G94","v":0}]
[1086,null,null,212000,200000,200000,200000,"СТРАНЕ ДУГОРОЧНЕ ОБАВЕЗЕ (од 1087 до 1092)","ОБАВЕЗЕ (1070 + 1089 + 1108 + 1159 + 1184 + 1197)","ОБАВЕЗЕ (1070 + 1089 + 1108 + 1159 + 1184 + 1197)","ОБАВЕЗЕ (1070 + 1089 + 1108 + 1159 + 1184 + 1197)","ОБАВЕЗЕ (1070 + 1089 + 1108 + 1159 + 1184 + 1197)","ОБАВЕЗЕ (1070 + 1089 + 1108 + 1159 + 1184 + 1197)","ОБАВЕЗЕ (1070 + 1089 + 1108 + 1159 + 1184 + 1197)","ОБАВЕЗЕ (1070 + 1089 + 1108 + 1159 + 1184 + 1197)","ОБАВЕЗЕ (1070 + 1089 + 1108 + 1159 + 1184 + 1197)","ОБАВЕЗЕ (1070 + 1089 + 1108 + 1159 + 1184 + 1197)","ОБАВЕЗЕ (1070 + 1089 + 1108 + 1159 + 1184 + 1197)","ОБАВЕЗЕ (1070 + 1089 + 1108 + 1159 + 1184 + 1197)","ОБАВЕЗЕ (1070 + 1089 + 1108 + 1159 + 1184 + 1197)","ОБАВЕЗЕ (1070 + 1089 + 1108 + 1159 + 1184 + 1197)","ОБАВЕЗЕ (1070 + 1089 + 1108 + 1159 + 1184 + 1197)","ОБАВЕЗЕ (1070 + 1089 + 1108 + 1159 + 1184 + 1197)","ОБАВЕЗЕ (1070 + 1089 + 1108 + 1159 + 1184 + 1197)",{"$f":"UnObr1!F95","v":0},null,null,null,null,null,null,null,null,null,{"$f":"UnObr1!G95","v":0}]
[1087,null,null,212100,200000,200000,200000,"Дугорочне стране обавезе по основу емитованих \nхартија од вредности, изузев акција","ОБАВЕЗЕ (1070 + 1089 + 1108 + 1159 + 1184 + 1197)","ОБАВЕЗЕ (1070 + 1089 + 1108 + 1159 + 1184 + 1197)","ОБАВЕЗЕ (1070 + 1089 + 1108 + 1159 + 1184 + 1197)","ОБАВЕЗЕ (1070 + 1089 + 1108 + 1159 + 1184 + 1197)","ОБАВЕЗЕ (1070 + 1089 + 1108 + 1159 + 1184 + 1197)","ОБАВЕЗЕ (1070 + 1089 + 1108 + 1159 + 1184 + 1197)","ОБАВЕЗЕ (1070 + 1089 + 1108 + 1159 + 1184 + 1197)","ОБАВЕЗЕ (1070 + 1089 + 1108 + 1159 + 1184 + 1197)","ОБАВЕЗЕ (1070 + 1089 + 1108 + 1159 + 1184 + 1197)","ОБАВЕЗЕ (1070 + 1089 + 1108 + 1159 + 1184 + 1197)","ОБАВЕЗЕ (1070 + 1089 + 1108 + 1159 + 1184 + 1197)","ОБАВЕЗЕ (1070 + 1089 + 1108 + 1159 + 1184 + 1197)","ОБАВЕЗЕ (1070 + 1089 + 1108 + 1159 + 1184 + 1197)","ОБАВЕЗЕ (1070 + 1089 + 1108 + 1159 + 1184 + 1197)","ОБАВЕЗЕ (1070 + 1089 + 1108 + 1159 + 1184 + 1197)","ОБАВЕЗЕ (1070 + 1089 + 1108 + 1159 + 1184 + 1197)",{"$f":"UnObr1!F96","v":0},null,null,null,null,null,null,null,null,null,{"$f":"UnObr1!G96","v":0}]
[1088,null,null,212200,200000,200000,200000,"Обавезе по основу дугорочних кредита од страних \nвлада","ОБАВЕЗЕ (1070 + 1089 + 1108 + 1159 + 1184 + 1197)","ОБАВЕЗЕ (1070 + 1089 + 1108 + 1159 + 1184 + 1197)","ОБАВЕЗЕ (1070 + 1089 + 1108 + 1159 + 1184 + 1197)","ОБАВЕЗЕ (1070 + 1089 + 1108 + 1159 + 1184 + 1197)","ОБАВЕЗЕ (1070 + 1089 + 1108 + 1159 + 1184 + 1197)","ОБАВЕЗЕ (1070 + 1089 + 1108 + 1159 + 1184 + 1197)","ОБАВЕЗЕ (1070 + 1089 + 1108 + 1159 + 1184 + 1197)","ОБАВЕЗЕ (1070 + 1089 + 1108 + 1159 + 1184 + 1197)","ОБАВЕЗЕ (1070 + 1089 + 1108 + 1159 + 1184 + 1197)","ОБАВЕЗЕ (1070 + 1089 + 1108 + 1159 + 1184 + 1197)","ОБАВЕЗЕ (1070 + 1089 + 1108 + 1159 + 1184 + 1197)","ОБАВЕЗЕ (1070 + 1089 + 1108 + 1159 + 1184 + 1197)","ОБАВЕЗЕ (1070 + 1089 + 1108 + 1159 + 1184 + 1197)","ОБАВЕЗЕ (1070 + 1089 + 1108 + 1159 + 1184 + 1197)","ОБАВЕЗЕ (1070 + 1089 + 1108 + 1159 + 1184 + 1197)","ОБАВЕЗЕ (1070 + 1089 + 1108 + 1159 + 1184 + 1197)",{"$f":"UnObr1!F97","v":0},null,null,null,null,null,null,null,null,null,{"$f":"UnObr1!G97","v":0}]
[1089,null,null,212300,200000,200000,200000,"Обавезе по основу дугорочних кредита од \nмултилатералних институција","ОБАВЕЗЕ (1070 + 1089 + 1108 + 1159 + 1184 + 1197)","ОБАВЕЗЕ (1070 + 1089 + 1108 + 1159 + 1184 + 1197)","ОБАВЕЗЕ (1070 + 1089 + 1108 + 1159 + 1184 + 1197)","ОБАВЕЗЕ (1070 + 1089 + 1108 + 1159 + 1184 + 1197)","ОБАВЕЗЕ (1070 + 1089 + 1108 + 1159 + 1184 + 1197)","ОБАВЕЗЕ (1070 + 1089 + 1108 + 1159 + 1184 + 1197)","ОБАВЕЗЕ (1070 + 1089 + 1108 + 1159 + 1184 + 1197)","ОБАВЕЗЕ (1070 + 1089 + 1108 + 1159 + 1184 + 1197)","ОБАВЕЗЕ (1070 + 1089 + 1108 + 1159 + 1184 + 1197)","ОБАВЕЗЕ (1070 + 1089 + 1108 + 1159 + 1184 + 1197)","ОБАВЕЗЕ (1070 + 1089 + 1108 + 1159 + 1184 + 1197)","ОБАВЕЗЕ (1070 + 1089 + 1108 + 1159 + 1184 + 1197)","ОБАВЕЗЕ (1070 + 1089 + 1108 + 1159 + 1184 + 1197)","ОБАВЕЗЕ (1070 + 1089 + 1108 + 1159 + 1184 + 1197)","ОБАВЕЗЕ (1070 + 1089 + 1108 + 1159 + 1184 + 1197)","ОБАВЕЗЕ (1070 + 1089 + 1108 + 1159 + 1184 + 1197)",{"$f":"UnObr1!F98","v":0},null,null,null,null,null,null,null,null,null,{"$f":"UnObr1!G98","v":0}]
[1090,null,null,212400,200000,200000,200000,"Обавезе по основу дугорочних кредита од страних пословних банака","ОБАВЕЗЕ (1070 + 1089 + 1108 + 1159 + 1184 + 1197)","ОБАВЕЗЕ (1070 + 1089 + 1108 + 1159 + 1184 + 1197)","ОБАВЕЗЕ (1070 + 1089 + 1108 + 1159 + 1184 + 1197)","ОБАВЕЗЕ (1070 + 1089 + 1108 + 1159 + 1184 + 1197)","ОБАВЕЗЕ (1070 + 1089 + 1108 + 1159 + 1184 + 1197)","ОБАВЕЗЕ (1070 + 1089 + 1108 + 1159 + 1184 + 1197)","ОБАВЕЗЕ (1070 + 1089 + 1108 + 1159 + 1184 + 1197)","ОБАВЕЗЕ (1070 + 1089 + 1108 + 1159 + 1184 + 1197)","ОБАВЕЗЕ (1070 + 1089 + 1108 + 1159 + 1184 + 1197)","ОБАВЕЗЕ (1070 + 1089 + 1108 + 1159 + 1184 + 1197)","ОБАВЕЗЕ (1070 + 1089 + 1108 + 1159 + 1184 + 1197)","ОБАВЕЗЕ (1070 + 1089 + 1108 + 1159 + 1184 + 1197)","ОБАВЕЗЕ (1070 + 1089 + 1108 + 1159 + 1184 + 1197)","ОБАВЕЗЕ (1070 + 1089 + 1108 + 1159 + 1184 + 1197)","ОБАВЕЗЕ (1070 + 1089 + 1108 + 1159 + 1184 + 1197)","ОБАВЕЗЕ (1070 + 1089 + 1108 + 1159 + 1184 + 1197)",{"$f":"UnObr1!F99","v":0},null,null,null,null,null,null,null,null,null,{"$f":"UnObr1!G99","v":0}]
[1091,null,null,212500,200000,200000,200000,"Обавезе по основу дугорочних кредита од осталих \nстраних кредитора","ОБАВЕЗЕ (1070 + 1089 + 1108 + 1159 + 1184 + 1197)","ОБАВЕЗЕ (1070 + 1089 + 1108 + 1159 + 1184 + 1197)","ОБАВЕЗЕ (1070 + 1089 + 1108 + 1159 + 1184 + 1197)","ОБАВЕЗЕ (1070 + 1089 + 1108 + 1159 + 1184 + 1197)","ОБАВЕЗЕ (1070 + 1089 + 1108 + 1159 + 1184 + 1197)","ОБАВЕЗЕ (1070 + 1089 + 1108 + 1159 + 1184 + 1197)","ОБАВЕЗЕ (1070 + 1089 + 1108 + 1159 + 1184 + 1197)","ОБАВЕЗЕ (1070 + 1089 + 1108 + 1159 + 1184 + 1197)","ОБАВЕЗЕ (1070 + 1089 + 1108 + 1159 + 1184 + 1197)","ОБАВЕЗЕ (1070 + 1089 + 1108 + 1159 + 1184 + 1197)","ОБАВЕЗЕ (1070 + 1089 + 1108 + 1159 + 1184 + 1197)","ОБАВЕЗЕ (1070 + 1089 + 1108 + 1159 + 1184 + 1197)","ОБАВЕЗЕ (1070 + 1089 + 1108 + 1159 + 1184 + 1197)","ОБАВЕЗЕ (1070 + 1089 + 1108 + 1159 + 1184 + 1197)","ОБАВЕЗЕ (1070 + 1089 + 1108 + 1159 + 1184 + 1197)","ОБАВЕЗЕ (1070 + 1089 + 1108 + 1159 + 1184 + 1197)",{"$f":"UnObr1!F100","v":0},null,null,null,null,null,null,null,null,null,{"$f":"UnObr1!G100","v":0}]
[1092,null,null,212600,200000,200000,200000,"Дугорочне обавезе по основу страних финансијских деривата","ОБАВЕЗЕ (1070 + 1089 + 1108 + 1159 + 1184 + 1197)","ОБАВЕЗЕ (1070 + 1089 + 1108 + 1159 + 1184 + 1197)","ОБАВЕЗЕ (1070 + 1089 + 1108 + 1159 + 1184 + 1197)","ОБАВЕЗЕ (1070 + 1089 + 1108 + 1159 + 1184 + 1197)","ОБАВЕЗЕ (1070 + 1089 + 1108 + 1159 + 1184 + 1197)","ОБАВЕЗЕ (1070 + 1089 + 1108 + 1159 + 1184 + 1197)","ОБАВЕЗЕ (1070 + 1089 + 1108 + 1159 + 1184 + 1197)","ОБАВЕЗЕ (1070 + 1089 + 1108 + 1159 + 1184 + 1197)","ОБАВЕЗЕ (1070 + 1089 + 1108 + 1159 + 1184 + 1197)","ОБАВЕЗЕ (1070 + 1089 + 1108 + 1159 + 1184 + 1197)","ОБАВЕЗЕ (1070 + 1089 + 1108 + 1159 + 1184 + 1197)","ОБАВЕЗЕ (1070 + 1089 + 1108 + 1159 + 1184 + 1197)","ОБАВЕЗЕ (1070 + 1089 + 1108 + 1159 + 1184 + 1197)","ОБАВЕЗЕ (1070 + 1089 + 1108 + 1159 + 1184 + 1197)","ОБАВЕЗЕ (1070 + 1089 + 1108 + 1159 + 1184 + 1197)","ОБАВЕЗЕ (1070 + 1089 + 1108 + 1159 + 1184 + 1197)",{"$f":"UnObr1!F101","v":0},null,null,null,null,null,null,null,null,null,{"$f":"UnObr1!G101","v":0}]
[1093,null,null,213000,200000,200000,200000,"ДУГОРОЧНЕ ОБАВЕЗЕ ПО ОСНОВУ \nГАРАНЦИЈА (1094)","ОБАВЕЗЕ (1070 + 1089 + 1108 + 1159 + 1184 + 1197)","ОБАВЕЗЕ (1070 + 1089 + 1108 + 1159 + 1184 + 1197)","ОБАВЕЗЕ (1070 + 1089 + 1108 + 1159 + 1184 + 1197)","ОБАВЕЗЕ (1070 + 1089 + 1108 + 1159 + 1184 + 1197)","ОБАВЕЗЕ (1070 + 1089 + 1108 + 1159 + 1184 + 1197)","ОБАВЕЗЕ (1070 + 1089 + 1108 + 1159 + 1184 + 1197)","ОБАВЕЗЕ (1070 + 1089 + 1108 + 1159 + 1184 + 1197)","ОБАВЕЗЕ (1070 + 1089 + 1108 + 1159 + 1184 + 1197)","ОБАВЕЗЕ (1070 + 1089 + 1108 + 1159 + 1184 + 1197)","ОБАВЕЗЕ (1070 + 1089 + 1108 + 1159 + 1184 + 1197)","ОБАВЕЗЕ (1070 + 1089 + 1108 + 1159 + 1184 + 1197)","ОБАВЕЗЕ (1070 + 1089 + 1108 + 1159 + 1184 + 1197)","ОБАВЕЗЕ (1070 + 1089 + 1108 + 1159 + 1184 + 1197)","ОБАВЕЗЕ (1070 + 1089 + 1108 + 1159 + 1184 + 1197)","ОБАВЕЗЕ (1070 + 1089 + 1108 + 1159 + 1184 + 1197)","ОБАВЕЗЕ (1070 + 1089 + 1108 + 1159 + 1184 + 1197)",{"$f":"UnObr1!F102","v":0},null,null,null,null,null,null,null,null,null,{"$f":"UnObr1!G102","v":0}]
[1094,null,null,213100,200000,200000,200000,"Дугорочне обавезе по основу гаранција","ОБАВЕЗЕ (1070 + 1089 + 1108 + 1159 + 1184 + 1197)","ОБАВЕЗЕ (1070 + 1089 + 1108 + 1159 + 1184 + 1197)","ОБАВЕЗЕ (1070 + 1089 + 1108 + 1159 + 1184 + 1197)","ОБАВЕЗЕ (1070 + 1089 + 1108 + 1159 + 1184 + 1197)","ОБАВЕЗЕ (1070 + 1089 + 1108 + 1159 + 1184 + 1197)","ОБАВЕЗЕ (1070 + 1089 + 1108 + 1159 + 1184 + 1197)","ОБАВЕЗЕ (1070 + 1089 + 1108 + 1159 + 1184 + 1197)","ОБАВЕЗЕ (1070 + 1089 + 1108 + 1159 + 1184 + 1197)","ОБАВЕЗЕ (1070 + 1089 + 1108 + 1159 + 1184 + 1197)","ОБАВЕЗЕ (1070 + 1089 + 1108 + 1159 + 1184 + 1197)","ОБАВЕЗЕ (1070 + 1089 + 1108 + 1159 + 1184 + 1197)","ОБАВЕЗЕ (1070 + 1089 + 1108 + 1159 + 1184 + 1197)","ОБАВЕЗЕ (1070 + 1089 + 1108 + 1159 + 1184 + 1197)","ОБАВЕЗЕ (1070 + 1089 + 1108 + 1159 + 1184 + 1197)","ОБАВЕЗЕ (1070 + 1089 + 1108 + 1159 + 1184 + 1197)","ОБАВЕЗЕ (1070 + 1089 + 1108 + 1159 + 1184 + 1197)",{"$f":"UnObr1!F103","v":0},null,null,null,null,null,null,null,null,null,{"$f":"UnObr1!G103","v":0}]
[1095,null,null,214000,null,null,null,"ОБАВЕЗЕ ПО ОСНОВУ ОТПЛАТЕ ГЛАВНИЦЕ ЗА ФИНАНСИЈСКИ ЛИЗИНГ (1096)",null,null,null,null,null,null,null,null,null,null,null,null,null,null,null,null,{"$f":"UnObr1!F104","v":0},null,null,null,null,null,null,null,null,null,{"$f":"UnObr1!G104","v":0}]
[1096,null,null,214100,null,null,null,"Обавезе по основу отплате главнице зa финансијски лизинг",null,null,null,null,null,null,null,null,null,null,null,null,null,null,null,null,{"$f":"UnObr1!F105","v":0},null,null,null,null,null,null,null,null,null,{"$f":"UnObr1!G105","v":0}]
[1097,null,null,215000,null,null,null,"ОБАВЕЗЕ ПО ОСНОВУ ОТПЛАТА ГАРАНЦИЈА ПО КОМЕРЦИЈАЛНИМ ТРАНСАКЦИЈАМА (1098)",null,null,null,null,null,null,null,null,null,null,null,null,null,null,null,null,{"$f":"UnObr1!F106","v":0},null,null,null,null,null,null,null,null,null,{"$f":"UnObr1!G106","v":0}]
[1098,null,null,215100,null,null,null,"Обавезе по основу отплата гаранција по комерцијалним трансакцијама",null,null,null,null,null,null,null,null,null,null,null,null,null,null,null,null,{"$f":"UnObr1!F107","v":0},null,null,null,null,null,null,null,null,null,{"$f":"UnObr1!G107","v":0}]
[1099,null,null,220000,200000,200000,200000,"КРАТКОРОЧНЕ ОБАВЕЗЕ (1100 + 1109 + 1116)","ОБАВЕЗЕ (1070 + 1089 + 1108 + 1159 + 1184 + 1197)","ОБАВЕЗЕ (1070 + 1089 + 1108 + 1159 + 1184 + 1197)","ОБАВЕЗЕ (1070 + 1089 + 1108 + 1159 + 1184 + 1197)","ОБАВЕЗЕ (1070 + 1089 + 1108 + 1159 + 1184 + 1197)","ОБАВЕЗЕ (1070 + 1089 + 1108 + 1159 + 1184 + 1197)","ОБАВЕЗЕ (1070 + 1089 + 1108 + 1159 + 1184 + 1197)","ОБАВЕЗЕ (1070 + 1089 + 1108 + 1159 + 1184 + 1197)","ОБАВЕЗЕ (1070 + 1089 + 1108 + 1159 + 1184 + 1197)","ОБАВЕЗЕ (1070 + 1089 + 1108 + 1159 + 1184 + 1197)","ОБАВЕЗЕ (1070 + 1089 + 1108 + 1159 + 1184 + 1197)","ОБАВЕЗЕ (1070 + 1089 + 1108 + 1159 + 1184 + 1197)","ОБАВЕЗЕ (1070 + 1089 + 1108 + 1159 + 1184 + 1197)","ОБАВЕЗЕ (1070 + 1089 + 1108 + 1159 + 1184 + 1197)","ОБАВЕЗЕ (1070 + 1089 + 1108 + 1159 + 1184 + 1197)","ОБАВЕЗЕ (1070 + 1089 + 1108 + 1159 + 1184 + 1197)","ОБАВЕЗЕ (1070 + 1089 + 1108 + 1159 + 1184 + 1197)",{"$f":"UnObr1!F108","v":0},null,null,null,null,null,null,null,null,null,{"$f":"UnObr1!G108","v":0}]
[1100,null,null,221000,200000,200000,200000,"КРАТКОРОЧНЕ ДОМАЋЕ ОБАВЕЗЕ \n(од 1101 до 1108)","ОБАВЕЗЕ (1070 + 1089 + 1108 + 1159 + 1184 + 1197)","ОБАВЕЗЕ (1070 + 1089 + 1108 + 1159 + 1184 + 1197)","ОБАВЕЗЕ (1070 + 1089 + 1108 + 1159 + 1184 + 1197)","ОБАВЕЗЕ (1070 + 1089 + 1108 + 1159 + 1184 + 1197)","ОБАВЕЗЕ (1070 + 1089 + 1108 + 1159 + 1184 + 1197)","ОБАВЕЗЕ (1070 + 1089 + 1108 + 1159 + 1184 + 1197)","ОБАВЕЗЕ (1070 + 1089 + 1108 + 1159 + 1184 + 1197)","ОБАВЕЗЕ (1070 + 1089 + 1108 + 1159 + 1184 + 1197)","ОБАВЕЗЕ (1070 + 1089 + 1108 + 1159 + 1184 + 1197)","ОБАВЕЗЕ (1070 + 1089 + 1108 + 1159 + 1184 + 1197)","ОБАВЕЗЕ (1070 + 1089 + 1108 + 1159 + 1184 + 1197)","ОБАВЕЗЕ (1070 + 1089 + 1108 + 1159 + 1184 + 1197)","ОБАВЕЗЕ (1070 + 1089 + 1108 + 1159 + 1184 + 1197)","ОБАВЕЗЕ (1070 + 1089 + 1108 + 1159 + 1184 + 1197)","ОБАВЕЗЕ (1070 + 1089 + 1108 + 1159 + 1184 + 1197)","ОБАВЕЗЕ (1070 + 1089 + 1108 + 1159 + 1184 + 1197)",{"$f":"UnObr1!F109","v":0},null,null,null,null,null,null,null,null,null,{"$f":"UnObr1!G109","v":0}]
[1101,null,null,221100,200000,200000,200000,"Краткорочне домаће обавезе по основу емитованих \nхартија од вредности, изузев акција","ОБАВЕЗЕ (1070 + 1089 + 1108 + 1159 + 1184 + 1197)","ОБАВЕЗЕ (1070 + 1089 + 1108 + 1159 + 1184 + 1197)","ОБАВЕЗЕ (1070 + 1089 + 1108 + 1159 + 1184 + 1197)","ОБАВЕЗЕ (1070 + 1089 + 1108 + 1159 + 1184 + 1197)","ОБАВЕЗЕ (1070 + 1089 + 1108 + 1159 + 1184 + 1197)","ОБАВЕЗЕ (1070 + 1089 + 1108 + 1159 + 1184 + 1197)","ОБАВЕЗЕ (1070 + 1089 + 1108 + 1159 + 1184 + 1197)","ОБАВЕЗЕ (1070 + 1089 + 1108 + 1159 + 1184 + 1197)","ОБАВЕЗЕ (1070 + 1089 + 1108 + 1159 + 1184 + 1197)","ОБАВЕЗЕ (1070 + 1089 + 1108 + 1159 + 1184 + 1197)","ОБАВЕЗЕ (1070 + 1089 + 1108 + 1159 + 1184 + 1197)","ОБАВЕЗЕ (1070 + 1089 + 1108 + 1159 + 1184 + 1197)","ОБАВЕЗЕ (1070 + 1089 + 1108 + 1159 + 1184 + 1197)","ОБАВЕЗЕ (1070 + 1089 + 1108 + 1159 + 1184 + 1197)","ОБАВЕЗЕ (1070 + 1089 + 1108 + 1159 + 1184 + 1197)","ОБАВЕЗЕ (1070 + 1089 + 1108 + 1159 + 1184 + 1197)",{"$f":"UnObr1!F110","v":0},null,null,null,null,null,null,null,null,null,{"$f":"UnObr1!G110","v":0}]
[1102,null,null,221200,200000,200000,200000,"Обавезе по основу краткорочних кредита од осталих \nнивоа власти","ОБАВЕЗЕ (1070 + 1089 + 1108 + 1159 + 1184 + 1197)","ОБАВЕЗЕ (1070 + 1089 + 1108 + 1159 + 1184 + 1197)","ОБАВЕЗЕ (1070 + 1089 + 1108 + 1159 + 1184 + 1197)","ОБАВЕЗЕ (1070 + 1089 + 1108 + 1159 + 1184 + 1197)","ОБАВЕЗЕ (1070 + 1089 + 1108 + 1159 + 1184 + 1197)","ОБАВЕЗЕ (1070 + 1089 + 1108 + 1159 + 1184 + 1197)","ОБАВЕЗЕ (1070 + 1089 + 1108 + 1159 + 1184 + 1197)","ОБАВЕЗЕ (1070 + 1089 + 1108 + 1159 + 1184 + 1197)","ОБАВЕЗЕ (1070 + 1089 + 1108 + 1159 + 1184 + 1197)","ОБАВЕЗЕ (1070 + 1089 + 1108 + 1159 + 1184 + 1197)","ОБАВЕЗЕ (1070 + 1089 + 1108 + 1159 + 1184 + 1197)","ОБАВЕЗЕ (1070 + 1089 + 1108 + 1159 + 1184 + 1197)","ОБАВЕЗЕ (1070 + 1089 + 1108 + 1159 + 1184 + 1197)","ОБАВЕЗЕ (1070 + 1089 + 1108 + 1159 + 1184 + 1197)","ОБАВЕЗЕ (1070 + 1089 + 1108 + 1159 + 1184 + 1197)","ОБАВЕЗЕ (1070 + 1089 + 1108 + 1159 + 1184 + 1197)",{"$f":"UnObr1!F111","v":0},null,null,null,null,null,null,null,null,null,{"$f":"UnObr1!G111","v":0}]
[1103,null,null,221300,200000,200000,200000,"Обавезе по основу краткорочних кредита од домаћих јавних финансијских институција","ОБАВЕЗЕ (1070 + 1089 + 1108 + 1159 + 1184 + 1197)","ОБАВЕЗЕ (1070 + 1089 + 1108 + 1159 + 1184 + 1197)","ОБАВЕЗЕ (1070 + 1089 + 1108 + 1159 + 1184 + 1197)","ОБАВЕЗЕ (1070 + 1089 + 1108 + 1159 + 1184 + 1197)","ОБАВЕЗЕ (1070 + 1089 + 1108 + 1159 + 1184 + 1197)","ОБАВЕЗЕ (1070 + 1089 + 1108 + 1159 + 1184 + 1197)","ОБАВЕЗЕ (1070 + 1089 + 1108 + 1159 + 1184 + 1197)","ОБАВЕЗЕ (1070 + 1089 + 1108 + 1159 + 1184 + 1197)","ОБАВЕЗЕ (1070 + 1089 + 1108 + 1159 + 1184 + 1197)","ОБАВЕЗЕ (1070 + 1089 + 1108 + 1159 + 1184 + 1197)","ОБАВЕЗЕ (1070 + 1089 + 1108 + 1159 + 1184 + 1197)","ОБАВЕЗЕ (1070 + 1089 + 1108 + 1159 + 1184 + 1197)","ОБАВЕЗЕ (1070 + 1089 + 1108 + 1159 + 1184 + 1197)","ОБАВЕЗЕ (1070 + 1089 + 1108 + 1159 + 1184 + 1197)","ОБАВЕЗЕ (1070 + 1089 + 1108 + 1159 + 1184 + 1197)","ОБАВЕЗЕ (1070 + 1089 + 1108 + 1159 + 1184 + 1197)",{"$f":"UnObr1!F112","v":0},null,null,null,null,null,null,null,null,null,{"$f":"UnObr1!G112","v":0}]
[1104,null,null,221400,200000,200000,200000,"Обавезе по основу краткорочних кредита од домаћих пословних банака","ОБАВЕЗЕ (1070 + 1089 + 1108 + 1159 + 1184 + 1197)","ОБАВЕЗЕ (1070 + 1089 + 1108 + 1159 + 1184 + 1197)","ОБАВЕЗЕ (1070 + 1089 + 1108 + 1159 + 1184 + 1197)","ОБАВЕЗЕ (1070 + 1089 + 1108 + 1159 + 1184 + 1197)","ОБАВЕЗЕ (1070 + 1089 + 1108 + 1159 + 1184 + 1197)","ОБАВЕЗЕ (1070 + 1089 + 1108 + 1159 + 1184 + 1197)","ОБАВЕЗЕ (1070 + 1089 + 1108 + 1159 + 1184 + 1197)","ОБАВЕЗЕ (1070 + 1089 + 1108 + 1159 + 1184 + 1197)","ОБАВЕЗЕ (1070 + 1089 + 1108 + 1159 + 1184 + 1197)","ОБАВЕЗЕ (1070 + 1089 + 1108 + 1159 + 1184 + 1197)","ОБАВЕЗЕ (1070 + 1089 + 1108 + 1159 + 1184 + 1197)","ОБАВЕЗЕ (1070 + 1089 + 1108 + 1159 + 1184 + 1197)","ОБАВЕЗЕ (1070 + 1089 + 1108 + 1159 + 1184 + 1197)","ОБАВЕЗЕ (1070 + 1089 + 1108 + 1159 + 1184 + 1197)","ОБАВЕЗЕ (1070 + 1089 + 1108 + 1159 + 1184 + 1197)","ОБАВЕЗЕ (1070 + 1089 + 1108 + 1159 + 1184 + 1197)",{"$f":"UnObr1!F113","v":0},null,null,null,null,null,null,null,null,null,{"$f":"UnObr1!G113","v":0}]
["Ознака\nОП",null,null,"Број\nконта",null,null,null,"Опис",null,null,null,null,null,null,null,null,null,null,null,null,null,null,null,null,"Износ"]
[]
[null,null,null,null,null,null,null,null,null,null,null,null,null,null,null,null,null,null,null,null,null,null,null,null,"Претходна година",null,null,null,null,null,null,null,null,null,"Текућа година"]
[]
[1,null,null,2,null,null,null,3,null,null,null,null,null,null,null,null,null,null,null,null,null,null,null,null,4,null,null,null,null,null,null,null,null,5,5]
[1105,null,null,221500,200000,200000,200000,"Обавезе по основу краткорочних кредита од осталих домаћих кредитора","ОБАВЕЗЕ (1070 + 1089 + 1108 + 1159 + 1184 + 1197)","ОБАВЕЗЕ (1070 + 1089 + 1108 + 1159 + 1184 + 1197)","ОБАВЕЗЕ (1070 + 1089 + 1108 + 1159 + 1184 + 1197)","ОБАВЕЗЕ (1070 + 1089 + 1108 + 1159 + 1184 + 1197)","ОБАВЕЗЕ (1070 + 1089 + 1108 + 1159 + 1184 + 1197)","ОБАВЕЗЕ (1070 + 1089 + 1108 + 1159 + 1184 + 1197)","ОБАВЕЗЕ (1070 + 1089 + 1108 + 1159 + 1184 + 1197)","ОБАВЕЗЕ (1070 + 1089 + 1108 + 1159 + 1184 + 1197)","ОБАВЕЗЕ (1070 + 1089 + 1108 + 1159 + 1184 + 1197)","ОБАВЕЗЕ (1070 + 1089 + 1108 + 1159 + 1184 + 1197)","ОБАВЕЗЕ (1070 + 1089 + 1108 + 1159 + 1184 + 1197)","ОБАВЕЗЕ (1070 + 1089 + 1108 + 1159 + 1184 + 1197)","ОБАВЕЗЕ (1070 + 1089 + 1108 + 1159 + 1184 + 1197)","ОБАВЕЗЕ (1070 + 1089 + 1108 + 1159 + 1184 + 1197)","ОБАВЕЗЕ (1070 + 1089 + 1108 + 1159 + 1184 + 1197)","ОБАВЕЗЕ (1070 + 1089 + 1108 + 1159 + 1184 + 1197)",{"$f":"UnObr1!F114","v":0},null,null,null,null,null,null,null,null,null,{"$f":"UnObr1!G114","v":0}]
[1106,null,null,221600,200000,200000,200000,"Обавезе по основу краткорочних кредита од\nдомаћинстава у земљи","ОБАВЕЗЕ (1070 + 1089 + 1108 + 1159 + 1184 + 1197)","ОБАВЕЗЕ (1070 + 1089 + 1108 + 1159 + 1184 + 1197)","ОБАВЕЗЕ (1070 + 1089 + 1108 + 1159 + 1184 + 1197)","ОБАВЕЗЕ (1070 + 1089 + 1108 + 1159 + 1184 + 1197)","ОБАВЕЗЕ (1070 + 1089 + 1108 + 1159 + 1184 + 1197)","ОБАВЕЗЕ (1070 + 1089 + 1108 + 1159 + 1184 + 1197)","ОБАВЕЗЕ (1070 + 1089 + 1108 + 1159 + 1184 + 1197)","ОБАВЕЗЕ (1070 + 1089 + 1108 + 1159 + 1184 + 1197)","ОБАВЕЗЕ (1070 + 1089 + 1108 + 1159 + 1184 + 1197)","ОБАВЕЗЕ (1070 + 1089 + 1108 + 1159 + 1184 + 1197)","ОБАВЕЗЕ (1070 + 1089 + 1108 + 1159 + 1184 + 1197)","ОБАВЕЗЕ (1070 + 1089 + 1108 + 1159 + 1184 + 1197)","ОБАВЕЗЕ (1070 + 1089 + 1108 + 1159 + 1184 + 1197)","ОБАВЕЗЕ (1070 + 1089 + 1108 + 1159 + 1184 + 1197)","ОБАВЕЗЕ (1070 + 1089 + 1108 + 1159 + 1184 + 1197)","ОБАВЕЗЕ (1070 + 1089 + 1108 + 1159 + 1184 + 1197)",{"$f":"UnObr1!F115","v":0},null,null,null,null,null,null,null,null,null,{"$f":"UnObr1!G115","v":0}]
[1107,null,null,221700,200000,200000,200000,"Краткорочне обавезе по основу домаћих финансијских деривата","ОБАВЕЗЕ (1070 + 1089 + 1108 + 1159 + 1184 + 1197)","ОБАВЕЗЕ (1070 + 1089 + 1108 + 1159 + 1184 + 1197)","ОБАВЕЗЕ (1070 + 1089 + 1108 + 1159 + 1184 + 1197)","ОБАВЕЗЕ (1070 + 1089 + 1108 + 1159 + 1184 + 1197)","ОБАВЕЗЕ (1070 + 1089 + 1108 + 1159 + 1184 + 1197)","ОБАВЕЗЕ (1070 + 1089 + 1108 + 1159 + 1184 + 1197)","ОБАВЕЗЕ (1070 + 1089 + 1108 + 1159 + 1184 + 1197)","ОБАВЕЗЕ (1070 + 1089 + 1108 + 1159 + 1184 + 1197)","ОБАВЕЗЕ (1070 + 1089 + 1108 + 1159 + 1184 + 1197)","ОБАВЕЗЕ (1070 + 1089 + 1108 + 1159 + 1184 + 1197)","ОБАВЕЗЕ (1070 + 1089 + 1108 + 1159 + 1184 + 1197)","ОБАВЕЗЕ (1070 + 1089 + 1108 + 1159 + 1184 + 1197)","ОБАВЕЗЕ (1070 + 1089 + 1108 + 1159 + 1184 + 1197)","ОБАВЕЗЕ (1070 + 1089 + 1108 + 1159 + 1184 + 1197)","ОБАВЕЗЕ (1070 + 1089 + 1108 + 1159 + 1184 + 1197)","ОБАВЕЗЕ (1070 + 1089 + 1108 + 1159 + 1184 + 1197)",{"$f":"UnObr1!F116","v":0},null,null,null,null,null,null,null,null,null,{"$f":"UnObr1!G116","v":0}]
[1108,null,null,221800,200000,200000,200000,"Краткорочне обавезе по основу домаћих меница","ОБАВЕЗЕ (1070 + 1089 + 1108 + 1159 + 1184 + 1197)","ОБАВЕЗЕ (1070 + 1089 + 1108 + 1159 + 1184 + 1197)","ОБАВЕЗЕ (1070 + 1089 + 1108 + 1159 + 1184 + 1197)","ОБАВЕЗЕ (1070 + 1089 + 1108 + 1159 + 1184 + 1197)","ОБАВЕЗЕ (1070 + 1089 + 1108 + 1159 + 1184 + 1197)","ОБАВЕЗЕ (1070 + 1089 + 1108 + 1159 + 1184 + 1197)","ОБАВЕЗЕ (1070 + 1089 + 1108 + 1159 + 1184 + 1197)","ОБАВЕЗЕ (1070 + 1089 + 1108 + 1159 + 1184 + 1197)","ОБАВЕЗЕ (1070 + 1089 + 1108 + 1159 + 1184 + 1197)","ОБАВЕЗЕ (1070 + 1089 + 1108 + 1159 + 1184 + 1197)","ОБАВЕЗЕ (1070 + 1089 + 1108 + 1159 + 1184 + 1197)","ОБАВЕЗЕ (1070 + 1089 + 1108 + 1159 + 1184 + 1197)","ОБАВЕЗЕ (1070 + 1089 + 1108 + 1159 + 1184 + 1197)","ОБАВЕЗЕ (1070 + 1089 + 1108 + 1159 + 1184 + 1197)","ОБАВЕЗЕ (1070 + 1089 + 1108 + 1159 + 1184 + 1197)","ОБАВЕЗЕ (1070 + 1089 + 1108 + 1159 + 1184 + 1197)",{"$f":"UnObr1!F117","v":0},null,null,null,null,null,null,null,null,null,{"$f":"UnObr1!G117","v":0}]
[1109,null,null,222000,200000,200000,200000,"КРАТКОРОЧНЕ СТРАНЕ ОБАВЕЗЕ (од 1110 до 1115)","ОБАВЕЗЕ (1070 + 1089 + 1108 + 1159 + 1184 + 1197)","ОБАВЕЗЕ (1070 + 1089 + 1108 + 1159 + 1184 + 1197)","ОБАВЕЗЕ (1070 + 1089 + 1108 + 1159 + 1184 + 1197)","ОБАВЕЗЕ (1070 + 1089 + 1108 + 1159 + 1184 + 1197)","ОБАВЕЗЕ (1070 + 1089 + 1108 + 1159 + 1184 + 1197)","ОБАВЕЗЕ (1070 + 1089 + 1108 + 1159 + 1184 + 1197)","ОБАВЕЗЕ (1070 + 1089 + 1108 + 1159 + 1184 + 1197)","ОБАВЕЗЕ (1070 + 1089 + 1108 + 1159 + 1184 + 1197)","ОБАВЕЗЕ (1070 + 1089 + 1108 + 1159 + 1184 + 1197)","ОБАВЕЗЕ (1070 + 1089 + 1108 + 1159 + 1184 + 1197)","ОБАВЕЗЕ (1070 + 1089 + 1108 + 1159 + 1184 + 1197)","ОБАВЕЗЕ (1070 + 1089 + 1108 + 1159 + 1184 + 1197)","ОБАВЕЗЕ (1070 + 1089 + 1108 + 1159 + 1184 + 1197)","ОБАВЕЗЕ (1070 + 1089 + 1108 + 1159 + 1184 + 1197)","ОБАВЕЗЕ (1070 + 1089 + 1108 + 1159 + 1184 + 1197)","ОБАВЕЗЕ (1070 + 1089 + 1108 + 1159 + 1184 + 1197)",{"$f":"UnObr1!F118","v":0},null,null,null,null,null,null,null,null,null,{"$f":"UnObr1!G118","v":0}]
[1110,null,null,222100,200000,200000,200000,"Краткорочне стране обавезе по основу емитованих \nхартија од вредности, изузев акција","ОБАВЕЗЕ (1070 + 1089 + 1108 + 1159 + 1184 + 1197)","ОБАВЕЗЕ (1070 + 1089 + 1108 + 1159 + 1184 + 1197)","ОБАВЕЗЕ (1070 + 1089 + 1108 + 1159 + 1184 + 1197)","ОБАВЕЗЕ (1070 + 1089 + 1108 + 1159 + 1184 + 1197)","ОБАВЕЗЕ (1070 + 1089 + 1108 + 1159 + 1184 + 1197)","ОБАВЕЗЕ (1070 + 1089 + 1108 + 1159 + 1184 + 1197)","ОБАВЕЗЕ (1070 + 1089 + 1108 + 1159 + 1184 + 1197)","ОБАВЕЗЕ (1070 + 1089 + 1108 + 1159 + 1184 + 1197)","ОБАВЕЗЕ (1070 + 1089 + 1108 + 1159 + 1184 + 1197)","ОБАВЕЗЕ (1070 + 1089 + 1108 + 1159 + 1184 + 1197)","ОБАВЕЗЕ (1070 + 1089 + 1108 + 1159 + 1184 + 1197)","ОБАВЕЗЕ (1070 + 1089 + 1108 + 1159 + 1184 + 1197)","ОБАВЕЗЕ (1070 + 1089 + 1108 + 1159 + 1184 + 1197)","ОБАВЕЗЕ (1070 + 1089 + 1108 + 1159 + 1184 + 1197)","ОБАВЕЗЕ (1070 + 1089 + 1108 + 1159 + 1184 + 1197)","ОБАВЕЗЕ (1070 + 1089 + 1108 + 1159 + 1184 + 1197)",{"$f":"UnObr1!F119","v":0},null,null,null,null,null,null,null,null,null,{"$f":"UnObr1!G119","v":0}]
[1111,null,null,222200,222300,222300,222300,"Обавезе по основу краткорочних кредита од страних \nвлада","Обавезе по основу краткорочних кредита од мултилатералних институција","Обавезе по основу краткорочних кредита од мултилатералних институција","Обавезе по основу краткорочних кредита од мултилатералних институција","Обавезе по основу краткорочних кредита од мултилатералних институција","Обавезе по основу краткорочних кредита од мултилатералних институција","Обавезе по основу краткорочних кредита од мултилатералних институција","Обавезе по основу краткорочних кредита од мултилатералних институција","Обавезе по основу краткорочних кредита од мултилатералних институција","Обавезе по основу краткорочних кредита од мултилатералних институција","Обавезе по основу краткорочних кредита од мултилатералних институција","Обавезе по основу краткорочних кредита од мултилатералних институција","Обавезе по основу краткорочних кредита од мултилатералних институција","Обавезе по основу краткорочних кредита од мултилатералних институција","Обавезе по основу краткорочних кредита од мултилатералних институција","Обавезе по основу краткорочних кредита од мултилатералних институција","Обавезе по основу краткорочних кредита од мултилатералних институција",{"$f":"UnObr1!F120","v":0},null,null,null,null,null,null,null,null,null,{"$f":"UnObr1!G120","v":0}]
[1112,null,null,222300,222300,222300,222300,"Обавезе по основу краткорочних кредита од мултилатералних институција","Обавезе по основу краткорочних кредита од мултилатералних институција","Обавезе по основу краткорочних кредита од мултилатералних институција","Обавезе по основу краткорочних кредита од мултилатералних институција","Обавезе по основу краткорочних кредита од мултилатералних институција","Обавезе по основу краткорочних кредита од мултилатералних институција","Обавезе по основу краткорочних кредита од мултилатералних институција","Обавезе по основу краткорочних кредита од мултилатералних институција","Обавезе по основу краткорочних кредита од мултилатералних институција","Обавезе по основу краткорочних кредита од мултилатералних институција","Обавезе по основу краткорочних кредита од мултилатералних институција","Обавезе по основу краткорочних кредита од мултилатералних институција","Обавезе по основу краткорочних кредита од мултилатералних институција","Обавезе по основу краткорочних кредита од мултилатералних институција","Обавезе по основу краткорочних кредита од мултилатералних институција","Обавезе по основу краткорочних кредита од мултилатералних институција","Обавезе по основу краткорочних кредита од мултилатералних институција",{"$f":"UnObr1!F121","v":0},null,null,null,null,null,null,null,null,null,{"$f":"UnObr1!G121","v":0}]
[1113,null,null,222400,222300,222300,222300,"Обавезе по основу краткорочних кредита од страних пословних банака","Обавезе по основу краткорочних кредита од мултилатералних институција","Обавезе по основу краткорочних кредита од мултилатералних институција","Обавезе по основу краткорочних кредита од мултилатералних институција","Обавезе по основу краткорочних кредита од мултилатералних институција","Обавезе по основу краткорочних кредита од мултилатералних институција","Обавезе по основу краткорочних кредита од мултилатералних институција","Обавезе по основу краткорочних кредита од мултилатералних институција","Обавезе по основу краткорочних кредита од мултилатералних институција","Обавезе по основу краткорочних кредита од мултилатералних институција","Обавезе по основу краткорочних кредита од мултилатералних институција","Обавезе по основу краткорочних кредита од мултилатералних институција","Обавезе по основу краткорочних кредита од мултилатералних институција","Обавезе по основу краткорочних кредита од мултилатералних институција","Обавезе по основу краткорочних кредита од мултилатералних институција","Обавезе по основу краткорочних кредита од мултилатералних институција","Обавезе по основу краткорочних кредита од мултилатералних институција",{"$f":"UnObr1!F122","v":0},null,null,null,null,null,null,null,null,null,{"$f":"UnObr1!G122","v":0}]
[1114,null,null,222500,222300,222300,222300,"Обавезе по основу краткорочних кредита од осталих страних кредитора","Обавезе по основу краткорочних кредита од мултилатералних институција","Обавезе по основу краткорочних кредита од мултилатералних институција","Обавезе по основу краткорочних кредита од мултилатералних институција","Обавезе по основу краткорочних кредита од мултилатералних институција","Обавезе по основу краткорочних кредита од мултилатералних институција","Обавезе по основу краткорочних кредита од мултилатералних институција","Обавезе по основу краткорочних кредита од мултилатералних институција","Обавезе по основу краткорочних кредита од мултилатералних институција","Обавезе по основу краткорочних кредита од мултилатералних институција","Обавезе по основу краткорочних кредита од мултилатералних институција","Обавезе по основу краткорочних кредита од мултилатералних институција","Обавезе по основу краткорочних кредита од мултилатералних институција","Обавезе по основу краткорочних кредита од мултилатералних институција","Обавезе по основу краткорочних кредита од мултилатералних институција","Обавезе по основу краткорочних кредита од мултилатералних институција","Обавезе по основу краткорочних кредита од мултилатералних институција",{"$f":"UnObr1!F123","v":0},null,null,null,null,null,null,null,null,null,{"$f":"UnObr1!G123","v":0}]
[1115,null,null,222600,222300,222300,222300,"Краткорочне обавезе по основу страних финансијских деривата","Обавезе по основу краткорочних кредита од мултилатералних институција","Обавезе по основу краткорочних кредита од мултилатералних институција","Обавезе по основу краткорочних кредита од мултилатералних институција","Обавезе по основу краткорочних кредита од мултилатералних институција","Обавезе по основу краткорочних кредита од мултилатералних институција","Обавезе по основу краткорочних кредита од мултилатералних институција","Обавезе по основу краткорочних кредита од мултилатералних институција","Обавезе по основу краткорочних кредита од мултилатералних институција","Обавезе по основу краткорочних кредита од мултилатералних институција","Обавезе по основу краткорочних кредита од мултилатералних институција","Обавезе по основу краткорочних кредита од мултилатералних институција","Обавезе по основу краткорочних кредита од мултилатералних институција","Обавезе по основу краткорочних кредита од мултилатералних институција","Обавезе по основу краткорочних кредита од мултилатералних институција","Обавезе по основу краткорочних кредита од мултилатералних институција","Обавезе по основу краткорочних кредита од мултилатералних институција",{"$f":"UnObr1!F124","v":0},null,null,null,null,null,null,null,null,null,{"$f":"UnObr1!G124","v":0}]
[1116,null,null,223000,222300,222300,222300,"КРАТКОРОЧНЕ ОБАВЕЗЕ ПО ОСНОВУ ГАРАНЦИЈА (1117)","Обавезе по основу краткорочних кредита од мултилатералних институција","Обавезе по основу краткорочних кредита од мултилатералних институција","Обавезе по основу краткорочних кредита од мултилатералних институција","Обавезе по основу краткорочних кредита од мултилатералних институција","Обавезе по основу краткорочних кредита од мултилатералних институција","Обавезе по основу краткорочних кредита од мултилатералних институција","Обавезе по основу краткорочних кредита од мултилатералних институција","Обавезе по основу краткорочних кредита од мултилатералних институција","Обавезе по основу краткорочних кредита од мултилатералних институција","Обавезе по основу краткорочних кредита од мултилатералних институција","Обавезе по основу краткорочних кредита од мултилатералних институција","Обавезе по основу краткорочних кредита од мултилатералних институција","Обавезе по основу краткорочних кредита од мултилатералних институција","Обавезе по основу краткорочних кредита од мултилатералних институција","Обавезе по основу краткорочних кредита од мултилатералних институција","Обавезе по основу краткорочних кредита од мултилатералних институција",{"$f":"UnObr1!F125","v":0},null,null,null,null,null,null,null,null,null,{"$f":"UnObr1!G125","v":0}]
[1117,null,null,223100,222300,222300,222300,"Краткорочне обавезе по основу гаранција","Обавезе по основу краткорочних кредита од мултилатералних институција","Обавезе по основу краткорочних кредита од мултилатералних институција","Обавезе по основу краткорочних кредита од мултилатералних институција","Обавезе по основу краткорочних кредита од мултилатералних институција","Обавезе по основу краткорочних кредита од мултилатералних институција","Обавезе по основу краткорочних кредита од мултилатералних институција","Обавезе по основу краткорочних кредита од мултилатералних институција","Обавезе по основу краткорочних кредита од мултилатералних институција","Обавезе по основу краткорочних кредита од мултилатералних институција","Обавезе по основу краткорочних кредита од мултилатералних институција","Обавезе по основу краткорочних кредита од мултилатералних институција","Обавезе по основу краткорочних кредита од мултилатералних институција","Обавезе по основу краткорочних кредита од мултилатералних институција","Обавезе по основу краткорочних кредита од мултилатералних институција","Обавезе по основу краткорочних кредита од мултилатералних институција","Обавезе по основу краткорочних кредита од мултилатералних институција",{"$f":"UnObr1!F126","v":0},null,null,null,null,null,null,null,null,null,{"$f":"UnObr1!G126","v":0}]
[1118,null,null,230000,222300,222300,222300,"ОБАВЕЗЕ ПО ОСНОВУ РАСХОДА ЗА ЗАПОСЛЕНЕ (1119 + 1125 + 1131 + 1137 + 1141+ 1147 + 1153 + 1161 + 1167)","Обавезе по основу краткорочних кредита од мултилатералних институција","Обавезе по основу краткорочних кредита од мултилатералних институција","Обавезе по основу краткорочних кредита од мултилатералних институција","Обавезе по основу краткорочних кредита од мултилатералних институција","Обавезе по основу краткорочних кредита од мултилатералних институција","Обавезе по основу краткорочних кредита од мултилатералних институција","Обавезе по основу краткорочних кредита од мултилатералних институција","Обавезе по основу краткорочних кредита од мултилатералних институција","Обавезе по основу краткорочних кредита од мултилатералних институција","Обавезе по основу краткорочних кредита од мултилатералних институција","Обавезе по основу краткорочних кредита од мултилатералних институција","Обавезе по основу краткорочних кредита од мултилатералних институција","Обавезе по основу краткорочних кредита од мултилатералних институција","Обавезе по основу краткорочних кредита од мултилатералних институција","Обавезе по основу краткорочних кредита од мултилатералних институција","Обавезе по основу краткорочних кредита од мултилатералних институција",{"$f":"UnObr1!F127","v":1371},null,null,null,null,null,null,null,null,null,{"$f":"UnObr1!G127","v":3918}]
[1119,null,null,231000,222300,222300,222300,"ОБАВЕЗЕ ЗА ПЛАТЕ И ДОДАТКЕ (од 1120 до 1124)","Обавезе по основу краткорочних кредита од мултилатералних институција","Обавезе по основу краткорочних кредита од мултилатералних институција","Обавезе по основу краткорочних кредита од мултилатералних институција","Обавезе по основу краткорочних кредита од мултилатералних институција","Обавезе по основу краткорочних кредита од мултилатералних институција","Обавезе по основу краткорочних кредита од мултилатералних институција","Обавезе по основу краткорочних кредита од мултилатералних институција","Обавезе по основу краткорочних кредита од мултилатералних институција","Обавезе по основу краткорочних кредита од мултилатералних институција","Обавезе по основу краткорочних кредита од мултилатералних институција","Обавезе по основу краткорочних кредита од мултилатералних институција","Обавезе по основу краткорочних кредита од мултилатералних институција","Обавезе по основу краткорочних кредита од мултилатералних институција","Обавезе по основу краткорочних кредита од мултилатералних институција","Обавезе по основу краткорочних кредита од мултилатералних институција","Обавезе по основу краткорочних кредита од мултилатералних институција",{"$f":"UnObr1!F128","v":0},null,null,null,null,null,null,null,null,null,{"$f":"UnObr1!G128","v":2324}]
[1120,null,null,231100,222300,222300,222300,"Обавезе за нето плате и додатке","Обавезе по основу краткорочних кредита од мултилатералних институција","Обавезе по основу краткорочних кредита од мултилатералних институција","Обавезе по основу краткорочних кредита од мултилатералних институција","Обавезе по основу краткорочних кредита од мултилатералних институција","Обавезе по основу краткорочних кредита од мултилатералних институција","Обавезе по основу краткорочних кредита од мултилатералних институција","Обавезе по основу краткорочних кредита од мултилатералних институција","Обавезе по основу краткорочних кредита од мултилатералних институција","Обавезе по основу краткорочних кредита од мултилатералних институција","Обавезе по основу краткорочних кредита од мултилатералних институција","Обавезе по основу краткорочних кредита од мултилатералних институција","Обавезе по основу краткорочних кредита од мултилатералних институција","Обавезе по основу краткорочних кредита од мултилатералних институција","Обавезе по основу краткорочних кредита од мултилатералних институција","Обавезе по основу краткорочних кредита од мултилатералних институција","Обавезе по основу краткорочних кредита од мултилатералних институција",{"$f":"UnObr1!F129","v":0},null,null,null,null,null,null,null,null,null,{"$f":"UnObr1!G129","v":1629}]
[1121,null,null,231200,222300,222300,222300,"Обавезе по основу пореза на плате и додатке","Обавезе по основу краткорочних кредита од мултилатералних институција","Обавезе по основу краткорочних кредита од мултилатералних институција","Обавезе по основу краткорочних кредита од мултилатералних институција","Обавезе по основу краткорочних кредита од мултилатералних институција","Обавезе по основу краткорочних кредита од мултилатералних институција","Обавезе по основу краткорочних кредита од мултилатералних институција","Обавезе по основу краткорочних кредита од мултилатералних институција","Обавезе по основу краткорочних кредита од мултилатералних институција","Обавезе по основу краткорочних кредита од мултилатералних институција","Обавезе по основу краткорочних кредита од мултилатералних институција","Обавезе по основу краткорочних кредита од мултилатералних институција","Обавезе по основу краткорочних кредита од мултилатералних институција","Обавезе по основу краткорочних кредита од мултилатералних институција","Обавезе по основу краткорочних кредита од мултилатералних институција","Обавезе по основу краткорочних кредита од мултилатералних институција","Обавезе по основу краткорочних кредита од мултилатералних институција",{"$f":"UnObr1!F130","v":0},null,null,null,null,null,null,null,null,null,{"$f":"UnObr1!G130","v":233}]
[1122,null,null,231300,222300,222300,222300,"Обавезе по основу доприноса за пензијско и \nинвалидско осигурање на плате и додатке","Обавезе по основу краткорочних кредита од мултилатералних институција","Обавезе по основу краткорочних кредита од мултилатералних институција","Обавезе по основу краткорочних кредита од мултилатералних институција","Обавезе по основу краткорочних кредита од мултилатералних институција","Обавезе по основу краткорочних кредита од мултилатералних институција","Обавезе по основу краткорочних кредита од мултилатералних институција","Обавезе по основу краткорочних кредита од мултилатералних институција","Обавезе по основу краткорочних кредита од мултилатералних институција","Обавезе по основу краткорочних кредита од мултилатералних институција","Обавезе по основу краткорочних кредита од мултилатералних институција","Обавезе по основу краткорочних кредита од мултилатералних институција","Обавезе по основу краткорочних кредита од мултилатералних институција","Обавезе по основу краткорочних кредита од мултилатералних институција","Обавезе по основу краткорочних кредита од мултилатералних институција","Обавезе по основу краткорочних кредита од мултилатералних институција","Обавезе по основу краткорочних кредита од мултилатералних институција",{"$f":"UnObr1!F131","v":0},null,null,null,null,null,null,null,null,null,{"$f":"UnObr1!G131","v":325}]
[1123,null,null,231400,222300,222300,222300,"Обавезе по основу доприноса за здравствено осигурање \nна плате и додатке","Обавезе по основу краткорочних кредита од мултилатералних институција","Обавезе по основу краткорочних кредита од мултилатералних институција","Обавезе по основу краткорочних кредита од мултилатералних институција","Обавезе по основу краткорочних кредита од мултилатералних институција","Обавезе по основу краткорочних кредита од мултилатералних институција","Обавезе по основу краткорочних кредита од мултилатералних институција","Обавезе по основу краткорочних кредита од мултилатералних институција","Обавезе по основу краткорочних кредита од мултилатералних институција","Обавезе по основу краткорочних кредита од мултилатералних институција","Обавезе по основу краткорочних кредита од мултилатералних институција","Обавезе по основу краткорочних кредита од мултилатералних институција","Обавезе по основу краткорочних кредита од мултилатералних институција","Обавезе по основу краткорочних кредита од мултилатералних институција","Обавезе по основу краткорочних кредита од мултилатералних институција","Обавезе по основу краткорочних кредита од мултилатералних институција","Обавезе по основу краткорочних кредита од мултилатералних институција",{"$f":"UnObr1!F132","v":0},null,null,null,null,null,null,null,null,null,{"$f":"UnObr1!G132","v":120}]
[1124,null,null,231500,222300,222300,222300,"Обавезе по основу доприноса за незапосленост на \nплате и додатке","Обавезе по основу краткорочних кредита од мултилатералних институција","Обавезе по основу краткорочних кредита од мултилатералних институција","Обавезе по основу краткорочних кредита од мултилатералних институција","Обавезе по основу краткорочних кредита од мултилатералних институција","Обавезе по основу краткорочних кредита од мултилатералних институција","Обавезе по основу краткорочних кредита од мултилатералних институција","Обавезе по основу краткорочних кредита од мултилатералних институција","Обавезе по основу краткорочних кредита од мултилатералних институција","Обавезе по основу краткорочних кредита од мултилатералних институција","Обавезе по основу краткорочних кредита од мултилатералних институција","Обавезе по основу краткорочних кредита од мултилатералних институција","Обавезе по основу краткорочних кредита од мултилатералних институција","Обавезе по основу краткорочних кредита од мултилатералних институција","Обавезе по основу краткорочних кредита од мултилатералних институција","Обавезе по основу краткорочних кредита од мултилатералних институција","Обавезе по основу краткорочних кредита од мултилатералних институција",{"$f":"UnObr1!F133","v":0},null,null,null,null,null,null,null,null,null,{"$f":"UnObr1!G133","v":17}]
[1125,null,null,232000,222300,222300,222300,"ОБАВЕЗЕ ПО ОСНОВУ НАКНАДА ЗАПОСЛЕНИМА (од 1126 до 1130)","Обавезе по основу краткорочних кредита од мултилатералних институција","Обавезе по основу краткорочних кредита од мултилатералних институција","Обавезе по основу краткорочних кредита од мултилатералних институција","Обавезе по основу краткорочних кредита од мултилатералних институција","Обавезе по основу краткорочних кредита од мултилатералних институција","Обавезе по основу краткорочних кредита од мултилатералних институција","Обавезе по основу краткорочних кредита од мултилатералних институција","Обавезе по основу краткорочних кредита од мултилатералних институција","Обавезе по основу краткорочних кредита од мултилатералних институција","Обавезе по основу краткорочних кредита од мултилатералних институција","Обавезе по основу краткорочних кредита од мултилатералних институција","Обавезе по основу краткорочних кредита од мултилатералних институција","Обавезе по основу краткорочних кредита од мултилатералних институција","Обавезе по основу краткорочних кредита од мултилатералних институција","Обавезе по основу краткорочних кредита од мултилатералних институција","Обавезе по основу краткорочних кредита од мултилатералних институција",{"$f":"UnObr1!F134","v":1371},null,null,null,null,null,null,null,null,null,{"$f":"UnObr1!G134","v":1178}]
[1126,null,null,232100,222300,222300,222300,"Обавезе по основу нето накнада запосленима","Обавезе по основу краткорочних кредита од мултилатералних институција","Обавезе по основу краткорочних кредита од мултилатералних институција","Обавезе по основу краткорочних кредита од мултилатералних институција","Обавезе по основу краткорочних кредита од мултилатералних институција","Обавезе по основу краткорочних кредита од мултилатералних институција","Обавезе по основу краткорочних кредита од мултилатералних институција","Обавезе по основу краткорочних кредита од мултилатералних институција","Обавезе по основу краткорочних кредита од мултилатералних институција","Обавезе по основу краткорочних кредита од мултилатералних институција","Обавезе по основу краткорочних кредита од мултилатералних институција","Обавезе по основу краткорочних кредита од мултилатералних институција","Обавезе по основу краткорочних кредита од мултилатералних институција","Обавезе по основу краткорочних кредита од мултилатералних институција","Обавезе по основу краткорочних кредита од мултилатералних институција","Обавезе по основу краткорочних кредита од мултилатералних институција","Обавезе по основу краткорочних кредита од мултилатералних институција",{"$f":"UnObr1!F135","v":840},null,null,null,null,null,null,null,null,null,{"$f":"UnObr1!G135","v":767}]
[1127,null,null,232200,222300,222300,222300,"Обавезе по основу пореза на плате за накнаде запосленима","Обавезе по основу краткорочних кредита од мултилатералних институција","Обавезе по основу краткорочних кредита од мултилатералних институција","Обавезе по основу краткорочних кредита од мултилатералних институција","Обавезе по основу краткорочних кредита од мултилатералних институција","Обавезе по основу краткорочних кредита од мултилатералних институција","Обавезе по основу краткорочних кредита од мултилатералних институција","Обавезе по основу краткорочних кредита од мултилатералних институција","Обавезе по основу краткорочних кредита од мултилатералних институција","Обавезе по основу краткорочних кредита од мултилатералних институција","Обавезе по основу краткорочних кредита од мултилатералних институција","Обавезе по основу краткорочних кредита од мултилатералних институција","Обавезе по основу краткорочних кредита од мултилатералних институција","Обавезе по основу краткорочних кредита од мултилатералних институција","Обавезе по основу краткорочних кредита од мултилатералних институција","Обавезе по основу краткорочних кредита од мултилатералних институција","Обавезе по основу краткорочних кредита од мултилатералних институција",{"$f":"UnObr1!F136","v":91},null,null,null,null,null,null,null,null,null,{"$f":"UnObr1!G136","v":76}]
[1128,null,null,232300,222300,222300,222300,"Обавезе по основу доприноса за пензијско и \nинвалидско осигурање за накнаде запосленима","Обавезе по основу краткорочних кредита од мултилатералних институција","Обавезе по основу краткорочних кредита од мултилатералних институција","Обавезе по основу краткорочних кредита од мултилатералних институција","Обавезе по основу краткорочних кредита од мултилатералних институција","Обавезе по основу краткорочних кредита од мултилатералних институција","Обавезе по основу краткорочних кредита од мултилатералних институција","Обавезе по основу краткорочних кредита од мултилатералних институција","Обавезе по основу краткорочних кредита од мултилатералних институција","Обавезе по основу краткорочних кредита од мултилатералних институција","Обавезе по основу краткорочних кредита од мултилатералних институција","Обавезе по основу краткорочних кредита од мултилатералних институција","Обавезе по основу краткорочних кредита од мултилатералних институција","Обавезе по основу краткорочних кредита од мултилатералних институција","Обавезе по основу краткорочних кредита од мултилатералних институција","Обавезе по основу краткорочних кредита од мултилатералних институција","Обавезе по основу краткорочних кредита од мултилатералних институција",{"$f":"UnObr1!F137","v":316},null,null,null,null,null,null,null,null,null,{"$f":"UnObr1!G137","v":231}]
[1129,null,null,232400,222300,222300,222300,"Обавезе по основу доприноса за здравствено осигурање \nза накнаде запосленима","Обавезе по основу краткорочних кредита од мултилатералних институција","Обавезе по основу краткорочних кредита од мултилатералних институција","Обавезе по основу краткорочних кредита од мултилатералних институција","Обавезе по основу краткорочних кредита од мултилатералних институција","Обавезе по основу краткорочних кредита од мултилатералних институција","Обавезе по основу краткорочних кредита од мултилатералних институција","Обавезе по основу краткорочних кредита од мултилатералних институција","Обавезе по основу краткорочних кредита од мултилатералних институција","Обавезе по основу краткорочних кредита од мултилатералних институција","Обавезе по основу краткорочних кредита од мултилатералних институција","Обавезе по основу краткорочних кредита од мултилатералних институција","Обавезе по основу краткорочних кредита од мултилатералних институција","Обавезе по основу краткорочних кредита од мултилатералних институција","Обавезе по основу краткорочних кредита од мултилатералних институција","Обавезе по основу краткорочних кредита од мултилатералних институција","Обавезе по основу краткорочних кредита од мултилатералних институција",{"$f":"UnObr1!F138","v":108},null,null,null,null,null,null,null,null,null,{"$f":"UnObr1!G138","v":91}]
[1130,null,null,232500,222300,222300,222300,"Обавезе по основу доприноса за незапосленост за \nнакнаде запосленима","Обавезе по основу краткорочних кредита од мултилатералних институција","Обавезе по основу краткорочних кредита од мултилатералних институција","Обавезе по основу краткорочних кредита од мултилатералних институција","Обавезе по основу краткорочних кредита од мултилатералних институција","Обавезе по основу краткорочних кредита од мултилатералних институција","Обавезе по основу краткорочних кредита од мултилатералних институција","Обавезе по основу краткорочних кредита од мултилатералних институција","Обавезе по основу краткорочних кредита од мултилатералних институција","Обавезе по основу краткорочних кредита од мултилатералних институција","Обавезе по основу краткорочних кредита од мултилатералних институција","Обавезе по основу краткорочних кредита од мултилатералних институција","Обавезе по основу краткорочних кредита од мултилатералних институција","Обавезе по основу краткорочних кредита од мултилатералних институција","Обавезе по основу краткорочних кредита од мултилатералних институција","Обавезе по основу краткорочних кредита од мултилатералних институција","Обавезе по основу краткорочних кредита од мултилатералних институција",{"$f":"UnObr1!F139","v":16},null,null,null,null,null,null,null,null,null,{"$f":"UnObr1!G139","v":13}]
[1131,null,null,233000,222300,222300,222300,"ОБАВЕЗЕ ЗА НАГРАДЕ И ОСТАЛЕ ПОСЕБНЕ РАСХОДЕ (од 1132 до 1136)","Обавезе по основу краткорочних кредита од мултилатералних институција","Обавезе по основу краткорочних кредита од мултилатералних институција","Обавезе по основу краткорочних кредита од мултилатералних институција","Обавезе по основу краткорочних кредита од мултилатералних институција","Обавезе по основу краткорочних кредита од мултилатералних институција","Обавезе по основу краткорочних кредита од мултилатералних институција","Обавезе по основу краткорочних кредита од мултилатералних институција","Обавезе по основу краткорочних кредита од мултилатералних институција","Обавезе по основу краткорочних кредита од мултилатералних институција","Обавезе по основу краткорочних кредита од мултилатералних институција","Обавезе по основу краткорочних кредита од мултилатералних институција","Обавезе по основу краткорочних кредита од мултилатералних институција","Обавезе по основу краткорочних кредита од мултилатералних институција","Обавезе по основу краткорочних кредита од мултилатералних институција","Обавезе по основу краткорочних кредита од мултилатералних институција","Обавезе по основу краткорочних кредита од мултилатералних институција",{"$f":"UnObr1!F140","v":0},null,null,null,null,null,null,null,null,null,{"$f":"UnObr1!G140","v":0}]
[1132,null,null,233100,222300,222300,222300,"Обавезе по основу нето исплата награда и осталих посебних расхода","Обавезе по основу краткорочних кредита од мултилатералних институција","Обавезе по основу краткорочних кредита од мултилатералних институција","Обавезе по основу краткорочних кредита од мултилатералних институција","Обавезе по основу краткорочних кредита од мултилатералних институција","Обавезе по основу краткорочних кредита од мултилатералних институција","Обавезе по основу краткорочних кредита од мултилатералних институција","Обавезе по основу краткорочних кредита од мултилатералних институција","Обавезе по основу краткорочних кредита од мултилатералних институција","Обавезе по основу краткорочних кредита од мултилатералних институција","Обавезе по основу краткорочних кредита од мултилатералних институција","Обавезе по основу краткорочних кредита од мултилатералних институција","Обавезе по основу краткорочних кредита од мултилатералних институција","Обавезе по основу краткорочних кредита од мултилатералних институција","Обавезе по основу краткорочних кредита од мултилатералних институција","Обавезе по основу краткорочних кредита од мултилатералних институција","Обавезе по основу краткорочних кредита од мултилатералних институција",{"$f":"UnObr1!F141","v":0},null,null,null,null,null,null,null,null,null,{"$f":"UnObr1!G141","v":0}]
[1133,null,null,233200,222300,222300,222300,"Обавезе по основу пореза на награде и остале посебне расходе","Обавезе по основу краткорочних кредита од мултилатералних институција","Обавезе по основу краткорочних кредита од мултилатералних институција","Обавезе по основу краткорочних кредита од мултилатералних институција","Обавезе по основу краткорочних кредита од мултилатералних институција","Обавезе по основу краткорочних кредита од мултилатералних институција","Обавезе по основу краткорочних кредита од мултилатералних институција","Обавезе по основу краткорочних кредита од мултилатералних институција","Обавезе по основу краткорочних кредита од мултилатералних институција","Обавезе по основу краткорочних кредита од мултилатералних институција","Обавезе по основу краткорочних кредита од мултилатералних институција","Обавезе по основу краткорочних кредита од мултилатералних институција","Обавезе по основу краткорочних кредита од мултилатералних институција","Обавезе по основу краткорочних кредита од мултилатералних институција","Обавезе по основу краткорочних кредита од мултилатералних институција","Обавезе по основу краткорочних кредита од мултилатералних институција","Обавезе по основу краткорочних кредита од мултилатералних институција",{"$f":"UnObr1!F142","v":0},null,null,null,null,null,null,null,null,null,{"$f":"UnObr1!G142","v":0}]
["Ознака\nОП",null,null,"Број\nконта",null,null,null,"Опис",null,null,null,null,null,null,null,null,null,null,null,null,null,null,null,null,"Износ"]
[]
[null,null,null,null,null,null,null,null,null,null,null,null,null,null,null,null,null,null,null,null,null,null,null,null,"Претходна година",null,null,null,null,null,null,null,null,null,"Текућа година"]
[]
[1,null,null,2,null,null,null,3,null,null,null,null,null,null,null,null,null,null,null,null,null,null,null,null,4,null,null,null,null,null,null,null,null,5,5]
[1134,null,null,233300,222300,222300,222300,"Обавезе по основу доприноса за пензијско и \nинвалидско осигурање за награде и остале посебне\nрасходе","Обавезе по основу краткорочних кредита од мултилатералних институција","Обавезе по основу краткорочних кредита од мултилатералних институција","Обавезе по основу краткорочних кредита од мултилатералних институција","Обавезе по основу краткорочних кредита од мултилатералних институција","Обавезе по основу краткорочних кредита од мултилатералних институција","Обавезе по основу краткорочних кредита од мултилатералних институција","Обавезе по основу краткорочних кредита од мултилатералних институција","Обавезе по основу краткорочних кредита од мултилатералних институција","Обавезе по основу краткорочних кредита од мултилатералних институција","Обавезе по основу краткорочних кредита од мултилатералних институција","Обавезе по основу краткорочних кредита од мултилатералних институција","Обавезе по основу краткорочних кредита од мултилатералних институција","Обавезе по основу краткорочних кредита од мултилатералних институција","Обавезе по основу краткорочних кредита од мултилатералних институција","Обавезе по основу краткорочних кредита од мултилатералних институција","Обавезе по основу краткорочних кредита од мултилатералних институција",{"$f":"UnObr1!F143","v":0},null,null,null,null,null,null,null,null,null,{"$f":"UnObr1!G143","v":0}]
[1135,null,null,233400,222300,222300,222300,"Обавезе по основу доприноса за здравствено осигурање \nза награде и остале посебне расходе","Обавезе по основу краткорочних кредита од мултилатералних институција","Обавезе по основу краткорочних кредита од мултилатералних институција","Обавезе по основу краткорочних кредита од мултилатералних институција","Обавезе по основу краткорочних кредита од мултилатералних институција","Обавезе по основу краткорочних кредита од мултилатералних институција","Обавезе по основу краткорочних кредита од мултилатералних институција","Обавезе по основу краткорочних кредита од мултилатералних институција","Обавезе по основу краткорочних кредита од мултилатералних институција","Обавезе по основу краткорочних кредита од мултилатералних институција","Обавезе по основу краткорочних кредита од мултилатералних институција","Обавезе по основу краткорочних кредита од мултилатералних институција","Обавезе по основу краткорочних кредита од мултилатералних институција","Обавезе по основу краткорочних кредита од мултилатералних институција","Обавезе по основу краткорочних кредита од мултилатералних институција","Обавезе по основу краткорочних кредита од мултилатералних институција","Обавезе по основу краткорочних кредита од мултилатералних институција",{"$f":"UnObr1!F144","v":0},null,null,null,null,null,null,null,null,null,{"$f":"UnObr1!G144","v":0}]
[1136,null,null,233500,222300,222300,222300,"Обавезе по основу доприноса за случај незапослености \nза награде и остале посебне расходе","Обавезе по основу краткорочних кредита од мултилатералних институција","Обавезе по основу краткорочних кредита од мултилатералних институција","Обавезе по основу краткорочних кредита од мултилатералних институција","Обавезе по основу краткорочних кредита од мултилатералних институција","Обавезе по основу краткорочних кредита од мултилатералних институција","Обавезе по основу краткорочних кредита од мултилатералних институција","Обавезе по основу краткорочних кредита од мултилатералних институција","Обавезе по основу краткорочних кредита од мултилатералних институција","Обавезе по основу краткорочних кредита од мултилатералних институција","Обавезе по основу краткорочних кредита од мултилатералних институција","Обавезе по основу краткорочних кредита од мултилатералних институција","Обавезе по основу краткорочних кредита од мултилатералних институција","Обавезе по основу краткорочних кредита од мултилатералних институција","Обавезе по основу краткорочних кредита од мултилатералних институција","Обавезе по основу краткорочних кредита од мултилатералних институција","Обавезе по основу краткорочних кредита од мултилатералних институција",{"$f":"UnObr1!F145","v":0},null,null,null,null,null,null,null,null,null,{"$f":"UnObr1!G145","v":0}]
[1137,null,null,234000,222300,222300,222300,"ОБАВЕЗЕ ПО ОСНОВУ СОЦИЈАЛНИХ ДОПРИНОСА НА ТЕРЕТ ПОСЛОДАВЦА \n(од 1138 до 1140)","Обавезе по основу краткорочних кредита од мултилатералних институција","Обавезе по основу краткорочних кредита од мултилатералних институција","Обавезе по основу краткорочних кредита од мултилатералних институција","Обавезе по основу краткорочних кредита од мултилатералних институција","Обавезе по основу краткорочних кредита од мултилатералних институција","Обавезе по основу краткорочних кредита од мултилатералних институција","Обавезе по основу краткорочних кредита од мултилатералних институција","Обавезе по основу краткорочних кредита од мултилатералних институција","Обавезе по основу краткорочних кредита од мултилатералних институција","Обавезе по основу краткорочних кредита од мултилатералних институција","Обавезе по основу краткорочних кредита од мултилатералних институција","Обавезе по основу краткорочних кредита од мултилатералних институција","Обавезе по основу краткорочних кредита од мултилатералних институција","Обавезе по основу краткорочних кредита од мултилатералних институција","Обавезе по основу краткорочних кредита од мултилатералних институција","Обавезе по основу краткорочних кредита од мултилатералних институција",{"$f":"UnObr1!F146","v":0},null,null,null,null,null,null,null,null,null,{"$f":"UnObr1!G146","v":416}]
[1138,null,null,234100,222300,222300,222300,"Обавезе по основу доприноса за пензијско и \nинвалидско осигурање на терет послодавца","Обавезе по основу краткорочних кредита од мултилатералних институција","Обавезе по основу краткорочних кредита од мултилатералних институција","Обавезе по основу краткорочних кредита од мултилатералних институција","Обавезе по основу краткорочних кредита од мултилатералних институција","Обавезе по основу краткорочних кредита од мултилатералних институција","Обавезе по основу краткорочних кредита од мултилатералних институција","Обавезе по основу краткорочних кредита од мултилатералних институција","Обавезе по основу краткорочних кредита од мултилатералних институција","Обавезе по основу краткорочних кредита од мултилатералних институција","Обавезе по основу краткорочних кредита од мултилатералних институција","Обавезе по основу краткорочних кредита од мултилатералних институција","Обавезе по основу краткорочних кредита од мултилатералних институција","Обавезе по основу краткорочних кредита од мултилатералних институција","Обавезе по основу краткорочних кредита од мултилатералних институција","Обавезе по основу краткорочних кредита од мултилатералних институција","Обавезе по основу краткорочних кредита од мултилатералних институција",{"$f":"UnObr1!F147","v":0},null,null,null,null,null,null,null,null,null,{"$f":"UnObr1!G147","v":279}]
[1139,null,null,234200,222300,222300,222300,"Обавезе по основу доприноса за здравствено осигурање\nна терет послодавца","Обавезе по основу краткорочних кредита од мултилатералних институција","Обавезе по основу краткорочних кредита од мултилатералних институција","Обавезе по основу краткорочних кредита од мултилатералних институција","Обавезе по основу краткорочних кредита од мултилатералних институција","Обавезе по основу краткорочних кредита од мултилатералних институција","Обавезе по основу краткорочних кредита од мултилатералних институција","Обавезе по основу краткорочних кредита од мултилатералних институција","Обавезе по основу краткорочних кредита од мултилатералних институција","Обавезе по основу краткорочних кредита од мултилатералних институција","Обавезе по основу краткорочних кредита од мултилатералних институција","Обавезе по основу краткорочних кредита од мултилатералних институција","Обавезе по основу краткорочних кредита од мултилатералних институција","Обавезе по основу краткорочних кредита од мултилатералних институција","Обавезе по основу краткорочних кредита од мултилатералних институција","Обавезе по основу краткорочних кредита од мултилатералних институција","Обавезе по основу краткорочних кредита од мултилатералних институција",{"$f":"UnObr1!F148","v":0},null,null,null,null,null,null,null,null,null,{"$f":"UnObr1!G148","v":120}]
[1140,null,null,234300,222300,222300,222300,"Обавезе по основу доприноса за случај незапослености \nна терет послодавца","Обавезе по основу краткорочних кредита од мултилатералних институција","Обавезе по основу краткорочних кредита од мултилатералних институција","Обавезе по основу краткорочних кредита од мултилатералних институција","Обавезе по основу краткорочних кредита од мултилатералних институција","Обавезе по основу краткорочних кредита од мултилатералних институција","Обавезе по основу краткорочних кредита од мултилатералних институција","Обавезе по основу краткорочних кредита од мултилатералних институција","Обавезе по основу краткорочних кредита од мултилатералних институција","Обавезе по основу краткорочних кредита од мултилатералних институција","Обавезе по основу краткорочних кредита од мултилатералних институција","Обавезе по основу краткорочних кредита од мултилатералних институција","Обавезе по основу краткорочних кредита од мултилатералних институција","Обавезе по основу краткорочних кредита од мултилатералних институција","Обавезе по основу краткорочних кредита од мултилатералних институција","Обавезе по основу краткорочних кредита од мултилатералних институција","Обавезе по основу краткорочних кредита од мултилатералних институција",{"$f":"UnObr1!F149","v":0},null,null,null,null,null,null,null,null,null,{"$f":"UnObr1!G149","v":17}]
[1141,null,null,235000,222300,222300,222300,"ОБАВЕЗЕ ПО ОСНОВУ НАКНАДА У НАТУРИ \n(од 1142 до 1146)","Обавезе по основу краткорочних кредита од мултилатералних институција","Обавезе по основу краткорочних кредита од мултилатералних институција","Обавезе по основу краткорочних кредита од мултилатералних институција","Обавезе по основу краткорочних кредита од мултилатералних институција","Обавезе по основу краткорочних кредита од мултилатералних институција","Обавезе по основу краткорочних кредита од мултилатералних институција","Обавезе по основу краткорочних кредита од мултилатералних институција","Обавезе по основу краткорочних кредита од мултилатералних институција","Обавезе по основу краткорочних кредита од мултилатералних институција","Обавезе по основу краткорочних кредита од мултилатералних институција","Обавезе по основу краткорочних кредита од мултилатералних институција","Обавезе по основу краткорочних кредита од мултилатералних институција","Обавезе по основу краткорочних кредита од мултилатералних институција","Обавезе по основу краткорочних кредита од мултилатералних институција","Обавезе по основу краткорочних кредита од мултилатералних институција","Обавезе по основу краткорочних кредита од мултилатералних институција",{"$f":"UnObr1!F150","v":0},null,null,null,null,null,null,null,null,null,{"$f":"UnObr1!G150","v":0}]
[1142,null,null,235100,222300,222300,222300,"Обавезе по основу нето накнада у натури","Обавезе по основу краткорочних кредита од мултилатералних институција","Обавезе по основу краткорочних кредита од мултилатералних институција","Обавезе по основу краткорочних кредита од мултилатералних институција","Обавезе по основу краткорочних кредита од мултилатералних институција","Обавезе по основу краткорочних кредита од мултилатералних институција","Обавезе по основу краткорочних кредита од мултилатералних институција","Обавезе по основу краткорочних кредита од мултилатералних институција","Обавезе по основу краткорочних кредита од мултилатералних институција","Обавезе по основу краткорочних кредита од мултилатералних институција","Обавезе по основу краткорочних кредита од мултилатералних институција","Обавезе по основу краткорочних кредита од мултилатералних институција","Обавезе по основу краткорочних кредита од мултилатералних институција","Обавезе по основу краткорочних кредита од мултилатералних институција","Обавезе по основу краткорочних кредита од мултилатералних институција","Обавезе по основу краткорочних кредита од мултилатералних институција","Обавезе по основу краткорочних кредита од мултилатералних институција",{"$f":"UnObr1!F151","v":0},null,null,null,null,null,null,null,null,null,{"$f":"UnObr1!G151","v":0}]
[1143,null,null,235200,235300,235300,235300,"Обавезе по основу пореза на накнаде у натури","Обавезе по основу доприноса за пензијско и инвалидско осигурање за накнаде у натури","Обавезе по основу доприноса за пензијско и инвалидско осигурање за накнаде у натури","Обавезе по основу доприноса за пензијско и инвалидско осигурање за накнаде у натури","Обавезе по основу доприноса за пензијско и инвалидско осигурање за накнаде у натури","Обавезе по основу доприноса за пензијско и инвалидско осигурање за накнаде у натури","Обавезе по основу доприноса за пензијско и инвалидско осигурање за накнаде у натури","Обавезе по основу доприноса за пензијско и инвалидско осигурање за накнаде у натури","Обавезе по основу доприноса за пензијско и инвалидско осигурање за накнаде у натури","Обавезе по основу доприноса за пензијско и инвалидско осигурање за накнаде у натури","Обавезе по основу доприноса за пензијско и инвалидско осигурање за накнаде у натури","Обавезе по основу доприноса за пензијско и инвалидско осигурање за накнаде у натури","Обавезе по основу доприноса за пензијско и инвалидско осигурање за накнаде у натури","Обавезе по основу доприноса за пензијско и инвалидско осигурање за накнаде у натури","Обавезе по основу доприноса за пензијско и инвалидско осигурање за накнаде у натури","Обавезе по основу доприноса за пензијско и инвалидско осигурање за накнаде у натури","Обавезе по основу доприноса за пензијско и инвалидско осигурање за накнаде у натури",{"$f":"UnObr1!F152","v":0},null,null,null,null,null,null,null,null,null,{"$f":"UnObr1!G152","v":0}]
[1144,null,null,235300,235300,235300,235300,"Обавезе по основу доприноса за пензијско и \nинвалидско осигурање за накнаде у натури","Обавезе по основу доприноса за пензијско и инвалидско осигурање за накнаде у натури","Обавезе по основу доприноса за пензијско и инвалидско осигурање за накнаде у натури","Обавезе по основу доприноса за пензијско и инвалидско осигурање за накнаде у натури","Обавезе по основу доприноса за пензијско и инвалидско осигурање за накнаде у натури","Обавезе по основу доприноса за пензијско и инвалидско осигурање за накнаде у натури","Обавезе по основу доприноса за пензијско и инвалидско осигурање за накнаде у натури","Обавезе по основу доприноса за пензијско и инвалидско осигурање за накнаде у натури","Обавезе по основу доприноса за пензијско и инвалидско осигурање за накнаде у натури","Обавезе по основу доприноса за пензијско и инвалидско осигурање за накнаде у натури","Обавезе по основу доприноса за пензијско и инвалидско осигурање за накнаде у натури","Обавезе по основу доприноса за пензијско и инвалидско осигурање за накнаде у натури","Обавезе по основу доприноса за пензијско и инвалидско осигурање за накнаде у натури","Обавезе по основу доприноса за пензијско и инвалидско осигурање за накнаде у натури","Обавезе по основу доприноса за пензијско и инвалидско осигурање за накнаде у натури","Обавезе по основу доприноса за пензијско и инвалидско осигурање за накнаде у натури","Обавезе по основу доприноса за пензијско и инвалидско осигурање за накнаде у натури",{"$f":"UnObr1!F153","v":0},null,null,null,null,null,null,null,null,null,{"$f":"UnObr1!G153","v":0}]
[1145,null,null,235400,235300,235300,235300,"Обавезе по основу доприноса за здравствено осигурање \nза накнаде у натури","Обавезе по основу доприноса за пензијско и инвалидско осигурање за накнаде у натури","Обавезе по основу доприноса за пензијско и инвалидско осигурање за накнаде у натури","Обавезе по основу доприноса за пензијско и инвалидско осигурање за накнаде у натури","Обавезе по основу доприноса за пензијско и инвалидско осигурање за накнаде у натури","Обавезе по основу доприноса за пензијско и инвалидско осигурање за накнаде у натури","Обавезе по основу доприноса за пензијско и инвалидско осигурање за накнаде у натури","Обавезе по основу доприноса за пензијско и инвалидско осигурање за накнаде у натури","Обавезе по основу доприноса за пензијско и инвалидско осигурање за накнаде у натури","Обавезе по основу доприноса за пензијско и инвалидско осигурање за накнаде у натури","Обавезе по основу доприноса за пензијско и инвалидско осигурање за накнаде у натури","Обавезе по основу доприноса за пензијско и инвалидско осигурање за накнаде у натури","Обавезе по основу доприноса за пензијско и инвалидско осигурање за накнаде у натури","Обавезе по основу доприноса за пензијско и инвалидско осигурање за накнаде у натури","Обавезе по основу доприноса за пензијско и инвалидско осигурање за накнаде у натури","Обавезе по основу доприноса за пензијско и инвалидско осигурање за накнаде у натури","Обавезе по основу доприноса за пензијско и инвалидско осигурање за накнаде у натури",{"$f":"UnObr1!F154","v":0},null,null,null,null,null,null,null,null,null,{"$f":"UnObr1!G154","v":0}]
[1146,null,null,235500,235300,235300,235300,"Обавезе по основу доприноса за случај незапослености \nза накнаде у натури","Обавезе по основу доприноса за пензијско и инвалидско осигурање за накнаде у натури","Обавезе по основу доприноса за пензијско и инвалидско осигурање за накнаде у натури","Обавезе по основу доприноса за пензијско и инвалидско осигурање за накнаде у натури","Обавезе по основу доприноса за пензијско и инвалидско осигурање за накнаде у натури","Обавезе по основу доприноса за пензијско и инвалидско осигурање за накнаде у натури","Обавезе по основу доприноса за пензијско и инвалидско осигурање за накнаде у натури","Обавезе по основу доприноса за пензијско и инвалидско осигурање за накнаде у натури","Обавезе по основу доприноса за пензијско и инвалидско осигурање за накнаде у натури","Обавезе по основу доприноса за пензијско и инвалидско осигурање за накнаде у натури","Обавезе по основу доприноса за пензијско и инвалидско осигурање за накнаде у натури","Обавезе по основу доприноса за пензијско и инвалидско осигурање за накнаде у натури","Обавезе по основу доприноса за пензијско и инвалидско осигурање за накнаде у натури","Обавезе по основу доприноса за пензијско и инвалидско осигурање за накнаде у натури","Обавезе по основу доприноса за пензијско и инвалидско осигурање за накнаде у натури","Обавезе по основу доприноса за пензијско и инвалидско осигурање за накнаде у натури","Обавезе по основу доприноса за пензијско и инвалидско осигурање за накнаде у натури",{"$f":"UnObr1!F155","v":0},null,null,null,null,null,null,null,null,null,{"$f":"UnObr1!G155","v":0}]
[1147,null,null,236000,235300,235300,235300,"ОБАВЕЗЕ ПО ОСНОВУ СОЦИЈАЛНЕ ПОМОЋИ ЗАПОСЛЕНИМА (од 1148 до 1152)","Обавезе по основу доприноса за пензијско и инвалидско осигурање за накнаде у натури","Обавезе по основу доприноса за пензијско и инвалидско осигурање за накнаде у натури","Обавезе по основу доприноса за пензијско и инвалидско осигурање за накнаде у натури","Обавезе по основу доприноса за пензијско и инвалидско осигурање за накнаде у натури","Обавезе по основу доприноса за пензијско и инвалидско осигурање за накнаде у натури","Обавезе по основу доприноса за пензијско и инвалидско осигурање за накнаде у натури","Обавезе по основу доприноса за пензијско и инвалидско осигурање за накнаде у натури","Обавезе по основу доприноса за пензијско и инвалидско осигурање за накнаде у натури","Обавезе по основу доприноса за пензијско и инвалидско осигурање за накнаде у натури","Обавезе по основу доприноса за пензијско и инвалидско осигурање за накнаде у натури","Обавезе по основу доприноса за пензијско и инвалидско осигурање за накнаде у натури","Обавезе по основу доприноса за пензијско и инвалидско осигурање за накнаде у натури","Обавезе по основу доприноса за пензијско и инвалидско осигурање за накнаде у натури","Обавезе по основу доприноса за пензијско и инвалидско осигурање за накнаде у натури","Обавезе по основу доприноса за пензијско и инвалидско осигурање за накнаде у натури","Обавезе по основу доприноса за пензијско и инвалидско осигурање за накнаде у натури",{"$f":"UnObr1!F156","v":0},null,null,null,null,null,null,null,null,null,{"$f":"UnObr1!G156","v":0}]
[1148,null,null,236100,235300,235300,235300,"Обавезе по основу нето исплата социјалне помоћи запосленима","Обавезе по основу доприноса за пензијско и инвалидско осигурање за накнаде у натури","Обавезе по основу доприноса за пензијско и инвалидско осигурање за накнаде у натури","Обавезе по основу доприноса за пензијско и инвалидско осигурање за накнаде у натури","Обавезе по основу доприноса за пензијско и инвалидско осигурање за накнаде у натури","Обавезе по основу доприноса за пензијско и инвалидско осигурање за накнаде у натури","Обавезе по основу доприноса за пензијско и инвалидско осигурање за накнаде у натури","Обавезе по основу доприноса за пензијско и инвалидско осигурање за накнаде у натури","Обавезе по основу доприноса за пензијско и инвалидско осигурање за накнаде у натури","Обавезе по основу доприноса за пензијско и инвалидско осигурање за накнаде у натури","Обавезе по основу доприноса за пензијско и инвалидско осигурање за накнаде у натури","Обавезе по основу доприноса за пензијско и инвалидско осигурање за накнаде у натури","Обавезе по основу доприноса за пензијско и инвалидско осигурање за накнаде у натури","Обавезе по основу доприноса за пензијско и инвалидско осигурање за накнаде у натури","Обавезе по основу доприноса за пензијско и инвалидско осигурање за накнаде у натури","Обавезе по основу доприноса за пензијско и инвалидско осигурање за накнаде у натури","Обавезе по основу доприноса за пензијско и инвалидско осигурање за накнаде у натури",{"$f":"UnObr1!F157","v":0},null,null,null,null,null,null,null,null,null,{"$f":"UnObr1!G157","v":0}]
[1149,null,null,236200,235300,235300,235300,"Обавезе по основу пореза на социјалну помоћ \nзапосленима","Обавезе по основу доприноса за пензијско и инвалидско осигурање за накнаде у натури","Обавезе по основу доприноса за пензијско и инвалидско осигурање за накнаде у натури","Обавезе по основу доприноса за пензијско и инвалидско осигурање за накнаде у натури","Обавезе по основу доприноса за пензијско и инвалидско осигурање за накнаде у натури","Обавезе по основу доприноса за пензијско и инвалидско осигурање за накнаде у натури","Обавезе по основу доприноса за пензијско и инвалидско осигурање за накнаде у натури","Обавезе по основу доприноса за пензијско и инвалидско осигурање за накнаде у натури","Обавезе по основу доприноса за пензијско и инвалидско осигурање за накнаде у натури","Обавезе по основу доприноса за пензијско и инвалидско осигурање за накнаде у натури","Обавезе по основу доприноса за пензијско и инвалидско осигурање за накнаде у натури","Обавезе по основу доприноса за пензијско и инвалидско осигурање за накнаде у натури","Обавезе по основу доприноса за пензијско и инвалидско осигурање за накнаде у натури","Обавезе по основу доприноса за пензијско и инвалидско осигурање за накнаде у натури","Обавезе по основу доприноса за пензијско и инвалидско осигурање за накнаде у натури","Обавезе по основу доприноса за пензијско и инвалидско осигурање за накнаде у натури","Обавезе по основу доприноса за пензијско и инвалидско осигурање за накнаде у натури",{"$f":"UnObr1!F158","v":0},null,null,null,null,null,null,null,null,null,{"$f":"UnObr1!G158","v":0}]
[1150,null,null,236300,235300,235300,235300,"Обавезе по основу доприноса за пензијско и \nинвалидско осигурање за социјалну помоћ запосленима","Обавезе по основу доприноса за пензијско и инвалидско осигурање за накнаде у натури","Обавезе по основу доприноса за пензијско и инвалидско осигурање за накнаде у натури","Обавезе по основу доприноса за пензијско и инвалидско осигурање за накнаде у натури","Обавезе по основу доприноса за пензијско и инвалидско осигурање за накнаде у натури","Обавезе по основу доприноса за пензијско и инвалидско осигурање за накнаде у натури","Обавезе по основу доприноса за пензијско и инвалидско осигурање за накнаде у натури","Обавезе по основу доприноса за пензијско и инвалидско осигурање за накнаде у натури","Обавезе по основу доприноса за пензијско и инвалидско осигурање за накнаде у натури","Обавезе по основу доприноса за пензијско и инвалидско осигурање за накнаде у натури","Обавезе по основу доприноса за пензијско и инвалидско осигурање за накнаде у натури","Обавезе по основу доприноса за пензијско и инвалидско осигурање за накнаде у натури","Обавезе по основу доприноса за пензијско и инвалидско осигурање за накнаде у натури","Обавезе по основу доприноса за пензијско и инвалидско осигурање за накнаде у натури","Обавезе по основу доприноса за пензијско и инвалидско осигурање за накнаде у натури","Обавезе по основу доприноса за пензијско и инвалидско осигурање за накнаде у натури","Обавезе по основу доприноса за пензијско и инвалидско осигурање за накнаде у натури",{"$f":"UnObr1!F159","v":0},null,null,null,null,null,null,null,null,null,{"$f":"UnObr1!G159","v":0}]
[1151,null,null,236400,235300,235300,235300,"Обавезе по основу доприноса за здравствено осигурање \nза социјалну помоћ запосленима","Обавезе по основу доприноса за пензијско и инвалидско осигурање за накнаде у натури","Обавезе по основу доприноса за пензијско и инвалидско осигурање за накнаде у натури","Обавезе по основу доприноса за пензијско и инвалидско осигурање за накнаде у натури","Обавезе по основу доприноса за пензијско и инвалидско осигурање за накнаде у натури","Обавезе по основу доприноса за пензијско и инвалидско осигурање за накнаде у натури","Обавезе по основу доприноса за пензијско и инвалидско осигурање за накнаде у натури","Обавезе по основу доприноса за пензијско и инвалидско осигурање за накнаде у натури","Обавезе по основу доприноса за пензијско и инвалидско осигурање за накнаде у натури","Обавезе по основу доприноса за пензијско и инвалидско осигурање за накнаде у натури","Обавезе по основу доприноса за пензијско и инвалидско осигурање за накнаде у натури","Обавезе по основу доприноса за пензијско и инвалидско осигурање за накнаде у натури","Обавезе по основу доприноса за пензијско и инвалидско осигурање за накнаде у натури","Обавезе по основу доприноса за пензијско и инвалидско осигурање за накнаде у натури","Обавезе по основу доприноса за пензијско и инвалидско осигурање за накнаде у натури","Обавезе по основу доприноса за пензијско и инвалидско осигурање за накнаде у натури","Обавезе по основу доприноса за пензијско и инвалидско осигурање за накнаде у натури",{"$f":"UnObr1!F160","v":0},null,null,null,null,null,null,null,null,null,{"$f":"UnObr1!G160","v":0}]
[1152,null,null,236500,235300,235300,235300,"Обавезе по основу доприноса за случај незапослености \nза социјалну помоћ запосленима","Обавезе по основу доприноса за пензијско и инвалидско осигурање за накнаде у натури","Обавезе по основу доприноса за пензијско и инвалидско осигурање за накнаде у натури","Обавезе по основу доприноса за пензијско и инвалидско осигурање за накнаде у натури","Обавезе по основу доприноса за пензијско и инвалидско осигурање за накнаде у натури","Обавезе по основу доприноса за пензијско и инвалидско осигурање за накнаде у натури","Обавезе по основу доприноса за пензијско и инвалидско осигурање за накнаде у натури","Обавезе по основу доприноса за пензијско и инвалидско осигурање за накнаде у натури","Обавезе по основу доприноса за пензијско и инвалидско осигурање за накнаде у натури","Обавезе по основу доприноса за пензијско и инвалидско осигурање за накнаде у натури","Обавезе по основу доприноса за пензијско и инвалидско осигурање за накнаде у натури","Обавезе по основу доприноса за пензијско и инвалидско осигурање за накнаде у натури","Обавезе по основу доприноса за пензијско и инвалидско осигурање за накнаде у натури","Обавезе по основу доприноса за пензијско и инвалидско осигурање за накнаде у натури","Обавезе по основу доприноса за пензијско и инвалидско осигурање за накнаде у натури","Обавезе по основу доприноса за пензијско и инвалидско осигурање за накнаде у натури","Обавезе по основу доприноса за пензијско и инвалидско осигурање за накнаде у натури",{"$f":"UnObr1!F161","v":0},null,null,null,null,null,null,null,null,null,{"$f":"UnObr1!G161","v":0}]
[1153,null,null,237000,235300,235300,235300,"СЛУЖБЕНА ПУТОВАЊА И УСЛУГЕ ПО УГОВОРУ (од 1154 до 1160)","Обавезе по основу доприноса за пензијско и инвалидско осигурање за накнаде у натури","Обавезе по основу доприноса за пензијско и инвалидско осигурање за накнаде у натури","Обавезе по основу доприноса за пензијско и инвалидско осигурање за накнаде у натури","Обавезе по основу доприноса за пензијско и инвалидско осигурање за накнаде у натури","Обавезе по основу доприноса за пензијско и инвалидско осигурање за накнаде у натури","Обавезе по основу доприноса за пензијско и инвалидско осигурање за накнаде у натури","Обавезе по основу доприноса за пензијско и инвалидско осигурање за накнаде у натури","Обавезе по основу доприноса за пензијско и инвалидско осигурање за накнаде у натури","Обавезе по основу доприноса за пензијско и инвалидско осигурање за накнаде у натури","Обавезе по основу доприноса за пензијско и инвалидско осигурање за накнаде у натури","Обавезе по основу доприноса за пензијско и инвалидско осигурање за накнаде у натури","Обавезе по основу доприноса за пензијско и инвалидско осигурање за накнаде у натури","Обавезе по основу доприноса за пензијско и инвалидско осигурање за накнаде у натури","Обавезе по основу доприноса за пензијско и инвалидско осигурање за накнаде у натури","Обавезе по основу доприноса за пензијско и инвалидско осигурање за накнаде у натури","Обавезе по основу доприноса за пензијско и инвалидско осигурање за накнаде у натури",{"$f":"UnObr1!F162","v":0},null,null,null,null,null,null,null,null,null,{"$f":"UnObr1!G162","v":0}]
[1154,null,null,237100,235300,235300,235300,"Обавезе по основу нето исплата за службена путовања","Обавезе по основу доприноса за пензијско и инвалидско осигурање за накнаде у натури","Обавезе по основу доприноса за пензијско и инвалидско осигурање за накнаде у натури","Обавезе по основу доприноса за пензијско и инвалидско осигурање за накнаде у натури","Обавезе по основу доприноса за пензијско и инвалидско осигурање за накнаде у натури","Обавезе по основу доприноса за пензијско и инвалидско осигурање за накнаде у натури","Обавезе по основу доприноса за пензијско и инвалидско осигурање за накнаде у натури","Обавезе по основу доприноса за пензијско и инвалидско осигурање за накнаде у натури","Обавезе по основу доприноса за пензијско и инвалидско осигурање за накнаде у натури","Обавезе по основу доприноса за пензијско и инвалидско осигурање за накнаде у натури","Обавезе по основу доприноса за пензијско и инвалидско осигурање за накнаде у натури","Обавезе по основу доприноса за пензијско и инвалидско осигурање за накнаде у натури","Обавезе по основу доприноса за пензијско и инвалидско осигурање за накнаде у натури","Обавезе по основу доприноса за пензијско и инвалидско осигурање за накнаде у натури","Обавезе по основу доприноса за пензијско и инвалидско осигурање за накнаде у натури","Обавезе по основу доприноса за пензијско и инвалидско осигурање за накнаде у натури","Обавезе по основу доприноса за пензијско и инвалидско осигурање за накнаде у натури",{"$f":"UnObr1!F163","v":0},null,null,null,null,null,null,null,null,null,{"$f":"UnObr1!G163","v":0}]
[1155,null,null,237200,235300,235300,235300,"Обавезе по основу пореза на исплате за службена \nпутовања ","Обавезе по основу доприноса за пензијско и инвалидско осигурање за накнаде у натури","Обавезе по основу доприноса за пензијско и инвалидско осигурање за накнаде у натури","Обавезе по основу доприноса за пензијско и инвалидско осигурање за накнаде у натури","Обавезе по основу доприноса за пензијско и инвалидско осигурање за накнаде у натури","Обавезе по основу доприноса за пензијско и инвалидско осигурање за накнаде у натури","Обавезе по основу доприноса за пензијско и инвалидско осигурање за накнаде у натури","Обавезе по основу доприноса за пензијско и инвалидско осигурање за накнаде у натури","Обавезе по основу доприноса за пензијско и инвалидско осигурање за накнаде у натури","Обавезе по основу доприноса за пензијско и инвалидско осигурање за накнаде у натури","Обавезе по основу доприноса за пензијско и инвалидско осигурање за накнаде у натури","Обавезе по основу доприноса за пензијско и инвалидско осигурање за накнаде у натури","Обавезе по основу доприноса за пензијско и инвалидско осигурање за накнаде у натури","Обавезе по основу доприноса за пензијско и инвалидско осигурање за накнаде у натури","Обавезе по основу доприноса за пензијско и инвалидско осигурање за накнаде у натури","Обавезе по основу доприноса за пензијско и инвалидско осигурање за накнаде у натури","Обавезе по основу доприноса за пензијско и инвалидско осигурање за накнаде у натури",{"$f":"UnObr1!F164","v":0},null,null,null,null,null,null,null,null,null,{"$f":"UnObr1!G164","v":0}]
[1156,null,null,237300,235300,235300,235300,"Обавезе по основу нето исплата за услуге по уговору","Обавезе по основу доприноса за пензијско и инвалидско осигурање за накнаде у натури","Обавезе по основу доприноса за пензијско и инвалидско осигурање за накнаде у натури","Обавезе по основу доприноса за пензијско и инвалидско осигурање за накнаде у натури","Обавезе по основу доприноса за пензијско и инвалидско осигурање за накнаде у натури","Обавезе по основу доприноса за пензијско и инвалидско осигурање за накнаде у натури","Обавезе по основу доприноса за пензијско и инвалидско осигурање за накнаде у натури","Обавезе по основу доприноса за пензијско и инвалидско осигурање за накнаде у натури","Обавезе по основу доприноса за пензијско и инвалидско осигурање за накнаде у натури","Обавезе по основу доприноса за пензијско и инвалидско осигурање за накнаде у натури","Обавезе по основу доприноса за пензијско и инвалидско осигурање за накнаде у натури","Обавезе по основу доприноса за пензијско и инвалидско осигурање за накнаде у натури","Обавезе по основу доприноса за пензијско и инвалидско осигурање за накнаде у натури","Обавезе по основу доприноса за пензијско и инвалидско осигурање за накнаде у натури","Обавезе по основу доприноса за пензијско и инвалидско осигурање за накнаде у натури","Обавезе по основу доприноса за пензијско и инвалидско осигурање за накнаде у натури","Обавезе по основу доприноса за пензијско и инвалидско осигурање за накнаде у натури",{"$f":"UnObr1!F165","v":0},null,null,null,null,null,null,null,null,null,{"$f":"UnObr1!G165","v":0}]
[1157,null,null,237400,235300,235300,235300,"Обавезе по основу пореза на исплате за услуге по \nуговору","Обавезе по основу доприноса за пензијско и инвалидско осигурање за накнаде у натури","Обавезе по основу доприноса за пензијско и инвалидско осигурање за накнаде у натури","Обавезе по основу доприноса за пензијско и инвалидско осигурање за накнаде у натури","Обавезе по основу доприноса за пензијско и инвалидско осигурање за накнаде у натури","Обавезе по основу доприноса за пензијско и инвалидско осигурање за накнаде у натури","Обавезе по основу доприноса за пензијско и инвалидско осигурање за накнаде у натури","Обавезе по основу доприноса за пензијско и инвалидско осигурање за накнаде у натури","Обавезе по основу доприноса за пензијско и инвалидско осигурање за накнаде у натури","Обавезе по основу доприноса за пензијско и инвалидско осигурање за накнаде у натури","Обавезе по основу доприноса за пензијско и инвалидско осигурање за накнаде у натури","Обавезе по основу доприноса за пензијско и инвалидско осигурање за накнаде у натури","Обавезе по основу доприноса за пензијско и инвалидско осигурање за накнаде у натури","Обавезе по основу доприноса за пензијско и инвалидско осигурање за накнаде у натури","Обавезе по основу доприноса за пензијско и инвалидско осигурање за накнаде у натури","Обавезе по основу доприноса за пензијско и инвалидско осигурање за накнаде у натури","Обавезе по основу доприноса за пензијско и инвалидско осигурање за накнаде у натури",{"$f":"UnObr1!F166","v":0},null,null,null,null,null,null,null,null,null,{"$f":"UnObr1!G166","v":0}]
[1158,null,null,237500,235300,235300,235300,"Обавезе по основу доприноса за пензијско и \nинвалидско осигурање за услуге по уговору","Обавезе по основу доприноса за пензијско и инвалидско осигурање за накнаде у натури","Обавезе по основу доприноса за пензијско и инвалидско осигурање за накнаде у натури","Обавезе по основу доприноса за пензијско и инвалидско осигурање за накнаде у натури","Обавезе по основу доприноса за пензијско и инвалидско осигурање за накнаде у натури","Обавезе по основу доприноса за пензијско и инвалидско осигурање за накнаде у натури","Обавезе по основу доприноса за пензијско и инвалидско осигурање за накнаде у натури","Обавезе по основу доприноса за пензијско и инвалидско осигурање за накнаде у натури","Обавезе по основу доприноса за пензијско и инвалидско осигурање за накнаде у натури","Обавезе по основу доприноса за пензијско и инвалидско осигурање за накнаде у натури","Обавезе по основу доприноса за пензијско и инвалидско осигурање за накнаде у натури","Обавезе по основу доприноса за пензијско и инвалидско осигурање за накнаде у натури","Обавезе по основу доприноса за пензијско и инвалидско осигурање за накнаде у натури","Обавезе по основу доприноса за пензијско и инвалидско осигурање за накнаде у натури","Обавезе по основу доприноса за пензијско и инвалидско осигурање за накнаде у натури","Обавезе по основу доприноса за пензијско и инвалидско осигурање за накнаде у натури","Обавезе по основу доприноса за пензијско и инвалидско осигурање за накнаде у натури",{"$f":"UnObr1!F167","v":0},null,null,null,null,null,null,null,null,null,{"$f":"UnObr1!G167","v":0}]
[1159,null,null,237600,235300,235300,235300,"Обавезе по основу доприноса за здравствено осигурање \nза услуге по уговору","Обавезе по основу доприноса за пензијско и инвалидско осигурање за накнаде у натури","Обавезе по основу доприноса за пензијско и инвалидско осигурање за накнаде у натури","Обавезе по основу доприноса за пензијско и инвалидско осигурање за накнаде у натури","Обавезе по основу доприноса за пензијско и инвалидско осигурање за накнаде у натури","Обавезе по основу доприноса за пензијско и инвалидско осигурање за накнаде у натури","Обавезе по основу доприноса за пензијско и инвалидско осигурање за накнаде у натури","Обавезе по основу доприноса за пензијско и инвалидско осигурање за накнаде у натури","Обавезе по основу доприноса за пензијско и инвалидско осигурање за накнаде у натури","Обавезе по основу доприноса за пензијско и инвалидско осигурање за накнаде у натури","Обавезе по основу доприноса за пензијско и инвалидско осигурање за накнаде у натури","Обавезе по основу доприноса за пензијско и инвалидско осигурање за накнаде у натури","Обавезе по основу доприноса за пензијско и инвалидско осигурање за накнаде у натури","Обавезе по основу доприноса за пензијско и инвалидско осигурање за накнаде у натури","Обавезе по основу доприноса за пензијско и инвалидско осигурање за накнаде у натури","Обавезе по основу доприноса за пензијско и инвалидско осигурање за накнаде у натури","Обавезе по основу доприноса за пензијско и инвалидско осигурање за накнаде у натури",{"$f":"UnObr1!F168","v":0},null,null,null,null,null,null,null,null,null,{"$f":"UnObr1!G168","v":0}]
[1160,null,null,237700,235300,235300,235300,"Обавезе по основу доприноса за случај незапослености \nза услуге по уговору","Обавезе по основу доприноса за пензијско и инвалидско осигурање за накнаде у натури","Обавезе по основу доприноса за пензијско и инвалидско осигурање за накнаде у натури","Обавезе по основу доприноса за пензијско и инвалидско осигурање за накнаде у натури","Обавезе по основу доприноса за пензијско и инвалидско осигурање за накнаде у натури","Обавезе по основу доприноса за пензијско и инвалидско осигурање за накнаде у натури","Обавезе по основу доприноса за пензијско и инвалидско осигурање за накнаде у натури","Обавезе по основу доприноса за пензијско и инвалидско осигурање за накнаде у натури","Обавезе по основу доприноса за пензијско и инвалидско осигурање за накнаде у натури","Обавезе по основу доприноса за пензијско и инвалидско осигурање за накнаде у натури","Обавезе по основу доприноса за пензијско и инвалидско осигурање за накнаде у натури","Обавезе по основу доприноса за пензијско и инвалидско осигурање за накнаде у натури","Обавезе по основу доприноса за пензијско и инвалидско осигурање за накнаде у натури","Обавезе по основу доприноса за пензијско и инвалидско осигурање за накнаде у натури","Обавезе по основу доприноса за пензијско и инвалидско осигурање за накнаде у натури","Обавезе по основу доприноса за пензијско и инвалидско осигурање за накнаде у натури","Обавезе по основу доприноса за пензијско и инвалидско осигурање за накнаде у натури",{"$f":"UnObr1!F169","v":0},null,null,null,null,null,null,null,null,null,{"$f":"UnObr1!G169","v":0}]
["Ознака\nОП",null,null,"Број\nконта",null,null,null,"Опис",null,null,null,null,null,null,null,null,null,null,null,null,null,null,null,null,"Износ"]
[]
[null,null,null,null,null,null,null,null,null,null,null,null,null,null,null,null,null,null,null,null,null,null,null,null,"Претходна година",null,null,null,null,null,null,null,null,null,"Текућа година"]
[]
[1,null,null,2,null,null,null,3,null,null,null,null,null,null,null,null,null,null,null,null,null,null,null,null,4,null,null,null,null,null,null,null,null,5,5]
[1161,null,null,238000,235300,235300,235300,"ОБАВЕЗЕ ПО ОСНОВУ ПОСЛАНИЧКИХ ДОДАТАКА (од 1162 до 1166)","Обавезе по основу доприноса за пензијско и инвалидско осигурање за накнаде у натури","Обавезе по основу доприноса за пензијско и инвалидско осигурање за накнаде у натури","Обавезе по основу доприноса за пензијско и инвалидско осигурање за накнаде у натури","Обавезе по основу доприноса за пензијско и инвалидско осигурање за накнаде у натури","Обавезе по основу доприноса за пензијско и инвалидско осигурање за накнаде у натури","Обавезе по основу доприноса за пензијско и инвалидско осигурање за накнаде у натури","Обавезе по основу доприноса за пензијско и инвалидско осигурање за накнаде у натури","Обавезе по основу доприноса за пензијско и инвалидско осигурање за накнаде у натури","Обавезе по основу доприноса за пензијско и инвалидско осигурање за накнаде у натури","Обавезе по основу доприноса за пензијско и инвалидско осигурање за накнаде у натури","Обавезе по основу доприноса за пензијско и инвалидско осигурање за накнаде у натури","Обавезе по основу доприноса за пензијско и инвалидско осигурање за накнаде у натури","Обавезе по основу доприноса за пензијско и инвалидско осигурање за накнаде у натури","Обавезе по основу доприноса за пензијско и инвалидско осигурање за накнаде у натури","Обавезе по основу доприноса за пензијско и инвалидско осигурање за накнаде у натури","Обавезе по основу доприноса за пензијско и инвалидско осигурање за накнаде у натури",{"$f":"UnObr1!F170","v":0},null,null,null,null,null,null,null,null,null,{"$f":"UnObr1!G170","v":0}]
[1162,null,null,238100,235300,235300,235300,"Обавезе за нето исплаћени посланички додатак","Обавезе по основу доприноса за пензијско и инвалидско осигурање за накнаде у натури","Обавезе по основу доприноса за пензијско и инвалидско осигурање за накнаде у натури","Обавезе по основу доприноса за пензијско и инвалидско осигурање за накнаде у натури","Обавезе по основу доприноса за пензијско и инвалидско осигурање за накнаде у натури","Обавезе по основу доприноса за пензијско и инвалидско осигурање за накнаде у натури","Обавезе по основу доприноса за пензијско и инвалидско осигурање за накнаде у натури","Обавезе по основу доприноса за пензијско и инвалидско осигурање за накнаде у натури","Обавезе по основу доприноса за пензијско и инвалидско осигурање за накнаде у натури","Обавезе по основу доприноса за пензијско и инвалидско осигурање за накнаде у натури","Обавезе по основу доприноса за пензијско и инвалидско осигурање за накнаде у натури","Обавезе по основу доприноса за пензијско и инвалидско осигурање за накнаде у натури","Обавезе по основу доприноса за пензијско и инвалидско осигурање за накнаде у натури","Обавезе по основу доприноса за пензијско и инвалидско осигурање за накнаде у натури","Обавезе по основу доприноса за пензијско и инвалидско осигурање за накнаде у натури","Обавезе по основу доприноса за пензијско и инвалидско осигурање за накнаде у натури","Обавезе по основу доприноса за пензијско и инвалидско осигурање за накнаде у натури",{"$f":"UnObr1!F171","v":0},null,null,null,null,null,null,null,null,null,{"$f":"UnObr1!G171","v":0}]
[1163,null,null,238200,235300,235300,235300,"Обавезе по основу пореза на исплаћени посланички додатак","Обавезе по основу доприноса за пензијско и инвалидско осигурање за накнаде у натури","Обавезе по основу доприноса за пензијско и инвалидско осигурање за накнаде у натури","Обавезе по основу доприноса за пензијско и инвалидско осигурање за накнаде у натури","Обавезе по основу доприноса за пензијско и инвалидско осигурање за накнаде у натури","Обавезе по основу доприноса за пензијско и инвалидско осигурање за накнаде у натури","Обавезе по основу доприноса за пензијско и инвалидско осигурање за накнаде у натури","Обавезе по основу доприноса за пензијско и инвалидско осигурање за накнаде у натури","Обавезе по основу доприноса за пензијско и инвалидско осигурање за накнаде у натури","Обавезе по основу доприноса за пензијско и инвалидско осигурање за накнаде у натури","Обавезе по основу доприноса за пензијско и инвалидско осигурање за накнаде у натури","Обавезе по основу доприноса за пензијско и инвалидско осигурање за накнаде у натури","Обавезе по основу доприноса за пензијско и инвалидско осигурање за накнаде у натури","Обавезе по основу доприноса за пензијско и инвалидско осигурање за накнаде у натури","Обавезе по основу доприноса за пензијско и инвалидско осигурање за накнаде у натури","Обавезе по основу доприноса за пензијско и инвалидско осигурање за накнаде у натури","Обавезе по основу доприноса за пензијско и инвалидско осигурање за накнаде у натури",{"$f":"UnObr1!F172","v":0},null,null,null,null,null,null,null,null,null,{"$f":"UnObr1!G172","v":0}]
[1164,null,null,238300,235300,235300,235300,"Обавезе по основу доприноса за пензијско и инвалидско осигурање за посланички додатак","Обавезе по основу доприноса за пензијско и инвалидско осигурање за накнаде у натури","Обавезе по основу доприноса за пензијско и инвалидско осигурање за накнаде у натури","Обавезе по основу доприноса за пензијско и инвалидско осигурање за накнаде у натури","Обавезе по основу доприноса за пензијско и инвалидско осигурање за накнаде у натури","Обавезе по основу доприноса за пензијско и инвалидско осигурање за накнаде у натури","Обавезе по основу доприноса за пензијско и инвалидско осигурање за накнаде у натури","Обавезе по основу доприноса за пензијско и инвалидско осигурање за накнаде у натури","Обавезе по основу доприноса за пензијско и инвалидско осигурање за накнаде у натури","Обавезе по основу доприноса за пензијско и инвалидско осигурање за накнаде у натури","Обавезе по основу доприноса за пензијско и инвалидско осигурање за накнаде у натури","Обавезе по основу доприноса за пензијско и инвалидско осигурање за накнаде у натури","Обавезе по основу доприноса за пензијско и инвалидско осигурање за накнаде у натури","Обавезе по основу доприноса за пензијско и инвалидско осигурање за накнаде у натури","Обавезе по основу доприноса за пензијско и инвалидско осигурање за накнаде у натури","Обавезе по основу доприноса за пензијско и инвалидско осигурање за накнаде у натури","Обавезе по основу доприноса за пензијско и инвалидско осигурање за накнаде у натури",{"$f":"UnObr1!F173","v":0},null,null,null,null,null,null,null,null,null,{"$f":"UnObr1!G173","v":0}]
[1165,null,null,238400,235300,235300,235300,"Обавезе по основу доприноса за здравствено осигурање \nза посланички додатак","Обавезе по основу доприноса за пензијско и инвалидско осигурање за накнаде у натури","Обавезе по основу доприноса за пензијско и инвалидско осигурање за накнаде у натури","Обавезе по основу доприноса за пензијско и инвалидско осигурање за накнаде у натури","Обавезе по основу доприноса за пензијско и инвалидско осигурање за накнаде у натури","Обавезе по основу доприноса за пензијско и инвалидско осигурање за накнаде у натури","Обавезе по основу доприноса за пензијско и инвалидско осигурање за накнаде у натури","Обавезе по основу доприноса за пензијско и инвалидско осигурање за накнаде у натури","Обавезе по основу доприноса за пензијско и инвалидско осигурање за накнаде у натури","Обавезе по основу доприноса за пензијско и инвалидско осигурање за накнаде у натури","Обавезе по основу доприноса за пензијско и инвалидско осигурање за накнаде у натури","Обавезе по основу доприноса за пензијско и инвалидско осигурање за накнаде у натури","Обавезе по основу доприноса за пензијско и инвалидско осигурање за накнаде у натури","Обавезе по основу доприноса за пензијско и инвалидско осигурање за накнаде у натури","Обавезе по основу доприноса за пензијско и инвалидско осигурање за накнаде у натури","Обавезе по основу доприноса за пензијско и инвалидско осигурање за накнаде у натури","Обавезе по основу доприноса за пензијско и инвалидско осигурање за накнаде у натури",{"$f":"UnObr1!F174","v":0},null,null,null,null,null,null,null,null,null,{"$f":"UnObr1!G174","v":0}]
[1166,null,null,238500,235300,235300,235300,"Обавезе по основу доприноса за случај незапослености \nза посланички додатак","Обавезе по основу доприноса за пензијско и инвалидско осигурање за накнаде у натури","Обавезе по основу доприноса за пензијско и инвалидско осигурање за накнаде у натури","Обавезе по основу доприноса за пензијско и инвалидско осигурање за накнаде у натури","Обавезе по основу доприноса за пензијско и инвалидско осигурање за накнаде у натури","Обавезе по основу доприноса за пензијско и инвалидско осигурање за накнаде у натури","Обавезе по основу доприноса за пензијско и инвалидско осигурање за накнаде у натури","Обавезе по основу доприноса за пензијско и инвалидско осигурање за накнаде у натури","Обавезе по основу доприноса за пензијско и инвалидско осигурање за накнаде у натури","Обавезе по основу доприноса за пензијско и инвалидско осигурање за накнаде у натури","Обавезе по основу доприноса за пензијско и инвалидско осигурање за накнаде у натури","Обавезе по основу доприноса за пензијско и инвалидско осигурање за накнаде у натури","Обавезе по основу доприноса за пензијско и инвалидско осигурање за накнаде у натури","Обавезе по основу доприноса за пензијско и инвалидско осигурање за накнаде у натури","Обавезе по основу доприноса за пензијско и инвалидско осигурање за накнаде у натури","Обавезе по основу доприноса за пензијско и инвалидско осигурање за накнаде у натури","Обавезе по основу доприноса за пензијско и инвалидско осигурање за накнаде у натури",{"$f":"UnObr1!F175","v":0},null,null,null,null,null,null,null,null,null,{"$f":"UnObr1!G175","v":0}]
[1167,null,null,239000,235300,235300,235300,"ОБАВЕЗЕ ПО ОСНОВУ СУДИЈСКИХ ДОДАТАКА (од 1168 до 1172)","Обавезе по основу доприноса за пензијско и инвалидско осигурање за накнаде у натури","Обавезе по основу доприноса за пензијско и инвалидско осигурање за накнаде у натури","Обавезе по основу доприноса за пензијско и инвалидско осигурање за накнаде у натури","Обавезе по основу доприноса за пензијско и инвалидско осигурање за накнаде у натури","Обавезе по основу доприноса за пензијско и инвалидско осигурање за накнаде у натури","Обавезе по основу доприноса за пензијско и инвалидско осигурање за накнаде у натури","Обавезе по основу доприноса за пензијско и инвалидско осигурање за накнаде у натури","Обавезе по основу доприноса за пензијско и инвалидско осигурање за накнаде у натури","Обавезе по основу доприноса за пензијско и инвалидско осигурање за накнаде у натури","Обавезе по основу доприноса за пензијско и инвалидско осигурање за накнаде у натури","Обавезе по основу доприноса за пензијско и инвалидско осигурање за накнаде у натури","Обавезе по основу доприноса за пензијско и инвалидско осигурање за накнаде у натури","Обавезе по основу доприноса за пензијско и инвалидско осигурање за накнаде у натури","Обавезе по основу доприноса за пензијско и инвалидско осигурање за накнаде у натури","Обавезе по основу доприноса за пензијско и инвалидско осигурање за накнаде у натури","Обавезе по основу доприноса за пензијско и инвалидско осигурање за накнаде у натури",{"$f":"UnObr1!F176","v":0},null,null,null,null,null,null,null,null,null,{"$f":"UnObr1!G176","v":0}]
[1168,null,null,239100,235300,235300,235300,"Обавезе за нето исплаћени судијски додатак","Обавезе по основу доприноса за пензијско и инвалидско осигурање за накнаде у натури","Обавезе по основу доприноса за пензијско и инвалидско осигурање за накнаде у натури","Обавезе по основу доприноса за пензијско и инвалидско осигурање за накнаде у натури","Обавезе по основу доприноса за пензијско и инвалидско осигурање за накнаде у натури","Обавезе по основу доприноса за пензијско и инвалидско осигурање за накнаде у натури","Обавезе по основу доприноса за пензијско и инвалидско осигурање за накнаде у натури","Обавезе по основу доприноса за пензијско и инвалидско осигурање за накнаде у натури","Обавезе по основу доприноса за пензијско и инвалидско осигурање за накнаде у натури","Обавезе по основу доприноса за пензијско и инвалидско осигурање за накнаде у натури","Обавезе по основу доприноса за пензијско и инвалидско осигурање за накнаде у натури","Обавезе по основу доприноса за пензијско и инвалидско осигурање за накнаде у натури","Обавезе по основу доприноса за пензијско и инвалидско осигурање за накнаде у натури","Обавезе по основу доприноса за пензијско и инвалидско осигурање за накнаде у натури","Обавезе по основу доприноса за пензијско и инвалидско осигурање за накнаде у натури","Обавезе по основу доприноса за пензијско и инвалидско осигурање за накнаде у натури","Обавезе по основу доприноса за пензијско и инвалидско осигурање за накнаде у натури",{"$f":"UnObr1!F177","v":0},null,null,null,null,null,null,null,null,null,{"$f":"UnObr1!G177","v":0}]
[1169,null,null,239200,235300,235300,235300,"Обавезе по основу пореза на исплаћени судијски \nдодатак","Обавезе по основу доприноса за пензијско и инвалидско осигурање за накнаде у натури","Обавезе по основу доприноса за пензијско и инвалидско осигурање за накнаде у натури","Обавезе по основу доприноса за пензијско и инвалидско осигурање за накнаде у натури","Обавезе по основу доприноса за пензијско и инвалидско осигурање за накнаде у натури","Обавезе по основу доприноса за пензијско и инвалидско осигурање за накнаде у натури","Обавезе по основу доприноса за пензијско и инвалидско осигурање за накнаде у натури","Обавезе по основу доприноса за пензијско и инвалидско осигурање за накнаде у натури","Обавезе по основу доприноса за пензијско и инвалидско осигурање за накнаде у натури","Обавезе по основу доприноса за пензијско и инвалидско осигурање за накнаде у натури","Обавезе по основу доприноса за пензијско и инвалидско осигурање за накнаде у натури","Обавезе по основу доприноса за пензијско и инвалидско осигурање за накнаде у натури","Обавезе по основу доприноса за пензијско и инвалидско осигурање за накнаде у натури","Обавезе по основу доприноса за пензијско и инвалидско осигурање за накнаде у натури","Обавезе по основу доприноса за пензијско и инвалидско осигурање за накнаде у натури","Обавезе по основу доприноса за пензијско и инвалидско осигурање за накнаде у натури","Обавезе по основу доприноса за пензијско и инвалидско осигурање за накнаде у натури",{"$f":"UnObr1!F178","v":0},null,null,null,null,null,null,null,null,null,{"$f":"UnObr1!G178","v":0}]
[1170,null,null,239300,235300,235300,235300,"Обавезе по основу доприноса за пензијско и \nинвалидско осигурање за судијски додатак","Обавезе по основу доприноса за пензијско и инвалидско осигурање за накнаде у натури","Обавезе по основу доприноса за пензијско и инвалидско осигурање за накнаде у натури","Обавезе по основу доприноса за пензијско и инвалидско осигурање за накнаде у натури","Обавезе по основу доприноса за пензијско и инвалидско осигурање за накнаде у натури","Обавезе по основу доприноса за пензијско и инвалидско осигурање за накнаде у натури","Обавезе по основу доприноса за пензијско и инвалидско осигурање за накнаде у натури","Обавезе по основу доприноса за пензијско и инвалидско осигурање за накнаде у натури","Обавезе по основу доприноса за пензијско и инвалидско осигурање за накнаде у натури","Обавезе по основу доприноса за пензијско и инвалидско осигурање за накнаде у натури","Обавезе по основу доприноса за пензијско и инвалидско осигурање за накнаде у натури","Обавезе по основу доприноса за пензијско и инвалидско осигурање за накнаде у натури","Обавезе по основу доприноса за пензијско и инвалидско осигурање за накнаде у натури","Обавезе по основу доприноса за пензијско и инвалидско осигурање за накнаде у натури","Обавезе по основу доприноса за пензијско и инвалидско осигурање за накнаде у натури","Обавезе по основу доприноса за пензијско и инвалидско осигурање за накнаде у натури","Обавезе по основу доприноса за пензијско и инвалидско осигурање за накнаде у натури",{"$f":"UnObr1!F179","v":0},null,null,null,null,null,null,null,null,null,{"$f":"UnObr1!G179","v":0}]
[1171,null,null,239400,235300,235300,235300,"Обавезе по основу доприноса за здравствено осигурање \nза судијски додатак","Обавезе по основу доприноса за пензијско и инвалидско осигурање за накнаде у натури","Обавезе по основу доприноса за пензијско и инвалидско осигурање за накнаде у натури","Обавезе по основу доприноса за пензијско и инвалидско осигурање за накнаде у натури","Обавезе по основу доприноса за пензијско и инвалидско осигурање за накнаде у натури","Обавезе по основу доприноса за пензијско и инвалидско осигурање за накнаде у натури","Обавезе по основу доприноса за пензијско и инвалидско осигурање за накнаде у натури","Обавезе по основу доприноса за пензијско и инвалидско осигурање за накнаде у натури","Обавезе по основу доприноса за пензијско и инвалидско осигурање за накнаде у натури","Обавезе по основу доприноса за пензијско и инвалидско осигурање за накнаде у натури","Обавезе по основу доприноса за пензијско и инвалидско осигурање за накнаде у натури","Обавезе по основу доприноса за пензијско и инвалидско осигурање за накнаде у натури","Обавезе по основу доприноса за пензијско и инвалидско осигурање за накнаде у натури","Обавезе по основу доприноса за пензијско и инвалидско осигурање за накнаде у натури","Обавезе по основу доприноса за пензијско и инвалидско осигурање за накнаде у натури","Обавезе по основу доприноса за пензијско и инвалидско осигурање за накнаде у натури","Обавезе по основу доприноса за пензијско и инвалидско осигурање за накнаде у натури",{"$f":"UnObr1!F180","v":0},null,null,null,null,null,null,null,null,null,{"$f":"UnObr1!G180","v":0}]
[1172,null,null,239500,235300,235300,235300,"Обавезе по основу доприноса за случај незапослености \nза судијски додатак","Обавезе по основу доприноса за пензијско и инвалидско осигурање за накнаде у натури","Обавезе по основу доприноса за пензијско и инвалидско осигурање за накнаде у натури","Обавезе по основу доприноса за пензијско и инвалидско осигурање за накнаде у натури","Обавезе по основу доприноса за пензијско и инвалидско осигурање за накнаде у натури","Обавезе по основу доприноса за пензијско и инвалидско осигурање за накнаде у натури","Обавезе по основу доприноса за пензијско и инвалидско осигурање за накнаде у натури","Обавезе по основу доприноса за пензијско и инвалидско осигурање за накнаде у натури","Обавезе по основу доприноса за пензијско и инвалидско осигурање за накнаде у натури","Обавезе по основу доприноса за пензијско и инвалидско осигурање за накнаде у натури","Обавезе по основу доприноса за пензијско и инвалидско осигурање за накнаде у натури","Обавезе по основу доприноса за пензијско и инвалидско осигурање за накнаде у натури","Обавезе по основу доприноса за пензијско и инвалидско осигурање за накнаде у натури","Обавезе по основу доприноса за пензијско и инвалидско осигурање за накнаде у натури","Обавезе по основу доприноса за пензијско и инвалидско осигурање за накнаде у натури","Обавезе по основу доприноса за пензијско и инвалидско осигурање за накнаде у натури","Обавезе по основу доприноса за пензијско и инвалидско осигурање за накнаде у натури",{"$f":"UnObr1!F181","v":0},null,null,null,null,null,null,null,null,null,{"$f":"UnObr1!G181","v":0}]
[1173,null,null,240000,235300,235300,235300,"ОБАВЕЗЕ ПО ОСНОВУ ОСТАЛИХ РАСХОДА, ИЗУЗЕВ РАСХОДА ЗА ЗАПОСЛЕНЕ \n(1174 + 1179 + 1184 + 1189 + 1192)","Обавезе по основу доприноса за пензијско и инвалидско осигурање за накнаде у натури","Обавезе по основу доприноса за пензијско и инвалидско осигурање за накнаде у натури","Обавезе по основу доприноса за пензијско и инвалидско осигурање за накнаде у натури","Обавезе по основу доприноса за пензијско и инвалидско осигурање за накнаде у натури","Обавезе по основу доприноса за пензијско и инвалидско осигурање за накнаде у натури","Обавезе по основу доприноса за пензијско и инвалидско осигурање за накнаде у натури","Обавезе по основу доприноса за пензијско и инвалидско осигурање за накнаде у натури","Обавезе по основу доприноса за пензијско и инвалидско осигурање за накнаде у натури","Обавезе по основу доприноса за пензијско и инвалидско осигурање за накнаде у натури","Обавезе по основу доприноса за пензијско и инвалидско осигурање за накнаде у натури","Обавезе по основу доприноса за пензијско и инвалидско осигурање за накнаде у натури","Обавезе по основу доприноса за пензијско и инвалидско осигурање за накнаде у натури","Обавезе по основу доприноса за пензијско и инвалидско осигурање за накнаде у натури","Обавезе по основу доприноса за пензијско и инвалидско осигурање за накнаде у натури","Обавезе по основу доприноса за пензијско и инвалидско осигурање за накнаде у натури","Обавезе по основу доприноса за пензијско и инвалидско осигурање за накнаде у натури",{"$f":"UnObr1!F182","v":0},null,null,null,null,null,null,null,null,null,{"$f":"UnObr1!G182","v":0}]
[1174,null,null,241000,235300,235300,235300,"ОБАВЕЗЕ ПО ОСНОВУ ОТПЛАТЕ КАМАТА И ПРАТЕЋИХ ТРОШКОВА ЗАДУЖИВАЊА \n(од 1175 до 1178)","Обавезе по основу доприноса за пензијско и инвалидско осигурање за накнаде у натури","Обавезе по основу доприноса за пензијско и инвалидско осигурање за накнаде у натури","Обавезе по основу доприноса за пензијско и инвалидско осигурање за накнаде у натури","Обавезе по основу доприноса за пензијско и инвалидско осигурање за накнаде у натури","Обавезе по основу доприноса за пензијско и инвалидско осигурање за накнаде у натури","Обавезе по основу доприноса за пензијско и инвалидско осигурање за накнаде у натури","Обавезе по основу доприноса за пензијско и инвалидско осигурање за накнаде у натури","Обавезе по основу доприноса за пензијско и инвалидско осигурање за накнаде у натури","Обавезе по основу доприноса за пензијско и инвалидско осигурање за накнаде у натури","Обавезе по основу доприноса за пензијско и инвалидско осигурање за накнаде у натури","Обавезе по основу доприноса за пензијско и инвалидско осигурање за накнаде у натури","Обавезе по основу доприноса за пензијско и инвалидско осигурање за накнаде у натури","Обавезе по основу доприноса за пензијско и инвалидско осигурање за накнаде у натури","Обавезе по основу доприноса за пензијско и инвалидско осигурање за накнаде у натури","Обавезе по основу доприноса за пензијско и инвалидско осигурање за накнаде у натури","Обавезе по основу доприноса за пензијско и инвалидско осигурање за накнаде у натури",{"$f":"UnObr1!F183","v":0},null,null,null,null,null,null,null,null,null,{"$f":"UnObr1!G183","v":0}]
[1175,null,null,241100,242100,242100,242100,"Обавезе по основу отплате домаћих камата","Обавезе по основу субвенција нефинансијским предузећима","Обавезе по основу субвенција нефинансијским предузећима","Обавезе по основу субвенција нефинансијским предузећима","Обавезе по основу субвенција нефинансијским предузећима","Обавезе по основу субвенција нефинансијским предузећима","Обавезе по основу субвенција нефинансијским предузећима","Обавезе по основу субвенција нефинансијским предузећима","Обавезе по основу субвенција нефинансијским предузећима","Обавезе по основу субвенција нефинансијским предузећима","Обавезе по основу субвенција нефинансијским предузећима","Обавезе по основу субвенција нефинансијским предузећима","Обавезе по основу субвенција нефинансијским предузећима","Обавезе по основу субвенција нефинансијским предузећима","Обавезе по основу субвенција нефинансијским предузећима","Обавезе по основу субвенција нефинансијским предузећима","Обавезе по основу субвенција нефинансијским предузећима",{"$f":"UnObr1!F184","v":0},null,null,null,null,null,null,null,null,null,{"$f":"UnObr1!G184","v":0}]
[1176,null,null,241200,242100,242100,242100,"Обавезе по основу отплате страних камата","Обавезе по основу субвенција нефинансијским предузећима","Обавезе по основу субвенција нефинансијским предузећима","Обавезе по основу субвенција нефинансијским предузећима","Обавезе по основу субвенција нефинансијским предузећима","Обавезе по основу субвенција нефинансијским предузећима","Обавезе по основу субвенција нефинансијским предузећима","Обавезе по основу субвенција нефинансијским предузећима","Обавезе по основу субвенција нефинансијским предузећима","Обавезе по основу субвенција нефинансијским предузећима","Обавезе по основу субвенција нефинансијским предузећима","Обавезе по основу субвенција нефинансијским предузећима","Обавезе по основу субвенција нефинансијским предузећима","Обавезе по основу субвенција нефинансијским предузећима","Обавезе по основу субвенција нефинансијским предузећима","Обавезе по основу субвенција нефинансијским предузећима","Обавезе по основу субвенција нефинансијским предузећима",{"$f":"UnObr1!F185","v":0},null,null,null,null,null,null,null,null,null,{"$f":"UnObr1!G185","v":0}]
[1177,null,null,241300,242100,242100,242100,"Обавезе по основу отплате камата по гаранцијама","Обавезе по основу субвенција нефинансијским предузећима","Обавезе по основу субвенција нефинансијским предузећима","Обавезе по основу субвенција нефинансијским предузећима","Обавезе по основу субвенција нефинансијским предузећима","Обавезе по основу субвенција нефинансијским предузећима","Обавезе по основу субвенција нефинансијским предузећима","Обавезе по основу субвенција нефинансијским предузећима","Обавезе по основу субвенција нефинансијским предузећима","Обавезе по основу субвенција нефинансијским предузећима","Обавезе по основу субвенција нефинансијским предузећима","Обавезе по основу субвенција нефинансијским предузећима","Обавезе по основу субвенција нефинансијским предузећима","Обавезе по основу субвенција нефинансијским предузећима","Обавезе по основу субвенција нефинансијским предузећима","Обавезе по основу субвенција нефинансијским предузећима","Обавезе по основу субвенција нефинансијским предузећима",{"$f":"UnObr1!F186","v":0},null,null,null,null,null,null,null,null,null,{"$f":"UnObr1!G186","v":0}]
[1178,null,null,241400,242100,242100,242100,"Обавезе по основу пратећих трошкова задуживања","Обавезе по основу субвенција нефинансијским предузећима","Обавезе по основу субвенција нефинансијским предузећима","Обавезе по основу субвенција нефинансијским предузећима","Обавезе по основу субвенција нефинансијским предузећима","Обавезе по основу субвенција нефинансијским предузећима","Обавезе по основу субвенција нефинансијским предузећима","Обавезе по основу субвенција нефинансијским предузећима","Обавезе по основу субвенција нефинансијским предузећима","Обавезе по основу субвенција нефинансијским предузећима","Обавезе по основу субвенција нефинансијским предузећима","Обавезе по основу субвенција нефинансијским предузећима","Обавезе по основу субвенција нефинансијским предузећима","Обавезе по основу субвенција нефинансијским предузећима","Обавезе по основу субвенција нефинансијским предузећима","Обавезе по основу субвенција нефинансијским предузећима","Обавезе по основу субвенција нефинансијским предузећима",{"$f":"UnObr1!F187","v":0},null,null,null,null,null,null,null,null,null,{"$f":"UnObr1!G187","v":0}]
[1179,null,null,242000,242100,242100,242100,"ОБАВЕЗЕ ПО ОСНОВУ СУБВЕНЦИЈА \n(од 1180 до 1183)","Обавезе по основу субвенција нефинансијским предузећима","Обавезе по основу субвенција нефинансијским предузећима","Обавезе по основу субвенција нефинансијским предузећима","Обавезе по основу субвенција нефинансијским предузећима","Обавезе по основу субвенција нефинансијским предузећима","Обавезе по основу субвенција нефинансијским предузећима","Обавезе по основу субвенција нефинансијским предузећима","Обавезе по основу субвенција нефинансијским предузећима","Обавезе по основу субвенција нефинансијским предузећима","Обавезе по основу субвенција нефинансијским предузећима","Обавезе по основу субвенција нефинансијским предузећима","Обавезе по основу субвенција нефинансијским предузећима","Обавезе по основу субвенција нефинансијским предузећима","Обавезе по основу субвенција нефинансијским предузећима","Обавезе по основу субвенција нефинансијским предузећима","Обавезе по основу субвенција нефинансијским предузећима",{"$f":"UnObr1!F188","v":0},null,null,null,null,null,null,null,null,null,{"$f":"UnObr1!G188","v":0}]
[1180,null,null,242100,242100,242100,242100,"Обавезе по основу субвенција нефинансијским предузећима","Обавезе по основу субвенција нефинансијским предузећима","Обавезе по основу субвенција нефинансијским предузећима","Обавезе по основу субвенција нефинансијским предузећима","Обавезе по основу субвенција нефинансијским предузећима","Обавезе по основу субвенција нефинансијским предузећима","Обавезе по основу субвенција нефинансијским предузећима","Обавезе по основу субвенција нефинансијским предузећима","Обавезе по основу субвенција нефинансијским предузећима","Обавезе по основу субвенција нефинансијским предузећима","Обавезе по основу субвенција нефинансијским предузећима","Обавезе по основу субвенција нефинансијским предузећима","Обавезе по основу субвенција нефинансијским предузећима","Обавезе по основу субвенција нефинансијским предузећима","Обавезе по основу субвенција нефинансијским предузећима","Обавезе по основу субвенција нефинансијским предузећима","Обавезе по основу субвенција нефинансијским предузећима",{"$f":"UnObr1!F189","v":0},null,null,null,null,null,null,null,null,null,{"$f":"UnObr1!G189","v":0}]
[1181,null,null,242200,242100,242100,242100,"Обавезе по основу субвенција приватним \nфинансијским предузећима","Обавезе по основу субвенција нефинансијским предузећима","Обавезе по основу субвенција нефинансијским предузећима","Обавезе по основу субвенција нефинансијским предузећима","Обавезе по основу субвенција нефинансијским предузећима","Обавезе по основу субвенција нефинансијским предузећима","Обавезе по основу субвенција нефинансијским предузећима","Обавезе по основу субвенција нефинансијским предузећима","Обавезе по основу субвенција нефинансијским предузећима","Обавезе по основу субвенција нефинансијским предузећима","Обавезе по основу субвенција нефинансијским предузећима","Обавезе по основу субвенција нефинансијским предузећима","Обавезе по основу субвенција нефинансијским предузећима","Обавезе по основу субвенција нефинансијским предузећима","Обавезе по основу субвенција нефинансијским предузећима","Обавезе по основу субвенција нефинансијским предузећима","Обавезе по основу субвенција нефинансијским предузећима",{"$f":"UnObr1!F190","v":0},null,null,null,null,null,null,null,null,null,{"$f":"UnObr1!G190","v":0}]
[1182,null,null,242300,242100,242100,242100,"Обавезе по основу субвенција јавним финансијским установама","Обавезе по основу субвенција нефинансијским предузећима","Обавезе по основу субвенција нефинансијским предузећима","Обавезе по основу субвенција нефинансијским предузећима","Обавезе по основу субвенција нефинансијским предузећима","Обавезе по основу субвенција нефинансијским предузећима","Обавезе по основу субвенција нефинансијским предузећима","Обавезе по основу субвенција нефинансијским предузећима","Обавезе по основу субвенција нефинансијским предузећима","Обавезе по основу субвенција нефинансијским предузећима","Обавезе по основу субвенција нефинансијским предузећима","Обавезе по основу субвенција нефинансијским предузећима","Обавезе по основу субвенција нефинансијским предузећима","Обавезе по основу субвенција нефинансијским предузећима","Обавезе по основу субвенција нефинансијским предузећима","Обавезе по основу субвенција нефинансијским предузећима","Обавезе по основу субвенција нефинансијским предузећима",{"$f":"UnObr1!F191","v":0},null,null,null,null,null,null,null,null,null,{"$f":"UnObr1!G191","v":0}]
[1183,null,null,242400,242100,242100,242100,"Обавезе по основу субвенција приватним предузећима","Обавезе по основу субвенција нефинансијским предузећима","Обавезе по основу субвенција нефинансијским предузећима","Обавезе по основу субвенција нефинансијским предузећима","Обавезе по основу субвенција нефинансијским предузећима","Обавезе по основу субвенција нефинансијским предузећима","Обавезе по основу субвенција нефинансијским предузећима","Обавезе по основу субвенција нефинансијским предузећима","Обавезе по основу субвенција нефинансијским предузећима","Обавезе по основу субвенција нефинансијским предузећима","Обавезе по основу субвенција нефинансијским предузећима","Обавезе по основу субвенција нефинансијским предузећима","Обавезе по основу субвенција нефинансијским предузећима","Обавезе по основу субвенција нефинансијским предузећима","Обавезе по основу субвенција нефинансијским предузећима","Обавезе по основу субвенција нефинансијским предузећима","Обавезе по основу субвенција нефинансијским предузећима",{"$f":"UnObr1!F192","v":0},null,null,null,null,null,null,null,null,null,{"$f":"UnObr1!G192","v":0}]
[1184,null,null,243000,242100,242100,242100,"ОБАВЕЗЕ ПО ОСНОВУ ДОНАЦИЈА, ДОТАЦИЈА И ТРАНСФЕРА (од 1185 до 1188)","Обавезе по основу субвенција нефинансијским предузећима","Обавезе по основу субвенција нефинансијским предузећима","Обавезе по основу субвенција нефинансијским предузећима","Обавезе по основу субвенција нефинансијским предузећима","Обавезе по основу субвенција нефинансијским предузећима","Обавезе по основу субвенција нефинансијским предузећима","Обавезе по основу субвенција нефинансијским предузећима","Обавезе по основу субвенција нефинансијским предузећима","Обавезе по основу субвенција нефинансијским предузећима","Обавезе по основу субвенција нефинансијским предузећима","Обавезе по основу субвенција нефинансијским предузећима","Обавезе по основу субвенција нефинансијским предузећима","Обавезе по основу субвенција нефинансијским предузећима","Обавезе по основу субвенција нефинансијским предузећима","Обавезе по основу субвенција нефинансијским предузећима","Обавезе по основу субвенција нефинансијским предузећима",{"$f":"UnObr1!F193","v":0},null,null,null,null,null,null,null,null,null,{"$f":"UnObr1!G193","v":0}]
[1185,null,null,243100,242100,242100,242100,"Обавезе по основу донација страним владама","Обавезе по основу субвенција нефинансијским предузећима","Обавезе по основу субвенција нефинансијским предузећима","Обавезе по основу субвенција нефинансијским предузећима","Обавезе по основу субвенција нефинансијским предузећима","Обавезе по основу субвенција нефинансијским предузећима","Обавезе по основу субвенција нефинансијским предузећима","Обавезе по основу субвенција нефинансијским предузећима","Обавезе по основу субвенција нефинансијским предузећима","Обавезе по основу субвенција нефинансијским предузећима","Обавезе по основу субвенција нефинансијским предузећима","Обавезе по основу субвенција нефинансијским предузећима","Обавезе по основу субвенција нефинансијским предузећима","Обавезе по основу субвенција нефинансијским предузећима","Обавезе по основу субвенција нефинансијским предузећима","Обавезе по основу субвенција нефинансијским предузећима","Обавезе по основу субвенција нефинансијским предузећима",{"$f":"UnObr1!F194","v":0},null,null,null,null,null,null,null,null,null,{"$f":"UnObr1!G194","v":0}]
[1186,null,null,243200,242100,242100,242100,"Обавезе по основу дотација међународним \nорганизацијама","Обавезе по основу субвенција нефинансијским предузећима","Обавезе по основу субвенција нефинансијским предузећима","Обавезе по основу субвенција нефинансијским предузећима","Обавезе по основу субвенција нефинансијским предузећима","Обавезе по основу субвенција нефинансијским предузећима","Обавезе по основу субвенција нефинансијским предузећима","Обавезе по основу субвенција нефинансијским предузећима","Обавезе по основу субвенција нефинансијским предузећима","Обавезе по основу субвенција нефинансијским предузећима","Обавезе по основу субвенција нефинансијским предузећима","Обавезе по основу субвенција нефинансијским предузећима","Обавезе по основу субвенција нефинансијским предузећима","Обавезе по основу субвенција нефинансијским предузећима","Обавезе по основу субвенција нефинансијским предузећима","Обавезе по основу субвенција нефинансијским предузећима","Обавезе по основу субвенција нефинансијским предузећима",{"$f":"UnObr1!F195","v":0},null,null,null,null,null,null,null,null,null,{"$f":"UnObr1!G195","v":0}]
[1187,null,null,243300,242100,242100,242100,"Обавезе по основу трансфера осталим нивоима власти","Обавезе по основу субвенција нефинансијским предузећима","Обавезе по основу субвенција нефинансијским предузећима","Обавезе по основу субвенција нефинансијским предузећима","Обавезе по основу субвенција нефинансијским предузећима","Обавезе по основу субвенција нефинансијским предузећима","Обавезе по основу субвенција нефинансијским предузећима","Обавезе по основу субвенција нефинансијским предузећима","Обавезе по основу субвенција нефинансијским предузећима","Обавезе по основу субвенција нефинансијским предузећима","Обавезе по основу субвенција нефинансијским предузећима","Обавезе по основу субвенција нефинансијским предузећима","Обавезе по основу субвенција нефинансијским предузећима","Обавезе по основу субвенција нефинансијским предузећима","Обавезе по основу субвенција нефинансијским предузећима","Обавезе по основу субвенција нефинансијским предузећима","Обавезе по основу субвенција нефинансијским предузећима",{"$f":"UnObr1!F196","v":0},null,null,null,null,null,null,null,null,null,{"$f":"UnObr1!G196","v":0}]
[1188,null,null,243400,242100,242100,242100,"Обавезе по основу дотација организацијама обавезног социјалног осигурања","Обавезе по основу субвенција нефинансијским предузећима","Обавезе по основу субвенција нефинансијским предузећима","Обавезе по основу субвенција нефинансијским предузећима","Обавезе по основу субвенција нефинансијским предузећима","Обавезе по основу субвенција нефинансијским предузећима","Обавезе по основу субвенција нефинансијским предузећима","Обавезе по основу субвенција нефинансијским предузећима","Обавезе по основу субвенција нефинансијским предузећима","Обавезе по основу субвенција нефинансијским предузећима","Обавезе по основу субвенција нефинансијским предузећима","Обавезе по основу субвенција нефинансијским предузећима","Обавезе по основу субвенција нефинансијским предузећима","Обавезе по основу субвенција нефинансијским предузећима","Обавезе по основу субвенција нефинансијским предузећима","Обавезе по основу субвенција нефинансијским предузећима","Обавезе по основу субвенција нефинансијским предузећима",{"$f":"UnObr1!F197","v":0},null,null,null,null,null,null,null,null,null,{"$f":"UnObr1!G197","v":0}]
[1189,null,null,244000,242100,242100,242100,"ОБАВЕЗЕ ЗА СОЦИЈАЛНО ОСИГУРАЊЕ \n(1190 + 1191)","Обавезе по основу субвенција нефинансијским предузећима","Обавезе по основу субвенција нефинансијским предузећима","Обавезе по основу субвенција нефинансијским предузећима","Обавезе по основу субвенција нефинансијским предузећима","Обавезе по основу субвенција нефинансијским предузећима","Обавезе по основу субвенција нефинансијским предузећима","Обавезе по основу субвенција нефинансијским предузећима","Обавезе по основу субвенција нефинансијским предузећима","Обавезе по основу субвенција нефинансијским предузећима","Обавезе по основу субвенција нефинансијским предузећима","Обавезе по основу субвенција нефинансијским предузећима","Обавезе по основу субвенција нефинансијским предузећима","Обавезе по основу субвенција нефинансијским предузећима","Обавезе по основу субвенција нефинансијским предузећима","Обавезе по основу субвенција нефинансијским предузећима","Обавезе по основу субвенција нефинансијским предузећима",{"$f":"UnObr1!F198","v":0},null,null,null,null,null,null,null,null,null,{"$f":"UnObr1!G198","v":0}]
[1190,null,null,244100,242100,242100,242100,"Обавезе по основу права из социјалног осигурања код организација обавезног социјалног осигурања","Обавезе по основу субвенција нефинансијским предузећима","Обавезе по основу субвенција нефинансијским предузећима","Обавезе по основу субвенција нефинансијским предузећима","Обавезе по основу субвенција нефинансијским предузећима","Обавезе по основу субвенција нефинансијским предузећима","Обавезе по основу субвенција нефинансијским предузећима","Обавезе по основу субвенција нефинансијским предузећима","Обавезе по основу субвенција нефинансијским предузећима","Обавезе по основу субвенција нефинансијским предузећима","Обавезе по основу субвенција нефинансијским предузећима","Обавезе по основу субвенција нефинансијским предузећима","Обавезе по основу субвенција нефинансијским предузећима","Обавезе по основу субвенција нефинансијским предузећима","Обавезе по основу субвенција нефинансијским предузећима","Обавезе по основу субвенција нефинансијским предузећима","Обавезе по основу субвенција нефинансијским предузећима",{"$f":"UnObr1!F199","v":0},null,null,null,null,null,null,null,null,null,{"$f":"UnObr1!G199","v":0}]
["Ознака\nОП",null,null,"Број\nконта",null,null,null,"Опис",null,null,null,null,null,null,null,null,null,null,null,null,null,null,null,null,"Износ"]
[]
[null,null,null,null,null,null,null,null,null,null,null,null,null,null,null,null,null,null,null,null,null,null,null,null,"Претходна година",null,null,null,null,null,null,null,null,null,"Текућа година"]
[]
[1,null,null,2,null,null,null,3,null,null,null,null,null,null,null,null,null,null,null,null,null,null,null,null,4,null,null,null,null,null,null,null,null,5,5]
[1191,null,null,244200,242100,242100,242100,"Обавезе по основу социјалне помоћи из буџета","Обавезе по основу субвенција нефинансијским предузећима","Обавезе по основу субвенција нефинансијским предузећима","Обавезе по основу субвенција нефинансијским предузећима","Обавезе по основу субвенција нефинансијским предузећима","Обавезе по основу субвенција нефинансијским предузећима","Обавезе по основу субвенција нефинансијским предузећима","Обавезе по основу субвенција нефинансијским предузећима","Обавезе по основу субвенција нефинансијским предузећима","Обавезе по основу субвенција нефинансијским предузећима","Обавезе по основу субвенција нефинансијским предузећима","Обавезе по основу субвенција нефинансијским предузећима","Обавезе по основу субвенција нефинансијским предузећима","Обавезе по основу субвенција нефинансијским предузећима","Обавезе по основу субвенција нефинансијским предузећима","Обавезе по основу субвенција нефинансијским предузећима","Обавезе по основу субвенција нефинансијским предузећима",{"$f":"UnObr1!F200","v":0},null,null,null,null,null,null,null,null,null,{"$f":"UnObr1!G200","v":0}]
[1192,null,null,245000,242100,242100,242100,"ОБАВЕЗЕ ЗА ОСТАЛЕ РАСХОДЕ (од 1193 до 1197)","Обавезе по основу субвенција нефинансијским предузећима","Обавезе по основу субвенција нефинансијским предузећима","Обавезе по основу субвенција нефинансијским предузећима","Обавезе по основу субвенција нефинансијским предузећима","Обавезе по основу субвенција нефинансијским предузећима","Обавезе по основу субвенција нефинансијским предузећима","Обавезе по основу субвенција нефинансијским предузећима","Обавезе по основу субвенција нефинансијским предузећима","Обавезе по основу субвенција нефинансијским предузећима","Обавезе по основу субвенција нефинансијским предузећима","Обавезе по основу субвенција нефинансијским предузећима","Обавезе по основу субвенција нефинансијским предузећима","Обавезе по основу субвенција нефинансијским предузећима","Обавезе по основу субвенција нефинансијским предузећима","Обавезе по основу субвенција нефинансијским предузећима","Обавезе по основу субвенција нефинансијским предузећима",{"$f":"UnObr1!F201","v":0},null,null,null,null,null,null,null,null,null,{"$f":"UnObr1!G201","v":0}]
[1193,null,null,245100,242100,242100,242100,"Обавезе по основу дотација невладиним \nорганизацијама","Обавезе по основу субвенција нефинансијским предузећима","Обавезе по основу субвенција нефинансијским предузећима","Обавезе по основу субвенција нефинансијским предузећима","Обавезе по основу субвенција нефинансијским предузећима","Обавезе по основу субвенција нефинансијским предузећима","Обавезе по основу субвенција нефинансијским предузећима","Обавезе по основу субвенција нефинансијским предузећима","Обавезе по основу субвенција нефинансијским предузећима","Обавезе по основу субвенција нефинансијским предузећима","Обавезе по основу субвенција нефинансијским предузећима","Обавезе по основу субвенција нефинансијским предузећима","Обавезе по основу субвенција нефинансијским предузећима","Обавезе по основу субвенција нефинансијским предузећима","Обавезе по основу субвенција нефинансијским предузећима","Обавезе по основу субвенција нефинансијским предузећима","Обавезе по основу субвенција нефинансијским предузећима",{"$f":"UnObr1!F202","v":0},null,null,null,null,null,null,null,null,null,{"$f":"UnObr1!G202","v":0}]
[1194,null,null,245200,242100,242100,242100,"Обавезе за остале порезе, обавезне таксе и казне","Обавезе по основу субвенција нефинансијским предузећима","Обавезе по основу субвенција нефинансијским предузећима","Обавезе по основу субвенција нефинансијским предузећима","Обавезе по основу субвенција нефинансијским предузећима","Обавезе по основу субвенција нефинансијским предузећима","Обавезе по основу субвенција нефинансијским предузећима","Обавезе по основу субвенција нефинансијским предузећима","Обавезе по основу субвенција нефинансијским предузећима","Обавезе по основу субвенција нефинансијским предузећима","Обавезе по основу субвенција нефинансијским предузећима","Обавезе по основу субвенција нефинансијским предузећима","Обавезе по основу субвенција нефинансијским предузећима","Обавезе по основу субвенција нефинансијским предузећима","Обавезе по основу субвенција нефинансијским предузећима","Обавезе по основу субвенција нефинансијским предузећима","Обавезе по основу субвенција нефинансијским предузећима",{"$f":"UnObr1!F203","v":0},null,null,null,null,null,null,null,null,null,{"$f":"UnObr1!G203","v":0}]
[1195,null,null,245300,242100,242100,242100,"Обавезе по основу казни и пенала по решењима судова","Обавезе по основу субвенција нефинансијским предузећима","Обавезе по основу субвенција нефинансијским предузећима","Обавезе по основу субвенција нефинансијским предузећима","Обавезе по основу субвенција нефинансијским предузећима","Обавезе по основу субвенција нефинансијским предузећима","Обавезе по основу субвенција нефинансијским предузећима","Обавезе по основу субвенција нефинансијским предузећима","Обавезе по основу субвенција нефинансијским предузећима","Обавезе по основу субвенција нефинансијским предузећима","Обавезе по основу субвенција нефинансијским предузећима","Обавезе по основу субвенција нефинансијским предузећима","Обавезе по основу субвенција нефинансијским предузећима","Обавезе по основу субвенција нефинансијским предузећима","Обавезе по основу субвенција нефинансијским предузећима","Обавезе по основу субвенција нефинансијским предузећима","Обавезе по основу субвенција нефинансијским предузећима",{"$f":"UnObr1!F204","v":0},null,null,null,null,null,null,null,null,null,{"$f":"UnObr1!G204","v":0}]
[1196,null,null,245400,242100,242100,242100,"Обавезе по основу накнаде штете за повреде и штете \nуслед елементарних непогода","Обавезе по основу субвенција нефинансијским предузећима","Обавезе по основу субвенција нефинансијским предузећима","Обавезе по основу субвенција нефинансијским предузећима","Обавезе по основу субвенција нефинансијским предузећима","Обавезе по основу субвенција нефинансијским предузећима","Обавезе по основу субвенција нефинансијским предузећима","Обавезе по основу субвенција нефинансијским предузећима","Обавезе по основу субвенција нефинансијским предузећима","Обавезе по основу субвенција нефинансијским предузећима","Обавезе по основу субвенција нефинансијским предузећима","Обавезе по основу субвенција нефинансијским предузећима","Обавезе по основу субвенција нефинансијским предузећима","Обавезе по основу субвенција нефинансијским предузећима","Обавезе по основу субвенција нефинансијским предузећима","Обавезе по основу субвенција нефинансијским предузећима","Обавезе по основу субвенција нефинансијским предузећима",{"$f":"UnObr1!F205","v":0},null,null,null,null,null,null,null,null,null,{"$f":"UnObr1!G205","v":0}]
[1197,null,null,245500,242100,242100,242100,"Обавезе по основу накнаде штете или повреда нанетих \nод стране државних органа","Обавезе по основу субвенција нефинансијским предузећима","Обавезе по основу субвенција нефинансијским предузећима","Обавезе по основу субвенција нефинансијским предузећима","Обавезе по основу субвенција нефинансијским предузећима","Обавезе по основу субвенција нефинансијским предузећима","Обавезе по основу субвенција нефинансијским предузећима","Обавезе по основу субвенција нефинансијским предузећима","Обавезе по основу субвенција нефинансијским предузећима","Обавезе по основу субвенција нефинансијским предузећима","Обавезе по основу субвенција нефинансијским предузећима","Обавезе по основу субвенција нефинансијским предузећима","Обавезе по основу субвенција нефинансијским предузећима","Обавезе по основу субвенција нефинансијским предузећима","Обавезе по основу субвенција нефинансијским предузећима","Обавезе по основу субвенција нефинансијским предузећима","Обавезе по основу субвенција нефинансијским предузећима",{"$f":"UnObr1!F206","v":0},null,null,null,null,null,null,null,null,null,{"$f":"UnObr1!G206","v":0}]
[1198,null,null,250000,242100,242100,242100,"ОБАВЕЗЕ ИЗ ПОСЛОВАЊА \n(1199 + 1203 + 1206 + 1208)","Обавезе по основу субвенција нефинансијским предузећима","Обавезе по основу субвенција нефинансијским предузећима","Обавезе по основу субвенција нефинансијским предузећима","Обавезе по основу субвенција нефинансијским предузећима","Обавезе по основу субвенција нефинансијским предузећима","Обавезе по основу субвенција нефинансијским предузећима","Обавезе по основу субвенција нефинансијским предузећима","Обавезе по основу субвенција нефинансијским предузећима","Обавезе по основу субвенција нефинансијским предузећима","Обавезе по основу субвенција нефинансијским предузећима","Обавезе по основу субвенција нефинансијским предузећима","Обавезе по основу субвенција нефинансијским предузећима","Обавезе по основу субвенција нефинансијским предузећима","Обавезе по основу субвенција нефинансијским предузећима","Обавезе по основу субвенција нефинансијским предузећима","Обавезе по основу субвенција нефинансијским предузећима",{"$f":"UnObr1!F207","v":1327},null,null,null,null,null,null,null,null,null,{"$f":"UnObr1!G207","v":2097}]
[1199,null,null,251000,242100,242100,242100,"ПРИМЉЕНИ АВАНСИ, ДЕПОЗИТИ И КАУЦИЈЕ \n(од 1200 до 1202)","Обавезе по основу субвенција нефинансијским предузећима","Обавезе по основу субвенција нефинансијским предузећима","Обавезе по основу субвенција нефинансијским предузећима","Обавезе по основу субвенција нефинансијским предузећима","Обавезе по основу субвенција нефинансијским предузећима","Обавезе по основу субвенција нефинансијским предузећима","Обавезе по основу субвенција нефинансијским предузећима","Обавезе по основу субвенција нефинансијским предузећима","Обавезе по основу субвенција нефинансијским предузећима","Обавезе по основу субвенција нефинансијским предузећима","Обавезе по основу субвенција нефинансијским предузећима","Обавезе по основу субвенција нефинансијским предузећима","Обавезе по основу субвенција нефинансијским предузећима","Обавезе по основу субвенција нефинансијским предузећима","Обавезе по основу субвенција нефинансијским предузећима","Обавезе по основу субвенција нефинансијским предузећима",{"$f":"UnObr1!F208","v":0},null,null,null,null,null,null,null,null,null,{"$f":"UnObr1!G208","v":0}]
[1200,null,null,251100,242100,242100,242100,"Примљени аванси","Обавезе по основу субвенција нефинансијским предузећима","Обавезе по основу субвенција нефинансијским предузећима","Обавезе по основу субвенција нефинансијским предузећима","Обавезе по основу субвенција нефинансијским предузећима","Обавезе по основу субвенција нефинансијским предузећима","Обавезе по основу субвенција нефинансијским предузећима","Обавезе по основу субвенција нефинансијским предузећима","Обавезе по основу субвенција нефинансијским предузећима","Обавезе по основу субвенција нефинансијским предузећима","Обавезе по основу субвенција нефинансијским предузећима","Обавезе по основу субвенција нефинансијским предузећима","Обавезе по основу субвенција нефинансијским предузећима","Обавезе по основу субвенција нефинансијским предузећима","Обавезе по основу субвенција нефинансијским предузећима","Обавезе по основу субвенција нефинансијским предузећима","Обавезе по основу субвенција нефинансијским предузећима",{"$f":"UnObr1!F209","v":0},null,null,null,null,null,null,null,null,null,{"$f":"UnObr1!G209","v":0}]
[1201,null,null,251200,242100,242100,242100,"Примљени депозити","Обавезе по основу субвенција нефинансијским предузећима","Обавезе по основу субвенција нефинансијским предузећима","Обавезе по основу субвенција нефинансијским предузећима","Обавезе по основу субвенција нефинансијским предузећима","Обавезе по основу субвенција нефинансијским предузећима","Обавезе по основу субвенција нефинансијским предузећима","Обавезе по основу субвенција нефинансијским предузећима","Обавезе по основу субвенција нефинансијским предузећима","Обавезе по основу субвенција нефинансијским предузећима","Обавезе по основу субвенција нефинансијским предузећима","Обавезе по основу субвенција нефинансијским предузећима","Обавезе по основу субвенција нефинансијским предузећима","Обавезе по основу субвенција нефинансијским предузећима","Обавезе по основу субвенција нефинансијским предузећима","Обавезе по основу субвенција нефинансијским предузећима","Обавезе по основу субвенција нефинансијским предузећима",{"$f":"UnObr1!F210","v":0},null,null,null,null,null,null,null,null,null,{"$f":"UnObr1!G210","v":0}]
[1202,null,null,251300,242100,242100,242100,"Примљене кауције","Обавезе по основу субвенција нефинансијским предузећима","Обавезе по основу субвенција нефинансијским предузећима","Обавезе по основу субвенција нефинансијским предузећима","Обавезе по основу субвенција нефинансијским предузећима","Обавезе по основу субвенција нефинансијским предузећима","Обавезе по основу субвенција нефинансијским предузећима","Обавезе по основу субвенција нефинансијским предузећима","Обавезе по основу субвенција нефинансијским предузећима","Обавезе по основу субвенција нефинансијским предузећима","Обавезе по основу субвенција нефинансијским предузећима","Обавезе по основу субвенција нефинансијским предузећима","Обавезе по основу субвенција нефинансијским предузећима","Обавезе по основу субвенција нефинансијским предузећима","Обавезе по основу субвенција нефинансијским предузећима","Обавезе по основу субвенција нефинансијским предузећима","Обавезе по основу субвенција нефинансијским предузећима",{"$f":"UnObr1!F211","v":0},null,null,null,null,null,null,null,null,null,{"$f":"UnObr1!G211","v":0}]
[1203,null,null,252000,242100,242100,242100,"ОБАВЕЗЕ ПРЕМА ДОБАВЉАЧИМА (1204 + 1205)","Обавезе по основу субвенција нефинансијским предузећима","Обавезе по основу субвенција нефинансијским предузећима","Обавезе по основу субвенција нефинансијским предузећима","Обавезе по основу субвенција нефинансијским предузећима","Обавезе по основу субвенција нефинансијским предузећима","Обавезе по основу субвенција нефинансијским предузећима","Обавезе по основу субвенција нефинансијским предузећима","Обавезе по основу субвенција нефинансијским предузећима","Обавезе по основу субвенција нефинансијским предузећима","Обавезе по основу субвенција нефинансијским предузећима","Обавезе по основу субвенција нефинансијским предузећима","Обавезе по основу субвенција нефинансијским предузећима","Обавезе по основу субвенција нефинансијским предузећима","Обавезе по основу субвенција нефинансијским предузећима","Обавезе по основу субвенција нефинансијским предузећима","Обавезе по основу субвенција нефинансијским предузећима",{"$f":"UnObr1!F212","v":1327},null,null,null,null,null,null,null,null,null,{"$f":"UnObr1!G212","v":1654}]
[1204,null,null,252100,242100,242100,242100,"Добављачи у земљи","Обавезе по основу субвенција нефинансијским предузећима","Обавезе по основу субвенција нефинансијским предузећима","Обавезе по основу субвенција нефинансијским предузећима","Обавезе по основу субвенција нефинансијским предузећима","Обавезе по основу субвенција нефинансијским предузећима","Обавезе по основу субвенција нефинансијским предузећима","Обавезе по основу субвенција нефинансијским предузећима","Обавезе по основу субвенција нефинансијским предузећима","Обавезе по основу субвенција нефинансијским предузећима","Обавезе по основу субвенција нефинансијским предузећима","Обавезе по основу субвенција нефинансијским предузећима","Обавезе по основу субвенција нефинансијским предузећима","Обавезе по основу субвенција нефинансијским предузећима","Обавезе по основу субвенција нефинансијским предузећима","Обавезе по основу субвенција нефинансијским предузећима","Обавезе по основу субвенција нефинансијским предузећима",{"$f":"UnObr1!F213","v":1327},null,null,null,null,null,null,null,null,null,{"$f":"UnObr1!G213","v":1654}]
[1205,null,null,252200,242100,242100,242100,"Добављачи у иностранству","Обавезе по основу субвенција нефинансијским предузећима","Обавезе по основу субвенција нефинансијским предузећима","Обавезе по основу субвенција нефинансијским предузећима","Обавезе по основу субвенција нефинансијским предузећима","Обавезе по основу субвенција нефинансијским предузећима","Обавезе по основу субвенција нефинансијским предузећима","Обавезе по основу субвенција нефинансијским предузећима","Обавезе по основу субвенција нефинансијским предузећима","Обавезе по основу субвенција нефинансијским предузећима","Обавезе по основу субвенција нефинансијским предузећима","Обавезе по основу субвенција нефинансијским предузећима","Обавезе по основу субвенција нефинансијским предузећима","Обавезе по основу субвенција нефинансијским предузећима","Обавезе по основу субвенција нефинансијским предузећима","Обавезе по основу субвенција нефинансијским предузећима","Обавезе по основу субвенција нефинансијским предузећима",{"$f":"UnObr1!F214","v":0},null,null,null,null,null,null,null,null,null,{"$f":"UnObr1!G214","v":0}]
[1206,null,null,253000,242100,242100,242100,"ОБАВЕЗЕ ЗА ИЗДАТЕ ЧЕКОВЕ И ОБВЕЗНИЦЕ (1207)","Обавезе по основу субвенција нефинансијским предузећима","Обавезе по основу субвенција нефинансијским предузећима","Обавезе по основу субвенција нефинансијским предузећима","Обавезе по основу субвенција нефинансијским предузећима","Обавезе по основу субвенција нефинансијским предузећима","Обавезе по основу субвенција нефинансијским предузећима","Обавезе по основу субвенција нефинансијским предузећима","Обавезе по основу субвенција нефинансијским предузећима","Обавезе по основу субвенција нефинансијским предузећима","Обавезе по основу субвенција нефинансијским предузећима","Обавезе по основу субвенција нефинансијским предузећима","Обавезе по основу субвенција нефинансијским предузећима","Обавезе по основу субвенција нефинансијским предузећима","Обавезе по основу субвенција нефинансијским предузећима","Обавезе по основу субвенција нефинансијским предузећима","Обавезе по основу субвенција нефинансијским предузећима",{"$f":"UnObr1!F215","v":0},null,null,null,null,null,null,null,null,null,{"$f":"UnObr1!G215","v":0}]
[1207,null,null,253100,242100,242100,242100,"Обавезе за издате чекове и обвезнице","Обавезе по основу субвенција нефинансијским предузећима","Обавезе по основу субвенција нефинансијским предузећима","Обавезе по основу субвенција нефинансијским предузећима","Обавезе по основу субвенција нефинансијским предузећима","Обавезе по основу субвенција нефинансијским предузећима","Обавезе по основу субвенција нефинансијским предузећима","Обавезе по основу субвенција нефинансијским предузећима","Обавезе по основу субвенција нефинансијским предузећима","Обавезе по основу субвенција нефинансијским предузећима","Обавезе по основу субвенција нефинансијским предузећима","Обавезе по основу субвенција нефинансијским предузећима","Обавезе по основу субвенција нефинансијским предузећима","Обавезе по основу субвенција нефинансијским предузећима","Обавезе по основу субвенција нефинансијским предузећима","Обавезе по основу субвенција нефинансијским предузећима","Обавезе по основу субвенција нефинансијским предузећима",{"$f":"UnObr1!F216","v":0},null,null,null,null,null,null,null,null,null,{"$f":"UnObr1!G216","v":0}]
[1208,null,null,254000,242100,242100,242100,"ОСТАЛЕ ОБАВЕЗЕ (1209 до 1211)","Обавезе по основу субвенција нефинансијским предузећима","Обавезе по основу субвенција нефинансијским предузећима","Обавезе по основу субвенција нефинансијским предузећима","Обавезе по основу субвенција нефинансијским предузећима","Обавезе по основу субвенција нефинансијским предузећима","Обавезе по основу субвенција нефинансијским предузећима","Обавезе по основу субвенција нефинансијским предузећима","Обавезе по основу субвенција нефинансијским предузећима","Обавезе по основу субвенција нефинансијским предузећима","Обавезе по основу субвенција нефинансијским предузећима","Обавезе по основу субвенција нефинансијским предузећима","Обавезе по основу субвенција нефинансијским предузећима","Обавезе по основу субвенција нефинансијским предузећима","Обавезе по основу субвенција нефинансијским предузећима","Обавезе по основу субвенција нефинансијским предузећима","Обавезе по основу субвенција нефинансијским предузећима",{"$f":"UnObr1!F217","v":0},null,null,null,null,null,null,null,null,null,{"$f":"UnObr1!G217","v":443}]
[1209,null,null,254100,242100,242100,242100,"Обавезе из односа буџета и буџетских корисника","Обавезе по основу субвенција нефинансијским предузећима","Обавезе по основу субвенција нефинансијским предузећима","Обавезе по основу субвенција нефинансијским предузећима","Обавезе по основу субвенција нефинансијским предузећима","Обавезе по основу субвенција нефинансијским предузећима","Обавезе по основу субвенција нефинансијским предузећима","Обавезе по основу субвенција нефинансијским предузећима","Обавезе по основу субвенција нефинансијским предузећима","Обавезе по основу субвенција нефинансијским предузећима","Обавезе по основу субвенција нефинансијским предузећима","Обавезе по основу субвенција нефинансијским предузећима","Обавезе по основу субвенција нефинансијским предузећима","Обавезе по основу субвенција нефинансијским предузећима","Обавезе по основу субвенција нефинансијским предузећима","Обавезе по основу субвенција нефинансијским предузећима","Обавезе по основу субвенција нефинансијским предузећима",{"$f":"UnObr1!F218","v":0},null,null,null,null,null,null,null,null,null,{"$f":"UnObr1!G218","v":426}]
[1210,null,null,254200,242100,242100,242100,"Остале обавезе буџета","Обавезе по основу субвенција нефинансијским предузећима","Обавезе по основу субвенција нефинансијским предузећима","Обавезе по основу субвенција нефинансијским предузећима","Обавезе по основу субвенција нефинансијским предузећима","Обавезе по основу субвенција нефинансијским предузећима","Обавезе по основу субвенција нефинансијским предузећима","Обавезе по основу субвенција нефинансијским предузећима","Обавезе по основу субвенција нефинансијским предузећима","Обавезе по основу субвенција нефинансијским предузећима","Обавезе по основу субвенција нефинансијским предузећима","Обавезе по основу субвенција нефинансијским предузећима","Обавезе по основу субвенција нефинансијским предузећима","Обавезе по основу субвенција нефинансијским предузећима","Обавезе по основу субвенција нефинансијским предузећима","Обавезе по основу субвенција нефинансијским предузећима","Обавезе по основу субвенција нефинансијским предузећима",{"$f":"UnObr1!F219","v":0},null,null,null,null,null,null,null,null,null,{"$f":"UnObr1!G219","v":0}]
[1211,null,null,254900,242100,242100,242100,"Остале обавезе из пословања","Обавезе по основу субвенција нефинансијским предузећима","Обавезе по основу субвенција нефинансијским предузећима","Обавезе по основу субвенција нефинансијским предузећима","Обавезе по основу субвенција нефинансијским предузећима","Обавезе по основу субвенција нефинансијским предузећима","Обавезе по основу субвенција нефинансијским предузећима","Обавезе по основу субвенција нефинансијским предузећима","Обавезе по основу субвенција нефинансијским предузећима","Обавезе по основу субвенција нефинансијским предузећима","Обавезе по основу субвенција нефинансијским предузећима","Обавезе по основу субвенција нефинансијским предузећима","Обавезе по основу субвенција нефинансијским предузећима","Обавезе по основу субвенција нефинансијским предузећима","Обавезе по основу субвенција нефинансијским предузећима","Обавезе по основу субвенција нефинансијским предузећима","Обавезе по основу субвенција нефинансијским предузећима",{"$f":"UnObr1!F220","v":0},null,null,null,null,null,null,null,null,null,{"$f":"UnObr1!G220","v":17}]
[1212,null,null,290000,300000,300000,300000,"ПАСИВНА ВРЕМЕНСКА РАЗГРАНИЧЕЊА (1213)","ИЗВОРИ КАПИТАЛА  И УТВРЂИВАЊЕ РЕЗУЛТАТА ПОСЛОВАЊА (1204 + 1213 – 1214 + 1215 – 1216)","ИЗВОРИ КАПИТАЛА  И УТВРЂИВАЊЕ РЕЗУЛТАТА ПОСЛОВАЊА (1204 + 1213 – 1214 + 1215 – 1216)","ИЗВОРИ КАПИТАЛА  И УТВРЂИВАЊЕ РЕЗУЛТАТА ПОСЛОВАЊА (1204 + 1213 – 1214 + 1215 – 1216)","ИЗВОРИ КАПИТАЛА  И УТВРЂИВАЊЕ РЕЗУЛТАТА ПОСЛОВАЊА (1204 + 1213 – 1214 + 1215 – 1216)","ИЗВОРИ КАПИТАЛА  И УТВРЂИВАЊЕ РЕЗУЛТАТА ПОСЛОВАЊА (1204 + 1213 – 1214 + 1215 – 1216)","ИЗВОРИ КАПИТАЛА  И УТВРЂИВАЊЕ РЕЗУЛТАТА ПОСЛОВАЊА (1204 + 1213 – 1214 + 1215 – 1216)","ИЗВОРИ КАПИТАЛА  И УТВРЂИВАЊЕ РЕЗУЛТАТА ПОСЛОВАЊА (1204 + 1213 – 1214 + 1215 – 1216)","ИЗВОРИ КАПИТАЛА  И УТВРЂИВАЊЕ РЕЗУЛТАТА ПОСЛОВАЊА (1204 + 1213 – 1214 + 1215 – 1216)","ИЗВОРИ КАПИТАЛА  И УТВРЂИВАЊЕ РЕЗУЛТАТА ПОСЛОВАЊА (1204 + 1213 – 1214 + 1215 – 1216)","ИЗВОРИ КАПИТАЛА  И УТВРЂИВАЊЕ РЕЗУЛТАТА ПОСЛОВАЊА (1204 + 1213 – 1214 + 1215 – 1216)","ИЗВОРИ КАПИТАЛА  И УТВРЂИВАЊЕ РЕЗУЛТАТА ПОСЛОВАЊА (1204 + 1213 – 1214 + 1215 – 1216)","ИЗВОРИ КАПИТАЛА  И УТВРЂИВАЊЕ РЕЗУЛТАТА ПОСЛОВАЊА (1204 + 1213 – 1214 + 1215 – 1216)","ИЗВОРИ КАПИТАЛА  И УТВРЂИВАЊЕ РЕЗУЛТАТА ПОСЛОВАЊА (1204 + 1213 – 1214 + 1215 – 1216)","ИЗВОРИ КАПИТАЛА  И УТВРЂИВАЊЕ РЕЗУЛТАТА ПОСЛОВАЊА (1204 + 1213 – 1214 + 1215 – 1216)","ИЗВОРИ КАПИТАЛА  И УТВРЂИВАЊЕ РЕЗУЛТАТА ПОСЛОВАЊА (1204 + 1213 – 1214 + 1215 – 1216)","ИЗВОРИ КАПИТАЛА  И УТВРЂИВАЊЕ РЕЗУЛТАТА ПОСЛОВАЊА (1204 + 1213 – 1214 + 1215 – 1216)",{"$f":"UnObr1!F221","v":710},null,null,null,null,null,null,null,null,null,{"$f":"UnObr1!G221","v":783}]
[1213,null,null,291000,300000,300000,300000,"ПАСИВНА ВРЕМЕНСКА РАЗГРАНИЧЕЊА \n(од 1214 до 1217)","ИЗВОРИ КАПИТАЛА  И УТВРЂИВАЊЕ РЕЗУЛТАТА ПОСЛОВАЊА (1204 + 1213 – 1214 + 1215 – 1216)","ИЗВОРИ КАПИТАЛА  И УТВРЂИВАЊЕ РЕЗУЛТАТА ПОСЛОВАЊА (1204 + 1213 – 1214 + 1215 – 1216)","ИЗВОРИ КАПИТАЛА  И УТВРЂИВАЊЕ РЕЗУЛТАТА ПОСЛОВАЊА (1204 + 1213 – 1214 + 1215 – 1216)","ИЗВОРИ КАПИТАЛА  И УТВРЂИВАЊЕ РЕЗУЛТАТА ПОСЛОВАЊА (1204 + 1213 – 1214 + 1215 – 1216)","ИЗВОРИ КАПИТАЛА  И УТВРЂИВАЊЕ РЕЗУЛТАТА ПОСЛОВАЊА (1204 + 1213 – 1214 + 1215 – 1216)","ИЗВОРИ КАПИТАЛА  И УТВРЂИВАЊЕ РЕЗУЛТАТА ПОСЛОВАЊА (1204 + 1213 – 1214 + 1215 – 1216)","ИЗВОРИ КАПИТАЛА  И УТВРЂИВАЊЕ РЕЗУЛТАТА ПОСЛОВАЊА (1204 + 1213 – 1214 + 1215 – 1216)","ИЗВОРИ КАПИТАЛА  И УТВРЂИВАЊЕ РЕЗУЛТАТА ПОСЛОВАЊА (1204 + 1213 – 1214 + 1215 – 1216)","ИЗВОРИ КАПИТАЛА  И УТВРЂИВАЊЕ РЕЗУЛТАТА ПОСЛОВАЊА (1204 + 1213 – 1214 + 1215 – 1216)","ИЗВОРИ КАПИТАЛА  И УТВРЂИВАЊЕ РЕЗУЛТАТА ПОСЛОВАЊА (1204 + 1213 – 1214 + 1215 – 1216)","ИЗВОРИ КАПИТАЛА  И УТВРЂИВАЊЕ РЕЗУЛТАТА ПОСЛОВАЊА (1204 + 1213 – 1214 + 1215 – 1216)","ИЗВОРИ КАПИТАЛА  И УТВРЂИВАЊЕ РЕЗУЛТАТА ПОСЛОВАЊА (1204 + 1213 – 1214 + 1215 – 1216)","ИЗВОРИ КАПИТАЛА  И УТВРЂИВАЊЕ РЕЗУЛТАТА ПОСЛОВАЊА (1204 + 1213 – 1214 + 1215 – 1216)","ИЗВОРИ КАПИТАЛА  И УТВРЂИВАЊЕ РЕЗУЛТАТА ПОСЛОВАЊА (1204 + 1213 – 1214 + 1215 – 1216)","ИЗВОРИ КАПИТАЛА  И УТВРЂИВАЊЕ РЕЗУЛТАТА ПОСЛОВАЊА (1204 + 1213 – 1214 + 1215 – 1216)","ИЗВОРИ КАПИТАЛА  И УТВРЂИВАЊЕ РЕЗУЛТАТА ПОСЛОВАЊА (1204 + 1213 – 1214 + 1215 – 1216)",{"$f":"UnObr1!F222","v":710},null,null,null,null,null,null,null,null,null,{"$f":"UnObr1!G222","v":783}]
[1214,null,null,291100,300000,300000,300000,"Разграничени приходи и примања","ИЗВОРИ КАПИТАЛА  И УТВРЂИВАЊЕ РЕЗУЛТАТА ПОСЛОВАЊА (1204 + 1213 – 1214 + 1215 – 1216)","ИЗВОРИ КАПИТАЛА  И УТВРЂИВАЊЕ РЕЗУЛТАТА ПОСЛОВАЊА (1204 + 1213 – 1214 + 1215 – 1216)","ИЗВОРИ КАПИТАЛА  И УТВРЂИВАЊЕ РЕЗУЛТАТА ПОСЛОВАЊА (1204 + 1213 – 1214 + 1215 – 1216)","ИЗВОРИ КАПИТАЛА  И УТВРЂИВАЊЕ РЕЗУЛТАТА ПОСЛОВАЊА (1204 + 1213 – 1214 + 1215 – 1216)","ИЗВОРИ КАПИТАЛА  И УТВРЂИВАЊЕ РЕЗУЛТАТА ПОСЛОВАЊА (1204 + 1213 – 1214 + 1215 – 1216)","ИЗВОРИ КАПИТАЛА  И УТВРЂИВАЊЕ РЕЗУЛТАТА ПОСЛОВАЊА (1204 + 1213 – 1214 + 1215 – 1216)","ИЗВОРИ КАПИТАЛА  И УТВРЂИВАЊЕ РЕЗУЛТАТА ПОСЛОВАЊА (1204 + 1213 – 1214 + 1215 – 1216)","ИЗВОРИ КАПИТАЛА  И УТВРЂИВАЊЕ РЕЗУЛТАТА ПОСЛОВАЊА (1204 + 1213 – 1214 + 1215 – 1216)","ИЗВОРИ КАПИТАЛА  И УТВРЂИВАЊЕ РЕЗУЛТАТА ПОСЛОВАЊА (1204 + 1213 – 1214 + 1215 – 1216)","ИЗВОРИ КАПИТАЛА  И УТВРЂИВАЊЕ РЕЗУЛТАТА ПОСЛОВАЊА (1204 + 1213 – 1214 + 1215 – 1216)","ИЗВОРИ КАПИТАЛА  И УТВРЂИВАЊЕ РЕЗУЛТАТА ПОСЛОВАЊА (1204 + 1213 – 1214 + 1215 – 1216)","ИЗВОРИ КАПИТАЛА  И УТВРЂИВАЊЕ РЕЗУЛТАТА ПОСЛОВАЊА (1204 + 1213 – 1214 + 1215 – 1216)","ИЗВОРИ КАПИТАЛА  И УТВРЂИВАЊЕ РЕЗУЛТАТА ПОСЛОВАЊА (1204 + 1213 – 1214 + 1215 – 1216)","ИЗВОРИ КАПИТАЛА  И УТВРЂИВАЊЕ РЕЗУЛТАТА ПОСЛОВАЊА (1204 + 1213 – 1214 + 1215 – 1216)","ИЗВОРИ КАПИТАЛА  И УТВРЂИВАЊЕ РЕЗУЛТАТА ПОСЛОВАЊА (1204 + 1213 – 1214 + 1215 – 1216)","ИЗВОРИ КАПИТАЛА  И УТВРЂИВАЊЕ РЕЗУЛТАТА ПОСЛОВАЊА (1204 + 1213 – 1214 + 1215 – 1216)",{"$f":"UnObr1!F223","v":0},null,null,null,null,null,null,null,null,null,{"$f":"UnObr1!G223","v":0}]
[1215,null,null,291200,300000,300000,300000,"Разграничени плаћени расходи и издаци","ИЗВОРИ КАПИТАЛА  И УТВРЂИВАЊЕ РЕЗУЛТАТА ПОСЛОВАЊА (1204 + 1213 – 1214 + 1215 – 1216)","ИЗВОРИ КАПИТАЛА  И УТВРЂИВАЊЕ РЕЗУЛТАТА ПОСЛОВАЊА (1204 + 1213 – 1214 + 1215 – 1216)","ИЗВОРИ КАПИТАЛА  И УТВРЂИВАЊЕ РЕЗУЛТАТА ПОСЛОВАЊА (1204 + 1213 – 1214 + 1215 – 1216)","ИЗВОРИ КАПИТАЛА  И УТВРЂИВАЊЕ РЕЗУЛТАТА ПОСЛОВАЊА (1204 + 1213 – 1214 + 1215 – 1216)","ИЗВОРИ КАПИТАЛА  И УТВРЂИВАЊЕ РЕЗУЛТАТА ПОСЛОВАЊА (1204 + 1213 – 1214 + 1215 – 1216)","ИЗВОРИ КАПИТАЛА  И УТВРЂИВАЊЕ РЕЗУЛТАТА ПОСЛОВАЊА (1204 + 1213 – 1214 + 1215 – 1216)","ИЗВОРИ КАПИТАЛА  И УТВРЂИВАЊЕ РЕЗУЛТАТА ПОСЛОВАЊА (1204 + 1213 – 1214 + 1215 – 1216)","ИЗВОРИ КАПИТАЛА  И УТВРЂИВАЊЕ РЕЗУЛТАТА ПОСЛОВАЊА (1204 + 1213 – 1214 + 1215 – 1216)","ИЗВОРИ КАПИТАЛА  И УТВРЂИВАЊЕ РЕЗУЛТАТА ПОСЛОВАЊА (1204 + 1213 – 1214 + 1215 – 1216)","ИЗВОРИ КАПИТАЛА  И УТВРЂИВАЊЕ РЕЗУЛТАТА ПОСЛОВАЊА (1204 + 1213 – 1214 + 1215 – 1216)","ИЗВОРИ КАПИТАЛА  И УТВРЂИВАЊЕ РЕЗУЛТАТА ПОСЛОВАЊА (1204 + 1213 – 1214 + 1215 – 1216)","ИЗВОРИ КАПИТАЛА  И УТВРЂИВАЊЕ РЕЗУЛТАТА ПОСЛОВАЊА (1204 + 1213 – 1214 + 1215 – 1216)","ИЗВОРИ КАПИТАЛА  И УТВРЂИВАЊЕ РЕЗУЛТАТА ПОСЛОВАЊА (1204 + 1213 – 1214 + 1215 – 1216)","ИЗВОРИ КАПИТАЛА  И УТВРЂИВАЊЕ РЕЗУЛТАТА ПОСЛОВАЊА (1204 + 1213 – 1214 + 1215 – 1216)","ИЗВОРИ КАПИТАЛА  И УТВРЂИВАЊЕ РЕЗУЛТАТА ПОСЛОВАЊА (1204 + 1213 – 1214 + 1215 – 1216)","ИЗВОРИ КАПИТАЛА  И УТВРЂИВАЊЕ РЕЗУЛТАТА ПОСЛОВАЊА (1204 + 1213 – 1214 + 1215 – 1216)",{"$f":"UnObr1!F224","v":0},null,null,null,null,null,null,null,null,null,{"$f":"UnObr1!G224","v":0}]
[1216,null,null,291300,300000,300000,300000,"Обрачунати ненаплаћени приходи и примања","ИЗВОРИ КАПИТАЛА  И УТВРЂИВАЊЕ РЕЗУЛТАТА ПОСЛОВАЊА (1204 + 1213 – 1214 + 1215 – 1216)","ИЗВОРИ КАПИТАЛА  И УТВРЂИВАЊЕ РЕЗУЛТАТА ПОСЛОВАЊА (1204 + 1213 – 1214 + 1215 – 1216)","ИЗВОРИ КАПИТАЛА  И УТВРЂИВАЊЕ РЕЗУЛТАТА ПОСЛОВАЊА (1204 + 1213 – 1214 + 1215 – 1216)","ИЗВОРИ КАПИТАЛА  И УТВРЂИВАЊЕ РЕЗУЛТАТА ПОСЛОВАЊА (1204 + 1213 – 1214 + 1215 – 1216)","ИЗВОРИ КАПИТАЛА  И УТВРЂИВАЊЕ РЕЗУЛТАТА ПОСЛОВАЊА (1204 + 1213 – 1214 + 1215 – 1216)","ИЗВОРИ КАПИТАЛА  И УТВРЂИВАЊЕ РЕЗУЛТАТА ПОСЛОВАЊА (1204 + 1213 – 1214 + 1215 – 1216)","ИЗВОРИ КАПИТАЛА  И УТВРЂИВАЊЕ РЕЗУЛТАТА ПОСЛОВАЊА (1204 + 1213 – 1214 + 1215 – 1216)","ИЗВОРИ КАПИТАЛА  И УТВРЂИВАЊЕ РЕЗУЛТАТА ПОСЛОВАЊА (1204 + 1213 – 1214 + 1215 – 1216)","ИЗВОРИ КАПИТАЛА  И УТВРЂИВАЊЕ РЕЗУЛТАТА ПОСЛОВАЊА (1204 + 1213 – 1214 + 1215 – 1216)","ИЗВОРИ КАПИТАЛА  И УТВРЂИВАЊЕ РЕЗУЛТАТА ПОСЛОВАЊА (1204 + 1213 – 1214 + 1215 – 1216)","ИЗВОРИ КАПИТАЛА  И УТВРЂИВАЊЕ РЕЗУЛТАТА ПОСЛОВАЊА (1204 + 1213 – 1214 + 1215 – 1216)","ИЗВОРИ КАПИТАЛА  И УТВРЂИВАЊЕ РЕЗУЛТАТА ПОСЛОВАЊА (1204 + 1213 – 1214 + 1215 – 1216)","ИЗВОРИ КАПИТАЛА  И УТВРЂИВАЊЕ РЕЗУЛТАТА ПОСЛОВАЊА (1204 + 1213 – 1214 + 1215 – 1216)","ИЗВОРИ КАПИТАЛА  И УТВРЂИВАЊЕ РЕЗУЛТАТА ПОСЛОВАЊА (1204 + 1213 – 1214 + 1215 – 1216)","ИЗВОРИ КАПИТАЛА  И УТВРЂИВАЊЕ РЕЗУЛТАТА ПОСЛОВАЊА (1204 + 1213 – 1214 + 1215 – 1216)","ИЗВОРИ КАПИТАЛА  И УТВРЂИВАЊЕ РЕЗУЛТАТА ПОСЛОВАЊА (1204 + 1213 – 1214 + 1215 – 1216)",{"$f":"UnObr1!F225","v":0},null,null,null,null,null,null,null,null,null,{"$f":"UnObr1!G225","v":0}]
[1217,null,null,291900,300000,300000,300000,"Остала пасивна временска разграничења","ИЗВОРИ КАПИТАЛА  И УТВРЂИВАЊЕ РЕЗУЛТАТА ПОСЛОВАЊА (1204 + 1213 – 1214 + 1215 – 1216)","ИЗВОРИ КАПИТАЛА  И УТВРЂИВАЊЕ РЕЗУЛТАТА ПОСЛОВАЊА (1204 + 1213 – 1214 + 1215 – 1216)","ИЗВОРИ КАПИТАЛА  И УТВРЂИВАЊЕ РЕЗУЛТАТА ПОСЛОВАЊА (1204 + 1213 – 1214 + 1215 – 1216)","ИЗВОРИ КАПИТАЛА  И УТВРЂИВАЊЕ РЕЗУЛТАТА ПОСЛОВАЊА (1204 + 1213 – 1214 + 1215 – 1216)","ИЗВОРИ КАПИТАЛА  И УТВРЂИВАЊЕ РЕЗУЛТАТА ПОСЛОВАЊА (1204 + 1213 – 1214 + 1215 – 1216)","ИЗВОРИ КАПИТАЛА  И УТВРЂИВАЊЕ РЕЗУЛТАТА ПОСЛОВАЊА (1204 + 1213 – 1214 + 1215 – 1216)","ИЗВОРИ КАПИТАЛА  И УТВРЂИВАЊЕ РЕЗУЛТАТА ПОСЛОВАЊА (1204 + 1213 – 1214 + 1215 – 1216)","ИЗВОРИ КАПИТАЛА  И УТВРЂИВАЊЕ РЕЗУЛТАТА ПОСЛОВАЊА (1204 + 1213 – 1214 + 1215 – 1216)","ИЗВОРИ КАПИТАЛА  И УТВРЂИВАЊЕ РЕЗУЛТАТА ПОСЛОВАЊА (1204 + 1213 – 1214 + 1215 – 1216)","ИЗВОРИ КАПИТАЛА  И УТВРЂИВАЊЕ РЕЗУЛТАТА ПОСЛОВАЊА (1204 + 1213 – 1214 + 1215 – 1216)","ИЗВОРИ КАПИТАЛА  И УТВРЂИВАЊЕ РЕЗУЛТАТА ПОСЛОВАЊА (1204 + 1213 – 1214 + 1215 – 1216)","ИЗВОРИ КАПИТАЛА  И УТВРЂИВАЊЕ РЕЗУЛТАТА ПОСЛОВАЊА (1204 + 1213 – 1214 + 1215 – 1216)","ИЗВОРИ КАПИТАЛА  И УТВРЂИВАЊЕ РЕЗУЛТАТА ПОСЛОВАЊА (1204 + 1213 – 1214 + 1215 – 1216)","ИЗВОРИ КАПИТАЛА  И УТВРЂИВАЊЕ РЕЗУЛТАТА ПОСЛОВАЊА (1204 + 1213 – 1214 + 1215 – 1216)","ИЗВОРИ КАПИТАЛА  И УТВРЂИВАЊЕ РЕЗУЛТАТА ПОСЛОВАЊА (1204 + 1213 – 1214 + 1215 – 1216)","ИЗВОРИ КАПИТАЛА  И УТВРЂИВАЊЕ РЕЗУЛТАТА ПОСЛОВАЊА (1204 + 1213 – 1214 + 1215 – 1216)",{"$f":"UnObr1!F226","v":710},null,null,null,null,null,null,null,null,null,{"$f":"UnObr1!G226","v":783}]
[1218,null,null,300000,300000,300000,300000,"КАПИТАЛ, УТВРЂИВАЊЕ РЕЗУЛТАТА ПОСЛОВАЊА И ВАНБИЛАНСНА ЕВИДЕНЦИЈА\n(1219 + 1229 - 1230 + 1231 - 1232 + 1233 - 1234)","ИЗВОРИ КАПИТАЛА  И УТВРЂИВАЊЕ РЕЗУЛТАТА ПОСЛОВАЊА (1204 + 1213 – 1214 + 1215 – 1216)","ИЗВОРИ КАПИТАЛА  И УТВРЂИВАЊЕ РЕЗУЛТАТА ПОСЛОВАЊА (1204 + 1213 – 1214 + 1215 – 1216)","ИЗВОРИ КАПИТАЛА  И УТВРЂИВАЊЕ РЕЗУЛТАТА ПОСЛОВАЊА (1204 + 1213 – 1214 + 1215 – 1216)","ИЗВОРИ КАПИТАЛА  И УТВРЂИВАЊЕ РЕЗУЛТАТА ПОСЛОВАЊА (1204 + 1213 – 1214 + 1215 – 1216)","ИЗВОРИ КАПИТАЛА  И УТВРЂИВАЊЕ РЕЗУЛТАТА ПОСЛОВАЊА (1204 + 1213 – 1214 + 1215 – 1216)","ИЗВОРИ КАПИТАЛА  И УТВРЂИВАЊЕ РЕЗУЛТАТА ПОСЛОВАЊА (1204 + 1213 – 1214 + 1215 – 1216)","ИЗВОРИ КАПИТАЛА  И УТВРЂИВАЊЕ РЕЗУЛТАТА ПОСЛОВАЊА (1204 + 1213 – 1214 + 1215 – 1216)","ИЗВОРИ КАПИТАЛА  И УТВРЂИВАЊЕ РЕЗУЛТАТА ПОСЛОВАЊА (1204 + 1213 – 1214 + 1215 – 1216)","ИЗВОРИ КАПИТАЛА  И УТВРЂИВАЊЕ РЕЗУЛТАТА ПОСЛОВАЊА (1204 + 1213 – 1214 + 1215 – 1216)","ИЗВОРИ КАПИТАЛА  И УТВРЂИВАЊЕ РЕЗУЛТАТА ПОСЛОВАЊА (1204 + 1213 – 1214 + 1215 – 1216)","ИЗВОРИ КАПИТАЛА  И УТВРЂИВАЊЕ РЕЗУЛТАТА ПОСЛОВАЊА (1204 + 1213 – 1214 + 1215 – 1216)","ИЗВОРИ КАПИТАЛА  И УТВРЂИВАЊЕ РЕЗУЛТАТА ПОСЛОВАЊА (1204 + 1213 – 1214 + 1215 – 1216)","ИЗВОРИ КАПИТАЛА  И УТВРЂИВАЊЕ РЕЗУЛТАТА ПОСЛОВАЊА (1204 + 1213 – 1214 + 1215 – 1216)","ИЗВОРИ КАПИТАЛА  И УТВРЂИВАЊЕ РЕЗУЛТАТА ПОСЛОВАЊА (1204 + 1213 – 1214 + 1215 – 1216)","ИЗВОРИ КАПИТАЛА  И УТВРЂИВАЊЕ РЕЗУЛТАТА ПОСЛОВАЊА (1204 + 1213 – 1214 + 1215 – 1216)","ИЗВОРИ КАПИТАЛА  И УТВРЂИВАЊЕ РЕЗУЛТАТА ПОСЛОВАЊА (1204 + 1213 – 1214 + 1215 – 1216)",{"$f":"UnObr1!F227","v":80931},null,null,null,null,null,null,null,null,null,{"$f":"UnObr1!G227","v":78881}]
[1219,null,null,310000,300000,300000,300000,"КАПИТАЛ (1220)","ИЗВОРИ КАПИТАЛА  И УТВРЂИВАЊЕ РЕЗУЛТАТА ПОСЛОВАЊА (1204 + 1213 – 1214 + 1215 – 1216)","ИЗВОРИ КАПИТАЛА  И УТВРЂИВАЊЕ РЕЗУЛТАТА ПОСЛОВАЊА (1204 + 1213 – 1214 + 1215 – 1216)","ИЗВОРИ КАПИТАЛА  И УТВРЂИВАЊЕ РЕЗУЛТАТА ПОСЛОВАЊА (1204 + 1213 – 1214 + 1215 – 1216)","ИЗВОРИ КАПИТАЛА  И УТВРЂИВАЊЕ РЕЗУЛТАТА ПОСЛОВАЊА (1204 + 1213 – 1214 + 1215 – 1216)","ИЗВОРИ КАПИТАЛА  И УТВРЂИВАЊЕ РЕЗУЛТАТА ПОСЛОВАЊА (1204 + 1213 – 1214 + 1215 – 1216)","ИЗВОРИ КАПИТАЛА  И УТВРЂИВАЊЕ РЕЗУЛТАТА ПОСЛОВАЊА (1204 + 1213 – 1214 + 1215 – 1216)","ИЗВОРИ КАПИТАЛА  И УТВРЂИВАЊЕ РЕЗУЛТАТА ПОСЛОВАЊА (1204 + 1213 – 1214 + 1215 – 1216)","ИЗВОРИ КАПИТАЛА  И УТВРЂИВАЊЕ РЕЗУЛТАТА ПОСЛОВАЊА (1204 + 1213 – 1214 + 1215 – 1216)","ИЗВОРИ КАПИТАЛА  И УТВРЂИВАЊЕ РЕЗУЛТАТА ПОСЛОВАЊА (1204 + 1213 – 1214 + 1215 – 1216)","ИЗВОРИ КАПИТАЛА  И УТВРЂИВАЊЕ РЕЗУЛТАТА ПОСЛОВАЊА (1204 + 1213 – 1214 + 1215 – 1216)","ИЗВОРИ КАПИТАЛА  И УТВРЂИВАЊЕ РЕЗУЛТАТА ПОСЛОВАЊА (1204 + 1213 – 1214 + 1215 – 1216)","ИЗВОРИ КАПИТАЛА  И УТВРЂИВАЊЕ РЕЗУЛТАТА ПОСЛОВАЊА (1204 + 1213 – 1214 + 1215 – 1216)","ИЗВОРИ КАПИТАЛА  И УТВРЂИВАЊЕ РЕЗУЛТАТА ПОСЛОВАЊА (1204 + 1213 – 1214 + 1215 – 1216)","ИЗВОРИ КАПИТАЛА  И УТВРЂИВАЊЕ РЕЗУЛТАТА ПОСЛОВАЊА (1204 + 1213 – 1214 + 1215 – 1216)","ИЗВОРИ КАПИТАЛА  И УТВРЂИВАЊЕ РЕЗУЛТАТА ПОСЛОВАЊА (1204 + 1213 – 1214 + 1215 – 1216)","ИЗВОРИ КАПИТАЛА  И УТВРЂИВАЊЕ РЕЗУЛТАТА ПОСЛОВАЊА (1204 + 1213 – 1214 + 1215 – 1216)",{"$f":"UnObr1!F228","v":80930},null,null,null,null,null,null,null,null,null,{"$f":"UnObr1!G228","v":78875}]
[1220,null,null,311000,300000,300000,300000,"КАПИТАЛ \n(1221 + 1222 - 1223 + 1224 + 1225 - 1226 + 1227 + 1228)","ИЗВОРИ КАПИТАЛА  И УТВРЂИВАЊЕ РЕЗУЛТАТА ПОСЛОВАЊА (1204 + 1213 – 1214 + 1215 – 1216)","ИЗВОРИ КАПИТАЛА  И УТВРЂИВАЊЕ РЕЗУЛТАТА ПОСЛОВАЊА (1204 + 1213 – 1214 + 1215 – 1216)","ИЗВОРИ КАПИТАЛА  И УТВРЂИВАЊЕ РЕЗУЛТАТА ПОСЛОВАЊА (1204 + 1213 – 1214 + 1215 – 1216)","ИЗВОРИ КАПИТАЛА  И УТВРЂИВАЊЕ РЕЗУЛТАТА ПОСЛОВАЊА (1204 + 1213 – 1214 + 1215 – 1216)","ИЗВОРИ КАПИТАЛА  И УТВРЂИВАЊЕ РЕЗУЛТАТА ПОСЛОВАЊА (1204 + 1213 – 1214 + 1215 – 1216)","ИЗВОРИ КАПИТАЛА  И УТВРЂИВАЊЕ РЕЗУЛТАТА ПОСЛОВАЊА (1204 + 1213 – 1214 + 1215 – 1216)","ИЗВОРИ КАПИТАЛА  И УТВРЂИВАЊЕ РЕЗУЛТАТА ПОСЛОВАЊА (1204 + 1213 – 1214 + 1215 – 1216)","ИЗВОРИ КАПИТАЛА  И УТВРЂИВАЊЕ РЕЗУЛТАТА ПОСЛОВАЊА (1204 + 1213 – 1214 + 1215 – 1216)","ИЗВОРИ КАПИТАЛА  И УТВРЂИВАЊЕ РЕЗУЛТАТА ПОСЛОВАЊА (1204 + 1213 – 1214 + 1215 – 1216)","ИЗВОРИ КАПИТАЛА  И УТВРЂИВАЊЕ РЕЗУЛТАТА ПОСЛОВАЊА (1204 + 1213 – 1214 + 1215 – 1216)","ИЗВОРИ КАПИТАЛА  И УТВРЂИВАЊЕ РЕЗУЛТАТА ПОСЛОВАЊА (1204 + 1213 – 1214 + 1215 – 1216)","ИЗВОРИ КАПИТАЛА  И УТВРЂИВАЊЕ РЕЗУЛТАТА ПОСЛОВАЊА (1204 + 1213 – 1214 + 1215 – 1216)","ИЗВОРИ КАПИТАЛА  И УТВРЂИВАЊЕ РЕЗУЛТАТА ПОСЛОВАЊА (1204 + 1213 – 1214 + 1215 – 1216)","ИЗВОРИ КАПИТАЛА  И УТВРЂИВАЊЕ РЕЗУЛТАТА ПОСЛОВАЊА (1204 + 1213 – 1214 + 1215 – 1216)","ИЗВОРИ КАПИТАЛА  И УТВРЂИВАЊЕ РЕЗУЛТАТА ПОСЛОВАЊА (1204 + 1213 – 1214 + 1215 – 1216)","ИЗВОРИ КАПИТАЛА  И УТВРЂИВАЊЕ РЕЗУЛТАТА ПОСЛОВАЊА (1204 + 1213 – 1214 + 1215 – 1216)",{"$f":"UnObr1!F229","v":80930},null,null,null,null,null,null,null,null,null,{"$f":"UnObr1!G229","v":78875}]
[1221,null,null,311100,300000,300000,300000,"Нефинансијска имовина у сталним средствима","ИЗВОРИ КАПИТАЛА  И УТВРЂИВАЊЕ РЕЗУЛТАТА ПОСЛОВАЊА (1204 + 1213 – 1214 + 1215 – 1216)","ИЗВОРИ КАПИТАЛА  И УТВРЂИВАЊЕ РЕЗУЛТАТА ПОСЛОВАЊА (1204 + 1213 – 1214 + 1215 – 1216)","ИЗВОРИ КАПИТАЛА  И УТВРЂИВАЊЕ РЕЗУЛТАТА ПОСЛОВАЊА (1204 + 1213 – 1214 + 1215 – 1216)","ИЗВОРИ КАПИТАЛА  И УТВРЂИВАЊЕ РЕЗУЛТАТА ПОСЛОВАЊА (1204 + 1213 – 1214 + 1215 – 1216)","ИЗВОРИ КАПИТАЛА  И УТВРЂИВАЊЕ РЕЗУЛТАТА ПОСЛОВАЊА (1204 + 1213 – 1214 + 1215 – 1216)","ИЗВОРИ КАПИТАЛА  И УТВРЂИВАЊЕ РЕЗУЛТАТА ПОСЛОВАЊА (1204 + 1213 – 1214 + 1215 – 1216)","ИЗВОРИ КАПИТАЛА  И УТВРЂИВАЊЕ РЕЗУЛТАТА ПОСЛОВАЊА (1204 + 1213 – 1214 + 1215 – 1216)","ИЗВОРИ КАПИТАЛА  И УТВРЂИВАЊЕ РЕЗУЛТАТА ПОСЛОВАЊА (1204 + 1213 – 1214 + 1215 – 1216)","ИЗВОРИ КАПИТАЛА  И УТВРЂИВАЊЕ РЕЗУЛТАТА ПОСЛОВАЊА (1204 + 1213 – 1214 + 1215 – 1216)","ИЗВОРИ КАПИТАЛА  И УТВРЂИВАЊЕ РЕЗУЛТАТА ПОСЛОВАЊА (1204 + 1213 – 1214 + 1215 – 1216)","ИЗВОРИ КАПИТАЛА  И УТВРЂИВАЊЕ РЕЗУЛТАТА ПОСЛОВАЊА (1204 + 1213 – 1214 + 1215 – 1216)","ИЗВОРИ КАПИТАЛА  И УТВРЂИВАЊЕ РЕЗУЛТАТА ПОСЛОВАЊА (1204 + 1213 – 1214 + 1215 – 1216)","ИЗВОРИ КАПИТАЛА  И УТВРЂИВАЊЕ РЕЗУЛТАТА ПОСЛОВАЊА (1204 + 1213 – 1214 + 1215 – 1216)","ИЗВОРИ КАПИТАЛА  И УТВРЂИВАЊЕ РЕЗУЛТАТА ПОСЛОВАЊА (1204 + 1213 – 1214 + 1215 – 1216)","ИЗВОРИ КАПИТАЛА  И УТВРЂИВАЊЕ РЕЗУЛТАТА ПОСЛОВАЊА (1204 + 1213 – 1214 + 1215 – 1216)","ИЗВОРИ КАПИТАЛА  И УТВРЂИВАЊЕ РЕЗУЛТАТА ПОСЛОВАЊА (1204 + 1213 – 1214 + 1215 – 1216)",{"$f":"UnObr1!F230","v":80930},null,null,null,null,null,null,null,null,null,{"$f":"UnObr1!G230","v":78875}]
[1222,null,null,311200,300000,300000,300000,"Нефинансијска имовина у залихама","ИЗВОРИ КАПИТАЛА  И УТВРЂИВАЊЕ РЕЗУЛТАТА ПОСЛОВАЊА (1204 + 1213 – 1214 + 1215 – 1216)","ИЗВОРИ КАПИТАЛА  И УТВРЂИВАЊЕ РЕЗУЛТАТА ПОСЛОВАЊА (1204 + 1213 – 1214 + 1215 – 1216)","ИЗВОРИ КАПИТАЛА  И УТВРЂИВАЊЕ РЕЗУЛТАТА ПОСЛОВАЊА (1204 + 1213 – 1214 + 1215 – 1216)","ИЗВОРИ КАПИТАЛА  И УТВРЂИВАЊЕ РЕЗУЛТАТА ПОСЛОВАЊА (1204 + 1213 – 1214 + 1215 – 1216)","ИЗВОРИ КАПИТАЛА  И УТВРЂИВАЊЕ РЕЗУЛТАТА ПОСЛОВАЊА (1204 + 1213 – 1214 + 1215 – 1216)","ИЗВОРИ КАПИТАЛА  И УТВРЂИВАЊЕ РЕЗУЛТАТА ПОСЛОВАЊА (1204 + 1213 – 1214 + 1215 – 1216)","ИЗВОРИ КАПИТАЛА  И УТВРЂИВАЊЕ РЕЗУЛТАТА ПОСЛОВАЊА (1204 + 1213 – 1214 + 1215 – 1216)","ИЗВОРИ КАПИТАЛА  И УТВРЂИВАЊЕ РЕЗУЛТАТА ПОСЛОВАЊА (1204 + 1213 – 1214 + 1215 – 1216)","ИЗВОРИ КАПИТАЛА  И УТВРЂИВАЊЕ РЕЗУЛТАТА ПОСЛОВАЊА (1204 + 1213 – 1214 + 1215 – 1216)","ИЗВОРИ КАПИТАЛА  И УТВРЂИВАЊЕ РЕЗУЛТАТА ПОСЛОВАЊА (1204 + 1213 – 1214 + 1215 – 1216)","ИЗВОРИ КАПИТАЛА  И УТВРЂИВАЊЕ РЕЗУЛТАТА ПОСЛОВАЊА (1204 + 1213 – 1214 + 1215 – 1216)","ИЗВОРИ КАПИТАЛА  И УТВРЂИВАЊЕ РЕЗУЛТАТА ПОСЛОВАЊА (1204 + 1213 – 1214 + 1215 – 1216)","ИЗВОРИ КАПИТАЛА  И УТВРЂИВАЊЕ РЕЗУЛТАТА ПОСЛОВАЊА (1204 + 1213 – 1214 + 1215 – 1216)","ИЗВОРИ КАПИТАЛА  И УТВРЂИВАЊЕ РЕЗУЛТАТА ПОСЛОВАЊА (1204 + 1213 – 1214 + 1215 – 1216)","ИЗВОРИ КАПИТАЛА  И УТВРЂИВАЊЕ РЕЗУЛТАТА ПОСЛОВАЊА (1204 + 1213 – 1214 + 1215 – 1216)","ИЗВОРИ КАПИТАЛА  И УТВРЂИВАЊЕ РЕЗУЛТАТА ПОСЛОВАЊА (1204 + 1213 – 1214 + 1215 – 1216)",{"$f":"UnObr1!F231","v":0},null,null,null,null,null,null,null,null,null,{"$f":"UnObr1!G231","v":0}]
[1223,null,null,311300,300000,300000,300000,"Исправка вредности сопствених извора нефинансијске имовине, у сталним средствима, за набавке из кредита","ИЗВОРИ КАПИТАЛА  И УТВРЂИВАЊЕ РЕЗУЛТАТА ПОСЛОВАЊА (1204 + 1213 – 1214 + 1215 – 1216)","ИЗВОРИ КАПИТАЛА  И УТВРЂИВАЊЕ РЕЗУЛТАТА ПОСЛОВАЊА (1204 + 1213 – 1214 + 1215 – 1216)","ИЗВОРИ КАПИТАЛА  И УТВРЂИВАЊЕ РЕЗУЛТАТА ПОСЛОВАЊА (1204 + 1213 – 1214 + 1215 – 1216)","ИЗВОРИ КАПИТАЛА  И УТВРЂИВАЊЕ РЕЗУЛТАТА ПОСЛОВАЊА (1204 + 1213 – 1214 + 1215 – 1216)","ИЗВОРИ КАПИТАЛА  И УТВРЂИВАЊЕ РЕЗУЛТАТА ПОСЛОВАЊА (1204 + 1213 – 1214 + 1215 – 1216)","ИЗВОРИ КАПИТАЛА  И УТВРЂИВАЊЕ РЕЗУЛТАТА ПОСЛОВАЊА (1204 + 1213 – 1214 + 1215 – 1216)","ИЗВОРИ КАПИТАЛА  И УТВРЂИВАЊЕ РЕЗУЛТАТА ПОСЛОВАЊА (1204 + 1213 – 1214 + 1215 – 1216)","ИЗВОРИ КАПИТАЛА  И УТВРЂИВАЊЕ РЕЗУЛТАТА ПОСЛОВАЊА (1204 + 1213 – 1214 + 1215 – 1216)","ИЗВОРИ КАПИТАЛА  И УТВРЂИВАЊЕ РЕЗУЛТАТА ПОСЛОВАЊА (1204 + 1213 – 1214 + 1215 – 1216)","ИЗВОРИ КАПИТАЛА  И УТВРЂИВАЊЕ РЕЗУЛТАТА ПОСЛОВАЊА (1204 + 1213 – 1214 + 1215 – 1216)","ИЗВОРИ КАПИТАЛА  И УТВРЂИВАЊЕ РЕЗУЛТАТА ПОСЛОВАЊА (1204 + 1213 – 1214 + 1215 – 1216)","ИЗВОРИ КАПИТАЛА  И УТВРЂИВАЊЕ РЕЗУЛТАТА ПОСЛОВАЊА (1204 + 1213 – 1214 + 1215 – 1216)","ИЗВОРИ КАПИТАЛА  И УТВРЂИВАЊЕ РЕЗУЛТАТА ПОСЛОВАЊА (1204 + 1213 – 1214 + 1215 – 1216)","ИЗВОРИ КАПИТАЛА  И УТВРЂИВАЊЕ РЕЗУЛТАТА ПОСЛОВАЊА (1204 + 1213 – 1214 + 1215 – 1216)","ИЗВОРИ КАПИТАЛА  И УТВРЂИВАЊЕ РЕЗУЛТАТА ПОСЛОВАЊА (1204 + 1213 – 1214 + 1215 – 1216)","ИЗВОРИ КАПИТАЛА  И УТВРЂИВАЊЕ РЕЗУЛТАТА ПОСЛОВАЊА (1204 + 1213 – 1214 + 1215 – 1216)",{"$f":"UnObr1!F232","v":0},null,null,null,null,null,null,null,null,null,{"$f":"UnObr1!G232","v":0}]
[1224,null,null,311400,300000,300000,300000,"Финансијска имовина","ИЗВОРИ КАПИТАЛА  И УТВРЂИВАЊЕ РЕЗУЛТАТА ПОСЛОВАЊА (1204 + 1213 – 1214 + 1215 – 1216)","ИЗВОРИ КАПИТАЛА  И УТВРЂИВАЊЕ РЕЗУЛТАТА ПОСЛОВАЊА (1204 + 1213 – 1214 + 1215 – 1216)","ИЗВОРИ КАПИТАЛА  И УТВРЂИВАЊЕ РЕЗУЛТАТА ПОСЛОВАЊА (1204 + 1213 – 1214 + 1215 – 1216)","ИЗВОРИ КАПИТАЛА  И УТВРЂИВАЊЕ РЕЗУЛТАТА ПОСЛОВАЊА (1204 + 1213 – 1214 + 1215 – 1216)","ИЗВОРИ КАПИТАЛА  И УТВРЂИВАЊЕ РЕЗУЛТАТА ПОСЛОВАЊА (1204 + 1213 – 1214 + 1215 – 1216)","ИЗВОРИ КАПИТАЛА  И УТВРЂИВАЊЕ РЕЗУЛТАТА ПОСЛОВАЊА (1204 + 1213 – 1214 + 1215 – 1216)","ИЗВОРИ КАПИТАЛА  И УТВРЂИВАЊЕ РЕЗУЛТАТА ПОСЛОВАЊА (1204 + 1213 – 1214 + 1215 – 1216)","ИЗВОРИ КАПИТАЛА  И УТВРЂИВАЊЕ РЕЗУЛТАТА ПОСЛОВАЊА (1204 + 1213 – 1214 + 1215 – 1216)","ИЗВОРИ КАПИТАЛА  И УТВРЂИВАЊЕ РЕЗУЛТАТА ПОСЛОВАЊА (1204 + 1213 – 1214 + 1215 – 1216)","ИЗВОРИ КАПИТАЛА  И УТВРЂИВАЊЕ РЕЗУЛТАТА ПОСЛОВАЊА (1204 + 1213 – 1214 + 1215 – 1216)","ИЗВОРИ КАПИТАЛА  И УТВРЂИВАЊЕ РЕЗУЛТАТА ПОСЛОВАЊА (1204 + 1213 – 1214 + 1215 – 1216)","ИЗВОРИ КАПИТАЛА  И УТВРЂИВАЊЕ РЕЗУЛТАТА ПОСЛОВАЊА (1204 + 1213 – 1214 + 1215 – 1216)","ИЗВОРИ КАПИТАЛА  И УТВРЂИВАЊЕ РЕЗУЛТАТА ПОСЛОВАЊА (1204 + 1213 – 1214 + 1215 – 1216)","ИЗВОРИ КАПИТАЛА  И УТВРЂИВАЊЕ РЕЗУЛТАТА ПОСЛОВАЊА (1204 + 1213 – 1214 + 1215 – 1216)","ИЗВОРИ КАПИТАЛА  И УТВРЂИВАЊЕ РЕЗУЛТАТА ПОСЛОВАЊА (1204 + 1213 – 1214 + 1215 – 1216)","ИЗВОРИ КАПИТАЛА  И УТВРЂИВАЊЕ РЕЗУЛТАТА ПОСЛОВАЊА (1204 + 1213 – 1214 + 1215 – 1216)",{"$f":"UnObr1!F233","v":0},null,null,null,null,null,null,null,null,null,{"$f":"UnObr1!G233","v":0}]
[1225,null,null,311500,300000,300000,300000,"Извори новчаних средстава","ИЗВОРИ КАПИТАЛА  И УТВРЂИВАЊЕ РЕЗУЛТАТА ПОСЛОВАЊА (1204 + 1213 – 1214 + 1215 – 1216)","ИЗВОРИ КАПИТАЛА  И УТВРЂИВАЊЕ РЕЗУЛТАТА ПОСЛОВАЊА (1204 + 1213 – 1214 + 1215 – 1216)","ИЗВОРИ КАПИТАЛА  И УТВРЂИВАЊЕ РЕЗУЛТАТА ПОСЛОВАЊА (1204 + 1213 – 1214 + 1215 – 1216)","ИЗВОРИ КАПИТАЛА  И УТВРЂИВАЊЕ РЕЗУЛТАТА ПОСЛОВАЊА (1204 + 1213 – 1214 + 1215 – 1216)","ИЗВОРИ КАПИТАЛА  И УТВРЂИВАЊЕ РЕЗУЛТАТА ПОСЛОВАЊА (1204 + 1213 – 1214 + 1215 – 1216)","ИЗВОРИ КАПИТАЛА  И УТВРЂИВАЊЕ РЕЗУЛТАТА ПОСЛОВАЊА (1204 + 1213 – 1214 + 1215 – 1216)","ИЗВОРИ КАПИТАЛА  И УТВРЂИВАЊЕ РЕЗУЛТАТА ПОСЛОВАЊА (1204 + 1213 – 1214 + 1215 – 1216)","ИЗВОРИ КАПИТАЛА  И УТВРЂИВАЊЕ РЕЗУЛТАТА ПОСЛОВАЊА (1204 + 1213 – 1214 + 1215 – 1216)","ИЗВОРИ КАПИТАЛА  И УТВРЂИВАЊЕ РЕЗУЛТАТА ПОСЛОВАЊА (1204 + 1213 – 1214 + 1215 – 1216)","ИЗВОРИ КАПИТАЛА  И УТВРЂИВАЊЕ РЕЗУЛТАТА ПОСЛОВАЊА (1204 + 1213 – 1214 + 1215 – 1216)","ИЗВОРИ КАПИТАЛА  И УТВРЂИВАЊЕ РЕЗУЛТАТА ПОСЛОВАЊА (1204 + 1213 – 1214 + 1215 – 1216)","ИЗВОРИ КАПИТАЛА  И УТВРЂИВАЊЕ РЕЗУЛТАТА ПОСЛОВАЊА (1204 + 1213 – 1214 + 1215 – 1216)","ИЗВОРИ КАПИТАЛА  И УТВРЂИВАЊЕ РЕЗУЛТАТА ПОСЛОВАЊА (1204 + 1213 – 1214 + 1215 – 1216)","ИЗВОРИ КАПИТАЛА  И УТВРЂИВАЊЕ РЕЗУЛТАТА ПОСЛОВАЊА (1204 + 1213 – 1214 + 1215 – 1216)","ИЗВОРИ КАПИТАЛА  И УТВРЂИВАЊЕ РЕЗУЛТАТА ПОСЛОВАЊА (1204 + 1213 – 1214 + 1215 – 1216)","ИЗВОРИ КАПИТАЛА  И УТВРЂИВАЊЕ РЕЗУЛТАТА ПОСЛОВАЊА (1204 + 1213 – 1214 + 1215 – 1216)",{"$f":"UnObr1!F234","v":0},null,null,null,null,null,null,null,null,null,{"$f":"UnObr1!G234","v":0}]
[1226,null,null,311600,300000,300000,300000,"Утрошена средства текућих прихода и примања од \nпродаје нефинансијске имовине у току једне године","ИЗВОРИ КАПИТАЛА  И УТВРЂИВАЊЕ РЕЗУЛТАТА ПОСЛОВАЊА (1204 + 1213 – 1214 + 1215 – 1216)","ИЗВОРИ КАПИТАЛА  И УТВРЂИВАЊЕ РЕЗУЛТАТА ПОСЛОВАЊА (1204 + 1213 – 1214 + 1215 – 1216)","ИЗВОРИ КАПИТАЛА  И УТВРЂИВАЊЕ РЕЗУЛТАТА ПОСЛОВАЊА (1204 + 1213 – 1214 + 1215 – 1216)","ИЗВОРИ КАПИТАЛА  И УТВРЂИВАЊЕ РЕЗУЛТАТА ПОСЛОВАЊА (1204 + 1213 – 1214 + 1215 – 1216)","ИЗВОРИ КАПИТАЛА  И УТВРЂИВАЊЕ РЕЗУЛТАТА ПОСЛОВАЊА (1204 + 1213 – 1214 + 1215 – 1216)","ИЗВОРИ КАПИТАЛА  И УТВРЂИВАЊЕ РЕЗУЛТАТА ПОСЛОВАЊА (1204 + 1213 – 1214 + 1215 – 1216)","ИЗВОРИ КАПИТАЛА  И УТВРЂИВАЊЕ РЕЗУЛТАТА ПОСЛОВАЊА (1204 + 1213 – 1214 + 1215 – 1216)","ИЗВОРИ КАПИТАЛА  И УТВРЂИВАЊЕ РЕЗУЛТАТА ПОСЛОВАЊА (1204 + 1213 – 1214 + 1215 – 1216)","ИЗВОРИ КАПИТАЛА  И УТВРЂИВАЊЕ РЕЗУЛТАТА ПОСЛОВАЊА (1204 + 1213 – 1214 + 1215 – 1216)","ИЗВОРИ КАПИТАЛА  И УТВРЂИВАЊЕ РЕЗУЛТАТА ПОСЛОВАЊА (1204 + 1213 – 1214 + 1215 – 1216)","ИЗВОРИ КАПИТАЛА  И УТВРЂИВАЊЕ РЕЗУЛТАТА ПОСЛОВАЊА (1204 + 1213 – 1214 + 1215 – 1216)","ИЗВОРИ КАПИТАЛА  И УТВРЂИВАЊЕ РЕЗУЛТАТА ПОСЛОВАЊА (1204 + 1213 – 1214 + 1215 – 1216)","ИЗВОРИ КАПИТАЛА  И УТВРЂИВАЊЕ РЕЗУЛТАТА ПОСЛОВАЊА (1204 + 1213 – 1214 + 1215 – 1216)","ИЗВОРИ КАПИТАЛА  И УТВРЂИВАЊЕ РЕЗУЛТАТА ПОСЛОВАЊА (1204 + 1213 – 1214 + 1215 – 1216)","ИЗВОРИ КАПИТАЛА  И УТВРЂИВАЊЕ РЕЗУЛТАТА ПОСЛОВАЊА (1204 + 1213 – 1214 + 1215 – 1216)","ИЗВОРИ КАПИТАЛА  И УТВРЂИВАЊЕ РЕЗУЛТАТА ПОСЛОВАЊА (1204 + 1213 – 1214 + 1215 – 1216)",{"$f":"UnObr1!F235","v":0},null,null,null,null,null,null,null,null,null,{"$f":"UnObr1!G235","v":0}]
["Ознака\nОП",null,null,"Број\nконта",null,null,null,"Опис",null,null,null,null,null,null,null,null,null,null,null,null,null,null,null,null,"Износ"]
[]
[null,null,null,null,null,null,null,null,null,null,null,null,null,null,null,null,null,null,null,null,null,null,null,null,"Претходна година",null,null,null,null,null,null,null,null,null,"Текућа година"]
[]
[1,null,null,2,null,null,null,3,null,null,null,null,null,null,null,null,null,null,null,null,null,null,null,null,4,null,null,null,null,null,null,null,null,5,5]
[1227,null,null,311700,300000,300000,300000,"Пренета неутрошена средства из ранијих година","ИЗВОРИ КАПИТАЛА  И УТВРЂИВАЊЕ РЕЗУЛТАТА ПОСЛОВАЊА (1204 + 1213 – 1214 + 1215 – 1216)","ИЗВОРИ КАПИТАЛА  И УТВРЂИВАЊЕ РЕЗУЛТАТА ПОСЛОВАЊА (1204 + 1213 – 1214 + 1215 – 1216)","ИЗВОРИ КАПИТАЛА  И УТВРЂИВАЊЕ РЕЗУЛТАТА ПОСЛОВАЊА (1204 + 1213 – 1214 + 1215 – 1216)","ИЗВОРИ КАПИТАЛА  И УТВРЂИВАЊЕ РЕЗУЛТАТА ПОСЛОВАЊА (1204 + 1213 – 1214 + 1215 – 1216)","ИЗВОРИ КАПИТАЛА  И УТВРЂИВАЊЕ РЕЗУЛТАТА ПОСЛОВАЊА (1204 + 1213 – 1214 + 1215 – 1216)","ИЗВОРИ КАПИТАЛА  И УТВРЂИВАЊЕ РЕЗУЛТАТА ПОСЛОВАЊА (1204 + 1213 – 1214 + 1215 – 1216)","ИЗВОРИ КАПИТАЛА  И УТВРЂИВАЊЕ РЕЗУЛТАТА ПОСЛОВАЊА (1204 + 1213 – 1214 + 1215 – 1216)","ИЗВОРИ КАПИТАЛА  И УТВРЂИВАЊЕ РЕЗУЛТАТА ПОСЛОВАЊА (1204 + 1213 – 1214 + 1215 – 1216)","ИЗВОРИ КАПИТАЛА  И УТВРЂИВАЊЕ РЕЗУЛТАТА ПОСЛОВАЊА (1204 + 1213 – 1214 + 1215 – 1216)","ИЗВОРИ КАПИТАЛА  И УТВРЂИВАЊЕ РЕЗУЛТАТА ПОСЛОВАЊА (1204 + 1213 – 1214 + 1215 – 1216)","ИЗВОРИ КАПИТАЛА  И УТВРЂИВАЊЕ РЕЗУЛТАТА ПОСЛОВАЊА (1204 + 1213 – 1214 + 1215 – 1216)","ИЗВОРИ КАПИТАЛА  И УТВРЂИВАЊЕ РЕЗУЛТАТА ПОСЛОВАЊА (1204 + 1213 – 1214 + 1215 – 1216)","ИЗВОРИ КАПИТАЛА  И УТВРЂИВАЊЕ РЕЗУЛТАТА ПОСЛОВАЊА (1204 + 1213 – 1214 + 1215 – 1216)","ИЗВОРИ КАПИТАЛА  И УТВРЂИВАЊЕ РЕЗУЛТАТА ПОСЛОВАЊА (1204 + 1213 – 1214 + 1215 – 1216)","ИЗВОРИ КАПИТАЛА  И УТВРЂИВАЊЕ РЕЗУЛТАТА ПОСЛОВАЊА (1204 + 1213 – 1214 + 1215 – 1216)","ИЗВОРИ КАПИТАЛА  И УТВРЂИВАЊЕ РЕЗУЛТАТА ПОСЛОВАЊА (1204 + 1213 – 1214 + 1215 – 1216)",{"$f":"UnObr1!F236","v":0},null,null,null,null,null,null,null,null,null,{"$f":"UnObr1!G236","v":0}]
[1228,null,null,311900,300000,300000,300000,"Остали сопствени извори","ИЗВОРИ КАПИТАЛА  И УТВРЂИВАЊЕ РЕЗУЛТАТА ПОСЛОВАЊА (1204 + 1213 – 1214 + 1215 – 1216)","ИЗВОРИ КАПИТАЛА  И УТВРЂИВАЊЕ РЕЗУЛТАТА ПОСЛОВАЊА (1204 + 1213 – 1214 + 1215 – 1216)","ИЗВОРИ КАПИТАЛА  И УТВРЂИВАЊЕ РЕЗУЛТАТА ПОСЛОВАЊА (1204 + 1213 – 1214 + 1215 – 1216)","ИЗВОРИ КАПИТАЛА  И УТВРЂИВАЊЕ РЕЗУЛТАТА ПОСЛОВАЊА (1204 + 1213 – 1214 + 1215 – 1216)","ИЗВОРИ КАПИТАЛА  И УТВРЂИВАЊЕ РЕЗУЛТАТА ПОСЛОВАЊА (1204 + 1213 – 1214 + 1215 – 1216)","ИЗВОРИ КАПИТАЛА  И УТВРЂИВАЊЕ РЕЗУЛТАТА ПОСЛОВАЊА (1204 + 1213 – 1214 + 1215 – 1216)","ИЗВОРИ КАПИТАЛА  И УТВРЂИВАЊЕ РЕЗУЛТАТА ПОСЛОВАЊА (1204 + 1213 – 1214 + 1215 – 1216)","ИЗВОРИ КАПИТАЛА  И УТВРЂИВАЊЕ РЕЗУЛТАТА ПОСЛОВАЊА (1204 + 1213 – 1214 + 1215 – 1216)","ИЗВОРИ КАПИТАЛА  И УТВРЂИВАЊЕ РЕЗУЛТАТА ПОСЛОВАЊА (1204 + 1213 – 1214 + 1215 – 1216)","ИЗВОРИ КАПИТАЛА  И УТВРЂИВАЊЕ РЕЗУЛТАТА ПОСЛОВАЊА (1204 + 1213 – 1214 + 1215 – 1216)","ИЗВОРИ КАПИТАЛА  И УТВРЂИВАЊЕ РЕЗУЛТАТА ПОСЛОВАЊА (1204 + 1213 – 1214 + 1215 – 1216)","ИЗВОРИ КАПИТАЛА  И УТВРЂИВАЊЕ РЕЗУЛТАТА ПОСЛОВАЊА (1204 + 1213 – 1214 + 1215 – 1216)","ИЗВОРИ КАПИТАЛА  И УТВРЂИВАЊЕ РЕЗУЛТАТА ПОСЛОВАЊА (1204 + 1213 – 1214 + 1215 – 1216)","ИЗВОРИ КАПИТАЛА  И УТВРЂИВАЊЕ РЕЗУЛТАТА ПОСЛОВАЊА (1204 + 1213 – 1214 + 1215 – 1216)","ИЗВОРИ КАПИТАЛА  И УТВРЂИВАЊЕ РЕЗУЛТАТА ПОСЛОВАЊА (1204 + 1213 – 1214 + 1215 – 1216)","ИЗВОРИ КАПИТАЛА  И УТВРЂИВАЊЕ РЕЗУЛТАТА ПОСЛОВАЊА (1204 + 1213 – 1214 + 1215 – 1216)",{"$f":"UnObr1!F237","v":0},null,null,null,null,null,null,null,null,null,{"$f":"UnObr1!G237","v":0}]
[1229,null,null,321121,300000,300000,300000,"Вишак прихода и примања – суфицит","ИЗВОРИ КАПИТАЛА  И УТВРЂИВАЊЕ РЕЗУЛТАТА ПОСЛОВАЊА (1204 + 1213 – 1214 + 1215 – 1216)","ИЗВОРИ КАПИТАЛА  И УТВРЂИВАЊЕ РЕЗУЛТАТА ПОСЛОВАЊА (1204 + 1213 – 1214 + 1215 – 1216)","ИЗВОРИ КАПИТАЛА  И УТВРЂИВАЊЕ РЕЗУЛТАТА ПОСЛОВАЊА (1204 + 1213 – 1214 + 1215 – 1216)","ИЗВОРИ КАПИТАЛА  И УТВРЂИВАЊЕ РЕЗУЛТАТА ПОСЛОВАЊА (1204 + 1213 – 1214 + 1215 – 1216)","ИЗВОРИ КАПИТАЛА  И УТВРЂИВАЊЕ РЕЗУЛТАТА ПОСЛОВАЊА (1204 + 1213 – 1214 + 1215 – 1216)","ИЗВОРИ КАПИТАЛА  И УТВРЂИВАЊЕ РЕЗУЛТАТА ПОСЛОВАЊА (1204 + 1213 – 1214 + 1215 – 1216)","ИЗВОРИ КАПИТАЛА  И УТВРЂИВАЊЕ РЕЗУЛТАТА ПОСЛОВАЊА (1204 + 1213 – 1214 + 1215 – 1216)","ИЗВОРИ КАПИТАЛА  И УТВРЂИВАЊЕ РЕЗУЛТАТА ПОСЛОВАЊА (1204 + 1213 – 1214 + 1215 – 1216)","ИЗВОРИ КАПИТАЛА  И УТВРЂИВАЊЕ РЕЗУЛТАТА ПОСЛОВАЊА (1204 + 1213 – 1214 + 1215 – 1216)","ИЗВОРИ КАПИТАЛА  И УТВРЂИВАЊЕ РЕЗУЛТАТА ПОСЛОВАЊА (1204 + 1213 – 1214 + 1215 – 1216)","ИЗВОРИ КАПИТАЛА  И УТВРЂИВАЊЕ РЕЗУЛТАТА ПОСЛОВАЊА (1204 + 1213 – 1214 + 1215 – 1216)","ИЗВОРИ КАПИТАЛА  И УТВРЂИВАЊЕ РЕЗУЛТАТА ПОСЛОВАЊА (1204 + 1213 – 1214 + 1215 – 1216)","ИЗВОРИ КАПИТАЛА  И УТВРЂИВАЊЕ РЕЗУЛТАТА ПОСЛОВАЊА (1204 + 1213 – 1214 + 1215 – 1216)","ИЗВОРИ КАПИТАЛА  И УТВРЂИВАЊЕ РЕЗУЛТАТА ПОСЛОВАЊА (1204 + 1213 – 1214 + 1215 – 1216)","ИЗВОРИ КАПИТАЛА  И УТВРЂИВАЊЕ РЕЗУЛТАТА ПОСЛОВАЊА (1204 + 1213 – 1214 + 1215 – 1216)","ИЗВОРИ КАПИТАЛА  И УТВРЂИВАЊЕ РЕЗУЛТАТА ПОСЛОВАЊА (1204 + 1213 – 1214 + 1215 – 1216)",{"$f":"UnObr1!F238","v":0},null,null,null,null,null,null,null,null,null,{"$f":"UnObr1!G238","v":5}]
[1230,null,null,321122,300000,300000,300000,"Мањак прихода и примања – дефицит","ИЗВОРИ КАПИТАЛА  И УТВРЂИВАЊЕ РЕЗУЛТАТА ПОСЛОВАЊА (1204 + 1213 – 1214 + 1215 – 1216)","ИЗВОРИ КАПИТАЛА  И УТВРЂИВАЊЕ РЕЗУЛТАТА ПОСЛОВАЊА (1204 + 1213 – 1214 + 1215 – 1216)","ИЗВОРИ КАПИТАЛА  И УТВРЂИВАЊЕ РЕЗУЛТАТА ПОСЛОВАЊА (1204 + 1213 – 1214 + 1215 – 1216)","ИЗВОРИ КАПИТАЛА  И УТВРЂИВАЊЕ РЕЗУЛТАТА ПОСЛОВАЊА (1204 + 1213 – 1214 + 1215 – 1216)","ИЗВОРИ КАПИТАЛА  И УТВРЂИВАЊЕ РЕЗУЛТАТА ПОСЛОВАЊА (1204 + 1213 – 1214 + 1215 – 1216)","ИЗВОРИ КАПИТАЛА  И УТВРЂИВАЊЕ РЕЗУЛТАТА ПОСЛОВАЊА (1204 + 1213 – 1214 + 1215 – 1216)","ИЗВОРИ КАПИТАЛА  И УТВРЂИВАЊЕ РЕЗУЛТАТА ПОСЛОВАЊА (1204 + 1213 – 1214 + 1215 – 1216)","ИЗВОРИ КАПИТАЛА  И УТВРЂИВАЊЕ РЕЗУЛТАТА ПОСЛОВАЊА (1204 + 1213 – 1214 + 1215 – 1216)","ИЗВОРИ КАПИТАЛА  И УТВРЂИВАЊЕ РЕЗУЛТАТА ПОСЛОВАЊА (1204 + 1213 – 1214 + 1215 – 1216)","ИЗВОРИ КАПИТАЛА  И УТВРЂИВАЊЕ РЕЗУЛТАТА ПОСЛОВАЊА (1204 + 1213 – 1214 + 1215 – 1216)","ИЗВОРИ КАПИТАЛА  И УТВРЂИВАЊЕ РЕЗУЛТАТА ПОСЛОВАЊА (1204 + 1213 – 1214 + 1215 – 1216)","ИЗВОРИ КАПИТАЛА  И УТВРЂИВАЊЕ РЕЗУЛТАТА ПОСЛОВАЊА (1204 + 1213 – 1214 + 1215 – 1216)","ИЗВОРИ КАПИТАЛА  И УТВРЂИВАЊЕ РЕЗУЛТАТА ПОСЛОВАЊА (1204 + 1213 – 1214 + 1215 – 1216)","ИЗВОРИ КАПИТАЛА  И УТВРЂИВАЊЕ РЕЗУЛТАТА ПОСЛОВАЊА (1204 + 1213 – 1214 + 1215 – 1216)","ИЗВОРИ КАПИТАЛА  И УТВРЂИВАЊЕ РЕЗУЛТАТА ПОСЛОВАЊА (1204 + 1213 – 1214 + 1215 – 1216)","ИЗВОРИ КАПИТАЛА  И УТВРЂИВАЊЕ РЕЗУЛТАТА ПОСЛОВАЊА (1204 + 1213 – 1214 + 1215 – 1216)",{"$f":"UnObr1!F239","v":0},null,null,null,null,null,null,null,null,null,{"$f":"UnObr1!G239","v":0}]
[1231,null,null,321311,300000,300000,300000,"Нераспоређени вишак прихода и примања из \nранијих година","ИЗВОРИ КАПИТАЛА  И УТВРЂИВАЊЕ РЕЗУЛТАТА ПОСЛОВАЊА (1204 + 1213 – 1214 + 1215 – 1216)","ИЗВОРИ КАПИТАЛА  И УТВРЂИВАЊЕ РЕЗУЛТАТА ПОСЛОВАЊА (1204 + 1213 – 1214 + 1215 – 1216)","ИЗВОРИ КАПИТАЛА  И УТВРЂИВАЊЕ РЕЗУЛТАТА ПОСЛОВАЊА (1204 + 1213 – 1214 + 1215 – 1216)","ИЗВОРИ КАПИТАЛА  И УТВРЂИВАЊЕ РЕЗУЛТАТА ПОСЛОВАЊА (1204 + 1213 – 1214 + 1215 – 1216)","ИЗВОРИ КАПИТАЛА  И УТВРЂИВАЊЕ РЕЗУЛТАТА ПОСЛОВАЊА (1204 + 1213 – 1214 + 1215 – 1216)","ИЗВОРИ КАПИТАЛА  И УТВРЂИВАЊЕ РЕЗУЛТАТА ПОСЛОВАЊА (1204 + 1213 – 1214 + 1215 – 1216)","ИЗВОРИ КАПИТАЛА  И УТВРЂИВАЊЕ РЕЗУЛТАТА ПОСЛОВАЊА (1204 + 1213 – 1214 + 1215 – 1216)","ИЗВОРИ КАПИТАЛА  И УТВРЂИВАЊЕ РЕЗУЛТАТА ПОСЛОВАЊА (1204 + 1213 – 1214 + 1215 – 1216)","ИЗВОРИ КАПИТАЛА  И УТВРЂИВАЊЕ РЕЗУЛТАТА ПОСЛОВАЊА (1204 + 1213 – 1214 + 1215 – 1216)","ИЗВОРИ КАПИТАЛА  И УТВРЂИВАЊЕ РЕЗУЛТАТА ПОСЛОВАЊА (1204 + 1213 – 1214 + 1215 – 1216)","ИЗВОРИ КАПИТАЛА  И УТВРЂИВАЊЕ РЕЗУЛТАТА ПОСЛОВАЊА (1204 + 1213 – 1214 + 1215 – 1216)","ИЗВОРИ КАПИТАЛА  И УТВРЂИВАЊЕ РЕЗУЛТАТА ПОСЛОВАЊА (1204 + 1213 – 1214 + 1215 – 1216)","ИЗВОРИ КАПИТАЛА  И УТВРЂИВАЊЕ РЕЗУЛТАТА ПОСЛОВАЊА (1204 + 1213 – 1214 + 1215 – 1216)","ИЗВОРИ КАПИТАЛА  И УТВРЂИВАЊЕ РЕЗУЛТАТА ПОСЛОВАЊА (1204 + 1213 – 1214 + 1215 – 1216)","ИЗВОРИ КАПИТАЛА  И УТВРЂИВАЊЕ РЕЗУЛТАТА ПОСЛОВАЊА (1204 + 1213 – 1214 + 1215 – 1216)","ИЗВОРИ КАПИТАЛА  И УТВРЂИВАЊЕ РЕЗУЛТАТА ПОСЛОВАЊА (1204 + 1213 – 1214 + 1215 – 1216)",{"$f":"UnObr1!F240","v":1},null,null,null,null,null,null,null,null,null,{"$f":"UnObr1!G240","v":1}]
[1232,null,null,321312,300000,300000,300000,"Дефицит из ранијих година","ИЗВОРИ КАПИТАЛА  И УТВРЂИВАЊЕ РЕЗУЛТАТА ПОСЛОВАЊА (1204 + 1213 – 1214 + 1215 – 1216)","ИЗВОРИ КАПИТАЛА  И УТВРЂИВАЊЕ РЕЗУЛТАТА ПОСЛОВАЊА (1204 + 1213 – 1214 + 1215 – 1216)","ИЗВОРИ КАПИТАЛА  И УТВРЂИВАЊЕ РЕЗУЛТАТА ПОСЛОВАЊА (1204 + 1213 – 1214 + 1215 – 1216)","ИЗВОРИ КАПИТАЛА  И УТВРЂИВАЊЕ РЕЗУЛТАТА ПОСЛОВАЊА (1204 + 1213 – 1214 + 1215 – 1216)","ИЗВОРИ КАПИТАЛА  И УТВРЂИВАЊЕ РЕЗУЛТАТА ПОСЛОВАЊА (1204 + 1213 – 1214 + 1215 – 1216)","ИЗВОРИ КАПИТАЛА  И УТВРЂИВАЊЕ РЕЗУЛТАТА ПОСЛОВАЊА (1204 + 1213 – 1214 + 1215 – 1216)","ИЗВОРИ КАПИТАЛА  И УТВРЂИВАЊЕ РЕЗУЛТАТА ПОСЛОВАЊА (1204 + 1213 – 1214 + 1215 – 1216)","ИЗВОРИ КАПИТАЛА  И УТВРЂИВАЊЕ РЕЗУЛТАТА ПОСЛОВАЊА (1204 + 1213 – 1214 + 1215 – 1216)","ИЗВОРИ КАПИТАЛА  И УТВРЂИВАЊЕ РЕЗУЛТАТА ПОСЛОВАЊА (1204 + 1213 – 1214 + 1215 – 1216)","ИЗВОРИ КАПИТАЛА  И УТВРЂИВАЊЕ РЕЗУЛТАТА ПОСЛОВАЊА (1204 + 1213 – 1214 + 1215 – 1216)","ИЗВОРИ КАПИТАЛА  И УТВРЂИВАЊЕ РЕЗУЛТАТА ПОСЛОВАЊА (1204 + 1213 – 1214 + 1215 – 1216)","ИЗВОРИ КАПИТАЛА  И УТВРЂИВАЊЕ РЕЗУЛТАТА ПОСЛОВАЊА (1204 + 1213 – 1214 + 1215 – 1216)","ИЗВОРИ КАПИТАЛА  И УТВРЂИВАЊЕ РЕЗУЛТАТА ПОСЛОВАЊА (1204 + 1213 – 1214 + 1215 – 1216)","ИЗВОРИ КАПИТАЛА  И УТВРЂИВАЊЕ РЕЗУЛТАТА ПОСЛОВАЊА (1204 + 1213 – 1214 + 1215 – 1216)","ИЗВОРИ КАПИТАЛА  И УТВРЂИВАЊЕ РЕЗУЛТАТА ПОСЛОВАЊА (1204 + 1213 – 1214 + 1215 – 1216)","ИЗВОРИ КАПИТАЛА  И УТВРЂИВАЊЕ РЕЗУЛТАТА ПОСЛОВАЊА (1204 + 1213 – 1214 + 1215 – 1216)",{"$f":"UnObr1!F241","v":0},null,null,null,null,null,null,null,null,null,{"$f":"UnObr1!G241","v":0}]
[null,null,null,null,null,null,null,"ПРОМЕНЕ У ВРЕДНОСТИ И ОБИМУ","ИЗВОРИ КАПИТАЛА  И УТВРЂИВАЊЕ РЕЗУЛТАТА ПОСЛОВАЊА (1204 + 1213 – 1214 + 1215 – 1216)","ИЗВОРИ КАПИТАЛА  И УТВРЂИВАЊЕ РЕЗУЛТАТА ПОСЛОВАЊА (1204 + 1213 – 1214 + 1215 – 1216)","ИЗВОРИ КАПИТАЛА  И УТВРЂИВАЊЕ РЕЗУЛТАТА ПОСЛОВАЊА (1204 + 1213 – 1214 + 1215 – 1216)","ИЗВОРИ КАПИТАЛА  И УТВРЂИВАЊЕ РЕЗУЛТАТА ПОСЛОВАЊА (1204 + 1213 – 1214 + 1215 – 1216)","ИЗВОРИ КАПИТАЛА  И УТВРЂИВАЊЕ РЕЗУЛТАТА ПОСЛОВАЊА (1204 + 1213 – 1214 + 1215 – 1216)","ИЗВОРИ КАПИТАЛА  И УТВРЂИВАЊЕ РЕЗУЛТАТА ПОСЛОВАЊА (1204 + 1213 – 1214 + 1215 – 1216)","ИЗВОРИ КАПИТАЛА  И УТВРЂИВАЊЕ РЕЗУЛТАТА ПОСЛОВАЊА (1204 + 1213 – 1214 + 1215 – 1216)","ИЗВОРИ КАПИТАЛА  И УТВРЂИВАЊЕ РЕЗУЛТАТА ПОСЛОВАЊА (1204 + 1213 – 1214 + 1215 – 1216)","ИЗВОРИ КАПИТАЛА  И УТВРЂИВАЊЕ РЕЗУЛТАТА ПОСЛОВАЊА (1204 + 1213 – 1214 + 1215 – 1216)","ИЗВОРИ КАПИТАЛА  И УТВРЂИВАЊЕ РЕЗУЛТАТА ПОСЛОВАЊА (1204 + 1213 – 1214 + 1215 – 1216)","ИЗВОРИ КАПИТАЛА  И УТВРЂИВАЊЕ РЕЗУЛТАТА ПОСЛОВАЊА (1204 + 1213 – 1214 + 1215 – 1216)","ИЗВОРИ КАПИТАЛА  И УТВРЂИВАЊЕ РЕЗУЛТАТА ПОСЛОВАЊА (1204 + 1213 – 1214 + 1215 – 1216)","ИЗВОРИ КАПИТАЛА  И УТВРЂИВАЊЕ РЕЗУЛТАТА ПОСЛОВАЊА (1204 + 1213 – 1214 + 1215 – 1216)","ИЗВОРИ КАПИТАЛА  И УТВРЂИВАЊЕ РЕЗУЛТАТА ПОСЛОВАЊА (1204 + 1213 – 1214 + 1215 – 1216)","ИЗВОРИ КАПИТАЛА  И УТВРЂИВАЊЕ РЕЗУЛТАТА ПОСЛОВАЊА (1204 + 1213 – 1214 + 1215 – 1216)","ИЗВОРИ КАПИТАЛА  И УТВРЂИВАЊЕ РЕЗУЛТАТА ПОСЛОВАЊА (1204 + 1213 – 1214 + 1215 – 1216)",{"$f":"UnObr1!F242","v":0},null,null,null,null,null,null,null,null,null,{"$f":"UnObr1!G242","v":0}]
[1233,null,null,null,null,null,null,"ПОЗИТИВНЕ ПРОМЕНЕ У ВРЕДНОСТИ И ОБИМУ (1235 + 1237 - 1236 - 1238)","ИЗВОРИ КАПИТАЛА  И УТВРЂИВАЊЕ РЕЗУЛТАТА ПОСЛОВАЊА (1204 + 1213 – 1214 + 1215 – 1216)","ИЗВОРИ КАПИТАЛА  И УТВРЂИВАЊЕ РЕЗУЛТАТА ПОСЛОВАЊА (1204 + 1213 – 1214 + 1215 – 1216)","ИЗВОРИ КАПИТАЛА  И УТВРЂИВАЊЕ РЕЗУЛТАТА ПОСЛОВАЊА (1204 + 1213 – 1214 + 1215 – 1216)","ИЗВОРИ КАПИТАЛА  И УТВРЂИВАЊЕ РЕЗУЛТАТА ПОСЛОВАЊА (1204 + 1213 – 1214 + 1215 – 1216)","ИЗВОРИ КАПИТАЛА  И УТВРЂИВАЊЕ РЕЗУЛТАТА ПОСЛОВАЊА (1204 + 1213 – 1214 + 1215 – 1216)","ИЗВОРИ КАПИТАЛА  И УТВРЂИВАЊЕ РЕЗУЛТАТА ПОСЛОВАЊА (1204 + 1213 – 1214 + 1215 – 1216)","ИЗВОРИ КАПИТАЛА  И УТВРЂИВАЊЕ РЕЗУЛТАТА ПОСЛОВАЊА (1204 + 1213 – 1214 + 1215 – 1216)","ИЗВОРИ КАПИТАЛА  И УТВРЂИВАЊЕ РЕЗУЛТАТА ПОСЛОВАЊА (1204 + 1213 – 1214 + 1215 – 1216)","ИЗВОРИ КАПИТАЛА  И УТВРЂИВАЊЕ РЕЗУЛТАТА ПОСЛОВАЊА (1204 + 1213 – 1214 + 1215 – 1216)","ИЗВОРИ КАПИТАЛА  И УТВРЂИВАЊЕ РЕЗУЛТАТА ПОСЛОВАЊА (1204 + 1213 – 1214 + 1215 – 1216)","ИЗВОРИ КАПИТАЛА  И УТВРЂИВАЊЕ РЕЗУЛТАТА ПОСЛОВАЊА (1204 + 1213 – 1214 + 1215 – 1216)","ИЗВОРИ КАПИТАЛА  И УТВРЂИВАЊЕ РЕЗУЛТАТА ПОСЛОВАЊА (1204 + 1213 – 1214 + 1215 – 1216)","ИЗВОРИ КАПИТАЛА  И УТВРЂИВАЊЕ РЕЗУЛТАТА ПОСЛОВАЊА (1204 + 1213 – 1214 + 1215 – 1216)","ИЗВОРИ КАПИТАЛА  И УТВРЂИВАЊЕ РЕЗУЛТАТА ПОСЛОВАЊА (1204 + 1213 – 1214 + 1215 – 1216)","ИЗВОРИ КАПИТАЛА  И УТВРЂИВАЊЕ РЕЗУЛТАТА ПОСЛОВАЊА (1204 + 1213 – 1214 + 1215 – 1216)","ИЗВОРИ КАПИТАЛА  И УТВРЂИВАЊЕ РЕЗУЛТАТА ПОСЛОВАЊА (1204 + 1213 – 1214 + 1215 – 1216)",{"$f":"UnObr1!F243","v":0},null,null,null,null,null,null,null,null,null,{"$f":"UnObr1!G243","v":0}]
[1234,null,null,null,null,null,null,"НЕГАТИВНЕ ПРОМЕНЕ У ВРЕДНОСТИ И ОБИМУ (1236 + 1238 - 1235 - 1237)","ИЗВОРИ КАПИТАЛА  И УТВРЂИВАЊЕ РЕЗУЛТАТА ПОСЛОВАЊА (1204 + 1213 – 1214 + 1215 – 1216)","ИЗВОРИ КАПИТАЛА  И УТВРЂИВАЊЕ РЕЗУЛТАТА ПОСЛОВАЊА (1204 + 1213 – 1214 + 1215 – 1216)","ИЗВОРИ КАПИТАЛА  И УТВРЂИВАЊЕ РЕЗУЛТАТА ПОСЛОВАЊА (1204 + 1213 – 1214 + 1215 – 1216)","ИЗВОРИ КАПИТАЛА  И УТВРЂИВАЊЕ РЕЗУЛТАТА ПОСЛОВАЊА (1204 + 1213 – 1214 + 1215 – 1216)","ИЗВОРИ КАПИТАЛА  И УТВРЂИВАЊЕ РЕЗУЛТАТА ПОСЛОВАЊА (1204 + 1213 – 1214 + 1215 – 1216)","ИЗВОРИ КАПИТАЛА  И УТВРЂИВАЊЕ РЕЗУЛТАТА ПОСЛОВАЊА (1204 + 1213 – 1214 + 1215 – 1216)","ИЗВОРИ КАПИТАЛА  И УТВРЂИВАЊЕ РЕЗУЛТАТА ПОСЛОВАЊА (1204 + 1213 – 1214 + 1215 – 1216)","ИЗВОРИ КАПИТАЛА  И УТВРЂИВАЊЕ РЕЗУЛТАТА ПОСЛОВАЊА (1204 + 1213 – 1214 + 1215 – 1216)","ИЗВОРИ КАПИТАЛА  И УТВРЂИВАЊЕ РЕЗУЛТАТА ПОСЛОВАЊА (1204 + 1213 – 1214 + 1215 – 1216)","ИЗВОРИ КАПИТАЛА  И УТВРЂИВАЊЕ РЕЗУЛТАТА ПОСЛОВАЊА (1204 + 1213 – 1214 + 1215 – 1216)","ИЗВОРИ КАПИТАЛА  И УТВРЂИВАЊЕ РЕЗУЛТАТА ПОСЛОВАЊА (1204 + 1213 – 1214 + 1215 – 1216)","ИЗВОРИ КАПИТАЛА  И УТВРЂИВАЊЕ РЕЗУЛТАТА ПОСЛОВАЊА (1204 + 1213 – 1214 + 1215 – 1216)","ИЗВОРИ КАПИТАЛА  И УТВРЂИВАЊЕ РЕЗУЛТАТА ПОСЛОВАЊА (1204 + 1213 – 1214 + 1215 – 1216)","ИЗВОРИ КАПИТАЛА  И УТВРЂИВАЊЕ РЕЗУЛТАТА ПОСЛОВАЊА (1204 + 1213 – 1214 + 1215 – 1216)","ИЗВОРИ КАПИТАЛА  И УТВРЂИВАЊЕ РЕЗУЛТАТА ПОСЛОВАЊА (1204 + 1213 – 1214 + 1215 – 1216)","ИЗВОРИ КАПИТАЛА  И УТВРЂИВАЊЕ РЕЗУЛТАТА ПОСЛОВАЊА (1204 + 1213 – 1214 + 1215 – 1216)",{"$f":"UnObr1!F244","v":0},null,null,null,null,null,null,null,null,null,{"$f":"UnObr1!G244","v":0}]
[1235,null,null,330000,300000,300000,300000,"ДОБИТИ КОЈЕ СУ РЕЗУЛТАТ ПРОМЕНЕ ВРЕДНОСТИ - ПОТРАЖНИ САЛДО","ИЗВОРИ КАПИТАЛА  И УТВРЂИВАЊЕ РЕЗУЛТАТА ПОСЛОВАЊА (1204 + 1213 – 1214 + 1215 – 1216)","ИЗВОРИ КАПИТАЛА  И УТВРЂИВАЊЕ РЕЗУЛТАТА ПОСЛОВАЊА (1204 + 1213 – 1214 + 1215 – 1216)","ИЗВОРИ КАПИТАЛА  И УТВРЂИВАЊЕ РЕЗУЛТАТА ПОСЛОВАЊА (1204 + 1213 – 1214 + 1215 – 1216)","ИЗВОРИ КАПИТАЛА  И УТВРЂИВАЊЕ РЕЗУЛТАТА ПОСЛОВАЊА (1204 + 1213 – 1214 + 1215 – 1216)","ИЗВОРИ КАПИТАЛА  И УТВРЂИВАЊЕ РЕЗУЛТАТА ПОСЛОВАЊА (1204 + 1213 – 1214 + 1215 – 1216)","ИЗВОРИ КАПИТАЛА  И УТВРЂИВАЊЕ РЕЗУЛТАТА ПОСЛОВАЊА (1204 + 1213 – 1214 + 1215 – 1216)","ИЗВОРИ КАПИТАЛА  И УТВРЂИВАЊЕ РЕЗУЛТАТА ПОСЛОВАЊА (1204 + 1213 – 1214 + 1215 – 1216)","ИЗВОРИ КАПИТАЛА  И УТВРЂИВАЊЕ РЕЗУЛТАТА ПОСЛОВАЊА (1204 + 1213 – 1214 + 1215 – 1216)","ИЗВОРИ КАПИТАЛА  И УТВРЂИВАЊЕ РЕЗУЛТАТА ПОСЛОВАЊА (1204 + 1213 – 1214 + 1215 – 1216)","ИЗВОРИ КАПИТАЛА  И УТВРЂИВАЊЕ РЕЗУЛТАТА ПОСЛОВАЊА (1204 + 1213 – 1214 + 1215 – 1216)","ИЗВОРИ КАПИТАЛА  И УТВРЂИВАЊЕ РЕЗУЛТАТА ПОСЛОВАЊА (1204 + 1213 – 1214 + 1215 – 1216)","ИЗВОРИ КАПИТАЛА  И УТВРЂИВАЊЕ РЕЗУЛТАТА ПОСЛОВАЊА (1204 + 1213 – 1214 + 1215 – 1216)","ИЗВОРИ КАПИТАЛА  И УТВРЂИВАЊЕ РЕЗУЛТАТА ПОСЛОВАЊА (1204 + 1213 – 1214 + 1215 – 1216)","ИЗВОРИ КАПИТАЛА  И УТВРЂИВАЊЕ РЕЗУЛТАТА ПОСЛОВАЊА (1204 + 1213 – 1214 + 1215 – 1216)","ИЗВОРИ КАПИТАЛА  И УТВРЂИВАЊЕ РЕЗУЛТАТА ПОСЛОВАЊА (1204 + 1213 – 1214 + 1215 – 1216)","ИЗВОРИ КАПИТАЛА  И УТВРЂИВАЊЕ РЕЗУЛТАТА ПОСЛОВАЊА (1204 + 1213 – 1214 + 1215 – 1216)",{"$f":"UnObr1!F245","v":0},null,null,null,null,null,null,null,null,null,{"$f":"UnObr1!G245","v":0}]
[1236,null,null,330000,300000,300000,300000,"ДОБИТИ КОЈЕ СУ РЕЗУЛТАТ ПРОМЕНЕ ВРЕДНОСТИ - ДУГОВНИ САЛДО","ИЗВОРИ КАПИТАЛА  И УТВРЂИВАЊЕ РЕЗУЛТАТА ПОСЛОВАЊА (1204 + 1213 – 1214 + 1215 – 1216)","ИЗВОРИ КАПИТАЛА  И УТВРЂИВАЊЕ РЕЗУЛТАТА ПОСЛОВАЊА (1204 + 1213 – 1214 + 1215 – 1216)","ИЗВОРИ КАПИТАЛА  И УТВРЂИВАЊЕ РЕЗУЛТАТА ПОСЛОВАЊА (1204 + 1213 – 1214 + 1215 – 1216)","ИЗВОРИ КАПИТАЛА  И УТВРЂИВАЊЕ РЕЗУЛТАТА ПОСЛОВАЊА (1204 + 1213 – 1214 + 1215 – 1216)","ИЗВОРИ КАПИТАЛА  И УТВРЂИВАЊЕ РЕЗУЛТАТА ПОСЛОВАЊА (1204 + 1213 – 1214 + 1215 – 1216)","ИЗВОРИ КАПИТАЛА  И УТВРЂИВАЊЕ РЕЗУЛТАТА ПОСЛОВАЊА (1204 + 1213 – 1214 + 1215 – 1216)","ИЗВОРИ КАПИТАЛА  И УТВРЂИВАЊЕ РЕЗУЛТАТА ПОСЛОВАЊА (1204 + 1213 – 1214 + 1215 – 1216)","ИЗВОРИ КАПИТАЛА  И УТВРЂИВАЊЕ РЕЗУЛТАТА ПОСЛОВАЊА (1204 + 1213 – 1214 + 1215 – 1216)","ИЗВОРИ КАПИТАЛА  И УТВРЂИВАЊЕ РЕЗУЛТАТА ПОСЛОВАЊА (1204 + 1213 – 1214 + 1215 – 1216)","ИЗВОРИ КАПИТАЛА  И УТВРЂИВАЊЕ РЕЗУЛТАТА ПОСЛОВАЊА (1204 + 1213 – 1214 + 1215 – 1216)","ИЗВОРИ КАПИТАЛА  И УТВРЂИВАЊЕ РЕЗУЛТАТА ПОСЛОВАЊА (1204 + 1213 – 1214 + 1215 – 1216)","ИЗВОРИ КАПИТАЛА  И УТВРЂИВАЊЕ РЕЗУЛТАТА ПОСЛОВАЊА (1204 + 1213 – 1214 + 1215 – 1216)","ИЗВОРИ КАПИТАЛА  И УТВРЂИВАЊЕ РЕЗУЛТАТА ПОСЛОВАЊА (1204 + 1213 – 1214 + 1215 – 1216)","ИЗВОРИ КАПИТАЛА  И УТВРЂИВАЊЕ РЕЗУЛТАТА ПОСЛОВАЊА (1204 + 1213 – 1214 + 1215 – 1216)","ИЗВОРИ КАПИТАЛА  И УТВРЂИВАЊЕ РЕЗУЛТАТА ПОСЛОВАЊА (1204 + 1213 – 1214 + 1215 – 1216)","ИЗВОРИ КАПИТАЛА  И УТВРЂИВАЊЕ РЕЗУЛТАТА ПОСЛОВАЊА (1204 + 1213 – 1214 + 1215 – 1216)",{"$f":"UnObr1!F246","v":0},null,null,null,null,null,null,null,null,null,{"$f":"UnObr1!G246","v":0}]
[1237,null,null,340000,300000,300000,300000,"ДРУГЕ ПРОМЕНЕ У ОБИМУ - ПОТРАЖНИ \nСАЛДО","ИЗВОРИ КАПИТАЛА  И УТВРЂИВАЊЕ РЕЗУЛТАТА ПОСЛОВАЊА (1204 + 1213 – 1214 + 1215 – 1216)","ИЗВОРИ КАПИТАЛА  И УТВРЂИВАЊЕ РЕЗУЛТАТА ПОСЛОВАЊА (1204 + 1213 – 1214 + 1215 – 1216)","ИЗВОРИ КАПИТАЛА  И УТВРЂИВАЊЕ РЕЗУЛТАТА ПОСЛОВАЊА (1204 + 1213 – 1214 + 1215 – 1216)","ИЗВОРИ КАПИТАЛА  И УТВРЂИВАЊЕ РЕЗУЛТАТА ПОСЛОВАЊА (1204 + 1213 – 1214 + 1215 – 1216)","ИЗВОРИ КАПИТАЛА  И УТВРЂИВАЊЕ РЕЗУЛТАТА ПОСЛОВАЊА (1204 + 1213 – 1214 + 1215 – 1216)","ИЗВОРИ КАПИТАЛА  И УТВРЂИВАЊЕ РЕЗУЛТАТА ПОСЛОВАЊА (1204 + 1213 – 1214 + 1215 – 1216)","ИЗВОРИ КАПИТАЛА  И УТВРЂИВАЊЕ РЕЗУЛТАТА ПОСЛОВАЊА (1204 + 1213 – 1214 + 1215 – 1216)","ИЗВОРИ КАПИТАЛА  И УТВРЂИВАЊЕ РЕЗУЛТАТА ПОСЛОВАЊА (1204 + 1213 – 1214 + 1215 – 1216)","ИЗВОРИ КАПИТАЛА  И УТВРЂИВАЊЕ РЕЗУЛТАТА ПОСЛОВАЊА (1204 + 1213 – 1214 + 1215 – 1216)","ИЗВОРИ КАПИТАЛА  И УТВРЂИВАЊЕ РЕЗУЛТАТА ПОСЛОВАЊА (1204 + 1213 – 1214 + 1215 – 1216)","ИЗВОРИ КАПИТАЛА  И УТВРЂИВАЊЕ РЕЗУЛТАТА ПОСЛОВАЊА (1204 + 1213 – 1214 + 1215 – 1216)","ИЗВОРИ КАПИТАЛА  И УТВРЂИВАЊЕ РЕЗУЛТАТА ПОСЛОВАЊА (1204 + 1213 – 1214 + 1215 – 1216)","ИЗВОРИ КАПИТАЛА  И УТВРЂИВАЊЕ РЕЗУЛТАТА ПОСЛОВАЊА (1204 + 1213 – 1214 + 1215 – 1216)","ИЗВОРИ КАПИТАЛА  И УТВРЂИВАЊЕ РЕЗУЛТАТА ПОСЛОВАЊА (1204 + 1213 – 1214 + 1215 – 1216)","ИЗВОРИ КАПИТАЛА  И УТВРЂИВАЊЕ РЕЗУЛТАТА ПОСЛОВАЊА (1204 + 1213 – 1214 + 1215 – 1216)","ИЗВОРИ КАПИТАЛА  И УТВРЂИВАЊЕ РЕЗУЛТАТА ПОСЛОВАЊА (1204 + 1213 – 1214 + 1215 – 1216)",{"$f":"UnObr1!F247","v":0},null,null,null,null,null,null,null,null,null,{"$f":"UnObr1!G247","v":0}]
[1238,null,null,340000,300000,300000,300000,"ДРУГЕ ПРОМЕНЕ У ОБИМУ - ДУГОВНИ САЛДО","ИЗВОРИ КАПИТАЛА  И УТВРЂИВАЊЕ РЕЗУЛТАТА ПОСЛОВАЊА (1204 + 1213 – 1214 + 1215 – 1216)","ИЗВОРИ КАПИТАЛА  И УТВРЂИВАЊЕ РЕЗУЛТАТА ПОСЛОВАЊА (1204 + 1213 – 1214 + 1215 – 1216)","ИЗВОРИ КАПИТАЛА  И УТВРЂИВАЊЕ РЕЗУЛТАТА ПОСЛОВАЊА (1204 + 1213 – 1214 + 1215 – 1216)","ИЗВОРИ КАПИТАЛА  И УТВРЂИВАЊЕ РЕЗУЛТАТА ПОСЛОВАЊА (1204 + 1213 – 1214 + 1215 – 1216)","ИЗВОРИ КАПИТАЛА  И УТВРЂИВАЊЕ РЕЗУЛТАТА ПОСЛОВАЊА (1204 + 1213 – 1214 + 1215 – 1216)","ИЗВОРИ КАПИТАЛА  И УТВРЂИВАЊЕ РЕЗУЛТАТА ПОСЛОВАЊА (1204 + 1213 – 1214 + 1215 – 1216)","ИЗВОРИ КАПИТАЛА  И УТВРЂИВАЊЕ РЕЗУЛТАТА ПОСЛОВАЊА (1204 + 1213 – 1214 + 1215 – 1216)","ИЗВОРИ КАПИТАЛА  И УТВРЂИВАЊЕ РЕЗУЛТАТА ПОСЛОВАЊА (1204 + 1213 – 1214 + 1215 – 1216)","ИЗВОРИ КАПИТАЛА  И УТВРЂИВАЊЕ РЕЗУЛТАТА ПОСЛОВАЊА (1204 + 1213 – 1214 + 1215 – 1216)","ИЗВОРИ КАПИТАЛА  И УТВРЂИВАЊЕ РЕЗУЛТАТА ПОСЛОВАЊА (1204 + 1213 – 1214 + 1215 – 1216)","ИЗВОРИ КАПИТАЛА  И УТВРЂИВАЊЕ РЕЗУЛТАТА ПОСЛОВАЊА (1204 + 1213 – 1214 + 1215 – 1216)","ИЗВОРИ КАПИТАЛА  И УТВРЂИВАЊЕ РЕЗУЛТАТА ПОСЛОВАЊА (1204 + 1213 – 1214 + 1215 – 1216)","ИЗВОРИ КАПИТАЛА  И УТВРЂИВАЊЕ РЕЗУЛТАТА ПОСЛОВАЊА (1204 + 1213 – 1214 + 1215 – 1216)","ИЗВОРИ КАПИТАЛА  И УТВРЂИВАЊЕ РЕЗУЛТАТА ПОСЛОВАЊА (1204 + 1213 – 1214 + 1215 – 1216)","ИЗВОРИ КАПИТАЛА  И УТВРЂИВАЊЕ РЕЗУЛТАТА ПОСЛОВАЊА (1204 + 1213 – 1214 + 1215 – 1216)","ИЗВОРИ КАПИТАЛА  И УТВРЂИВАЊЕ РЕЗУЛТАТА ПОСЛОВАЊА (1204 + 1213 – 1214 + 1215 – 1216)",{"$f":"UnObr1!F248","v":0},null,null,null,null,null,null,null,null,null,{"$f":"UnObr1!G248","v":0}]
[1239,null,null,null,null,null,null,"УКУПНА ПАСИВА (1074 + 1218)","ИЗВОРИ КАПИТАЛА  И УТВРЂИВАЊЕ РЕЗУЛТАТА ПОСЛОВАЊА (1204 + 1213 – 1214 + 1215 – 1216)","ИЗВОРИ КАПИТАЛА  И УТВРЂИВАЊЕ РЕЗУЛТАТА ПОСЛОВАЊА (1204 + 1213 – 1214 + 1215 – 1216)","ИЗВОРИ КАПИТАЛА  И УТВРЂИВАЊЕ РЕЗУЛТАТА ПОСЛОВАЊА (1204 + 1213 – 1214 + 1215 – 1216)","ИЗВОРИ КАПИТАЛА  И УТВРЂИВАЊЕ РЕЗУЛТАТА ПОСЛОВАЊА (1204 + 1213 – 1214 + 1215 – 1216)","ИЗВОРИ КАПИТАЛА  И УТВРЂИВАЊЕ РЕЗУЛТАТА ПОСЛОВАЊА (1204 + 1213 – 1214 + 1215 – 1216)","ИЗВОРИ КАПИТАЛА  И УТВРЂИВАЊЕ РЕЗУЛТАТА ПОСЛОВАЊА (1204 + 1213 – 1214 + 1215 – 1216)","ИЗВОРИ КАПИТАЛА  И УТВРЂИВАЊЕ РЕЗУЛТАТА ПОСЛОВАЊА (1204 + 1213 – 1214 + 1215 – 1216)","ИЗВОРИ КАПИТАЛА  И УТВРЂИВАЊЕ РЕЗУЛТАТА ПОСЛОВАЊА (1204 + 1213 – 1214 + 1215 – 1216)","ИЗВОРИ КАПИТАЛА  И УТВРЂИВАЊЕ РЕЗУЛТАТА ПОСЛОВАЊА (1204 + 1213 – 1214 + 1215 – 1216)","ИЗВОРИ КАПИТАЛА  И УТВРЂИВАЊЕ РЕЗУЛТАТА ПОСЛОВАЊА (1204 + 1213 – 1214 + 1215 – 1216)","ИЗВОРИ КАПИТАЛА  И УТВРЂИВАЊЕ РЕЗУЛТАТА ПОСЛОВАЊА (1204 + 1213 – 1214 + 1215 – 1216)","ИЗВОРИ КАПИТАЛА  И УТВРЂИВАЊЕ РЕЗУЛТАТА ПОСЛОВАЊА (1204 + 1213 – 1214 + 1215 – 1216)","ИЗВОРИ КАПИТАЛА  И УТВРЂИВАЊЕ РЕЗУЛТАТА ПОСЛОВАЊА (1204 + 1213 – 1214 + 1215 – 1216)","ИЗВОРИ КАПИТАЛА  И УТВРЂИВАЊЕ РЕЗУЛТАТА ПОСЛОВАЊА (1204 + 1213 – 1214 + 1215 – 1216)","ИЗВОРИ КАПИТАЛА  И УТВРЂИВАЊЕ РЕЗУЛТАТА ПОСЛОВАЊА (1204 + 1213 – 1214 + 1215 – 1216)","ИЗВОРИ КАПИТАЛА  И УТВРЂИВАЊЕ РЕЗУЛТАТА ПОСЛОВАЊА (1204 + 1213 – 1214 + 1215 – 1216)",{"$f":"UnObr1!F249","v":84339},null,null,null,null,null,null,null,null,null,{"$f":"UnObr1!G249","v":85679}]
[1240,null,null,352000,300000,300000,300000,"ВАНБИЛАНСНА ПАСИВА ","ИЗВОРИ КАПИТАЛА  И УТВРЂИВАЊЕ РЕЗУЛТАТА ПОСЛОВАЊА (1204 + 1213 – 1214 + 1215 – 1216)","ИЗВОРИ КАПИТАЛА  И УТВРЂИВАЊЕ РЕЗУЛТАТА ПОСЛОВАЊА (1204 + 1213 – 1214 + 1215 – 1216)","ИЗВОРИ КАПИТАЛА  И УТВРЂИВАЊЕ РЕЗУЛТАТА ПОСЛОВАЊА (1204 + 1213 – 1214 + 1215 – 1216)","ИЗВОРИ КАПИТАЛА  И УТВРЂИВАЊЕ РЕЗУЛТАТА ПОСЛОВАЊА (1204 + 1213 – 1214 + 1215 – 1216)","ИЗВОРИ КАПИТАЛА  И УТВРЂИВАЊЕ РЕЗУЛТАТА ПОСЛОВАЊА (1204 + 1213 – 1214 + 1215 – 1216)","ИЗВОРИ КАПИТАЛА  И УТВРЂИВАЊЕ РЕЗУЛТАТА ПОСЛОВАЊА (1204 + 1213 – 1214 + 1215 – 1216)","ИЗВОРИ КАПИТАЛА  И УТВРЂИВАЊЕ РЕЗУЛТАТА ПОСЛОВАЊА (1204 + 1213 – 1214 + 1215 – 1216)","ИЗВОРИ КАПИТАЛА  И УТВРЂИВАЊЕ РЕЗУЛТАТА ПОСЛОВАЊА (1204 + 1213 – 1214 + 1215 – 1216)","ИЗВОРИ КАПИТАЛА  И УТВРЂИВАЊЕ РЕЗУЛТАТА ПОСЛОВАЊА (1204 + 1213 – 1214 + 1215 – 1216)","ИЗВОРИ КАПИТАЛА  И УТВРЂИВАЊЕ РЕЗУЛТАТА ПОСЛОВАЊА (1204 + 1213 – 1214 + 1215 – 1216)","ИЗВОРИ КАПИТАЛА  И УТВРЂИВАЊЕ РЕЗУЛТАТА ПОСЛОВАЊА (1204 + 1213 – 1214 + 1215 – 1216)","ИЗВОРИ КАПИТАЛА  И УТВРЂИВАЊЕ РЕЗУЛТАТА ПОСЛОВАЊА (1204 + 1213 – 1214 + 1215 – 1216)","ИЗВОРИ КАПИТАЛА  И УТВРЂИВАЊЕ РЕЗУЛТАТА ПОСЛОВАЊА (1204 + 1213 – 1214 + 1215 – 1216)","ИЗВОРИ КАПИТАЛА  И УТВРЂИВАЊЕ РЕЗУЛТАТА ПОСЛОВАЊА (1204 + 1213 – 1214 + 1215 – 1216)","ИЗВОРИ КАПИТАЛА  И УТВРЂИВАЊЕ РЕЗУЛТАТА ПОСЛОВАЊА (1204 + 1213 – 1214 + 1215 – 1216)","ИЗВОРИ КАПИТАЛА  И УТВРЂИВАЊЕ РЕЗУЛТАТА ПОСЛОВАЊА (1204 + 1213 – 1214 + 1215 – 1216)",{"$f":"UnObr1!F250","v":0},null,null,null,null,null,null,null,null,null,{"$f":"UnObr1!G250","v":1964}]
[]
[null,null,null,null,null,null,null,null,null,null,null,null,null,null,null,null,"Лице одговорно за\nпопуњавање обрасца ",null,null,null,null,null,null,null,null,null,null,null,null,null,null,null,null,null,"Наредбодавац"]
["Датум, ",null,null,{"$f":"Podaci!E21","v":"23.02.2018."},null,null,null,null,". године"]

{"sheet":"UnObr2","index":4,"n_rows":364,"n_cols":7,"rows_kept":364,"cut":false,"hidden":false,"merged":[[0,3,0,4],[0,2,1,2],[0,0,1,0],[0,1,1,1]]}
["Ознака ОП","Конто","Опис","Износ",null,null,"Штампа"]
[null,null,null,"Претходна година","Текућа година"]
[2001,null,"ТЕКУЋИ ПРИХОДИ И ПРИМАЊА ОД ПРОДАЈЕ НЕФИНАНСИЈСКЕ ИМОВИНЕ (2002 + 2106)",{"$f":"D4+D108","v":139159},{"$f":"E4+E108","v":156452}]
[2002,700000,"ТЕКУЋИ ПРИХОДИ                                                                                               (2003 + 2047 + 2057 + 2069 + 2094 + 2099 + 2103)",{"$f":"D5+D49+D59+D71+D96+D101+D105","v":139159},{"$f":"E5+E49+E59+E71+E96+E101+E105","v":156452}]
[2003,710000,"ПОРЕЗИ                                                                                                                          (2004 + 2008 + 2010 + 2017 + 2023 + 2030 + 2033 + 2040)",{"$f":"D6+D10+D12+D19+D25+D32+D35+D42","v":0},{"$f":"E6+E10+E12+E19+E25+E32+E35+E42","v":0}]
[2004,711000,"ПОРЕЗ НА ДОХОДАК, ДОБИТ И КАПИТАЛНЕ ДОБИТКЕ (од 2005 до 2007)",{"$f":"SUM(D7:D9)","v":0},{"$f":"SUM(E7:E9)","v":0}]
[2005,711100,"Порези на доходак и капиталне добитке које плаћају физичка лица"]
[2006,711200,"Порези на добит и капиталне добитке које плаћају предузећа и друга правна лица"]
[2007,711300,"Порези на доходак, добит и капиталне добитке који се не могу разврстати између физичких и правних лица"]
[2008,712000,"ПОРЕЗ НА ФОНД ЗАРАДА (2009)",{"$f":"D11","v":0},{"$f":"E11","v":0}]
[2009,712100,"Порез на фонд зарада"]
[2010,713000,"ПОРЕЗ НА ИМОВИНУ (од 2011 до 2016)",{"$f":"SUM(D13:D18)","v":0},{"$f":"SUM(E13:E18)","v":0}]
[2011,713100,"Периодични порези на непокретности"]
[2012,713200,"Периодични порези на нето имовину"]
[2013,713300,"Порези на заоставштину, наслеђе и поклон"]
[2014,713400,"Порези на финансијске и капиталне трансакције"]
[2015,713500,"Други једнократни порези на имовину"]
[2016,713600,"Други периодични порези на имовину"]
[2017,714000,"ПОРЕЗ НА ДОБРА И УСЛУГЕ (од 2018 до 2022)",{"$f":"SUM(D20:D24)","v":0},{"$f":"SUM(E20:E24)","v":0}]
[2018,714100,"Општи порези на добра и услуге"]
[2019,714300,"Добит фискалних монопола"]
[2020,714400,"Порези на појединачне услуге"]
[2021,714500,"Порези, таксе и накнаде на употребу добара, на дозволу да се добра употребљавају или делатности обављају"]
[2022,714600,"Други порези на добра и услуге"]
[2023,715000,"ПОРЕЗ НА МЕЂУНАРОДНУ ТРГОВИНУ И ТРАНСАКЦИЈЕ (од 2024 до 2029)",{"$f":"SUM(D26:D31)","v":0},{"$f":"SUM(E26:E31)","v":0}]
[2024,715100,"Царине и друге увозне дажбине"]
[2025,715200,"Порези на извоз"]
[2026,715300,"Добит извозних или увозних монопола"]
[2027,715400,"Добит по основу разлике између куповног и продајног девизног курса"]
[2028,715500,"Порези на продају или куповину девиза"]
[2029,715600,"Други порези на међународну трговину и трансакције"]
[2030,716000,"ДРУГИ ПОРЕЗИ (2031 + 2032)",{"$f":"D33+D34","v":0},{"$f":"E33+E34","v":0}]
[2031,716100,"Други порези које искључиво плаћају предузећа, односно предузетници"]
[2032,716200,"Други порези које плаћају остала лица или који се не могу идентификовати"]
[2033,717000,"АКЦИЗЕ (од 2034 до 2039)",{"$f":"SUM(D36:D41)","v":0},{"$f":"SUM(E36:E41)","v":0}]
[2034,717100,"Акцизе на деривате нафте"]
[2035,717200,"Акцизе на дуванске прерађевине"]
[2036,717300,"Акцизе на алкохолна пића"]
[2037,717400,"Акцизе на освежавајућа безалкохолна пића"]
[2038,717500,"Акциза на кафу"]
[2039,717600,"Друге акцизе"]
[2040,719000,"ЈЕДНОКРАТНИ ПОРЕЗ НА ЕКСТРА ПРОФИТ И ЕКСТРА ИМОВИНУ СТЕЧЕНУ КОРИШЋЕЊЕМ ПОСЕБНИХ ПОГОДНОСТИ (од 2041 до 2046)",{"$f":"SUM(D43:D48)","v":0},{"$f":"SUM(E43:E48)","v":0}]
[2041,719100,"Порез на доходак, добит и капиталну добит на терет физичких лица"]
[2042,719200,"Порез на доходак, добит и капиталну добит на терет предузећа и осталих правних лица"]
[2043,719300,"Порез на доходак, добит и капиталну добит нераспоредив између физичких и правних лица"]
[2044,719400,"Остали једнократни порези на имовину"]
[2045,719500,"Остали порези које плаћају искључиво предузећа и предузетници"]
[2046,719600,"Остали порези које плаћају друга или неидентификована лица"]
[2047,720000,"СОЦИЈАЛНИ ДОПРИНОСИ (2048 + 2053)",{"$f":"D50+D55","v":0},{"$f":"E50+E55","v":0}]
[2048,721000,"ДОПРИНОСИ ЗА СОЦИЈАЛНО ОСИГУРАЊЕ (од 2049 до 2052)",{"$f":"SUM(D51:D54)","v":0},{"$f":"SUM(E51:E54)","v":0}]
[2049,721100,"Доприноси за социјално осигурање на терет запослених"]
[2050,721200,"Доприноси за социјално осигурање на терет послодаваца"]
[2051,721300,"Доприноси за социјално осигурање лица која обављају самосталну делатност и незапослених лица"]
[2052,721400,"Доприноси за социјално осигурање који се не могу разврстати"]
[2053,722000,"ОСТАЛИ СОЦИЈАЛНИ ДОПРИНОСИ (од 2054 до 2056)",{"$f":"SUM(D56:D58)","v":0},{"$f":"SUM(E56:E58)","v":0}]
[2054,722100,"Социјални доприноси на терет осигураника"]
[2055,722200,"Социјални доприноси послодаваца"]
[2056,722300,"Импутирани социјални доприноси"]
[2057,730000,"ДОНАЦИЈЕ, ПОМОЋИ И ТРАНСФЕРИ (2058 + 2061 + 2066)",{"$f":"D60+D63+D68","v":13510},{"$f":"E60+E63+E68","v":11436}]
[2058,731000,"ДОНАЦИЈЕ ОД ИНОСТРАНИХ ДРЖАВА (2059 + 2060)",{"$f":"D61+D62","v":0},{"$f":"E61+E62","v":0}]
[2059,731100,"Текуће донације од иностраних држава"]
[2060,731200,"Капиталне донације од иностраних држава"]
[2061,732000,"ДОНАЦИЈЕ И ПОМОЋИ ОД МЕЂУНАРОДНИХ ОРГАНИЗАЦИЈА (од 2062 до 2065)",{"$f":"D64+D65+D66+D67","v":0},{"$f":"E64+E65+E66+E67","v":0}]
[2062,732100,"Текуће донације од међународних организација"]
[2063,732200,"Капиталне донације од међународних организација"]
[2064,732300,"Текуће помоћи од ЕУ"]
[2065,732400,"Капиталне помоћи од ЕУ"]
[2066,733000,"ТРАНСФЕРИ ОД ДРУГИХ НИВОА ВЛАСТИ (2067 + 2068)",{"$f":"D69+D70","v":13510},{"$f":"E69+E70","v":11436}]
[2067,733100,"Текући трансфери од других нивоа власти",13510,11436]
[2068,733200,"Капитални трансфери од других нивоа власти"]
[2069,740000,"ДРУГИ ПРИХОДИ (2070 + 2077 + 2082 + 2089 + 2092)",{"$f":"D72+D79+D84+D91+D94","v":15732},{"$f":"E72+E79+E84+E91+E94","v":351}]
[2070,741000,"ПРИХОДИ ОД ИМОВИНЕ (од 2071 до 2076)",{"$f":"SUM(D73:D78)","v":0},{"$f":"SUM(E73:E78)","v":0}]
[2071,741100,"Камате"]
[2072,741200,"Дивиденде"]
[2073,741300,"Повлачење прихода од квази корпорација"]
[2074,741400,"Приход од имовине који припада имаоцима полиса осигурања"]
[2075,741500,"Закуп непроизведене имовине"]
[2076,741600,"Финансијске промене на финансијским лизинзима"]
[2077,742000,"ПРИХОДИ ОД ПРОДАЈЕ ДОБАРА И УСЛУГА (од 2078 до 2081)",{"$f":"SUM(D80:D83)","v":15551},{"$f":"SUM(E80:E83)","v":351}]
[2078,742100,"Приходи од продаје добара и услуга или закупа од стране тржишних организација",14531,28]
[2079,742200,"Таксе и накнаде"]
[2080,742300,"Споредне продаје добара и услуга које врше државне нетржишне јединице",1020,323]
[2081,742400,"Импутиране продаје добара и услуга"]
[2082,743000,"НОВЧАНЕ КАЗНЕ И ОДУЗЕТА ИМОВИНСКА КОРИСТ (од 2083 до 2088)",{"$f":"SUM(D85:D90)","v":0},{"$f":"SUM(E85:E90)","v":0}]
[2083,743100,"Приходи од новчаних казни за кривична дела "]
[2084,743200,"Приходи од новчаних казни за привредне преступе"]
[2085,743300,"Приходи од новчаних казни за прекршаје"]
[2086,743400,"Приходи од пенала"]
[2087,743500,"Приходи од одузете имовинске користи"]
[2088,743900,"Остале новчане казне, пенали и приходи од одузете имовинске користи"]
[2089,744000,"ДОБРОВОЉНИ ТРАНСФЕРИ ОД ФИЗИЧКИХ И ПРАВНИХ ЛИЦА (2090 + 2091)",{"$f":"D92+D93","v":96},{"$f":"E92+E93","v":0}]
[2090,744100,"Текући добровољни трансфери од физичких и правних лица",96]
[2091,744200,"Капитални добровољни трансфери од физичких и правних лица"]
[2092,745000,"МЕШОВИТИ И НЕОДРЕЂЕНИ ПРИХОДИ (2093)",{"$f":"D95","v":85},{"$f":"E95","v":0}]
[2093,745100,"Мешовити и неодређени приходи",85]
[2094,770000,"МЕМОРАНДУМСКЕ СТАВКЕ ЗА РЕФУНДАЦИЈУ РАСХОДА (2095 + 2097)",{"$f":"D97+D99","v":406},{"$f":"E97+E99","v":648}]
[2095,771000,"МЕМОРАНДУМСКЕ СТАВКЕ ЗА РЕФУНДАЦИЈУ РАСХОДА (2096)",{"$f":"D98","v":0},{"$f":"E98","v":0}]
[2096,771100,"Меморандумске ставке за рефундацију расхода"]
[2097,772000,"МЕМОРАНДУМСКЕ СТАВКЕ ЗА РЕФУНДАЦИЈУ РАСХОДА ИЗ ПРЕТХОДНЕ ГОДИНЕ (2098)",{"$f":"D100","v":406},{"$f":"E100","v":648}]
[2098,772100,"Меморандумске ставке за рефундацију расхода из претходне године",406,648]
[2099,780000,"ТРАНСФЕРИ ИЗМЕЂУ БУЏЕТСКИХ КОРИСНИКА НА ИСТОМ НИВОУ (2100)",{"$f":"D102","v":0},{"$f":"E102","v":0}]
[2100,781000,"ТРАНСФЕРИ ИЗМЕЂУ БУЏЕТСКИХ КОРИСНИКА НА ИСТОМ НИВОУ (2101 + 2102)",{"$f":"D103+D104","v":0},{"$f":"E103+E104","v":0}]
[2101,781100,"Трансфери између буџетских корисника на истом нивоу"]
[2102,781300,"Трансфери између организација обавезног социјалног осигурања"]
[2103,790000,"ПРИХОДИ ИЗ БУЏЕТА (2104)",{"$f":"D106","v":109511},{"$f":"E106","v":144017}]
[2104,791000,"ПРИХОДИ ИЗ БУЏЕТА (2105)",{"$f":"D107","v":109511},{"$f":"E107","v":144017}]
[2105,791100,"Приходи из буџета",109511,144017]
[2106,800000,"ПРИМАЊА ОД ПРОДАЈЕ НЕФИНАНСИЈСКЕ ИМОВИНЕ (2107 + 2114 + 2121 + 2124)",{"$f":"D109+D116+D123+D126","v":0},{"$f":"E109+E116+E123+E126","v":0}]
[2107,810000,"ПРИМАЊА ОД ПРОДАЈЕ ОСНОВНИХ СРЕДСТАВА (2108 + 2110 + 2112)",{"$f":"D110+D112+D114","v":0},{"$f":"E110+E112+E114","v":0}]
[2108,811000,"ПРИМАЊА ОД ПРОДАЈЕ НЕПОКРЕТНОСТИ (2109)",{"$f":"D111","v":0},{"$f":"E111","v":0}]
[2109,811100,"Примања од продаје непокретности"]
[2110,812000,"ПРИМАЊА ОД ПРОДАЈЕ ПОКРЕТНЕ ИМОВИНЕ (2111)",{"$f":"D113","v":0},{"$f":"E113","v":0}]
[2111,812100,"Примања од продаје покретне имовине"]
[2112,813000,"ПРИМАЊА ОД ПРОДАЈЕ ОСТАЛИХ ОСНОВНИХ СРЕДСТАВА (2113)",{"$f":"D115","v":0},{"$f":"E115","v":0}]
[2113,813100,"Примања од продаје осталих основних средстава"]
[2114,820000,"ПРИМАЊА ОД ПРОДАЈЕ ЗАЛИХА (2115 + 2117 + 2119)",{"$f":"D117+D119+D121","v":0},{"$f":"E117+E119+E121","v":0}]
[2115,821000,"ПРИМАЊА ОД ПРОДАЈЕ РОБНИХ РЕЗЕРВИ (2116)",{"$f":"D118","v":0},{"$f":"E118","v":0}]
[2116,821100,"Примања од продаје робних резерви"]
[2117,822000,"ПРИМАЊА ОД ПРОДАЈЕ ЗАЛИХА ПРОИЗВОДЊЕ (2118)",{"$f":"D120","v":0},{"$f":"E120","v":0}]
[2118,822100,"Примања од продаје залиха производње"]
[2119,823000,"ПРИМАЊА ОД ПРОДАЈЕ РОБЕ ЗА ДАЉУ ПРОДАЈУ (2120)",{"$f":"D122","v":0},{"$f":"E122","v":0}]
[2120,823100,"Примања од продаје робе за даљу продају"]
[2121,830000,"ПРИМАЊА ОД ПРОДАЈЕ ДРАГОЦЕНОСТИ (2122)",{"$f":"D124","v":0},{"$f":"E124","v":0}]
[2122,831000,"ПРИМАЊА ОД ПРОДАЈЕ ДРАГОЦЕНОСТИ (2123)",{"$f":"D125","v":0},{"$f":"E125","v":0}]
[2123,831100,"Примања од продаје драгоцености"]
[2124,840000,"ПРИМАЊА ОД ПРОДАЈЕ ПРИРОДНЕ ИМОВИНЕ (2125 + 2127 + 2129)",{"$f":"D127+D129+D131","v":0},{"$f":"E127+E129+E131","v":0}]
[2125,841000,"ПРИМАЊА ОД ПРОДАЈЕ ЗЕМЉИШТА (2126)",{"$f":"D128","v":0},{"$f":"E128","v":0}]
[2126,841100,"Примања од продаје земљишта"]
[2127,842000,"ПРИМАЊА ОД ПРОДАЈЕ ПОДЗЕМНИХ БЛАГА (2128)",{"$f":"D130","v":0},{"$f":"E130","v":0}]
[2128,842100,"Примања од продаје подземних блага"]
[2129,843000,"ПРИМАЊА ОД ПРОДАЈЕ ШУМА И ВОДА (2130)",{"$f":"D132","v":0},{"$f":"E132","v":0}]
[2130,843100,"Примања од продаје шума и вода"]
[2131,null,"ТЕКУЋИ РАСХОДИ И ИЗДАЦИ ЗА НЕФИНАНСИЈСКУ ИМОВИНУ (2132 + 2300)",{"$f":"D134+D302","v":141332},{"$f":"E134+E302","v":156447}]
[2132,400000,"ТЕКУЋИ РАСХОДИ  (2133 + 2155 + 2200 + 2215 + 2239 + 2252 + 2268 + 2283)",{"$f":"D135+D157+D202+D217+D241+D254+D270+D285","v":138756},{"$f":"E135+E157+E202+E217+E241+E254+E270+E285","v":155146}]
[2133,410000,"РАСХОДИ ЗА ЗАПОСЛЕНЕ (2134 + 2136 + 2140 + 2142 + 2147 + 2149 + 2151 + 2153)",{"$f":"D136+D138+D142+D144+D149+D151+D153+D155","v":97480},{"$f":"E136+E138+E142+E144+E149+E151+E153+E155","v":103699}]
[2134,411000,"ПЛАТЕ, ДОДАЦИ И НАКНАДЕ ЗАПОСЛЕНИХ (ЗАРАДЕ) (2135)",{"$f":"D137","v":79028},{"$f":"E137","v":84879}]
[2135,411100,"Плате, додаци и накнаде запослених",79028,84879]
[2136,412000,"СОЦИЈАЛНИ ДОПРИНОСИ НА ТЕРЕТ ПОСЛОДАВЦА (од 2137 до 2139)",{"$f":"SUM(D139:D141)","v":14146},{"$f":"SUM(E139:E141)","v":15200}]
[2137,412100,"Допринос за пензијско и инвалидско осигурање ",9483,10190]
[2138,412200,"Допринос за здравствено осигурање",4070,4373]
[2139,412300,"Допринос за незапосленост",593,637]
[2140,413000,"НАКНАДЕ У НАТУРИ (2141)",{"$f":"D143","v":345},{"$f":"E143","v":243}]
[2141,413100,"Накнаде у натури",345,243]
[2142,414000,"СОЦИЈАЛНА ДАВАЊА ЗАПОСЛЕНИМА (од 2143 до 2146)",{"$f":"SUM(D145:D148)","v":2053},{"$f":"SUM(E145:E148)","v":969}]
[2143,414100,"Исплата накнада за време одсуствовања с посла на терет фондова",648,763]
[2144,414200,"Расходи за образовање деце запослених"]
[2145,414300,"Отпремнине и помоћи",1405,206]
[2146,414400,"Помоћ у медицинском лечењу запосленог или чланова уже породице и друге помоћи запосленом"]
[2147,415000,"НАКНАДЕ ТРОШКОВА ЗА ЗАПОСЛЕНЕ (2148)",{"$f":"D150","v":1230},{"$f":"E150","v":1120}]
[2148,415100,"Накнаде трошкова за запослене",1230,1120]
[2149,416000,"НАГРАДЕ ЗАПОСЛЕНИМА И ОСТАЛИ ПОСЕБНИ РАСХОДИ (2150)",{"$f":"D152","v":678},{"$f":"E152","v":1288}]
[2150,416100,"Награде запосленима и остали посебни расходи",678,1288]
[2151,417000,"ПОСЛАНИЧКИ ДОДАТАК (2152)",{"$f":"D154","v":0},{"$f":"E154","v":0}]
[2152,417100,"Посланички додатак"]
[2153,418000,"СУДИЈСКИ ДОДАТАК (2154)",{"$f":"D156","v":0},{"$f":"E156","v":0}]
[2154,418100,"Судијски додатак"]
[2155,420000,"КОРИШЋЕЊЕ УСЛУГА И РОБА (2156 + 2164 + 2170 + 2179 + 2187 + 2190)",{"$f":"D158+D166+D172+D181+D189+D192","v":35106},{"$f":"E158+E166+E172+E181+E189+E192","v":37468}]
[2156,421000,"СТАЛНИ ТРОШКОВИ (од 2157 до 2163)",{"$f":"SUM(D159:D165)","v":9361},{"$f":"SUM(E159:E165)","v":10626}]
[2157,421100,"Трошкови платног промета и банкарских услуга",179,210]
[2158,421200,"Енергетске услуге",6678,8273]
[2159,421300,"Комуналне услуге",1430,1559]
[2160,421400,"Услуге комуникација",498,471]
[2161,421500,"Трошкови осигурања",576,113]
[2162,421600,"Закуп имовине и опреме"]
[2163,421900,"Остали трошкови"]
[2164,422000,"ТРОШКОВИ ПУТОВАЊА (од 2165 до 2169)",{"$f":"SUM(D167:D171)","v":853},{"$f":"SUM(E167:E171)","v":780}]
[2165,422100,"Трошкови службених путовања у земљи",717,630]
[2166,422200,"Трошкови службених путовања у иностранство"]
[2167,422300,"Трошкови путовања у оквиру редовног рада",136,150]
[2168,422400,"Трошкови путовања ученика"]
[2169,422900,"Остали трошкови транспорта"]
[2170,423000,"УСЛУГЕ ПО УГОВОРУ (од 2171 до 2178)",{"$f":"SUM(D173:D180)","v":4075},{"$f":"SUM(E173:E180)","v":3401}]
[2171,423100,"Административне услуге"]
[2172,423200,"Компјутерске услуге",97,101]
[2173,423300,"Услуге образовања и усавршавања запослених",276,187]
[2174,423400,"Услуге информисања",170,87]
[2175,423500,"Стручне услуге"]
[2176,423600,"Услуге за домаћинство и угоститељство",116,106]
[2177,423700,"Репрезентација"]
[2178,423900,"Остале опште услуге",3416,2920]
[2179,424000,"СПЕЦИЈАЛИЗОВАНЕ УСЛУГЕ (од 2180 до 2186)",{"$f":"SUM(D182:D188)","v":1719},{"$f":"SUM(E182:E188)","v":2165}]
[2180,424100,"Пољопривредне услуге"]
[2181,424200,"Услуге образовања, културе и спорта",230,181]
[2182,424300,"Медицинске услуге"]
[2183,424400,"Услуге одржавања аутопутева"]
[2184,424500,"Услуге одржавања националних паркова и природних површина"]
[2185,424600,"Услуге очувања животне средине, науке и геодетске услуге"]
[2186,424900,"Остале специјализоване услуге",1489,1984]
[2187,425000,"ТЕКУЋЕ ПОПРАВКЕ И ОДРЖАВАЊЕ (УСЛУГЕ И МАТЕРИЈАЛИ) (2188 + 2189)",{"$f":"D190+D191","v":1860},{"$f":"E190+E191","v":2034}]
[2188,425100,"Текуће поправке и одржавање зграда и објеката",1439,1451]
[2189,425200,"Текуће поправке и одржавање опреме",421,583]
[2190,426000,"МАТЕРИЈАЛ (од 2191 до 2199)",{"$f":"SUM(D193:D201)","v":17238},{"$f":"SUM(E193:E201)","v":18462}]
[2191,426100,"Административни материјал",706,665]
[2192,426200,"Материјали за пољопривреду "]
[2193,426300,"Материјали за образовање и усавршавање запослених",361,250]
[2194,426400,"Материјали за саобраћај",554,598]
[2195,426500,"Материјали за очување животне средине и науку"]
[2196,426600,"Материјали за образовање, културу и спорт",457,1033]
[2197,426700,"Медицински и лабораторијски материјали"]
[2198,426800,"Материјали за одржавање хигијене и угоститељство",12897,13816]
[2199,426900,"Материјали за посебне намене",2263,2100]
[2200,430000,"АМОРТИЗАЦИЈА И УПОТРЕБА СРЕДСТАВА ЗА РАД  (2201 + 2205 + 2207 + 2209 + 2213)",{"$f":"D203+D207+D209+D211+D215","v":0},{"$f":"E203+E207+E209+E211+E215","v":0}]
[2201,431000,"АМОРТИЗАЦИЈА НЕКРЕТНИНА И ОПРЕМЕ (од 2202 до 2204)",{"$f":"SUM(D204:D206)","v":0},{"$f":"SUM(E204:E206)","v":0}]
[2202,431100,"Амортизација зграда и грађевинскиx објеката"]
[2203,431200,"Амортизација опреме"]
[2204,431300,"Амортизација осталих некретнина и опреме"]
[2205,432000,"АМОРТИЗАЦИЈА КУЛТИВИСАНЕ ОПРЕМЕ (од 2206)",{"$f":"D208","v":0},{"$f":"E208","v":0}]
[2206,432100,"Амортизација култивисане опреме"]
[2207,433000,"УПОТРЕБА ДРАГОЦЕНОСТИ (2208)",{"$f":"D210","v":0},{"$f":"E210","v":0}]
[2208,433100,"Употреба драгоцености"]
[2209,434000,"УПОТРЕБА ПРИРОДНЕ ИМОВИНЕ (од 2210 до 2212)",{"$f":"SUM(D212:D214)","v":0},{"$f":"SUM(E212:E214)","v":0}]
[2210,434100,"Употребa земљишта"]
[2211,434200,"Употреба подземног блага"]
[2212,434300,"Употреба шума и вода"]
[2213,435000,"АМОРТИЗАЦИЈА НЕМАТЕРИЈАЛНЕ ИМОВИНЕ (од 2214)",{"$f":"D216","v":0},{"$f":"E216","v":0}]
[2214,435100,"Амортизација нематеријалне имовине"]
[2215,440000,"ОТПЛАТА КАМАТА И ПРАТЕЋИ ТРОШКОВИ ЗАДУЖИВАЊА (2216 + 2226 + 2233 + 2235)",{"$f":"D218+D228+D235+D237","v":0},{"$f":"E218+E228+E235+E237","v":0}]
[2216,441000,"ОТПЛАТЕ ДОМАЋИХ КАМАТА (од 2117 до 2225)",{"$f":"SUM(D219:D227)","v":0},{"$f":"SUM(E219:E227)","v":0}]
[2217,441100,"Отплата камата на домаће хартије од вредности"]
[2218,441200,"Отплата камата осталим нивоима власти"]
[2219,441300,"Отплата камата домаћим јавним финансијским институцијама"]
[2220,441400,"Отплата камата домаћим пословним банкама"]
[2221,441500,"Отплата камата осталим домаћим кредиторима"]
[2222,441600,"Отплата камата домаћинствима у земљи"]
[2223,441700,"Отплата камата на домаће финансијске деривате"]
[2224,441800,"Отплата камата на домаће менице"]
[2225,441900,"Финансијске промене на финансијским лизинзима"]
[2226,442000,"ОТПЛАТА СТРАНИХ КАМАТА (од 2227 до 2232)",{"$f":"SUM(D229:D234)","v":0},{"$f":"SUM(E229:E234)","v":0}]
[2227,442100,"Отплата камата на хартије од вредности емитоване на иностраном финансијском тржишту"]
[2228,442200,"Отплата камата страним владама"]
[2229,442300,"Отплата камата мултилатералним институцијама"]
[2230,442400,"Отплата камата страним пословним банкама"]
[2231,442500,"Отплата камата осталим страним кредиторима"]
[2232,442600,"Отплата камата на стране финансијске деривате"]
[2233,443000,"ОТПЛАТА КАМАТА ПО ГАРАНЦИЈАМА (2234)",{"$f":"D236","v":0},{"$f":"E236","v":0}]
[2234,443100,"Отплата камата по гаранцијама"]
[2235,444000,"ПРАТЕЋИ ТРОШКОВИ ЗАДУЖИВАЊА (од 2236 до 2238)",{"$f":"SUM(D238:D240)","v":0},{"$f":"SUM(E238:E240)","v":0}]
[2236,444100,"Негативне курсне разлике"]
[2237,444200,"Казне за кашњење"]
[2238,444300,"Остали пратећи трошкови задуживања"]
[2239,450000,"СУБВЕНЦИЈЕ (2240 + 2243 + 2246 + 2249)",{"$f":"D242+D245+D248+D251","v":0},{"$f":"E242+E245+E248+E251","v":0}]
[2240,451000,"СУБВЕНЦИЈЕ ЈАВНИМ НЕФИНАНСИЈСКИМ ПРЕДУЗЕЋИМА И ОРГАНИЗАЦИЈАМА (2241 + 2242)",{"$f":"D243+D244","v":0},{"$f":"E243+E244","v":0}]
[2241,451100,"Текуће субвенције јавним нефинансијским предузећима и организацијама"]
[2242,451200,"Капиталне субвенције јавним нефинансијским предузећима и организацијама"]
[2243,452000,"СУБВЕНЦИЈЕ ПРИВАТНИМ ФИНАНСИЈСКИМ  ИНСТИТУЦИЈАМА (2244 + 2245)",{"$f":"D246+D247","v":0},{"$f":"E246+E247","v":0}]
[2244,452100,"Текуће субвенције приватним финансијским институцијама"]
[2245,452200,"Капиталне субвенције приватним финансијским институцијама"]
[2246,453000,"СУБВЕНЦИЈЕ ЈАВНИМ ФИНАНСИЈСКИМ  ИНСТИТУЦИЈАМА (2247 + 2248)",{"$f":"D249+D250","v":0},{"$f":"E249+E250","v":0}]
[2247,453100,"Текуће субвенције јавним финансијским институцијама"]
[2248,453200,"Капиталне субвенције јавним финансијским институцијама"]
[2249,454000,"СУБВЕНЦИЈЕ ПРИВАТНИМ ПРЕДУЗЕЋИМА (2250 + 2251)",{"$f":"D252+D253","v":0},{"$f":"E252+E253","v":0}]
[2250,454100,"Текуће субвенције приватним предузећима"]
[2251,454200,"Капиталне субвенције приватним предузећима"]
[2252,460000,"ДОНАЦИЈЕ, ДОТАЦИЈЕ И ТРАНСФЕРИ (2253 + 2256 + 2259 + 2262 + 2265)",{"$f":"D255+D258+D261+D264+D267","v":5398},{"$f":"E255+E258+E261+E264+E267","v":4268}]
[2253,461000,"ДОНАЦИЈЕ СТРАНИМ ВЛАДАМА (2254 + 2255)",{"$f":"D256+D257","v":0},{"$f":"E256+E257","v":0}]
[2254,461100,"Текуће донације страним владама"]
[2255,461200,"Капиталне донације страним владама"]
[2256,462000,"ДОТАЦИЈЕ МЕЂУНАРОДНИМ ОРГАНИЗАЦИЈАМА (2257 + 2258)",{"$f":"D259+D260","v":0},{"$f":"E259+E260","v":0}]
[2257,462100,"Текуће дотације међународним организацијама"]
[2258,462200,"Капиталне дотације међународним организацијама"]
[2259,463000,"ТРАНСФЕРИ ОСТАЛИМ НИВОИМА ВЛАСТИ (2260 + 2261)",{"$f":"D262+D263","v":0},{"$f":"E262+E263","v":0}]
[2260,463100,"Текући трансфери осталим нивоима власти"]
[2261,463200,"Капитални трансфери осталим нивоима власти"]
[2262,464000,"ДОТАЦИЈЕ ОРГАНИЗАЦИЈАМА ОБАВЕЗНОГ СОЦИЈАЛНОГ ОСИГУРАЊА (2263 + 2264)",{"$f":"SUM(D265:D266)","v":0},{"$f":"SUM(E265:E266)","v":0}]
[2263,464100,"Текуће дотације организацијама обавезног социјалног осигурања"]
[2264,464200,"Капиталне дотације организацијама обавезног социјалног осигурања"]
[2265,465000,"ОСТАЛЕ ДОТАЦИЈЕ И ТРАНСФЕРИ (2266 + 2267)",{"$f":"SUM(D268:D269)","v":5398},{"$f":"SUM(E268:E269)","v":4268}]
[2266,465100,"Остале текуће дотације и трансфери",5398,4268]
[2267,465200,"Остале капиталне дотације и трансфери"]
[2268,470000,"СОЦИЈАЛНО ОСИГУРАЊЕ И СОЦИЈАЛНА ЗАШТИТА (2269 + 2273)",{"$f":"D271+D275","v":98},{"$f":"E271+E275","v":121}]
[2269,471000,"ПРАВА ИЗ СОЦИЈАЛНОГ ОСИГУРАЊА (ОРГАНИЗАЦИЈЕ ОБАВЕЗНОГ СОЦИЈАЛНОГ ОСИГУРАЊА) (од 2270 до 2272)",{"$f":"SUM(D272:D274)","v":0},{"$f":"SUM(E272:E274)","v":0}]
[2270,471100,"Права из социјалног осигурања која се исплаћују непосредно домаћинствима"]
[2271,471200,"Права из социјалног осигурања која се исплаћују непосредно пружаоцима услуга"]
[2272,471900,"Трансфери другим организацијама обавезног социјалног осигурања за доприносе за осигурање"]
[2273,472000,"НАКНАДЕ ЗА СОЦИЈАЛНУ ЗАШТИТУ ИЗ БУЏЕТА (од 2274 до 2282)",{"$f":"SUM(D276:D284)","v":98},{"$f":"SUM(E276:E284)","v":121}]
[2274,472100,"Накнаде из буџета у случају болести и инвалидности"]
[2275,472200,"Накнаде из буџета за породиљско одсуство "]
[2276,472300,"Накнаде из буџета за децу и породицу "]
[2277,472400,"Накнаде из буџета за случај незапослености "]
[2278,472500,"Старосне и породичне пензије из буџета"]
[2279,472600,"Накнаде из буџета у случају смрти"]
[2280,472700,"Накнаде из буџета за образовање, културу, науку и спорт ",98,121]
[2281,472800,"Накнаде из буџета за становање и живот "]
[2282,472900,"Остале накнаде из буџета"]
[2283,480000,"ОСТАЛИ РАСХОДИ (2284 + 2287 + 2291 + 2293 + 2296 + 2298)",{"$f":"D286+D289+D293+D295+D298+D300","v":674},{"$f":"E286+E289+E293+E295+E298+E300","v":9590}]
[2284,481000,"ДОТАЦИЈЕ НЕВЛАДИНИМ ОРГАНИЗАЦИЈАМА (2285 + 2286)",{"$f":"D287+D288","v":0},{"$f":"E287+E288","v":0}]
[2285,481100,"Дотације непрофитним организацијама које пружају помоћ домаћинствима"]
[2286,481900,"Дотације осталим непрофитним институцијама"]
[2287,482000,"ПОРЕЗИ, ОБАВЕЗНЕ ТАКСЕ И КАЗНЕ (од 2288 до 2290)",{"$f":"SUM(D290:D292)","v":36},{"$f":"SUM(E290:E292)","v":134}]
[2288,482100,"Остали порези"]
[2289,482200,"Обавезне таксе",36,134]
[2290,482300,"Новчане казне и пенали"]
[2291,483000,"НОВЧАНЕ КАЗНЕ И ПЕНАЛИ ПО РЕШЕЊУ СУДОВА (2292)",{"$f":"D294","v":638},{"$f":"E294","v":1200}]
[2292,483100,"Новчане казне и пенали по решењу судова",638,1200]
[2293,484000,"НАКНАДА ШТЕТЕ ЗА ПОВРЕДЕ ИЛИ ШТЕТУ НАСТАЛУ УСЛЕД ЕЛЕМЕНТАРНИХ НЕПОГОДА ИЛИ ДРУГИХ ПРИРОДНИХ УЗРОКА (2294 + 2295)",{"$f":"D296+D297","v":0},{"$f":"E296+E297","v":0}]
[2294,484100,"Накнада штете за повреде или штету услед елементарних непогода"]
[2295,484200,"Накнада штете од дивљачи"]
[2296,485000,"НАКНАДА ШТЕТЕ ЗА ПОВРЕДЕ ИЛИ ШТЕТУ НАНЕТУ ОД СТРАНЕ ДРЖАВНИХ ОРГАНА (2297)",{"$f":"D299","v":0},{"$f":"E299","v":8256}]
[2297,485100,"Накнада штете за повреде или штету нанету од стране државних органа",null,8256]
[2298,489000,"РАСХОДИ КОЈИ СЕ ФИНАНСИРАЈУ ИЗ СРЕДСТАВА ЗА РЕАЛИЗАЦИЈУ НАЦИОНАЛНОГ ИНВЕСТИЦИОНОГ ПЛАНА (2299)",{"$f":"D301","v":0},{"$f":"E301","v":0}]
[2299,489100,"Расходи који се финансирају из средстава за реализацију националног инвестиционог плана"]
[2300,500000,"ИЗДАЦИ ЗА НЕФИНАНСИЈСКУ ИМОВИНУ (2301 + 2323 + 2332 + 2335 + 2343)",{"$f":"D303+D325+D334+D337+D345","v":2576},{"$f":"E303+E325+E334+E337+E345","v":1301}]
[2301,510000,"ОСНОВНА СРЕДСТВА (2302 + 2307 + 2317 + 2319 + 2321)",{"$f":"D304+D309+D319+D321+D323","v":2576},{"$f":"E304+E309+E319+E321+E323","v":1301}]
[2302,511000,"ЗГРАДЕ И ГРАЂЕВИНСКИ ОБЈЕКТИ (од 2303 до 2306)",{"$f":"SUM(D305:D308)","v":0},{"$f":"SUM(E305:E308)","v":0}]
[2303,511100,"Куповина зграда и објеката"]
[2304,511200,"Изградња зграда и објеката"]
[2305,511300,"Капитално одржавање зграда и објеката"]
[2306,511400,"Пројектно планирање"]
[2307,512000,"МАШИНЕ И ОПРЕМА (од 2308 до 2316)",{"$f":"SUM(D310:D318)","v":2576},{"$f":"SUM(E310:E318)","v":1301}]
[2308,512100,"Опрема за саобраћај"]
[2309,512200,"Административна опрема",2204,896]
[2310,512300,"Опрема за пољопривреду"]
[2311,512400,"Опрема за заштиту животне средине"]
[2312,512500,"Медицинска и лабораторијска опрема"]
[2313,512600,"Опрема за образовање, науку, културу и спорт",333,405]
[2314,512700,"Опрема за војску"]
[2315,512800,"Опрема за јавну безбедност",39]
[2316,512900,"Опрема за производњу, моторна, непокретна и немоторна опрема"]
[2317,513000,"ОСТАЛЕ НЕКРЕТНИНЕ И ОПРЕМА (2318)",{"$f":"D320","v":0},{"$f":"E320","v":0}]
[2318,513100,"Остале некретнине и опрема"]
[2319,514000,"КУЛТИВИСАНА ИМОВИНА (2320)",{"$f":"D322","v":0},{"$f":"E322","v":0}]
[2320,514100,"Култивисана имовина"]
[2321,515000,"НЕМАТЕРИЈАЛНА ИМОВИНА (2322)",{"$f":"D324","v":0},{"$f":"E324","v":0}]
[2322,515100,"Нематеријална имовина"]
[2323,520000,"ЗАЛИХЕ (2324 + 2326 + 2330)",{"$f":"D326+D328+D332","v":0},{"$f":"E326+E328+E332","v":0}]
[2324,521000,"РОБНЕ РЕЗЕРВЕ (2325)",{"$f":"D327","v":0},{"$f":"E327","v":0}]
[2325,521100,"Робне резерве"]
[2326,522000,"ЗАЛИХЕ ПРОИЗВОДЊЕ (од 2327 до 2329)",{"$f":"SUM(D329:D331)","v":0},{"$f":"SUM(E329:E331)","v":0}]
[2327,522100,"Залихе материјала"]
[2328,522200,"Залихе недовршене производње"]
[2329,522300,"Залихе готових производа"]
[2330,523000,"ЗАЛИХЕ РОБЕ ЗА ДАЉУ ПРОДАЈУ (2331)",{"$f":"D333","v":0},{"$f":"E333","v":0}]
[2331,523100,"Залихе робе за даљу продају"]
[2332,530000,"ДРАГОЦЕНОСТИ (2333)",{"$f":"D335","v":0},{"$f":"E335","v":0}]
[2333,531000,"ДРАГОЦЕНОСТИ (2334)",{"$f":"D336","v":0},{"$f":"E336","v":0}]
[2334,531100,"Драгоцености"]
[2335,540000,"ПРИРОДНА ИМОВИНА (2336 + 2338 + 2340)",{"$f":"D338+D340+D342","v":0},{"$f":"E338+E340+E342","v":0}]
[2336,541000,"ЗЕМЉИШТЕ (2337)",{"$f":"D339","v":0},{"$f":"E339","v":0}]
[2337,541100,"Земљиште"]
[2338,542000,"РУДНА БОГАТСТВА (2339)",{"$f":"D341","v":0},{"$f":"E341","v":0}]
[2339,542100,"Копови"]
[2340,543000,"ШУМЕ И ВОДЕ (2341 + 2342)",{"$f":"SUM(D343:D344)","v":0},{"$f":"SUM(E343:E344)","v":0}]
[2341,543100,"Шуме"]
[2342,543200,"Воде"]
[2343,550000,"НЕФИНАНСИЈСКА ИМОВИНА КОЈА СЕ ФИНАНСИРА ИЗ СРЕДСТАВА ЗА РЕАЛИЗАЦИЈУ НАЦИОНАЛНОГ ИНВЕСТИЦИОНОГ ПЛАНА (2344)",{"$f":"D346","v":0},{"$f":"E346","v":0}]
[2344,551000,"НЕФИНАНСИЈСКА ИМОВИНА КОЈА СЕ ФИНАНСИРА ИЗ СРЕДСТАВА ЗА РЕАЛИЗАЦИЈУ НАЦИОНАЛНОГ ИНВЕСТИЦИОНОГ ПЛАНА (2345)",{"$f":"D347","v":0},{"$f":"E347","v":0}]
[2345,551100,"Нефинансијска имовина која се финансира из средстава за реализацију националног инвестиционог плана"]
[null,null,"УТВРЂИВАЊЕ РЕЗУЛТАТА ПОСЛОВАЊА "]
[2346,null,"Вишак прихода и примања - буџетски суфицит (2001 - 2131) ",{"$f":"IF(D3>D133,D3-D133,0)","v":0},{"$f":"IF(E3>E133,E3-E133,0)","v":5}]
[2347,null,"Мањак прихода и примања - буџетски дефицит (2131 - 2001) ",{"$f":"IF(D3<D133,D133-D3,0)","v":2173},{"$f":"IF(E3<E133,E133-E3,0)","v":0}]
[2348,null,"КОРИГОВАЊЕ ВИШКА, ОДНОСНО МАЊКА ПРИХОДА И ПРИМАЊА (од 2349 до 2353)",{"$f":"SUM(D352:D356)","v":2173},{"$f":"SUM(E352:E356)","v":0}]
[2349,null,"Део нераспоређеног вишка прихода и примања из ранијих година који је коришћен за покриће расхода и издатака текуће године",2173]
[2350,null,"Део новчаних средстава амортизације који је коришћен за набавку нефинансијске имовине"]
[2351,null,"Део пренетих неутрошених средстава из ранијих година коришћен за покриће расхода и издатака текуће године"]
[2352,null,"Износ расхода и издатака за нефинансијску имовину, \nфинансираних из кредита"]
[2353,null,"Износ приватизационих примања и примања од отплате датих кредита коришћен за покриће расхода и издатака текуће године"]
[2354,null,"ПОКРИЋЕ ИЗВРШЕНИХ ИЗДАТАКА ИЗ ТЕКУЋИХ ПРИХОДА И ПРИМАЊА (2355 + 2356)",{"$f":"SUM(D358:D359)","v":0},{"$f":"SUM(E358:E359)","v":0}]
[2355,null,"Утрошена средства текућих прихода и примања од продаје нефинансијске имовине за отплату обавеза по кредитима"]
[2356,null,"Утрошена средства текућих прихода и примања од продаје нефинансијске имовине за набавку финансијске имовине"]
[2357,321121,"ВИШАК ПРИХОДА И ПРИМАЊА – СУФИЦИТ \n(2346 + 2348 - 2354) > 0 или (2348 - 2347 - 2354) > 0",{"$f":"IF((D349+D351)>=(D350+D358+D359),IF((D349+D351)>(D350+D358+D359),(D349+D351)-(D350+D358+D359),0),0)","v":0},{"$f":"IF((E349+E351)>=(E350+E358+E359),IF((E349+E351)>(E350+E358+E359),(E349+E351)-(E350+E358+E359),0),0)","v":5}]
[2358,321122,"МАЊАК ПРИХОДА И ПРИМАЊА - ДЕФИЦИТ (2347 - 2348 + 2354) > 0",{"$f":"IF(D350>D351,D350-D351,0)","v":0},{"$f":"IF(E350>E351,E350-E351,0)","v":0}]
[2359,null,"ВИШАК ПРИХОДА И ПРИМАЊА – СУФИЦИТ (ЗА ПРЕНОС У НАРЕДНУ ГОДИНУ) (2360 + 2361 = 2357)",{"$f":"SUM(D363:D364)","v":0},{"$f":"SUM(E363:E364)","v":0}]
[2360,null,"Део вишка прихода и примања наменски опредељен за наредну годину"]
[2361,null,"Нераспоређени део вишка прихода и примања за пренос у наредну годину "]

{"sheet":"StObr2","index":5,"n_rows":393,"n_cols":44,"rows_kept":393,"cut":false,"hidden":false,"merged":[[21,24,21,27],[0,37,0,42],[1,0,1,43],[4,0,5,2],[4,4,5,9],[4,11,5,18],[4,20,5,24],[4,26,5,30],[4,32,5,32],[4,34,5,43],[7,1,7,24],[8,1,8,42],[10,1,10,6],[10,7,10,15],[10,17,10,23],[10,25,10,37],[12,1,12,3],[12,4,12,15],[12,17,12,24],[12,25,12,40],[14,1,14,39],[16,1,16,43],[17,1,17,41],[20,12,20,29],[21,29,21,31],[21,17,21,21],[22,36,22,43],[23,0,26,2],[23,3,26,6],[23,7,26,25],[23,26,24,43],[25,26,26,34],[25,35,26,43],[27,0,27,2],[27,3,27,6],[27,7,27,25],[27,26,27,34],[27,35,27,43],[28,0,28,2],[28,3,28,6],[28,7,28,25],[28,26,28,34],[28,35,28,43],[29,0,29,2],[29,3,29,6],[29,7,29,25],[29,26,29,34],[29,35,29,43],[30,0,30,2],[30,3,30,6],[30,7,30,25],[30,26,30,34],[30,35,30,43],[31,0,31,2],[31,3,31,6],[31,7,31,25],[31,26,31,34],[31,35,31,43],[32,0,32,2],[32,3,32,6],[32,7,32,25],[32,26,32,34],[32,35,32,43],[33,0,33,2],[33,3,33,6],[33,7,33,25],[33,26,33,34],[33,35,33,43],[34,0,34,2],[34,3,34,6],[34,7,34,25],[34,26,34,34],[34,35,34,43],[35,0,35,2],[35,3,35,6],[35,7,35,25],[35,26,35,34],[35,35,35,43],[36,0,36,2],[36,3,36,6],[36,7,36,25],[36,26,36,34],[36,35,36,43],[37,0,37,2],[37,3,37,6],[37,7,37,25],[37,26,37,34],[37,35,37,43],[38,0,38,2],[38,3,38,6],[38,7,38,25],[38,26,38,34],[38,35,38,43],[39,0,39,2],[39,3,39,6],[39,7,39,25],[39,26,39,34],[39,35,39,43],[40,0,40,2],[40,3,40,6],[40,7,40,25],[40,26,40,34],[40,35,40,43],[41,0,41,2],[41,3,41,6],[41,7,41,25],[41,26,41,34],[41,35,41,43],[42,0,42,2],[42,3,42,6],[42,7,42,25],[42,26,42,34],[42,35,42,43],[43,0,43,2],[43,3,43,6],[43,7,43,25],[43,26,43,34],[43,35,43,43],[44,0,44,2],[44,3,44,6],[44,7,44,25],[44,26,44,34],[44,35,44,43],[45,0,45,2],[45,3,45,6],[45,7,45,25],[45,26,45,34],[45,35,45,43],[46,0,46,2],[46,3,46,6],[46,7,46,25],[46,26,46,34],[46,35,46,43],[47,0,47,2],[47,3,47,6],[47,7,47,25],[47,26,47,34],[47,35,47,43],[48,0,48,2],[48,3,48,6],[48,7,48,25],[48,26,48,34],[48,35,48,43],[49,0,49,2],[49,3,49,6],[49,7,49,25],[49,26,49,34],[49,35,49,43],[50,0,50,2],[50,3,50,6],[50,7,50,25],[50,26,50,34],[50,35,50,43],[51,0,51,2],[51,3,51,6],[51,7,51,25],[51,26,51,34],[51,35,51,43],[52,0,52,2],[52,3,52,6],[52,7,52,25],[52,26,52,34],[52,35,52,43],[53,0,53,2],[53,3,53,6],[53,7,53,25],[53,26,53,34],[53,35,53,43],[54,0,54,2],[54,3,54,6],[54,7,54,25],[54,26,54,34],[54,35,54,43],[55,0,55,2],[55,3,55,6],[55,7,55,25],[55,26,55,34],[55,35,55,43],[56,0,56,2],[56,3,56,6],[56,7,56,25],[56,26,56,34],[56,35,56,43],[57,0,57,2],[57,3,57,6],[57,7,57,25],[57,26,57,34],[57,35,57,43],[58,0,58,2],[58,3,58,6],[58,7,58,25],[58,26,58,34],[58,35,58,43],[59,0,59,2],[59,3,59,6],[59,7,59,25],[59,26,59,34],[59,35,59,43],[60,0,60,2],[60,3,60,6],[60,7,60,25],[60,26,60,34],[60,35,60,43],[61,0,61,2],[61,3,61,6],[61,7,61,25],[61,26,61,34],[61,35,61,43],[62,0,62,2],[62,3,62,6],[62,7,62,25],[62,26,62,34],[62,35,62,43],[63,0,63,2],[63,3,63,6],[63,7,63,25],[63,26,63,34],[63,35,63,43],[64,0,64,2],[64,3,64,6],[64,7,64,25],[64,26,64,34],[64,35,64,43],[65,0,65,2],[65,3,65,6],[65,7,65,25],[65,26,65,34],[65,35,65,43],[66,0,66,2],[66,3,66,6],[66,7,66,25],[66,26,66,34],[66,35,66,43],[67,0,67,2],[67,3,67,6],[67,7,67,25],[67,26,67,34],[67,35,67,43],[68,0,68,2],[68,3,68,6],[68,7,68,25],[68,26,68,34],[68,35,68,43],[69,0,69,2],[69,3,69,6],[69,7,69,25],[69,26,69,34],[69,35,69,43],[70,0,70,2],[70,3,70,6],[70,7,70,25],[70,26,70,34],[70,35,70,43],[71,0,71,2],[71,3,71,6],[71,7,71,25],[71,26,71,34],[71,35,71,43],[72,0,72,2],[72,3,72,6],[72,7,72,25],[72,26,72,34],[72,35,72,43],[73,0,73,2],[73,3,73,6],[73,7,73,25],[73,26,73,34],[73,35,73,43],[74,0,74,2],[74,3,74,6],[74,7,74,25],[74,26,74,34],[74,35,74,43],[75,0,75,2],[75,3,75,6],[75,7,75,25],[75,26,75,34],[75,35,75,43],[76,0,76,2],[76,3,76,6],[76,7,76,25],[76,26,76,34],[76,35,76,43],[77,0,77,2],[77,3,77,6],[77,7,77,25],[77,26,77,34],[77,35,77,43],[78,0,78,2],[78,3,78,6],[78,7,78,25],[78,26,78,34],[78,35,78,43],[79,0,79,2],[79,3,79,6],[79,7,79,25],[79,26,79,34],[79,35,79,43],[80,0,80,2],[80,3,80,6],[80,7,80,25],[80,26,80,34],[80,35,80,43],[81,0,81,2],[81,3,81,6],[81,7,81,25],[81,26,81,34],[81,35,81,43],[82,0,82,2],[82,3,82,6],[82,7,82,25],[82,26,82,34],[82,35,82,43],[83,0,83,2],[83,3,83,6],[83,7,83,25],[83,26,83,34],[83,35,83,43],[84,0,84,2],[84,3,84,6],[84,7,84,25],[84,26,84,34],[84,35,84,43],[85,0,85,2],[85,3,85,6],[85,7,85,25],[85,26,85,34],[85,35,85,43],[86,0,86,2],[86,3,86,6],[86,7,86,25],[86,26,86,34],[86,35,86,43],[87,0,87,2],[87,3,87,6],[87,7,87,25],[87,26,87,34],[87,35,87,43],[88,0,88,2],[88,3,88,6],[88,7,88,25],[88,26,88,34],[88,35,88,43],[89,0,89,2],[89,3,89,6],[89,7,89,25],[89,26,89,34],[89,35,89,43],[90,0,90,2],[90,3,90,6],[90,7,90,25],[90,26,90,34],[90,35,90,43],[91,0,91,2],[91,3,91,6],[91,7,91,25],[91,26,91,34],[91,35,91,43],[92,0,92,2],[92,3,92,6],[92,7,92,25],[92,26,92,34],[92,35,92,43],[93,0,93,2],[93,3,93,6],[93,7,93,25],[93,26,93,34],[93,35,93,43],[94,0,94,2],[94,3,94,6],[94,7,94,25],[94,26,94,34],[94,35,94,43],[95,0,95,2],[95,3,95,6],[95,7,95,25],[95,26,95,34],[95,35,95,43],[96,0,96,2],[96,3,96,6],[96,7,96,25],[96,26,96,34],[96,35,96,43],[97,0,97,2],[97,3,97,6],[97,7,97,25],[97,26,97,34],[97,35,97,43],[98,0,98,2],[98,3,98,6],[98,7,98,25],[98,26,98,34],[98,35,98,43],[99,0,99,2],[99,3,99,6],[99,7,99,25],[99,26,99,34],[99,35,99,43],[100,0,100,2],[100,3,100,6],[100,7,100,25],[100,26,100,34],[100,35,100,43],[101,0,101,2],[101,3,101,6],[101,7,101,25],[101,26,101,34],[101,35,101,43],[102,0,102,2],[102,3,102,6],[102,7,102,25],[102,26,102,34],[102,35,102,43],[103,0,103,2],[103,3,103,6],[103,7,103,25],[103,26,103,34],[103,35,103,43],[104,0,104,2],[104,3,104,6],[104,7,104,25],[104,26,104,34],[104,35,104,43],[105,0,105,2],[105,3,105,6],[105,7,105,25],[105,26,105,34],[105,35,105,43],[106,0,106,2],[106,3,106,6],[106,7,106,25],[106,26,106,34],[106,35,106,43],[107,0,107,2],[107,3,107,6],[107,7,107,25],[107,26,107,34],[107,35,107,43],[108,0,108,2],[108,3,108,6],[108,7,108,25],[108,26,108,34],[108,35,108,43],[109,0,109,2],[109,3,109,6],[109,7,109,25],[109,26,109,34],[109,35,109,43],[110,0,110,2],[110,3,110,6],[110,7,110,25],[110,26,110,34],[110,35,110,43],[111,0,111,2],[111,3,111,6],[111,7,111,25],[111,26,111,34],[111,35,111,43],[112,0,112,2],[112,3,112,6],[112,7,112,25],[112,26,112,34],[112,35,112,43],[113,0,113,2],[113,3,113,6],[113,7,113,25],[113,26,113,34],[113,35,113,43],[114,0,114,2],[114,3,114,6],[114,7,114,25],[114,26,114,34],[114,35,114,43],[115,0,115,2],[115,3,115,6],[115,7,115,25],[115,26,115,34],[115,35,115,43],[116,0,116,2],[116,3,116,6],[116,7,116,25],[116,26,116,34],[116,35,116,43],[117,0,117,2],[117,3,117,6],[117,7,117,25],[117,26,117,34],[117,35,117,43],[118,0,118,2],[118,3,118,6],[118,7,118,25],[118,26,118,34],[118,35,118,43],[119,0,119,2],[119,3,119,6],[119,7,119,25],[119,26,119,34],[119,35,119,43],[120,0,120,2],[120,3,120,6],[120,7,120,25],[120,26,120,34],[120,35,120,43],[121,0,121,2],[121,3,121,6],[121,7,121,25],[121,26,121,34],[121,35,121,43],[122,0,122,2],[122,3,122,6],[122,7,122,25],[122,26,122,34],[122,35,122,43],[123,0,123,2],[123,3,123,6],[123,7,123,25],[123,26,123,34],[123,35,123,43],[124,0,124,2],[124,3,124,6],[124,7,124,25],[124,26,124,34],[124,35,124,43],[125,0,125,2],[125,3,125,6],[125,7,125,25],[125,26,125,34],[125,35,125,43],[126,0,126,2],[126,3,126,6],[126,7,126,25],[126,26,126,34],[126,35,126,43],[127,0,127,2],[127,3,127,6],[127,7,127,25],[127,26,127,34],[127,35,127,43],[128,0,128,2],[128,3,128,6],[128,7,128,25],[128,26,128,34],[128,35,128,43],[129,0,129,2],[129,3,129,6],[129,7,129,25],[129,26,129,34],[129,35,129,43],[130,0,130,2],[130,3,130,6],[130,7,130,25],[130,26,130,34],[130,35,130,43],[131,0,131,2],[131,3,131,6],[131,7,131,25],[131,26,131,34],[131,35,131,43],[132,0,132,2],[132,3,132,6],[132,7,132,25],[132,26,132,34],[132,35,132,43],[133,0,133,2],[133,3,133,6],[133,7,133,25],[133,26,133,34],[133,35,133,43],[134,0,134,2],[134,3,134,6],[134,7,134,25],[134,26,134,34],[134,35,134,43],[135,0,135,2],[135,3,135,6],[135,7,135,25],[135,26,135,34],[135,35,135,43],[136,0,136,2],[136,3,136,6],[136,7,136,25],[136,26,136,34],[136,35,136,43],[137,0,137,2],[137,3,137,6],[137,7,137,25],[137,26,137,34],[137,35,137,43],[138,0,138,2],[138,3,138,6],[138,7,138,25],[138,26,138,34],[138,35,138,43],[139,0,139,2],[139,3,139,6],[139,7,139,25],[139,26,139,34],[139,35,139,43],[140,0,140,2],[140,3,140,6],[140,7,140,25],[140,26,140,34],[140,35,140,43],[141,0,141,2],[141,3,141,6],[141,7,141,25],[141,26,141,34],[141,35,141,43],[142,0,142,2],[142,3,142,6],[142,7,142,25],[142,26,142,34],[142,35,142,43],[143,0,143,2],[143,3,143,6],[143,7,143,25],[143,26,143,34],[143,35,143,43],[144,0,144,2],[144,3,144,6],[144,7,144,25],[144,26,144,34],[144,35,144,43],[145,0,145,2],[145,3,145,6],[145,7,145,25],[145,26,145,34],[145,35,145,43],[146,0,146,2],[146,3,146,6],[146,7,146,25],[146,26,146,34],[146,35,146,43],[147,0,147,2],[147,3,147,6],[147,7,147,25],[147,26,147,34],[147,35,147,43],[148,0,148,2],[148,3,148,6],[148,7,148,25],[148,26,148,34],[148,35,148,43],[149,0,149,2],[149,3,149,6],[149,7,149,25],[149,26,149,34],[149,35,149,43],[150,0,150,2],[150,3,150,6],[150,7,150,25],[150,26,150,34],[150,35,150,43],[151,0,151,2],[151,3,151,6],[151,7,151,25],[151,26,151,34],[151,35,151,43],[152,0,152,2],[152,3,152,6],[152,7,152,25],[152,26,152,34],[152,35,152,43],[153,0,153,2],[153,3,153,6],[153,7,153,25],[153,26,153,34],[153,35,153,43],[154,0,154,2],[154,3,154,6],[154,7,154,25],[154,26,154,34],[154,35,154,43],[155,0,155,2],[155,3,155,6],[155,7,155,25],[155,26,155,34],[155,35,155,43],[156,0,156,2],[156,3,156,6],[156,7,156,25],[156,26,156,34],[156,35,156,43],[157,0,157,2],[157,3,157,6],[157,7,157,25],[157,26,157,34],[157,35,157,43],[158,0,158,2],[158,3,158,6],[158,7,158,25],[158,26,158,34],[158,35,158,43],[159,0,159,2],[159,3,159,6],[159,7,159,25],[159,26,159,34],[159,35,159,43],[160,0,160,2],[160,3,160,6],[160,7,160,25],[160,26,160,34],[160,35,160,43],[161,0,161,2],[161,3,161,6],[161,7,161,25],[161,26,161,34],[161,35,161,43],[162,0,162,2],[162,3,162,6],[162,7,162,25],[162,26,162,34],[162,35,162,43],[163,0,163,2],[163,3,163,6],[163,7,163,25],[163,26,163,34],[163,35,163,43],[164,0,164,2],[164,3,164,6],[164,7,164,25],[164,26,164,34],[164,35,164,43],[165,0,165,2],[165,3,165,6],[165,7,165,25],[165,26,165,34],[165,35,165,43],[166,0,166,2],[166,3,166,6],[166,7,166,25],[166,26,166,34],[166,35,166,43],[167,0,167,2],[167,3,167,6],[167,7,167,25],[167,26,167,34],[167,35,167,43],[168,0,168,2],[168,3,168,6],[168,7,168,25],[168,26,168,34],[168,35,168,43],[169,0,169,2],[169,3,169,6],[169,7,169,25],[169,26,169,34],[169,35,169,43],[170,0,170,2],[170,3,170,6],[170,7,170,25],[170,26,170,34],[170,35,170,43],[171,0,171,2],[171,3,171,6],[171,7,171,25],[171,26,171,34],[171,35,171,43],[172,0,172,2],[172,3,172,6],[172,7,172,25],[172,26,172,34],[172,35,172,43],[173,0,173,2],[173,3,173,6],[173,7,173,25],[173,26,173,34],[173,35,173,43],[174,0,174,2],[174,3,174,6],[174,7,174,25],[174,26,174,34],[174,35,174,43],[175,0,175,2],[175,3,175,6],[175,7,175,25],[175,26,175,34],[175,35,175,43],[176,0,176,2],[176,3,176,6],[176,7,176,25],[176,26,176,34],[176,35,176,43],[177,0,177,2],[177,3,177,6],[177,7,177,25],[177,26,177,34],[177,35,177,43],[178,0,178,2],[178,3,178,6],[178,7,178,25],[178,26,178,34],[178,35,178,43],[179,0,179,2],[179,3,179,6],[179,7,179,25],[179,26,179,34],[179,35,179,43],[180,0,180,2],[180,3,180,6],[180,7,180,25],[180,26,180,34],[180,35,180,43],[181,0,181,2],[181,3,181,6],[181,7,181,25],[181,26,181,34],[181,35,181,43],[182,0,182,2],[182,3,182,6],[182,7,182,25],[182,26,182,34],[182,35,182,43],[183,0,183,2],[183,3,183,6],[183,7,183,25],[183,26,183,34],[183,35,183,43],[184,0,184,2],[184,3,184,6],[184,7,184,25],[184,26,184,34],[184,35,184,43],[185,0,185,2],[185,3,185,6],[185,7,185,25],[185,26,185,34],[185,35,185,43],[186,0,186,2],[186,3,186,6],[186,7,186,25],[186,26,186,34],[186,35,186,43],[187,0,187,2],[187,3,187,6],[187,7,187,25],[187,26,187,34],[187,35,187,43],[188,0,188,2],[188,3,188,6],[188,7,188,25],[188,26,188,34],[188,35,188,43],[189,0,189,2],[189,3,189,6],[189,7,189,25],[189,26,189,34],[189,35,189,43],[190,0,190,2],[190,3,190,6],[190,7,190,25],[190,26,190,34],[190,35,190,43],[191,0,191,2],[191,3,191,6],[191,7,191,25],[191,26,191,34],[191,35,191,43],[192,0,192,2],[192,3,192,6],[192,7,192,25],[192,26,192,34],[192,35,192,43],[193,0,193,2],[193,3,193,6],[193,7,193,25],[193,26,193,34],[193,35,193,43],[194,0,194,2],[194,3,194,6],[194,7,194,25],[194,26,194,34],[194,35,194,43],[195,0,195,2],[195,3,195,6],[195,7,195,25],[195,26,195,34],[195,35,195,43],[196,0,196,2],[196,3,196,6],[196,7,196,25],[196,26,196,34],[196,35,196,43],[197,0,197,2],[197,3,197,6],[197,7,197,25],[197,26,197,34],[197,35,197,43],[198,0,198,2],[198,3,198,6],[198,7,198,25],[198,26,198,34],[198,35,198,43],[199,0,199,2],[199,3,199,6],[199,7,199,25],[199,26,199,34],[199,35,199,43],[200,0,200,2],[200,3,200,6],[200,7,200,25],[200,26,200,34],[200,35,200,43],[201,0,201,2],[201,3,201,6],[201,7,201,25],[201,26,201,34],[201,35,201,43],[202,0,202,2],[202,3,202,6],[202,7,202,25],[202,26,202,34],[202,35,202,43],[203,0,203,2],[203,3,203,6],[203,7,203,25],[203,26,203,34],[203,35,203,43],[204,0,204,2],[204,3,204,6],[204,7,204,25],[204,26,204,34],[204,35,204,43],[205,0,205,2],[205,3,205,6],[205,7,205,25],[205,26,205,34],[205,35,205,43],[206,0,206,2],[206,3,206,6],[206,7,206,25],[206,26,206,34],[206,35,206,43],[207,0,207,2],[207,3,207,6],[207,7,207,25],[207,26,207,34],[207,35,207,43],[208,0,208,2],[208,3,208,6],[208,7,208,25],[208,26,208,34],[208,35,208,43],[209,0,209,2],[209,3,209,6],[209,7,209,25],[209,26,209,34],[209,35,209,43],[210,0,210,2],[210,3,210,6],[210,7,210,25],[210,26,210,34],[210,35,210,43],[211,0,211,2],[211,3,211,6],[211,7,211,25],[211,26,211,34],[211,35,211,43],[212,0,212,2],[212,3,212,6],[212,7,212,25],[212,26,212,34],[212,35,212,43],[213,0,213,2],[213,3,213,6],[213,7,213,25],[213,26,213,34],[213,35,213,43],[214,0,214,2],[214,3,214,6],[214,7,214,25],[214,26,214,34],[214,35,214,43],[215,0,215,2],[215,3,215,6],[215,7,215,25],[215,26,215,34],[215,35,215,43],[216,0,216,2],[216,3,216,6],[216,7,216,25],[216,26,216,34],[216,35,216,43],[217,0,217,2],[217,3,217,6],[217,7,217,25],[217,26,217,34],[217,35,217,43],[218,0,218,2],[218,3,218,6],[218,7,218,25],[218,26,218,34],[218,35,218,43],[219,0,219,2],[219,3,219,6],[219,7,219,25],[219,26,219,34],[219,35,219,43],[220,0,220,2],[220,3,220,6]],"merged_total":1855,"flags":["merged_cut"]}
[null,null,null,null,null,null,null,null,null,null,null,null,null,null,null,null,null,null,null,null,null,null,null,null,null,null,null,null,null,null,null,null,null,null,null,null,null,"Образац 2"]
["ПОПУЊАВА УПРАВА ЗА ТРЕЗОР - ФИЛИЈАЛА"]
[7,5,2,null,0,{"$f":"IF(LEN(Podaci!M2) > 4, MID(RIGHT(Podaci!$M$2,5),1,1),0)","v":"0"},{"$f":"IF(LEN(Podaci!M2) > 3, MID(RIGHT(Podaci!$M$2,4),1,1),0)","v":"8"},{"$f":"IF(LEN(Podaci!M2) > 2, MID(RIGHT(Podaci!$M$2,3),1,1),0)","v":"5"},{"$f":"MID(RIGHT(Podaci!$M$2,2),1,1)","v":"9"},{"$f":"MID(RIGHT(Podaci!$M$2,1),1,1)","v":"0"},null,{"$f":"IF(LEN(Podaci!Z7) > 7, MID(RIGHT(Podaci!$Z$7,8),1,1),0)","v":"0"},{"$f":"IF(LEN(Podaci!Z7) > 6, MID(RIGHT(Podaci!$Z$7,7),1,1),0)","v":"8"},{"$f":"MID(RIGHT(Podaci!$Z$7,6),1,1)","v":"0"},{"$f":"MID(RIGHT(Podaci!$Z$7,5),1,1)","v":"0"},{"$f":"MID(RIGHT(Podaci!$Z$7,4),1,1)","v":"4"},{"$f":"MID(RIGHT(Podaci!$Z$7,3),1,1)","v":"9"},{"$f":"MID(RIGHT(Podaci!$Z$7,2),1,1)","v":"3"},{"$f":"MID(RIGHT(Podaci!$Z$7,1),1,1)","v":"5"}]
[1,2,3,null,4,5,6,7,8,9,null,10,11,12,13,14,15,16,17,null,18,19,20,21,22,null,23,24,25,26,27,null,28,null,29,30,31,32,33,34,35,36,37,38]
["Врста\nпосла",null,null,null,"Јединствени\nброј КБС",null,null,null,null,null,null,null,null,null,null,null,null,null,null,null,"Седиште\nУТ",null,null,null,null,null,"Надлежни\nдиректни\nКБС"]
[]
[]
[null,"НАЗИВ КОРИСНИКА БУЏЕТСКИХ СРЕДСТАВА"]
[null,{"$f":"Podaci!B5","v":"ПРЕДШКОЛСКА  УСТАНОВА  \"БАМБИ\"  "}]
[]
[null,"СЕДИШТЕ",null,null,null,null,null,{"$f":"Podaci!H7","v":"КУЛА"},null,null,null,null,null,null,null,null,null,"МАТИЧНИ БРОЈ",null,null,null,null,null,null,null,{"$f":"Podaci!Z7","v":"08004935"}]
[]
[null,"ПИБ",null,null,{"$f":"Podaci!E9","v":100261597},null,null,null,null,null,null,null,null,null,null,null,null,"БРОЈ ПОДРАЧУНА",null,null,null,null,null,null,null,{"$f":"Podaci!AA9","v":"840-49661-40"}]
[]
[null,"НАЗИВ НАДЛЕЖНОГ ДИРЕКТНОГ КОРИСНИКА БУЏЕТСКИХ СРЕДСТАВА"]
[]
[null,{"$f":"Podaci!B12","v":"ОПШТИНА  КУЛА"}]
[null,"(Попуњава само индиректни корисник буџетских средстава)"]
[]
[]
[null,null,null,null,null,null,null,null,null,null,null,null,"БИЛАНС ПРИХОДА И РАСХОДА"]
[null,null,null,null,null,null,null,null,null,null,null,"у периоду од",null,null,null,null,null,{"$f":"Podaci!D17","v":"01.01.2017."},null,null,null,null,null,"до",{"$f":"Podaci!D18","v":"31.12.2017."},null,null,null,null,"године"]
[null,null,null,null,null,null,null,null,null,null,null,null,null,null,null,null,null,null,null,null,null,null,null,null,null,null,null,null,null,null,null,null,null,null,null,null,"(У хиљадама динара)"]
["Ознака\nОП",null,null,"Број\nконта",null,null,null,"Опис",null,null,null,null,null,null,null,null,null,null,null,null,null,null,null,null,null,null,"Износ"]
[]
[null,null,null,null,null,null,null,null,null,null,null,null,null,null,null,null,null,null,null,null,null,null,null,null,null,null,"Претходна година",null,null,null,null,null,null,null,null,"Текућа година"]
[]
[1,null,null,2,null,null,null,3,null,null,null,null,null,null,null,null,null,null,null,null,null,null,null,null,null,null,4,null,null,null,null,null,null,null,null,5]
[2001,null,null,null,null,null,null,"ТЕКУЋИ ПРИХОДИ И ПРИМАЊА ОД ПРОДАЈЕ НЕФИНАНСИЈСКЕ ИМОВИНЕ (2002 + 2106)",null,null,null,null,null,null,null,null,null,null,null,null,null,null,null,null,null,null,{"$f":"UnObr2!D3","v":139159},null,null,null,null,null,null,null,null,{"$f":"UnObr2!E3","v":156452}]
[2002,null,null,700000,null,null,null,"ТЕКУЋИ ПРИХОДИ                                                                                               (2003 + 2047 + 2057 + 2069 + 2094 + 2099 + 2103)",null,null,null,null,null,null,null,null,null,null,null,null,null,null,null,null,null,null,{"$f":"UnObr2!D4","v":139159},null,null,null,null,null,null,null,null,{"$f":"UnObr2!E4","v":156452}]
[2003,null,null,710000,null,null,null,"ПОРЕЗИ (2004 + 2008 + 2010 + 2017 + 2023 + 2030 + 2033 + 2040)",null,null,null,null,null,null,null,null,null,null,null,null,null,null,null,null,null,null,{"$f":"UnObr2!D5","v":0},null,null,null,null,null,null,null,null,{"$f":"UnObr2!E5","v":0}]
[2004,null,null,711000,null,null,null,"ПОРЕЗ НА ДОХОДАК, ДОБИТ И КАПИТАЛНЕ ДОБИТКЕ (од 2005 до 2007)",null,null,null,null,null,null,null,null,null,null,null,null,null,null,null,null,null,null,{"$f":"UnObr2!D6","v":0},null,null,null,null,null,null,null,null,{"$f":"UnObr2!E6","v":0}]
[2005,null,null,711100,null,null,null,"Порези на доходак и капиталне добитке које плаћају \nфизичка лица",null,null,null,null,null,null,null,null,null,null,null,null,null,null,null,null,null,null,{"$f":"UnObr2!D7","v":0},null,null,null,null,null,null,null,null,{"$f":"UnObr2!E7","v":0}]
[2006,null,null,711200,null,null,null,"Порези на добит и капиталне добитке које плаћају \nпредузећа и друга правна лица",null,null,null,null,null,null,null,null,null,null,null,null,null,null,null,null,null,null,{"$f":"UnObr2!D8","v":0},null,null,null,null,null,null,null,null,{"$f":"UnObr2!E8","v":0}]
[2007,null,null,711300,null,null,null,"Порези на доходак, добит и капиталне добитке који се \nне могу разврстати између физичких и правних лица",null,null,null,null,null,null,null,null,null,null,null,null,null,null,null,null,null,null,{"$f":"UnObr2!D9","v":0},null,null,null,null,null,null,null,null,{"$f":"UnObr2!E9","v":0}]
[2008,null,null,712000,null,null,null,"ПОРЕЗ НА ФОНД ЗАРАДА (2009)",null,null,null,null,null,null,null,null,null,null,null,null,null,null,null,null,null,null,{"$f":"UnObr2!D10","v":0},null,null,null,null,null,null,null,null,{"$f":"UnObr2!E10","v":0}]
[2009,null,null,712100,null,null,null,"Порез на фонд зарада",null,null,null,null,null,null,null,null,null,null,null,null,null,null,null,null,null,null,{"$f":"UnObr2!D11","v":0},null,null,null,null,null,null,null,null,{"$f":"UnObr2!E11","v":0}]
[2010,null,null,713000,null,null,null,"ПОРЕЗ НА ИМОВИНУ (од 2011 до 2016)",null,null,null,null,null,null,null,null,null,null,null,null,null,null,null,null,null,null,{"$f":"UnObr2!D12","v":0},null,null,null,null,null,null,null,null,{"$f":"UnObr2!E12","v":0}]
[2011,null,null,713100,null,null,null,"Периодични порези на непокретности",null,null,null,null,null,null,null,null,null,null,null,null,null,null,null,null,null,null,{"$f":"UnObr2!D13","v":0},null,null,null,null,null,null,null,null,{"$f":"UnObr2!E13","v":0}]
[2012,null,null,713200,null,null,null,"Периодични порези на нето имовину",null,null,null,null,null,null,null,null,null,null,null,null,null,null,null,null,null,null,{"$f":"UnObr2!D14","v":0},null,null,null,null,null,null,null,null,{"$f":"UnObr2!E14","v":0}]
[2013,null,null,713300,null,null,null,"Порези на заоставштину, наслеђе и поклон",null,null,null,null,null,null,null,null,null,null,null,null,null,null,null,null,null,null,{"$f":"UnObr2!D15","v":0},null,null,null,null,null,null,null,null,{"$f":"UnObr2!E15","v":0}]
[2014,null,null,713400,null,null,null,"Порези на финансијске и капиталне трансакције",null,null,null,null,null,null,null,null,null,null,null,null,null,null,null,null,null,null,{"$f":"UnObr2!D16","v":0},null,null,null,null,null,null,null,null,{"$f":"UnObr2!E16","v":0}]
[2015,null,null,713500,null,null,null,"Други једнократни порези на имовину",null,null,null,null,null,null,null,null,null,null,null,null,null,null,null,null,null,null,{"$f":"UnObr2!D17","v":0},null,null,null,null,null,null,null,null,{"$f":"UnObr2!E17","v":0}]
[2016,null,null,713600,null,null,null,"Други периодични порези на имовину",null,null,null,null,null,null,null,null,null,null,null,null,null,null,null,null,null,null,{"$f":"UnObr2!D18","v":0},null,null,null,null,null,null,null,null,{"$f":"UnObr2!E18","v":0}]
[2017,null,null,714000,null,null,null,"ПОРЕЗ НА ДОБРА И УСЛУГЕ (од 2018 до 2022)",null,null,null,null,null,null,null,null,null,null,null,null,null,null,null,null,null,null,{"$f":"UnObr2!D19","v":0},null,null,null,null,null,null,null,null,{"$f":"UnObr2!E19","v":0}]
[2018,null,null,714100,null,null,null,"Општи порези на добра и услуге",null,null,null,null,null,null,null,null,null,null,null,null,null,null,null,null,null,null,{"$f":"UnObr2!D20","v":0},null,null,null,null,null,null,null,null,{"$f":"UnObr2!E20","v":0}]
[2019,null,null,714300,null,null,null,"Добит фискалних монопола",null,null,null,null,null,null,null,null,null,null,null,null,null,null,null,null,null,null,{"$f":"UnObr2!D21","v":0},null,null,null,null,null,null,null,null,{"$f":"UnObr2!E21","v":0}]
[2020,null,null,714400,null,null,null,"Порези на појединачне услуге",null,null,null,null,null,null,null,null,null,null,null,null,null,null,null,null,null,null,{"$f":"UnObr2!D22","v":0},null,null,null,null,null,null,null,null,{"$f":"UnObr2!E22","v":0}]
[2021,null,null,714500,null,null,null,"Порези, таксе и накнаде на употребу добара, на дозволу \nда се добра употребљавају или делатности обављају",null,null,null,null,null,null,null,null,null,null,null,null,null,null,null,null,null,null,{"$f":"UnObr2!D23","v":0},null,null,null,null,null,null,null,null,{"$f":"UnObr2!E23","v":0}]
[2022,null,null,714600,null,null,null,"Други порези на добра и услуге",null,null,null,null,null,null,null,null,null,null,null,null,null,null,null,null,null,null,{"$f":"UnObr2!D24","v":0},null,null,null,null,null,null,null,null,{"$f":"UnObr2!E24","v":0}]
[2023,null,null,715000,null,null,null,"ПОРЕЗ НА МЕЂУНАРОДНУ ТРГОВИНУ И ТРАНСАКЦИЈЕ (од 2024 до 2029)",null,null,null,null,null,null,null,null,null,null,null,null,null,null,null,null,null,null,{"$f":"UnObr2!D25","v":0},null,null,null,null,null,null,null,null,{"$f":"UnObr2!E25","v":0}]
[2024,null,null,715100,null,null,null,"Царине и друге увозне дажбине",null,null,null,null,null,null,null,null,null,null,null,null,null,null,null,null,null,null,{"$f":"UnObr2!D26","v":0},null,null,null,null,null,null,null,null,{"$f":"UnObr2!E26","v":0}]
[2025,null,null,715200,null,null,null,"Порези на извоз",null,null,null,null,null,null,null,null,null,null,null,null,null,null,null,null,null,null,{"$f":"UnObr2!D27","v":0},null,null,null,null,null,null,null,null,{"$f":"UnObr2!E27","v":0}]
[2026,null,null,715300,null,null,null,"Добит извозних или увозних монопола",null,null,null,null,null,null,null,null,null,null,null,null,null,null,null,null,null,null,{"$f":"UnObr2!D28","v":0},null,null,null,null,null,null,null,null,{"$f":"UnObr2!E28","v":0}]
[2027,null,null,715400,null,null,null,"Добит по основу разлике између куповног и продајног девизног курса",null,null,null,null,null,null,null,null,null,null,null,null,null,null,null,null,null,null,{"$f":"UnObr2!D29","v":0},null,null,null,null,null,null,null,null,{"$f":"UnObr2!E29","v":0}]
[2028,null,null,715500,null,null,null,"Порези на продају или куповину девиза",null,null,null,null,null,null,null,null,null,null,null,null,null,null,null,null,null,null,{"$f":"UnObr2!D30","v":0},null,null,null,null,null,null,null,null,{"$f":"UnObr2!E30","v":0}]
[2029,null,null,715600,null,null,null,"Други порези на међународну трговину и трансакције",null,null,null,null,null,null,null,null,null,null,null,null,null,null,null,null,null,null,{"$f":"UnObr2!D31","v":0},null,null,null,null,null,null,null,null,{"$f":"UnObr2!E31","v":0}]
[2030,null,null,716000,null,null,null,"ДРУГИ ПОРЕЗИ (2031 + 2032)",null,null,null,null,null,null,null,null,null,null,null,null,null,null,null,null,null,null,{"$f":"UnObr2!D32","v":0},null,null,null,null,null,null,null,null,{"$f":"UnObr2!E32","v":0}]
[2031,null,null,716100,null,null,null,"Други порези које искључиво плаћају предузећа, \nодносно предузетници",null,null,null,null,null,null,null,null,null,null,null,null,null,null,null,null,null,null,{"$f":"UnObr2!D33","v":0},null,null,null,null,null,null,null,null,{"$f":"UnObr2!E33","v":0}]
[2032,null,null,716200,null,null,null,"Други порези које плаћају остала лица или који се не \nмогу идентификовати",null,null,null,null,null,null,null,null,null,null,null,null,null,null,null,null,null,null,{"$f":"UnObr2!D34","v":0},null,null,null,null,null,null,null,null,{"$f":"UnObr2!E34","v":0}]
[2033,null,null,717000,null,null,null,"АКЦИЗЕ (од 2034 до 2039)",null,null,null,null,null,null,null,null,null,null,null,null,null,null,null,null,null,null,{"$f":"UnObr2!D35","v":0},null,null,null,null,null,null,null,null,{"$f":"UnObr2!E35","v":0}]
[2034,null,null,717100,null,null,null,"Акцизе на деривате нафте",null,null,null,null,null,null,null,null,null,null,null,null,null,null,null,null,null,null,{"$f":"UnObr2!D36","v":0},null,null,null,null,null,null,null,null,{"$f":"UnObr2!E36","v":0}]
[2035,null,null,717200,null,null,null,"Акцизе на дуванске прерађевине",null,null,null,null,null,null,null,null,null,null,null,null,null,null,null,null,null,null,{"$f":"UnObr2!D37","v":0},null,null,null,null,null,null,null,null,{"$f":"UnObr2!E37","v":0}]
[2036,null,null,717300,null,null,null,"Акцизе на алкохолна пића",null,null,null,null,null,null,null,null,null,null,null,null,null,null,null,null,null,null,{"$f":"UnObr2!D38","v":0},null,null,null,null,null,null,null,null,{"$f":"UnObr2!E38","v":0}]
[2037,null,null,717400,null,null,null,"Акцизе на освежавајућа безалкохолна пића",null,null,null,null,null,null,null,null,null,null,null,null,null,null,null,null,null,null,{"$f":"UnObr2!D39","v":0},null,null,null,null,null,null,null,null,{"$f":"UnObr2!E39","v":0}]
[2038,null,null,717500,null,null,null,"Акциза на кафу",null,null,null,null,null,null,null,null,null,null,null,null,null,null,null,null,null,null,{"$f":"UnObr2!D40","v":0},null,null,null,null,null,null,null,null,{"$f":"UnObr2!E40","v":0}]
[2039,null,null,717600,null,null,null,"Друге акцизе",null,null,null,null,null,null,null,null,null,null,null,null,null,null,null,null,null,null,{"$f":"UnObr2!D41","v":0},null,null,null,null,null,null,null,null,{"$f":"UnObr2!E41","v":0}]
[2040,null,null,719000,null,null,null,"ЈЕДНОКРАТНИ ПОРЕЗ НА ЕКСТРА ПРОФИТ И ЕКСТРА ИМОВИНУ СТЕЧЕНУ КОРИШЋЕЊЕМ ПОСЕБНИХ ПОГОДНОСТИ (од 2041 до 2046)",null,null,null,null,null,null,null,null,null,null,null,null,null,null,null,null,null,null,{"$f":"UnObr2!D42","v":0},null,null,null,null,null,null,null,null,{"$f":"UnObr2!E42","v":0}]
[2041,null,null,719100,null,null,null,"Порез на доходак, добит и капиталну добит на терет физичких лица",null,null,null,null,null,null,null,null,null,null,null,null,null,null,null,null,null,null,{"$f":"UnObr2!D43","v":0},null,null,null,null,null,null,null,null,{"$f":"UnObr2!E43","v":0}]
[2042,null,null,719200,null,null,null,"Порез на доходак, добит и капиталну добит на терет \nпредузећа и осталих правних лица",null,null,null,null,null,null,null,null,null,null,null,null,null,null,null,null,null,null,{"$f":"UnObr2!D44","v":0},null,null,null,null,null,null,null,null,{"$f":"UnObr2!E44","v":0}]
[2043,null,null,719300,null,null,null,"Порез на доходак, добит и капиталну добит \nнераспоредив између физичких и правних лица",null,null,null,null,null,null,null,null,null,null,null,null,null,null,null,null,null,null,{"$f":"UnObr2!D45","v":0},null,null,null,null,null,null,null,null,{"$f":"UnObr2!E45","v":0}]
[2044,null,null,719400,null,null,null,"Остали једнократни порези на имовину",null,null,null,null,null,null,null,null,null,null,null,null,null,null,null,null,null,null,{"$f":"UnObr2!D46","v":0},null,null,null,null,null,null,null,null,{"$f":"UnObr2!E46","v":0}]
[2045,null,null,719500,null,null,null,"Остали порези које плаћају искључиво предузећа и предузетници",null,null,null,null,null,null,null,null,null,null,null,null,null,null,null,null,null,null,{"$f":"UnObr2!D47","v":0},null,null,null,null,null,null,null,null,{"$f":"UnObr2!E47","v":0}]
[2046,null,null,719600,null,null,null,"Остали порези које плаћају друга или \nнеидентификована лица",null,null,null,null,null,null,null,null,null,null,null,null,null,null,null,null,null,null,{"$f":"UnObr2!D48","v":0},null,null,null,null,null,null,null,null,{"$f":"UnObr2!E48","v":0}]
[2047,null,null,720000,null,null,null,"СОЦИЈАЛНИ ДОПРИНОСИ (2048 + 2053)",null,null,null,null,null,null,null,null,null,null,null,null,null,null,null,null,null,null,{"$f":"UnObr2!D49","v":0},null,null,null,null,null,null,null,null,{"$f":"UnObr2!E49","v":0}]
[2048,null,null,721000,null,null,null,"ДОПРИНОСИ ЗА СОЦИЈАЛНО ОСИГУРАЊЕ \n(од 2049 до 2052)",null,null,null,null,null,null,null,null,null,null,null,null,null,null,null,null,null,null,{"$f":"UnObr2!D50","v":0},null,null,null,null,null,null,null,null,{"$f":"UnObr2!E50","v":0}]
[2049,null,null,721100,null,null,null,"Доприноси за социјално осигурање на терет запослених",null,null,null,null,null,null,null,null,null,null,null,null,null,null,null,null,null,null,{"$f":"UnObr2!D51","v":0},null,null,null,null,null,null,null,null,{"$f":"UnObr2!E51","v":0}]
[2050,null,null,721200,null,null,null,"Доприноси за социјално осигурање на терет послодаваца",null,null,null,null,null,null,null,null,null,null,null,null,null,null,null,null,null,null,{"$f":"UnObr2!D52","v":0},null,null,null,null,null,null,null,null,{"$f":"UnObr2!E52","v":0}]
[2051,null,null,721300,null,null,null,"Доприноси за социјално осигурање лица која обављају самосталну делатност и незапослених лица",null,null,null,null,null,null,null,null,null,null,null,null,null,null,null,null,null,null,{"$f":"UnObr2!D53","v":0},null,null,null,null,null,null,null,null,{"$f":"UnObr2!E53","v":0}]
[2052,null,null,721400,null,null,null,"Доприноси за социјално осигурање који се не могу \nразврстати",null,null,null,null,null,null,null,null,null,null,null,null,null,null,null,null,null,null,{"$f":"UnObr2!D54","v":0},null,null,null,null,null,null,null,null,{"$f":"UnObr2!E54","v":0}]
[2053,null,null,722000,null,null,null,"ОСТАЛИ СОЦИЈАЛНИ ДОПРИНОСИ \n(од 2054 до 2056)",null,null,null,null,null,null,null,null,null,null,null,null,null,null,null,null,null,null,{"$f":"UnObr2!D55","v":0},null,null,null,null,null,null,null,null,{"$f":"UnObr2!E55","v":0}]
[2054,null,null,722100,null,null,null,"Социјални доприноси на терет осигураника",null,null,null,null,null,null,null,null,null,null,null,null,null,null,null,null,null,null,{"$f":"UnObr2!D56","v":0},null,null,null,null,null,null,null,null,{"$f":"UnObr2!E56","v":0}]
[2055,null,null,722200,null,null,null,"Социјални доприноси послодаваца",null,null,null,null,null,null,null,null,null,null,null,null,null,null,null,null,null,null,{"$f":"UnObr2!D57","v":0},null,null,null,null,null,null,null,null,{"$f":"UnObr2!E57","v":0}]
[2056,null,null,722300,null,null,null,"Импутирани социјални доприноси",null,null,null,null,null,null,null,null,null,null,null,null,null,null,null,null,null,null,{"$f":"UnObr2!D58","v":0},null,null,null,null,null,null,null,null,{"$f":"UnObr2!E58","v":0}]
[2057,null,null,730000,null,null,null,"ДОНАЦИЈЕ, ПОМОЋИ И ТРАНСФЕРИ \n(2058 + 2061 + 2066)",null,null,null,null,null,null,null,null,null,null,null,null,null,null,null,null,null,null,{"$f":"UnObr2!D59","v":13510},null,null,null,null,null,null,null,null,{"$f":"UnObr2!E59","v":11436}]
[2058,null,null,731000,null,null,null,"ДОНАЦИЈЕ ОД ИНОСТРАНИХ ДРЖАВА \n(2059 + 2060)",null,null,null,null,null,null,null,null,null,null,null,null,null,null,null,null,null,null,{"$f":"UnObr2!D60","v":0},null,null,null,null,null,null,null,null,{"$f":"UnObr2!E60","v":0}]
[2059,null,null,731100,null,null,null,"Текуће донације од иностраних држава",null,null,null,null,null,null,null,null,null,null,null,null,null,null,null,null,null,null,{"$f":"UnObr2!D61","v":0},null,null,null,null,null,null,null,null,{"$f":"UnObr2!E61","v":0}]
[2060,null,null,731200,null,null,null,"Капиталне донације од иностраних држава",null,null,null,null,null,null,null,null,null,null,null,null,null,null,null,null,null,null,{"$f":"UnObr2!D62","v":0},null,null,null,null,null,null,null,null,{"$f":"UnObr2!E62","v":0}]
[2061,null,null,732000,null,null,null,"ДОНАЦИЈЕ И ПОМОЋИ ОД МЕЂУНАРОДНИХ ОРГАНИЗАЦИЈА (од 2062 до 2065)",null,null,null,null,null,null,null,null,null,null,null,null,null,null,null,null,null,null,{"$f":"UnObr2!D63","v":0},null,null,null,null,null,null,null,null,{"$f":"UnObr2!E63","v":0}]
[2062,null,null,732100,null,null,null,"Текуће донације од међународних организација",null,null,null,null,null,null,null,null,null,null,null,null,null,null,null,null,null,null,{"$f":"UnObr2!D64","v":0},null,null,null,null,null,null,null,null,{"$f":"UnObr2!E64","v":0}]
[2063,null,null,732200,null,null,null,"Капиталне донације од међународних организација",null,null,null,null,null,null,null,null,null,null,null,null,null,null,null,null,null,null,{"$f":"UnObr2!D65","v":0},null,null,null,null,null,null,null,null,{"$f":"UnObr2!E65","v":0}]
[2064,null,null,732300,null,null,null,"Текуће помоћи од ЕУ",null,null,null,null,null,null,null,null,null,null,null,null,null,null,null,null,null,null,{"$f":"UnObr2!D66","v":0},null,null,null,null,null,null,null,null,{"$f":"UnObr2!E66","v":0}]
[2065,null,null,732400,null,null,null,"Капиталне помоћи од ЕУ",null,null,null,null,null,null,null,null,null,null,null,null,null,null,null,null,null,null,{"$f":"UnObr2!D67","v":0},null,null,null,null,null,null,null,null,{"$f":"UnObr2!E67","v":0}]
[2066,null,null,733000,null,null,null,"ТРАНСФЕРИ ОД ДРУГИХ НИВОА ВЛАСТИ (2067 + 2068)",null,null,null,null,null,null,null,null,null,null,null,null,null,null,null,null,null,null,{"$f":"UnObr2!D68","v":13510},null,null,null,null,null,null,null,null,{"$f":"UnObr2!E68","v":11436}]
[2067,null,null,733100,null,null,null,"Текући трансфери од других нивоа власти",null,null,null,null,null,null,null,null,null,null,null,null,null,null,null,null,null,null,{"$f":"UnObr2!D69","v":13510},null,null,null,null,null,null,null,null,{"$f":"UnObr2!E69","v":11436}]
[2068,null,null,733200,null,null,null,"Капитални трансфери од других нивоа власти",null,null,null,null,null,null,null,null,null,null,null,null,null,null,null,null,null,null,{"$f":"UnObr2!D70","v":0},null,null,null,null,null,null,null,null,{"$f":"UnObr2!E70","v":0}]
[2069,null,null,740000,null,null,null,"ДРУГИ ПРИХОДИ (2070 + 2077 + 2082 + 2089 + 2092)",null,null,null,null,null,null,null,null,null,null,null,null,null,null,null,null,null,null,{"$f":"UnObr2!D71","v":15732},null,null,null,null,null,null,null,null,{"$f":"UnObr2!E71","v":351}]
[2070,null,null,741000,null,null,null,"ПРИХОДИ ОД ИМОВИНЕ (од 2071 до 2076)",null,null,null,null,null,null,null,null,null,null,null,null,null,null,null,null,null,null,{"$f":"UnObr2!D72","v":0},null,null,null,null,null,null,null,null,{"$f":"UnObr2!E72","v":0}]
[2071,null,null,741100,null,null,null,"Камате",null,null,null,null,null,null,null,null,null,null,null,null,null,null,null,null,null,null,{"$f":"UnObr2!D73","v":0},null,null,null,null,null,null,null,null,{"$f":"UnObr2!E73","v":0}]
[2072,null,null,741200,null,null,null,"Дивиденде",null,null,null,null,null,null,null,null,null,null,null,null,null,null,null,null,null,null,{"$f":"UnObr2!D74","v":0},null,null,null,null,null,null,null,null,{"$f":"UnObr2!E74","v":0}]
[2073,null,null,741300,null,null,null,"Повлачење прихода од квази корпорација",null,null,null,null,null,null,null,null,null,null,null,null,null,null,null,null,null,null,{"$f":"UnObr2!D75","v":0},null,null,null,null,null,null,null,null,{"$f":"UnObr2!E75","v":0}]
[2074,null,null,741400,null,null,null,"Приход од имовине који припада имаоцима полиса \nосигурања",null,null,null,null,null,null,null,null,null,null,null,null,null,null,null,null,null,null,{"$f":"UnObr2!D76","v":0},null,null,null,null,null,null,null,null,{"$f":"UnObr2!E76","v":0}]
[2075,null,null,741500,null,null,null,"Закуп непроизведене имовине",null,null,null,null,null,null,null,null,null,null,null,null,null,null,null,null,null,null,{"$f":"UnObr2!D77","v":0},null,null,null,null,null,null,null,null,{"$f":"UnObr2!E77","v":0}]
[2076,null,null,741600,null,null,null,"Финансијске промене на финансијским лизинзима",null,null,null,null,null,null,null,null,null,null,null,null,null,null,null,null,null,null,{"$f":"UnObr2!D78","v":0},null,null,null,null,null,null,null,null,{"$f":"UnObr2!E78","v":0}]
[2077,null,null,742000,null,null,null,"ПРИХОДИ ОД ПРОДАЈЕ ДОБАРА И УСЛУГА (од 2078 до 2081)",null,null,null,null,null,null,null,null,null,null,null,null,null,null,null,null,null,null,{"$f":"UnObr2!D79","v":15551},null,null,null,null,null,null,null,null,{"$f":"UnObr2!E79","v":351}]
[2078,null,null,742100,null,null,null,"Приходи од продаје добара и услуга или закупа од \nстране тржишних организација",null,null,null,null,null,null,null,null,null,null,null,null,null,null,null,null,null,null,{"$f":"UnObr2!D80","v":14531},null,null,null,null,null,null,null,null,{"$f":"UnObr2!E80","v":28}]
[2079,null,null,742200,null,null,null,"Таксе и накнаде",null,null,null,null,null,null,null,null,null,null,null,null,null,null,null,null,null,null,{"$f":"UnObr2!D81","v":0},null,null,null,null,null,null,null,null,{"$f":"UnObr2!E81","v":0}]
[2080,null,null,742300,null,null,null,"Споредне продаје добара и услуга које врше државне нетржишне јединице",null,null,null,null,null,null,null,null,null,null,null,null,null,null,null,null,null,null,{"$f":"UnObr2!D82","v":1020},null,null,null,null,null,null,null,null,{"$f":"UnObr2!E82","v":323}]
[2081,null,null,742400,null,null,null,"Импутиране продаје добара и услуга",null,null,null,null,null,null,null,null,null,null,null,null,null,null,null,null,null,null,{"$f":"UnObr2!D83","v":0},null,null,null,null,null,null,null,null,{"$f":"UnObr2!E83","v":0}]
[2082,null,null,743000,null,null,null,"НОВЧАНЕ КАЗНЕ И ОДУЗЕТА ИМОВИНСКА КОРИСТ (од 2083 до 2088)",null,null,null,null,null,null,null,null,null,null,null,null,null,null,null,null,null,null,{"$f":"UnObr2!D84","v":0},null,null,null,null,null,null,null,null,{"$f":"UnObr2!E84","v":0}]
[2083,null,null,743100,null,null,null,"Приходи од новчаних казни за кривична дела ",null,null,null,null,null,null,null,null,null,null,null,null,null,null,null,null,null,null,{"$f":"UnObr2!D85","v":0},null,null,null,null,null,null,null,null,{"$f":"UnObr2!E85","v":0}]
[2084,null,null,743200,null,null,null,"Приходи од новчаних казни за привредне преступе",null,null,null,null,null,null,null,null,null,null,null,null,null,null,null,null,null,null,{"$f":"UnObr2!D86","v":0},null,null,null,null,null,null,null,null,{"$f":"UnObr2!E86","v":0}]
[2085,null,null,743300,null,null,null,"Приходи од новчаних казни за прекршаје",null,null,null,null,null,null,null,null,null,null,null,null,null,null,null,null,null,null,{"$f":"UnObr2!D87","v":0},null,null,null,null,null,null,null,null,{"$f":"UnObr2!E87","v":0}]
[2086,null,null,743400,null,null,null,"Приходи од пенала",null,null,null,null,null,null,null,null,null,null,null,null,null,null,null,null,null,null,{"$f":"UnObr2!D88","v":0},null,null,null,null,null,null,null,null,{"$f":"UnObr2!E88","v":0}]
[2087,null,null,743500,null,null,null,"Приходи од одузете имовинске користи",null,null,null,null,null,null,null,null,null,null,null,null,null,null,null,null,null,null,{"$f":"UnObr2!D89","v":0},null,null,null,null,null,null,null,null,{"$f":"UnObr2!E89","v":0}]
[2088,null,null,743900,null,null,null,"Остале новчане казне, пенали и приходи од одузете \nимовинске користи",null,null,null,null,null,null,null,null,null,null,null,null,null,null,null,null,null,null,{"$f":"UnObr2!D90","v":0},null,null,null,null,null,null,null,null,{"$f":"UnObr2!E90","v":0}]
[2089,null,null,744000,null,null,null,"ДОБРОВОЉНИ ТРАНСФЕРИ ОД ФИЗИЧКИХ И ПРАВНИХ ЛИЦА (2090 + 2091)",null,null,null,null,null,null,null,null,null,null,null,null,null,null,null,null,null,null,{"$f":"UnObr2!D91","v":96},null,null,null,null,null,null,null,null,{"$f":"UnObr2!E91","v":0}]
[2090,null,null,744100,null,null,null,"Текући добровољни трансфери од физичких и правних \nлица",null,null,null,null,null,null,null,null,null,null,null,null,null,null,null,null,null,null,{"$f":"UnObr2!D92","v":96},null,null,null,null,null,null,null,null,{"$f":"UnObr2!E92","v":0}]
[2091,null,null,744200,null,null,null,"Капитални добровољни трансфери од физичких и \nправних лица",null,null,null,null,null,null,null,null,null,null,null,null,null,null,null,null,null,null,{"$f":"UnObr2!D93","v":0},null,null,null,null,null,null,null,null,{"$f":"UnObr2!E93","v":0}]
[2092,null,null,745000,null,null,null,"МЕШОВИТИ И НЕОДРЕЂЕНИ ПРИХОДИ (2093)",null,null,null,null,null,null,null,null,null,null,null,null,null,null,null,null,null,null,{"$f":"UnObr2!D94","v":85},null,null,null,null,null,null,null,null,{"$f":"UnObr2!E94","v":0}]
[2093,null,null,745100,null,null,null,"Мешовити и неодређени приходи",null,null,null,null,null,null,null,null,null,null,null,null,null,null,null,null,null,null,{"$f":"UnObr2!D95","v":85},null,null,null,null,null,null,null,null,{"$f":"UnObr2!E95","v":0}]
[2094,null,null,770000,null,null,null,"МЕМОРАНДУМСКЕ СТАВКЕ ЗА РЕФУНДАЦИЈУ РАСХОДА (2095 + 2097)",null,null,null,null,null,null,null,null,null,null,null,null,null,null,null,null,null,null,{"$f":"UnObr2!D96","v":406},null,null,null,null,null,null,null,null,{"$f":"UnObr2!E96","v":648}]
[2095,null,null,771000,null,null,null,"МЕМОРАНДУМСКЕ СТАВКЕ ЗА РЕФУНДАЦИЈУ РАСХОДА (2096)",null,null,null,null,null,null,null,null,null,null,null,null,null,null,null,null,null,null,{"$f":"UnObr2!D97","v":0},null,null,null,null,null,null,null,null,{"$f":"UnObr2!E97","v":0}]
[2096,null,null,771100,null,null,null,"Меморандумске ставке за рефундацију расхода",null,null,null,null,null,null,null,null,null,null,null,null,null,null,null,null,null,null,{"$f":"UnObr2!D98","v":0},null,null,null,null,null,null,null,null,{"$f":"UnObr2!E98","v":0}]
[2097,null,null,772000,null,null,null,"МЕМОРАНДУМСКЕ СТАВКЕ ЗА РЕФУНДАЦИЈУ РАСХОДА ИЗ ПРЕТХОДНЕ ГОДИНЕ (2098)",null,null,null,null,null,null,null,null,null,null,null,null,null,null,null,null,null,null,{"$f":"UnObr2!D99","v":406},null,null,null,null,null,null,null,null,{"$f":"UnObr2!E99","v":648}]
[2098,null,null,772100,null,null,null,"Меморандумске ставке за рефундацију расхода из \nпретходне године",null,null,null,null,null,null,null,null,null,null,null,null,null,null,null,null,null,null,{"$f":"UnObr2!D100","v":406},null,null,null,null,null,null,null,null,{"$f":"UnObr2!E100","v":648}]
[2099,null,null,780000,null,null,null,"ТРАНСФЕРИ ИЗМЕЂУ БУЏЕТСКИХ КОРИСНИКА НА ИСТОМ НИВОУ (2100)",null,null,null,null,null,null,null,null,null,null,null,null,null,null,null,null,null,null,{"$f":"UnObr2!D101","v":0},null,null,null,null,null,null,null,null,{"$f":"UnObr2!E101","v":0}]
[2100,null,null,781000,null,null,null,"ТРАНСФЕРИ ИЗМЕЂУ БУЏЕТСКИХ КОРИСНИКА НА ИСТОМ НИВОУ (2101 + 2102)",null,null,null,null,null,null,null,null,null,null,null,null,null,null,null,null,null,null,{"$f":"UnObr2!D102","v":0},null,null,null,null,null,null,null,null,{"$f":"UnObr2!E102","v":0}]
[2101,null,null,781100,null,null,null,"Трансфери између буџетских корисника на истом \nнивоу",null,null,null,null,null,null,null,null,null,null,null,null,null,null,null,null,null,null,{"$f":"UnObr2!D103","v":0},null,null,null,null,null,null,null,null,{"$f":"UnObr2!E103","v":0}]
[2102,null,null,781300,null,null,null,"Трансфери између организација обавезног социјалног осигурања",null,null,null,null,null,null,null,null,null,null,null,null,null,null,null,null,null,null,{"$f":"UnObr2!D104","v":0},null,null,null,null,null,null,null,null,{"$f":"UnObr2!E104","v":0}]
[2103,null,null,790000,null,null,null,"ПРИХОДИ ИЗ БУЏЕТА (2104)",null,null,null,null,null,null,null,null,null,null,null,null,null,null,null,null,null,null,{"$f":"UnObr2!D105","v":109511},null,null,null,null,null,null,null,null,{"$f":"UnObr2!E105","v":144017}]
[2104,null,null,791000,null,null,null,"ПРИХОДИ ИЗ БУЏЕТА (2105)",null,null,null,null,null,null,null,null,null,null,null,null,null,null,null,null,null,null,{"$f":"UnObr2!D106","v":109511},null,null,null,null,null,null,null,null,{"$f":"UnObr2!E106","v":144017}]
[2105,null,null,791100,null,null,null,"Приходи из буџета",null,null,null,null,null,null,null,null,null,null,null,null,null,null,null,null,null,null,{"$f":"UnObr2!D107","v":109511},null,null,null,null,null,null,null,null,{"$f":"UnObr2!E107","v":144017}]
[2106,null,null,800000,null,null,null,"ПРИМАЊА ОД ПРОДАЈЕ НЕФИНАНСИЈСКЕ ИМОВИНЕ (2107 + 2114 + 2121 + 2124)",null,null,null,null,null,null,null,null,null,null,null,null,null,null,null,null,null,null,{"$f":"UnObr2!D108","v":0},null,null,null,null,null,null,null,null,{"$f":"UnObr2!E108","v":0}]
[2107,null,null,810000,null,null,null,"ПРИМАЊА ОД ПРОДАЈЕ ОСНОВНИХ СРЕДСТАВА (2108 + 2110 + 2112)",null,null,null,null,null,null,null,null,null,null,null,null,null,null,null,null,null,null,{"$f":"UnObr2!D109","v":0},null,null,null,null,null,null,null,null,{"$f":"UnObr2!E109","v":0}]
[2108,null,null,811000,null,null,null,"ПРИМАЊА ОД ПРОДАЈЕ НЕПОКРЕТНОСТИ (2109)",null,null,null,null,null,null,null,null,null,null,null,null,null,null,null,null,null,null,{"$f":"UnObr2!D110","v":0},null,null,null,null,null,null,null,null,{"$f":"UnObr2!E110","v":0}]
[2109,null,null,811100,null,null,null,"Примања од продаје непокретности",null,null,null,null,null,null,null,null,null,null,null,null,null,null,null,null,null,null,{"$f":"UnObr2!D111","v":0},null,null,null,null,null,null,null,null,{"$f":"UnObr2!E111","v":0}]
[2110,null,null,812000,null,null,null,"ПРИМАЊА ОД ПРОДАЈЕ ПОКРЕТНЕ ИМОВИНЕ (2111)",null,null,null,null,null,null,null,null,null,null,null,null,null,null,null,null,null,null,{"$f":"UnObr2!D112","v":0},null,null,null,null,null,null,null,null,{"$f":"UnObr2!E112","v":0}]
[2111,null,null,812100,null,null,null,"Примања од продаје покретне имовине",null,null,null,null,null,null,null,null,null,null,null,null,null,null,null,null,null,null,{"$f":"UnObr2!D113","v":0},null,null,null,null,null,null,null,null,{"$f":"UnObr2!E113","v":0}]
[2112,null,null,813000,null,null,null,"ПРИМАЊА ОД ПРОДАЈЕ ОСТАЛИХ ОСНОВНИХ СРЕДСТАВА (2113)",null,null,null,null,null,null,null,null,null,null,null,null,null,null,null,null,null,null,{"$f":"UnObr2!D114","v":0},null,null,null,null,null,null,null,null,{"$f":"UnObr2!E114","v":0}]
[2113,null,null,813100,null,null,null,"Примања од продаје осталих основних средстава",null,null,null,null,null,null,null,null,null,null,null,null,null,null,null,null,null,null,{"$f":"UnObr2!D115","v":0},null,null,null,null,null,null,null,null,{"$f":"UnObr2!E115","v":0}]
[2114,null,null,820000,null,null,null,"ПРИМАЊА ОД ПРОДАЈЕ ЗАЛИХА (2115 + 2117 + 2119)",null,null,null,null,null,null,null,null,null,null,null,null,null,null,null,null,null,null,{"$f":"UnObr2!D116","v":0},null,null,null,null,null,null,null,null,{"$f":"UnObr2!E116","v":0}]
[2115,null,null,821000,null,null,null,"ПРИМАЊА ОД ПРОДАЈЕ РОБНИХ РЕЗЕРВИ (2116)",null,null,null,null,null,null,null,null,null,null,null,null,null,null,null,null,null,null,{"$f":"UnObr2!D117","v":0},null,null,null,null,null,null,null,null,{"$f":"UnObr2!E117","v":0}]
[2116,null,null,821100,null,null,null,"Примања од продаје робних резерви",null,null,null,null,null,null,null,null,null,null,null,null,null,null,null,null,null,null,{"$f":"UnObr2!D118","v":0},null,null,null,null,null,null,null,null,{"$f":"UnObr2!E118","v":0}]
[2117,null,null,822000,null,null,null,"ПРИМАЊА ОД ПРОДАЈЕ ЗАЛИХА ПРОИЗВОДЊЕ (2118)",null,null,null,null,null,null,null,null,null,null,null,null,null,null,null,null,null,null,{"$f":"UnObr2!D119","v":0},null,null,null,null,null,null,null,null,{"$f":"UnObr2!E119","v":0}]
[2118,null,null,822100,null,null,null,"Примања од продаје залиха производње",null,null,null,null,null,null,null,null,null,null,null,null,null,null,null,null,null,null,{"$f":"UnObr2!D120","v":0},null,null,null,null,null,null,null,null,{"$f":"UnObr2!E120","v":0}]
[2119,null,null,823000,null,null,null,"ПРИМАЊА ОД ПРОДАЈЕ РОБЕ ЗА ДАЉУ ПРОДАЈУ (2120)",null,null,null,null,null,null,null,null,null,null,null,null,null,null,null,null,null,null,{"$f":"UnObr2!D121","v":0},null,null,null,null,null,null,null,null,{"$f":"UnObr2!E121","v":0}]
[2120,null,null,823100,null,null,null,"Примања од продаје робе за даљу продају",null,null,null,null,null,null,null,null,null,null,null,null,null,null,null,null,null,null,{"$f":"UnObr2!D122","v":0},null,null,null,null,null,null,null,null,{"$f":"UnObr2!E122","v":0}]
[2121,null,null,830000,null,null,null,"ПРИМАЊА ОД ПРОДАЈЕ ДРАГОЦЕНОСТИ (2122)",null,null,null,null,null,null,null,null,null,null,null,null,null,null,null,null,null,null,{"$f":"UnObr2!D123","v":0},null,null,null,null,null,null,null,null,{"$f":"UnObr2!E123","v":0}]
[2122,null,null,831000,null,null,null,"ПРИМАЊА ОД ПРОДАЈЕ ДРАГОЦЕНОСТИ (2123)",null,null,null,null,null,null,null,null,null,null,null,null,null,null,null,null,null,null,{"$f":"UnObr2!D124","v":0},null,null,null,null,null,null,null,null,{"$f":"UnObr2!E124","v":0}]
[2123,null,null,831100,null,null,null,"Примања од продаје драгоцености",null,null,null,null,null,null,null,null,null,null,null,null,null,null,null,null,null,null,{"$f":"UnObr2!D125","v":0},null,null,null,null,null,null,null,null,{"$f":"UnObr2!E125","v":0}]
[2124,null,null,840000,null,null,null,"ПРИМАЊА ОД ПРОДАЈЕ ПРИРОДНЕ ИМОВИНЕ (2125 + 2127 + 2129)",null,null,null,null,null,null,null,null,null,null,null,null,null,null,null,null,null,null,{"$f":"UnObr2!D126","v":0},null,null,null,null,null,null,null,null,{"$f":"UnObr2!E126","v":0}]
[2125,null,null,841000,null,null,null,"ПРИМАЊА ОД ПРОДАЈЕ ЗЕМЉИШТА (2126)",null,null,null,null,null,null,null,null,null,null,null,null,null,null,null,null,null,null,{"$f":"UnObr2!D127","v":0},null,null,null,null,null,null,null,null,{"$f":"UnObr2!E127","v":0}]
[2126,null,null,841100,null,null,null,"Примања од продаје земљишта",null,null,null,null,null,null,null,null,null,null,null,null,null,null,null,null,null,null,{"$f":"UnObr2!D128","v":0},null,null,null,null,null,null,null,null,{"$f":"UnObr2!E128","v":0}]
[2127,null,null,842000,null,null,null,"ПРИМАЊА ОД ПРОДАЈЕ ПОДЗЕМНИХ БЛАГА (2128)",null,null,null,null,null,null,null,null,null,null,null,null,null,null,null,null,null,null,{"$f":"UnObr2!D129","v":0},null,null,null,null,null,null,null,null,{"$f":"UnObr2!E129","v":0}]
[2128,null,null,842100,null,null,null,"Примања од продаје подземних блага",null,null,null,null,null,null,null,null,null,null,null,null,null,null,null,null,null,null,{"$f":"UnObr2!D130","v":0},null,null,null,null,null,null,null,null,{"$f":"UnObr2!E130","v":0}]
[2129,null,null,843000,null,null,null,"ПРИМАЊА ОД ПРОДАЈЕ ШУМА И ВОДА (2130)",null,null,null,null,null,null,null,null,null,null,null,null,null,null,null,null,null,null,{"$f":"UnObr2!D131","v":0},null,null,null,null,null,null,null,null,{"$f":"UnObr2!E131","v":0}]
[2130,null,null,843100,null,null,null,"Примања од продаје шума и вода",null,null,null,null,null,null,null,null,null,null,null,null,null,null,null,null,null,null,{"$f":"UnObr2!D132","v":0},null,null,null,null,null,null,null,null,{"$f":"UnObr2!E132","v":0}]
[2131,null,null,null,null,null,null,"ТЕКУЋИ РАСХОДИ И ИЗДАЦИ ЗА НЕФИНАНСИЈСКУ ИМОВИНУ (2132 + 2300)",null,null,null,null,null,null,null,null,null,null,null,null,null,null,null,null,null,null,{"$f":"UnObr2!D133","v":141332},null,null,null,null,null,null,null,null,{"$f":"UnObr2!E133","v":156447}]
[2132,null,null,400000,null,null,null,"ТЕКУЋИ РАСХОДИ  (2133 + 2155 + 2200 + 2215 + 2239 + 2252 + 2268 + 2283)",null,null,null,null,null,null,null,null,null,null,null,null,null,null,null,null,null,null,{"$f":"UnObr2!D134","v":138756},null,null,null,null,null,null,null,null,{"$f":"UnObr2!E134","v":155146}]
[2133,null,null,410000,null,null,null,"РАСХОДИ ЗА ЗАПОСЛЕНЕ (2134 + 2136 + 2140 + 2142 + 2147 + 2149 + 2151 + 2153)",null,null,null,null,null,null,null,null,null,null,null,null,null,null,null,null,null,null,{"$f":"UnObr2!D135","v":97480},null,null,null,null,null,null,null,null,{"$f":"UnObr2!E135","v":103699}]
[2134,null,null,411000,null,null,null,"ПЛАТЕ, ДОДАЦИ И НАКНАДЕ ЗАПОСЛЕНИХ (ЗАРАДЕ) (2135)",null,null,null,null,null,null,null,null,null,null,null,null,null,null,null,null,null,null,{"$f":"UnObr2!D136","v":79028},null,null,null,null,null,null,null,null,{"$f":"UnObr2!E136","v":84879}]
[2135,null,null,411100,null,null,null,"Плате, додаци и накнаде запослених",null,null,null,null,null,null,null,null,null,null,null,null,null,null,null,null,null,null,{"$f":"UnObr2!D137","v":79028},null,null,null,null,null,null,null,null,{"$f":"UnObr2!E137","v":84879}]
[2136,null,null,412000,null,null,null,"СОЦИЈАЛНИ ДОПРИНОСИ НА ТЕРЕТ \nПОСЛОДАВЦА (од 2137 до 2139)",null,null,null,null,null,null,null,null,null,null,null,null,null,null,null,null,null,null,{"$f":"UnObr2!D138","v":14146},null,null,null,null,null,null,null,null,{"$f":"UnObr2!E138","v":15200}]
[2137,null,null,412100,null,null,null,"Допринос за пензијско и инвалидско осигурање ",null,null,null,null,null,null,null,null,null,null,null,null,null,null,null,null,null,null,{"$f":"UnObr2!D139","v":9483},null,null,null,null,null,null,null,null,{"$f":"UnObr2!E139","v":10190}]
[2138,null,null,412200,null,null,null,"Допринос за здравствено осигурање",null,null,null,null,null,null,null,null,null,null,null,null,null,null,null,null,null,null,{"$f":"UnObr2!D140","v":4070},null,null,null,null,null,null,null,null,{"$f":"UnObr2!E140","v":4373}]
[2139,null,null,412300,null,null,null,"Допринос за незапосленост",null,null,null,null,null,null,null,null,null,null,null,null,null,null,null,null,null,null,{"$f":"UnObr2!D141","v":593},null,null,null,null,null,null,null,null,{"$f":"UnObr2!E141","v":637}]
[2140,null,null,413000,null,null,null,"НАКНАДЕ У НАТУРИ (2141)",null,null,null,null,null,null,null,null,null,null,null,null,null,null,null,null,null,null,{"$f":"UnObr2!D142","v":345},null,null,null,null,null,null,null,null,{"$f":"UnObr2!E142","v":243}]
[2141,null,null,413100,null,null,null,"Накнаде у натури",null,null,null,null,null,null,null,null,null,null,null,null,null,null,null,null,null,null,{"$f":"UnObr2!D143","v":345},null,null,null,null,null,null,null,null,{"$f":"UnObr2!E143","v":243}]
[2142,null,null,414000,null,null,null,"СОЦИЈАЛНА ДАВАЊА ЗАПОСЛЕНИМА \n(од 2143 до 2146)",null,null,null,null,null,null,null,null,null,null,null,null,null,null,null,null,null,null,{"$f":"UnObr2!D144","v":2053},null,null,null,null,null,null,null,null,{"$f":"UnObr2!E144","v":969}]
[2143,null,null,414100,null,null,null,"Исплата накнада за време одсуствовања с посла на\nтерет фондова",null,null,null,null,null,null,null,null,null,null,null,null,null,null,null,null,null,null,{"$f":"UnObr2!D145","v":648},null,null,null,null,null,null,null,null,{"$f":"UnObr2!E145","v":763}]
[2144,null,null,414200,null,null,null,"Расходи за образовање деце запослених",null,null,null,null,null,null,null,null,null,null,null,null,null,null,null,null,null,null,{"$f":"UnObr2!D146","v":0},null,null,null,null,null,null,null,null,{"$f":"UnObr2!E146","v":0}]
[2145,null,null,414300,null,null,null,"Отпремнине и помоћи",null,null,null,null,null,null,null,null,null,null,null,null,null,null,null,null,null,null,{"$f":"UnObr2!D147","v":1405},null,null,null,null,null,null,null,null,{"$f":"UnObr2!E147","v":206}]
[2146,null,null,414400,null,null,null,"Помоћ у медицинском лечењу запосленог или чланова \nуже породице и друге помоћи запосленом",null,null,null,null,null,null,null,null,null,null,null,null,null,null,null,null,null,null,{"$f":"UnObr2!D148","v":0},null,null,null,null,null,null,null,null,{"$f":"UnObr2!E148","v":0}]
[2147,null,null,415000,null,null,null,"НАКНАДЕ ТРОШКОВА ЗА ЗАПОСЛЕНЕ (2148)",null,null,null,null,null,null,null,null,null,null,null,null,null,null,null,null,null,null,{"$f":"UnObr2!D149","v":1230},null,null,null,null,null,null,null,null,{"$f":"UnObr2!E149","v":1120}]
[2148,null,null,415100,null,null,null,"Накнаде трошкова за запослене",null,null,null,null,null,null,null,null,null,null,null,null,null,null,null,null,null,null,{"$f":"UnObr2!D150","v":1230},null,null,null,null,null,null,null,null,{"$f":"UnObr2!E150","v":1120}]
[2149,null,null,416000,null,null,null,"НАГРАДЕ ЗАПОСЛЕНИМА И ОСТАЛИ \nПОСЕБНИ РАСХОДИ (2150)",null,null,null,null,null,null,null,null,null,null,null,null,null,null,null,null,null,null,{"$f":"UnObr2!D151","v":678},null,null,null,null,null,null,null,null,{"$f":"UnObr2!E151","v":1288}]
[2150,null,null,416100,null,null,null,"Награде запосленима и остали посебни расходи",null,null,null,null,null,null,null,null,null,null,null,null,null,null,null,null,null,null,{"$f":"UnObr2!D152","v":678},null,null,null,null,null,null,null,null,{"$f":"UnObr2!E152","v":1288}]
[2151,null,null,417000,null,null,null,"ПОСЛАНИЧКИ ДОДАТАК (2152)",null,null,null,null,null,null,null,null,null,null,null,null,null,null,null,null,null,null,{"$f":"UnObr2!D153","v":0},null,null,null,null,null,null,null,null,{"$f":"UnObr2!E153","v":0}]
[2152,null,null,417100,null,null,null,"Посланички додатак",null,null,null,null,null,null,null,null,null,null,null,null,null,null,null,null,null,null,{"$f":"UnObr2!D154","v":0},null,null,null,null,null,null,null,null,{"$f":"UnObr2!E154","v":0}]
[2153,null,null,418000,null,null,null,"СУДИЈСКИ ДОДАТАК (2154)",null,null,null,null,null,null,null,null,null,null,null,null,null,null,null,null,null,null,{"$f":"UnObr2!D155","v":0},null,null,null,null,null,null,null,null,{"$f":"UnObr2!E155","v":0}]
[2154,null,null,418100,null,null,null,"Судијски додатак",null,null,null,null,null,null,null,null,null,null,null,null,null,null,null,null,null,null,{"$f":"UnObr2!D156","v":0},null,null,null,null,null,null,null,null,{"$f":"UnObr2!E156","v":0}]
[2155,null,null,420000,null,null,null,"КОРИШЋЕЊЕ УСЛУГА И РОБА (2156 + 2164 + 2170 + 2179 + 2187 + 2190)",null,null,null,null,null,null,null,null,null,null,null,null,null,null,null,null,null,null,{"$f":"UnObr2!D157","v":35106},null,null,null,null,null,null,null,null,{"$f":"UnObr2!E157","v":37468}]
[2156,null,null,421000,null,null,null,"СТАЛНИ ТРОШКОВИ (од 2157 до 2163)",null,null,null,null,null,null,null,null,null,null,null,null,null,null,null,null,null,null,{"$f":"UnObr2!D158","v":9361},null,null,null,null,null,null,null,null,{"$f":"UnObr2!E158","v":10626}]
[2157,null,null,421100,null,null,null,"Трошкови платног промета и банкарских услуга",null,null,null,null,null,null,null,null,null,null,null,null,null,null,null,null,null,null,{"$f":"UnObr2!D159","v":179},null,null,null,null,null,null,null,null,{"$f":"UnObr2!E159","v":210}]
[2158,null,null,421200,null,null,null,"Енергетске услуге",null,null,null,null,null,null,null,null,null,null,null,null,null,null,null,null,null,null,{"$f":"UnObr2!D160","v":6678},null,null,null,null,null,null,null,null,{"$f":"UnObr2!E160","v":8273}]
[2159,null,null,421300,null,null,null,"Комуналне услуге",null,null,null,null,null,null,null,null,null,null,null,null,null,null,null,null,null,null,{"$f":"UnObr2!D161","v":1430},null,null,null,null,null,null,null,null,{"$f":"UnObr2!E161","v":1559}]
[2160,null,null,421400,null,null,null,"Услуге комуникација",null,null,null,null,null,null,null,null,null,null,null,null,null,null,null,null,null,null,{"$f":"UnObr2!D162","v":498},null,null,null,null,null,null,null,null,{"$f":"UnObr2!E162","v":471}]
[2161,null,null,421500,null,null,null,"Трошкови осигурања",null,null,null,null,null,null,null,null,null,null,null,null,null,null,null,null,null,null,{"$f":"UnObr2!D163","v":576},null,null,null,null,null,null,null,null,{"$f":"UnObr2!E163","v":113}]
[2162,null,null,421600,null,null,null,"Закуп имовине и опреме",null,null,null,null,null,null,null,null,null,null,null,null,null,null,null,null,null,null,{"$f":"UnObr2!D164","v":0},null,null,null,null,null,null,null,null,{"$f":"UnObr2!E164","v":0}]
[2163,null,null,421900,null,null,null,"Остали трошкови",null,null,null,null,null,null,null,null,null,null,null,null,null,null,null,null,null,null,{"$f":"UnObr2!D165","v":0},null,null,null,null,null,null,null,null,{"$f":"UnObr2!E165","v":0}]
[2164,null,null,422000,null,null,null,"ТРОШКОВИ ПУТОВАЊА (од 2165 до 2169)",null,null,null,null,null,null,null,null,null,null,null,null,null,null,null,null,null,null,{"$f":"UnObr2!D166","v":853},null,null,null,null,null,null,null,null,{"$f":"UnObr2!E166","v":780}]
[2165,null,null,422100,null,null,null,"Трошкови службених путовања у земљи",null,null,null,null,null,null,null,null,null,null,null,null,null,null,null,null,null,null,{"$f":"UnObr2!D167","v":717},null,null,null,null,null,null,null,null,{"$f":"UnObr2!E167","v":630}]
[2166,null,null,422200,null,null,null,"Трошкови службених путовања у иностранство",null,null,null,null,null,null,null,null,null,null,null,null,null,null,null,null,null,null,{"$f":"UnObr2!D168","v":0},null,null,null,null,null,null,null,null,{"$f":"UnObr2!E168","v":0}]
[2167,null,null,422300,null,null,null,"Трошкови путовања у оквиру редовног рада",null,null,null,null,null,null,null,null,null,null,null,null,null,null,null,null,null,null,{"$f":"UnObr2!D169","v":136},null,null,null,null,null,null,null,null,{"$f":"UnObr2!E169","v":150}]
[2168,null,null,422400,null,null,null,"Трошкови путовања ученика",null,null,null,null,null,null,null,null,null,null,null,null,null,null,null,null,null,null,{"$f":"UnObr2!D170","v":0},null,null,null,null,null,null,null,null,{"$f":"UnObr2!E170","v":0}]
[2169,null,null,422900,null,null,null,"Остали трошкови транспорта",null,null,null,null,null,null,null,null,null,null,null,null,null,null,null,null,null,null,{"$f":"UnObr2!D171","v":0},null,null,null,null,null,null,null,null,{"$f":"UnObr2!E171","v":0}]
[2170,null,null,423000,null,null,null,"УСЛУГЕ ПО УГОВОРУ (од 2171 до 2178)",null,null,null,null,null,null,null,null,null,null,null,null,null,null,null,null,null,null,{"$f":"UnObr2!D172","v":4075},null,null,null,null,null,null,null,null,{"$f":"UnObr2!E172","v":3401}]
[2171,null,null,423100,null,null,null,"Административне услуге",null,null,null,null,null,null,null,null,null,null,null,null,null,null,null,null,null,null,{"$f":"UnObr2!D173","v":0},null,null,null,null,null,null,null,null,{"$f":"UnObr2!E173","v":0}]
[2172,null,null,423200,null,null,null,"Компјутерске услуге",null,null,null,null,null,null,null,null,null,null,null,null,null,null,null,null,null,null,{"$f":"UnObr2!D174","v":97},null,null,null,null,null,null,null,null,{"$f":"UnObr2!E174","v":101}]
[2173,null,null,423300,null,null,null,"Услуге образовања и усавршавања запослених",null,null,null,null,null,null,null,null,null,null,null,null,null,null,null,null,null,null,{"$f":"UnObr2!D175","v":276},null,null,null,null,null,null,null,null,{"$f":"UnObr2!E175","v":187}]
[2174,null,null,423400,null,null,null,"Услуге информисања",null,null,null,null,null,null,null,null,null,null,null,null,null,null,null,null,null,null,{"$f":"UnObr2!D176","v":170},null,null,null,null,null,null,null,null,{"$f":"UnObr2!E176","v":87}]
[2175,null,null,423500,null,null,null,"Стручне услуге",null,null,null,null,null,null,null,null,null,null,null,null,null,null,null,null,null,null,{"$f":"UnObr2!D177","v":0},null,null,null,null,null,null,null,null,{"$f":"UnObr2!E177","v":0}]
[2176,null,null,423600,null,null,null,"Услуге за домаћинство и угоститељство",null,null,null,null,null,null,null,null,null,null,null,null,null,null,null,null,null,null,{"$f":"UnObr2!D178","v":116},null,null,null,null,null,null,null,null,{"$f":"UnObr2!E178","v":106}]
[2177,null,null,423700,null,null,null,"Репрезентација",null,null,null,null,null,null,null,null,null,null,null,null,null,null,null,null,null,null,{"$f":"UnObr2!D179","v":0},null,null,null,null,null,null,null,null,{"$f":"UnObr2!E179","v":0}]
[2178,null,null,423900,null,null,null,"Остале опште услуге",null,null,null,null,null,null,null,null,null,null,null,null,null,null,null,null,null,null,{"$f":"UnObr2!D180","v":3416},null,null,null,null,null,null,null,null,{"$f":"UnObr2!E180","v":2920}]
[2179,null,null,424000,null,null,null,"СПЕЦИЈАЛИЗОВАНЕ УСЛУГЕ (од 2180 до 2186)",null,null,null,null,null,null,null,null,null,null,null,null,null,null,null,null,null,null,{"$f":"UnObr2!D181","v":1719},null,null,null,null,null,null,null,null,{"$f":"UnObr2!E181","v":2165}]
[2180,null,null,424100,null,null,null,"Пољопривредне услуге",null,null,null,null,null,null,null,null,null,null,null,null,null,null,null,null,null,null,{"$f":"UnObr2!D182","v":0},null,null,null,null,null,null,null,null,{"$f":"UnObr2!E182","v":0}]
[2181,null,null,424200,null,null,null,"Услуге образовања, културе и спорта",null,null,null,null,null,null,null,null,null,null,null,null,null,null,null,null,null,null,{"$f":"UnObr2!D183","v":230},null,null,null,null,null,null,null,null,{"$f":"UnObr2!E183","v":181}]
[2182,null,null,424300,null,null,null,"Медицинске услуге",null,null,null,null,null,null,null,null,null,null,null,null,null,null,null,null,null,null,{"$f":"UnObr2!D184","v":0},null,null,null,null,null,null,null,null,{"$f":"UnObr2!E184","v":0}]
[2183,null,null,424400,null,null,null,"Услуге одржавања аутопутева",null,null,null,null,null,null,null,null,null,null,null,null,null,null,null,null,null,null,{"$f":"UnObr2!D185","v":0},null,null,null,null,null,null,null,null,{"$f":"UnObr2!E185","v":0}]
[2184,null,null,424500,null,null,null,"Услуге одржавања националних паркова и природних површина",null,null,null,null,null,null,null,null,null,null,null,null,null,null,null,null,null,null,{"$f":"UnObr2!D186","v":0},null,null,null,null,null,null,null,null,{"$f":"UnObr2!E186","v":0}]
[2185,null,null,424600,null,null,null,"Услуге очувања животне средине, науке и геодетске \nуслуге",null,null,null,null,null,null,null,null,null,null,null,null,null,null,null,null,null,null,{"$f":"UnObr2!D187","v":0},null,null,null,null,null,null,null,null,{"$f":"UnObr2!E187","v":0}]
[2186,null,null,424900,null,null,null,"Остале специјализоване услуге",null,null,null,null,null,null,null,null,null,null,null,null,null,null,null,null,null,null,{"$f":"UnObr2!D188","v":1489},null,null,null,null,null,null,null,null,{"$f":"UnObr2!E188","v":1984}]
[2187,null,null,425000,null,null,null,"ТЕКУЋЕ ПОПРАВКЕ И ОДРЖАВАЊЕ (УСЛУГЕ И МАТЕРИЈАЛИ) (2188 + 2189)",null,null,null,null,null,null,null,null,null,null,null,null,null,null,null,null,null,null,{"$f":"UnObr2!D189","v":1860},null,null,null,null,null,null,null,null,{"$f":"UnObr2!E189","v":2034}]
[2188,null,null,425100,null,null,null,"Текуће поправке и одржавање зграда и објеката",null,null,null,null,null,null,null,null,null,null,null,null,null,null,null,null,null,null,{"$f":"UnObr2!D190","v":1439},null,null,null,null,null,null,null,null,{"$f":"UnObr2!E190","v":1451}]
[2189,null,null,425200,null,null,null,"Текуће поправке и одржавање опреме",null,null,null,null,null,null,null,null,null,null,null,null,null,null,null,null,null,null,{"$f":"UnObr2!D191","v":421},null,null,null,null,null,null,null,null,{"$f":"UnObr2!E191","v":583}]
[2190,null,null,426000,null,null,null,"МАТЕРИЈАЛ (од 2191 до 2199)",null,null,null,null,null,null,null,null,null,null,null,null,null,null,null,null,null,null,{"$f":"UnObr2!D192","v":17238},null,null,null,null,null,null,null,null,{"$f":"UnObr2!E192","v":18462}]
[2191,null,null,426100,null,null,null,"Административни материјал",null,null,null,null,null,null,null,null,null,null,null,null,null,null,null,null,null,null,{"$f":"UnObr2!D193","v":706},null,null,null,null,null,null,null,null,{"$f":"UnObr2!E193","v":665}]
[2192,null,null,426200,null,null,null,"Материјали за пољопривреду ",null,null,null,null,null,null,null,null,null,null,null,null,null,null,null,null,null,null,{"$f":"UnObr2!D194","v":0},null,null,null,null,null,null,null,null,{"$f":"UnObr2!E194","v":0}]
[2193,null,null,426300,null,null,null,"Материјали за образовање и усавршавање запослених",null,null,null,null,null,null,null,null,null,null,null,null,null,null,null,null,null,null,{"$f":"UnObr2!D195","v":361},null,null,null,null,null,null,null,null,{"$f":"UnObr2!E195","v":250}]
[2194,null,null,426400,null,null,null,"Материјали за саобраћај",null,null,null,null,null,null,null,null,null,null,null,null,null,null,null,null,null,null,{"$f":"UnObr2!D196","v":554},null,null,null,null,null,null,null,null,{"$f":"UnObr2!E196","v":598}]
[2195,null,null,426500,null,null,null,"Материјали за очување животне средине и науку",null,null,null,null,null,null,null,null,null,null,null,null,null,null,null,null,null,null,{"$f":"UnObr2!D197","v":0},null,null,null,null,null,null,null,null,{"$f":"UnObr2!E197","v":0}]
[2196,null,null,426600,null,null,null,"Материјали за образовање, културу и спорт",null,null,null,null,null,null,null,null,null,null,null,null,null,null,null,null,null,null,{"$f":"UnObr2!D198","v":457},null,null,null,null,null,null,null,null,{"$f":"UnObr2!E198","v":1033}]
[2197,null,null,426700,null,null,null,"Медицински и лабораторијски материјали",null,null,null,null,null,null,null,null,null,null,null,null,null,null,null,null,null,null,{"$f":"UnObr2!D199","v":0},null,null,null,null,null,null,null,null,{"$f":"UnObr2!E199","v":0}]
[2198,null,null,426800,null,null,null,"Материјали за одржавање хигијене и угоститељство",null,null,null,null,null,null,null,null,null,null,null,null,null,null,null,null,null,null,{"$f":"UnObr2!D200","v":12897},null,null,null,null,null,null,null,null,{"$f":"UnObr2!E200","v":13816}]
[2199,null,null,426900,null,null,null,"Материјали за посебне намене",null,null,null,null,null,null,null,null,null,null,null,null,null,null,null,null,null,null,{"$f":"UnObr2!D201","v":2263},null,null,null,null,null,null,null,null,{"$f":"UnObr2!E201","v":2100}]
[2200,null,null,430000,null,null,null,"АМОРТИЗАЦИЈА И УПОТРЕБА СРЕДСТАВА ЗА РАД  (2201 + 2205 + 2207 + 2209 + 2213)",null,null,null,null,null,null,null,null,null,null,null,null,null,null,null,null,null,null,{"$f":"UnObr2!D202","v":0},null,null,null,null,null,null,null,null,{"$f":"UnObr2!E202","v":0}]
[2201,null,null,431000,null,null,null,"АМОРТИЗАЦИЈА НЕКРЕТНИНА И ОПРЕМЕ \n(од 2202 до 2204)",null,null,null,null,null,null,null,null,null,null,null,null,null,null,null,null,null,null,{"$f":"UnObr2!D203","v":0},null,null,null,null,null,null,null,null,{"$f":"UnObr2!E203","v":0}]
[2202,null,null,431100,null,null,null,"Амортизација зграда и грађевинских објеката",null,null,null,null,null,null,null,null,null,null,null,null,null,null,null,null,null,null,{"$f":"UnObr2!D204","v":0},null,null,null,null,null,null,null,null,{"$f":"UnObr2!E204","v":0}]
[2203,null,null,431200,null,null,null,"Амортизација опреме",null,null,null,null,null,null,null,null,null,null,null,null,null,null,null,null,null,null,{"$f":"UnObr2!D205","v":0},null,null,null,null,null,null,null,null,{"$f":"UnObr2!E205","v":0}]
[2204,null,null,431300,null,null,null,"Амортизација осталих некретнина и опреме",null,null,null,null,null,null,null,null,null,null,null,null,null,null,null,null,null,null,{"$f":"UnObr2!D206","v":0},null,null,null,null,null,null,null,null,{"$f":"UnObr2!E206","v":0}]
[2205,null,null,432000,null,null,null,"АМОРТИЗАЦИЈА КУЛТИВИСАНЕ ОПРЕМЕ (од 2206)",null,null,null,null,null,null,null,null,null,null,null,null,null,null,null,null,null,null,{"$f":"UnObr2!D207","v":0},null,null,null,null,null,null,null,null,{"$f":"UnObr2!E207","v":0}]
[2206,null,null,432100,null,null,null,"Амортизација култивисане опреме",null,null,null,null,null,null,null,null,null,null,null,null,null,null,null,null,null,null,{"$f":"UnObr2!D208","v":0},null,null,null,null,null,null,null,null,{"$f":"UnObr2!E208","v":0}]
[2207,null,null,433000,null,null,null,"УПОТРЕБА ДРАГОЦЕНОСТИ (2208)",null,null,null,null,null,null,null,null,null,null,null,null,null,null,null,null,null,null,{"$f":"UnObr2!D209","v":0},null,null,null,null,null,null,null,null,{"$f":"UnObr2!E209","v":0}]
[2208,null,null,433100,null,null,null,"Употреба драгоцености",null,null,null,null,null,null,null,null,null,null,null,null,null,null,null,null,null,null,{"$f":"UnObr2!D210","v":0},null,null,null,null,null,null,null,null,{"$f":"UnObr2!E210","v":0}]
[2209,null,null,434000,null,null,null,"УПОТРЕБА ПРИРОДНЕ ИМОВИНЕ (од 2210 до 2212)",null,null,null,null,null,null,null,null,null,null,null,null,null,null,null,null,null,null,{"$f":"UnObr2!D211","v":0},null,null,null,null,null,null,null,null,{"$f":"UnObr2!E211","v":0}]
[2210,null,null,434100,null,null,null,"Употреба земљишта",null,null,null,null,null,null,null,null,null,null,null,null,null,null,null,null,null,null,{"$f":"UnObr2!D212","v":0},null,null,null,null,null,null,null,null,{"$f":"UnObr2!E212","v":0}]
[2211,null,null,434200,null,null,null,"Употреба подземног блага",null,null,null,null,null,null,null,null,null,null,null,null,null,null,null,null,null,null,{"$f":"UnObr2!D213","v":0},null,null,null,null,null,null,null,null,{"$f":"UnObr2!E213","v":0}]
[2212,null,null,434300,null,null,null,"Употреба шума и вода",null,null,null,null,null,null,null,null,null,null,null,null,null,null,null,null,null,null,{"$f":"UnObr2!D214","v":0},null,null,null,null,null,null,null,null,{"$f":"UnObr2!E214","v":0}]
[2213,null,null,435000,null,null,null,"АМОРТИЗАЦИЈА НЕМАТЕРИЈАЛНЕ ИМОВИНЕ \n(2214)",null,null,null,null,null,null,null,null,null,null,null,null,null,null,null,null,null,null,{"$f":"UnObr2!D215","v":0},null,null,null,null,null,null,null,null,{"$f":"UnObr2!E215","v":0}]
[2214,null,null,435100,null,null,null,"Амортизација нематеријалне имовине",null,null,null,null,null,null,null,null,null,null,null,null,null,null,null,null,null,null,{"$f":"UnObr2!D216","v":0},null,null,null,null,null,null,null,null,{"$f":"UnObr2!E216","v":0}]
[2215,null,null,440000,null,null,null,"ОТПЛАТА КАМАТА И ПРАТЕЋИ ТРОШКОВИ ЗАДУЖИВАЊА (2216 + 2226 + 2233 + 2235)",null,null,null,null,null,null,null,null,null,null,null,null,null,null,null,null,null,null,{"$f":"UnObr2!D217","v":0},null,null,null,null,null,null,null,null,{"$f":"UnObr2!E217","v":0}]
[2216,null,null,441000,null,null,null,"ОТПЛАТА ДОМАЋИХ КАМАТА (од 2217 до 2225)",null,null,null,null,null,null,null,null,null,null,null,null,null,null,null,null,null,null,{"$f":"UnObr2!D218","v":0},null,null,null,null,null,null,null,null,{"$f":"UnObr2!E218","v":0}]
[2217,null,null,441100,null,null,null,"Отплата камата на домаће хартије од вредности",null,null,null,null,null,null,null,null,null,null,null,null,null,null,null,null,null,null,{"$f":"UnObr2!D219","v":0},null,null,null,null,null,null,null,null,{"$f":"UnObr2!E219","v":0}]
[2218,null,null,441200,null,null,null,"Отплата камата осталим нивоима власти",null,null,null,null,null,null,null,null,null,null,null,null,null,null,null,null,null,null,{"$f":"UnObr2!D220","v":0},null,null,null,null,null,null,null,null,{"$f":"UnObr2!E220","v":0}]
[2219,null,null,441300,null,null,null,"Отплата камата домаћим јавним финансијским \nинституцијама",null,null,null,null,null,null,null,null,null,null,null,null,null,null,null,null,null,null,{"$f":"UnObr2!D221","v":0},null,null,null,null,null,null,null,null,{"$f":"UnObr2!E221","v":0}]
[2220,null,null,441400,null,null,null,"Отплата камата домаћим пословним банкама",null,null,null,null,null,null,null,null,null,null,null,null,null,null,null,null,null,null,{"$f":"UnObr2!D222","v":0},null,null,null,null,null,null,null,null,{"$f":"UnObr2!E222","v":0}]
[2221,null,null,441500,null,null,null,"Отплата камата осталим домаћим кредиторима",null,null,null,null,null,null,null,null,null,null,null,null,null,null,null,null,null,null,{"$f":"UnObr2!D223","v":0},null,null,null,null,null,null,null,null,{"$f":"UnObr2!E223","v":0}]
[2222,null,null,441600,null,null,null,"Отплата камата домаћинствима у земљи",null,null,null,null,null,null,null,null,null,null,null,null,null,null,null,null,null,null,{"$f":"UnObr2!D224","v":0},null,null,null,null,null,null,null,null,{"$f":"UnObr2!E224","v":0}]
[2223,null,null,441700,null,null,null,"Отплата камата на домаће финансијске деривате",null,null,null,null,null,null,null,null,null,null,null,null,null,null,null,null,null,null,{"$f":"UnObr2!D225","v":0},null,null,null,null,null,null,null,null,{"$f":"UnObr2!E225","v":0}]
[2224,null,null,441800,null,null,null,"Отплата камата на домаће менице",null,null,null,null,null,null,null,null,null,null,null,null,null,null,null,null,null,null,{"$f":"UnObr2!D226","v":0},null,null,null,null,null,null,null,null,{"$f":"UnObr2!E226","v":0}]
[2225,null,null,441900,null,null,null,"Финансијске промене на финансијским лизинзима",null,null,null,null,null,null,null,null,null,null,null,null,null,null,null,null,null,null,{"$f":"UnObr2!D227","v":0},null,null,null,null,null,null,null,null,{"$f":"UnObr2!E227","v":0}]
[2226,null,null,442000,null,null,null,"ОТПЛАТА СТРАНИХ КАМАТА (од 2227 до 2232)",null,null,null,null,null,null,null,null,null,null,null,null,null,null,null,null,null,null,{"$f":"UnObr2!D228","v":0},null,null,null,null,null,null,null,null,{"$f":"UnObr2!E228","v":0}]
[2227,null,null,442100,null,null,null,"Отплата камата на хартије од вредности емитоване на иностраном финансијском тржишту",null,null,null,null,null,null,null,null,null,null,null,null,null,null,null,null,null,null,{"$f":"UnObr2!D229","v":0},null,null,null,null,null,null,null,null,{"$f":"UnObr2!E229","v":0}]
[2228,null,null,442200,null,null,null,"Отплата камата страним владама",null,null,null,null,null,null,null,null,null,null,null,null,null,null,null,null,null,null,{"$f":"UnObr2!D230","v":0},null,null,null,null,null,null,null,null,{"$f":"UnObr2!E230","v":0}]
[2229,null,null,442300,null,null,null,"Отплата камата мултилатералним институцијама",null,null,null,null,null,null,null,null,null,null,null,null,null,null,null,null,null,null,{"$f":"UnObr2!D231","v":0},null,null,null,null,null,null,null,null,{"$f":"UnObr2!E231","v":0}]
[2230,null,null,442400,null,null,null,"Отплата камата страним пословним банкама",null,null,null,null,null,null,null,null,null,null,null,null,null,null,null,null,null,null,{"$f":"UnObr2!D232","v":0},null,null,null,null,null,null,null,null,{"$f":"UnObr2!E232","v":0}]
[2231,null,null,442500,null,null,null,"Отплата камата осталим страним кредиторима",null,null,null,null,null,null,null,null,null,null,null,null,null,null,null,null,null,null,{"$f":"UnObr2!D233","v":0},null,null,null,null,null,null,null,null,{"$f":"UnObr2!E233","v":0}]
[2232,null,null,442600,null,null,null,"Отплата камата на стране финансијске деривате",null,null,null,null,null,null,null,null,null,null,null,null,null,null,null,null,null,null,{"$f":"UnObr2!D234","v":0},null,null,null,null,null,null,null,null,{"$f":"UnObr2!E234","v":0}]
[2233,null,null,443000,null,null,null,"ОТПЛАТА КАМАТА ПО ГАРАНЦИЈАМА (2234)",null,null,null,null,null,null,null,null,null,null,null,null,null,null,null,null,null,null,{"$f":"UnObr2!D235","v":0},null,null,null,null,null,null,null,null,{"$f":"UnObr2!E235","v":0}]
[2234,null,null,443100,null,null,null,"Отплата камата по гаранцијама",null,null,null,null,null,null,null,null,null,null,null,null,null,null,null,null,null,null,{"$f":"UnObr2!D236","v":0},null,null,null,null,null,null,null,null,{"$f":"UnObr2!E236","v":0}]
[2235,null,null,444000,null,null,null,"ПРАТЕЋИ ТРОШКОВИ ЗАДУЖИВАЊА \n(од 2236 до 2238)",null,null,null,null,null,null,null,null,null,null,null,null,null,null,null,null,null,null,{"$f":"UnObr2!D237","v":0},null,null,null,null,null,null,null,null,{"$f":"UnObr2!E237","v":0}]
[2236,null,null,444100,null,null,null,"Негативне курсне разлике",null,null,null,null,null,null,null,null,null,null,null,null,null,null,null,null,null,null,{"$f":"UnObr2!D238","v":0},null,null,null,null,null,null,null,null,{"$f":"UnObr2!E238","v":0}]
[2237,null,null,444200,null,null,null,"Казне за кашњење",null,null,null,null,null,null,null,null,null,null,null,null,null,null,null,null,null,null,{"$f":"UnObr2!D239","v":0},null,null,null,null,null,null,null,null,{"$f":"UnObr2!E239","v":0}]
[2238,null,null,444300,null,null,null,"Остали пратећи трошкови задуживања",null,null,null,null,null,null,null,null,null,null,null,null,null,null,null,null,null,null,{"$f":"UnObr2!D240","v":0},null,null,null,null,null,null,null,null,{"$f":"UnObr2!E240","v":0}]
[2239,null,null,450000,null,null,null,"СУБВЕНЦИЈЕ (2240 + 2243 + 2246 + 2249)",null,null,null,null,null,null,null,null,null,null,null,null,null,null,null,null,null,null,{"$f":"UnObr2!D241","v":0},null,null,null,null,null,null,null,null,{"$f":"UnObr2!E241","v":0}]
[2240,null,null,451000,null,null,null,"СУБВЕНЦИЈЕ ЈАВНИМ НЕФИНАНСИЈСКИМ ПРЕДУЗЕЋИМА И ОРГАНИЗАЦИЈАМА (2241 + 2242)",null,null,null,null,null,null,null,null,null,null,null,null,null,null,null,null,null,null,{"$f":"UnObr2!D242","v":0},null,null,null,null,null,null,null,null,{"$f":"UnObr2!E242","v":0}]
[2241,null,null,451100,null,null,null,"Текуће субвенције јавним нефинансијским \nпредузећима и организацијама",null,null,null,null,null,null,null,null,null,null,null,null,null,null,null,null,null,null,{"$f":"UnObr2!D243","v":0},null,null,null,null,null,null,null,null,{"$f":"UnObr2!E243","v":0}]
[2242,null,null,451200,null,null,null,"Капиталне субвенције јавним нефинансијским \nпредузећима и организацијама",null,null,null,null,null,null,null,null,null,null,null,null,null,null,null,null,null,null,{"$f":"UnObr2!D244","v":0},null,null,null,null,null,null,null,null,{"$f":"UnObr2!E244","v":0}]
[2243,null,null,452000,null,null,null,"СУБВЕНЦИЈЕ ПРИВАТНИМ ФИНАНСИЈСКИМ  ИНСТИТУЦИЈАМА (2244 + 2245)",null,null,null,null,null,null,null,null,null,null,null,null,null,null,null,null,null,null,{"$f":"UnObr2!D245","v":0},null,null,null,null,null,null,null,null,{"$f":"UnObr2!E245","v":0}]
[2244,null,null,452100,null,null,null,"Текуће субвенције приватним финансијским \nинституцијама",null,null,null,null,null,null,null,null,null,null,null,null,null,null,null,null,null,null,{"$f":"UnObr2!D246","v":0},null,null,null,null,null,null,null,null,{"$f":"UnObr2!E246","v":0}]
[2245,null,null,452200,null,null,null,"Капиталне субвенције приватним финансијским институцијама",null,null,null,null,null,null,null,null,null,null,null,null,null,null,null,null,null,null,{"$f":"UnObr2!D247","v":0},null,null,null,null,null,null,null,null,{"$f":"UnObr2!E247","v":0}]
[2246,null,null,453000,null,null,null,"СУБВЕНЦИЈЕ ЈАВНИМ ФИНАНСИЈСКИМ  ИНСТИТУЦИЈАМА (2247 + 2248)",null,null,null,null,null,null,null,null,null,null,null,null,null,null,null,null,null,null,{"$f":"UnObr2!D248","v":0},null,null,null,null,null,null,null,null,{"$f":"UnObr2!E248","v":0}]
[2247,null,null,453100,null,null,null,"Текуће субвенције јавним финансијским институцијама",null,null,null,null,null,null,null,null,null,null,null,null,null,null,null,null,null,null,{"$f":"UnObr2!D249","v":0},null,null,null,null,null,null,null,null,{"$f":"UnObr2!E249","v":0}]
[2248,null,null,453200,null,null,null,"Капиталне субвенције јавним финансијским \nинституцијама",null,null,null,null,null,null,null,null,null,null,null,null,null,null,null,null,null,null,{"$f":"UnObr2!D250","v":0},null,null,null,null,null,null,null,null,{"$f":"UnObr2!E250","v":0}]
[2249,null,null,454000,null,null,null,"СУБВЕНЦИЈЕ ПРИВАТНИМ ПРЕДУЗЕЋИМА (2250 + 2251)",null,null,null,null,null,null,null,null,null,null,null,null,null,null,null,null,null,null,{"$f":"UnObr2!D251","v":0},null,null,null,null,null,null,null,null,{"$f":"UnObr2!E251","v":0}]
[2250,null,null,454100,null,null,null,"Текуће субвенције приватним предузећима",null,null,null,null,null,null,null,null,null,null,null,null,null,null,null,null,null,null,{"$f":"UnObr2!D252","v":0},null,null,null,null,null,null,null,null,{"$f":"UnObr2!E252","v":0}]
[2251,null,null,454200,null,null,null,"Капиталне субвенције приватним предузећима",null,null,null,null,null,null,null,null,null,null,null,null,null,null,null,null,null,null,{"$f":"UnObr2!D253","v":0},null,null,null,null,null,null,null,null,{"$f":"UnObr2!E253","v":0}]
[2252,null,null,460000,null,null,null,"ДОНАЦИЈЕ, ДОТАЦИЈЕ И ТРАНСФЕРИ (2253 + 2256 + 2259 + 2262 + 2265)",null,null,null,null,null,null,null,null,null,null,null,null,null,null,null,null,null,null,{"$f":"UnObr2!D254","v":5398},null,null,null,null,null,null,null,null,{"$f":"UnObr2!E254","v":4268}]
[2253,null,null,461000,null,null,null,"ДОНАЦИЈЕ СТРАНИМ ВЛАДАМА (2254 + 2255)",null,null,null,null,null,null,null,null,null,null,null,null,null,null,null,null,null,null,{"$f":"UnObr2!D255","v":0},null,null,null,null,null,null,null,null,{"$f":"UnObr2!E255","v":0}]
[2254,null,null,461100,null,null,null,"Текуће донације страним владама",null,null,null,null,null,null,null,null,null,null,null,null,null,null,null,null,null,null,{"$f":"UnObr2!D256","v":0},null,null,null,null,null,null,null,null,{"$f":"UnObr2!E256","v":0}]
[2255,null,null,461200,null,null,null,"Капиталне донације страним владама",null,null,null,null,null,null,null,null,null,null,null,null,null,null,null,null,null,null,{"$f":"UnObr2!D257","v":0},null,null,null,null,null,null,null,null,{"$f":"UnObr2!E257","v":0}]
[2256,null,null,462000,null,null,null,"ДОТАЦИЈЕ МЕЂУНАРОДНИМ \nОРГАНИЗАЦИЈАМА (2257 + 2258)",null,null,null,null,null,null,null,null,null,null,null,null,null,null,null,null,null,null,{"$f":"UnObr2!D258","v":0},null,null,null,null,null,null,null,null,{"$f":"UnObr2!E258","v":0}]
[2257,null,null,462100,null,null,null,"Текуће дотације међународним организацијама",null,null,null,null,null,null,null,null,null,null,null,null,null,null,null,null,null,null,{"$f":"UnObr2!D259","v":0},null,null,null,null,null,null,null,null,{"$f":"UnObr2!E259","v":0}]
[2258,null,null,462200,null,null,null,"Капиталне дотације међународним организацијама",null,null,null,null,null,null,null,null,null,null,null,null,null,null,null,null,null,null,{"$f":"UnObr2!D260","v":0},null,null,null,null,null,null,null,null,{"$f":"UnObr2!E260","v":0}]
[2259,null,null,463000,null,null,null,"ТРАНСФЕРИ ОСТАЛИМ НИВОИМА ВЛАСТИ (2260 + 2261)",null,null,null,null,null,null,null,null,null,null,null,null,null,null,null,null,null,null,{"$f":"UnObr2!D261","v":0},null,null,null,null,null,null,null,null,{"$f":"UnObr2!E261","v":0}]
[2260,null,null,463100,null,null,null,"Текући трансфери осталим нивоима власти",null,null,null,null,null,null,null,null,null,null,null,null,null,null,null,null,null,null,{"$f":"UnObr2!D262","v":0},null,null,null,null,null,null,null,null,{"$f":"UnObr2!E262","v":0}]
[2261,null,null,463200,null,null,null,"Капитални трансфери осталим нивоима власти",null,null,null,null,null,null,null,null,null,null,null,null,null,null,null,null,null,null,{"$f":"UnObr2!D263","v":0},null,null,null,null,null,null,null,null,{"$f":"UnObr2!E263","v":0}]
[2262,null,null,464000,null,null,null,"ДОТАЦИЈЕ ОРГАНИЗАЦИЈАМА ОБАВЕЗНОГ СОЦИЈАЛНОГ ОСИГУРАЊА (2263 + 2264)",null,null,null,null,null,null,null,null,null,null,null,null,null,null,null,null,null,null,{"$f":"UnObr2!D264","v":0},null,null,null,null,null,null,null,null,{"$f":"UnObr2!E264","v":0}]
[2263,null,null,464100,null,null,null,"Текуће дотације организацијама обавезног социјалног осигурања",null,null,null,null,null,null,null,null,null,null,null,null,null,null,null,null,null,null,{"$f":"UnObr2!D265","v":0},null,null,null,null,null,null,null,null,{"$f":"UnObr2!E265","v":0}]
[2264,null,null,464200,null,null,null,"Капиталне дотације организацијама обавезног \nсоцијалног осигурања",null,null,null,null,null,null,null,null,null,null,null,null,null,null,null,null,null,null,{"$f":"UnObr2!D266","v":0},null,null,null,null,null,null,null,null,{"$f":"UnObr2!E266","v":0}]
[2265,null,null,465000,null,null,null,"ОСТАЛЕ ДОТАЦИЈЕ И ТРАНСФЕРИ (2266 + 2267)",null,null,null,null,null,null,null,null,null,null,null,null,null,null,null,null,null,null,{"$f":"UnObr2!D267","v":5398},null,null,null,null,null,null,null,null,{"$f":"UnObr2!E267","v":4268}]
[2266,null,null,465100,null,null,null,"Остале текуће дотације и трансфери",null,null,null,null,null,null,null,null,null,null,null,null,null,null,null,null,null,null,{"$f":"UnObr2!D268","v":5398},null,null,null,null,null,null,null,null,{"$f":"UnObr2!E268","v":4268}]
[2267,null,null,465200,null,null,null,"Остале капиталне дотације и трансфери",null,null,null,null,null,null,null,null,null,null,null,null,null,null,null,null,null,null,{"$f":"UnObr2!D269","v":0},null,null,null,null,null,null,null,null,{"$f":"UnObr2!E269","v":0}]
[2268,null,null,470000,null,null,null,"СОЦИЈАЛНО ОСИГУРАЊЕ И СОЦИЈАЛНА \nЗАШТИТА (2269 + 2273)",null,null,null,null,null,null,null,null,null,null,null,null,null,null,null,null,null,null,{"$f":"UnObr2!D270","v":98},null,null,null,null,null,null,null,null,{"$f":"UnObr2!E270","v":121}]
[2269,null,null,471000,null,null,null,"ПРАВА ИЗ СОЦИЈАЛНОГ ОСИГУРАЊА (ОРГАНИЗАЦИЈЕ ОБАВЕЗНОГ СОЦИЈАЛНОГ ОСИГУРАЊА) (од 2270 до 2272)",null,null,null,null,null,null,null,null,null,null,null,null,null,null,null,null,null,null,{"$f":"UnObr2!D271","v":0},null,null,null,null,null,null,null,null,{"$f":"UnObr2!E271","v":0}]
[2270,null,null,471100,null,null,null,"Права из социјалног осигурања која се исплаћују \nнепосредно домаћинствима",null,null,null,null,null,null,null,null,null,null,null,null,null,null,null,null,null,null,{"$f":"UnObr2!D272","v":0},null,null,null,null,null,null,null,null,{"$f":"UnObr2!E272","v":0}]
[2271,null,null,471200,null,null,null,"Права из социјалног осигурања која се исплаћују \nнепосредно пружаоцима услуга",null,null,null,null,null,null,null,null,null,null,null,null,null,null,null,null,null,null,{"$f":"UnObr2!D273","v":0},null,null,null,null,null,null,null,null,{"$f":"UnObr2!E273","v":0}]
[2272,null,null,471900,null,null,null,"Трансфери другим организацијама обавезног \nсоцијалног осигурања за доприносе за осигурање",null,null,null,null,null,null,null,null,null,null,null,null,null,null,null,null,null,null,{"$f":"UnObr2!D274","v":0},null,null,null,null,null,null,null,null,{"$f":"UnObr2!E274","v":0}]
[2273,null,null,472000,null,null,null,"НАКНАДЕ ЗА СОЦИЈАЛНУ ЗАШТИТУ ИЗ \nБУЏЕТА (од 2274 до 2282)",null,null,null,null,null,null,null,null,null,null,null,null,null,null,null,null,null,null,{"$f":"UnObr2!D275","v":98},null,null,null,null,null,null,null,null,{"$f":"UnObr2!E275","v":121}]
[2274,null,null,472100,null,null,null,"Накнаде из буџета у случају болести и инвалидности",null,null,null,null,null,null,null,null,null,null,null,null,null,null,null,null,null,null,{"$f":"UnObr2!D276","v":0},null,null,null,null,null,null,null,null,{"$f":"UnObr2!E276","v":0}]
[2275,null,null,472200,null,null,null,"Накнаде из буџета за породиљско одсуство ",null,null,null,null,null,null,null,null,null,null,null,null,null,null,null,null,null,null,{"$f":"UnObr2!D277","v":0},null,null,null,null,null,null,null,null,{"$f":"UnObr2!E277","v":0}]
[2276,null,null,472300,null,null,null,"Накнаде из буџета за децу и породицу ",null,null,null,null,null,null,null,null,null,null,null,null,null,null,null,null,null,null,{"$f":"UnObr2!D278","v":0},null,null,null,null,null,null,null,null,{"$f":"UnObr2!E278","v":0}]
[2277,null,null,472400,null,null,null,"Накнаде из буџета за случај незапослености ",null,null,null,null,null,null,null,null,null,null,null,null,null,null,null,null,null,null,{"$f":"UnObr2!D279","v":0},null,null,null,null,null,null,null,null,{"$f":"UnObr2!E279","v":0}]
[2278,null,null,472500,null,null,null,"Старосне и породичне пензије из буџета",null,null,null,null,null,null,null,null,null,null,null,null,null,null,null,null,null,null,{"$f":"UnObr2!D280","v":0},null,null,null,null,null,null,null,null,{"$f":"UnObr2!E280","v":0}]
[2279,null,null,472600,null,null,null,"Накнаде из буџета у случају смрти",null,null,null,null,null,null,null,null,null,null,null,null,null,null,null,null,null,null,{"$f":"UnObr2!D281","v":0},null,null,null,null,null,null,null,null,{"$f":"UnObr2!E281","v":0}]
[2280,null,null,472700,null,null,null,"Накнаде из буџета за образовање, културу, науку и \nспорт ",null,null,null,null,null,null,null,null,null,null,null,null,null,null,null,null,null,null,{"$f":"UnObr2!D282","v":98},null,null,null,null,null,null,null,null,{"$f":"UnObr2!E282","v":121}]
[2281,null,null,472800,null,null,null,"Накнаде из буџета за становање и живот ",null,null,null,null,null,null,null,null,null,null,null,null,null,null,null,null,null,null,{"$f":"UnObr2!D283","v":0},null,null,null,null,null,null,null,null,{"$f":"UnObr2!E283","v":0}]
[2282,null,null,472900,null,null,null,"Остале накнаде из буџета",null,null,null,null,null,null,null,null,null,null,null,null,null,null,null,null,null,null,{"$f":"UnObr2!D284","v":0},null,null,null,null,null,null,null,null,{"$f":"UnObr2!E284","v":0}]
[2283,null,null,480000,null,null,null,"ОСТАЛИ РАСХОДИ \n(2284 + 2287 + 2291 + 2293 + 2296 + 2298)",null,null,null,null,null,null,null,null,null,null,null,null,null,null,null,null,null,null,{"$f":"UnObr2!D285","v":674},null,null,null,null,null,null,null,null,{"$f":"UnObr2!E285","v":9590}]
[2284,null,null,481000,null,null,null,"ДОТАЦИЈЕ НЕВЛАДИНИМ ОРГАНИЗАЦИЈАМА (2285 + 2286)",null,null,null,null,null,null,null,null,null,null,null,null,null,null,null,null,null,null,{"$f":"UnObr2!D286","v":0},null,null,null,null,null,null,null,null,{"$f":"UnObr2!E286","v":0}]
[2285,null,null,481100,null,null,null,"Дотације непрофитним организацијама које пружају \nпомоћ домаћинствима",null,null,null,null,null,null,null,null,null,null,null,null,null,null,null,null,null,null,{"$f":"UnObr2!D287","v":0},null,null,null,null,null,null,null,null,{"$f":"UnObr2!E287","v":0}]
[2286,null,null,481900,null,null,null,"Дотације осталим непрофитним институцијама",null,null,null,null,null,null,null,null,null,null,null,null,null,null,null,null,null,null,{"$f":"UnObr2!D288","v":0},null,null,null,null,null,null,null,null,{"$f":"UnObr2!E288","v":0}]
[2287,null,null,482000,null,null,null,"ПОРЕЗИ, ОБАВЕЗНЕ ТАКСЕ И КАЗНЕ \n(од 2288 до 2290)",null,null,null,null,null,null,null,null,null,null,null,null,null,null,null,null,null,null,{"$f":"UnObr2!D289","v":36},null,null,null,null,null,null,null,null,{"$f":"UnObr2!E289","v":134}]
[2288,null,null,482100,null,null,null,"Остали порези",null,null,null,null,null,null,null,null,null,null,null,null,null,null,null,null,null,null,{"$f":"UnObr2!D290","v":0},null,null,null,null,null,null,null,null,{"$f":"UnObr2!E290","v":0}]
[2289,null,null,482200,null,null,null,"Обавезне таксе",null,null,null,null,null,null,null,null,null,null,null,null,null,null,null,null,null,null,{"$f":"UnObr2!D291","v":36},null,null,null,null,null,null,null,null,{"$f":"UnObr2!E291","v":134}]
[2290,null,null,482300,null,null,null,"Новчане казне и пенали",null,null,null,null,null,null,null,null,null,null,null,null,null,null,null,null,null,null,{"$f":"UnObr2!D292","v":0},null,null,null,null,null,null,null,null,{"$f":"UnObr2!E292","v":0}]
[2291,null,null,483000,null,null,null,"НОВЧАНЕ КАЗНЕ И ПЕНАЛИ ПО РЕШЕЊУ \nСУДОВА (2292)",null,null,null,null,null,null,null,null,null,null,null,null,null,null,null,null,null,null,{"$f":"UnObr2!D293","v":638},null,null,null,null,null,null,null,null,{"$f":"UnObr2!E293","v":1200}]
[2292,null,null,483100,null,null,null,"Новчане казне и пенали по решењу судова",null,null,null,null,null,null,null,null,null,null,null,null,null,null,null,null,null,null,{"$f":"UnObr2!D294","v":638},null,null,null,null,null,null,null,null,{"$f":"UnObr2!E294","v":1200}]
[2293,null,null,484000,null,null,null,"НАКНАДА ШТЕТЕ ЗА ПОВРЕДЕ ИЛИ ШТЕТУ НАСТАЛУ УСЛЕД ЕЛЕМЕНТАРНИХ НЕПОГОДА ИЛИ ДРУГИХ ПРИРОДНИХ УЗРОКА (2294 + 2295)",null,null,null,null,null,null,null,null,null,null,null,null,null,null,null,null,null,null,{"$f":"UnObr2!D295","v":0},null,null,null,null,null,null,null,null,{"$f":"UnObr2!E295","v":0}]
[2294,null,null,484100,null,null,null,"Накнада штете за повреде или штету услед \nелементарних непогода",null,null,null,null,null,null,null,null,null,null,null,null,null,null,null,null,null,null,{"$f":"UnObr2!D296","v":0},null,null,null,null,null,null,null,null,{"$f":"UnObr2!E296","v":0}]
[2295,null,null,484200,null,null,null,"Накнада штете од дивљачи",null,null,null,null,null,null,null,null,null,null,null,null,null,null,null,null,null,null,{"$f":"UnObr2!D297","v":0},null,null,null,null,null,null,null,null,{"$f":"UnObr2!E297","v":0}]
[2296,null,null,485000,null,null,null,"НАКНАДА ШТЕТЕ ЗА ПОВРЕДЕ ИЛИ ШТЕТУ \nНАНЕТУ ОД СТРАНЕ ДРЖАВНИХ ОРГАНА (2297)",null,null,null,null,null,null,null,null,null,null,null,null,null,null,null,null,null,null,{"$f":"UnObr2!D298","v":0},null,null,null,null,null,null,null,null,{"$f":"UnObr2!E298","v":8256}]
[2297,null,null,485100,null,null,null,"Накнада штете за повреде или штету нанету од стране државних органа",null,null,null,null,null,null,null,null,null,null,null,null,null,null,null,null,null,null,{"$f":"UnObr2!D299","v":0},null,null,null,null,null,null,null,null,{"$f":"UnObr2!E299","v":8256}]
[2298,null,null,489000,null,null,null,"РАСХОДИ КОЈИ СЕ ФИНАНСИРАЈУ ИЗ \nСРЕДСТАВА ЗА РЕАЛИЗАЦИЈУ \nНАЦИОНАЛНОГ ИНВЕСТИЦИОНОГ ПЛАНА (2299)",null,null,null,null,null,null,null,null,null,null,null,null,null,null,null,null,null,null,{"$f":"UnObr2!D300","v":0},null,null,null,null,null,null,null,null,{"$f":"UnObr2!E300","v":0}]
[2299,null,null,489100,null,null,null,"Расходи који се финансирају из средстава за \nреализацију националног инвестиционог плана",null,null,null,null,null,null,null,null,null,null,null,null,null,null,null,null,null,null,{"$f":"UnObr2!D301","v":0},null,null,null,null,null,null,null,null,{"$f":"UnObr2!E301","v":0}]
[2300,null,null,500000,null,null,null,"ИЗДАЦИ ЗА НЕФИНАНСИЈСКУ ИМОВИНУ \n(2301 + 2323 + 2332 + 2335 + 2343)",null,null,null,null,null,null,null,null,null,null,null,null,null,null,null,null,null,null,{"$f":"UnObr2!D302","v":2576},null,null,null,null,null,null,null,null,{"$f":"UnObr2!E302","v":1301}]
[2301,null,null,510000,null,null,null,"ОСНОВНА СРЕДСТВА \n(2302 + 2307 + 2317 + 2319 + 2321)",null,null,null,null,null,null,null,null,null,null,null,null,null,null,null,null,null,null,{"$f":"UnObr2!D303","v":2576},null,null,null,null,null,null,null,null,{"$f":"UnObr2!E303","v":1301}]
[2302,null,null,511000,null,null,null,"ЗГРАДЕ И ГРАЂЕВИНСКИ ОБЈЕКТИ (од 2303 до 2306)",null,null,null,null,null,null,null,null,null,null,null,null,null,null,null,null,null,null,{"$f":"UnObr2!D304","v":0},null,null,null,null,null,null,null,null,{"$f":"UnObr2!E304","v":0}]
[2303,null,null,511100,null,null,null,"Куповина зграда и објеката",null,null,null,null,null,null,null,null,null,null,null,null,null,null,null,null,null,null,{"$f":"UnObr2!D305","v":0},null,null,null,null,null,null,null,null,{"$f":"UnObr2!E305","v":0}]
[2304,null,null,511200,null,null,null,"Изградња зграда и објеката",null,null,null,null,null,null,null,null,null,null,null,null,null,null,null,null,null,null,{"$f":"UnObr2!D306","v":0},null,null,null,null,null,null,null,null,{"$f":"UnObr2!E306","v":0}]
[2305,null,null,511300,null,null,null,"Капитално одржавање зграда и објеката",null,null,null,null,null,null,null,null,null,null,null,null,null,null,null,null,null,null,{"$f":"UnObr2!D307","v":0},null,null,null,null,null,null,null,null,{"$f":"UnObr2!E307","v":0}]
[2306,null,null,511400,null,null,null,"Пројектно планирање",null,null,null,null,null,null,null,null,null,null,null,null,null,null,null,null,null,null,{"$f":"UnObr2!D308","v":0},null,null,null,null,null,null,null,null,{"$f":"UnObr2!E308","v":0}]
[2307,null,null,512000,null,null,null,"МАШИНЕ И ОПРЕМА (од 2308 до 2316)",null,null,null,null,null,null,null,null,null,null,null,null,null,null,null,null,null,null,{"$f":"UnObr2!D309","v":2576},null,null,null,null,null,null,null,null,{"$f":"UnObr2!E309","v":1301}]
[2308,null,null,512100,null,null,null,"Опрема за саобраћај",null,null,null,null,null,null,null,null,null,null,null,null,null,null,null,null,null,null,{"$f":"UnObr2!D310","v":0},null,null,null,null,null,null,null,null,{"$f":"UnObr2!E310","v":0}]
[2309,null,null,512200,null,null,null,"Административна опрема",null,null,null,null,null,null,null,null,null,null,null,null,null,null,null,null,null,null,{"$f":"UnObr2!D311","v":2204},null,null,null,null,null,null,null,null,{"$f":"UnObr2!E311","v":896}]
[2310,null,null,512300,null,null,null,"Опрема за пољопривреду",null,null,null,null,null,null,null,null,null,null,null,null,null,null,null,null,null,null,{"$f":"UnObr2!D312","v":0},null,null,null,null,null,null,null,null,{"$f":"UnObr2!E312","v":0}]
[2311,null,null,512400,null,null,null,"Опрема за заштиту животне средине",null,null,null,null,null,null,null,null,null,null,null,null,null,null,null,null,null,null,{"$f":"UnObr2!D313","v":0},null,null,null,null,null,null,null,null,{"$f":"UnObr2!E313","v":0}]
[2312,null,null,512500,null,null,null,"Медицинска и лабораторијска опрема",null,null,null,null,null,null,null,null,null,null,null,null,null,null,null,null,null,null,{"$f":"UnObr2!D314","v":0},null,null,null,null,null,null,null,null,{"$f":"UnObr2!E314","v":0}]
[2313,null,null,512600,null,null,null,"Опрема за образовање, науку, културу и спорт",null,null,null,null,null,null,null,null,null,null,null,null,null,null,null,null,null,null,{"$f":"UnObr2!D315","v":333},null,null,null,null,null,null,null,null,{"$f":"UnObr2!E315","v":405}]
[2314,null,null,512700,null,null,null,"Опрема за војску",null,null,null,null,null,null,null,null,null,null,null,null,null,null,null,null,null,null,{"$f":"UnObr2!D316","v":0},null,null,null,null,null,null,null,null,{"$f":"UnObr2!E316","v":0}]
[2315,null,null,512800,null,null,null,"Опрема за јавну безбедност",null,null,null,null,null,null,null,null,null,null,null,null,null,null,null,null,null,null,{"$f":"UnObr2!D317","v":39},null,null,null,null,null,null,null,null,{"$f":"UnObr2!E317","v":0}]
[2316,null,null,512900,null,null,null,"Опрема за производњу, моторна, непокретна и \nнемоторна опрема",null,null,null,null,null,null,null,null,null,null,null,null,null,null,null,null,null,null,{"$f":"UnObr2!D318","v":0},null,null,null,null,null,null,null,null,{"$f":"UnObr2!E318","v":0}]
[2317,null,null,513000,null,null,null,"ОСТАЛЕ НЕКРЕТНИНЕ И ОПРЕМА (2318)",null,null,null,null,null,null,null,null,null,null,null,null,null,null,null,null,null,null,{"$f":"UnObr2!D319","v":0},null,null,null,null,null,null,null,null,{"$f":"UnObr2!E319","v":0}]
[2318,null,null,513100,null,null,null,"Остале некретнине и опрема",null,null,null,null,null,null,null,null,null,null,null,null,null,null,null,null,null,null,{"$f":"UnObr2!D320","v":0},null,null,null,null,null,null,null,null,{"$f":"UnObr2!E320","v":0}]
[2319,null,null,514000,null,null,null,"КУЛТИВИСАНА ИМОВИНА (2320)",null,null,null,null,null,null,null,null,null,null,null,null,null,null,null,null,null,null,{"$f":"UnObr2!D321","v":0},null,null,null,null,null,null,null,null,{"$f":"UnObr2!E321","v":0}]
[2320,null,null,514100,null,null,null,"Култивисана имовина",null,null,null,null,null,null,null,null,null,null,null,null,null,null,null,null,null,null,{"$f":"UnObr2!D322","v":0},null,null,null,null,null,null,null,null,{"$f":"UnObr2!E322","v":0}]
[2321,null,null,515000,null,null,null,"НЕМАТЕРИЈАЛНА ИМОВИНА (2322)",null,null,null,null,null,null,null,null,null,null,null,null,null,null,null,null,null,null,{"$f":"UnObr2!D323","v":0},null,null,null,null,null,null,null,null,{"$f":"UnObr2!E323","v":0}]
[2322,null,null,515100,null,null,null,"Нематеријална имовина",null,null,null,null,null,null,null,null,null,null,null,null,null,null,null,null,null,null,{"$f":"UnObr2!D324","v":0},null,null,null,null,null,null,null,null,{"$f":"UnObr2!E324","v":0}]
[2323,null,null,520000,null,null,null,"ЗАЛИХЕ (2324 + 2326 + 2330)",null,null,null,null,null,null,null,null,null,null,null,null,null,null,null,null,null,null,{"$f":"UnObr2!D325","v":0},null,null,null,null,null,null,null,null,{"$f":"UnObr2!E325","v":0}]
[2324,null,null,521000,null,null,null,"РОБНЕ РЕЗЕРВЕ (2325)",null,null,null,null,null,null,null,null,null,null,null,null,null,null,null,null,null,null,{"$f":"UnObr2!D326","v":0},null,null,null,null,null,null,null,null,{"$f":"UnObr2!E326","v":0}]
[2325,null,null,521100,null,null,null,"Робне резерве",null,null,null,null,null,null,null,null,null,null,null,null,null,null,null,null,null,null,{"$f":"UnObr2!D327","v":0},null,null,null,null,null,null,null,null,{"$f":"UnObr2!E327","v":0}]
[2326,null,null,522000,null,null,null,"ЗАЛИХЕ ПРОИЗВОДЊЕ (од 2327 до 2329)",null,null,null,null,null,null,null,null,null,null,null,null,null,null,null,null,null,null,{"$f":"UnObr2!D328","v":0},null,null,null,null,null,null,null,null,{"$f":"UnObr2!E328","v":0}]
[2327,null,null,522100,null,null,null,"Залихе материјала",null,null,null,null,null,null,null,null,null,null,null,null,null,null,null,null,null,null,{"$f":"UnObr2!D329","v":0},null,null,null,null,null,null,null,null,{"$f":"UnObr2!E329","v":0}]
[2328,null,null,522200,null,null,null,"Залихе недовршене производње",null,null,null,null,null,null,null,null,null,null,null,null,null,null,null,null,null,null,{"$f":"UnObr2!D330","v":0},null,null,null,null,null,null,null,null,{"$f":"UnObr2!E330","v":0}]
[2329,null,null,522300,null,null,null,"Залихе готових производа",null,null,null,null,null,null,null,null,null,null,null,null,null,null,null,null,null,null,{"$f":"UnObr2!D331","v":0},null,null,null,null,null,null,null,null,{"$f":"UnObr2!E331","v":0}]
[2330,null,null,523000,null,null,null,"ЗАЛИХЕ РОБЕ ЗА ДАЉУ ПРОДАЈУ (2331)",null,null,null,null,null,null,null,null,null,null,null,null,null,null,null,null,null,null,{"$f":"UnObr2!D332","v":0},null,null,null,null,null,null,null,null,{"$f":"UnObr2!E332","v":0}]
[2331,null,null,523100,null,null,null,"Залихе робе за даљу продају",null,null,null,null,null,null,null,null,null,null,null,null,null,null,null,null,null,null,{"$f":"UnObr2!D333","v":0},null,null,null,null,null,null,null,null,{"$f":"UnObr2!E333","v":0}]
[2332,null,null,530000,null,null,null,"ДРАГОЦЕНОСТИ (2333)",null,null,null,null,null,null,null,null,null,null,null,null,null,null,null,null,null,null,{"$f":"UnObr2!D334","v":0},null,null,null,null,null,null,null,null,{"$f":"UnObr2!E334","v":0}]
[2333,null,null,531000,null,null,null,"ДРАГОЦЕНОСТИ (2334)",null,null,null,null,null,null,null,null,null,null,null,null,null,null,null,null,null,null,{"$f":"UnObr2!D335","v":0},null,null,null,null,null,null,null,null,{"$f":"UnObr2!E335","v":0}]
[2334,null,null,531100,null,null,null,"Драгоцености",null,null,null,null,null,null,null,null,null,null,null,null,null,null,null,null,null,null,{"$f":"UnObr2!D336","v":0},null,null,null,null,null,null,null,null,{"$f":"UnObr2!E336","v":0}]
[2335,null,null,540000,null,null,null,"ПРИРОДНА ИМОВИНА (2336 + 2338 + 2340)",null,null,null,null,null,null,null,null,null,null,null,null,null,null,null,null,null,null,{"$f":"UnObr2!D337","v":0},null,null,null,null,null,null,null,null,{"$f":"UnObr2!E337","v":0}]
[2336,null,null,541000,null,null,null,"ЗЕМЉИШТЕ (2337)",null,null,null,null,null,null,null,null,null,null,null,null,null,null,null,null,null,null,{"$f":"UnObr2!D338","v":0},null,null,null,null,null,null,null,null,{"$f":"UnObr2!E338","v":0}]
[2337,null,null,541100,null,null,null,"Земљиште",null,null,null,null,null,null,null,null,null,null,null,null,null,null,null,null,null,null,{"$f":"UnObr2!D339","v":0},null,null,null,null,null,null,null,null,{"$f":"UnObr2!E339","v":0}]
[2338,null,null,542000,null,null,null,"РУДНА БОГАТСТВА (2339)",null,null,null,null,null,null,null,null,null,null,null,null,null,null,null,null,null,null,{"$f":"UnObr2!D340","v":0},null,null,null,null,null,null,null,null,{"$f":"UnObr2!E340","v":0}]
[2339,null,null,542100,null,null,null,"Копови",null,null,null,null,null,null,null,null,null,null,null,null,null,null,null,null,null,null,{"$f":"UnObr2!D341","v":0},null,null,null,null,null,null,null,null,{"$f":"UnObr2!E341","v":0}]
[2340,null,null,543000,null,null,null,"ШУМЕ И ВОДЕ (2341 + 2342)",null,null,null,null,null,null,null,null,null,null,null,null,null,null,null,null,null,null,{"$f":"UnObr2!D342","v":0},null,null,null,null,null,null,null,null,{"$f":"UnObr2!E342","v":0}]
[2341,null,null,543100,null,null,null,"Шуме",null,null,null,null,null,null,null,null,null,null,null,null,null,null,null,null,null,null,{"$f":"UnObr2!D343","v":0},null,null,null,null,null,null,null,null,{"$f":"UnObr2!E343","v":0}]
[2342,null,null,543200,null,null,null,"Воде",null,null,null,null,null,null,null,null,null,null,null,null,null,null,null,null,null,null,{"$f":"UnObr2!D344","v":0},null,null,null,null,null,null,null,null,{"$f":"UnObr2!E344","v":0}]
[2343,null,null,550000,null,null,null,"НЕФИНАНСИЈСКА ИМОВИНА КОЈА СЕ\nФИНАНСИРА ИЗ СРЕДСТАВА ЗА РЕАЛИЗАЦИЈУ НАЦИОНАЛНОГ ИНВЕСТИЦИОНОГ ПЛАНА (2344)",null,null,null,null,null,null,null,null,null,null,null,null,null,null,null,null,null,null,{"$f":"UnObr2!D345","v":0},null,null,null,null,null,null,null,null,{"$f":"UnObr2!E345","v":0}]
[2344,null,null,551000,null,null,null,"НЕФИНАНСИЈСКА ИМОВИНА КОЈА СЕ ФИНАНСИРА ИЗ СРЕДСТАВА ЗА РЕАЛИЗАЦИЈУ НАЦИОНАЛНОГ ИНВЕСТИЦИОНОГ ПЛАНА (2345)",null,null,null,null,null,null,null,null,null,null,null,null,null,null,null,null,null,null,{"$f":"UnObr2!D346","v":0},null,null,null,null,null,null,null,null,{"$f":"UnObr2!E346","v":0}]
[2345,null,null,551100,null,null,null,"Нефинансијска имовина која се финансира из средстава \nза реализацију националног инвестиционог плана",null,null,null,null,null,null,null,null,null,null,null,null,null,null,null,null,null,null,{"$f":"UnObr2!D347","v":0},null,null,null,null,null,null,null,null,{"$f":"UnObr2!E347","v":0}]
[null,null,null,null,null,null,null,"УТВРЂИВАЊЕ РЕЗУЛТАТА ПОСЛОВАЊА ",null,null,null,null,null,null,null,null,null,null,null,null,null,null,null,null,null,null,{"$f":"UnObr2!D348","v":0},null,null,null,null,null,null,null,null,{"$f":"UnObr2!E348","v":0}]
["2346",null,null,null,null,null,null,"Вишак прихода и примања - буџетски суфицит \n(2001 - 2131) > 0",null,null,null,null,null,null,null,null,null,null,null,null,null,null,null,null,null,null,{"$f":"UnObr2!D349","v":0},null,null,null,null,null,null,null,null,{"$f":"UnObr2!E349","v":5}]
["2347",null,null,null,null,null,null,"Мањак прихода и примања - буџетски дефицит \n(2131 - 2001) > 0",null,null,null,null,null,null,null,null,null,null,null,null,null,null,null,null,null,null,{"$f":"UnObr2!D350","v":2173},null,null,null,null,null,null,null,null,{"$f":"UnObr2!E350","v":0}]
["2348",null,null,null,null,null,null,"КОРИГОВАЊЕ ВИШКА, ОДНОСНО МАЊКА ПРИХОДА И ПРИМАЊА (од 2349 до 2353)",null,null,null,null,null,null,null,null,null,null,null,null,null,null,null,null,null,null,{"$f":"UnObr2!D351","v":2173},null,null,null,null,null,null,null,null,{"$f":"UnObr2!E351","v":0}]
["2349",null,null,null,null,null,null,"Део нераспоређеног вишка прихода и примања из \nранијих година који је коришћен за покриће расхода и издатака текуће године",null,null,null,null,null,null,null,null,null,null,null,null,null,null,null,null,null,null,{"$f":"UnObr2!D352","v":2173},null,null,null,null,null,null,null,null,{"$f":"UnObr2!E352","v":0}]
["2350",null,null,null,null,null,null,"Део новчаних средстава амортизације који је коришћен \nза набавку нефинансијске имовине",null,null,null,null,null,null,null,null,null,null,null,null,null,null,null,null,null,null,{"$f":"UnObr2!D353","v":0},null,null,null,null,null,null,null,null,{"$f":"UnObr2!E353","v":0}]
["2351",null,null,null,null,null,null,"Део пренетих неутрошених средстава из ранијих \nгодина коришћен за покриће расхода и издатака текуће \nгодине",null,null,null,null,null,null,null,null,null,null,null,null,null,null,null,null,null,null,{"$f":"UnObr2!D354","v":0},null,null,null,null,null,null,null,null,{"$f":"UnObr2!E354","v":0}]
["2352",null,null,null,null,null,null,"Износ расхода и издатака за нефинансијску имовину, финансираних из кредита",null,null,null,null,null,null,null,null,null,null,null,null,null,null,null,null,null,null,{"$f":"UnObr2!D355","v":0},null,null,null,null,null,null,null,null,{"$f":"UnObr2!E355","v":0}]
["2353",null,null,null,null,null,null,"Износ приватизационих примања и примања од отплате датих кредита коришћен за покриће расхода и издатака текуће године",null,null,null,null,null,null,null,null,null,null,null,null,null,null,null,null,null,null,{"$f":"UnObr2!D356","v":0},null,null,null,null,null,null,null,null,{"$f":"UnObr2!E356","v":0}]
["2354",null,null,null,null,null,null,"ПОКРИЋЕ ИЗВРШЕНИХ ИЗДАТАКА ИЗ \nТЕКУЋИХ ПРИХОДА И ПРИМАЊА (2355 + 2356)",null,null,null,null,null,null,null,null,null,null,null,null,null,null,null,null,null,null,{"$f":"UnObr2!D357","v":0},null,null,null,null,null,null,null,null,{"$f":"UnObr2!E357","v":0}]
["2355",null,null,null,null,null,null,"Утрошена средства текућих прихода и примања од \nпродаје нефинансијске имовине за отплату обавеза по \nкредитима",null,null,null,null,null,null,null,null,null,null,null,null,null,null,null,null,null,null,{"$f":"UnObr2!D358","v":0},null,null,null,null,null,null,null,null,{"$f":"UnObr2!E358","v":0}]
["2356",null,null,null,null,null,null,"Утрошена средства текућих прихода и примања од \nпродаје нефинансијске имовине за набавку финансијске \nимовине",null,null,null,null,null,null,null,null,null,null,null,null,null,null,null,null,null,null,{"$f":"UnObr2!D359","v":0},null,null,null,null,null,null,null,null,{"$f":"UnObr2!E359","v":0}]
["2357",null,null,321121,null,null,null,"ВИШАК ПРИХОДА И ПРИМАЊА – СУФИЦИТ \n(2346 + 2348 - 2354)  > 0 или (2348 - 2347 - 2354) > 0",null,null,null,null,null,null,null,null,null,null,null,null,null,null,null,null,null,null,{"$f":"UnObr2!D360","v":0},null,null,null,null,null,null,null,null,{"$f":"UnObr2!E360","v":5}]
["2358",null,null,321122,null,null,null,"МАЊАК ПРИХОДА И ПРИМАЊА - ДЕФИЦИТ \n(2347 - 2348 + 2354) > 0",null,null,null,null,null,null,null,null,null,null,null,null,null,null,null,null,null,null,{"$f":"UnObr2!D361","v":0},null,null,null,null,null,null,null,null,{"$f":"UnObr2!E361","v":0}]
["2359",null,null,null,null,null,null,"ВИШАК ПРИХОДА И ПРИМАЊА – СУФИЦИТ (ЗА ПРЕНОС У НАРЕДНУ ГОДИНУ) (2360 + 2361 = 2357)",null,null,null,null,null,null,null,null,null,null,null,null,null,null,null,null,null,null,{"$f":"UnObr2!D362","v":0},null,null,null,null,null,null,null,null,{"$f":"UnObr2!E362","v":0}]
["2360",null,null,null,null,null,null,"Део вишка прихода и примања наменски опредељен за наредну годину",null,null,null,null,null,null,null,null,null,null,null,null,null,null,null,null,null,null,{"$f":"UnObr2!D363","v":0},null,null,null,null,null,null,null,null,{"$f":"UnObr2!E363","v":0}]
["2361",null,null,null,null,null,null,"Нераспоређени део вишка прихода и примања за \nпренос у наредну годину ",null,null,null,null,null,null,null,null,null,null,null,null,null,null,null,null,null,null,{"$f":"UnObr2!D364","v":0},null,null,null,null,null,null,null,null,{"$f":"UnObr2!E364","v":0}]
[]
[null,null,null,null,null,null,null,null,null,null,null,null,null,null,null,null,"Лице одговорно за\nпопуњавање обрасца ",null,null,null,null,null,null,null,null,null,null,null,null,null,null,null,null,null,"Наредбодавац"]
["Датум, ",null,null,{"$f":"Podaci!E21","v":"23.02.2018."},null,null,null,null,". године"]

{"sheet":"UnObr3","index":6,"n_rows":165,"n_cols":7,"rows_kept":165,"cut":false,"hidden":false,"merged":[[0,3,0,4],[0,2,1,2],[0,0,1,0],[0,1,1,1]]}
["Ознака ОП","Конто","Опис","Износ",null,null,"Штампа"]
[null,null,null,"Претходна година","Текућа година"]
[3001,null,"ПРИМАЊА (3002 + 3027)",{"$f":"D4+D29","v":0},{"$f":"E4+E29","v":0}]
[3002,800000,"ПРИМАЊА ОД ПРОДАЈЕ НЕФИНАНСИЈСКЕ ИМОВИНЕ (3003 + 3010 + 3017 + 3020)",{"$f":"D5+D12+D19+D22","v":0},{"$f":"E5+E12+E19+E22","v":0}]
[3003,810000,"ПРИМАЊА ОД ПРОДАЈЕ ОСНОВНИХ СРЕДСТАВА (3004 + 3006 + 3008)",{"$f":"D6+D8+D10","v":0},{"$f":"E6+E8+E10","v":0}]
[3004,811000,"ПРИМАЊА ОД ПРОДАЈЕ НЕПОКРЕТНОСТИ (3005)",{"$f":"D7","v":0},{"$f":"E7","v":0}]
[3005,811100,"Примања од продаје непокретности"]
[3006,812000,"ПРИМАЊА ОД ПРОДАЈЕ ПОКРЕТНЕ ИМОВИНЕ (3007)",{"$f":"D9","v":0},{"$f":"E9","v":0}]
[3007,812100,"Примања од продаје покретне имовине"]
[3008,813000,"ПРИМАЊА ОД ПРОДАЈЕ ОСТАЛИХ ОСНОВНИХ СРЕДСТАВА (3009)",{"$f":"D11","v":0},{"$f":"E11","v":0}]
[3009,813100,"Примања од продаје осталих основних средстава"]
[3010,820000,"ПРИМАЊА ОД ПРОДАЈЕ ЗАЛИХА (3011 + 3013 + 3015)",{"$f":"D13+D15+D17","v":0},{"$f":"E13+E15+E17","v":0}]
[3011,821000,"ПРИМАЊА ОД ПРОДАЈЕ РОБНИХ РЕЗЕРВИ (3012)",{"$f":"D14","v":0},{"$f":"E14","v":0}]
[3012,821100,"Примања од продаје робних резерви"]
[3013,822000,"ПРИМАЊА ОД ПРОДАЈЕ ЗАЛИХА ПРОИЗВОДЊЕ (3014)",{"$f":"D16","v":0},{"$f":"E16","v":0}]
[3014,822100,"Примања од продаје залиха производње"]
[3015,823000,"ПРИМАЊА ОД ПРОДАЈЕ РОБЕ ЗА ДАЉУ ПРОДАЈУ (3016)",{"$f":"D18","v":0},{"$f":"E18","v":0}]
[3016,823100,"Примања од продаје робе за даљу продају"]
[3017,830000,"ПРИМАЊА ОД ПРОДАЈЕ ДРАГОЦЕНОСТИ (3018)",{"$f":"D20","v":0},{"$f":"E20","v":0}]
[3018,831000,"ПРИМАЊА ОД ПРОДАЈЕ ДРАГОЦЕНОСТИ (3019)",{"$f":"D21","v":0},{"$f":"E21","v":0}]
[3019,831100,"Примања од продаје драгоцености"]
[3020,840000,"ПРИМАЊА ОД ПРОДАЈЕ ПРИРОДНЕ ИМОВИНЕ (3021 + 3023 + 3025)",{"$f":"D23+D25+D27","v":0},{"$f":"E23+E25+E27","v":0}]
[3021,841000,"ПРИМАЊА ОД ПРОДАЈЕ ЗЕМЉИШТА (3022)",{"$f":"D24","v":0},{"$f":"E24","v":0}]
[3022,841100,"Примања од продаје земљишта"]
[3023,842000,"ПРИМАЊА ОД ПРОДАЈЕ ПОДЗЕМНИХ БЛАГА (3024)",{"$f":"D26","v":0},{"$f":"E26","v":0}]
[3024,842100,"Примања од продаје подземних блага"]
[3025,843000,"ПРИМАЊА ОД ПРОДАЈЕ ШУМА И ВОДА (3026)",{"$f":"D28","v":0},{"$f":"E28","v":0}]
[3026,843100,"Примања од продаје шума и вода"]
[3027,900000,"ПРИМАЊА ОД ЗАДУЖИВАЊА И ПРОДАЈЕ ФИНАНСИЈСКЕ ИМОВИНЕ (3028 + 3047)",{"$f":"D30+D49","v":0},{"$f":"E30+E49","v":0}]
[3028,910000,"ПРИМАЊА ОД ЗАДУЖИВАЊА (3029 + 3039)",{"$f":"D31+D41","v":0},{"$f":"E31+E41","v":0}]
[3029,911000,"ПРИМАЊА ОД ДОМАЋИХ ЗАДУЖИВАЊА \n(од 3030 до 3038)",{"$f":"SUM(D32:D40)","v":0},{"$f":"SUM(E32:E40)","v":0}]
[3030,911100,"Примања од емитовања домаћих хартија од вредности, изузев акција"]
[3031,911200,"Примања од задуживања од осталих нивоа власти"]
[3032,911300,"Примања од задуживања од јавних финансијских институција у земљи"]
[3033,911400,"Примања од задуживања од пословних банака у земљи"]
[3034,911500,"Примања од задуживања од осталих поверилаца у земљи"]
[3035,911600,"Примања од задуживања од домаћинстава у земљи"]
[3036,911700,"Примања од домаћих финансијских деривата"]
[3037,911800,"Примања од домаћих меница"]
[3038,911900,"Исправка унутрашњег дуга"]
[3039,912000,"ПРИМАЊА ОД ИНОСТРАНОГ ЗАДУЖИВАЊА (од 3040 до 3046)",{"$f":"SUM(D42:D48)","v":0},{"$f":"SUM(E42:E48)","v":0}]
[3040,912100,"Примања од емитовања хартија од вредности, изузев акција, на иностраном финансијском тржишту"]
[3041,912200,"Примања од задуживања од иностраних држава"]
[3042,912300,"Примања од задуживања од мултилатералних институција"]
[3043,912400,"Примања од задуживања од иностраних пословних банака "]
[3044,912500,"Примања од задуживања од осталих иностраних поверилаца"]
[3045,912600,"Примања од иностраних финансијских деривата"]
[3046,912900,"Исправка спољног дуга"]
[3047,920000,"ПРИМАЊА ОД ПРОДАЈЕ ФИНАНСИЈСКЕ ИМОВИНЕ (3048 + 3058)",{"$f":"D50+D60","v":0},{"$f":"E50+E60","v":0}]
[3048,921000,"ПРИМАЊА ОД ПРОДАЈЕ ДОМАЋЕ \nФИНАНСИЈСКЕ ИМОВИНЕ (од 3049 до 3057) ",{"$f":"SUM(D51:D59)","v":0},{"$f":"SUM(E51:E59)","v":0}]
[3049,921100,"Примања од продаје домаћих хартија од вредности, изузев акција"]
[3050,921200,"Примања од отплате кредита датих осталим нивоима власти"]
[3051,921300,"Примања од отплате кредита датих домаћим јавним финансијским институцијама"]
[3052,921400,"Примања од отплате кредита датих домаћим пословним банкама"]
[3053,921500,"Примања од отплате кредита датих домаћим јавним нефинансијским институцијама"]
[3054,921600,"Примања од отплате кредита датих физичким лицима и домаћинствима у земљи"]
[3055,921700,"Примања од отплате кредита датих удружењима грађана у земљи"]
[3056,921800,"Примања од отплате кредита датих нефинансијским приватним предузећима у земљи"]
[3057,921900,"Примања од продаје домаћих акција и осталог капитала"]
[3058,922000,"ПРИМАЊА ОД ПРОДАЈЕ СТРАНЕ \nФИНАНСИЈСКЕ ИМОВИНЕ (од 3059 до 3066)",{"$f":"SUM(D61:D68)","v":0},{"$f":"SUM(E61:E68)","v":0}]
[3059,922100,"Примања од продаје страних хартија од вредности, изузев акција"]
[3060,922200,"Примања од отплате кредита датих страним владама"]
[3061,922300,"Примања од отплате кредита датих међународним организацијама"]
[3062,922400,"Примања од отплате кредита датих страним пословним банкама"]
[3063,922500,"Примања од отплате кредита датих страним нефинансијским институцијама"]
[3064,922600,"Примања од отплате кредита датих страним невладиним организацијама"]
[3065,922700,"Примања од продаје страних акција и осталог капитала"]
[3066,922800,"Примања од продаје стране валуте"]
[3067,null,"ИЗДАЦИ (3068 + 3114)",{"$f":"D70+D116","v":2576},{"$f":"E70+E116","v":1301}]
[3068,500000,"ИЗДАЦИ ЗА НЕФИНАНСИЈСКУ ИМОВИНУ \n(3069 + 3091 + 3100 + 3103 + 3111)",{"$f":"D71+D93+D102+D105+D113","v":2576},{"$f":"E71+E93+E102+E105+E113","v":1301}]
[3069,510000,"ОСНОВНА СРЕДСТВА (3070 + 3075 + 3085 + 3087 + 3089)",{"$f":"D72+D77+D87+D89+D91","v":2576},{"$f":"E72+E77+E87+E89+E91","v":1301}]
[3070,511000,"ЗГРАДЕ И ГРАЂЕВИНСКИ ОБЈЕКТИ \n(од 3071 до 3074)",{"$f":"SUM(D73:D76)","v":0},{"$f":"SUM(E73:E76)","v":0}]
[3071,511100,"Куповина зграда и објеката"]
[3072,511200,"Изградња зграда и објеката"]
[3073,511300,"Капитално одржавање зграда и објеката"]
[3074,511400,"Пројектно планирање"]
[3075,512000,"МАШИНЕ И ОПРЕМА (од 3076 до 3084)",{"$f":"SUM(D78:D86)","v":2576},{"$f":"SUM(E78:E86)","v":1301}]
[3076,512100,"Опрема за саобраћај"]
[3077,512200,"Административна опрема",2204,896]
[3078,512300,"Опрема за пољопривреду"]
[3079,512400,"Опрема за заштиту животне средине"]
[3080,512500,"Медицинска и лабораторијска опрема"]
[3081,512600,"Опрема за образовање, културу и спорт",333,405]
[3082,512700,"Опрема за војску"]
[3083,512800,"Опрема за јавну безбедност",39]
[3084,512900,"Опрема за производњу, моторна, непокретна и немоторна опрема"]
[3085,513000,"ОСТАЛЕ НЕКРЕТНИНЕ И ОПРЕМА (3086)",{"$f":"D88","v":0},{"$f":"E88","v":0}]
[3086,513100,"Остале некретнине и опрема"]
[3087,514000,"КУЛТИВИСАНА ИМОВИНА (3088)",{"$f":"D90","v":0},{"$f":"E90","v":0}]
[3088,514100,"Култивисана имовина"]
[3089,515000,"НЕМАТЕРИЈАЛНА ИМОВИНА (3090)",{"$f":"D92","v":0},{"$f":"E92","v":0}]
[3090,515100,"Нематеријална имовина"]
[3091,520000,"ЗАЛИХЕ (3092 + 3094 + 3098)",{"$f":"D94+D96+D100","v":0},{"$f":"E94+E96+E100","v":0}]
[3092,521000,"РОБНЕ РЕЗЕРВЕ (3093)",{"$f":"D95","v":0},{"$f":"E95","v":0}]
[3093,521100,"Робне резерве"]
[3094,522000,"ЗАЛИХЕ ПРОИЗВОДЊЕ (од 3095 до 3097)",{"$f":"SUM(D97:D99)","v":0},{"$f":"SUM(E97:E99)","v":0}]
[3095,522100,"Залихе материјала"]
[3096,522200,"Залихе недовршене производње"]
[3097,522300,"Залихе готових производа"]
[3098,523000,"ЗАЛИХЕ РОБЕ ЗА ДАЉУ ПРОДАЈУ (3099)",{"$f":"D101","v":0},{"$f":"E101","v":0}]
[3099,523100,"Залихе робе за даљу продају"]
[3100,530000,"ДРАГОЦЕНОСТИ (3101)",{"$f":"D103","v":0},{"$f":"E103","v":0}]
[3101,531000,"ДРАГОЦЕНОСТИ (3102)",{"$f":"D104","v":0},{"$f":"E104","v":0}]
[3102,531100,"Драгоцености"]
[3103,540000,"ПРИРОДНА ИМОВИНА (3104 + 3106 + 3108)",{"$f":"D106+D108+D110","v":0},{"$f":"E106+E108+E110","v":0}]
[3104,541000,"ЗЕМЉИШТЕ (3105)",{"$f":"D107","v":0},{"$f":"E107","v":0}]
[3105,541100,"Земљиште"]
[3106,542000,"РУДНА БОГАТСТВА (3107)",{"$f":"D109","v":0},{"$f":"E109","v":0}]
[3107,542100,"Копови"]
[3108,543000,"ШУМЕ И ВОДЕ (3109 + 3110)",{"$f":"D111+D112","v":0},{"$f":"E111+E112","v":0}]
[3109,543100,"Шуме"]
[3110,543200,"Воде"]
[3111,550000,"НЕФИНАНСИЈСКА ИМОВИНА КОЈА СЕ ФИНАНСИРА ИЗ СРЕДСТАВА ЗА РЕАЛИЗАЦИЈУ НАЦИОНАЛНОГ ИНВЕСТИЦИОНОГ ПЛАНА (3112)",{"$f":"D114","v":0},{"$f":"E114","v":0}]
[3112,551000,"НЕФИНАНСИЈСКА ИМОВИНА КОЈА СЕ ФИНАНСИРА ИЗ СРЕДСТАВА ЗА РЕАЛИЗАЦИЈУ НАЦИОНАЛНОГ ИНВЕСТИЦИОНОГ ПЛАНА (3113)",{"$f":"D115","v":0},{"$f":"E115","v":0}]
[3113,551100,"Нефинансијска имовина која се финансира из средстава за реализацију националног инвестиционог плана"]
[3114,600000,"ИЗДАЦИ ЗА ОТПЛАТУ ГЛАВНИЦЕ И НАБАВКУ ФИНАНСИЈСКЕ ИМОВИНЕ (3115 + 3140)",{"$f":"D117+D142","v":0},{"$f":"E117+E142","v":0}]
[3115,610000,"ОТПЛАТА ГЛАВНИЦЕ (3116 + 3126 + 3134 + 3136 + 3138)",{"$f":"D118+D128+D136+D138+D140","v":0},{"$f":"E118+E128+E136+E138+E140","v":0}]
[3116,611000,"ОТПЛАТА ГЛАВНИЦЕ ДОМАЋИМ КРЕДИТОРИМА (од 3117 до 3125)",{"$f":"SUM(D119:D127)","v":0},{"$f":"SUM(E119:E127)","v":0}]
[3117,611100,"Отплата главнице на домаће хартије од вредности, изузев акција"]
[3118,611200,"Отплата главнице осталим нивоима власти"]
[3119,611300,"Отплата главнице домаћим јавним финансијским институцијама"]
[3120,611400,"Отплата главнице домаћим пословним банкама"]
[3121,611500,"Отплата главнице осталим домаћим кредиторима"]
[3122,611600,"Отплата главнице домаћинствима у земљи"]
[3123,611700,"Отплата главнице на домаће финансијске деривате "]
[3124,611800,"Отплата домаћих меница"]
[3125,611900,"Исправка унутрашњег дуга"]
[3126,612000,"ОТПЛАТА ГЛАВНИЦЕ СТРАНИМ КРЕДИТОРИМА (од 3127 до 3133)",{"$f":"SUM(D129:D135)","v":0},{"$f":"SUM(E129:E135)","v":0}]
[3127,612100,"Отплата главнице на хартије од вредности, изузев акција, емитоване на иностраном финансијском тржишту "]
[3128,612200,"Отплата главнице страним владама"]
[3129,612300,"Отплата главнице мултилатералним институцијама"]
[3130,612400,"Отплата главнице страним пословним банкама"]
[3131,612500,"Отплата главнице осталим страним кредиторима"]
[3132,612600,"Отплата главнице на стране финансијске деривате"]
[3133,612900,"Исправка спољног дуга"]
[3134,613000,"ОТПЛАТА ГЛАВНИЦЕ ПО ГАРАНЦИЈАМА (3135)",{"$f":"D137","v":0},{"$f":"E137","v":0}]
[3135,613100,"Отплата главнице по гаранцијама"]
[3136,614000,"ОТПЛАТА ГЛАВНИЦЕ ЗА ФИНАНСИЈСКИ ЛИЗИНГ (3137)",{"$f":"D139","v":0},{"$f":"E139","v":0}]
[3137,614100,"Отплата главнице за финансијски лизинг"]
[3138,615000,"ОТПЛАТА ГАРАНЦИЈА ПО КОМЕРЦИЈАЛНИМ ТРАНСАКЦИЈАМА (3139)",{"$f":"D141","v":0},{"$f":"E141","v":0}]
[3139,615100,"Отплата гаранција по комерцијалним трансакцијама"]
[3140,620000,"НАБАВКА ФИНАНСИЈСКЕ ИМОВИНЕ (3141 + 3151 + 3160)",{"$f":"D143+D153+D162","v":0},{"$f":"E143+E153+E162","v":0}]
[3141,621000,"НАБАВКА ДОМАЋЕ ФИНАНСИЈСКЕ ИМОВИНЕ (од 3142 до 3150)",{"$f":"SUM(D144:D152)","v":0},{"$f":"SUM(E144:E152)","v":0}]
[3142,621100,"Набавка домаћих хартија од вредности, изузев акција"]
[3143,621200,"Кредити осталим нивоима власти"]
[3144,621300,"Кредити домаћим јавним финансијским институцијама"]
[3145,621400,"Кредити домаћим пословним банкама"]
[3146,621500,"Кредити домаћим нефинансијским јавним институцијама"]
[3147,621600,"Кредити физичким лицима и домаћинствима у земљи"]
[3148,621700,"Кредити невладиним организацијама у земљи"]
[3149,621800,"Кредити домаћим нефинансијским приватним предузећима"]
[3150,621900,"Набавка домаћих акција и осталог капитала"]
[3151,622000,"НАБАВКА СТРАНЕ ФИНАНСИЈСКЕ ИМОВИНЕ (од 3152 до 3159)",{"$f":"SUM(D154:D161)","v":0},{"$f":"SUM(E154:E161)","v":0}]
[3152,622100,"Набавка страних хартија од вредности, изузев акција"]
[3153,622200,"Кредити страним владама"]
[3154,622300,"Кредити међународним организацијама"]
[3155,622400,"Кредити страним пословним банкама"]
[3156,622500,"Кредити страним нефинансијским институцијама"]
[3157,622600,"Кредити страним невладиним организацијама"]
[3158,622700,"Набавка страних акција и осталог капитала"]
[3159,622800,"Куповина стране валуте"]
[3160,623000,"НАБАВКА ФИНАНСИЈСКЕ ИМОВИНЕ КОЈА СЕ ФИНАНСИРА ИЗ СРЕДСТАВА ЗА РЕАЛИЗАЦИЈУ НАЦИОНАЛНОГ ИНВЕСТИЦИОНОГ ПЛАНА (3161)",{"$f":"D163","v":0},{"$f":"E163","v":0}]
[3161,623100,"Набавка финансијске имовине која се финансира из средстава за реализацију националног инвестиционог плана"]
[3162,null,"ВИШАК ПРИМАЊА (3001 – 3067) > 0",{"$f":"IF(D3>D69,D3-D69,0)","v":0},{"$f":"IF(E3>E69,E3-E69,0)","v":0}]
[3163,null,"МАЊАК ПРИМАЊА (3067 – 3001) > 0",{"$f":"IF(D69>D3,D69-D3,0)","v":2576},{"$f":"IF(E69>E3,E69-E3,0)","v":1301}]

{"sheet":"StObr3","index":7,"n_rows":193,"n_cols":44,"rows_kept":193,"cut":false,"hidden":false,"merged":[[0,37,0,42],[1,0,1,43],[4,0,5,2],[4,4,5,9],[4,11,5,18],[4,20,5,24],[4,26,5,30],[4,32,5,32],[4,34,5,43],[7,1,7,24],[8,1,8,42],[10,1,10,6],[10,7,10,15],[10,17,10,23],[10,25,10,37],[12,1,12,3],[12,4,12,15],[12,17,12,24],[12,25,12,40],[14,1,14,39],[15,1,15,41],[16,1,16,41],[19,5,19,37],[20,10,20,15],[20,21,20,22],[20,28,20,30],[20,16,20,20],[20,23,20,26],[21,36,21,43],[22,0,25,2],[22,3,25,6],[22,7,25,25],[22,26,23,43],[24,26,25,34],[24,35,25,43],[26,0,26,2],[26,3,26,6],[26,7,26,25],[26,26,26,34],[26,35,26,43],[27,0,27,2],[27,3,27,6],[27,7,27,25],[27,26,27,34],[27,35,27,43],[28,0,28,2],[28,3,28,6],[28,7,28,25],[28,26,28,34],[28,35,28,43],[29,0,29,2],[29,3,29,6],[29,7,29,25],[29,26,29,34],[29,35,29,43],[30,0,30,2],[30,3,30,6],[30,7,30,25],[30,26,30,34],[30,35,30,43],[31,0,31,2],[31,3,31,6],[31,7,31,25],[31,26,31,34],[31,35,31,43],[32,0,32,2],[32,3,32,6],[32,7,32,25],[32,26,32,34],[32,35,32,43],[33,0,33,2],[33,3,33,6],[33,7,33,25],[33,26,33,34],[33,35,33,43],[34,0,34,2],[34,3,34,6],[34,7,34,25],[34,26,34,34],[34,35,34,43],[35,0,35,2],[35,3,35,6],[35,7,35,25],[35,26,35,34],[35,35,35,43],[36,0,36,2],[36,3,36,6],[36,7,36,25],[36,26,36,34],[36,35,36,43],[37,0,37,2],[37,3,37,6],[37,7,37,25],[37,26,37,34],[37,35,37,43],[38,0,38,2],[38,3,38,6],[38,7,38,25],[38,26,38,34],[38,35,38,43],[39,0,39,2],[39,3,39,6],[39,7,39,25],[39,26,39,34],[39,35,39,43],[40,0,40,2],[40,3,40,6],[40,7,40,25],[40,26,40,34],[40,35,40,43],[41,0,41,2],[41,3,41,6],[41,7,41,25],[41,26,41,34],[41,35,41,43],[42,0,42,2],[42,3,42,6],[42,7,42,25],[42,26,42,34],[42,35,42,43],[43,0,43,2],[43,3,43,6],[43,7,43,25],[43,26,43,34],[43,35,43,43],[44,0,44,2],[44,3,44,6],[44,7,44,25],[44,26,44,34],[44,35,44,43],[45,0,45,2],[45,3,45,6],[45,7,45,25],[45,26,45,34],[45,35,45,43],[46,0,46,2],[46,3,46,6],[46,7,46,25],[46,26,46,34],[46,35,46,43],[47,0,47,2],[47,3,47,6],[47,7,47,25],[47,26,47,34],[47,35,47,43],[48,0,48,2],[48,3,48,6],[48,7,48,25],[48,26,48,34],[48,35,48,43],[49,0,49,2],[49,3,49,6],[49,7,49,25],[49,26,49,34],[49,35,49,43],[50,0,50,2],[50,3,50,6],[50,7,50,25],[50,26,50,34],[50,35,50,43],[51,0,51,2],[51,3,51,6],[51,7,51,25],[51,26,51,34],[51,35,51,43],[52,0,52,2],[52,3,52,6],[52,7,52,25],[52,26,52,34],[52,35,52,43],[53,0,53,2],[53,3,53,6],[53,7,53,25],[53,26,53,34],[53,35,53,43],[54,0,54,2],[54,3,54,6],[54,7,54,25],[54,26,54,34],[54,35,54,43],[55,0,55,2],[55,3,55,6],[55,7,55,25],[55,26,55,34],[55,35,55,43],[56,0,56,2],[56,3,56,6],[56,7,56,25],[56,26,56,34],[56,35,56,43],[57,0,57,2],[57,3,57,6],[57,7,57,25],[57,26,57,34],[57,35,57,43],[58,0,58,2],[58,3,58,6],[58,7,58,25],[58,26,58,34],[58,35,58,43],[59,0,59,2],[59,3,59,6],[59,7,59,25],[59,26,59,34],[59,35,59,43],[60,0,60,2],[60,3,60,6],[60,7,60,25],[60,26,60,34],[60,35,60,43],[61,0,61,2],[61,3,61,6],[61,7,61,25],[61,26,61,34],[61,35,61,43],[62,0,62,2],[62,3,62,6],[62,7,62,25],[62,26,62,34],[62,35,62,43],[63,0,63,2],[63,3,63,6],[63,7,63,25],[63,26,63,34],[63,35,63,43],[64,0,64,2],[64,3,64,6],[64,7,64,25],[64,26,64,34],[64,35,64,43],[65,0,65,2],[65,3,65,6],[65,7,65,25],[65,26,65,34],[65,35,65,43],[66,0,66,2],[66,3,66,6],[66,7,66,25],[66,26,66,34],[66,35,66,43],[67,0,67,2],[67,3,67,6],[67,7,67,25],[67,26,67,34],[67,35,67,43],[68,0,68,2],[68,3,68,6],[68,7,68,25],[68,26,68,34],[68,35,68,43],[69,0,69,2],[69,3,69,6],[69,7,69,25],[69,26,69,34],[69,35,69,43],[70,0,70,2],[70,3,70,6],[70,7,70,25],[70,26,70,34],[70,35,70,43],[71,0,71,2],[71,3,71,6],[71,7,71,25],[71,26,71,34],[71,35,71,43],[72,0,72,2],[72,3,72,6],[72,7,72,25],[72,26,72,34],[72,35,72,43],[73,0,73,2],[73,3,73,6],[73,7,73,25],[73,26,73,34],[73,35,73,43],[74,0,74,2],[74,3,74,6],[74,7,74,25],[74,26,74,34],[74,35,74,43],[75,0,75,2],[75,3,75,6],[75,7,75,25],[75,26,75,34],[75,35,75,43],[76,0,76,2],[76,3,76,6],[76,7,76,25],[76,26,76,34],[76,35,76,43],[77,0,77,2],[77,3,77,6],[77,7,77,25],[77,26,77,34],[77,35,77,43],[78,0,78,2],[78,3,78,6],[78,7,78,25],[78,26,78,34],[78,35,78,43],[79,0,79,2],[79,3,79,6],[79,7,79,25],[79,26,79,34],[79,35,79,43],[80,0,80,2],[80,3,80,6],[80,7,80,25],[80,26,80,34],[80,35,80,43],[81,0,81,2],[81,3,81,6],[81,7,81,25],[81,26,81,34],[81,35,81,43],[82,0,82,2],[82,3,82,6],[82,7,82,25],[82,26,82,34],[82,35,82,43],[83,0,83,2],[83,3,83,6],[83,7,83,25],[83,26,83,34],[83,35,83,43],[84,0,84,2],[84,3,84,6],[84,7,84,25],[84,26,84,34],[84,35,84,43],[85,0,85,2],[85,3,85,6],[85,7,85,25],[85,26,85,34],[85,35,85,43],[86,0,86,2],[86,3,86,6],[86,7,86,25],[86,26,86,34],[86,35,86,43],[87,0,87,2],[87,3,87,6],[87,7,87,25],[87,26,87,34],[87,35,87,43],[88,0,88,2],[88,3,88,6],[88,7,88,25],[88,26,88,34],[88,35,88,43],[89,0,89,2],[89,3,89,6],[89,7,89,25],[89,26,89,34],[89,35,89,43],[90,0,90,2],[90,3,90,6],[90,7,90,25],[90,26,90,34],[90,35,90,43],[91,0,91,2],[91,3,91,6],[91,7,91,25],[91,26,91,34],[91,35,91,43],[92,0,92,2],[92,3,92,6],[92,7,92,25],[92,26,92,34],[92,35,92,43],[93,0,93,2],[93,3,93,6],[93,7,93,25],[93,26,93,34],[93,35,93,43],[94,0,94,2],[94,3,94,6],[94,7,94,25],[94,26,94,34],[94,35,94,43],[95,0,95,2],[95,3,95,6],[95,7,95,25],[95,26,95,34],[95,35,95,43],[96,0,96,2],[96,3,96,6],[96,7,96,25],[96,26,96,34],[96,35,96,43],[97,0,97,2],[97,3,97,6],[97,7,97,25],[97,26,97,34],[97,35,97,43],[98,0,98,2],[98,3,98,6],[98,7,98,25],[98,26,98,34],[98,35,98,43],[99,0,99,2],[99,3,99,6],[99,7,99,25],[99,26,99,34],[99,35,99,43],[100,0,100,2],[100,3,100,6],[100,7,100,25],[100,26,100,34],[100,35,100,43],[101,0,101,2],[101,3,101,6],[101,7,101,25],[101,26,101,34],[101,35,101,43],[102,0,102,2],[102,3,102,6],[102,7,102,25],[102,26,102,34],[102,35,102,43],[103,0,103,2],[103,3,103,6],[103,7,103,25],[103,26,103,34],[103,35,103,43],[104,0,104,2],[104,3,104,6],[104,7,104,25],[104,26,104,34],[104,35,104,43],[105,0,105,2],[105,3,105,6],[105,7,105,25],[105,26,105,34],[105,35,105,43],[106,0,106,2],[106,3,106,6],[106,7,106,25],[106,26,106,34],[106,35,106,43],[107,0,107,2],[107,3,107,6],[107,7,107,25],[107,26,107,34],[107,35,107,43],[108,0,108,2],[108,3,108,6],[108,7,108,25],[108,26,108,34],[108,35,108,43],[109,0,109,2],[109,3,109,6],[109,7,109,25],[109,26,109,34],[109,35,109,43],[110,0,110,2],[110,3,110,6],[110,7,110,25],[110,26,110,34],[110,35,110,43],[111,0,111,2],[111,3,111,6],[111,7,111,25],[111,26,111,34],[111,35,111,43],[112,0,112,2],[112,3,112,6],[112,7,112,25],[112,26,112,34],[112,35,112,43],[113,0,113,2],[113,3,113,6],[113,7,113,25],[113,26,113,34],[113,35,113,43],[114,0,114,2],[114,3,114,6],[114,7,114,25],[114,26,114,34],[114,35,114,43],[115,0,115,2],[115,3,115,6],[115,7,115,25],[115,26,115,34],[115,35,115,43],[116,0,116,2],[116,3,116,6],[116,7,116,25],[116,26,116,34],[116,35,116,43],[117,0,117,2],[117,3,117,6],[117,7,117,25],[117,26,117,34],[117,35,117,43],[118,0,118,2],[118,3,118,6],[118,7,118,25],[118,26,118,34],[118,35,118,43],[119,0,119,2],[119,3,119,6],[119,7,119,25],[119,26,119,34],[119,35,119,43],[120,0,120,2],[120,3,120,6],[120,7,120,25],[120,26,120,34],[120,35,120,43],[121,0,121,2],[121,3,121,6],[121,7,121,25],[121,26,121,34],[121,35,121,43],[122,0,122,2],[122,3,122,6],[122,7,122,25],[122,26,122,34],[122,35,122,43],[123,0,123,2],[123,3,123,6],[123,7,123,25],[123,26,123,34],[123,35,123,43],[124,0,124,2],[124,3,124,6],[124,7,124,25],[124,26,124,34],[124,35,124,43],[125,0,125,2],[125,3,125,6],[125,7,125,25],[125,26,125,34],[125,35,125,43],[126,0,126,2],[126,3,126,6],[126,7,126,25],[126,26,126,34],[126,35,126,43],[127,0,127,2],[127,3,127,6],[127,7,127,25],[127,26,127,34],[127,35,127,43],[128,0,128,2],[128,3,128,6],[128,7,128,25],[128,26,128,34],[128,35,128,43],[129,0,129,2],[129,3,129,6],[129,7,129,25],[129,26,129,34],[129,35,129,43],[130,0,130,2],[130,3,130,6],[130,7,130,25],[130,26,130,34],[130,35,130,43],[131,0,131,2],[131,3,131,6],[131,7,131,25],[131,26,131,34],[131,35,131,43],[132,0,132,2],[132,3,132,6],[132,7,132,25],[132,26,132,34],[132,35,132,43],[133,0,133,2],[133,3,133,6],[133,7,133,25],[133,26,133,34],[133,35,133,43],[134,0,134,2],[134,3,134,6],[134,7,134,25],[134,26,134,34],[134,35,134,43],[135,0,135,2],[135,3,135,6],[135,7,135,25],[135,26,135,34],[135,35,135,43],[136,0,136,2],[136,3,136,6],[136,7,136,25],[136,26,136,34],[136,35,136,43],[137,0,137,2],[137,3,137,6],[137,7,137,25],[137,26,137,34],[137,35,137,43],[138,0,138,2],[138,3,138,6],[138,7,138,25],[138,26,138,34],[138,35,138,43],[139,0,139,2],[139,3,139,6],[139,7,139,25],[139,26,139,34],[139,35,139,43],[140,0,140,2],[140,3,140,6],[140,7,140,25],[140,26,140,34],[140,35,140,43],[141,0,141,2],[141,3,141,6],[141,7,141,25],[141,26,141,34],[141,35,141,43],[142,0,142,2],[142,3,142,6],[142,7,142,25],[142,26,142,34],[142,35,142,43],[143,0,143,2],[143,3,143,6],[143,7,143,25],[143,26,143,34],[143,35,143,43],[144,0,144,2],[144,3,144,6],[144,7,144,25],[144,26,144,34],[144,35,144,43],[145,0,145,2],[145,3,145,6],[145,7,145,25],[145,26,145,34],[145,35,145,43],[146,0,146,2],[146,3,146,6],[146,7,146,25],[146,26,146,34],[146,35,146,43],[147,0,147,2],[147,3,147,6],[147,7,147,25],[147,26,147,34],[147,35,147,43],[148,0,148,2],[148,3,148,6],[148,7,148,25],[148,26,148,34],[148,35,148,43],[149,0,149,2],[149,3,149,6],[149,7,149,25],[149,26,149,34],[149,35,149,43],[150,0,150,2],[150,3,150,6],[150,7,150,25],[150,26,150,34],[150,35,150,43],[151,0,151,2],[151,3,151,6],[151,7,151,25],[151,26,151,34],[151,35,151,43],[152,0,152,2],[152,3,152,6],[152,7,152,25],[152,26,152,34],[152,35,152,43],[153,0,153,2],[153,3,153,6],[153,7,153,25],[153,26,153,34],[153,35,153,43],[154,0,154,2],[154,3,154,6],[154,7,154,25],[154,26,154,34],[154,35,154,43],[155,0,155,2],[155,3,155,6],[155,7,155,25],[155,26,155,34],[155,35,155,43],[156,0,156,2],[156,3,156,6],[156,7,156,25],[156,26,156,34],[156,35,156,43],[157,0,157,2],[157,3,157,6],[157,7,157,25],[157,26,157,34],[157,35,157,43],[158,0,158,2],[158,3,158,6],[158,7,158,25],[158,26,158,34],[158,35,158,43],[159,0,159,2],[159,3,159,6],[159,7,159,25],[159,26,159,34],[159,35,159,43],[160,0,160,2],[160,3,160,6],[160,7,160,25],[160,26,160,34],[160,35,160,43],[161,0,161,2],[161,3,161,6],[161,7,161,25],[161,26,161,34],[161,35,161,43],[162,0,162,2],[162,3,162,6],[162,7,162,25],[162,26,162,34],[162,35,162,43],[163,0,163,2],[163,3,163,6],[163,7,163,25],[163,26,163,34],[163,35,163,43],[164,0,164,2],[164,3,164,6],[164,7,164,25],[164,26,164,34],[164,35,164,43],[165,0,165,2],[165,3,165,6],[165,7,165,25],[165,26,165,34],[165,35,165,43],[166,0,166,2],[166,3,166,6],[166,7,166,25],[166,26,166,34],[166,35,166,43],[167,0,167,2],[167,3,167,6],[167,7,167,25],[167,26,167,34],[167,35,167,43],[168,0,168,2],[168,3,168,6],[168,7,168,25],[168,26,168,34],[168,35,168,43],[169,0,169,2],[169,3,169,6],[169,7,169,25],[169,26,169,34],[169,35,169,43],[170,0,170,2],[170,3,170,6],[170,7,170,25],[170,26,170,34],[170,35,170,43],[171,0,171,2],[171,3,171,6],[171,7,171,25],[171,26,171,34],[171,35,171,43],[172,0,172,2],[172,3,172,6],[172,7,172,25],[172,26,172,34],[172,35,172,43],[173,0,173,2],[173,3,173,6],[173,7,173,25],[173,26,173,34],[173,35,173,43],[174,0,174,2],[174,3,174,6],[174,7,174,25],[174,26,174,34],[174,35,174,43],[175,0,175,2],[175,3,175,6],[175,7,175,25],[175,26,175,34],[175,35,175,43],[176,0,176,2],[176,3,176,6],[176,7,176,25],[176,26,176,34],[176,35,176,43],[177,0,177,2],[177,3,177,6],[177,7,177,25],[177,26,177,34],[177,35,177,43],[178,0,178,2],[178,3,178,6],[178,7,178,25],[178,26,178,34],[178,35,178,43],[179,0,179,2],[179,3,179,6],[179,7,179,25],[179,26,179,34],[179,35,179,43],[180,0,180,2],[180,3,180,6],[180,7,180,25],[180,26,180,34],[180,35,180,43],[181,0,181,2],[181,3,181,6],[181,7,181,25],[181,26,181,34],[181,35,181,43],[182,0,182,2],[182,3,182,6],[182,7,182,25],[182,26,182,34],[182,35,182,43],[183,0,183,2],[183,3,183,6],[183,7,183,25],[183,26,183,34],[183,35,183,43],[184,0,184,2],[184,3,184,6],[184,7,184,25],[184,26,184,34],[184,35,184,43],[185,0,185,2],[185,3,185,6],[185,7,185,25],[185,26,185,34],[185,35,185,43],[186,0,186,2],[186,3,186,6],[186,7,186,25],[186,26,186,34],[186,35,186,43],[187,0,187,2],[187,3,187,6],[187,7,187,25],[187,26,187,34],[187,35,187,43],[188,0,188,2],[188,3,188,6],[188,7,188,25],[188,26,188,34],[188,35,188,43],[193,16,193,24],[193,34,193,42],[189,0,189,2],[189,3,189,6],[189,7,189,25],[189,26,189,34],[189,35,189,43],[191,16,192,24],[191,34,192,42],[192,0,192,2],[192,3,192,7],[192,8,192,11]]}
[null,null,null,null,null,null,null,null,null,null,null,null,null,null,null,null,null,null,null,null,null,null,null,null,null,null,null,null,null,null,null,null,null,null,null,null,null,"Образац 3"]
["ПОПУЊАВА УПРАВА ЗА ТРЕЗОР - ФИЛИЈАЛА"]
[7,5,3,null,0,{"$f":"IF(LEN(Podaci!M2) > 4, MID(RIGHT(Podaci!$M$2,5),1,1),0)","v":"0"},{"$f":"IF(LEN(Podaci!M2) > 3, MID(RIGHT(Podaci!$M$2,4),1,1),0)","v":"8"},{"$f":"IF(LEN(Podaci!M2) > 2, MID(RIGHT(Podaci!$M$2,3),1,1),0)","v":"5"},{"$f":"MID(RIGHT(Podaci!$M$2,2),1,1)","v":"9"},{"$f":"MID(RIGHT(Podaci!$M$2,1),1,1)","v":"0"},null,{"$f":"IF(LEN(Podaci!Z7) > 7, MID(RIGHT(Podaci!$Z$7,8),1,1),0)","v":"0"},{"$f":"IF(LEN(Podaci!Z7) > 6, MID(RIGHT(Podaci!$Z$7,7),1,1),0)","v":"8"},{"$f":"MID(RIGHT(Podaci!$Z$7,6),1,1)","v":"0"},{"$f":"MID(RIGHT(Podaci!$Z$7,5),1,1)","v":"0"},{"$f":"MID(RIGHT(Podaci!$Z$7,4),1,1)","v":"4"},{"$f":"MID(RIGHT(Podaci!$Z$7,3),1,1)","v":"9"},{"$f":"MID(RIGHT(Podaci!$Z$7,2),1,1)","v":"3"},{"$f":"MID(RIGHT(Podaci!$Z$7,1),1,1)","v":"5"}]
[1,2,3,null,4,5,6,7,8,9,null,10,11,12,13,14,15,16,17,null,18,19,20,21,22,null,23,24,25,26,27,null,28,null,29,30,31,32,33,34,35,36,37,38]
["Врста\nпосла",null,null,null,"Јединствени\nброј КБС",null,null,null,null,null,null,null,null,null,null,null,null,null,null,null,"Седиште\nУТ",null,null,null,null,null,"Надлежни\nдиректни\nКБС"]
[]
[]
[null,"НАЗИВ КОРИСНИКА БУЏЕТСКИХ СРЕДСТАВА"]
[null,{"$f":"Podaci!B5","v":"ПРЕДШКОЛСКА  УСТАНОВА  \"БАМБИ\"  "}]
[]
[null,"СЕДИШТЕ",null,null,null,null,null,{"$f":"Podaci!H7","v":"КУЛА"},null,null,null,null,null,null,null,null,null,"МАТИЧНИ БРОЈ",null,null,null,null,null,null,null,{"$f":"Podaci!Z7","v":"08004935"}]
[]
[null,"ПИБ",null,null,{"$f":"Podaci!E9","v":100261597},null,null,null,null,null,null,null,null,null,null,null,null,"БРОЈ ПОДРАЧУНА",null,null,null,null,null,null,null,{"$f":"Podaci!AA9","v":"840-49661-40"}]
[]
[null,"НАЗИВ НАДЛЕЖНОГ ДИРЕКТНОГ КОРИСНИКА БУЏЕТСКИХ СРЕДСТАВА"]
[null,{"$f":"Podaci!B12","v":"ОПШТИНА  КУЛА"}]
[null,"(Попуњава само индиректни корисник буџетских средстава)"]
[]
[]
[null,null,null,null,null,"ИЗВЕШТАЈ О КАПИТАЛНИМ ИЗДАЦИМА И ПРИМАЊИМА"]
[null,null,null,null,null,null,null,null,null,null,"у периоду од",null,null,null,null,null,{"$f":"Podaci!D17","v":"01.01.2017."},null,null,null,null,"до",null,{"$f":"Podaci!D18","v":"31.12.2017."},null,null,null,null,"године"]
[null,null,null,null,null,null,null,null,null,null,null,null,null,null,null,null,null,null,null,null,null,null,null,null,null,null,null,null,null,null,null,null,null,null,null,null,"(У хиљадама динара)"]
["Ознака\nОП",null,null,"Број\nконта",null,null,null,"Опис",null,null,null,null,null,null,null,null,null,null,null,null,null,null,null,null,null,null,"Износ"]
[]
[null,null,null,null,null,null,null,null,null,null,null,null,null,null,null,null,null,null,null,null,null,null,null,null,null,null,"Претходна година",null,null,null,null,null,null,null,null,"Текућа година"]
[]
[1,null,null,2,null,null,null,3,null,null,null,null,null,null,null,null,null,null,null,null,null,null,null,null,null,null,4,null,null,null,null,null,null,null,null,5]
[3001,null,null,null,null,null,null,"ПРИМАЊА (3002 + 3027)",null,null,null,null,null,null,null,null,null,null,null,null,null,null,null,null,null,null,{"$f":"UnObr3!D3","v":0},null,null,null,null,null,null,null,null,{"$f":"UnObr3!E3","v":0}]
[3002,null,null,800000,null,null,null,"ПРИМАЊА ОД ПРОДАЈЕ НЕФИНАНСИЈСКЕ ИМОВИНЕ (3003 + 3010 + 3017 + 3020)",null,null,null,null,null,null,null,null,null,null,null,null,null,null,null,null,null,null,{"$f":"UnObr3!D4","v":0},null,null,null,null,null,null,null,null,{"$f":"UnObr3!E4","v":0}]
[3003,null,null,810000,null,null,null,"ПРИМАЊА ОД ПРОДАЈЕ ОСНОВНИХ \nСРЕДСТАВА (3004 + 3006 + 3008)",null,null,null,null,null,null,null,null,null,null,null,null,null,null,null,null,null,null,{"$f":"UnObr3!D5","v":0},null,null,null,null,null,null,null,null,{"$f":"UnObr3!E5","v":0}]
[3004,null,null,811000,null,null,null,"ПРИМАЊА ОД ПРОДАЈЕ НЕПОКРЕТНОСТИ (3005)",null,null,null,null,null,null,null,null,null,null,null,null,null,null,null,null,null,null,{"$f":"UnObr3!D6","v":0},null,null,null,null,null,null,null,null,{"$f":"UnObr3!E6","v":0}]
[3005,null,null,811100,null,null,null,"Примања од продаје непокретности",null,null,null,null,null,null,null,null,null,null,null,null,null,null,null,null,null,null,{"$f":"UnObr3!D7","v":0},null,null,null,null,null,null,null,null,{"$f":"UnObr3!E7","v":0}]
[3006,null,null,812000,null,null,null,"ПРИМАЊА ОД ПРОДАЈЕ ПОКРЕТНЕ ИМОВИНЕ (3007)",null,null,null,null,null,null,null,null,null,null,null,null,null,null,null,null,null,null,{"$f":"UnObr3!D8","v":0},null,null,null,null,null,null,null,null,{"$f":"UnObr3!E8","v":0}]
[3007,null,null,812100,null,null,null,"Примања од продаје покретне имовине",null,null,null,null,null,null,null,null,null,null,null,null,null,null,null,null,null,null,{"$f":"UnObr3!D9","v":0},null,null,null,null,null,null,null,null,{"$f":"UnObr3!E9","v":0}]
[3008,null,null,813000,null,null,null,"ПРИМАЊА ОД ПРОДАЈЕ ОСТАЛИХ ОСНОВНИХ СРЕДСТАВА (3009)",null,null,null,null,null,null,null,null,null,null,null,null,null,null,null,null,null,null,{"$f":"UnObr3!D10","v":0},null,null,null,null,null,null,null,null,{"$f":"UnObr3!E10","v":0}]
[3009,null,null,813100,null,null,null,"Примања од продаје осталих основних средстава",null,null,null,null,null,null,null,null,null,null,null,null,null,null,null,null,null,null,{"$f":"UnObr3!D11","v":0},null,null,null,null,null,null,null,null,{"$f":"UnObr3!E11","v":0}]
[3010,null,null,820000,null,null,null,"ПРИМАЊА ОД ПРОДАЈЕ ЗАЛИХА (3011 + 3013 + 3015)",null,null,null,null,null,null,null,null,null,null,null,null,null,null,null,null,null,null,{"$f":"UnObr3!D12","v":0},null,null,null,null,null,null,null,null,{"$f":"UnObr3!E12","v":0}]
[3011,null,null,821000,null,null,null,"ПРИМАЊА ОД ПРОДАЈЕ РОБНИХ РЕЗЕРВИ (3012)",null,null,null,null,null,null,null,null,null,null,null,null,null,null,null,null,null,null,{"$f":"UnObr3!D13","v":0},null,null,null,null,null,null,null,null,{"$f":"UnObr3!E13","v":0}]
[3012,null,null,821100,null,null,null,"Примања од продаје робних резерви",null,null,null,null,null,null,null,null,null,null,null,null,null,null,null,null,null,null,{"$f":"UnObr3!D14","v":0},null,null,null,null,null,null,null,null,{"$f":"UnObr3!E14","v":0}]
[3013,null,null,822000,null,null,null,"ПРИМАЊА ОД ПРОДАЈЕ ЗАЛИХА \nПРОИЗВОДЊЕ (3014)",null,null,null,null,null,null,null,null,null,null,null,null,null,null,null,null,null,null,{"$f":"UnObr3!D15","v":0},null,null,null,null,null,null,null,null,{"$f":"UnObr3!E15","v":0}]
[3014,null,null,822100,null,null,null,"Примања од продаје залиха производње",null,null,null,null,null,null,null,null,null,null,null,null,null,null,null,null,null,null,{"$f":"UnObr3!D16","v":0},null,null,null,null,null,null,null,null,{"$f":"UnObr3!E16","v":0}]
[3015,null,null,823000,null,null,null,"ПРИМАЊА ОД ПРОДАЈЕ РОБЕ ЗА ДАЉУ \nПРОДАЈУ (3016)",null,null,null,null,null,null,null,null,null,null,null,null,null,null,null,null,null,null,{"$f":"UnObr3!D17","v":0},null,null,null,null,null,null,null,null,{"$f":"UnObr3!E17","v":0}]
[3016,null,null,823100,null,null,null,"Примања од продаје робе за даљу продају",null,null,null,null,null,null,null,null,null,null,null,null,null,null,null,null,null,null,{"$f":"UnObr3!D18","v":0},null,null,null,null,null,null,null,null,{"$f":"UnObr3!E18","v":0}]
[3017,null,null,830000,null,null,null,"ПРИМАЊА ОД ПРОДАЈЕ ДРАГОЦЕНОСТИ (3018)",null,null,null,null,null,null,null,null,null,null,null,null,null,null,null,null,null,null,{"$f":"UnObr3!D19","v":0},null,null,null,null,null,null,null,null,{"$f":"UnObr3!E19","v":0}]
[3018,null,null,831000,null,null,null,"ПРИМАЊА ОД ПРОДАЈЕ ДРАГОЦЕНОСТИ (3019)",null,null,null,null,null,null,null,null,null,null,null,null,null,null,null,null,null,null,{"$f":"UnObr3!D20","v":0},null,null,null,null,null,null,null,null,{"$f":"UnObr3!E20","v":0}]
[3019,null,null,831100,null,null,null,"Примања од продаје драгоцености",null,null,null,null,null,null,null,null,null,null,null,null,null,null,null,null,null,null,{"$f":"UnObr3!D21","v":0},null,null,null,null,null,null,null,null,{"$f":"UnObr3!E21","v":0}]
[3020,null,null,840000,null,null,null,"ПРИМАЊА ОД ПРОДАЈЕ ПРИРОДНЕ ИМОВИНЕ (3021 + 3023 + 3025)",null,null,null,null,null,null,null,null,null,null,null,null,null,null,null,null,null,null,{"$f":"UnObr3!D22","v":0},null,null,null,null,null,null,null,null,{"$f":"UnObr3!E22","v":0}]
[3021,null,null,841000,null,null,null,"ПРИМАЊА ОД ПРОДАЈЕ ЗЕМЉИШТА (3022)",null,null,null,null,null,null,null,null,null,null,null,null,null,null,null,null,null,null,{"$f":"UnObr3!D23","v":0},null,null,null,null,null,null,null,null,{"$f":"UnObr3!E23","v":0}]
[3022,null,null,841100,null,null,null,"Примања од продаје земљишта",null,null,null,null,null,null,null,null,null,null,null,null,null,null,null,null,null,null,{"$f":"UnObr3!D24","v":0},null,null,null,null,null,null,null,null,{"$f":"UnObr3!E24","v":0}]
[3023,null,null,842000,null,null,null,"ПРИМАЊА ОД ПРОДАЈЕ ПОДЗЕМНИХ БЛАГА (3024)",null,null,null,null,null,null,null,null,null,null,null,null,null,null,null,null,null,null,{"$f":"UnObr3!D25","v":0},null,null,null,null,null,null,null,null,{"$f":"UnObr3!E25","v":0}]
[3024,null,null,842100,null,null,null,"Примања од продаје подземних блага",null,null,null,null,null,null,null,null,null,null,null,null,null,null,null,null,null,null,{"$f":"UnObr3!D26","v":0},null,null,null,null,null,null,null,null,{"$f":"UnObr3!E26","v":0}]
[3025,null,null,843000,null,null,null,"ПРИМАЊА ОД ПРОДАЈЕ ШУМА И ВОДА (3026)",null,null,null,null,null,null,null,null,null,null,null,null,null,null,null,null,null,null,{"$f":"UnObr3!D27","v":0},null,null,null,null,null,null,null,null,{"$f":"UnObr3!E27","v":0}]
[3026,null,null,843100,null,null,null,"Примања од продаје шума и вода",null,null,null,null,null,null,null,null,null,null,null,null,null,null,null,null,null,null,{"$f":"UnObr3!D28","v":0},null,null,null,null,null,null,null,null,{"$f":"UnObr3!E28","v":0}]
[3027,null,null,900000,null,null,null,"ПРИМАЊА ОД ЗАДУЖИВАЊА И ПРОДАЈЕ ФИНАНСИЈСКЕ ИМОВИНЕ (3028 + 3047)",null,null,null,null,null,null,null,null,null,null,null,null,null,null,null,null,null,null,{"$f":"UnObr3!D29","v":0},null,null,null,null,null,null,null,null,{"$f":"UnObr3!E29","v":0}]
[3028,null,null,910000,null,null,null,"ПРИМАЊА ОД ЗАДУЖИВАЊА (3029 + 3039)",null,null,null,null,null,null,null,null,null,null,null,null,null,null,null,null,null,null,{"$f":"UnObr3!D30","v":0},null,null,null,null,null,null,null,null,{"$f":"UnObr3!E30","v":0}]
[3029,null,null,911000,null,null,null,"ПРИМАЊА ОД ДОМАЋИХ ЗАДУЖИВАЊА \n(од 3030 до 3038)",null,null,null,null,null,null,null,null,null,null,null,null,null,null,null,null,null,null,{"$f":"UnObr3!D31","v":0},null,null,null,null,null,null,null,null,{"$f":"UnObr3!E31","v":0}]
[3030,null,null,911100,null,null,null,"Примања од емитовања домаћих хартија од вредности, изузев акција",null,null,null,null,null,null,null,null,null,null,null,null,null,null,null,null,null,null,{"$f":"UnObr3!D32","v":0},null,null,null,null,null,null,null,null,{"$f":"UnObr3!E32","v":0}]
[3031,null,null,911200,null,null,null,"Примања од задуживања од осталих нивоа власти",null,null,null,null,null,null,null,null,null,null,null,null,null,null,null,null,null,null,{"$f":"UnObr3!D33","v":0},null,null,null,null,null,null,null,null,{"$f":"UnObr3!E33","v":0}]
[3032,null,null,911300,null,null,null,"Примања од задуживања од јавних финансијских институција у земљи",null,null,null,null,null,null,null,null,null,null,null,null,null,null,null,null,null,null,{"$f":"UnObr3!D34","v":0},null,null,null,null,null,null,null,null,{"$f":"UnObr3!E34","v":0}]
[3033,null,null,911400,null,null,null,"Примања од задуживања од пословних банака у земљи",null,null,null,null,null,null,null,null,null,null,null,null,null,null,null,null,null,null,{"$f":"UnObr3!D35","v":0},null,null,null,null,null,null,null,null,{"$f":"UnObr3!E35","v":0}]
[3034,null,null,911500,null,null,null,"Примања од задуживања од осталих поверилаца у \nземљи",null,null,null,null,null,null,null,null,null,null,null,null,null,null,null,null,null,null,{"$f":"UnObr3!D36","v":0},null,null,null,null,null,null,null,null,{"$f":"UnObr3!E36","v":0}]
[3035,null,null,911600,null,null,null,"Примања од задуживања од домаћинстава у земљи",null,null,null,null,null,null,null,null,null,null,null,null,null,null,null,null,null,null,{"$f":"UnObr3!D37","v":0},null,null,null,null,null,null,null,null,{"$f":"UnObr3!E37","v":0}]
[3036,null,null,911700,null,null,null,"Примања од домаћих финансијских деривата",null,null,null,null,null,null,null,null,null,null,null,null,null,null,null,null,null,null,{"$f":"UnObr3!D38","v":0},null,null,null,null,null,null,null,null,{"$f":"UnObr3!E38","v":0}]
[3037,null,null,911800,null,null,null,"Примања од домаћих меница",null,null,null,null,null,null,null,null,null,null,null,null,null,null,null,null,null,null,{"$f":"UnObr3!D39","v":0},null,null,null,null,null,null,null,null,{"$f":"UnObr3!E39","v":0}]
[3038,null,null,911900,null,null,null,"Исправка унутрашњег дуга",null,null,null,null,null,null,null,null,null,null,null,null,null,null,null,null,null,null,{"$f":"UnObr3!D40","v":0},null,null,null,null,null,null,null,null,{"$f":"UnObr3!E40","v":0}]
[3039,null,null,912000,null,null,null,"ПРИМАЊА ОД ИНОСТРАНОГ ЗАДУЖИВАЊА (од 3040 до 3046)",null,null,null,null,null,null,null,null,null,null,null,null,null,null,null,null,null,null,{"$f":"UnObr3!D41","v":0},null,null,null,null,null,null,null,null,{"$f":"UnObr3!E41","v":0}]
[3040,null,null,912100,null,null,null,"Примања од емитовања хартија од вредности, изузев акција, на иностраном финансијском тржишту",null,null,null,null,null,null,null,null,null,null,null,null,null,null,null,null,null,null,{"$f":"UnObr3!D42","v":0},null,null,null,null,null,null,null,null,{"$f":"UnObr3!E42","v":0}]
[3041,null,null,912200,null,null,null,"Примања од задуживања од иностраних држава",null,null,null,null,null,null,null,null,null,null,null,null,null,null,null,null,null,null,{"$f":"UnObr3!D43","v":0},null,null,null,null,null,null,null,null,{"$f":"UnObr3!E43","v":0}]
[3042,null,null,912300,null,null,null,"Примања од задуживања од мултилатералних \nинституција",null,null,null,null,null,null,null,null,null,null,null,null,null,null,null,null,null,null,{"$f":"UnObr3!D44","v":0},null,null,null,null,null,null,null,null,{"$f":"UnObr3!E44","v":0}]
[3043,null,null,912400,null,null,null,"Примања од задуживања од иностраних пословних банака ",null,null,null,null,null,null,null,null,null,null,null,null,null,null,null,null,null,null,{"$f":"UnObr3!D45","v":0},null,null,null,null,null,null,null,null,{"$f":"UnObr3!E45","v":0}]
[3044,null,null,912500,null,null,null,"Примања од задуживања од осталих иностраних поверилаца",null,null,null,null,null,null,null,null,null,null,null,null,null,null,null,null,null,null,{"$f":"UnObr3!D46","v":0},null,null,null,null,null,null,null,null,{"$f":"UnObr3!E46","v":0}]
[3045,null,null,912600,null,null,null,"Примања од иностраних финансијских деривата",null,null,null,null,null,null,null,null,null,null,null,null,null,null,null,null,null,null,{"$f":"UnObr3!D47","v":0},null,null,null,null,null,null,null,null,{"$f":"UnObr3!E47","v":0}]
[3046,null,null,912900,null,null,null,"Исправка спољног дуга",null,null,null,null,null,null,null,null,null,null,null,null,null,null,null,null,null,null,{"$f":"UnObr3!D48","v":0},null,null,null,null,null,null,null,null,{"$f":"UnObr3!E48","v":0}]
[3047,null,null,920000,null,null,null,"ПРИМАЊА ОД ПРОДАЈЕ ФИНАНСИЈСКЕ ИМОВИНЕ (3048 + 3058)",null,null,null,null,null,null,null,null,null,null,null,null,null,null,null,null,null,null,{"$f":"UnObr3!D49","v":0},null,null,null,null,null,null,null,null,{"$f":"UnObr3!E49","v":0}]
[3048,null,null,921000,null,null,null,"ПРИМАЊА ОД ПРОДАЈЕ ДОМАЋЕ \nФИНАНСИЈСКЕ ИМОВИНЕ (од 3049 до 3057)",null,null,null,null,null,null,null,null,null,null,null,null,null,null,null,null,null,null,{"$f":"UnObr3!D50","v":0},null,null,null,null,null,null,null,null,{"$f":"UnObr3!E50","v":0}]
[3049,null,null,921100,null,null,null,"Примања од продаје домаћих хартија од вредности, изузев акција",null,null,null,null,null,null,null,null,null,null,null,null,null,null,null,null,null,null,{"$f":"UnObr3!D51","v":0},null,null,null,null,null,null,null,null,{"$f":"UnObr3!E51","v":0}]
[3050,null,null,921200,null,null,null,"Примања од отплате кредита датих осталим нивоима власти",null,null,null,null,null,null,null,null,null,null,null,null,null,null,null,null,null,null,{"$f":"UnObr3!D52","v":0},null,null,null,null,null,null,null,null,{"$f":"UnObr3!E52","v":0}]
[3051,null,null,921300,null,null,null,"Примања од отплате кредита датих домаћим јавним финансијским институцијама",null,null,null,null,null,null,null,null,null,null,null,null,null,null,null,null,null,null,{"$f":"UnObr3!D53","v":0},null,null,null,null,null,null,null,null,{"$f":"UnObr3!E53","v":0}]
[3052,null,null,921400,null,null,null,"Примања од отплате кредита датих домаћим пословним банкама",null,null,null,null,null,null,null,null,null,null,null,null,null,null,null,null,null,null,{"$f":"UnObr3!D54","v":0},null,null,null,null,null,null,null,null,{"$f":"UnObr3!E54","v":0}]
[3053,null,null,921500,null,null,null,"Примања од отплате кредита датих домаћим јавним нефинансијским институцијама",null,null,null,null,null,null,null,null,null,null,null,null,null,null,null,null,null,null,{"$f":"UnObr3!D55","v":0},null,null,null,null,null,null,null,null,{"$f":"UnObr3!E55","v":0}]
[3054,null,null,921600,null,null,null,"Примања од отплате кредита датих физичким лицима и домаћинствима у земљи",null,null,null,null,null,null,null,null,null,null,null,null,null,null,null,null,null,null,{"$f":"UnObr3!D56","v":0},null,null,null,null,null,null,null,null,{"$f":"UnObr3!E56","v":0}]
[3055,null,null,921700,null,null,null,"Примања од отплате кредита датих удружењима \nграђана у земљи",null,null,null,null,null,null,null,null,null,null,null,null,null,null,null,null,null,null,{"$f":"UnObr3!D57","v":0},null,null,null,null,null,null,null,null,{"$f":"UnObr3!E57","v":0}]
[3056,null,null,921800,null,null,null,"Примања од отплате кредита датих нефинансијским приватним предузећима у земљи",null,null,null,null,null,null,null,null,null,null,null,null,null,null,null,null,null,null,{"$f":"UnObr3!D58","v":0},null,null,null,null,null,null,null,null,{"$f":"UnObr3!E58","v":0}]
[3057,null,null,921900,null,null,null,"Примања од продаје домаћих акција и осталог капитала",null,null,null,null,null,null,null,null,null,null,null,null,null,null,null,null,null,null,{"$f":"UnObr3!D59","v":0},null,null,null,null,null,null,null,null,{"$f":"UnObr3!E59","v":0}]
[3058,null,null,922000,null,null,null,"ПРИМАЊА ОД ПРОДАЈЕ СТРАНЕ \nФИНАНСИЈСКЕ ИМОВИНЕ (од 3059 до 3066)",null,null,null,null,null,null,null,null,null,null,null,null,null,null,null,null,null,null,{"$f":"UnObr3!D60","v":0},null,null,null,null,null,null,null,null,{"$f":"UnObr3!E60","v":0}]
[3059,null,null,922100,null,null,null,"Примања од продаје страних хартија од вредности, изузев акција",null,null,null,null,null,null,null,null,null,null,null,null,null,null,null,null,null,null,{"$f":"UnObr3!D61","v":0},null,null,null,null,null,null,null,null,{"$f":"UnObr3!E61","v":0}]
[3060,null,null,922200,null,null,null,"Примања од отплате кредита датих страним владама",null,null,null,null,null,null,null,null,null,null,null,null,null,null,null,null,null,null,{"$f":"UnObr3!D62","v":0},null,null,null,null,null,null,null,null,{"$f":"UnObr3!E62","v":0}]
[3061,null,null,922300,null,null,null,"Примања од отплате кредита датих међународним организацијама",null,null,null,null,null,null,null,null,null,null,null,null,null,null,null,null,null,null,{"$f":"UnObr3!D63","v":0},null,null,null,null,null,null,null,null,{"$f":"UnObr3!E63","v":0}]
[3062,null,null,922400,null,null,null,"Примања од отплате кредита датих страним пословним банкама",null,null,null,null,null,null,null,null,null,null,null,null,null,null,null,null,null,null,{"$f":"UnObr3!D64","v":0},null,null,null,null,null,null,null,null,{"$f":"UnObr3!E64","v":0}]
[3063,null,null,922500,null,null,null,"Примања од отплате кредита датих страним нефинансијским институцијама",null,null,null,null,null,null,null,null,null,null,null,null,null,null,null,null,null,null,{"$f":"UnObr3!D65","v":0},null,null,null,null,null,null,null,null,{"$f":"UnObr3!E65","v":0}]
[3064,null,null,922600,null,null,null,"Примања од отплате кредита датих страним \nневладиним организацијама",null,null,null,null,null,null,null,null,null,null,null,null,null,null,null,null,null,null,{"$f":"UnObr3!D66","v":0},null,null,null,null,null,null,null,null,{"$f":"UnObr3!E66","v":0}]
[3065,null,null,922700,null,null,null,"Примања од продаје страних акција и осталог капитала",null,null,null,null,null,null,null,null,null,null,null,null,null,null,null,null,null,null,{"$f":"UnObr3!D67","v":0},null,null,null,null,null,null,null,null,{"$f":"UnObr3!E67","v":0}]
[3066,null,null,922800,null,null,null,"Примања од продаје стране валуте",null,null,null,null,null,null,null,null,null,null,null,null,null,null,null,null,null,null,{"$f":"UnObr3!D68","v":0},null,null,null,null,null,null,null,null,{"$f":"UnObr3!E68","v":0}]
[3067,null,null,null,null,null,null,"ИЗДАЦИ (3068 + 3114)",null,null,null,null,null,null,null,null,null,null,null,null,null,null,null,null,null,null,{"$f":"UnObr3!D69","v":2576},null,null,null,null,null,null,null,null,{"$f":"UnObr3!E69","v":1301}]
[3068,null,null,500000,null,null,null,"ИЗДАЦИ ЗА НЕФИНАНСИЈСКУ ИМОВИНУ \n(3069 + 3091 + 3100 + 3103 + 3111)",null,null,null,null,null,null,null,null,null,null,null,null,null,null,null,null,null,null,{"$f":"UnObr3!D70","v":2576},null,null,null,null,null,null,null,null,{"$f":"UnObr3!E70","v":1301}]
[3069,null,null,510000,null,null,null,"ОСНОВНА СРЕДСТВА \n(3070 + 3075 + 3085 + 3087 + 3089)",null,null,null,null,null,null,null,null,null,null,null,null,null,null,null,null,null,null,{"$f":"UnObr3!D71","v":2576},null,null,null,null,null,null,null,null,{"$f":"UnObr3!E71","v":1301}]
[3070,null,null,511000,null,null,null,"ЗГРАДЕ И ГРАЂЕВИНСКИ ОБЈЕКТИ \n(од 3071 до 3074)",null,null,null,null,null,null,null,null,null,null,null,null,null,null,null,null,null,null,{"$f":"UnObr3!D72","v":0},null,null,null,null,null,null,null,null,{"$f":"UnObr3!E72","v":0}]
[3071,null,null,511100,null,null,null,"Куповина зграда и објеката",null,null,null,null,null,null,null,null,null,null,null,null,null,null,null,null,null,null,{"$f":"UnObr3!D73","v":0},null,null,null,null,null,null,null,null,{"$f":"UnObr3!E73","v":0}]
[3072,null,null,511200,null,null,null,"Изградња зграда и објеката",null,null,null,null,null,null,null,null,null,null,null,null,null,null,null,null,null,null,{"$f":"UnObr3!D74","v":0},null,null,null,null,null,null,null,null,{"$f":"UnObr3!E74","v":0}]
[3073,null,null,511300,null,null,null,"Капитално одржавање зграда и објеката",null,null,null,null,null,null,null,null,null,null,null,null,null,null,null,null,null,null,{"$f":"UnObr3!D75","v":0},null,null,null,null,null,null,null,null,{"$f":"UnObr3!E75","v":0}]
[3074,null,null,511400,null,null,null,"Пројектно планирање",null,null,null,null,null,null,null,null,null,null,null,null,null,null,null,null,null,null,{"$f":"UnObr3!D76","v":0},null,null,null,null,null,null,null,null,{"$f":"UnObr3!E76","v":0}]
[3075,null,null,512000,null,null,null,"МАШИНЕ И ОПРЕМА (од 3076 до 3084)",null,null,null,null,null,null,null,null,null,null,null,null,null,null,null,null,null,null,{"$f":"UnObr3!D77","v":2576},null,null,null,null,null,null,null,null,{"$f":"UnObr3!E77","v":1301}]
[3076,null,null,512100,null,null,null,"Опрема за саобраћај",null,null,null,null,null,null,null,null,null,null,null,null,null,null,null,null,null,null,{"$f":"UnObr3!D78","v":0},null,null,null,null,null,null,null,null,{"$f":"UnObr3!E78","v":0}]
[3077,null,null,512200,null,null,null,"Административна опрема",null,null,null,null,null,null,null,null,null,null,null,null,null,null,null,null,null,null,{"$f":"UnObr3!D79","v":2204},null,null,null,null,null,null,null,null,{"$f":"UnObr3!E79","v":896}]
[3078,null,null,512300,null,null,null,"Опрема за пољопривреду",null,null,null,null,null,null,null,null,null,null,null,null,null,null,null,null,null,null,{"$f":"UnObr3!D80","v":0},null,null,null,null,null,null,null,null,{"$f":"UnObr3!E80","v":0}]
[3079,null,null,512400,null,null,null,"Опрема за заштиту животне средине",null,null,null,null,null,null,null,null,null,null,null,null,null,null,null,null,null,null,{"$f":"UnObr3!D81","v":0},null,null,null,null,null,null,null,null,{"$f":"UnObr3!E81","v":0}]
[3080,null,null,512500,null,null,null,"Медицинска и лабораторијска опрема",null,null,null,null,null,null,null,null,null,null,null,null,null,null,null,null,null,null,{"$f":"UnObr3!D82","v":0},null,null,null,null,null,null,null,null,{"$f":"UnObr3!E82","v":0}]
[3081,null,null,512600,null,null,null,"Опрема за образовање, културу и спорт",null,null,null,null,null,null,null,null,null,null,null,null,null,null,null,null,null,null,{"$f":"UnObr3!D83","v":333},null,null,null,null,null,null,null,null,{"$f":"UnObr3!E83","v":405}]
[3082,null,null,512700,null,null,null,"Опрема за војску",null,null,null,null,null,null,null,null,null,null,null,null,null,null,null,null,null,null,{"$f":"UnObr3!D84","v":0},null,null,null,null,null,null,null,null,{"$f":"UnObr3!E84","v":0}]
[3083,null,null,512800,null,null,null,"Опрема за јавну безбедност",null,null,null,null,null,null,null,null,null,null,null,null,null,null,null,null,null,null,{"$f":"UnObr3!D85","v":39},null,null,null,null,null,null,null,null,{"$f":"UnObr3!E85","v":0}]
[3084,null,null,512900,null,null,null,"Опрема за производњу, моторна, непокретна и \nнемоторна опрема",null,null,null,null,null,null,null,null,null,null,null,null,null,null,null,null,null,null,{"$f":"UnObr3!D86","v":0},null,null,null,null,null,null,null,null,{"$f":"UnObr3!E86","v":0}]
[3085,null,null,513000,null,null,null,"ОСТАЛЕ НЕКРЕТНИНЕ И ОПРЕМА (3086)",null,null,null,null,null,null,null,null,null,null,null,null,null,null,null,null,null,null,{"$f":"UnObr3!D87","v":0},null,null,null,null,null,null,null,null,{"$f":"UnObr3!E87","v":0}]
[3086,null,null,513100,null,null,null,"Остале некретнине и опрема",null,null,null,null,null,null,null,null,null,null,null,null,null,null,null,null,null,null,{"$f":"UnObr3!D88","v":0},null,null,null,null,null,null,null,null,{"$f":"UnObr3!E88","v":0}]
[3087,null,null,514000,null,null,null,"КУЛТИВИСАНА ИМОВИНА (3088)",null,null,null,null,null,null,null,null,null,null,null,null,null,null,null,null,null,null,{"$f":"UnObr3!D89","v":0},null,null,null,null,null,null,null,null,{"$f":"UnObr3!E89","v":0}]
[3088,null,null,514100,null,null,null,"Култивисана имовина",null,null,null,null,null,null,null,null,null,null,null,null,null,null,null,null,null,null,{"$f":"UnObr3!D90","v":0},null,null,null,null,null,null,null,null,{"$f":"UnObr3!E90","v":0}]
[3089,null,null,515000,null,null,null,"НЕМАТЕРИЈАЛНА ИМОВИНА (3090)",null,null,null,null,null,null,null,null,null,null,null,null,null,null,null,null,null,null,{"$f":"UnObr3!D91","v":0},null,null,null,null,null,null,null,null,{"$f":"UnObr3!E91","v":0}]
[3090,null,null,515100,null,null,null,"Нематеријална имовина",null,null,null,null,null,null,null,null,null,null,null,null,null,null,null,null,null,null,{"$f":"UnObr3!D92","v":0},null,null,null,null,null,null,null,null,{"$f":"UnObr3!E92","v":0}]
[3091,null,null,520000,null,null,null,"ЗАЛИХЕ (3092 + 3094 + 3098)",null,null,null,null,null,null,null,null,null,null,null,null,null,null,null,null,null,null,{"$f":"UnObr3!D93","v":0},null,null,null,null,null,null,null,null,{"$f":"UnObr3!E93","v":0}]
[3092,null,null,521000,null,null,null,"РОБНЕ РЕЗЕРВЕ (3093)",null,null,null,null,null,null,null,null,null,null,null,null,null,null,null,null,null,null,{"$f":"UnObr3!D94","v":0},null,null,null,null,null,null,null,null,{"$f":"UnObr3!E94","v":0}]
[3093,null,null,521100,null,null,null,"Робне резерве",null,null,null,null,null,null,null,null,null,null,null,null,null,null,null,null,null,null,{"$f":"UnObr3!D95","v":0},null,null,null,null,null,null,null,null,{"$f":"UnObr3!E95","v":0}]
[3094,null,null,522000,null,null,null,"ЗАЛИХЕ ПРОИЗВОДЊЕ (од 3095 до 3097)",null,null,null,null,null,null,null,null,null,null,null,null,null,null,null,null,null,null,{"$f":"UnObr3!D96","v":0},null,null,null,null,null,null,null,null,{"$f":"UnObr3!E96","v":0}]
[3095,null,null,522100,null,null,null,"Залихе материјала",null,null,null,null,null,null,null,null,null,null,null,null,null,null,null,null,null,null,{"$f":"UnObr3!D97","v":0},null,null,null,null,null,null,null,null,{"$f":"UnObr3!E97","v":0}]
[3096,null,null,522200,null,null,null,"Залихе недовршене производње",null,null,null,null,null,null,null,null,null,null,null,null,null,null,null,null,null,null,{"$f":"UnObr3!D98","v":0},null,null,null,null,null,null,null,null,{"$f":"UnObr3!E98","v":0}]
[3097,null,null,522300,null,null,null,"Залихе готових производа",null,null,null,null,null,null,null,null,null,null,null,null,null,null,null,null,null,null,{"$f":"UnObr3!D99","v":0},null,null,null,null,null,null,null,null,{"$f":"UnObr3!E99","v":0}]
[3098,null,null,523000,null,null,null,"ЗАЛИХЕ РОБЕ ЗА ДАЉУ ПРОДАЈУ (3099)",null,null,null,null,null,null,null,null,null,null,null,null,null,null,null,null,null,null,{"$f":"UnObr3!D100","v":0},null,null,null,null,null,null,null,null,{"$f":"UnObr3!E100","v":0}]
[3099,null,null,523100,null,null,null,"Залихе робе за даљу продају",null,null,null,null,null,null,null,null,null,null,null,null,null,null,null,null,null,null,{"$f":"UnObr3!D101","v":0},null,null,null,null,null,null,null,null,{"$f":"UnObr3!E101","v":0}]
[3100,null,null,530000,null,null,null,"ДРАГОЦЕНОСТИ (3101)",null,null,null,null,null,null,null,null,null,null,null,null,null,null,null,null,null,null,{"$f":"UnObr3!D102","v":0},null,null,null,null,null,null,null,null,{"$f":"UnObr3!E102","v":0}]
[3101,null,null,531000,null,null,null,"ДРАГОЦЕНОСТИ (3102)",null,null,null,null,null,null,null,null,null,null,null,null,null,null,null,null,null,null,{"$f":"UnObr3!D103","v":0},null,null,null,null,null,null,null,null,{"$f":"UnObr3!E103","v":0}]
[3102,null,null,531100,null,null,null,"Драгоцености",null,null,null,null,null,null,null,null,null,null,null,null,null,null,null,null,null,null,{"$f":"UnObr3!D104","v":0},null,null,null,null,null,null,null,null,{"$f":"UnObr3!E104","v":0}]
[3103,null,null,540000,null,null,null,"ПРИРОДНА ИМОВИНА (3104 + 3106 + 3108)",null,null,null,null,null,null,null,null,null,null,null,null,null,null,null,null,null,null,{"$f":"UnObr3!D105","v":0},null,null,null,null,null,null,null,null,{"$f":"UnObr3!E105","v":0}]
[3104,null,null,541000,null,null,null,"ЗЕМЉИШТЕ (3105)",null,null,null,null,null,null,null,null,null,null,null,null,null,null,null,null,null,null,{"$f":"UnObr3!D106","v":0},null,null,null,null,null,null,null,null,{"$f":"UnObr3!E106","v":0}]
[3105,null,null,541100,null,null,null,"Земљиште",null,null,null,null,null,null,null,null,null,null,null,null,null,null,null,null,null,null,{"$f":"UnObr3!D107","v":0},null,null,null,null,null,null,null,null,{"$f":"UnObr3!E107","v":0}]
[3106,null,null,542000,null,null,null,"РУДНА БОГАТСТВА (3107)",null,null,null,null,null,null,null,null,null,null,null,null,null,null,null,null,null,null,{"$f":"UnObr3!D108","v":0},null,null,null,null,null,null,null,null,{"$f":"UnObr3!E108","v":0}]
[3107,null,null,542100,null,null,null,"Копови",null,null,null,null,null,null,null,null,null,null,null,null,null,null,null,null,null,null,{"$f":"UnObr3!D109","v":0},null,null,null,null,null,null,null,null,{"$f":"UnObr3!E109","v":0}]
[3108,null,null,543000,null,null,null,"ШУМЕ И ВОДЕ (3109 + 3110)",null,null,null,null,null,null,null,null,null,null,null,null,null,null,null,null,null,null,{"$f":"UnObr3!D110","v":0},null,null,null,null,null,null,null,null,{"$f":"UnObr3!E110","v":0}]
[3109,null,null,543100,null,null,null,"Шуме",null,null,null,null,null,null,null,null,null,null,null,null,null,null,null,null,null,null,{"$f":"UnObr3!D111","v":0},null,null,null,null,null,null,null,null,{"$f":"UnObr3!E111","v":0}]
[3110,null,null,543200,null,null,null,"Воде",null,null,null,null,null,null,null,null,null,null,null,null,null,null,null,null,null,null,{"$f":"UnObr3!D112","v":0},null,null,null,null,null,null,null,null,{"$f":"UnObr3!E112","v":0}]
[3111,null,null,550000,null,null,null,"НЕФИНАНСИЈСКА ИМОВИНА КОЈА СЕ ФИНАНСИРА ИЗ СРЕДСТАВА ЗА \nРЕАЛИЗАЦИЈУ НАЦИОНАЛНОГ ИНВЕСТИЦИОНОГ ПЛАНА (3112)",null,null,null,null,null,null,null,null,null,null,null,null,null,null,null,null,null,null,{"$f":"UnObr3!D113","v":0},null,null,null,null,null,null,null,null,{"$f":"UnObr3!E113","v":0}]
[3112,null,null,551000,null,null,null,"НЕФИНАНСИЈСКА ИМОВИНА КОЈА СЕ ФИНАНСИРА ИЗ СРЕДСТАВА ЗА \nРЕАЛИЗАЦИЈУ НАЦИОНАЛНОГ ИНВЕСТИЦИОНОГ ПЛАНА (3113)",null,null,null,null,null,null,null,null,null,null,null,null,null,null,null,null,null,null,{"$f":"UnObr3!D114","v":0},null,null,null,null,null,null,null,null,{"$f":"UnObr3!E114","v":0}]
[3113,null,null,551100,null,null,null,"Нефинансијска имовина која се финансира из средстава \nза реализацију националног инвестиционог плана",null,null,null,null,null,null,null,null,null,null,null,null,null,null,null,null,null,null,{"$f":"UnObr3!D115","v":0},null,null,null,null,null,null,null,null,{"$f":"UnObr3!E115","v":0}]
[3114,null,null,600000,null,null,null,"ИЗДАЦИ ЗА ОТПЛАТУ ГЛАВНИЦЕ И НАБАВКУ ФИНАНСИЈСКЕ ИМОВИНЕ (3115 + 3140)",null,null,null,null,null,null,null,null,null,null,null,null,null,null,null,null,null,null,{"$f":"UnObr3!D116","v":0},null,null,null,null,null,null,null,null,{"$f":"UnObr3!E116","v":0}]
[3115,null,null,610000,null,null,null,"ОТПЛАТА ГЛАВНИЦЕ \n(3116 + 3126 + 3134 + 3136 + 3138)",null,null,null,null,null,null,null,null,null,null,null,null,null,null,null,null,null,null,{"$f":"UnObr3!D117","v":0},null,null,null,null,null,null,null,null,{"$f":"UnObr3!E117","v":0}]
[3116,null,null,611000,null,null,null,"ОТПЛАТА ГЛАВНИЦЕ ДОМАЋИМ\nКРЕДИТОРИМА (од 3117 до 3125)",null,null,null,null,null,null,null,null,null,null,null,null,null,null,null,null,null,null,{"$f":"UnObr3!D118","v":0},null,null,null,null,null,null,null,null,{"$f":"UnObr3!E118","v":0}]
[3117,null,null,611100,null,null,null,"Отплата главнице на домаће хартије од вредности, изузев акција",null,null,null,null,null,null,null,null,null,null,null,null,null,null,null,null,null,null,{"$f":"UnObr3!D119","v":0},null,null,null,null,null,null,null,null,{"$f":"UnObr3!E119","v":0}]
[3118,null,null,611200,null,null,null,"Отплата главнице осталим нивоима власти",null,null,null,null,null,null,null,null,null,null,null,null,null,null,null,null,null,null,{"$f":"UnObr3!D120","v":0},null,null,null,null,null,null,null,null,{"$f":"UnObr3!E120","v":0}]
[3119,null,null,611300,null,null,null,"Отплата главнице домаћим јавним финансијским институцијама",null,null,null,null,null,null,null,null,null,null,null,null,null,null,null,null,null,null,{"$f":"UnObr3!D121","v":0},null,null,null,null,null,null,null,null,{"$f":"UnObr3!E121","v":0}]
[3120,null,null,611400,null,null,null,"Отплата главнице домаћим пословним банкама",null,null,null,null,null,null,null,null,null,null,null,null,null,null,null,null,null,null,{"$f":"UnObr3!D122","v":0},null,null,null,null,null,null,null,null,{"$f":"UnObr3!E122","v":0}]
[3121,null,null,611500,null,null,null,"Отплата главнице осталим домаћим кредиторима",null,null,null,null,null,null,null,null,null,null,null,null,null,null,null,null,null,null,{"$f":"UnObr3!D123","v":0},null,null,null,null,null,null,null,null,{"$f":"UnObr3!E123","v":0}]
[3122,null,null,611600,null,null,null,"Отплата главнице домаћинствима у земљи",null,null,null,null,null,null,null,null,null,null,null,null,null,null,null,null,null,null,{"$f":"UnObr3!D124","v":0},null,null,null,null,null,null,null,null,{"$f":"UnObr3!E124","v":0}]
[3123,null,null,611700,null,null,null,"Отплата главнице на домаће финансијске деривате ",null,null,null,null,null,null,null,null,null,null,null,null,null,null,null,null,null,null,{"$f":"UnObr3!D125","v":0},null,null,null,null,null,null,null,null,{"$f":"UnObr3!E125","v":0}]
[3124,null,null,611800,null,null,null,"Отплата домаћих меница",null,null,null,null,null,null,null,null,null,null,null,null,null,null,null,null,null,null,{"$f":"UnObr3!D126","v":0},null,null,null,null,null,null,null,null,{"$f":"UnObr3!E126","v":0}]
[3125,null,null,611900,null,null,null,"Исправка унутрашњег дуга",null,null,null,null,null,null,null,null,null,null,null,null,null,null,null,null,null,null,{"$f":"UnObr3!D127","v":0},null,null,null,null,null,null,null,null,{"$f":"UnObr3!E127","v":0}]
[3126,null,null,612000,null,null,null,"ОТПЛАТА ГЛАВНИЦЕ СТРАНИМ \nКРЕДИТОРИМА (од 3127 до 3133)",null,null,null,null,null,null,null,null,null,null,null,null,null,null,null,null,null,null,{"$f":"UnObr3!D128","v":0},null,null,null,null,null,null,null,null,{"$f":"UnObr3!E128","v":0}]
[3127,null,null,612100,null,null,null,"Отплата главнице на хартије од вредности, изузев акција, емитоване на иностраном финансијском тржишту ",null,null,null,null,null,null,null,null,null,null,null,null,null,null,null,null,null,null,{"$f":"UnObr3!D129","v":0},null,null,null,null,null,null,null,null,{"$f":"UnObr3!E129","v":0}]
[3128,null,null,612200,null,null,null,"Отплата главнице страним владама",null,null,null,null,null,null,null,null,null,null,null,null,null,null,null,null,null,null,{"$f":"UnObr3!D130","v":0},null,null,null,null,null,null,null,null,{"$f":"UnObr3!E130","v":0}]
[3129,null,null,612300,null,null,null,"Отплата главнице мултилатералним институцијама",null,null,null,null,null,null,null,null,null,null,null,null,null,null,null,null,null,null,{"$f":"UnObr3!D131","v":0},null,null,null,null,null,null,null,null,{"$f":"UnObr3!E131","v":0}]
[3130,null,null,612400,null,null,null,"Отплата главнице страним пословним банкама",null,null,null,null,null,null,null,null,null,null,null,null,null,null,null,null,null,null,{"$f":"UnObr3!D132","v":0},null,null,null,null,null,null,null,null,{"$f":"UnObr3!E132","v":0}]
[3131,null,null,612500,null,null,null,"Отплата главнице осталим страним кредиторима",null,null,null,null,null,null,null,null,null,null,null,null,null,null,null,null,null,null,{"$f":"UnObr3!D133","v":0},null,null,null,null,null,null,null,null,{"$f":"UnObr3!E133","v":0}]
[3132,null,null,612600,null,null,null,"Отплата главнице на стране финансијске деривате",null,null,null,null,null,null,null,null,null,null,null,null,null,null,null,null,null,null,{"$f":"UnObr3!D134","v":0},null,null,null,null,null,null,null,null,{"$f":"UnObr3!E134","v":0}]
[3133,null,null,612900,null,null,null,"Исправка спољног дуга",null,null,null,null,null,null,null,null,null,null,null,null,null,null,null,null,null,null,{"$f":"UnObr3!D135","v":0},null,null,null,null,null,null,null,null,{"$f":"UnObr3!E135","v":0}]
[3134,null,null,613000,null,null,null,"ОТПЛАТА ГЛАВНИЦЕ ПО ГАРАНЦИЈАМА (3135)",null,null,null,null,null,null,null,null,null,null,null,null,null,null,null,null,null,null,{"$f":"UnObr3!D136","v":0},null,null,null,null,null,null,null,null,{"$f":"UnObr3!E136","v":0}]
[3135,null,null,613100,null,null,null,"Отплата главнице по гаранцијама",null,null,null,null,null,null,null,null,null,null,null,null,null,null,null,null,null,null,{"$f":"UnObr3!D137","v":0},null,null,null,null,null,null,null,null,{"$f":"UnObr3!E137","v":0}]
[3136,null,null,614000,null,null,null,"ОТПЛАТА ГЛАВНИЦЕ ЗА ФИНАНСИЈСКИ ЛИЗИНГ (3137)",null,null,null,null,null,null,null,null,null,null,null,null,null,null,null,null,null,null,{"$f":"UnObr3!D138","v":0},null,null,null,null,null,null,null,null,{"$f":"UnObr3!E138","v":0}]
[3137,null,null,614100,null,null,null,"Отплата главнице за финансијски лизинг",null,null,null,null,null,null,null,null,null,null,null,null,null,null,null,null,null,null,{"$f":"UnObr3!D139","v":0},null,null,null,null,null,null,null,null,{"$f":"UnObr3!E139","v":0}]
[3138,null,null,615000,null,null,null,"ОТПЛАТА ГАРАНЦИЈА ПО КОМЕРЦИЈАЛНИМ ТРАНСАКЦИЈАМА (3139)",null,null,null,null,null,null,null,null,null,null,null,null,null,null,null,null,null,null,{"$f":"UnObr3!D140","v":0},null,null,null,null,null,null,null,null,{"$f":"UnObr3!E140","v":0}]
[3139,null,null,615100,null,null,null,"Отплата гаранција по комерцијалним трансакцијама",null,null,null,null,null,null,null,null,null,null,null,null,null,null,null,null,null,null,{"$f":"UnObr3!D141","v":0},null,null,null,null,null,null,null,null,{"$f":"UnObr3!E141","v":0}]
[3140,null,null,620000,null,null,null,"НАБАВКА ФИНАНСИЈСКЕ ИМОВИНЕ \n(3141 + 3151 + 3160)",null,null,null,null,null,null,null,null,null,null,null,null,null,null,null,null,null,null,{"$f":"UnObr3!D142","v":0},null,null,null,null,null,null,null,null,{"$f":"UnObr3!E142","v":0}]
[3141,null,null,621000,null,null,null,"НАБАВКА ДОМАЋЕ ФИНАНСИЈСКЕ ИМОВИНЕ (од 3142 до 3150)",null,null,null,null,null,null,null,null,null,null,null,null,null,null,null,null,null,null,{"$f":"UnObr3!D143","v":0},null,null,null,null,null,null,null,null,{"$f":"UnObr3!E143","v":0}]
[3142,null,null,621100,null,null,null,"Набавка домаћих хартија од вредности, изузев акција",null,null,null,null,null,null,null,null,null,null,null,null,null,null,null,null,null,null,{"$f":"UnObr3!D144","v":0},null,null,null,null,null,null,null,null,{"$f":"UnObr3!E144","v":0}]
[3143,null,null,621200,null,null,null,"Кредити осталим нивоима власти",null,null,null,null,null,null,null,null,null,null,null,null,null,null,null,null,null,null,{"$f":"UnObr3!D145","v":0},null,null,null,null,null,null,null,null,{"$f":"UnObr3!E145","v":0}]
[3144,null,null,621300,null,null,null,"Кредити домаћим јавним финансијским институцијама",null,null,null,null,null,null,null,null,null,null,null,null,null,null,null,null,null,null,{"$f":"UnObr3!D146","v":0},null,null,null,null,null,null,null,null,{"$f":"UnObr3!E146","v":0}]
[3145,null,null,621400,null,null,null,"Кредити домаћим пословним банкама",null,null,null,null,null,null,null,null,null,null,null,null,null,null,null,null,null,null,{"$f":"UnObr3!D147","v":0},null,null,null,null,null,null,null,null,{"$f":"UnObr3!E147","v":0}]
[3146,null,null,621500,null,null,null,"Кредити домаћим нефинансијским јавним \nинституцијама",null,null,null,null,null,null,null,null,null,null,null,null,null,null,null,null,null,null,{"$f":"UnObr3!D148","v":0},null,null,null,null,null,null,null,null,{"$f":"UnObr3!E148","v":0}]
[3147,null,null,621600,null,null,null,"Кредити физичким лицима и домаћинствима у земљи",null,null,null,null,null,null,null,null,null,null,null,null,null,null,null,null,null,null,{"$f":"UnObr3!D149","v":0},null,null,null,null,null,null,null,null,{"$f":"UnObr3!E149","v":0}]
[3148,null,null,621700,null,null,null,"Кредити невладиним организацијама у земљи",null,null,null,null,null,null,null,null,null,null,null,null,null,null,null,null,null,null,{"$f":"UnObr3!D150","v":0},null,null,null,null,null,null,null,null,{"$f":"UnObr3!E150","v":0}]
[3149,null,null,621800,null,null,null,"Кредити домаћим нефинансијским приватним \nпредузећима",null,null,null,null,null,null,null,null,null,null,null,null,null,null,null,null,null,null,{"$f":"UnObr3!D151","v":0},null,null,null,null,null,null,null,null,{"$f":"UnObr3!E151","v":0}]
[3150,null,null,621900,null,null,null,"Набавка домаћих акција и осталог капитала",null,null,null,null,null,null,null,null,null,null,null,null,null,null,null,null,null,null,{"$f":"UnObr3!D152","v":0},null,null,null,null,null,null,null,null,{"$f":"UnObr3!E152","v":0}]
[3151,null,null,622000,null,null,null,"НАБАВКА СТРАНЕ ФИНАНСИЈСКЕ ИМОВИНЕ (од 3152 до 3159)",null,null,null,null,null,null,null,null,null,null,null,null,null,null,null,null,null,null,{"$f":"UnObr3!D153","v":0},null,null,null,null,null,null,null,null,{"$f":"UnObr3!E153","v":0}]
[3152,null,null,622100,null,null,null,"Набавка страних хартија од вредности, изузев акција",null,null,null,null,null,null,null,null,null,null,null,null,null,null,null,null,null,null,{"$f":"UnObr3!D154","v":0},null,null,null,null,null,null,null,null,{"$f":"UnObr3!E154","v":0}]
[3153,null,null,622200,null,null,null,"Кредити страним владама",null,null,null,null,null,null,null,null,null,null,null,null,null,null,null,null,null,null,{"$f":"UnObr3!D155","v":0},null,null,null,null,null,null,null,null,{"$f":"UnObr3!E155","v":0}]
[3154,null,null,622300,null,null,null,"Кредити међународним организацијама",null,null,null,null,null,null,null,null,null,null,null,null,null,null,null,null,null,null,{"$f":"UnObr3!D156","v":0},null,null,null,null,null,null,null,null,{"$f":"UnObr3!E156","v":0}]
[3155,null,null,622400,null,null,null,"Кредити страним пословним банкама",null,null,null,null,null,null,null,null,null,null,null,null,null,null,null,null,null,null,{"$f":"UnObr3!D157","v":0},null,null,null,null,null,null,null,null,{"$f":"UnObr3!E157","v":0}]
[3156,null,null,622500,null,null,null,"Кредити страним нефинансијским институцијама",null,null,null,null,null,null,null,null,null,null,null,null,null,null,null,null,null,null,{"$f":"UnObr3!D158","v":0},null,null,null,null,null,null,null,null,{"$f":"UnObr3!E158","v":0}]
[3157,null,null,622600,null,null,null,"Кредити страним невладиним организацијама",null,null,null,null,null,null,null,null,null,null,null,null,null,null,null,null,null,null,{"$f":"UnObr3!D159","v":0},null,null,null,null,null,null,null,null,{"$f":"UnObr3!E159","v":0}]
[3158,null,null,622700,null,null,null,"Набавка страних акција и осталог капитала",null,null,null,null,null,null,null,null,null,null,null,null,null,null,null,null,null,null,{"$f":"UnObr3!D160","v":0},null,null,null,null,null,null,null,null,{"$f":"UnObr3!E160","v":0}]
[3159,null,null,622800,null,null,null,"Куповина стране валуте",null,null,null,null,null,null,null,null,null,null,null,null,null,null,null,null,null,null,{"$f":"UnObr3!D161","v":0},null,null,null,null,null,null,null,null,{"$f":"UnObr3!E161","v":0}]
[3160,null,null,623000,null,null,null,"НАБАВКА ФИНАНСИЈСКЕ ИМОВИНЕ КОЈА СЕ ФИНАНСИРА ИЗ СРЕДСТАВА ЗА РЕАЛИЗАЦИЈУ НАЦИОНАЛНОГ \nИНВЕСТИЦИОНОГ ПЛАНА (3161)",null,null,null,null,null,null,null,null,null,null,null,null,null,null,null,null,null,null,{"$f":"UnObr3!D162","v":0},null,null,null,null,null,null,null,null,{"$f":"UnObr3!E162","v":0}]
[3161,null,null,623100,null,null,null,"Набавка финансијске имовине која се финансира из средстава за реализацију националног инвестиционог плана",null,null,null,null,null,null,null,null,null,null,null,null,null,null,null,null,null,null,{"$f":"UnObr3!D163","v":0},null,null,null,null,null,null,null,null,{"$f":"UnObr3!E163","v":0}]
[3162,null,null,null,null,null,null,"ВИШАК ПРИМАЊА (3001 – 3067)",null,null,null,null,null,null,null,null,null,null,null,null,null,null,null,null,null,null,{"$f":"UnObr3!D164","v":0},null,null,null,null,null,null,null,null,{"$f":"UnObr3!E164","v":0}]
[3163,null,null,null,null,null,null,"МАЊАК ПРИМАЊА (3067 – 3001)",null,null,null,null,null,null,null,null,null,null,null,null,null,null,null,null,null,null,{"$f":"UnObr3!D165","v":2576},null,null,null,null,null,null,null,null,{"$f":"UnObr3!E165","v":1301}]
[]
[null,null,null,null,null,null,null,null,null,null,null,null,null,null,null,null,"Лице одговорно за\nпопуњавање обрасца ",null,null,null,null,null,null,null,null,null,null,null,null,null,null,null,null,null,"Наредбодавац"]
["Датум, ",null,null,{"$f":"Podaci!E21","v":"23.02.2018."},null,null,null,null,". године"]

{"sheet":"UnObr4","index":8,"n_rows":444,"n_cols":7,"rows_kept":444,"cut":false,"hidden":false,"merged":[[0,3,0,4],[0,2,1,2],[0,0,1,0],[0,1,1,1]]}
["Ознака ОП","Конто","Опис","Износ",null,null,"Штампа"]
[null,null,null,"Претходна година","Текућа година"]
[4001,null,"Н О В Ч А Н И  П Р И Л И В И (4002 + 4106 + 4131)",{"$f":"D4+D108+D133","v":139159},{"$f":"E4+E108+E133","v":156452}]
[4002,700000,"ТЕКУЋИ ПРИХОДИ (4003 + 4047 + 4057 + 4069 + 4094 + 4099 + 4103)",{"$f":"D5+D49+D59+D71+D96+D101+D105","v":139159},{"$f":"E5+E49+E59+E71+E96+E101+E105","v":156452}]
[4003,710000,"ПОРЕЗИ (4004 + 4008 + 4010 + 4017 + 4023 + 4030 + 4033 + 4040)",{"$f":"D6+D10+D12+D19+D25+D32+D35+D42","v":0},{"$f":"E6+E10+E12+E19+E25+E32+E35+E42","v":0}]
[4004,711000,"ПОРЕЗ НА ДОХОДАК, ДОБИТ И КАПИТАЛНЕ \nДОБИТКЕ (од 4005 до 4007)",{"$f":"SUM(D7:D9)","v":0},{"$f":"SUM(E7:E9)","v":0}]
[4005,711100,"Порези на доходак и капиталне добитке које плаћају физичка лица"]
[4006,711200,"Порези на добит и капиталне добитке које плаћају предузећа и друга правна лица"]
[4007,711300,"Порези на доходак, добит и капиталне добитке који се не могу разврстати између физичких и правних лица"]
[4008,712000,"ПОРЕЗ НА ФОНД ЗАРАДА (4009)",{"$f":"D11","v":0},{"$f":"E11","v":0}]
[4009,712100,"Порез на фонд зарада"]
[4010,713000,"ПОРЕЗ НА ИМОВИНУ (од 4011 до 4016)",{"$f":"SUM(D13:D18)","v":0},{"$f":"SUM(E13:E18)","v":0}]
[4011,713100,"Периодични порези на непокретности"]
[4012,713200,"Периодични порези на нето имовину"]
[4013,713300,"Порези на заоставштину, наслеђе и поклон"]
[4014,713400,"Порези на финансијске и капиталне трансакције"]
[4015,713500,"Други једнократни порези на имовину"]
[4016,713600,"Други периодични порези на имовину"]
[4017,714000,"ПОРЕЗ НА ДОБРА И УСЛУГЕ (од 4018 до 4022)",{"$f":"SUM(D20:D24)","v":0},{"$f":"SUM(E20:E24)","v":0}]
[4018,714100,"Општи порези на добра и услуге"]
[4019,714300,"Добит фискалних монопола"]
[4020,714400,"Порези на појединачне услуге"]
[4021,714500,"Порези, таксе и накнаде на употребу добара, на дозволу да се добра употребљавају или делатности обављају"]
[4022,714600,"Други порези на добра и услуге"]
[4023,715000,"ПОРЕЗ НА МЕЂУНАРОДНУ ТРГОВИНУ И ТРАНСАКЦИЈЕ (од 4024 до 4029)",{"$f":"SUM(D26:D31)","v":0},{"$f":"SUM(E26:E31)","v":0}]
[4024,715100,"Царине и друге увозне дажбине"]
[4025,715200,"Порези на извоз"]
[4026,715300,"Добит извозних или увозних монопола"]
[4027,715400,"Добит по основу разлике између куповног и продајног девизног курса"]
[4028,715500,"Порези на продају или куповину девиза"]
[4029,715600,"Други порези на међународну трговину и трансакције"]
[4030,716000,"ДРУГИ ПОРЕЗИ (4031 + 4032)",{"$f":"D33+D34","v":0},{"$f":"E33+E34","v":0}]
[4031,716100,"Други порези које искључиво плаћају предузећа, односно предузетници"]
[4032,716200,"Други порези које плаћају остала лица или који се не могу идентификовати"]
[4033,717000,"АКЦИЗЕ (од 4034 до 4039)",{"$f":"SUM(D36:D41)","v":0},{"$f":"SUM(E36:E41)","v":0}]
[4034,717100,"Акцизе на деривате нафте"]
[4035,717200,"Акцизе на дуванске прерађевине"]
[4036,717300,"Акцизе на алкохолна пића"]
[4037,717400,"Акцизе на освежавајућа безалкохолна пића"]
[4038,717500,"Акцизе на кафу"]
[4039,717600,"Друге акцизе"]
[4040,719000,"ЈЕДНОКРАТНИ ПОРЕЗ НА ЕКСТРА ПРОФИТ И ЕКСТРА ИМОВИНУ СТЕЧЕНУ КОРИШЋЕЊЕМ ПОСЕБНИХ ПОГОДНОСТИ (од 4041 до 4046)",{"$f":"SUM(D43:D48)","v":0},{"$f":"SUM(E43:E48)","v":0}]
[4041,719100,"Порез на доходак, добит и капиталну добит на терет физичких лица"]
[4042,719200,"Порез на доходак, добит и капиталну добит на терет предузећа и осталих правних лица"]
[4043,719300,"Порез на доходак, добит и капиталну добит нераспоредив између физичких и правних лица"]
[4044,719400,"Остали једнократни порези на имовину"]
[4045,719500,"Остали порези које плаћају искључиво предузећа и предузетници"]
[4046,719600,"Остали порези које плаћају друга или неидентификована лица"]
[4047,720000,"СОЦИЈАЛНИ ДОПРИНОСИ (4048 + 4053)",{"$f":"D50+D55","v":0},{"$f":"E50+E55","v":0}]
[4048,721000,"ДОПРИНОСИ ЗА СОЦИЈАЛНО ОСИГУРАЊЕ (од 4049 до 4052)",{"$f":"SUM(D51:D54)","v":0},{"$f":"SUM(E51:E54)","v":0}]
[4049,721100,"Доприноси за социјално осигурање на терет запослених"]
[4050,721200,"Доприноси за социјално осигурање на терет послодавца"]
[4051,721300,"Доприноси за социјално осигурање лица која обављају самосталну делатност и незапослених лица"]
[4052,721400,"Доприноси за социјално осигурање који се не могу разврстати"]
[4053,722000,"ОСТАЛИ СОЦИЈАЛНИ ДОПРИНОСИ (од 4054 до 4056)",{"$f":"SUM(D56:D58)","v":0},{"$f":"SUM(E56:E58)","v":0}]
[4054,722100,"Социјални доприноси на терет осигураника"]
[4055,722200,"Социјални доприноси на терет послодаваца"]
[4056,722300,"Импутирани социјални доприноси"]
[4057,730000,"ДОНАЦИЈЕ, ПОМОЋИ И ТРАНСФЕРИ (4058 + 4061 + 4066)",{"$f":"D60+D63+D68","v":13510},{"$f":"E60+E63+E68","v":11436}]
[4058,731000,"ДОНАЦИЈЕ ОД ИНОСТРАНИХ ДРЖАВА (од 4059 + 4060)",{"$f":"D61+D62","v":0},{"$f":"E61+E62","v":0}]
[4059,731100,"Текуће донације од иностраних држава"]
[4060,731200,"Капиталне донације од иностраних држава"]
[4061,732000,"ДОНАЦИЈЕ И ПОМОЋИ ОД МЕЂУНАРОДНИХ ОРГАНИЗАЦИЈА (од 4062 до 4065)",{"$f":"D64+D65+D66+D67","v":0},{"$f":"E64+E65+E66+E67","v":0}]
[4062,732100,"Текуће донације од међународних организација"]
[4063,732200,"Капиталне донације од међународних организација"]
[4064,732300,"Текуће помоћи од ЕУ"]
[4065,732400,"Капиталне помоћи од ЕУ"]
[4066,733000,"ТРАНСФЕРИ ОД ДРУГИХ НИВОА ВЛАСТИ (4067 + 4068)",{"$f":"D69+D70","v":13510},{"$f":"E69+E70","v":11436}]
[4067,733100,"Текући трансфери од других нивоа власти",13510,11436]
[4068,733200,"Капитални трансфери од других нивоа власти"]
[4069,740000,"ДРУГИ ПРИХОДИ (4070 + 4077 + 4082 + 4089 + 4092)",{"$f":"D72+D79+D84+D91+D94","v":15732},{"$f":"E72+E79+E84+E91+E94","v":351}]
[4070,741000,"ПРИХОДИ ОД ИМОВИНЕ (од 4071 до 4076)",{"$f":"SUM(D73:D78)","v":0},{"$f":"SUM(E73:E78)","v":0}]
[4071,741100,"Камате"]
[4072,741200,"Дивиденде"]
[4073,741300,"Повлачење прихода од квази корпорација"]
[4074,741400,"Приход од имовине који припада имаоцима полиса осигурања"]
[4075,741500,"Закуп непроизведене имовине"]
[4076,741600,"Финансијске промене на финансијским лизинзима"]
[4077,742000,"ПРИХОДИ ОД ПРОДАЈЕ ДОБАРА И УСЛУГА (од 4078 до 4081)",{"$f":"SUM(D80:D83)","v":15551},{"$f":"SUM(E80:E83)","v":351}]
[4078,742100,"Приходи од продаје добара и услуга или закупа од стране тржишних организација",14531,28]
[4079,742200,"Таксе и накнаде"]
[4080,742300,"Споредне продаје добара и услуга које врше државне нетржишне јединице",1020,323]
[4081,742400,"Импутиране продаје добара и услуга"]
[4082,743000,"НОВЧАНЕ КАЗНЕ И ОДУЗЕТА ИМОВИНСКА КОРИСТ (од 4083 до 4088)",{"$f":"SUM(D85:D90)","v":0},{"$f":"SUM(E85:E90)","v":0}]
[4083,743100,"Приходи од новчаних казни за кривична дела "]
[4084,743200,"Приходи од новчаних казни за привредне преступе"]
[4085,743300,"Приходи од новчаних казни за прекршаје"]
[4086,743400,"Приходи од пенала"]
[4087,743500,"Приходи од одузете имовинске користи"]
[4088,743900,"Остале новчане казне, пенали и приходи од одузете имовинске користи"]
[4089,744000,"ДОБРОВОЉНИ ТРАНСФЕРИ ОД ФИЗИЧКИХ И ПРАВНИХ ЛИЦА (4090 + 4091)",{"$f":"SUM(D92:D93)","v":96},{"$f":"SUM(E92:E93)","v":0}]
[4090,744100,"Текући добровољни трансфери од физичких и правних лица",96]
[4091,744200,"Капитални добровољни трансфери од физичких и правних лица"]
[4092,745000,"МЕШОВИТИ И НЕОДРЕЂЕНИ ПРИХОДИ (4093)",{"$f":"D95","v":85},{"$f":"E95","v":0}]
[4093,745100,"Мешовити и неодређени приходи",85]
[4094,770000,"МЕМОРАНДУМСКЕ СТАВКЕ ЗА РЕФУНДАЦИЈУ РАСХОДА (4095 + 4097)",{"$f":"D97+D99","v":406},{"$f":"E97+E99","v":648}]
[4095,771000,"МЕМОРАНДУМСКЕ СТАВКЕ ЗА РЕФУНДАЦИЈУ РАСХОДА (4096)",{"$f":"D98","v":0},{"$f":"E98","v":0}]
[4096,771100,"Меморандумске ставке за рефундацију расхода"]
[4097,772000,"МЕМОРАНДУМСКЕ СТАВКЕ ЗА РЕФУНДАЦИЈУ РАСХОДА ИЗ ПРЕТХОДНЕ ГОДИНЕ (4098)",{"$f":"D100","v":406},{"$f":"E100","v":648}]
[4098,772100,"Меморандумске ставке за рефундацију расхода из претходне године",406,648]
[4099,780000,"ТРАНСФЕРИ ИЗМЕЂУ БУЏЕТСКИХ КОРИСНИКА НА ИСТОМ НИВОУ (4100)",{"$f":"D102","v":0},{"$f":"E102","v":0}]
[4100,781000,"ТРАНСФЕРИ ИЗМЕЂУ БУЏЕТСКИХ КОРИСНИКА НА ИСТОМ НИВОУ (4101 + 4102)",{"$f":"D103+D104","v":0},{"$f":"E103+E104","v":0}]
[4101,781100,"Трансфери између буџетских корисника на истом нивоу"]
[4102,781300,"Трансфери између организација обавезног социјалног осигурања"]
[4103,790000,"ПРИХОДИ ИЗ БУЏЕТА (4104)",{"$f":"D106","v":109511},{"$f":"E106","v":144017}]
[4104,791000,"ПРИХОДИ ИЗ БУЏЕТА (4105)",{"$f":"D107","v":109511},{"$f":"E107","v":144017}]
[4105,791100,"Приходи из буџета",109511,144017]
[4106,800000,"ПРИМАЊА ОД ПРОДАЈЕ НЕФИНАНСИЈСКЕ ИМОВИНЕ (4107 + 4114 + 4121 + 4124)",{"$f":"D109+D116+D123+D126","v":0},{"$f":"E109+E116+E123+E126","v":0}]
[4107,810000,"ПРИМАЊА ОД ПРОДАЈЕ ОСНОВНИХ СРЕДСТАВА (4108 + 4110 + 4112)",{"$f":"D110+D112+D114","v":0},{"$f":"E110+E112+E114","v":0}]
[4108,811000,"ПРИМАЊА ОД ПРОДАЈЕ НЕПОКРЕТНОСТИ (4109)",{"$f":"D111","v":0},{"$f":"E111","v":0}]
[4109,811100,"Примања од продаје непокретности"]
[4110,812000,"ПРИМАЊА ОД ПРОДАЈЕ ПОКРЕТНЕ ИМОВИНЕ (4111)",{"$f":"D113","v":0},{"$f":"E113","v":0}]
[4111,812100,"Примања од продаје покретне имовине"]
[4112,813000,"ПРИМАЊА ОД ПРОДАЈЕ ОСТАЛИХ ОСНОВНИХ СРЕДСТАВА (4113)",{"$f":"D115","v":0},{"$f":"E115","v":0}]
[4113,813100,"Примања од продаје осталих основних средстава"]
[4114,820000,"ПРИМАЊА ОД ПРОДАЈЕ ЗАЛИХА (4115 + 4117 + 4119)",{"$f":"D117+D119+D121","v":0},{"$f":"E117+E119+E121","v":0}]
[4115,821000,"ПРИМАЊА ОД ПРОДАЈЕ РОБНИХ РЕЗЕРВИ (4116)",{"$f":"D118","v":0},{"$f":"E118","v":0}]
[4116,821100,"Примања од продаје робних резерви"]
[4117,822000,"ПРИМАЊА ОД ПРОДАЈЕ ЗАЛИХА ПРОИЗВОДЊЕ (4118)",{"$f":"D120","v":0},{"$f":"E120","v":0}]
[4118,822100,"Примања од продаје залиха производње"]
[4119,823000,"ПРИМАЊА ОД ПРОДАЈЕ РОБЕ ЗА ДАЉУ ПРОДАЈУ (4120)",{"$f":"D122","v":0},{"$f":"E122","v":0}]
[4120,823100,"Примања од продаје робе за даљу продају"]
[4121,830000,"ПРИМАЊА ОД ПРОДАЈЕ ДРАГОЦЕНОСТИ (4122)",{"$f":"D124","v":0},{"$f":"E124","v":0}]
[4122,831000,"ПРИМАЊА ОД ПРОДАЈЕ ДРАГОЦЕНОСТИ (4123)",{"$f":"D125","v":0},{"$f":"E125","v":0}]
[4123,831100,"Примања од продаје драгоцености"]
[4124,840000,"ПРИМАЊА ОД ПРОДАЈЕ ПРИРОДНЕ ИМОВИНЕ (4125 + 4127 + 4129)",{"$f":"D127+D129+D131","v":0},{"$f":"E127+E129+E131","v":0}]
[4125,841000,"ПРИМАЊА ОД ПРОДАЈЕ ЗЕМЉИШТА (4126)",{"$f":"D128","v":0},{"$f":"E128","v":0}]
[4126,841100,"Примања од продаје земљишта"]
[4127,842000,"ПРИМАЊА ОД ПРОДАЈЕ ПОДЗЕМНИХ БЛАГА (4128)",{"$f":"D130","v":0},{"$f":"E130","v":0}]
[4128,842100,"Примања од продаје подземних блага"]
[4129,843000,"ПРИМАЊА ОД ПРОДАЈЕ ШУМА И ВОДА (4130)",{"$f":"D132","v":0},{"$f":"E132","v":0}]
[4130,843100,"Примања од продаје шума и вода"]
[4131,900000,"ПРИМАЊА ОД ЗАДУЖИВАЊА И ПРОДАЈЕ ФИНАНСИЈСКЕ ИМОВИНЕ (4132 + 4151)",{"$f":"D134+D153","v":0},{"$f":"E134+E153","v":0}]
[4132,910000,"ПРИМАЊА ОД ЗАДУЖИВАЊА (4133 + 4143)",{"$f":"D135+D145","v":0},{"$f":"E135+E145","v":0}]
[4133,911000,"ПРИМАЊА ОД ДОМАЋИХ ЗАДУЖИВАЊА (од 4134 до 4142)",{"$f":"SUM(D136:D144)","v":0},{"$f":"SUM(E136:E144)","v":0}]
[4134,911100,"Примања од емитовања домаћих хартија од вредности, изузев акција"]
[4135,911200,"Примања од задуживања од осталих нивоа власти"]
[4136,911300,"Примања од задуживања од јавних финансијских институција у земљи"]
[4137,911400,"Примања од задуживања од пословних банака у земљи"]
[4138,911500,"Примања од задуживања од осталих поверилаца у земљи"]
[4139,911600,"Примања од задуживања од домаћинстава у земљи"]
[4140,911700,"Примања од домаћих финансијских деривата"]
[4141,911800,"Примања од домаћих меница"]
[4142,911900,"Исправка унутрашњег дуга"]
[4143,912000,"ПРИМАЊА ОД ИНОСТРАНОГ ЗАДУЖИВАЊА (од 4144 до 4150)",{"$f":"SUM(D146:D152)","v":0},{"$f":"SUM(E146:E152)","v":0}]
[4144,912100,"Примања од емитовања хартија од вредности, изузев акција, на иностраном финансијском тржишту"]
[4145,912200,"Примања од задуживања од иностраних држава"]
[4146,912300,"Примања од задуживања од мултилатералних институција"]
[4147,912400,"Примања од задуживања од иностраних пословних банака "]
[4148,912500,"Примања од задуживања од осталих иностраних поверилаца"]
[4149,912600,"Примања од иностраних финансијских деривата"]
[4150,912900,"Исправка спољног дуга"]
[4151,920000,"ПРИМАЊА ОД ПРОДАЈЕ ФИНАНСИЈСКЕ ИМОВИНЕ (4152 + 4162)",{"$f":"D154+D164","v":0},{"$f":"E154+E164","v":0}]
[4152,921000,"ПРИМАЊА ОД ПРОДАЈЕ ДОМАЋЕ ФИНАНСИЈСКЕ ИМОВИНЕ (од 4153 до 4161)",{"$f":"SUM(D155:D163)","v":0},{"$f":"SUM(E155:E163)","v":0}]
[4153,921100,"Примања од продаје домаћих хартија од вредности, изузев акција"]
[4154,921200,"Примања од отплате кредита датих осталим нивоима власти"]
[4155,921300,"Примања од отплате кредита датих домаћим јавним финансијским институцијама"]
[4156,921400,"Примања од отплате кредита датих домаћим пословним банкама"]
[4157,921500,"Примања од отплате кредита датих домаћим јавним нефинансијским институцијама"]
[4158,921600,"Примања од отплате кредита датих физичким лицима и домаћинствима у земљи"]
[4159,921700,"Примања од отплате кредита датих удружењима грађана у земљи"]
[4160,921800,"Примања од отплате кредита датих нефинансијским приватним предузећима у земљи"]
[4161,921900,"Примања од продаје домаћих акција и осталог капитала"]
[4162,922000,"ПРИМАЊА ОД ПРОДАЈЕ СТРАНЕ ФИНАНСИЈСКЕ ИМОВИНЕ (од 4163 до 4170)",{"$f":"SUM(D165:D172)","v":0},{"$f":"SUM(E165:E172)","v":0}]
[4163,922100,"Примања од продаје страних хартија од вредности, изузев акција"]
[4164,922200,"Примања од отплате кредита датих страним владама"]
[4165,922300,"Примања од отплате кредита датих међународним организацијама"]
[4166,922400,"Примања од отплате кредита датих страним пословним банкама"]
[4167,922500,"Примања од отплате кредита датих страним нефинансијским институцијама"]
[4168,922600,"Примања од отплате кредита датих страним невладиним организацијама"]
[4169,922700,"Примања од продаје страних акција и осталог капитала"]
[4170,922800,"Примања од продаје стране валуте"]
[4171,null,"НОВЧАНИ ОДЛИВИ (4172 + 4340 + 4386)",{"$f":"D174+D342+D388","v":141332},{"$f":"E174+E342+E388","v":156447}]
[4172,400000,"ТЕКУЋИ РАСХОДИ (4173 + 4195 + 4240 + 4255 + 4279 + 4292 + 4308 + 4323)",{"$f":"D175+D197+D242+D257+D281+D294+D310+D325","v":138756},{"$f":"E175+E197+E242+E257+E281+E294+E310+E325","v":155146}]
[4173,410000,"РАСХОДИ ЗА ЗАПОСЛЕНЕ (4174 + 4176 + 4180 + 4182 + 4187 + 4189 + 4191 + 4193)",{"$f":"D176+D178+D182+D184+D189+D191+D193+D195","v":97480},{"$f":"E176+E178+E182+E184+E189+E191+E193+E195","v":103699}]
[4174,411000,"ПЛАТЕ, ДОДАЦИ И НАКНАДЕ ЗАПОСЛЕНИХ (ЗАРАДЕ) (4175)",{"$f":"D177","v":79028},{"$f":"E177","v":84879}]
[4175,411100,"Плате, додаци и накнаде запослених",79028,84879]
[4176,412000,"СОЦИЈАЛНИ ДОПРИНОСИ НА ТЕРЕТ ПОСЛОДАВЦА (од 4177 до 4179)",{"$f":"SUM(D179:D181)","v":14146},{"$f":"SUM(E179:E181)","v":15200}]
[4177,412100,"Допринос за пензијско и инвалидско осигурање ",9483,10190]
[4178,412200,"Допринос за здравствено осигурање",4070,4373]
[4179,412300,"Допринос за незапосленост",593,637]
[4180,413000,"НАКНАДЕ У НАТУРИ (4181)",{"$f":"D183","v":345},{"$f":"E183","v":243}]
[4181,413100,"Накнаде у натури",345,243]
[4182,414000,"СОЦИЈАЛНА ДАВАЊА ЗАПОСЛЕНИМА (од 4183 до 4186)",{"$f":"SUM(D185:D188)","v":2053},{"$f":"SUM(E185:E188)","v":969}]
[4183,414100,"Исплата накнада за време одсуствовања с посла на терет фондова",648,763]
[4184,414200,"Расходи за образовање деце запослених"]
[4185,414300,"Отпремнине и помоћи",1405,206]
[4186,414400,"Помоћ у медицинском лечењу запосленог или чланова уже породице и друге помоћи запосленом"]
[4187,415000,"НАКНАДЕ ТРОШКОВА ЗА ЗАПОСЛЕНЕ (4188)",{"$f":"D190","v":1230},{"$f":"E190","v":1120}]
[4188,415100,"Накнаде трошкова за запослене",1230,1120]
[4189,416000,"НАГРАДЕ ЗАПОСЛЕНИМА И ОСТАЛИ ПОСЕБНИ РАСХОДИ (4190)",{"$f":"D192","v":678},{"$f":"E192","v":1288}]
[4190,416100,"Награде запосленима и остали посебни расходи",678,1288]
[4191,417000,"ПОСЛАНИЧКИ ДОДАТАК (4192)",{"$f":"D194","v":0},{"$f":"E194","v":0}]
[4192,417100,"Посланички додатак"]
[4193,418000,"СУДИЈСКИ ДОДАТАК (4194)",{"$f":"D196","v":0},{"$f":"E196","v":0}]
[4194,418100,"Судијски додатак"]
[4195,420000,"КОРИШЋЕЊЕ УСЛУГА И РОБА (4196 + 4204 + 4210 + 4219 + 4227 + 4230) ",{"$f":"D198+D206+D212+D221+D229+D232","v":35106},{"$f":"E198+E206+E212+E221+E229+E232","v":37468}]
[4196,421000,"СТАЛНИ ТРОШКОВИ (од 4197 до 4203)",{"$f":"SUM(D199:D205)","v":9361},{"$f":"SUM(E199:E205)","v":10626}]
[4197,421100,"Трошкови платног промета и банкарских услуга",179,210]
[4198,421200,"Енергетске услуге",6678,8273]
[4199,421300,"Комуналне услуге",1430,1559]
[4200,421400,"Услуге комуникација",498,471]
[4201,421500,"Трошкови осигурања",576,113]
[4202,421600,"Закуп имовине и опреме"]
[4203,421900,"Остали трошкови"]
[4204,422000,"ТРОШКОВИ ПУТОВАЊА (од 4205 до 4209)",{"$f":"SUM(D207:D211)","v":853},{"$f":"SUM(E207:E211)","v":780}]
[4205,422100,"Трошкови службених путовања у земљи",717,630]
[4206,422200,"Трошкови службених путовања у иностранство"]
[4207,422300,"Трошкови путовања у оквиру редовног рада",136,150]
[4208,422400,"Трошкови путовања ученика"]
[4209,422900,"Остали трошкови транспорта"]
[4210,423000,"УСЛУГЕ ПО УГОВОРУ (од 4211 до 4218)",{"$f":"SUM(D213:D220)","v":4075},{"$f":"SUM(E213:E220)","v":3401}]
[4211,423100,"Административне услуге"]
[4212,423200,"Компјутерске услуге",97,101]
[4213,423300,"Услуге образовања и усавршавања запослених",276,187]
[4214,423400,"Услуге информисања",170,87]
[4215,423500,"Стручне услуге"]
[4216,423600,"Услуге за домаћинство и угоститељство",116,106]
[4217,423700,"Репрезентација"]
[4218,423900,"Остале опште услуге",3416,2920]
[4219,424000,"СПЕЦИЈАЛИЗОВАНЕ УСЛУГЕ (од 4220 до 4226)",{"$f":"SUM(D222:D228)","v":1719},{"$f":"SUM(E222:E228)","v":2165}]
[4220,424100,"Пољопривредне услуге"]
[4221,424200,"Услуге образовања, културе и спорта",230,181]
[4222,424300,"Медицинске услуге"]
[4223,424400,"Услуге одржавања аутопутева"]
[4224,424500,"Услуге одржавања националних паркова и природних површина"]
[4225,424600,"Услуге очувања животне средине, науке и геодетске услуге"]
[4226,424900,"Остале специјализоване услуге",1489,1984]
[4227,425000,"ТЕКУЋЕ ПОПРАВКЕ И ОДРЖАВАЊЕ (УСЛУГЕ И МАТЕРИЈАЛИ) (4228 + 4229)",{"$f":"SUM(D230:D231)","v":1860},{"$f":"SUM(E230:E231)","v":2034}]
[4228,425100,"Текуће поправке и одражавање зграда и објеката",1439,1451]
[4229,425200,"Текуће поправке и одржавање опреме",421,583]
[4230,426000,"МАТЕРИЈАЛ (од 4231 до 4239)",{"$f":"SUM(D233:D241)","v":17238},{"$f":"SUM(E233:E241)","v":18462}]
[4231,426100,"Административни материјал",706,665]
[4232,426200,"Материјали за пољопривреду "]
[4233,426300,"Материјали за образовање и усавршавање запослених",361,250]
[4234,426400,"Материјали за саобраћај",554,598]
[4235,426500,"Материјали за очување животне средине и науку"]
[4236,426600,"Материјали за образовање, културу и спорт",457,1033]
[4237,426700,"Медицински и лабораторијски материјали"]
[4238,426800,"Материјали за одржавање хигијене и угоститељство",12897,13816]
[4239,426900,"Материјали за посебне намене",2263,2100]
[4240,430000,"АМОРТИЗАЦИЈА И УПОТРЕБА СРЕДСТАВА ЗА РАД (4241 + 4245 + 4247 + 4249 + 4253)",{"$f":"D243+D247+D249+D251+D255","v":0},{"$f":"E243+E247+E249+E251+E255","v":0}]
[4241,431000,"АМОРТИЗАЦИЈА НЕКРЕТНИНА И ОПРЕМЕ (од 4242 до 4244)",{"$f":"SUM(D244:D246)","v":0},{"$f":"SUM(E244:E246)","v":0}]
[4242,431100,"Амортизација зграда и грађевинскиx објеката"]
[4243,431200,"Амортизација опреме"]
[4244,431300,"Амортизација осталих некретнина и опреме"]
[4245,432000,"АМОРТИЗАЦИЈА КУЛТИВИСАНЕ ИМОВИНЕ (4246)",{"$f":"D248","v":0},{"$f":"E248","v":0}]
[4246,432100,"Амортизација култивисане имовине"]
[4247,433000,"УПОТРЕБА ДРАГОЦЕНОСТИ (4248)",{"$f":"D250","v":0},{"$f":"E250","v":0}]
[4248,433100,"Употреба драгоцености"]
[4249,434000,"УПОТРЕБА ПРИРОДНЕ ИМОВИНЕ (од 4250 до 4252)",{"$f":"SUM(D252:D254)","v":0},{"$f":"SUM(E252:E254)","v":0}]
[4250,434100,"Употреба земљишта"]
[4251,434200,"Употреба подземног блага"]
[4252,434300,"Употреба шума и вода"]
[4253,435000,"АМОРТИЗАЦИЈА НЕМАТЕРИЈАЛНЕ ИМОВИНЕ (4254)",{"$f":"D256","v":0},{"$f":"E256","v":0}]
[4254,435100,"Амортизација нематеријалне имовине"]
[4255,440000,"ОТПЛАТА КАМАТА И ПРАТЕЋИ ТРОШКОВИ ЗАДУЖИВАЊА (4256 + 4266 + 4273 + 4275)",{"$f":"D258+D268+D275+D277","v":0},{"$f":"E258+E268+E275+E277","v":0}]
[4256,441000,"ОТПЛАТА ДОМАЋИХ КАМАТА (од 4257 до 4265)",{"$f":"SUM(D259:D267)","v":0},{"$f":"SUM(E259:E267)","v":0}]
[4257,441100,"Отплата камата на домаће хартије од вредности"]
[4258,441200,"Отплата камата осталим нивоима власти"]
[4259,441300,"Отплата камата домаћим јавним финансијским институцијама"]
[4260,441400,"Отплата камата домаћим пословним банкама"]
[4261,441500,"Отплата камата осталим домаћим кредиторима"]
[4262,441600,"Отплата камата домаћинствима у земљи"]
[4263,441700,"Отплата камата на домаће финансијске деривате"]
[4264,441800,"Отплата камата на домаће менице"]
[4265,441900,"Финансијске промене на финансијским лизинзима"]
[4266,442000,"ОТПЛАТА СТРАНИХ КАМАТА (од 4267 до 4272)",{"$f":"SUM(D269:D274)","v":0},{"$f":"SUM(E269:E274)","v":0}]
[4267,442100,"Отплата камата на хартије од вредности емитоване на иностраном финансијском тржишту"]
[4268,442200,"Отплата камата страним владама"]
[4269,442300,"Отплата камата мултилатералним институцијама"]
[4270,442400,"Отплата камата страним пословним банкама"]
[4271,442500,"Отплата камата осталим страним кредиторима"]
[4272,442600,"Отплата камата на стране финансијске деривате"]
[4273,443000,"ОТПЛАТА КАМАТА ПО ГАРАНЦИЈАМА (4274)",{"$f":"D276","v":0},{"$f":"E276","v":0}]
[4274,443100,"Отплата камата по гаранцијама"]
[4275,444000,"ПРАТЕЋИ ТРОШКОВИ ЗАДУЖИВАЊА (од 4276 до 4278)",{"$f":"SUM(D278:D280)","v":0},{"$f":"SUM(E278:E280)","v":0}]
[4276,444100,"Негативне курсне разлике"]
[4277,444200,"Казне за кашњење"]
[4278,444300,"Остали пратећи трошкови задуживања"]
[4279,450000,"СУБВЕНЦИЈЕ (4280 + 4283 + 4286 + 4289)",{"$f":"D282+D285+D288+D291","v":0},{"$f":"E282+E285+E288+E291","v":0}]
[4280,451000,"СУБВЕНЦИЈЕ ЈАВНИМ НЕФИНАНСИЈСКИМ ПРЕДУЗЕЋИМА И ОРГАНИЗАЦИЈАМА (4281 + 4282)",{"$f":"SUM(D283:D284)","v":0},{"$f":"SUM(E283:E284)","v":0}]
[4281,451100,"Текуће субвенције јавним нефинансијским предузећима и организацијама"]
[4282,451200,"Капиталне субвенције јавним нефинансијским предузећима и организацијама"]
[4283,452000,"СУБВЕНЦИЈЕ ПРИВАТНИМ ФИНАНСИЈСКИМ ИНСТИТУЦИЈАМА (4284 + 4285)",{"$f":"SUM(D286:D287)","v":0},{"$f":"SUM(E286:E287)","v":0}]
[4284,452100,"Текуће субвенције приватним финансијским институцијама"]
[4285,452200,"Капиталне субвенције приватним финансијским институцијама"]
[4286,453000,"СУБВЕНЦИЈЕ ЈАВНИМ ФИНАНСИЈСКИМ ИНСТИТУЦИЈАМА (4287 + 4288)",{"$f":"SUM(D289:D290)","v":0},{"$f":"SUM(E289:E290)","v":0}]
[4287,453100,"Текуће субвенције јавним финансијским институцијама"]
[4288,453200,"Капиталне субвенције јавним финансијским институцијама"]
[4289,454000,"СУБВЕНЦИЈЕ ПРИВАТНИМ ПРЕДУЗЕЋИМА (4290 + 4291)",{"$f":"SUM(D292:D293)","v":0},{"$f":"SUM(E292:E293)","v":0}]
[4290,454100,"Текуће субвенције приватним предузећима"]
[4291,454200,"Капиталне субвенције приватним предузећима"]
[4292,460000,"ДОНАЦИЈЕ, ДОТАЦИЈЕ И ТРАНСФЕРИ (4293 + 4296 + 4299 + 4302 + 4305)",{"$f":"D295+D298+D301+D304+D307","v":5398},{"$f":"E295+E298+E301+E304+E307","v":4268}]
[4293,461000,"ДОНАЦИЈЕ СТРАНИМ ВЛАДАМА (4294 + 4295)",{"$f":"SUM(D296:D297)","v":0},{"$f":"SUM(E296:E297)","v":0}]
[4294,461100,"Текуће донације страним владама"]
[4295,461200,"Капиталне донације страним владама"]
[4296,462000,"ДОТАЦИЈЕ МЕЂУНАРОДНИМ ОРГАНИЗАЦИЈАМА (4297 + 4298)",{"$f":"SUM(D299:D300)","v":0},{"$f":"SUM(E299:E300)","v":0}]
[4297,462100,"Текуће дотације међународним организацијама"]
[4298,462200,"Капиталне дотације међународним организацијама"]
[4299,463000,"ТРАНСФЕРИ ОСТАЛИМ НИВОИМА ВЛАСТИ (4300 + 4301)",{"$f":"SUM(D302:D303)","v":0},{"$f":"SUM(E302:E303)","v":0}]
[4300,463100,"Текући трансфери осталим нивоима власти"]
[4301,463200,"Капитални трансфери осталим нивоима власти"]
[4302,464000,"ДОТАЦИЈЕ ОРГАНИЗАЦИЈАМА ОБАВЕЗНОГ СОЦИЈАЛНОГ ОСИГУРАЊА (4303 + 4304)",{"$f":"SUM(D305:D306)","v":0},{"$f":"SUM(E305:E306)","v":0}]
[4303,464100,"Текуће дотације организацијама обавезног социјалног осигурања"]
[4304,464200,"Капиталне дотације организацијама обавезног социјалног осигурања"]
[4305,465000,"ОСТАЛЕ ДОТАЦИЈЕ И ТРАНСФЕРИ (4306 + 4307)",{"$f":"SUM(D308:D309)","v":5398},{"$f":"SUM(E308:E309)","v":4268}]
[4306,465100,"Остале текуће дотације и трансфери",5398,4268]
[4307,465200,"Остале капиталне дотације и трансфери"]
[4308,470000,"СОЦИЈАЛНО ОСИГУРАЊЕ И СОЦИЈАЛНА ЗАШТИТА (4309 + 4313)",{"$f":"D311+D315","v":98},{"$f":"E311+E315","v":121}]
[4309,471000,"ПРАВА ИЗ СОЦИЈАЛНОГ ОСИГУРАЊА (ОРГАНИЗАЦИЈЕ ОБАВЕЗНОГ СОЦИЈАЛНОГ ОСИГУРАЊА) (од 4310 до 4312)",{"$f":"SUM(D312:D314)","v":0},{"$f":"SUM(E312:E314)","v":0}]
[4310,471100,"Права из социјалног осигурања која се исплаћују непосредно домаћинствима"]
[4311,471200,"Права из социјалног осигурања која се исплаћују непосредно пружаоцима услуга"]
[4312,471900,"Трансфери другим организацијама обавезног социјалног осигурања за доприносе за осигурање"]
[4313,472000,"НАКНАДЕ ЗА СОЦИЈАЛНУ ЗАШТИТУ ИЗ БУЏЕТА (од 4314 до 4322)",{"$f":"SUM(D316:D324)","v":98},{"$f":"SUM(E316:E324)","v":121}]
[4314,472100,"Накнаде из буџета у случају болести и инвалидности"]
[4315,472200,"Накнаде из буџета за породиљско одсуство "]
[4316,472300,"Накнаде из буџета за децу и породицу "]
[4317,472400,"Накнаде из буџета за случај незапослености "]
[4318,472500,"Старосне и породичне пензије из буџета"]
[4319,472600,"Накнаде из буџета у случају смрти"]
[4320,472700,"Накнаде из буџета за образовање, културу, науку и спорт ",98,121]
[4321,472800,"Накнаде из буџета за становање и живот "]
[4322,472900,"Остале накнаде из буџета"]
[4323,480000,"ОСТАЛИ РАСХОДИ (4324 + 4327 + 4331 + 4333 + 4336 + 4338)",{"$f":"D326+D329+D333+D335+D338+D340","v":674},{"$f":"E326+E329+E333+E335+E338+E340","v":9590}]
[4324,481000,"ДОТАЦИЈЕ НЕВЛАДИНИМ ОРГАНИЗАЦИЈАМА (4325 + 4326)",{"$f":"SUM(D327:D328)","v":0},{"$f":"SUM(E327:E328)","v":0}]
[4325,481100,"Дотације непрофитним организацијама које пружају помоћ домаћинствима"]
[4326,481900,"Дотације осталим непрофитним институцијама"]
[4327,482000,"ПОРЕЗИ, ОБАВЕЗНЕ ТАКСЕ И КАЗНЕ (од 4328 до 4330)",{"$f":"SUM(D330:D332)","v":36},{"$f":"SUM(E330:E332)","v":134}]
[4328,482100,"Остали порези"]
[4329,482200,"Обавезне таксе ",36,134]
[4330,482300,"Новчане казне и пенали"]
[4331,483000,"НОВЧАНЕ КАЗНЕ И ПЕНАЛИ ПО РЕШЕЊУ СУДОВА (4332)",{"$f":"D334","v":638},{"$f":"E334","v":1200}]
[4332,483100,"Новчане казне и пенали по решењу судова",638,1200]
[4333,484000,"НАКНАДА ШТЕТЕ ЗА ПОВРЕДЕ ИЛИ ШТЕТУ НАСТАЛУ УСЛЕД ЕЛЕМЕНТАРНИХ НЕПОГОДА ИЛИ ДРУГИХ ПРИРОДНИХ УЗРОКА (4334 + 4335)",{"$f":"SUM(D336:D337)","v":0},{"$f":"SUM(E336:E337)","v":0}]
[4334,484100,"Накнада штете за повреде или штету услед елементарних непогода"]
[4335,484200,"Накнада штете од дивљачи"]
[4336,485000,"НАКНАДА ШТЕТЕ ЗА ПОВРЕДЕ ИЛИ ШТЕТУ НАНЕТУ ОД СТРАНЕ ДРЖАВНИХ ОРГАНА (4337)",{"$f":"D339","v":0},{"$f":"E339","v":8256}]
[4337,485100,"Накнада штете за повреде или штету нанету од стране државних органа",null,8256]
[4338,489000,"РАСХОДИ КОЈИ СЕ ФИНАНСИРАЈУ ИЗ СРЕДСТАВА ЗА РЕАЛИЗАЦИЈУ НАЦИОНАЛНОГ ИНВЕСТИЦИОНОГ ПЛАНА (4339)",{"$f":"D341","v":0},{"$f":"E341","v":0}]
[4339,489100,"Расходи који се финансирају из средстава за реализацију националног инвестиционог плана"]
[4340,500000,"ИЗДАЦИ ЗА НЕФИНАНСИЈСКУ ИМОВИНУ (4341 + 4363 + 4372 + 4375 + 4383)",{"$f":"D343+D365+D374+D377+D385","v":2576},{"$f":"E343+E365+E374+E377+E385","v":1301}]
[4341,510000,"ОСНОВНА СРЕДСТВА (4342 + 4347 + 4357 + 4359 + 4361)",{"$f":"D344+D349+D359+D361+D363","v":2576},{"$f":"E344+E349+E359+E361+E363","v":1301}]
[4342,511000,"ЗГРАДЕ И ГРАЂЕВИНСКИ ОБЈЕКТИ (од 4343 до 4346)",{"$f":"SUM(D345:D348)","v":0},{"$f":"SUM(E345:E348)","v":0}]
[4343,511100,"Куповина зграда и објеката"]
[4344,511200,"Изградња зграда и објеката"]
[4345,511300,"Капитално одржавање зграда и објеката"]
[4346,511400,"Пројектно планирање"]
[4347,512000,"МАШИНЕ И ОПРЕМА (од 4348 до 4356)",{"$f":"SUM(D350:D358)","v":2576},{"$f":"SUM(E350:E358)","v":1301}]
[4348,512100,"Опрема за саобраћај"]
[4349,512200,"Административна опрема",2204,896]
[4350,512300,"Опрема за пољопривреду"]
[4351,512400,"Опрема за заштиту животне средине"]
[4352,512500,"Медицинска и лабораторијска опрема"]
[4353,512600,"Опрема за образовање, науку, културу и спорт",333,405]
[4354,512700,"Опрема за војску"]
[4355,512800,"Опрема за јавну безбедност",39]
[4356,512900,"Опрема за производњу, моторна, непокретна и немоторна опрема"]
[4357,513000,"ОСТАЛЕ НЕКРЕТНИНЕ И ОПРЕМА (4358)",{"$f":"D360","v":0},{"$f":"E360","v":0}]
[4358,513100,"Остале некретнине и опрема"]
[4359,514000,"КУЛТИВИСАНА ИМОВИНА (4360)",{"$f":"D362","v":0},{"$f":"E362","v":0}]
[4360,514100,"Култивисана имовина"]
[4361,515000,"НЕМАТЕРИЈАЛНА ИМОВИНА (4362)",{"$f":"D364","v":0},{"$f":"E364","v":0}]
[4362,515100,"Нематеријална имовина"]
[4363,520000,"ЗАЛИХЕ (4364 + 4366 + 4370)",{"$f":"D366+D368+D372","v":0},{"$f":"E366+E368+E372","v":0}]
[4364,521000,"РОБНЕ РЕЗЕРВЕ (4365)",{"$f":"D367","v":0},{"$f":"E367","v":0}]
[4365,521100,"Робне резерве"]
[4366,522000,"ЗАЛИХЕ ПРОИЗВОДЊЕ (од 4367 до 4369)",{"$f":"SUM(D369:D371)","v":0},{"$f":"SUM(E369:E371)","v":0}]
[4367,522100,"Залихе материјала"]
[4368,522200,"Залихе недовршене производње"]
[4369,522300,"Залихе готових производа"]
[4370,523000,"ЗАЛИХЕ РОБЕ ЗА ДАЉУ ПРОДАЈУ (4371)",{"$f":"D373","v":0},{"$f":"E373","v":0}]
[4371,523100,"Залихе робе за даљу продају"]
[4372,530000,"ДРАГОЦЕНОСТИ (4373)",{"$f":"D375","v":0},{"$f":"E375","v":0}]
[4373,531000,"ДРАГОЦЕНОСТИ (4374)",{"$f":"D376","v":0},{"$f":"E376","v":0}]
[4374,531100,"Драгоцености"]
[4375,540000,"ПРИРОДНА ИМОВИНА (4376 + 4378 + 4380)",{"$f":"D378+D380+D382","v":0},{"$f":"E378+E380+E382","v":0}]
[4376,541000,"ЗЕМЉИШТЕ (4377)",{"$f":"D379","v":0},{"$f":"E379","v":0}]
[4377,541100,"Земљиште"]
[4378,542000,"РУДНА БОГАТСТВА (4379)",{"$f":"D381","v":0},{"$f":"E381","v":0}]
[4379,542100,"Копови"]
[4380,543000,"ШУМЕ И ВОДЕ (4381 + 4382)",{"$f":"SUM(D383:D384)","v":0},{"$f":"SUM(E383:E384)","v":0}]
[4381,543100,"Шуме"]
[4382,543200,"Воде"]
[4383,55000,"НЕФИНАНСИЈСКА ИМОВИНА КОЈА СЕ ФИНАНСИРА ИЗ СРЕДСТАВА ЗА РЕАЛИЗАЦИЈУ НАЦИОНАЛНОГ ИНВЕСТИЦИОНОГ ПЛАНА (4384)",{"$f":"D386","v":0},{"$f":"E386","v":0}]
[4384,551000,"НЕФИНАНСИЈСКА ИМОВИНА КОЈА СЕ ФИНАНСИРА ИЗ СРЕДСТАВА ЗА РЕАЛИЗАЦИЈУ НАЦИОНАЛНОГ ИНВЕСТИЦИОНОГ ПЛАНА (4385)",{"$f":"D387","v":0},{"$f":"E387","v":0}]
[4385,551100,"Нефинансијска имовина која се финансира из \nсредстава за реализацију националног инвестиционог плана"]
[4386,600000,"ИЗДАЦИ ЗА ОТПЛАТУ ГЛАВНИЦЕ И НАБАВКУ ФИНАНСИЈСКЕ ИМОВИНЕ (4387 + 4412)",{"$f":"D389+D414","v":0},{"$f":"E389+E414","v":0}]
[4387,610000,"ОТПЛАТА ГЛАВНИЦЕ (4388 + 4398 + 4406 + 4408 + 4410)",{"$f":"D390+D400+D408+D410+D412","v":0},{"$f":"E390+E400+E408+E410+E412","v":0}]
[4388,611000,"ОТПЛАТА ГЛАВНИЦЕ ДОМАЋИМ КРЕДИТОРИМА (од 4389 до 4397)",{"$f":"SUM(D391:D399)","v":0},{"$f":"SUM(E391:E399)","v":0}]
[4389,611100,"Отплата главнице на домаће хартије од вредности, изузев акција"]
[4390,611200,"Отплата главнице осталим нивоима власти"]
[4391,611300,"Отплата главнице домаћим јавним финансијским институцијама"]
[4392,611400,"Отплата главнице домаћим пословним банкама"]
[4393,611500,"Отплата главнице осталим домаћим кредиторима"]
[4394,611600,"Отплата главнице домаћинствима у земљи"]
[4395,611700,"Отплата главнице на домаће финансијске деривате "]
[4396,611800,"Отплата домаћих меница"]
[4397,611900,"Исправка унутрашњег дуга"]
[4398,612000,"ОТПЛАТА ГЛАВНИЦЕ СТРАНИМ КРЕДИТОРИМА (од 4399 до 4405)",{"$f":"SUM(D401:D407)","v":0},{"$f":"SUM(E401:E407)","v":0}]
[4399,612100,"Отплата главнице на хартије од вредности, изузев акција, емитоване на иностраном финансијском тржишту"]
[4400,612200,"Отплата главнице страним владама"]
[4401,612300,"Отплата главнице мултилатералним институцијама"]
[4402,612400,"Отплата главнице страним пословним банкама"]
[4403,612500,"Отплата главнице осталим страним кредиторима"]
[4404,612600,"Отплата главнице на стране финансијске деривате"]
[4405,612900,"Исправка спољног дуга"]
[4406,613000,"ОТПЛАТА ГЛАВНИЦЕ ПО ГАРАНЦИЈАМА (4407)",{"$f":"D409","v":0},{"$f":"E409","v":0}]
[4407,613100,"Отплата главнице по гаранцијама"]
[4408,614000,"ОТПЛАТА ГЛАВНИЦЕ ЗА ФИНАНСИЈСКИ ЛИЗИНГ (4409)",{"$f":"D411","v":0},{"$f":"E411","v":0}]
[4409,614100,"Отплата главнице за финансијски лизинг"]
[4410,615000,"ОТПЛАТА ГАРАНЦИЈА ПО КОМЕРЦИЈАЛНИМ ТРАНСАКЦИЈАМА (4411)",{"$f":"D413","v":0},{"$f":"E413","v":0}]
[4411,615100,"Отплата гаранција по комерцијалним трансакцијама"]
[4412,620000,"НАБАВКА ФИНАНСИЈСКЕ ИМОВИНЕ (4413 + 4423 + 4432)",{"$f":"D415+D425+D434","v":0},{"$f":"E415+E425+E434","v":0}]
[4413,621000,"НАБАВКА ДОМАЋЕ ФИНАНСИЈСКЕ ИМОВИНЕ (од 4414 до 4422)",{"$f":"SUM(D416:D424)","v":0},{"$f":"SUM(E416:E424)","v":0}]
[4414,621100,"Набавка домаћих хартија од вредности, изузев акција"]
[4415,621200,"Кредити осталим нивоима власти"]
[4416,621300,"Кредити домаћим јавним финансијским институцијама"]
[4417,621400,"Кредити домаћим пословним банкама"]
[4418,621500,"Кредити домаћим нефинансијским јавним институцијама"]
[4419,621600,"Кредити физичким лицима и домаћинствима у земљи"]
[4420,621700,"Кредити невладиним организацијама у земљи"]
[4421,621800,"Кредити домаћим нефинансијским приватним предузећима"]
[4422,621900,"Набавка домаћих акција и осталог капитала"]
[4423,622000,"НАБАВКА СТРАНЕ ФИНАНСИЈСКЕ ИМОВИНЕ (од 4424 до 4431)",{"$f":"SUM(D426:D433)","v":0},{"$f":"SUM(E426:E433)","v":0}]
[4424,622100,"Набавка страних хартија од вредности, изузев акција"]
[4425,622200,"Кредити страним владама"]
[4426,622300,"Кредити међународним организацијама"]
[4427,622400,"Кредити страним пословним банкама"]
[4428,622500,"Кредити страним нефинансијским институцијама"]
[4429,622600,"Кредити страним невладиним организацијама"]
[4430,622700,"Набавка страних акција и осталог капитала"]
[4431,622800,"Куповина стране валуте"]
[4432,623000,"НАБАВКА ФИНАНСИЈСКЕ ИМОВИНЕ КОЈА СЕ ФИНАНСИРА ИЗ СРЕДСТАВА ЗА РЕАЛИЗАЦИЈУ НАЦИОНАЛНОГ ИНВЕСТИЦИОНОГ ПЛАНА (4433)",{"$f":"D435","v":0},{"$f":"E435","v":0}]
[4433,623100,"Набавка финансијске имовине која се финансира из средстава за реализацију националног инвестиционог плана"]
[4434,null,"ВИШАК НОВЧАНИХ ПРИЛИВА (4001 – 4171) > 0",{"$f":"IF(D3>D173,D3-D173,0)","v":0},{"$f":"IF(E3>E173,E3-E173,0)","v":5}]
[4435,null,"МАЊАК НОВЧАНИХ ПРИЛИВА (4171 – 4001) > 0",{"$f":"IF(D173>D3,D173-D3,0)","v":2173},{"$f":"IF(E173>E3,E173-E3,0)","v":0}]
[4436,null,"САЛДО ГОТОВИНЕ НА ПОЧЕТКУ ГОДИНЕ",2174,1]
[4437,null,"КОРИГОВАНИ ПРИЛИВИ ЗА ПРИМЉЕНА СРЕДСТВА У ОБРАЧУНУ (4001 + 4438)",{"$f":"D3+D440","v":139159},{"$f":"E3+E440","v":156452}]
[4438,null,"Корекција новчаних прилива за наплаћена средства којa се не евидентирају преко класа 700000, 800000 и 900000"]
[4439,null,"КОРИГОВАНИ ОДЛИВИ ЗА ИСПЛАЋЕНА СРЕДСТВА У ОБРАЧУНУ (4171 – 4440 + 4441)",{"$f":"D173-D442+D443","v":141332},{"$f":"E173-E442+E443","v":156447}]
[4440,null,"Корекција новчаних одлива за износ обрачунате амортизације књижене на терет сопствених прихода"]
[4441,null,"Корекција новчаних одлива за износ плаћених расхода који се не евидентирају преко класе 400000, 500000 и 600000"]
[4442,null,"САЛДО ГОТОВИНЕ НА КРАЈУ ГОДИНЕ (4436 + 4437 – 4439)",{"$f":"D438+D439-D441","v":1},{"$f":"E438+E439-E441","v":6}]

{"sheet":"StObr4","index":9,"n_rows":472,"n_cols":44,"rows_kept":472,"cut":false,"hidden":false,"merged":[[0,37,0,42],[1,0,1,43],[4,0,5,2],[4,4,5,9],[4,11,5,18],[4,20,5,24],[4,26,5,30],[4,32,5,32],[4,34,5,43],[7,1,7,24],[8,1,8,42],[10,1,10,6],[10,7,10,15],[10,17,10,23],[10,25,10,37],[12,1,12,3],[12,4,12,15],[12,17,12,24],[12,25,12,40],[14,1,14,39],[15,1,15,41],[16,1,16,41],[19,9,19,33],[20,11,20,16],[20,22,20,23],[20,29,20,31],[20,17,20,21],[20,24,20,28],[21,36,21,43],[22,0,25,2],[22,3,25,6],[22,7,25,25],[22,26,23,43],[24,26,25,34],[24,35,25,43],[26,0,26,2],[26,3,26,6],[26,7,26,25],[26,26,26,34],[26,35,26,43],[27,0,27,2],[27,3,27,6],[27,7,27,25],[27,26,27,34],[27,35,27,43],[28,0,28,2],[28,3,28,6],[28,7,28,25],[28,26,28,34],[28,35,28,43],[29,0,29,2],[29,3,29,6],[29,7,29,25],[29,26,29,34],[29,35,29,43],[30,0,30,2],[30,3,30,6],[30,7,30,25],[30,26,30,34],[30,35,30,43],[31,0,31,2],[31,3,31,6],[31,7,31,25],[31,26,31,34],[31,35,31,43],[32,0,32,2],[32,3,32,6],[32,7,32,25],[32,26,32,34],[32,35,32,43],[33,0,33,2],[33,3,33,6],[33,7,33,25],[33,26,33,34],[33,35,33,43],[34,0,34,2],[34,3,34,6],[34,7,34,25],[34,26,34,34],[34,35,34,43],[35,0,35,2],[35,3,35,6],[35,7,35,25],[35,26,35,34],[35,35,35,43],[36,0,36,2],[36,3,36,6],[36,7,36,25],[36,26,36,34],[36,35,36,43],[37,0,37,2],[37,3,37,6],[37,7,37,25],[37,26,37,34],[37,35,37,43],[38,0,38,2],[38,3,38,6],[38,7,38,25],[38,26,38,34],[38,35,38,43],[39,0,39,2],[39,3,39,6],[39,7,39,25],[39,26,39,34],[39,35,39,43],[40,0,40,2],[40,3,40,6],[40,7,40,25],[40,26,40,34],[40,35,40,43],[41,0,41,2],[41,3,41,6],[41,7,41,25],[41,26,41,34],[41,35,41,43],[42,0,42,2],[42,3,42,6],[42,7,42,25],[42,26,42,34],[42,35,42,43],[43,0,43,2],[43,3,43,6],[43,7,43,25],[43,26,43,34],[43,35,43,43],[44,0,44,2],[44,3,44,6],[44,7,44,25],[44,26,44,34],[44,35,44,43],[45,0,45,2],[45,3,45,6],[45,7,45,25],[45,26,45,34],[45,35,45,43],[46,0,46,2],[46,3,46,6],[46,7,46,25],[46,26,46,34],[46,35,46,43],[47,0,47,2],[47,3,47,6],[47,7,47,25],[47,26,47,34],[47,35,47,43],[48,0,48,2],[48,3,48,6],[48,7,48,25],[48,26,48,34],[48,35,48,43],[49,0,49,2],[49,3,49,6],[49,7,49,25],[49,26,49,34],[49,35,49,43],[50,0,50,2],[50,3,50,6],[50,7,50,25],[50,26,50,34],[50,35,50,43],[51,0,51,2],[51,3,51,6],[51,7,51,25],[51,26,51,34],[51,35,51,43],[52,0,52,2],[52,3,52,6],[52,7,52,25],[52,26,52,34],[52,35,52,43],[53,0,53,2],[53,3,53,6],[53,7,53,25],[53,26,53,34],[53,35,53,43],[54,0,54,2],[54,3,54,6],[54,7,54,25],[54,26,54,34],[54,35,54,43],[55,0,55,2],[55,3,55,6],[55,7,55,25],[55,26,55,34],[55,35,55,43],[56,0,56,2],[56,3,56,6],[56,7,56,25],[56,26,56,34],[56,35,56,43],[57,0,57,2],[57,3,57,6],[57,7,57,25],[57,26,57,34],[57,35,57,43],[58,0,58,2],[58,3,58,6],[58,7,58,25],[58,26,58,34],[58,35,58,43],[59,0,59,2],[59,3,59,6],[59,7,59,25],[59,26,59,34],[59,35,59,43],[60,0,60,2],[60,3,60,6],[60,7,60,25],[60,26,60,34],[60,35,60,43],[61,0,61,2],[61,3,61,6],[61,7,61,25],[61,26,61,34],[61,35,61,43],[62,0,62,2],[62,3,62,6],[62,7,62,25],[62,26,62,34],[62,35,62,43],[63,0,63,2],[63,3,63,6],[63,7,63,25],[63,26,63,34],[63,35,63,43],[64,0,64,2],[64,3,64,6],[64,7,64,25],[64,26,64,34],[64,35,64,43],[65,0,65,2],[65,3,65,6],[65,7,65,25],[65,26,65,34],[65,35,65,43],[66,0,66,2],[66,3,66,6],[66,7,66,25],[66,26,66,34],[66,35,66,43],[67,0,67,2],[67,3,67,6],[67,7,67,25],[67,26,67,34],[67,35,67,43],[68,0,68,2],[68,3,68,6],[68,7,68,25],[68,26,68,34],[68,35,68,43],[69,0,69,2],[69,3,69,6],[69,7,69,25],[69,26,69,34],[69,35,69,43],[70,0,70,2],[70,3,70,6],[70,7,70,25],[70,26,70,34],[70,35,70,43],[71,0,71,2],[71,3,71,6],[71,7,71,25],[71,26,71,34],[71,35,71,43],[72,0,72,2],[72,3,72,6],[72,7,72,25],[72,26,72,34],[72,35,72,43],[73,0,73,2],[73,3,73,6],[73,7,73,25],[73,26,73,34],[73,35,73,43],[74,0,74,2],[74,3,74,6],[74,7,74,25],[74,26,74,34],[74,35,74,43],[75,0,75,2],[75,3,75,6],[75,7,75,25],[75,26,75,34],[75,35,75,43],[76,0,76,2],[76,3,76,6],[76,7,76,25],[76,26,76,34],[76,35,76,43],[77,0,77,2],[77,3,77,6],[77,7,77,25],[77,26,77,34],[77,35,77,43],[78,0,78,2],[78,3,78,6],[78,7,78,25],[78,26,78,34],[78,35,78,43],[79,0,79,2],[79,3,79,6],[79,7,79,25],[79,26,79,34],[79,35,79,43],[80,0,80,2],[80,3,80,6],[80,7,80,25],[80,26,80,34],[80,35,80,43],[81,0,81,2],[81,3,81,6],[81,7,81,25],[81,26,81,34],[81,35,81,43],[82,0,82,2],[82,3,82,6],[82,7,82,25],[82,26,82,34],[82,35,82,43],[83,0,83,2],[83,3,83,6],[83,7,83,25],[83,26,83,34],[83,35,83,43],[84,0,84,2],[84,3,84,6],[84,7,84,25],[84,26,84,34],[84,35,84,43],[85,0,85,2],[85,3,85,6],[85,7,85,25],[85,26,85,34],[85,35,85,43],[86,0,86,2],[86,3,86,6],[86,7,86,25],[86,26,86,34],[86,35,86,43],[87,0,87,2],[87,3,87,6],[87,7,87,25],[87,26,87,34],[87,35,87,43],[88,0,88,2],[88,3,88,6],[88,7,88,25],[88,26,88,34],[88,35,88,43],[89,0,89,2],[89,3,89,6],[89,7,89,25],[89,26,89,34],[89,35,89,43],[90,0,90,2],[90,3,90,6],[90,7,90,25],[90,26,90,34],[90,35,90,43],[91,0,91,2],[91,3,91,6],[91,7,91,25],[91,26,91,34],[91,35,91,43],[92,0,92,2],[92,3,92,6],[92,7,92,25],[92,26,92,34],[92,35,92,43],[93,0,93,2],[93,3,93,6],[93,7,93,25],[93,26,93,34],[93,35,93,43],[94,0,94,2],[94,3,94,6],[94,7,94,25],[94,26,94,34],[94,35,94,43],[95,0,95,2],[95,3,95,6],[95,7,95,25],[95,26,95,34],[95,35,95,43],[96,0,96,2],[96,3,96,6],[96,7,96,25],[96,26,96,34],[96,35,96,43],[97,0,97,2],[97,3,97,6],[97,7,97,25],[97,26,97,34],[97,35,97,43],[98,0,98,2],[98,3,98,6],[98,7,98,25],[98,26,98,34],[98,35,98,43],[99,0,99,2],[99,3,99,6],[99,7,99,25],[99,26,99,34],[99,35,99,43],[100,0,100,2],[100,3,100,6],[100,7,100,25],[100,26,100,34],[100,35,100,43],[101,0,101,2],[101,3,101,6],[101,7,101,25],[101,26,101,34],[101,35,101,43],[102,0,102,2],[102,3,102,6],[102,7,102,25],[102,26,102,34],[102,35,102,43],[103,0,103,2],[103,3,103,6],[103,7,103,25],[103,26,103,34],[103,35,103,43],[104,0,104,2],[104,3,104,6],[104,7,104,25],[104,26,104,34],[104,35,104,43],[105,0,105,2],[105,3,105,6],[105,7,105,25],[105,26,105,34],[105,35,105,43],[106,0,106,2],[106,3,106,6],[106,7,106,25],[106,26,106,34],[106,35,106,43],[107,0,107,2],[107,3,107,6],[107,7,107,25],[107,26,107,34],[107,35,107,43],[108,0,108,2],[108,3,108,6],[108,7,108,25],[108,26,108,34],[108,35,108,43],[109,0,109,2],[109,3,109,6],[109,7,109,25],[109,26,109,34],[109,35,109,43],[110,0,110,2],[110,3,110,6],[110,7,110,25],[110,26,110,34],[110,35,110,43],[111,0,111,2],[111,3,111,6],[111,7,111,25],[111,26,111,34],[111,35,111,43],[112,0,112,2],[112,3,112,6],[112,7,112,25],[112,26,112,34],[112,35,112,43],[113,0,113,2],[113,3,113,6],[113,7,113,25],[113,26,113,34],[113,35,113,43],[114,0,114,2],[114,3,114,6],[114,7,114,25],[114,26,114,34],[114,35,114,43],[115,0,115,2],[115,3,115,6],[115,7,115,25],[115,26,115,34],[115,35,115,43],[116,0,116,2],[116,3,116,6],[116,7,116,25],[116,26,116,34],[116,35,116,43],[117,0,117,2],[117,3,117,6],[117,7,117,25],[117,26,117,34],[117,35,117,43],[118,0,118,2],[118,3,118,6],[118,7,118,25],[118,26,118,34],[118,35,118,43],[119,0,119,2],[119,3,119,6],[119,7,119,25],[119,26,119,34],[119,35,119,43],[120,0,120,2],[120,3,120,6],[120,7,120,25],[120,26,120,34],[120,35,120,43],[121,0,121,2],[121,3,121,6],[121,7,121,25],[121,26,121,34],[121,35,121,43],[122,0,122,2],[122,3,122,6],[122,7,122,25],[122,26,122,34],[122,35,122,43],[123,0,123,2],[123,3,123,6],[123,7,123,25],[123,26,123,34],[123,35,123,43],[124,0,124,2],[124,3,124,6],[124,7,124,25],[124,26,124,34],[124,35,124,43],[125,0,125,2],[125,3,125,6],[125,7,125,25],[125,26,125,34],[125,35,125,43],[126,0,126,2],[126,3,126,6],[126,7,126,25],[126,26,126,34],[126,35,126,43],[127,0,127,2],[127,3,127,6],[127,7,127,25],[127,26,127,34],[127,35,127,43],[128,0,128,2],[128,3,128,6],[128,7,128,25],[128,26,128,34],[128,35,128,43],[129,0,129,2],[129,3,129,6],[129,7,129,25],[129,26,129,34],[129,35,129,43],[130,0,130,2],[130,3,130,6],[130,7,130,25],[130,26,130,34],[130,35,130,43],[131,0,131,2],[131,3,131,6],[131,7,131,25],[131,26,131,34],[131,35,131,43],[132,0,132,2],[132,3,132,6],[132,7,132,25],[132,26,132,34],[132,35,132,43],[133,0,133,2],[133,3,133,6],[133,7,133,25],[133,26,133,34],[133,35,133,43],[134,0,134,2],[134,3,134,6],[134,7,134,25],[134,26,134,34],[134,35,134,43],[135,0,135,2],[135,3,135,6],[135,7,135,25],[135,26,135,34],[135,35,135,43],[136,0,136,2],[136,3,136,6],[136,7,136,25],[136,26,136,34],[136,35,136,43],[137,0,137,2],[137,3,137,6],[137,7,137,25],[137,26,137,34],[137,35,137,43],[138,0,138,2],[138,3,138,6],[138,7,138,25],[138,26,138,34],[138,35,138,43],[139,0,139,2],[139,3,139,6],[139,7,139,25],[139,26,139,34],[139,35,139,43],[140,0,140,2],[140,3,140,6],[140,7,140,25],[140,26,140,34],[140,35,140,43],[141,0,141,2],[141,3,141,6],[141,7,141,25],[141,26,141,34],[141,35,141,43],[142,0,142,2],[142,3,142,6],[142,7,142,25],[142,26,142,34],[142,35,142,43],[143,0,143,2],[143,3,143,6],[143,7,143,25],[143,26,143,34],[143,35,143,43],[144,0,144,2],[144,3,144,6],[144,7,144,25],[144,26,144,34],[144,35,144,43],[145,0,145,2],[145,3,145,6],[145,7,145,25],[145,26,145,34],[145,35,145,43],[146,0,146,2],[146,3,146,6],[146,7,146,25],[146,26,146,34],[146,35,146,43],[147,0,147,2],[147,3,147,6],[147,7,147,25],[147,26,147,34],[147,35,147,43],[148,0,148,2],[148,3,148,6],[148,7,148,25],[148,26,148,34],[148,35,148,43],[149,0,149,2],[149,3,149,6],[149,7,149,25],[149,26,149,34],[149,35,149,43],[150,0,150,2],[150,3,150,6],[150,7,150,25],[150,26,150,34],[150,35,150,43],[151,0,151,2],[151,3,151,6],[151,7,151,25],[151,26,151,34],[151,35,151,43],[152,0,152,2],[152,3,152,6],[152,7,152,25],[152,26,152,34],[152,35,152,43],[153,0,153,2],[153,3,153,6],[153,7,153,25],[153,26,153,34],[153,35,153,43],[154,0,154,2],[154,3,154,6],[154,7,154,25],[154,26,154,34],[154,35,154,43],[155,0,155,2],[155,3,155,6],[155,7,155,25],[155,26,155,34],[155,35,155,43],[156,0,156,2],[156,3,156,6],[156,7,156,25],[156,26,156,34],[156,35,156,43],[157,0,157,2],[157,3,157,6],[157,7,157,25],[157,26,157,34],[157,35,157,43],[158,0,158,2],[158,3,158,6],[158,7,158,25],[158,26,158,34],[158,35,158,43],[159,0,159,2],[159,3,159,6],[159,7,159,25],[159,26,159,34],[159,35,159,43],[160,0,160,2],[160,3,160,6],[160,7,160,25],[160,26,160,34],[160,35,160,43],[161,0,161,2],[161,3,161,6],[161,7,161,25],[161,26,161,34],[161,35,161,43],[162,0,162,2],[162,3,162,6],[162,7,162,25],[162,26,162,34],[162,35,162,43],[163,0,163,2],[163,3,163,6],[163,7,163,25],[163,26,163,34],[163,35,163,43],[164,0,164,2],[164,3,164,6],[164,7,164,25],[164,26,164,34],[164,35,164,43],[165,0,165,2],[165,3,165,6],[165,7,165,25],[165,26,165,34],[165,35,165,43],[166,0,166,2],[166,3,166,6],[166,7,166,25],[166,26,166,34],[166,35,166,43],[167,0,167,2],[167,3,167,6],[167,7,167,25],[167,26,167,34],[167,35,167,43],[168,0,168,2],[168,3,168,6],[168,7,168,25],[168,26,168,34],[168,35,168,43],[169,0,169,2],[169,3,169,6],[169,7,169,25],[169,26,169,34],[169,35,169,43],[170,0,170,2],[170,3,170,6],[170,7,170,25],[170,26,170,34],[170,35,170,43],[171,0,171,2],[171,3,171,6],[171,7,171,25],[171,26,171,34],[171,35,171,43],[172,0,172,2],[172,3,172,6],[172,7,172,25],[172,26,172,34],[172,35,172,43],[173,0,173,2],[173,3,173,6],[173,7,173,25],[173,26,173,34],[173,35,173,43],[174,0,174,2],[174,3,174,6],[174,7,174,25],[174,26,174,34],[174,35,174,43],[175,0,175,2],[175,3,175,6],[175,7,175,25],[175,26,175,34],[175,35,175,43],[176,0,176,2],[176,3,176,6],[176,7,176,25],[176,26,176,34],[176,35,176,43],[177,0,177,2],[177,3,177,6],[177,7,177,25],[177,26,177,34],[177,35,177,43],[178,0,178,2],[178,3,178,6],[178,7,178,25],[178,26,178,34],[178,35,178,43],[179,0,179,2],[179,3,179,6],[179,7,179,25],[179,26,179,34],[179,35,179,43],[180,0,180,2],[180,3,180,6],[180,7,180,25],[180,26,180,34],[180,35,180,43],[181,0,181,2],[181,3,181,6],[181,7,181,25],[181,26,181,34],[181,35,181,43],[182,0,182,2],[182,3,182,6],[182,7,182,25],[182,26,182,34],[182,35,182,43],[183,0,183,2],[183,3,183,6],[183,7,183,25],[183,26,183,34],[183,35,183,43],[184,0,184,2],[184,3,184,6],[184,7,184,25],[184,26,184,34],[184,35,184,43],[185,0,185,2],[185,3,185,6],[185,7,185,25],[185,26,185,34],[185,35,185,43],[186,0,186,2],[186,3,186,6],[186,7,186,25],[186,26,186,34],[186,35,186,43],[187,0,187,2],[187,3,187,6],[187,7,187,25],[187,26,187,34],[187,35,187,43],[188,0,188,2],[188,3,188,6],[188,7,188,25],[188,26,188,34],[188,35,188,43],[189,0,189,2],[189,3,189,6],[189,7,189,25],[189,26,189,34],[189,35,189,43],[190,0,190,2],[190,3,190,6],[190,7,190,25],[190,26,190,34],[190,35,190,43],[191,0,191,2],[191,3,191,6],[191,7,191,25],[191,26,191,34],[191,35,191,43],[192,0,192,2],[192,3,192,6],[192,7,192,25],[192,26,192,34],[192,35,192,43],[193,0,193,2],[193,3,193,6],[193,7,193,25],[193,26,193,34],[193,35,193,43],[194,0,194,2],[194,3,194,6],[194,7,194,25],[194,26,194,34],[194,35,194,43],[195,0,195,2],[195,3,195,6],[195,7,195,25],[195,26,195,34],[195,35,195,43],[196,0,196,2],[196,3,196,6],[196,7,196,25],[196,26,196,34],[196,35,196,43],[197,0,197,2],[197,3,197,6],[197,7,197,25],[197,26,197,34],[197,35,197,43],[198,0,198,2],[198,3,198,6],[198,7,198,25],[198,26,198,34],[198,35,198,43],[199,0,199,2],[199,3,199,6],[199,7,199,25],[199,26,199,34],[199,35,199,43],[200,0,200,2],[200,3,200,6],[200,7,200,25],[200,26,200,34],[200,35,200,43],[201,0,201,2],[201,3,201,6],[201,7,201,25],[201,26,201,34],[201,35,201,43],[202,0,202,2],[202,3,202,6],[202,7,202,25],[202,26,202,34],[202,35,202,43],[203,0,203,2],[203,3,203,6],[203,7,203,25],[203,26,203,34],[203,35,203,43],[204,0,204,2],[204,3,204,6],[204,7,204,25],[204,26,204,34],[204,35,204,43],[205,0,205,2],[205,3,205,6],[205,7,205,25],[205,26,205,34],[205,35,205,43],[206,0,206,2],[206,3,206,6],[206,7,206,25],[206,26,206,34],[206,35,206,43],[207,0,207,2],[207,3,207,6],[207,7,207,25],[207,26,207,34],[207,35,207,43],[208,0,208,2],[208,3,208,6],[208,7,208,25],[208,26,208,34],[208,35,208,43],[209,0,209,2],[209,3,209,6],[209,7,209,25],[209,26,209,34],[209,35,209,43],[210,0,210,2],[210,3,210,6],[210,7,210,25],[210,26,210,34],[210,35,210,43],[211,0,211,2],[211,3,211,6],[211,7,211,25],[211,26,211,34],[211,35,211,43],[212,0,212,2],[212,3,212,6],[212,7,212,25],[212,26,212,34],[212,35,212,43],[213,0,213,2],[213,3,213,6],[213,7,213,25],[213,26,213,34],[213,35,213,43],[214,0,214,2],[214,3,214,6],[214,7,214,25],[214,26,214,34],[214,35,214,43],[215,0,215,2],[215,3,215,6],[215,7,215,25],[215,26,215,34],[215,35,215,43],[216,0,216,2],[216,3,216,6],[216,7,216,25],[216,26,216,34],[216,35,216,43],[217,0,217,2],[217,3,217,6],[217,7,217,25],[217,26,217,34],[217,35,217,43],[218,0,218,2],[218,3,218,6],[218,7,218,25],[218,26,218,34],[218,35,218,43]],"merged_total":2257,"flags":["merged_cut"]}
[null,null,null,null,null,null,null,null,null,null,null,null,null,null,null,null,null,null,null,null,null,null,null,null,null,null,null,null,null,null,null,null,null,null,null,null,null,"Образац 4"]
["ПОПУЊАВА УПРАВА ЗА ТРЕЗОР - ФИЛИЈАЛА"]
[7,5,4,null,0,{"$f":"IF(LEN(Podaci!M2) > 4, MID(RIGHT(Podaci!$M$2,5),1,1),0)","v":"0"},{"$f":"IF(LEN(Podaci!M2) > 3, MID(RIGHT(Podaci!$M$2,4),1,1),0)","v":"8"},{"$f":"IF(LEN(Podaci!M2) > 2, MID(RIGHT(Podaci!$M$2,3),1,1),0)","v":"5"},{"$f":"MID(RIGHT(Podaci!$M$2,2),1,1)","v":"9"},{"$f":"MID(RIGHT(Podaci!$M$2,1),1,1)","v":"0"},null,{"$f":"IF(LEN(Podaci!Z7) > 7, MID(RIGHT(Podaci!$Z$7,8),1,1),0)","v":"0"},{"$f":"IF(LEN(Podaci!Z7) > 6, MID(RIGHT(Podaci!$Z$7,7),1,1),0)","v":"8"},{"$f":"MID(RIGHT(Podaci!$Z$7,6),1,1)","v":"0"},{"$f":"MID(RIGHT(Podaci!$Z$7,5),1,1)","v":"0"},{"$f":"MID(RIGHT(Podaci!$Z$7,4),1,1)","v":"4"},{"$f":"MID(RIGHT(Podaci!$Z$7,3),1,1)","v":"9"},{"$f":"MID(RIGHT(Podaci!$Z$7,2),1,1)","v":"3"},{"$f":"MID(RIGHT(Podaci!$Z$7,1),1,1)","v":"5"}]
[1,2,3,null,4,5,6,7,8,9,null,10,11,12,13,14,15,16,17,null,18,19,20,21,22,null,23,24,25,26,27,null,28,null,29,30,31,32,33,34,35,36,37,38]
["Врста\nпосла",null,null,null,"Јединствени\nброј КБС",null,null,null,null,null,null,null,null,null,null,null,null,null,null,null,"Седиште\nУТ",null,null,null,null,null,"Надлежни\nдиректни\nКБС"]
[]
[]
[null,"НАЗИВ КОРИСНИКА БУЏЕТСКИХ СРЕДСТАВА"]
[null,{"$f":"Podaci!B5","v":"ПРЕДШКОЛСКА  УСТАНОВА  \"БАМБИ\"  "}]
[]
[null,"СЕДИШТЕ",null,null,null,null,null,{"$f":"Podaci!H7","v":"КУЛА"},null,null,null,null,null,null,null,null,null,"МАТИЧНИ БРОЈ",null,null,null,null,null,null,null,{"$f":"Podaci!Z7","v":"08004935"}]
[]
[null,"ПИБ",null,null,{"$f":"Podaci!E9","v":100261597},null,null,null,null,null,null,null,null,null,null,null,null,"БРОЈ ПОДРАЧУНА",null,null,null,null,null,null,null,{"$f":"Podaci!AA9","v":"840-49661-40"}]
[]
[null,"НАЗИВ НАДЛЕЖНОГ ДИРЕКТНОГ КОРИСНИКА БУЏЕТСКИХ СРЕДСТАВА"]
[null,{"$f":"Podaci!B12","v":"ОПШТИНА  КУЛА"}]
[null,"(Попуњава само индиректни корисник буџетских средстава)"]
[]
[]
[null,null,null,null,null,null,null,null,null,"ИЗВЕШТАЈ О НОВЧАНИМ ТОКОВИМА"]
[null,null,null,null,null,null,null,null,null,null,null,"у периоду од",null,null,null,null,null,{"$f":"Podaci!D17","v":"01.01.2017."},null,null,null,null,"до",null,{"$f":"Podaci!D18","v":"31.12.2017."},null,null,null,null,"године"]
[null,null,null,null,null,null,null,null,null,null,null,null,null,null,null,null,null,null,null,null,null,null,null,null,null,null,null,null,null,null,null,null,null,null,null,null,"(У хиљадама динара)"]
["Ознака\nОП",null,null,"Број\nконта",null,null,null,"Опис",null,null,null,null,null,null,null,null,null,null,null,null,null,null,null,null,null,null,"Износ"]
[]
[null,null,null,null,null,null,null,null,null,null,null,null,null,null,null,null,null,null,null,null,null,null,null,null,null,null,"Претходна година",null,null,null,null,null,null,null,null,"Текућа година"]
[]
[1,null,null,2,null,null,null,3,null,null,null,null,null,null,null,null,null,null,null,null,null,null,null,null,null,null,4,null,null,null,null,null,null,null,null,5]
[4001,null,null,null,null,null,null,"Н О В Ч А Н И  П Р И Л И В И (4002 + 4106 + 4131)",null,null,null,null,null,null,null,null,null,null,null,null,null,null,null,null,null,null,{"$f":"UnObr4!D3","v":139159},null,null,null,null,null,null,null,null,{"$f":"UnObr4!E3","v":156452}]
[4002,null,null,700000,null,null,null,"ТЕКУЋИ ПРИХОДИ \n(4003 + 4047 + 4057 + 4069 + 4094 + 4099 + 4103)",null,null,null,null,null,null,null,null,null,null,null,null,null,null,null,null,null,null,{"$f":"UnObr4!D4","v":139159},null,null,null,null,null,null,null,null,{"$f":"UnObr4!E4","v":156452}]
[4003,null,null,710000,null,null,null,"ПОРЕЗИ (4004 + 4008 + 4010 + 4017 + 4023 + 4030 + 4033 + 4040)",null,null,null,null,null,null,null,null,null,null,null,null,null,null,null,null,null,null,{"$f":"UnObr4!D5","v":0},null,null,null,null,null,null,null,null,{"$f":"UnObr4!E5","v":0}]
[4004,null,null,711000,null,null,null,"ПОРЕЗ НА ДОХОДАК, ДОБИТ И КАПИТАЛНЕ \nДОБИТКЕ (од 4005 до 4007)",null,null,null,null,null,null,null,null,null,null,null,null,null,null,null,null,null,null,{"$f":"UnObr4!D6","v":0},null,null,null,null,null,null,null,null,{"$f":"UnObr4!E6","v":0}]
[4005,null,null,711100,null,null,null,"Порези на доходак и капиталне добитке које плаћају \nфизичка лица",null,null,null,null,null,null,null,null,null,null,null,null,null,null,null,null,null,null,{"$f":"UnObr4!D7","v":0},null,null,null,null,null,null,null,null,{"$f":"UnObr4!E7","v":0}]
[4006,null,null,711200,null,null,null,"Порези на добит и капиталне добитке које плаћају \nпредузећа и друга правна лица",null,null,null,null,null,null,null,null,null,null,null,null,null,null,null,null,null,null,{"$f":"UnObr4!D8","v":0},null,null,null,null,null,null,null,null,{"$f":"UnObr4!E8","v":0}]
[4007,null,null,711300,null,null,null,"Порези на доходак, добит и капиталне добитке који се не\nмогу разврстати између физичких и правних лица",null,null,null,null,null,null,null,null,null,null,null,null,null,null,null,null,null,null,{"$f":"UnObr4!D9","v":0},null,null,null,null,null,null,null,null,{"$f":"UnObr4!E9","v":0}]
[4008,null,null,712000,null,null,null,"ПОРЕЗ НА ФОНД ЗАРАДА (4009)",null,null,null,null,null,null,null,null,null,null,null,null,null,null,null,null,null,null,{"$f":"UnObr4!D10","v":0},null,null,null,null,null,null,null,null,{"$f":"UnObr4!E10","v":0}]
[4009,null,null,712100,null,null,null,"Порез на фонд зарада",null,null,null,null,null,null,null,null,null,null,null,null,null,null,null,null,null,null,{"$f":"UnObr4!D11","v":0},null,null,null,null,null,null,null,null,{"$f":"UnObr4!E11","v":0}]
[4010,null,null,713000,null,null,null,"ПОРЕЗ НА ИМОВИНУ (од 4011 до 4016)",null,null,null,null,null,null,null,null,null,null,null,null,null,null,null,null,null,null,{"$f":"UnObr4!D12","v":0},null,null,null,null,null,null,null,null,{"$f":"UnObr4!E12","v":0}]
[4011,null,null,713100,null,null,null,"Периодични порези на непокретности",null,null,null,null,null,null,null,null,null,null,null,null,null,null,null,null,null,null,{"$f":"UnObr4!D13","v":0},null,null,null,null,null,null,null,null,{"$f":"UnObr4!E13","v":0}]
[4012,null,null,713200,null,null,null,"Периодични порези на нето имовину",null,null,null,null,null,null,null,null,null,null,null,null,null,null,null,null,null,null,{"$f":"UnObr4!D14","v":0},null,null,null,null,null,null,null,null,{"$f":"UnObr4!E14","v":0}]
[4013,null,null,713300,null,null,null,"Порези на заоставштину, наслеђе и поклон",null,null,null,null,null,null,null,null,null,null,null,null,null,null,null,null,null,null,{"$f":"UnObr4!D15","v":0},null,null,null,null,null,null,null,null,{"$f":"UnObr4!E15","v":0}]
[4014,null,null,713400,null,null,null,"Порези на финансијске и капиталне трансакције",null,null,null,null,null,null,null,null,null,null,null,null,null,null,null,null,null,null,{"$f":"UnObr4!D16","v":0},null,null,null,null,null,null,null,null,{"$f":"UnObr4!E16","v":0}]
[4015,null,null,713500,null,null,null,"Други једнократни порези на имовину",null,null,null,null,null,null,null,null,null,null,null,null,null,null,null,null,null,null,{"$f":"UnObr4!D17","v":0},null,null,null,null,null,null,null,null,{"$f":"UnObr4!E17","v":0}]
[4016,null,null,713600,null,null,null,"Други периодични порези на имовину",null,null,null,null,null,null,null,null,null,null,null,null,null,null,null,null,null,null,{"$f":"UnObr4!D18","v":0},null,null,null,null,null,null,null,null,{"$f":"UnObr4!E18","v":0}]
[4017,null,null,714000,null,null,null,"ПОРЕЗ НА ДОБРА И УСЛУГЕ (од 4018 до 4022)",null,null,null,null,null,null,null,null,null,null,null,null,null,null,null,null,null,null,{"$f":"UnObr4!D19","v":0},null,null,null,null,null,null,null,null,{"$f":"UnObr4!E19","v":0}]
[4018,null,null,714100,null,null,null,"Општи порези на добра и услуге",null,null,null,null,null,null,null,null,null,null,null,null,null,null,null,null,null,null,{"$f":"UnObr4!D20","v":0},null,null,null,null,null,null,null,null,{"$f":"UnObr4!E20","v":0}]
[4019,null,null,714300,null,null,null,"Добит фискалних монопола",null,null,null,null,null,null,null,null,null,null,null,null,null,null,null,null,null,null,{"$f":"UnObr4!D21","v":0},null,null,null,null,null,null,null,null,{"$f":"UnObr4!E21","v":0}]
[4020,null,null,714400,null,null,null,"Порези на појединачне услуге",null,null,null,null,null,null,null,null,null,null,null,null,null,null,null,null,null,null,{"$f":"UnObr4!D22","v":0},null,null,null,null,null,null,null,null,{"$f":"UnObr4!E22","v":0}]
[4021,null,null,714500,null,null,null,"Порези, таксе и накнаде на употребу добара, на дозволу \nда се добра употребљавају или делатности обављају",null,null,null,null,null,null,null,null,null,null,null,null,null,null,null,null,null,null,{"$f":"UnObr4!D23","v":0},null,null,null,null,null,null,null,null,{"$f":"UnObr4!E23","v":0}]
[4022,null,null,714600,null,null,null,"Други порези на добра и услуге",null,null,null,null,null,null,null,null,null,null,null,null,null,null,null,null,null,null,{"$f":"UnObr4!D24","v":0},null,null,null,null,null,null,null,null,{"$f":"UnObr4!E24","v":0}]
[4023,null,null,715000,null,null,null,"ПОРЕЗ НА МЕЂУНАРОДНУ ТРГОВИНУ И ТРАНСАКЦИЈЕ (од 4024 до 4029)",null,null,null,null,null,null,null,null,null,null,null,null,null,null,null,null,null,null,{"$f":"UnObr4!D25","v":0},null,null,null,null,null,null,null,null,{"$f":"UnObr4!E25","v":0}]
[4024,null,null,715100,null,null,null,"Царине и друге увозне дажбине",null,null,null,null,null,null,null,null,null,null,null,null,null,null,null,null,null,null,{"$f":"UnObr4!D26","v":0},null,null,null,null,null,null,null,null,{"$f":"UnObr4!E26","v":0}]
[4025,null,null,715200,null,null,null,"Порези на извоз",null,null,null,null,null,null,null,null,null,null,null,null,null,null,null,null,null,null,{"$f":"UnObr4!D27","v":0},null,null,null,null,null,null,null,null,{"$f":"UnObr4!E27","v":0}]
[4026,null,null,715300,null,null,null,"Добит извозних или увозних монопола",null,null,null,null,null,null,null,null,null,null,null,null,null,null,null,null,null,null,{"$f":"UnObr4!D28","v":0},null,null,null,null,null,null,null,null,{"$f":"UnObr4!E28","v":0}]
[4027,null,null,715400,null,null,null,"Добит по основу разлике између куповног и продајног девизног курса",null,null,null,null,null,null,null,null,null,null,null,null,null,null,null,null,null,null,{"$f":"UnObr4!D29","v":0},null,null,null,null,null,null,null,null,{"$f":"UnObr4!E29","v":0}]
[4028,null,null,715500,null,null,null,"Порези на продају или куповину девиза",null,null,null,null,null,null,null,null,null,null,null,null,null,null,null,null,null,null,{"$f":"UnObr4!D30","v":0},null,null,null,null,null,null,null,null,{"$f":"UnObr4!E30","v":0}]
[4029,null,null,715600,null,null,null,"Други порези на међународну трговину и трансакције",null,null,null,null,null,null,null,null,null,null,null,null,null,null,null,null,null,null,{"$f":"UnObr4!D31","v":0},null,null,null,null,null,null,null,null,{"$f":"UnObr4!E31","v":0}]
[4030,null,null,716000,null,null,null,"ДРУГИ ПОРЕЗИ (4031 + 4032)",null,null,null,null,null,null,null,null,null,null,null,null,null,null,null,null,null,null,{"$f":"UnObr4!D32","v":0},null,null,null,null,null,null,null,null,{"$f":"UnObr4!E32","v":0}]
[4031,null,null,716100,null,null,null,"Други порези које искључиво плаћају предузећа, односно предузетници",null,null,null,null,null,null,null,null,null,null,null,null,null,null,null,null,null,null,{"$f":"UnObr4!D33","v":0},null,null,null,null,null,null,null,null,{"$f":"UnObr4!E33","v":0}]
[4032,null,null,716200,null,null,null,"Други порези које плаћају остала лица или који се не \nмогу идентификовати",null,null,null,null,null,null,null,null,null,null,null,null,null,null,null,null,null,null,{"$f":"UnObr4!D34","v":0},null,null,null,null,null,null,null,null,{"$f":"UnObr4!E34","v":0}]
[4033,null,null,717000,null,null,null,"АКЦИЗЕ (од 4034 до 4039)",null,null,null,null,null,null,null,null,null,null,null,null,null,null,null,null,null,null,{"$f":"UnObr4!D35","v":0},null,null,null,null,null,null,null,null,{"$f":"UnObr4!E35","v":0}]
[4034,null,null,717100,null,null,null,"Акцизе на деривате нафте",null,null,null,null,null,null,null,null,null,null,null,null,null,null,null,null,null,null,{"$f":"UnObr4!D36","v":0},null,null,null,null,null,null,null,null,{"$f":"UnObr4!E36","v":0}]
[4035,null,null,717200,null,null,null,"Акцизе на дуванске прерађевине",null,null,null,null,null,null,null,null,null,null,null,null,null,null,null,null,null,null,{"$f":"UnObr4!D37","v":0},null,null,null,null,null,null,null,null,{"$f":"UnObr4!E37","v":0}]
[4036,null,null,717300,null,null,null,"Акцизе на алкохолна пића",null,null,null,null,null,null,null,null,null,null,null,null,null,null,null,null,null,null,{"$f":"UnObr4!D38","v":0},null,null,null,null,null,null,null,null,{"$f":"UnObr4!E38","v":0}]
[4037,null,null,717400,null,null,null,"Акцизе на освежавајућа безалкохолна пића",null,null,null,null,null,null,null,null,null,null,null,null,null,null,null,null,null,null,{"$f":"UnObr4!D39","v":0},null,null,null,null,null,null,null,null,{"$f":"UnObr4!E39","v":0}]
[4038,null,null,717500,null,null,null,"Акцизе на кафу",null,null,null,null,null,null,null,null,null,null,null,null,null,null,null,null,null,null,{"$f":"UnObr4!D40","v":0},null,null,null,null,null,null,null,null,{"$f":"UnObr4!E40","v":0}]
[4039,null,null,717600,null,null,null,"Друге акцизе",null,null,null,null,null,null,null,null,null,null,null,null,null,null,null,null,null,null,{"$f":"UnObr4!D41","v":0},null,null,null,null,null,null,null,null,{"$f":"UnObr4!E41","v":0}]
[4040,null,null,719000,null,null,null,"ЈЕДНОКРАТНИ ПОРЕЗ НА ЕКСТРА ПРОФИТ И ЕКСТРА ИМОВИНУ СТЕЧЕНУ КОРИШЋЕЊЕМ ПОСЕБНИХ ПОГОДНОСТИ (од 4041 до 4046)",null,null,null,null,null,null,null,null,null,null,null,null,null,null,null,null,null,null,{"$f":"UnObr4!D42","v":0},null,null,null,null,null,null,null,null,{"$f":"UnObr4!E42","v":0}]
[4041,null,null,719100,null,null,null,"Порез на доходак, добит и капиталну добит на терет \nфизичких лица",null,null,null,null,null,null,null,null,null,null,null,null,null,null,null,null,null,null,{"$f":"UnObr4!D43","v":0},null,null,null,null,null,null,null,null,{"$f":"UnObr4!E43","v":0}]
[4042,null,null,719200,null,null,null,"Порез на доходак, добит и капиталну добит на терет \nпредузећа и осталих правних лица",null,null,null,null,null,null,null,null,null,null,null,null,null,null,null,null,null,null,{"$f":"UnObr4!D44","v":0},null,null,null,null,null,null,null,null,{"$f":"UnObr4!E44","v":0}]
[4043,null,null,719300,null,null,null,"Порез на доходак, добит и капиталну добит нераспоредив између физичких и правних лица",null,null,null,null,null,null,null,null,null,null,null,null,null,null,null,null,null,null,{"$f":"UnObr4!D45","v":0},null,null,null,null,null,null,null,null,{"$f":"UnObr4!E45","v":0}]
[4044,null,null,719400,null,null,null,"Остали једнократни порези на имовину",null,null,null,null,null,null,null,null,null,null,null,null,null,null,null,null,null,null,{"$f":"UnObr4!D46","v":0},null,null,null,null,null,null,null,null,{"$f":"UnObr4!E46","v":0}]
[4045,null,null,719500,null,null,null,"Остали порези које плаћају искључиво предузећа и предузетници",null,null,null,null,null,null,null,null,null,null,null,null,null,null,null,null,null,null,{"$f":"UnObr4!D47","v":0},null,null,null,null,null,null,null,null,{"$f":"UnObr4!E47","v":0}]
[4046,null,null,719600,null,null,null,"Остали порези које плаћају друга или неидентификована \nлица",null,null,null,null,null,null,null,null,null,null,null,null,null,null,null,null,null,null,{"$f":"UnObr4!D48","v":0},null,null,null,null,null,null,null,null,{"$f":"UnObr4!E48","v":0}]
[4047,null,null,720000,null,null,null,"СОЦИЈАЛНИ ДОПРИНОСИ (4048 + 4053)",null,null,null,null,null,null,null,null,null,null,null,null,null,null,null,null,null,null,{"$f":"UnObr4!D49","v":0},null,null,null,null,null,null,null,null,{"$f":"UnObr4!E49","v":0}]
[4048,null,null,721000,null,null,null,"ДОПРИНОСИ ЗА СОЦИЈАЛНО ОСИГУРАЊЕ \n(од 4049 до 4052)",null,null,null,null,null,null,null,null,null,null,null,null,null,null,null,null,null,null,{"$f":"UnObr4!D50","v":0},null,null,null,null,null,null,null,null,{"$f":"UnObr4!E50","v":0}]
[4049,null,null,721100,null,null,null,"Доприноси за социјално осигурање на терет запослених",null,null,null,null,null,null,null,null,null,null,null,null,null,null,null,null,null,null,{"$f":"UnObr4!D51","v":0},null,null,null,null,null,null,null,null,{"$f":"UnObr4!E51","v":0}]
[4050,null,null,721200,null,null,null,"Доприноси за социјално осигурање на терет послодавца",null,null,null,null,null,null,null,null,null,null,null,null,null,null,null,null,null,null,{"$f":"UnObr4!D52","v":0},null,null,null,null,null,null,null,null,{"$f":"UnObr4!E52","v":0}]
[4051,null,null,721300,null,null,null,"Доприноси за социјално осигурање лица која обављају самосталну делатност и незапослених лица",null,null,null,null,null,null,null,null,null,null,null,null,null,null,null,null,null,null,{"$f":"UnObr4!D53","v":0},null,null,null,null,null,null,null,null,{"$f":"UnObr4!E53","v":0}]
[4052,null,null,721400,null,null,null,"Доприноси за социјално осигурање који се не могу \nразврстати",null,null,null,null,null,null,null,null,null,null,null,null,null,null,null,null,null,null,{"$f":"UnObr4!D54","v":0},null,null,null,null,null,null,null,null,{"$f":"UnObr4!E54","v":0}]
[4053,null,null,722000,null,null,null,"ОСТАЛИ СОЦИЈАЛНИ ДОПРИНОСИ \n(од 4054 до 4056)",null,null,null,null,null,null,null,null,null,null,null,null,null,null,null,null,null,null,{"$f":"UnObr4!D55","v":0},null,null,null,null,null,null,null,null,{"$f":"UnObr4!E55","v":0}]
[4054,null,null,722100,null,null,null,"Социјални доприноси на терет осигураника",null,null,null,null,null,null,null,null,null,null,null,null,null,null,null,null,null,null,{"$f":"UnObr4!D56","v":0},null,null,null,null,null,null,null,null,{"$f":"UnObr4!E56","v":0}]
[4055,null,null,722200,null,null,null,"Социјални доприноси на терет послодаваца",null,null,null,null,null,null,null,null,null,null,null,null,null,null,null,null,null,null,{"$f":"UnObr4!D57","v":0},null,null,null,null,null,null,null,null,{"$f":"UnObr4!E57","v":0}]
[4056,null,null,722300,null,null,null,"Импутирани социјални доприноси",null,null,null,null,null,null,null,null,null,null,null,null,null,null,null,null,null,null,{"$f":"UnObr4!D58","v":0},null,null,null,null,null,null,null,null,{"$f":"UnObr4!E58","v":0}]
[4057,null,null,730000,null,null,null,"ДОНАЦИЈЕ, ПОМОЋИ И ТРАНСФЕРИ \n(4058 + 4061 + 4066)",null,null,null,null,null,null,null,null,null,null,null,null,null,null,null,null,null,null,{"$f":"UnObr4!D59","v":13510},null,null,null,null,null,null,null,null,{"$f":"UnObr4!E59","v":11436}]
[4058,null,null,731000,null,null,null,"ДОНАЦИЈЕ ОД ИНОСТРАНИХ ДРЖАВА \n(од 4059 + 4060)",null,null,null,null,null,null,null,null,null,null,null,null,null,null,null,null,null,null,{"$f":"UnObr4!D60","v":0},null,null,null,null,null,null,null,null,{"$f":"UnObr4!E60","v":0}]
[4059,null,null,731100,null,null,null,"Текуће донације од иностраних држава",null,null,null,null,null,null,null,null,null,null,null,null,null,null,null,null,null,null,{"$f":"UnObr4!D61","v":0},null,null,null,null,null,null,null,null,{"$f":"UnObr4!E61","v":0}]
[4060,null,null,731200,null,null,null,"Капиталне донације од иностраних држава",null,null,null,null,null,null,null,null,null,null,null,null,null,null,null,null,null,null,{"$f":"UnObr4!D62","v":0},null,null,null,null,null,null,null,null,{"$f":"UnObr4!E62","v":0}]
[4061,null,null,732000,null,null,null,"ДОНАЦИЈЕ И ПОМОЋИ ОД МЕЂУНАРОДНИХ ОРГАНИЗАЦИЈА (од 4062 до 4065)",null,null,null,null,null,null,null,null,null,null,null,null,null,null,null,null,null,null,{"$f":"UnObr4!D63","v":0},null,null,null,null,null,null,null,null,{"$f":"UnObr4!E63","v":0}]
[4062,null,null,732100,null,null,null,"Текуће донације од међународних организација",null,null,null,null,null,null,null,null,null,null,null,null,null,null,null,null,null,null,{"$f":"UnObr4!D64","v":0},null,null,null,null,null,null,null,null,{"$f":"UnObr4!E64","v":0}]
[4063,null,null,732200,null,null,null,"Капиталне донације од међународних организација",null,null,null,null,null,null,null,null,null,null,null,null,null,null,null,null,null,null,{"$f":"UnObr4!D65","v":0},null,null,null,null,null,null,null,null,{"$f":"UnObr4!E65","v":0}]
[4064,null,null,732300,null,null,null,"Текуће помоћи од ЕУ",null,null,null,null,null,null,null,null,null,null,null,null,null,null,null,null,null,null,{"$f":"UnObr4!D66","v":0},null,null,null,null,null,null,null,null,{"$f":"UnObr4!E66","v":0}]
[4065,null,null,732400,null,null,null,"Капиталне помоћи од ЕУ",null,null,null,null,null,null,null,null,null,null,null,null,null,null,null,null,null,null,{"$f":"UnObr4!D67","v":0},null,null,null,null,null,null,null,null,{"$f":"UnObr4!E67","v":0}]
[4066,null,null,733000,null,null,null,"ТРАНСФЕРИ ОД ДРУГИХ НИВОА ВЛАСТИ \n(4067 + 4068)",null,null,null,null,null,null,null,null,null,null,null,null,null,null,null,null,null,null,{"$f":"UnObr4!D68","v":13510},null,null,null,null,null,null,null,null,{"$f":"UnObr4!E68","v":11436}]
[4067,null,null,733100,null,null,null,"Текући трансфери од других нивоа власти",null,null,null,null,null,null,null,null,null,null,null,null,null,null,null,null,null,null,{"$f":"UnObr4!D69","v":13510},null,null,null,null,null,null,null,null,{"$f":"UnObr4!E69","v":11436}]
[4068,null,null,733200,null,null,null,"Капитални трансфери од других нивоа власти",null,null,null,null,null,null,null,null,null,null,null,null,null,null,null,null,null,null,{"$f":"UnObr4!D70","v":0},null,null,null,null,null,null,null,null,{"$f":"UnObr4!E70","v":0}]
[4069,null,null,740000,null,null,null,"ДРУГИ ПРИХОДИ \n(4070 + 4077 + 4082 + 4089 + 4092)",null,null,null,null,null,null,null,null,null,null,null,null,null,null,null,null,null,null,{"$f":"UnObr4!D71","v":15732},null,null,null,null,null,null,null,null,{"$f":"UnObr4!E71","v":351}]
[4070,null,null,741000,null,null,null,"ПРИХОДИ ОД ИМОВИНЕ (од 4071 до 4076)",null,null,null,null,null,null,null,null,null,null,null,null,null,null,null,null,null,null,{"$f":"UnObr4!D72","v":0},null,null,null,null,null,null,null,null,{"$f":"UnObr4!E72","v":0}]
[4071,null,null,741100,null,null,null,"Камате",null,null,null,null,null,null,null,null,null,null,null,null,null,null,null,null,null,null,{"$f":"UnObr4!D73","v":0},null,null,null,null,null,null,null,null,{"$f":"UnObr4!E73","v":0}]
[4072,null,null,741200,null,null,null,"Дивиденде",null,null,null,null,null,null,null,null,null,null,null,null,null,null,null,null,null,null,{"$f":"UnObr4!D74","v":0},null,null,null,null,null,null,null,null,{"$f":"UnObr4!E74","v":0}]
[4073,null,null,741300,null,null,null,"Повлачење прихода од квази корпорација",null,null,null,null,null,null,null,null,null,null,null,null,null,null,null,null,null,null,{"$f":"UnObr4!D75","v":0},null,null,null,null,null,null,null,null,{"$f":"UnObr4!E75","v":0}]
[4074,null,null,741400,null,null,null,"Приход од имовине који припада имаоцима полиса \nосигурања",null,null,null,null,null,null,null,null,null,null,null,null,null,null,null,null,null,null,{"$f":"UnObr4!D76","v":0},null,null,null,null,null,null,null,null,{"$f":"UnObr4!E76","v":0}]
[4075,null,null,741500,null,null,null,"Закуп непроизведене имовине",null,null,null,null,null,null,null,null,null,null,null,null,null,null,null,null,null,null,{"$f":"UnObr4!D77","v":0},null,null,null,null,null,null,null,null,{"$f":"UnObr4!E77","v":0}]
[4076,null,null,741600,null,null,null,"Финансијске промене на финансијским лизинзима",null,null,null,null,null,null,null,null,null,null,null,null,null,null,null,null,null,null,{"$f":"UnObr4!D78","v":0},null,null,null,null,null,null,null,null,{"$f":"UnObr4!E78","v":0}]
[4077,null,null,742000,null,null,null,"ПРИХОДИ ОД ПРОДАЈЕ ДОБАРА И УСЛУГА \n(од 4078 до 4081)",null,null,null,null,null,null,null,null,null,null,null,null,null,null,null,null,null,null,{"$f":"UnObr4!D79","v":15551},null,null,null,null,null,null,null,null,{"$f":"UnObr4!E79","v":351}]
[4078,null,null,742100,null,null,null,"Приходи од продаје добара и услуга или закупа од стране тржишних организација",null,null,null,null,null,null,null,null,null,null,null,null,null,null,null,null,null,null,{"$f":"UnObr4!D80","v":14531},null,null,null,null,null,null,null,null,{"$f":"UnObr4!E80","v":28}]
[4079,null,null,742200,null,null,null,"Таксе и накнаде",null,null,null,null,null,null,null,null,null,null,null,null,null,null,null,null,null,null,{"$f":"UnObr4!D81","v":0},null,null,null,null,null,null,null,null,{"$f":"UnObr4!E81","v":0}]
[4080,null,null,742300,null,null,null,"Споредне продаје добара и услуга које врше државне нетржишне јединице",null,null,null,null,null,null,null,null,null,null,null,null,null,null,null,null,null,null,{"$f":"UnObr4!D82","v":1020},null,null,null,null,null,null,null,null,{"$f":"UnObr4!E82","v":323}]
[4081,null,null,742400,null,null,null,"Импутиране продаје добара и услуга",null,null,null,null,null,null,null,null,null,null,null,null,null,null,null,null,null,null,{"$f":"UnObr4!D83","v":0},null,null,null,null,null,null,null,null,{"$f":"UnObr4!E83","v":0}]
[4082,null,null,743000,null,null,null,"НОВЧАНЕ КАЗНЕ И ОДУЗЕТА ИМОВИНСКА \nКОРИСТ (од 4083 до 4088)",null,null,null,null,null,null,null,null,null,null,null,null,null,null,null,null,null,null,{"$f":"UnObr4!D84","v":0},null,null,null,null,null,null,null,null,{"$f":"UnObr4!E84","v":0}]
[4083,null,null,743100,null,null,null,"Приходи од новчаних казни за кривична дела ",null,null,null,null,null,null,null,null,null,null,null,null,null,null,null,null,null,null,{"$f":"UnObr4!D85","v":0},null,null,null,null,null,null,null,null,{"$f":"UnObr4!E85","v":0}]
[4084,null,null,743200,null,null,null,"Приходи од новчаних казни за привредне преступе",null,null,null,null,null,null,null,null,null,null,null,null,null,null,null,null,null,null,{"$f":"UnObr4!D86","v":0},null,null,null,null,null,null,null,null,{"$f":"UnObr4!E86","v":0}]
[4085,null,null,743300,null,null,null,"Приходи од новчаних казни за прекршаје",null,null,null,null,null,null,null,null,null,null,null,null,null,null,null,null,null,null,{"$f":"UnObr4!D87","v":0},null,null,null,null,null,null,null,null,{"$f":"UnObr4!E87","v":0}]
[4086,null,null,743400,null,null,null,"Приходи од пенала",null,null,null,null,null,null,null,null,null,null,null,null,null,null,null,null,null,null,{"$f":"UnObr4!D88","v":0},null,null,null,null,null,null,null,null,{"$f":"UnObr4!E88","v":0}]
[4087,null,null,743500,null,null,null,"Приходи од одузете имовинске користи",null,null,null,null,null,null,null,null,null,null,null,null,null,null,null,null,null,null,{"$f":"UnObr4!D89","v":0},null,null,null,null,null,null,null,null,{"$f":"UnObr4!E89","v":0}]
[4088,null,null,743900,null,null,null,"Остале новчане казне, пенали и приходи од одузете \nимовинске користи",null,null,null,null,null,null,null,null,null,null,null,null,null,null,null,null,null,null,{"$f":"UnObr4!D90","v":0},null,null,null,null,null,null,null,null,{"$f":"UnObr4!E90","v":0}]
[4089,null,null,744000,null,null,null,"ДОБРОВОЉНИ ТРАНСФЕРИ ОД ФИЗИЧКИХ И ПРАВНИХ ЛИЦА (4090 + 4091)",null,null,null,null,null,null,null,null,null,null,null,null,null,null,null,null,null,null,{"$f":"UnObr4!D91","v":96},null,null,null,null,null,null,null,null,{"$f":"UnObr4!E91","v":0}]
[4090,null,null,744100,null,null,null,"Текући добровољни трансфери од физичких и правних \nлица",null,null,null,null,null,null,null,null,null,null,null,null,null,null,null,null,null,null,{"$f":"UnObr4!D92","v":96},null,null,null,null,null,null,null,null,{"$f":"UnObr4!E92","v":0}]
[4091,null,null,744200,null,null,null,"Капитални добровољни трансфери од физичких и \nправних лица",null,null,null,null,null,null,null,null,null,null,null,null,null,null,null,null,null,null,{"$f":"UnObr4!D93","v":0},null,null,null,null,null,null,null,null,{"$f":"UnObr4!E93","v":0}]
[4092,null,null,745000,null,null,null,"МЕШОВИТИ И НЕОДРЕЂЕНИ ПРИХОДИ (4093)",null,null,null,null,null,null,null,null,null,null,null,null,null,null,null,null,null,null,{"$f":"UnObr4!D94","v":85},null,null,null,null,null,null,null,null,{"$f":"UnObr4!E94","v":0}]
[4093,null,null,745100,null,null,null,"Мешовити и неодређени приходи",null,null,null,null,null,null,null,null,null,null,null,null,null,null,null,null,null,null,{"$f":"UnObr4!D95","v":85},null,null,null,null,null,null,null,null,{"$f":"UnObr4!E95","v":0}]
[4094,null,null,770000,null,null,null,"МЕМОРАНДУМСКЕ СТАВКЕ ЗА РЕФУНДАЦИЈУ РАСХОДА (4095 + 4097)",null,null,null,null,null,null,null,null,null,null,null,null,null,null,null,null,null,null,{"$f":"UnObr4!D96","v":406},null,null,null,null,null,null,null,null,{"$f":"UnObr4!E96","v":648}]
[4095,null,null,771000,null,null,null,"МЕМОРАНДУМСКЕ СТАВКЕ ЗА РЕФУНДАЦИЈУ РАСХОДА (4096)",null,null,null,null,null,null,null,null,null,null,null,null,null,null,null,null,null,null,{"$f":"UnObr4!D97","v":0},null,null,null,null,null,null,null,null,{"$f":"UnObr4!E97","v":0}]
[4096,null,null,771100,null,null,null,"Меморандумске ставке за рефундацију расхода",null,null,null,null,null,null,null,null,null,null,null,null,null,null,null,null,null,null,{"$f":"UnObr4!D98","v":0},null,null,null,null,null,null,null,null,{"$f":"UnObr4!E98","v":0}]
[4097,null,null,772000,null,null,null,"МЕМОРАНДУМСКЕ СТАВКЕ ЗА РЕФУНДАЦИЈУ РАСХОДА ИЗ ПРЕТХОДНЕ ГОДИНЕ (4098)",null,null,null,null,null,null,null,null,null,null,null,null,null,null,null,null,null,null,{"$f":"UnObr4!D99","v":406},null,null,null,null,null,null,null,null,{"$f":"UnObr4!E99","v":648}]
[4098,null,null,772100,null,null,null,"Меморандумске ставке за рефундацију расхода из \nпретходне године",null,null,null,null,null,null,null,null,null,null,null,null,null,null,null,null,null,null,{"$f":"UnObr4!D100","v":406},null,null,null,null,null,null,null,null,{"$f":"UnObr4!E100","v":648}]
[4099,null,null,780000,null,null,null,"ТРАНСФЕРИ ИЗМЕЂУ БУЏЕТСКИХ КОРИСНИКА \nНА ИСТОМ НИВОУ (4100)",null,null,null,null,null,null,null,null,null,null,null,null,null,null,null,null,null,null,{"$f":"UnObr4!D101","v":0},null,null,null,null,null,null,null,null,{"$f":"UnObr4!E101","v":0}]
[4100,null,null,781000,null,null,null,"ТРАНСФЕРИ ИЗМЕЂУ БУЏЕТСКИХ КОРИСНИКА \nНА ИСТОМ НИВОУ (4101 + 4102)",null,null,null,null,null,null,null,null,null,null,null,null,null,null,null,null,null,null,{"$f":"UnObr4!D102","v":0},null,null,null,null,null,null,null,null,{"$f":"UnObr4!E102","v":0}]
[4101,null,null,781100,null,null,null,"Трансфери између буџетских корисника на истом нивоу",null,null,null,null,null,null,null,null,null,null,null,null,null,null,null,null,null,null,{"$f":"UnObr4!D103","v":0},null,null,null,null,null,null,null,null,{"$f":"UnObr4!E103","v":0}]
[4102,null,null,781300,null,null,null,"Трансфери између организација обавезног социјалног\nосигурања",null,null,null,null,null,null,null,null,null,null,null,null,null,null,null,null,null,null,{"$f":"UnObr4!D104","v":0},null,null,null,null,null,null,null,null,{"$f":"UnObr4!E104","v":0}]
[4103,null,null,790000,null,null,null,"ПРИХОДИ ИЗ БУЏЕТА (4104)",null,null,null,null,null,null,null,null,null,null,null,null,null,null,null,null,null,null,{"$f":"UnObr4!D105","v":109511},null,null,null,null,null,null,null,null,{"$f":"UnObr4!E105","v":144017}]
[4104,null,null,791000,null,null,null,"ПРИХОДИ ИЗ БУЏЕТА (4105)",null,null,null,null,null,null,null,null,null,null,null,null,null,null,null,null,null,null,{"$f":"UnObr4!D106","v":109511},null,null,null,null,null,null,null,null,{"$f":"UnObr4!E106","v":144017}]
[4105,null,null,791100,null,null,null,"Приходи из буџета",null,null,null,null,null,null,null,null,null,null,null,null,null,null,null,null,null,null,{"$f":"UnObr4!D107","v":109511},null,null,null,null,null,null,null,null,{"$f":"UnObr4!E107","v":144017}]
[4106,null,null,800000,null,null,null,"ПРИМАЊА ОД ПРОДАЈЕ НЕФИНАНСИЈСКЕ ИМОВИНЕ (4107 + 4114 + 4121 + 4124)",null,null,null,null,null,null,null,null,null,null,null,null,null,null,null,null,null,null,{"$f":"UnObr4!D108","v":0},null,null,null,null,null,null,null,null,{"$f":"UnObr4!E108","v":0}]
[4107,null,null,810000,null,null,null,"ПРИМАЊА ОД ПРОДАЈЕ ОСНОВНИХ \nСРЕДСТАВА (4108 + 4110 + 4112)",null,null,null,null,null,null,null,null,null,null,null,null,null,null,null,null,null,null,{"$f":"UnObr4!D109","v":0},null,null,null,null,null,null,null,null,{"$f":"UnObr4!E109","v":0}]
[4108,null,null,811000,null,null,null,"ПРИМАЊА ОД ПРОДАЈЕ НЕПОКРЕТНОСТИ \n(4109)",null,null,null,null,null,null,null,null,null,null,null,null,null,null,null,null,null,null,{"$f":"UnObr4!D110","v":0},null,null,null,null,null,null,null,null,{"$f":"UnObr4!E110","v":0}]
[4109,null,null,811100,null,null,null,"Примања од продаје непокретности",null,null,null,null,null,null,null,null,null,null,null,null,null,null,null,null,null,null,{"$f":"UnObr4!D111","v":0},null,null,null,null,null,null,null,null,{"$f":"UnObr4!E111","v":0}]
[4110,null,null,812000,null,null,null,"ПРИМАЊА ОД ПРОДАЈЕ ПОКРЕТНЕ ИМОВИНЕ\n(4111)",null,null,null,null,null,null,null,null,null,null,null,null,null,null,null,null,null,null,{"$f":"UnObr4!D112","v":0},null,null,null,null,null,null,null,null,{"$f":"UnObr4!E112","v":0}]
[4111,null,null,812100,null,null,null,"Примања од продаје покретне имовине",null,null,null,null,null,null,null,null,null,null,null,null,null,null,null,null,null,null,{"$f":"UnObr4!D113","v":0},null,null,null,null,null,null,null,null,{"$f":"UnObr4!E113","v":0}]
[4112,null,null,813000,null,null,null,"ПРИМАЊА ОД ПРОДАЈЕ ОСТАЛИХ ОСНОВНИХ\nСРЕДСТАВА (4113)",null,null,null,null,null,null,null,null,null,null,null,null,null,null,null,null,null,null,{"$f":"UnObr4!D114","v":0},null,null,null,null,null,null,null,null,{"$f":"UnObr4!E114","v":0}]
[4113,null,null,813100,null,null,null,"Примања од продаје осталих основних средстава",null,null,null,null,null,null,null,null,null,null,null,null,null,null,null,null,null,null,{"$f":"UnObr4!D115","v":0},null,null,null,null,null,null,null,null,{"$f":"UnObr4!E115","v":0}]
[4114,null,null,820000,null,null,null,"ПРИМАЊА ОД ПРОДАЈЕ ЗАЛИХА \n(4115 + 4117 + 4119)",null,null,null,null,null,null,null,null,null,null,null,null,null,null,null,null,null,null,{"$f":"UnObr4!D116","v":0},null,null,null,null,null,null,null,null,{"$f":"UnObr4!E116","v":0}]
[4115,null,null,821000,null,null,null,"ПРИМАЊА ОД ПРОДАЈЕ РОБНИХ РЕЗЕРВИ (4116)",null,null,null,null,null,null,null,null,null,null,null,null,null,null,null,null,null,null,{"$f":"UnObr4!D117","v":0},null,null,null,null,null,null,null,null,{"$f":"UnObr4!E117","v":0}]
[4116,null,null,821100,null,null,null,"Примања од продаје робних резерви",null,null,null,null,null,null,null,null,null,null,null,null,null,null,null,null,null,null,{"$f":"UnObr4!D118","v":0},null,null,null,null,null,null,null,null,{"$f":"UnObr4!E118","v":0}]
[4117,null,null,822000,null,null,null,"ПРИМАЊА ОД ПРОДАЈЕ ЗАЛИХА ПРОИЗВОДЊЕ (4118)",null,null,null,null,null,null,null,null,null,null,null,null,null,null,null,null,null,null,{"$f":"UnObr4!D119","v":0},null,null,null,null,null,null,null,null,{"$f":"UnObr4!E119","v":0}]
[4118,null,null,822100,null,null,null,"Примања од продаје залиха производње",null,null,null,null,null,null,null,null,null,null,null,null,null,null,null,null,null,null,{"$f":"UnObr4!D120","v":0},null,null,null,null,null,null,null,null,{"$f":"UnObr4!E120","v":0}]
[4119,null,null,823000,null,null,null,"ПРИМАЊА ОД ПРОДАЈЕ РОБЕ ЗА ДАЉУ \nПРОДАЈУ (4120)",null,null,null,null,null,null,null,null,null,null,null,null,null,null,null,null,null,null,{"$f":"UnObr4!D121","v":0},null,null,null,null,null,null,null,null,{"$f":"UnObr4!E121","v":0}]
[4120,null,null,823100,null,null,null,"Примања од продаје робе за даљу продају",null,null,null,null,null,null,null,null,null,null,null,null,null,null,null,null,null,null,{"$f":"UnObr4!D122","v":0},null,null,null,null,null,null,null,null,{"$f":"UnObr4!E122","v":0}]
[4121,null,null,830000,null,null,null,"ПРИМАЊА ОД ПРОДАЈЕ ДРАГОЦЕНОСТИ (4122)",null,null,null,null,null,null,null,null,null,null,null,null,null,null,null,null,null,null,{"$f":"UnObr4!D123","v":0},null,null,null,null,null,null,null,null,{"$f":"UnObr4!E123","v":0}]
[4122,null,null,831000,null,null,null,"ПРИМАЊА ОД ПРОДАЈЕ ДРАГОЦЕНОСТИ (4123)",null,null,null,null,null,null,null,null,null,null,null,null,null,null,null,null,null,null,{"$f":"UnObr4!D124","v":0},null,null,null,null,null,null,null,null,{"$f":"UnObr4!E124","v":0}]
[4123,null,null,831100,null,null,null,"Примања од продаје драгоцености",null,null,null,null,null,null,null,null,null,null,null,null,null,null,null,null,null,null,{"$f":"UnObr4!D125","v":0},null,null,null,null,null,null,null,null,{"$f":"UnObr4!E125","v":0}]
[4124,null,null,840000,null,null,null,"ПРИМАЊА ОД ПРОДАЈЕ ПРИРОДНЕ ИМОВИНЕ \n(4125 + 4127 + 4129)",null,null,null,null,null,null,null,null,null,null,null,null,null,null,null,null,null,null,{"$f":"UnObr4!D126","v":0},null,null,null,null,null,null,null,null,{"$f":"UnObr4!E126","v":0}]
[4125,null,null,841000,null,null,null,"ПРИМАЊА ОД ПРОДАЈЕ ЗЕМЉИШТА (4126)",null,null,null,null,null,null,null,null,null,null,null,null,null,null,null,null,null,null,{"$f":"UnObr4!D127","v":0},null,null,null,null,null,null,null,null,{"$f":"UnObr4!E127","v":0}]
[4126,null,null,841100,null,null,null,"Примања од продаје земљишта",null,null,null,null,null,null,null,null,null,null,null,null,null,null,null,null,null,null,{"$f":"UnObr4!D128","v":0},null,null,null,null,null,null,null,null,{"$f":"UnObr4!E128","v":0}]
[4127,null,null,842000,null,null,null,"ПРИМАЊА ОД ПРОДАЈЕ ПОДЗЕМНИХ БЛАГА\n(4128)",null,null,null,null,null,null,null,null,null,null,null,null,null,null,null,null,null,null,{"$f":"UnObr4!D129","v":0},null,null,null,null,null,null,null,null,{"$f":"UnObr4!E129","v":0}]
[4128,null,null,842100,null,null,null,"Примања од продаје подземних блага",null,null,null,null,null,null,null,null,null,null,null,null,null,null,null,null,null,null,{"$f":"UnObr4!D130","v":0},null,null,null,null,null,null,null,null,{"$f":"UnObr4!E130","v":0}]
[4129,null,null,843000,null,null,null,"ПРИМАЊА ОД ПРОДАЈЕ ШУМА И ВОДА (4130)",null,null,null,null,null,null,null,null,null,null,null,null,null,null,null,null,null,null,{"$f":"UnObr4!D131","v":0},null,null,null,null,null,null,null,null,{"$f":"UnObr4!E131","v":0}]
[4130,null,null,843100,null,null,null,"Примања од продаје шума и вода",null,null,null,null,null,null,null,null,null,null,null,null,null,null,null,null,null,null,{"$f":"UnObr4!D132","v":0},null,null,null,null,null,null,null,null,{"$f":"UnObr4!E132","v":0}]
[4131,null,null,900000,null,null,null,"ПРИМАЊА ОД ЗАДУЖИВАЊА И ПРОДАЈЕ ФИНАНСИЈСКЕ ИМОВИНЕ (4132 + 4151)",null,null,null,null,null,null,null,null,null,null,null,null,null,null,null,null,null,null,{"$f":"UnObr4!D133","v":0},null,null,null,null,null,null,null,null,{"$f":"UnObr4!E133","v":0}]
[4132,null,null,910000,null,null,null,"ПРИМАЊА ОД ЗАДУЖИВАЊА (4133 + 4143)",null,null,null,null,null,null,null,null,null,null,null,null,null,null,null,null,null,null,{"$f":"UnObr4!D134","v":0},null,null,null,null,null,null,null,null,{"$f":"UnObr4!E134","v":0}]
[4133,null,null,911000,null,null,null,"ПРИМАЊА ОД ДОМАЋИХ ЗАДУЖИВАЊА\n(од 4134 до 4142)",null,null,null,null,null,null,null,null,null,null,null,null,null,null,null,null,null,null,{"$f":"UnObr4!D135","v":0},null,null,null,null,null,null,null,null,{"$f":"UnObr4!E135","v":0}]
[4134,null,null,911100,null,null,null,"Примања од емитовања домаћих хартија од вредности, \nизузев акција",null,null,null,null,null,null,null,null,null,null,null,null,null,null,null,null,null,null,{"$f":"UnObr4!D136","v":0},null,null,null,null,null,null,null,null,{"$f":"UnObr4!E136","v":0}]
[4135,null,null,911200,null,null,null,"Примања од задуживања од осталих нивоа власти",null,null,null,null,null,null,null,null,null,null,null,null,null,null,null,null,null,null,{"$f":"UnObr4!D137","v":0},null,null,null,null,null,null,null,null,{"$f":"UnObr4!E137","v":0}]
[4136,null,null,911300,null,null,null,"Примања од задуживања од јавних финансијских \nинституција у земљи",null,null,null,null,null,null,null,null,null,null,null,null,null,null,null,null,null,null,{"$f":"UnObr4!D138","v":0},null,null,null,null,null,null,null,null,{"$f":"UnObr4!E138","v":0}]
[4137,null,null,911400,null,null,null,"Примања од задуживања од пословних банака у земљи",null,null,null,null,null,null,null,null,null,null,null,null,null,null,null,null,null,null,{"$f":"UnObr4!D139","v":0},null,null,null,null,null,null,null,null,{"$f":"UnObr4!E139","v":0}]
[4138,null,null,911500,null,null,null,"Примања од задуживања од осталих поверилаца у \nземљи",null,null,null,null,null,null,null,null,null,null,null,null,null,null,null,null,null,null,{"$f":"UnObr4!D140","v":0},null,null,null,null,null,null,null,null,{"$f":"UnObr4!E140","v":0}]
[4139,null,null,911600,null,null,null,"Примања од задуживања од домаћинстава у земљи",null,null,null,null,null,null,null,null,null,null,null,null,null,null,null,null,null,null,{"$f":"UnObr4!D141","v":0},null,null,null,null,null,null,null,null,{"$f":"UnObr4!E141","v":0}]
[4140,null,null,911700,null,null,null,"Примања од домаћих финансијских деривата",null,null,null,null,null,null,null,null,null,null,null,null,null,null,null,null,null,null,{"$f":"UnObr4!D142","v":0},null,null,null,null,null,null,null,null,{"$f":"UnObr4!E142","v":0}]
[4141,null,null,911800,null,null,null,"Примања од домаћих меница",null,null,null,null,null,null,null,null,null,null,null,null,null,null,null,null,null,null,{"$f":"UnObr4!D143","v":0},null,null,null,null,null,null,null,null,{"$f":"UnObr4!E143","v":0}]
[4142,null,null,911900,null,null,null,"Исправка унутрашњег дуга",null,null,null,null,null,null,null,null,null,null,null,null,null,null,null,null,null,null,{"$f":"UnObr4!D144","v":0},null,null,null,null,null,null,null,null,{"$f":"UnObr4!E144","v":0}]
[4143,null,null,912000,null,null,null,"ПРИМАЊА ОД ИНОСТРАНОГ ЗАДУЖИВАЊА \n(од 4144 до 4150)",null,null,null,null,null,null,null,null,null,null,null,null,null,null,null,null,null,null,{"$f":"UnObr4!D145","v":0},null,null,null,null,null,null,null,null,{"$f":"UnObr4!E145","v":0}]
[4144,null,null,912100,null,null,null,"Примања од емитовања хартија од вредности, изузев акција, на иностраном финансијском тржишту",null,null,null,null,null,null,null,null,null,null,null,null,null,null,null,null,null,null,{"$f":"UnObr4!D146","v":0},null,null,null,null,null,null,null,null,{"$f":"UnObr4!E146","v":0}]
[4145,null,null,912200,null,null,null,"Примања од задуживања од иностраних држава",null,null,null,null,null,null,null,null,null,null,null,null,null,null,null,null,null,null,{"$f":"UnObr4!D147","v":0},null,null,null,null,null,null,null,null,{"$f":"UnObr4!E147","v":0}]
[4146,null,null,912300,null,null,null,"Примања од задуживања од мултилатералних \nинституција",null,null,null,null,null,null,null,null,null,null,null,null,null,null,null,null,null,null,{"$f":"UnObr4!D148","v":0},null,null,null,null,null,null,null,null,{"$f":"UnObr4!E148","v":0}]
[4147,null,null,912400,null,null,null,"Примања од задуживања од иностраних пословних\nбанака",null,null,null,null,null,null,null,null,null,null,null,null,null,null,null,null,null,null,{"$f":"UnObr4!D149","v":0},null,null,null,null,null,null,null,null,{"$f":"UnObr4!E149","v":0}]
[4148,null,null,912500,null,null,null,"Примања од задуживања од осталих иностраних \nповерилаца",null,null,null,null,null,null,null,null,null,null,null,null,null,null,null,null,null,null,{"$f":"UnObr4!D150","v":0},null,null,null,null,null,null,null,null,{"$f":"UnObr4!E150","v":0}]
[4149,null,null,912600,null,null,null,"Примања од иностраних финансијских деривата",null,null,null,null,null,null,null,null,null,null,null,null,null,null,null,null,null,null,{"$f":"UnObr4!D151","v":0},null,null,null,null,null,null,null,null,{"$f":"UnObr4!E151","v":0}]
[4150,null,null,912900,null,null,null,"Исправка спољног дуга",null,null,null,null,null,null,null,null,null,null,null,null,null,null,null,null,null,null,{"$f":"UnObr4!D152","v":0},null,null,null,null,null,null,null,null,{"$f":"UnObr4!E152","v":0}]
[4151,null,null,920000,null,null,null,"ПРИМАЊА ОД ПРОДАЈЕ ФИНАНСИЈСКЕ \nИМОВИНЕ (4152 + 4162)",null,null,null,null,null,null,null,null,null,null,null,null,null,null,null,null,null,null,{"$f":"UnObr4!D153","v":0},null,null,null,null,null,null,null,null,{"$f":"UnObr4!E153","v":0}]
[4152,null,null,921000,null,null,null,"ПРИМАЊА ОД ПРОДАЈЕ ДОМАЋЕ \nФИНАНСИЈСКЕ ИМОВИНЕ (од 4153 до 4161)",null,null,null,null,null,null,null,null,null,null,null,null,null,null,null,null,null,null,{"$f":"UnObr4!D154","v":0},null,null,null,null,null,null,null,null,{"$f":"UnObr4!E154","v":0}]
[4153,null,null,921100,null,null,null,"Примања од продаје домаћих хартија од вредности, \nизузев акција",null,null,null,null,null,null,null,null,null,null,null,null,null,null,null,null,null,null,{"$f":"UnObr4!D155","v":0},null,null,null,null,null,null,null,null,{"$f":"UnObr4!E155","v":0}]
[4154,null,null,921200,null,null,null,"Примања од отплате кредита датих осталим нивоима \nвласти",null,null,null,null,null,null,null,null,null,null,null,null,null,null,null,null,null,null,{"$f":"UnObr4!D156","v":0},null,null,null,null,null,null,null,null,{"$f":"UnObr4!E156","v":0}]
[4155,null,null,921300,null,null,null,"Примања од отплате кредита датих домаћим јавним финансијским институцијама",null,null,null,null,null,null,null,null,null,null,null,null,null,null,null,null,null,null,{"$f":"UnObr4!D157","v":0},null,null,null,null,null,null,null,null,{"$f":"UnObr4!E157","v":0}]
[4156,null,null,921400,null,null,null,"Примања од отплате кредита датих домаћим пословним\nбанкама",null,null,null,null,null,null,null,null,null,null,null,null,null,null,null,null,null,null,{"$f":"UnObr4!D158","v":0},null,null,null,null,null,null,null,null,{"$f":"UnObr4!E158","v":0}]
[4157,null,null,921500,null,null,null,"Примања од отплате кредита датих домаћим јавним нефинансијским институцијама",null,null,null,null,null,null,null,null,null,null,null,null,null,null,null,null,null,null,{"$f":"UnObr4!D159","v":0},null,null,null,null,null,null,null,null,{"$f":"UnObr4!E159","v":0}]
[4158,null,null,921600,null,null,null,"Примања од отплате кредита датих физичким лицима и домаћинствима у земљи",null,null,null,null,null,null,null,null,null,null,null,null,null,null,null,null,null,null,{"$f":"UnObr4!D160","v":0},null,null,null,null,null,null,null,null,{"$f":"UnObr4!E160","v":0}]
[4159,null,null,921700,null,null,null,"Примања од отплате кредита датих удружењима грађана\nу земљи",null,null,null,null,null,null,null,null,null,null,null,null,null,null,null,null,null,null,{"$f":"UnObr4!D161","v":0},null,null,null,null,null,null,null,null,{"$f":"UnObr4!E161","v":0}]
[4160,null,null,921800,null,null,null,"Примања од отплате кредита датих нефинансијским приватним предузећима у земљи",null,null,null,null,null,null,null,null,null,null,null,null,null,null,null,null,null,null,{"$f":"UnObr4!D162","v":0},null,null,null,null,null,null,null,null,{"$f":"UnObr4!E162","v":0}]
[4161,null,null,921900,null,null,null,"Примања од продаје домаћих акција и осталог капитала",null,null,null,null,null,null,null,null,null,null,null,null,null,null,null,null,null,null,{"$f":"UnObr4!D163","v":0},null,null,null,null,null,null,null,null,{"$f":"UnObr4!E163","v":0}]
[4162,null,null,922000,null,null,null,"ПРИМАЊА ОД ПРОДАЈЕ СТРАНЕ \nФИНАНСИЈСКЕ ИМОВИНЕ (од 4163 до 4170)",null,null,null,null,null,null,null,null,null,null,null,null,null,null,null,null,null,null,{"$f":"UnObr4!D164","v":0},null,null,null,null,null,null,null,null,{"$f":"UnObr4!E164","v":0}]
[4163,null,null,922100,null,null,null,"Примања од продаје страних хартија од вредности, \nизузев акција",null,null,null,null,null,null,null,null,null,null,null,null,null,null,null,null,null,null,{"$f":"UnObr4!D165","v":0},null,null,null,null,null,null,null,null,{"$f":"UnObr4!E165","v":0}]
[4164,null,null,922200,null,null,null,"Примања од отплате кредита датих страним владама",null,null,null,null,null,null,null,null,null,null,null,null,null,null,null,null,null,null,{"$f":"UnObr4!D166","v":0},null,null,null,null,null,null,null,null,{"$f":"UnObr4!E166","v":0}]
[4165,null,null,922300,null,null,null,"Примања од отплате кредита датих међународним организацијама",null,null,null,null,null,null,null,null,null,null,null,null,null,null,null,null,null,null,{"$f":"UnObr4!D167","v":0},null,null,null,null,null,null,null,null,{"$f":"UnObr4!E167","v":0}]
[4166,null,null,922400,null,null,null,"Примања од отплате кредита датих страним пословним банкама",null,null,null,null,null,null,null,null,null,null,null,null,null,null,null,null,null,null,{"$f":"UnObr4!D168","v":0},null,null,null,null,null,null,null,null,{"$f":"UnObr4!E168","v":0}]
[4167,null,null,922500,null,null,null,"Примања од отплате кредита датих страним \nнефинансијским институцијама",null,null,null,null,null,null,null,null,null,null,null,null,null,null,null,null,null,null,{"$f":"UnObr4!D169","v":0},null,null,null,null,null,null,null,null,{"$f":"UnObr4!E169","v":0}]
[4168,null,null,922600,null,null,null,"Примања од отплате кредита датих страним невладиним организацијама",null,null,null,null,null,null,null,null,null,null,null,null,null,null,null,null,null,null,{"$f":"UnObr4!D170","v":0},null,null,null,null,null,null,null,null,{"$f":"UnObr4!E170","v":0}]
[4169,null,null,922700,null,null,null,"Примања од продаје страних акција и осталог капитала",null,null,null,null,null,null,null,null,null,null,null,null,null,null,null,null,null,null,{"$f":"UnObr4!D171","v":0},null,null,null,null,null,null,null,null,{"$f":"UnObr4!E171","v":0}]
[4170,null,null,922800,null,null,null,"Примања од продаје стране валуте",null,null,null,null,null,null,null,null,null,null,null,null,null,null,null,null,null,null,{"$f":"UnObr4!D172","v":0},null,null,null,null,null,null,null,null,{"$f":"UnObr4!E172","v":0}]
[4171,null,null,null,null,null,null,"НОВЧАНИ ОДЛИВИ (4172 + 4340 + 4386)",null,null,null,null,null,null,null,null,null,null,null,null,null,null,null,null,null,null,{"$f":"UnObr4!D173","v":141332},null,null,null,null,null,null,null,null,{"$f":"UnObr4!E173","v":156447}]
[4172,null,null,400000,null,null,null,"ТЕКУЋИ РАСХОДИ (4173 + 4195 + 4240 + 4255 + 4279 + 4292 + 4308 + 4323)",null,null,null,null,null,null,null,null,null,null,null,null,null,null,null,null,null,null,{"$f":"UnObr4!D174","v":138756},null,null,null,null,null,null,null,null,{"$f":"UnObr4!E174","v":155146}]
[4173,null,null,410000,null,null,null,"РАСХОДИ ЗА ЗАПОСЛЕНЕ (4174 + 4176 + 4180 + 4182 + 4187 + 4189 + 4191 + 4193)",null,null,null,null,null,null,null,null,null,null,null,null,null,null,null,null,null,null,{"$f":"UnObr4!D175","v":97480},null,null,null,null,null,null,null,null,{"$f":"UnObr4!E175","v":103699}]
[4174,null,null,411000,null,null,null,"ПЛАТЕ, ДОДАЦИ И НАКНАДЕ ЗАПОСЛЕНИХ (ЗАРАДЕ) (4175)",null,null,null,null,null,null,null,null,null,null,null,null,null,null,null,null,null,null,{"$f":"UnObr4!D176","v":79028},null,null,null,null,null,null,null,null,{"$f":"UnObr4!E176","v":84879}]
[4175,null,null,411100,null,null,null,"Плате, додаци и накнаде запослених",null,null,null,null,null,null,null,null,null,null,null,null,null,null,null,null,null,null,{"$f":"UnObr4!D177","v":79028},null,null,null,null,null,null,null,null,{"$f":"UnObr4!E177","v":84879}]
[4176,null,null,412000,null,null,null,"СОЦИЈАЛНИ ДОПРИНОСИ НА ТЕРЕТ \nПОСЛОДАВЦА (од 4177 до 4179)",null,null,null,null,null,null,null,null,null,null,null,null,null,null,null,null,null,null,{"$f":"UnObr4!D178","v":14146},null,null,null,null,null,null,null,null,{"$f":"UnObr4!E178","v":15200}]
[4177,null,null,412100,null,null,null,"Допринос за пензијско и инвалидско осигурање ",null,null,null,null,null,null,null,null,null,null,null,null,null,null,null,null,null,null,{"$f":"UnObr4!D179","v":9483},null,null,null,null,null,null,null,null,{"$f":"UnObr4!E179","v":10190}]
[4178,null,null,412200,null,null,null,"Допринос за здравствено осигурање",null,null,null,null,null,null,null,null,null,null,null,null,null,null,null,null,null,null,{"$f":"UnObr4!D180","v":4070},null,null,null,null,null,null,null,null,{"$f":"UnObr4!E180","v":4373}]
[4179,null,null,412300,null,null,null,"Допринос за незапосленост",null,null,null,null,null,null,null,null,null,null,null,null,null,null,null,null,null,null,{"$f":"UnObr4!D181","v":593},null,null,null,null,null,null,null,null,{"$f":"UnObr4!E181","v":637}]
[4180,null,null,413000,null,null,null,"НАКНАДЕ У НАТУРИ (4181)",null,null,null,null,null,null,null,null,null,null,null,null,null,null,null,null,null,null,{"$f":"UnObr4!D182","v":345},null,null,null,null,null,null,null,null,{"$f":"UnObr4!E182","v":243}]
[4181,null,null,413100,null,null,null,"Накнаде у натури",null,null,null,null,null,null,null,null,null,null,null,null,null,null,null,null,null,null,{"$f":"UnObr4!D183","v":345},null,null,null,null,null,null,null,null,{"$f":"UnObr4!E183","v":243}]
[4182,null,null,414000,null,null,null,"СОЦИЈАЛНА ДАВАЊА ЗАПОСЛЕНИМА\n(од 4183 до 4186)",null,null,null,null,null,null,null,null,null,null,null,null,null,null,null,null,null,null,{"$f":"UnObr4!D184","v":2053},null,null,null,null,null,null,null,null,{"$f":"UnObr4!E184","v":969}]
[4183,null,null,414100,null,null,null,"Исплата накнада за време одсуствовања с посла на терет фондова",null,null,null,null,null,null,null,null,null,null,null,null,null,null,null,null,null,null,{"$f":"UnObr4!D185","v":648},null,null,null,null,null,null,null,null,{"$f":"UnObr4!E185","v":763}]
[4184,null,null,414200,null,null,null,"Расходи за образовање деце запослених",null,null,null,null,null,null,null,null,null,null,null,null,null,null,null,null,null,null,{"$f":"UnObr4!D186","v":0},null,null,null,null,null,null,null,null,{"$f":"UnObr4!E186","v":0}]
[4185,null,null,414300,null,null,null,"Отпремнине и помоћи",null,null,null,null,null,null,null,null,null,null,null,null,null,null,null,null,null,null,{"$f":"UnObr4!D187","v":1405},null,null,null,null,null,null,null,null,{"$f":"UnObr4!E187","v":206}]
[4186,null,null,414400,null,null,null,"Помоћ у медицинском лечењу запосленог или чланова \nуже породице и друге помоћи запосленом",null,null,null,null,null,null,null,null,null,null,null,null,null,null,null,null,null,null,{"$f":"UnObr4!D188","v":0},null,null,null,null,null,null,null,null,{"$f":"UnObr4!E188","v":0}]
[4187,null,null,415000,null,null,null,"НАКНАДЕ ТРОШКОВА ЗА ЗАПОСЛЕНЕ (4188)",null,null,null,null,null,null,null,null,null,null,null,null,null,null,null,null,null,null,{"$f":"UnObr4!D189","v":1230},null,null,null,null,null,null,null,null,{"$f":"UnObr4!E189","v":1120}]
[4188,null,null,415100,null,null,null,"Накнаде трошкова за запослене",null,null,null,null,null,null,null,null,null,null,null,null,null,null,null,null,null,null,{"$f":"UnObr4!D190","v":1230},null,null,null,null,null,null,null,null,{"$f":"UnObr4!E190","v":1120}]
[4189,null,null,416000,null,null,null,"НАГРАДЕ ЗАПОСЛЕНИМА И ОСТАЛИ ПОСЕБНИ РАСХОДИ (4190)",null,null,null,null,null,null,null,null,null,null,null,null,null,null,null,null,null,null,{"$f":"UnObr4!D191","v":678},null,null,null,null,null,null,null,null,{"$f":"UnObr4!E191","v":1288}]
[4190,null,null,416100,null,null,null,"Награде запосленима и остали посебни расходи",null,null,null,null,null,null,null,null,null,null,null,null,null,null,null,null,null,null,{"$f":"UnObr4!D192","v":678},null,null,null,null,null,null,null,null,{"$f":"UnObr4!E192","v":1288}]
[4191,null,null,417000,null,null,null,"ПОСЛАНИЧКИ ДОДАТАК (4192)",null,null,null,null,null,null,null,null,null,null,null,null,null,null,null,null,null,null,{"$f":"UnObr4!D193","v":0},null,null,null,null,null,null,null,null,{"$f":"UnObr4!E193","v":0}]
[4192,null,null,417100,null,null,null,"Посланички додатак",null,null,null,null,null,null,null,null,null,null,null,null,null,null,null,null,null,null,{"$f":"UnObr4!D194","v":0},null,null,null,null,null,null,null,null,{"$f":"UnObr4!E194","v":0}]
[4193,null,null,418000,null,null,null,"СУДИЈСКИ ДОДАТАК (4194)",null,null,null,null,null,null,null,null,null,null,null,null,null,null,null,null,null,null,{"$f":"UnObr4!D195","v":0},null,null,null,null,null,null,null,null,{"$f":"UnObr4!E195","v":0}]
[4194,null,null,418100,null,null,null,"Судијски додатак",null,null,null,null,null,null,null,null,null,null,null,null,null,null,null,null,null,null,{"$f":"UnObr4!D196","v":0},null,null,null,null,null,null,null,null,{"$f":"UnObr4!E196","v":0}]
[4195,null,null,420000,null,null,null,"КОРИШЋЕЊЕ УСЛУГА И РОБА \n(4196 + 4204 + 4210 + 4219 + 4227 + 4230) ",null,null,null,null,null,null,null,null,null,null,null,null,null,null,null,null,null,null,{"$f":"UnObr4!D197","v":35106},null,null,null,null,null,null,null,null,{"$f":"UnObr4!E197","v":37468}]
[4196,null,null,421000,null,null,null,"СТАЛНИ ТРОШКОВИ (од 4197 до 4203)",null,null,null,null,null,null,null,null,null,null,null,null,null,null,null,null,null,null,{"$f":"UnObr4!D198","v":9361},null,null,null,null,null,null,null,null,{"$f":"UnObr4!E198","v":10626}]
[4197,null,null,421100,null,null,null,"Трошкови платног промета и банкарских услуга",null,null,null,null,null,null,null,null,null,null,null,null,null,null,null,null,null,null,{"$f":"UnObr4!D199","v":179},null,null,null,null,null,null,null,null,{"$f":"UnObr4!E199","v":210}]
[4198,null,null,421200,null,null,null,"Енергетске услуге",null,null,null,null,null,null,null,null,null,null,null,null,null,null,null,null,null,null,{"$f":"UnObr4!D200","v":6678},null,null,null,null,null,null,null,null,{"$f":"UnObr4!E200","v":8273}]
[4199,null,null,421300,null,null,null,"Комуналне услуге",null,null,null,null,null,null,null,null,null,null,null,null,null,null,null,null,null,null,{"$f":"UnObr4!D201","v":1430},null,null,null,null,null,null,null,null,{"$f":"UnObr4!E201","v":1559}]
[4200,null,null,421400,null,null,null,"Услуге комуникација",null,null,null,null,null,null,null,null,null,null,null,null,null,null,null,null,null,null,{"$f":"UnObr4!D202","v":498},null,null,null,null,null,null,null,null,{"$f":"UnObr4!E202","v":471}]
[4201,null,null,421500,null,null,null,"Трошкови осигурања",null,null,null,null,null,null,null,null,null,null,null,null,null,null,null,null,null,null,{"$f":"UnObr4!D203","v":576},null,null,null,null,null,null,null,null,{"$f":"UnObr4!E203","v":113}]
[4202,null,null,421600,null,null,null,"Закуп имовине и опреме",null,null,null,null,null,null,null,null,null,null,null,null,null,null,null,null,null,null,{"$f":"UnObr4!D204","v":0},null,null,null,null,null,null,null,null,{"$f":"UnObr4!E204","v":0}]
[4203,null,null,421900,null,null,null,"Остали трошкови",null,null,null,null,null,null,null,null,null,null,null,null,null,null,null,null,null,null,{"$f":"UnObr4!D205","v":0},null,null,null,null,null,null,null,null,{"$f":"UnObr4!E205","v":0}]
[4204,null,null,422000,null,null,null,"ТРОШКОВИ ПУТОВАЊА (од 4205 до 4209)",null,null,null,null,null,null,null,null,null,null,null,null,null,null,null,null,null,null,{"$f":"UnObr4!D206","v":853},null,null,null,null,null,null,null,null,{"$f":"UnObr4!E206","v":780}]
[4205,null,null,422100,null,null,null,"Трошкови службених путовања у земљи",null,null,null,null,null,null,null,null,null,null,null,null,null,null,null,null,null,null,{"$f":"UnObr4!D207","v":717},null,null,null,null,null,null,null,null,{"$f":"UnObr4!E207","v":630}]
[4206,null,null,422200,null,null,null,"Трошкови службених путовања у иностранство",null,null,null,null,null,null,null,null,null,null,null,null,null,null,null,null,null,null,{"$f":"UnObr4!D208","v":0},null,null,null,null,null,null,null,null,{"$f":"UnObr4!E208","v":0}]
[4207,null,null,422300,null,null,null,"Трошкови путовања у оквиру редовног рада",null,null,null,null,null,null,null,null,null,null,null,null,null,null,null,null,null,null,{"$f":"UnObr4!D209","v":136},null,null,null,null,null,null,null,null,{"$f":"UnObr4!E209","v":150}]
[4208,null,null,422400,null,null,null,"Трошкови путовања ученика",null,null,null,null,null,null,null,null,null,null,null,null,null,null,null,null,null,null,{"$f":"UnObr4!D210","v":0},null,null,null,null,null,null,null,null,{"$f":"UnObr4!E210","v":0}]
[4209,null,null,422900,null,null,null,"Остали трошкови транспорта",null,null,null,null,null,null,null,null,null,null,null,null,null,null,null,null,null,null,{"$f":"UnObr4!D211","v":0},null,null,null,null,null,null,null,null,{"$f":"UnObr4!E211","v":0}]
[4210,null,null,423000,null,null,null,"УСЛУГЕ ПО УГОВОРУ (од 4211 до 4218)",null,null,null,null,null,null,null,null,null,null,null,null,null,null,null,null,null,null,{"$f":"UnObr4!D212","v":4075},null,null,null,null,null,null,null,null,{"$f":"UnObr4!E212","v":3401}]
[4211,null,null,423100,null,null,null,"Административне услуге",null,null,null,null,null,null,null,null,null,null,null,null,null,null,null,null,null,null,{"$f":"UnObr4!D213","v":0},null,null,null,null,null,null,null,null,{"$f":"UnObr4!E213","v":0}]
[4212,null,null,423200,null,null,null,"Компјутерске услуге",null,null,null,null,null,null,null,null,null,null,null,null,null,null,null,null,null,null,{"$f":"UnObr4!D214","v":97},null,null,null,null,null,null,null,null,{"$f":"UnObr4!E214","v":101}]
[4213,null,null,423300,null,null,null,"Услуге образовања и усавршавања запослених",null,null,null,null,null,null,null,null,null,null,null,null,null,null,null,null,null,null,{"$f":"UnObr4!D215","v":276},null,null,null,null,null,null,null,null,{"$f":"UnObr4!E215","v":187}]
[4214,null,null,423400,null,null,null,"Услуге информисања",null,null,null,null,null,null,null,null,null,null,null,null,null,null,null,null,null,null,{"$f":"UnObr4!D216","v":170},null,null,null,null,null,null,null,null,{"$f":"UnObr4!E216","v":87}]
[4215,null,null,423500,null,null,null,"Стручне услуге",null,null,null,null,null,null,null,null,null,null,null,null,null,null,null,null,null,null,{"$f":"UnObr4!D217","v":0},null,null,null,null,null,null,null,null,{"$f":"UnObr4!E217","v":0}]
[4216,null,null,423600,null,null,null,"Услуге за домаћинство и угоститељство",null,null,null,null,null,null,null,null,null,null,null,null,null,null,null,null,null,null,{"$f":"UnObr4!D218","v":116},null,null,null,null,null,null,null,null,{"$f":"UnObr4!E218","v":106}]
[4217,null,null,423700,null,null,null,"Репрезентација",null,null,null,null,null,null,null,null,null,null,null,null,null,null,null,null,null,null,{"$f":"UnObr4!D219","v":0},null,null,null,null,null,null,null,null,{"$f":"UnObr4!E219","v":0}]
[4218,null,null,423900,null,null,null,"Остале опште услуге",null,null,null,null,null,null,null,null,null,null,null,null,null,null,null,null,null,null,{"$f":"UnObr4!D220","v":3416},null,null,null,null,null,null,null,null,{"$f":"UnObr4!E220","v":2920}]
[4219,null,null,424000,null,null,null,"СПЕЦИЈАЛИЗОВАНЕ УСЛУГЕ (од 4220 до 4226)",null,null,null,null,null,null,null,null,null,null,null,null,null,null,null,null,null,null,{"$f":"UnObr4!D221","v":1719},null,null,null,null,null,null,null,null,{"$f":"UnObr4!E221","v":2165}]
[4220,null,null,424100,null,null,null,"Пољопривредне услуге",null,null,null,null,null,null,null,null,null,null,null,null,null,null,null,null,null,null,{"$f":"UnObr4!D222","v":0},null,null,null,null,null,null,null,null,{"$f":"UnObr4!E222","v":0}]
[4221,null,null,424200,null,null,null,"Услуге образовања, културе и спорта",null,null,null,null,null,null,null,null,null,null,null,null,null,null,null,null,null,null,{"$f":"UnObr4!D223","v":230},null,null,null,null,null,null,null,null,{"$f":"UnObr4!E223","v":181}]
[4222,null,null,424300,null,null,null,"Медицинске услуге",null,null,null,null,null,null,null,null,null,null,null,null,null,null,null,null,null,null,{"$f":"UnObr4!D224","v":0},null,null,null,null,null,null,null,null,{"$f":"UnObr4!E224","v":0}]
[4223,null,null,424400,null,null,null,"Услуге одржавања аутопутева",null,null,null,null,null,null,null,null,null,null,null,null,null,null,null,null,null,null,{"$f":"UnObr4!D225","v":0},null,null,null,null,null,null,null,null,{"$f":"UnObr4!E225","v":0}]
[4224,null,null,424500,null,null,null,"Услуге одржавања националних паркова и природних површина",null,null,null,null,null,null,null,null,null,null,null,null,null,null,null,null,null,null,{"$f":"UnObr4!D226","v":0},null,null,null,null,null,null,null,null,{"$f":"UnObr4!E226","v":0}]
[4225,null,null,424600,null,null,null,"Услуге очувања животне средине, науке и геодетске \nуслуге",null,null,null,null,null,null,null,null,null,null,null,null,null,null,null,null,null,null,{"$f":"UnObr4!D227","v":0},null,null,null,null,null,null,null,null,{"$f":"UnObr4!E227","v":0}]
[4226,null,null,424900,null,null,null,"Остале специјализоване услуге",null,null,null,null,null,null,null,null,null,null,null,null,null,null,null,null,null,null,{"$f":"UnObr4!D228","v":1489},null,null,null,null,null,null,null,null,{"$f":"UnObr4!E228","v":1984}]
[4227,null,null,425000,null,null,null,"ТЕКУЋЕ ПОПРАВКЕ И ОДРЖАВАЊЕ (УСЛУГЕ И МАТЕРИЈАЛИ) (4228 + 4229)",null,null,null,null,null,null,null,null,null,null,null,null,null,null,null,null,null,null,{"$f":"UnObr4!D229","v":1860},null,null,null,null,null,null,null,null,{"$f":"UnObr4!E229","v":2034}]
[4228,null,null,425100,null,null,null,"Текуће поправке и одражавање зграда и објеката",null,null,null,null,null,null,null,null,null,null,null,null,null,null,null,null,null,null,{"$f":"UnObr4!D230","v":1439},null,null,null,null,null,null,null,null,{"$f":"UnObr4!E230","v":1451}]
[4229,null,null,425200,null,null,null,"Текуће поправке и одржавање опреме",null,null,null,null,null,null,null,null,null,null,null,null,null,null,null,null,null,null,{"$f":"UnObr4!D231","v":421},null,null,null,null,null,null,null,null,{"$f":"UnObr4!E231","v":583}]
[4230,null,null,426000,null,null,null,"МАТЕРИЈАЛ (од 4231 до 4239)",null,null,null,null,null,null,null,null,null,null,null,null,null,null,null,null,null,null,{"$f":"UnObr4!D232","v":17238},null,null,null,null,null,null,null,null,{"$f":"UnObr4!E232","v":18462}]
[4231,null,null,426100,null,null,null,"Административни материјал",null,null,null,null,null,null,null,null,null,null,null,null,null,null,null,null,null,null,{"$f":"UnObr4!D233","v":706},null,null,null,null,null,null,null,null,{"$f":"UnObr4!E233","v":665}]
[4232,null,null,426200,null,null,null,"Материјали за пољопривреду ",null,null,null,null,null,null,null,null,null,null,null,null,null,null,null,null,null,null,{"$f":"UnObr4!D234","v":0},null,null,null,null,null,null,null,null,{"$f":"UnObr4!E234","v":0}]
[4233,null,null,426300,null,null,null,"Материјали за образовање и усавршавање запослених",null,null,null,null,null,null,null,null,null,null,null,null,null,null,null,null,null,null,{"$f":"UnObr4!D235","v":361},null,null,null,null,null,null,null,null,{"$f":"UnObr4!E235","v":250}]
[4234,null,null,426400,null,null,null,"Материјали за саобраћај",null,null,null,null,null,null,null,null,null,null,null,null,null,null,null,null,null,null,{"$f":"UnObr4!D236","v":554},null,null,null,null,null,null,null,null,{"$f":"UnObr4!E236","v":598}]
[4235,null,null,426500,null,null,null,"Материјали за очување животне средине и науку",null,null,null,null,null,null,null,null,null,null,null,null,null,null,null,null,null,null,{"$f":"UnObr4!D237","v":0},null,null,null,null,null,null,null,null,{"$f":"UnObr4!E237","v":0}]
[4236,null,null,426600,null,null,null,"Материјали за образовање, културу и спорт",null,null,null,null,null,null,null,null,null,null,null,null,null,null,null,null,null,null,{"$f":"UnObr4!D238","v":457},null,null,null,null,null,null,null,null,{"$f":"UnObr4!E238","v":1033}]
[4237,null,null,426700,null,null,null,"Медицински и лабораторијски материјали",null,null,null,null,null,null,null,null,null,null,null,null,null,null,null,null,null,null,{"$f":"UnObr4!D239","v":0},null,null,null,null,null,null,null,null,{"$f":"UnObr4!E239","v":0}]
[4238,null,null,426800,null,null,null,"Материјали за одржавање хигијене и угоститељство",null,null,null,null,null,null,null,null,null,null,null,null,null,null,null,null,null,null,{"$f":"UnObr4!D240","v":12897},null,null,null,null,null,null,null,null,{"$f":"UnObr4!E240","v":13816}]
[4239,null,null,426900,null,null,null,"Материјали за посебне намене",null,null,null,null,null,null,null,null,null,null,null,null,null,null,null,null,null,null,{"$f":"UnObr4!D241","v":2263},null,null,null,null,null,null,null,null,{"$f":"UnObr4!E241","v":2100}]
[4240,null,null,430000,null,null,null,"АМОРТИЗАЦИЈА И УПОТРЕБА СРЕДСТАВА ЗА \nРАД (4241 + 4245 + 4247 + 4249 + 4253)",null,null,null,null,null,null,null,null,null,null,null,null,null,null,null,null,null,null,{"$f":"UnObr4!D242","v":0},null,null,null,null,null,null,null,null,{"$f":"UnObr4!E242","v":0}]
[4241,null,null,431000,null,null,null,"АМОРТИЗАЦИЈА НЕКРЕТНИНА И ОПРЕМЕ \n(од 4242 до 4244)",null,null,null,null,null,null,null,null,null,null,null,null,null,null,null,null,null,null,{"$f":"UnObr4!D243","v":0},null,null,null,null,null,null,null,null,{"$f":"UnObr4!E243","v":0}]
[4242,null,null,431100,null,null,null,"Амортизација зграда и грађевинских објеката",null,null,null,null,null,null,null,null,null,null,null,null,null,null,null,null,null,null,{"$f":"UnObr4!D244","v":0},null,null,null,null,null,null,null,null,{"$f":"UnObr4!E244","v":0}]
[4243,null,null,431200,null,null,null,"Амортизација опреме",null,null,null,null,null,null,null,null,null,null,null,null,null,null,null,null,null,null,{"$f":"UnObr4!D245","v":0},null,null,null,null,null,null,null,null,{"$f":"UnObr4!E245","v":0}]
[4244,null,null,431300,null,null,null,"Амортизација осталих некретнина и опреме",null,null,null,null,null,null,null,null,null,null,null,null,null,null,null,null,null,null,{"$f":"UnObr4!D246","v":0},null,null,null,null,null,null,null,null,{"$f":"UnObr4!E246","v":0}]
[4245,null,null,432000,null,null,null,"АМОРТИЗАЦИЈА КУЛТИВИСАНЕ ИМОВИНЕ \n(4246)",null,null,null,null,null,null,null,null,null,null,null,null,null,null,null,null,null,null,{"$f":"UnObr4!D247","v":0},null,null,null,null,null,null,null,null,{"$f":"UnObr4!E247","v":0}]
[4246,null,null,432100,null,null,null,"Амортизација култивисане имовине",null,null,null,null,null,null,null,null,null,null,null,null,null,null,null,null,null,null,{"$f":"UnObr4!D248","v":0},null,null,null,null,null,null,null,null,{"$f":"UnObr4!E248","v":0}]
[4247,null,null,433000,null,null,null,"УПОТРЕБА ДРАГОЦЕНОСТИ (4248)",null,null,null,null,null,null,null,null,null,null,null,null,null,null,null,null,null,null,{"$f":"UnObr4!D249","v":0},null,null,null,null,null,null,null,null,{"$f":"UnObr4!E249","v":0}]
[4248,null,null,433100,null,null,null,"Употреба драгоцености",null,null,null,null,null,null,null,null,null,null,null,null,null,null,null,null,null,null,{"$f":"UnObr4!D250","v":0},null,null,null,null,null,null,null,null,{"$f":"UnObr4!E250","v":0}]
[4249,null,null,434000,null,null,null,"УПОТРЕБА ПРИРОДНЕ ИМОВИНЕ \n(од 4250 до 4252)",null,null,null,null,null,null,null,null,null,null,null,null,null,null,null,null,null,null,{"$f":"UnObr4!D251","v":0},null,null,null,null,null,null,null,null,{"$f":"UnObr4!E251","v":0}]
[4250,null,null,434100,null,null,null,"Употреба земљишта",null,null,null,null,null,null,null,null,null,null,null,null,null,null,null,null,null,null,{"$f":"UnObr4!D252","v":0},null,null,null,null,null,null,null,null,{"$f":"UnObr4!E252","v":0}]
[4251,null,null,434200,null,null,null,"Употреба подземног блага",null,null,null,null,null,null,null,null,null,null,null,null,null,null,null,null,null,null,{"$f":"UnObr4!D253","v":0},null,null,null,null,null,null,null,null,{"$f":"UnObr4!E253","v":0}]
[4252,null,null,434300,null,null,null,"Употреба шума и вода",null,null,null,null,null,null,null,null,null,null,null,null,null,null,null,null,null,null,{"$f":"UnObr4!D254","v":0},null,null,null,null,null,null,null,null,{"$f":"UnObr4!E254","v":0}]
[4253,null,null,435000,null,null,null,"АМОРТИЗАЦИЈА НЕМАТЕРИЈАЛНЕ ИМОВИНЕ \n(4254)",null,null,null,null,null,null,null,null,null,null,null,null,null,null,null,null,null,null,{"$f":"UnObr4!D255","v":0},null,null,null,null,null,null,null,null,{"$f":"UnObr4!E255","v":0}]
[4254,null,null,435100,null,null,null,"Амортизација нематеријалне имовине",null,null,null,null,null,null,null,null,null,null,null,null,null,null,null,null,null,null,{"$f":"UnObr4!D256","v":0},null,null,null,null,null,null,null,null,{"$f":"UnObr4!E256","v":0}]
[4255,null,null,440000,null,null,null,"ОТПЛАТА КАМАТА И ПРАТЕЋИ ТРОШКОВИ ЗАДУЖИВАЊА (4256 + 4266 + 4273 + 4275)",null,null,null,null,null,null,null,null,null,null,null,null,null,null,null,null,null,null,{"$f":"UnObr4!D257","v":0},null,null,null,null,null,null,null,null,{"$f":"UnObr4!E257","v":0}]
[4256,null,null,441000,null,null,null,"ОТПЛАТА ДОМАЋИХ КАМАТА (од 4257 до 4265)",null,null,null,null,null,null,null,null,null,null,null,null,null,null,null,null,null,null,{"$f":"UnObr4!D258","v":0},null,null,null,null,null,null,null,null,{"$f":"UnObr4!E258","v":0}]
[4257,null,null,441100,null,null,null,"Отплата камата на домаће хартије од вредности",null,null,null,null,null,null,null,null,null,null,null,null,null,null,null,null,null,null,{"$f":"UnObr4!D259","v":0},null,null,null,null,null,null,null,null,{"$f":"UnObr4!E259","v":0}]
[4258,null,null,441200,null,null,null,"Отплата камата осталим нивоима власти",null,null,null,null,null,null,null,null,null,null,null,null,null,null,null,null,null,null,{"$f":"UnObr4!D260","v":0},null,null,null,null,null,null,null,null,{"$f":"UnObr4!E260","v":0}]
[4259,null,null,441300,null,null,null,"Отплата камата домаћим јавним финансијским \nинституцијама",null,null,null,null,null,null,null,null,null,null,null,null,null,null,null,null,null,null,{"$f":"UnObr4!D261","v":0},null,null,null,null,null,null,null,null,{"$f":"UnObr4!E261","v":0}]
[4260,null,null,441400,null,null,null,"Отплата камата домаћим пословним банкама",null,null,null,null,null,null,null,null,null,null,null,null,null,null,null,null,null,null,{"$f":"UnObr4!D262","v":0},null,null,null,null,null,null,null,null,{"$f":"UnObr4!E262","v":0}]
[4261,null,null,441500,null,null,null,"Отплата камата осталим домаћим кредиторима",null,null,null,null,null,null,null,null,null,null,null,null,null,null,null,null,null,null,{"$f":"UnObr4!D263","v":0},null,null,null,null,null,null,null,null,{"$f":"UnObr4!E263","v":0}]
[4262,null,null,441600,null,null,null,"Отплата камата домаћинствима у земљи",null,null,null,null,null,null,null,null,null,null,null,null,null,null,null,null,null,null,{"$f":"UnObr4!D264","v":0},null,null,null,null,null,null,null,null,{"$f":"UnObr4!E264","v":0}]
[4263,null,null,441700,null,null,null,"Отплата камата на домаће финансијске деривате",null,null,null,null,null,null,null,null,null,null,null,null,null,null,null,null,null,null,{"$f":"UnObr4!D265","v":0},null,null,null,null,null,null,null,null,{"$f":"UnObr4!E265","v":0}]
[4264,null,null,441800,null,null,null,"Отплата камата на домаће менице",null,null,null,null,null,null,null,null,null,null,null,null,null,null,null,null,null,null,{"$f":"UnObr4!D266","v":0},null,null,null,null,null,null,null,null,{"$f":"UnObr4!E266","v":0}]
[4265,null,null,441900,null,null,null,"Финансијске промене на финансијским лизинзима",null,null,null,null,null,null,null,null,null,null,null,null,null,null,null,null,null,null,{"$f":"UnObr4!D267","v":0},null,null,null,null,null,null,null,null,{"$f":"UnObr4!E267","v":0}]
[4266,null,null,442000,null,null,null,"ОТПЛАТА СТРАНИХ КАМАТА (од 4267 до 4272)",null,null,null,null,null,null,null,null,null,null,null,null,null,null,null,null,null,null,{"$f":"UnObr4!D268","v":0},null,null,null,null,null,null,null,null,{"$f":"UnObr4!E268","v":0}]
[4267,null,null,442100,null,null,null,"Отплата камата на хартије од вредности емитоване на иностраном финансијском тржишту",null,null,null,null,null,null,null,null,null,null,null,null,null,null,null,null,null,null,{"$f":"UnObr4!D269","v":0},null,null,null,null,null,null,null,null,{"$f":"UnObr4!E269","v":0}]
[4268,null,null,442200,null,null,null,"Отплата камата страним владама",null,null,null,null,null,null,null,null,null,null,null,null,null,null,null,null,null,null,{"$f":"UnObr4!D270","v":0},null,null,null,null,null,null,null,null,{"$f":"UnObr4!E270","v":0}]
[4269,null,null,442300,null,null,null,"Отплата камата мултилатералним институцијама",null,null,null,null,null,null,null,null,null,null,null,null,null,null,null,null,null,null,{"$f":"UnObr4!D271","v":0},null,null,null,null,null,null,null,null,{"$f":"UnObr4!E271","v":0}]
[4270,null,null,442400,null,null,null,"Отплата камата страним пословним банкама",null,null,null,null,null,null,null,null,null,null,null,null,null,null,null,null,null,null,{"$f":"UnObr4!D272","v":0},null,null,null,null,null,null,null,null,{"$f":"UnObr4!E272","v":0}]
[4271,null,null,442500,null,null,null,"Отплата камата осталим страним кредиторима",null,null,null,null,null,null,null,null,null,null,null,null,null,null,null,null,null,null,{"$f":"UnObr4!D273","v":0},null,null,null,null,null,null,null,null,{"$f":"UnObr4!E273","v":0}]
[4272,null,null,442600,null,null,null,"Отплата камата на стране финансијске деривате",null,null,null,null,null,null,null,null,null,null,null,null,null,null,null,null,null,null,{"$f":"UnObr4!D274","v":0},null,null,null,null,null,null,null,null,{"$f":"UnObr4!E274","v":0}]
[4273,null,null,443000,null,null,null,"ОТПЛАТА КАМАТА ПО ГАРАНЦИЈАМА (4274)",null,null,null,null,null,null,null,null,null,null,null,null,null,null,null,null,null,null,{"$f":"UnObr4!D275","v":0},null,null,null,null,null,null,null,null,{"$f":"UnObr4!E275","v":0}]
[4274,null,null,443100,null,null,null,"Отплата камата по гаранцијама",null,null,null,null,null,null,null,null,null,null,null,null,null,null,null,null,null,null,{"$f":"UnObr4!D276","v":0},null,null,null,null,null,null,null,null,{"$f":"UnObr4!E276","v":0}]
[4275,null,null,444000,null,null,null,"ПРАТЕЋИ ТРОШКОВИ ЗАДУЖИВАЊА \n(од 4276 до 4278)",null,null,null,null,null,null,null,null,null,null,null,null,null,null,null,null,null,null,{"$f":"UnObr4!D277","v":0},null,null,null,null,null,null,null,null,{"$f":"UnObr4!E277","v":0}]
[4276,null,null,444100,null,null,null,"Негативне курсне разлике",null,null,null,null,null,null,null,null,null,null,null,null,null,null,null,null,null,null,{"$f":"UnObr4!D278","v":0},null,null,null,null,null,null,null,null,{"$f":"UnObr4!E278","v":0}]
[4277,null,null,444200,null,null,null,"Казне за кашњење",null,null,null,null,null,null,null,null,null,null,null,null,null,null,null,null,null,null,{"$f":"UnObr4!D279","v":0},null,null,null,null,null,null,null,null,{"$f":"UnObr4!E279","v":0}]
[4278,null,null,444300,null,null,null,"Остали пратећи трошкови задуживања",null,null,null,null,null,null,null,null,null,null,null,null,null,null,null,null,null,null,{"$f":"UnObr4!D280","v":0},null,null,null,null,null,null,null,null,{"$f":"UnObr4!E280","v":0}]
[4279,null,null,450000,null,null,null,"СУБВЕНЦИЈЕ (4280 + 4283 + 4286 + 4289)",null,null,null,null,null,null,null,null,null,null,null,null,null,null,null,null,null,null,{"$f":"UnObr4!D281","v":0},null,null,null,null,null,null,null,null,{"$f":"UnObr4!E281","v":0}]
[4280,null,null,451000,null,null,null,"СУБВЕНЦИЈЕ ЈАВНИМ НЕФИНАНСИЈСКИМ ПРЕДУЗЕЋИМА И ОРГАНИЗАЦИЈАМА \n(4281 + 4282)",null,null,null,null,null,null,null,null,null,null,null,null,null,null,null,null,null,null,{"$f":"UnObr4!D282","v":0},null,null,null,null,null,null,null,null,{"$f":"UnObr4!E282","v":0}]
[4281,null,null,451100,null,null,null,"Текуће субвенције јавним нефинансијским предузећима \nи организацијама",null,null,null,null,null,null,null,null,null,null,null,null,null,null,null,null,null,null,{"$f":"UnObr4!D283","v":0},null,null,null,null,null,null,null,null,{"$f":"UnObr4!E283","v":0}]
[4282,null,null,451200,null,null,null,"Капиталне субвенције јавним нефинансијским \nпредузећима и организацијама",null,null,null,null,null,null,null,null,null,null,null,null,null,null,null,null,null,null,{"$f":"UnObr4!D284","v":0},null,null,null,null,null,null,null,null,{"$f":"UnObr4!E284","v":0}]
[4283,null,null,452000,null,null,null,"СУБВЕНЦИЈЕ ПРИВАТНИМ ФИНАНСИЈСКИМ ИНСТИТУЦИЈАМА (4284 + 4285)",null,null,null,null,null,null,null,null,null,null,null,null,null,null,null,null,null,null,{"$f":"UnObr4!D285","v":0},null,null,null,null,null,null,null,null,{"$f":"UnObr4!E285","v":0}]
[4284,null,null,452100,null,null,null,"Текуће субвенције приватним финансијским \nинституцијама",null,null,null,null,null,null,null,null,null,null,null,null,null,null,null,null,null,null,{"$f":"UnObr4!D286","v":0},null,null,null,null,null,null,null,null,{"$f":"UnObr4!E286","v":0}]
[4285,null,null,452200,null,null,null,"Капиталне субвенције приватним финансијским институцијама",null,null,null,null,null,null,null,null,null,null,null,null,null,null,null,null,null,null,{"$f":"UnObr4!D287","v":0},null,null,null,null,null,null,null,null,{"$f":"UnObr4!E287","v":0}]
[4286,null,null,453000,null,null,null,"СУБВЕНЦИЈЕ ЈАВНИМ ФИНАНСИЈСКИМ ИНСТИТУЦИЈАМА (4287 + 4288)",null,null,null,null,null,null,null,null,null,null,null,null,null,null,null,null,null,null,{"$f":"UnObr4!D288","v":0},null,null,null,null,null,null,null,null,{"$f":"UnObr4!E288","v":0}]
[4287,null,null,453100,null,null,null,"Текуће субвенције јавним финансијским институцијама",null,null,null,null,null,null,null,null,null,null,null,null,null,null,null,null,null,null,{"$f":"UnObr4!D289","v":0},null,null,null,null,null,null,null,null,{"$f":"UnObr4!E289","v":0}]
[4288,null,null,453200,null,null,null,"Капиталне субвенције јавним финансијским \nинституцијама",null,null,null,null,null,null,null,null,null,null,null,null,null,null,null,null,null,null,{"$f":"UnObr4!D290","v":0},null,null,null,null,null,null,null,null,{"$f":"UnObr4!E290","v":0}]
[4289,null,null,454000,null,null,null,"СУБВЕНЦИЈЕ ПРИВАТНИМ ПРЕДУЗЕЋИМА \n(4290 + 4291)",null,null,null,null,null,null,null,null,null,null,null,null,null,null,null,null,null,null,{"$f":"UnObr4!D291","v":0},null,null,null,null,null,null,null,null,{"$f":"UnObr4!E291","v":0}]
[4290,null,null,454100,null,null,null,"Текуће субвенције приватним предузећима",null,null,null,null,null,null,null,null,null,null,null,null,null,null,null,null,null,null,{"$f":"UnObr4!D292","v":0},null,null,null,null,null,null,null,null,{"$f":"UnObr4!E292","v":0}]
[4291,null,null,454200,null,null,null,"Капиталне субвенције приватним предузећима",null,null,null,null,null,null,null,null,null,null,null,null,null,null,null,null,null,null,{"$f":"UnObr4!D293","v":0},null,null,null,null,null,null,null,null,{"$f":"UnObr4!E293","v":0}]
[4292,null,null,460000,null,null,null,"ДОНАЦИЈЕ, ДОТАЦИЈЕ И ТРАНСФЕРИ \n(4293 + 4296 + 4299 + 4302 + 4305)",null,null,null,null,null,null,null,null,null,null,null,null,null,null,null,null,null,null,{"$f":"UnObr4!D294","v":5398},null,null,null,null,null,null,null,null,{"$f":"UnObr4!E294","v":4268}]
[4293,null,null,461000,null,null,null,"ДОНАЦИЈЕ СТРАНИМ ВЛАДАМА (4294 + 4295)",null,null,null,null,null,null,null,null,null,null,null,null,null,null,null,null,null,null,{"$f":"UnObr4!D295","v":0},null,null,null,null,null,null,null,null,{"$f":"UnObr4!E295","v":0}]
[4294,null,null,461100,null,null,null,"Текуће донације страним владама",null,null,null,null,null,null,null,null,null,null,null,null,null,null,null,null,null,null,{"$f":"UnObr4!D296","v":0},null,null,null,null,null,null,null,null,{"$f":"UnObr4!E296","v":0}]
[4295,null,null,461200,null,null,null,"Капиталне донације страним владама",null,null,null,null,null,null,null,null,null,null,null,null,null,null,null,null,null,null,{"$f":"UnObr4!D297","v":0},null,null,null,null,null,null,null,null,{"$f":"UnObr4!E297","v":0}]
[4296,null,null,462000,null,null,null,"ДОТАЦИЈЕ МЕЂУНАРОДНИМ \nОРГАНИЗАЦИЈАМА (4297 + 4298)",null,null,null,null,null,null,null,null,null,null,null,null,null,null,null,null,null,null,{"$f":"UnObr4!D298","v":0},null,null,null,null,null,null,null,null,{"$f":"UnObr4!E298","v":0}]
[4297,null,null,462100,null,null,null,"Текуће дотације међународним организацијама",null,null,null,null,null,null,null,null,null,null,null,null,null,null,null,null,null,null,{"$f":"UnObr4!D299","v":0},null,null,null,null,null,null,null,null,{"$f":"UnObr4!E299","v":0}]
[4298,null,null,462200,null,null,null,"Капиталне дотације међународним организацијама",null,null,null,null,null,null,null,null,null,null,null,null,null,null,null,null,null,null,{"$f":"UnObr4!D300","v":0},null,null,null,null,null,null,null,null,{"$f":"UnObr4!E300","v":0}]
[4299,null,null,463000,null,null,null,"ТРАНСФЕРИ ОСТАЛИМ НИВОИМА ВЛАСТИ \n(4300 + 4301)",null,null,null,null,null,null,null,null,null,null,null,null,null,null,null,null,null,null,{"$f":"UnObr4!D301","v":0},null,null,null,null,null,null,null,null,{"$f":"UnObr4!E301","v":0}]
[4300,null,null,463100,null,null,null,"Текући трансфери осталим нивоима власти",null,null,null,null,null,null,null,null,null,null,null,null,null,null,null,null,null,null,{"$f":"UnObr4!D302","v":0},null,null,null,null,null,null,null,null,{"$f":"UnObr4!E302","v":0}]
[4301,null,null,463200,null,null,null,"Капитални трансфери осталим нивоима власти",null,null,null,null,null,null,null,null,null,null,null,null,null,null,null,null,null,null,{"$f":"UnObr4!D303","v":0},null,null,null,null,null,null,null,null,{"$f":"UnObr4!E303","v":0}]
[4302,null,null,464000,null,null,null,"ДОТАЦИЈЕ ОРГАНИЗАЦИЈАМА ОБАВЕЗНОГ СОЦИЈАЛНОГ ОСИГУРАЊА (4303 + 4304)",null,null,null,null,null,null,null,null,null,null,null,null,null,null,null,null,null,null,{"$f":"UnObr4!D304","v":0},null,null,null,null,null,null,null,null,{"$f":"UnObr4!E304","v":0}]
[4303,null,null,464100,null,null,null,"Текуће дотације организацијама обавезног социјалног осигурања",null,null,null,null,null,null,null,null,null,null,null,null,null,null,null,null,null,null,{"$f":"UnObr4!D305","v":0},null,null,null,null,null,null,null,null,{"$f":"UnObr4!E305","v":0}]
[4304,null,null,464200,null,null,null,"Капиталне дотације организацијама обавезног социјалног осигурања",null,null,null,null,null,null,null,null,null,null,null,null,null,null,null,null,null,null,{"$f":"UnObr4!D306","v":0},null,null,null,null,null,null,null,null,{"$f":"UnObr4!E306","v":0}]
[4305,null,null,465000,null,null,null,"ОСТАЛЕ ДОТАЦИЈЕ И ТРАНСФЕРИ (4306 + 4307)",null,null,null,null,null,null,null,null,null,null,null,null,null,null,null,null,null,null,{"$f":"UnObr4!D307","v":5398},null,null,null,null,null,null,null,null,{"$f":"UnObr4!E307","v":4268}]
[4306,null,null,465100,null,null,null,"Остале текуће дотације и трансфери",null,null,null,null,null,null,null,null,null,null,null,null,null,null,null,null,null,null,{"$f":"UnObr4!D308","v":5398},null,null,null,null,null,null,null,null,{"$f":"UnObr4!E308","v":4268}]
[4307,null,null,465200,null,null,null,"Остале капиталне дотације и трансфери",null,null,null,null,null,null,null,null,null,null,null,null,null,null,null,null,null,null,{"$f":"UnObr4!D309","v":0},null,null,null,null,null,null,null,null,{"$f":"UnObr4!E309","v":0}]
[4308,null,null,470000,null,null,null,"СОЦИЈАЛНО ОСИГУРАЊЕ И СОЦИЈАЛНА \nЗАШТИТА (4309 + 4313)",null,null,null,null,null,null,null,null,null,null,null,null,null,null,null,null,null,null,{"$f":"UnObr4!D310","v":98},null,null,null,null,null,null,null,null,{"$f":"UnObr4!E310","v":121}]
[4309,null,null,471000,null,null,null,"ПРАВА ИЗ СОЦИЈАЛНОГ ОСИГУРАЊА (ОРГАНИЗАЦИЈЕ ОБАВЕЗНОГ СОЦИЈАЛНОГ ОСИГУРАЊА) (од 4310 до 4312)",null,null,null,null,null,null,null,null,null,null,null,null,null,null,null,null,null,null,{"$f":"UnObr4!D311","v":0},null,null,null,null,null,null,null,null,{"$f":"UnObr4!E311","v":0}]
[4310,null,null,471100,null,null,null,"Права из социјалног осигурања која се исплаћују \nнепосредно домаћинствима",null,null,null,null,null,null,null,null,null,null,null,null,null,null,null,null,null,null,{"$f":"UnObr4!D312","v":0},null,null,null,null,null,null,null,null,{"$f":"UnObr4!E312","v":0}]
[4311,null,null,471200,null,null,null,"Права из социјалног осигурања која се исплаћују \nнепосредно пружаоцима услуга",null,null,null,null,null,null,null,null,null,null,null,null,null,null,null,null,null,null,{"$f":"UnObr4!D313","v":0},null,null,null,null,null,null,null,null,{"$f":"UnObr4!E313","v":0}]
[4312,null,null,471900,null,null,null,"Трансфери другим организацијама обавезног социјалног осигурања за доприносе за осигурање",null,null,null,null,null,null,null,null,null,null,null,null,null,null,null,null,null,null,{"$f":"UnObr4!D314","v":0},null,null,null,null,null,null,null,null,{"$f":"UnObr4!E314","v":0}]
[4313,null,null,472000,null,null,null,"НАКНАДЕ ЗА СОЦИЈАЛНУ ЗАШТИТУ ИЗ \nБУЏЕТА (од 4314 до 4322)",null,null,null,null,null,null,null,null,null,null,null,null,null,null,null,null,null,null,{"$f":"UnObr4!D315","v":98},null,null,null,null,null,null,null,null,{"$f":"UnObr4!E315","v":121}]
[4314,null,null,472100,null,null,null,"Накнаде из буџета у случају болести и инвалидности",null,null,null,null,null,null,null,null,null,null,null,null,null,null,null,null,null,null,{"$f":"UnObr4!D316","v":0},null,null,null,null,null,null,null,null,{"$f":"UnObr4!E316","v":0}]
[4315,null,null,472200,null,null,null,"Накнаде из буџета за породиљско одсуство ",null,null,null,null,null,null,null,null,null,null,null,null,null,null,null,null,null,null,{"$f":"UnObr4!D317","v":0},null,null,null,null,null,null,null,null,{"$f":"UnObr4!E317","v":0}]
[4316,null,null,472300,null,null,null,"Накнаде из буџета за децу и породицу ",null,null,null,null,null,null,null,null,null,null,null,null,null,null,null,null,null,null,{"$f":"UnObr4!D318","v":0},null,null,null,null,null,null,null,null,{"$f":"UnObr4!E318","v":0}]
[4317,null,null,472400,null,null,null,"Накнаде из буџета за случај незапослености ",null,null,null,null,null,null,null,null,null,null,null,null,null,null,null,null,null,null,{"$f":"UnObr4!D319","v":0},null,null,null,null,null,null,null,null,{"$f":"UnObr4!E319","v":0}]
[4318,null,null,472500,null,null,null,"Старосне и породичне пензије из буџета",null,null,null,null,null,null,null,null,null,null,null,null,null,null,null,null,null,null,{"$f":"UnObr4!D320","v":0},null,null,null,null,null,null,null,null,{"$f":"UnObr4!E320","v":0}]
[4319,null,null,472600,null,null,null,"Накнаде из буџета у случају смрти",null,null,null,null,null,null,null,null,null,null,null,null,null,null,null,null,null,null,{"$f":"UnObr4!D321","v":0},null,null,null,null,null,null,null,null,{"$f":"UnObr4!E321","v":0}]
[4320,null,null,472700,null,null,null,"Накнаде из буџета за образовање, културу, науку и спорт ",null,null,null,null,null,null,null,null,null,null,null,null,null,null,null,null,null,null,{"$f":"UnObr4!D322","v":98},null,null,null,null,null,null,null,null,{"$f":"UnObr4!E322","v":121}]
[4321,null,null,472800,null,null,null,"Накнаде из буџета за становање и живот ",null,null,null,null,null,null,null,null,null,null,null,null,null,null,null,null,null,null,{"$f":"UnObr4!D323","v":0},null,null,null,null,null,null,null,null,{"$f":"UnObr4!E323","v":0}]
[4322,null,null,472900,null,null,null,"Остале накнаде из буџета",null,null,null,null,null,null,null,null,null,null,null,null,null,null,null,null,null,null,{"$f":"UnObr4!D324","v":0},null,null,null,null,null,null,null,null,{"$f":"UnObr4!E324","v":0}]
[4323,null,null,480000,null,null,null,"ОСТАЛИ РАСХОДИ \n(4324 + 4327 + 4331 + 4333 + 4336 + 4338)",null,null,null,null,null,null,null,null,null,null,null,null,null,null,null,null,null,null,{"$f":"UnObr4!D325","v":674},null,null,null,null,null,null,null,null,{"$f":"UnObr4!E325","v":9590}]
[4324,null,null,481000,null,null,null,"ДОТАЦИЈЕ НЕВЛАДИНИМ ОРГАНИЗАЦИЈАМА \n(4325 + 4326)",null,null,null,null,null,null,null,null,null,null,null,null,null,null,null,null,null,null,{"$f":"UnObr4!D326","v":0},null,null,null,null,null,null,null,null,{"$f":"UnObr4!E326","v":0}]
[4325,null,null,481100,null,null,null,"Дотације непрофитним организацијама које пружају \nпомоћ домаћинствима",null,null,null,null,null,null,null,null,null,null,null,null,null,null,null,null,null,null,{"$f":"UnObr4!D327","v":0},null,null,null,null,null,null,null,null,{"$f":"UnObr4!E327","v":0}]
[4326,null,null,481900,null,null,null,"Дотације осталим непрофитним институцијама",null,null,null,null,null,null,null,null,null,null,null,null,null,null,null,null,null,null,{"$f":"UnObr4!D328","v":0},null,null,null,null,null,null,null,null,{"$f":"UnObr4!E328","v":0}]
[4327,null,null,482000,null,null,null,"ПОРЕЗИ, ОБАВЕЗНЕ ТАКСЕ И КАЗНЕ (од 4328 до \n4330)",null,null,null,null,null,null,null,null,null,null,null,null,null,null,null,null,null,null,{"$f":"UnObr4!D329","v":36},null,null,null,null,null,null,null,null,{"$f":"UnObr4!E329","v":134}]
[4328,null,null,482100,null,null,null,"Остали порези",null,null,null,null,null,null,null,null,null,null,null,null,null,null,null,null,null,null,{"$f":"UnObr4!D330","v":0},null,null,null,null,null,null,null,null,{"$f":"UnObr4!E330","v":0}]
[4329,null,null,482200,null,null,null,"Обавезне таксе ",null,null,null,null,null,null,null,null,null,null,null,null,null,null,null,null,null,null,{"$f":"UnObr4!D331","v":36},null,null,null,null,null,null,null,null,{"$f":"UnObr4!E331","v":134}]
[4330,null,null,482300,null,null,null,"Новчане казне и пенали",null,null,null,null,null,null,null,null,null,null,null,null,null,null,null,null,null,null,{"$f":"UnObr4!D332","v":0},null,null,null,null,null,null,null,null,{"$f":"UnObr4!E332","v":0}]
[4331,null,null,483000,null,null,null,"НОВЧАНЕ КАЗНЕ И ПЕНАЛИ ПО РЕШЕЊУ \nСУДОВА (4332)",null,null,null,null,null,null,null,null,null,null,null,null,null,null,null,null,null,null,{"$f":"UnObr4!D333","v":638},null,null,null,null,null,null,null,null,{"$f":"UnObr4!E333","v":1200}]
[4332,null,null,483100,null,null,null,"Новчане казне и пенали по решењу судова",null,null,null,null,null,null,null,null,null,null,null,null,null,null,null,null,null,null,{"$f":"UnObr4!D334","v":638},null,null,null,null,null,null,null,null,{"$f":"UnObr4!E334","v":1200}]
[4333,null,null,484000,null,null,null,"НАКНАДА ШТЕТЕ ЗА ПОВРЕДЕ ИЛИ ШТЕТУ НАСТАЛУ УСЛЕД ЕЛЕМЕНТАРНИХ НЕПОГОДА \nИЛИ ДРУГИХ ПРИРОДНИХ УЗРОКА (4334 + 4335)",null,null,null,null,null,null,null,null,null,null,null,null,null,null,null,null,null,null,{"$f":"UnObr4!D335","v":0},null,null,null,null,null,null,null,null,{"$f":"UnObr4!E335","v":0}]
[4334,null,null,484100,null,null,null,"Накнада штете за повреде или штету насталу услед \nелементарних непогода",null,null,null,null,null,null,null,null,null,null,null,null,null,null,null,null,null,null,{"$f":"UnObr4!D336","v":0},null,null,null,null,null,null,null,null,{"$f":"UnObr4!E336","v":0}]
[4335,null,null,484200,null,null,null,"Накнада штете од дивљачи",null,null,null,null,null,null,null,null,null,null,null,null,null,null,null,null,null,null,{"$f":"UnObr4!D337","v":0},null,null,null,null,null,null,null,null,{"$f":"UnObr4!E337","v":0}]
[4336,null,null,485000,null,null,null,"НАКНАДА ШТЕТЕ ЗА ПОВРЕДЕ ИЛИ ШТЕТУ НАНЕТУ ОД СТРАНЕ ДРЖАВНИХ ОРГАНА (4337)",null,null,null,null,null,null,null,null,null,null,null,null,null,null,null,null,null,null,{"$f":"UnObr4!D338","v":0},null,null,null,null,null,null,null,null,{"$f":"UnObr4!E338","v":8256}]
[4337,null,null,485100,null,null,null,"Накнада штете за повреде или штету нанету од стране државних органа",null,null,null,null,null,null,null,null,null,null,null,null,null,null,null,null,null,null,{"$f":"UnObr4!D339","v":0},null,null,null,null,null,null,null,null,{"$f":"UnObr4!E339","v":8256}]
[4338,null,null,489000,null,null,null,"РАСХОДИ КОЈИ СЕ ФИНАНСИРАЈУ ИЗ \nСРЕДСТАВА ЗА РЕАЛИЗАЦИЈУ НАЦИОНАЛНОГ ИНВЕСТИЦИОНОГ ПЛАНА (4339)",null,null,null,null,null,null,null,null,null,null,null,null,null,null,null,null,null,null,{"$f":"UnObr4!D340","v":0},null,null,null,null,null,null,null,null,{"$f":"UnObr4!E340","v":0}]
[4339,null,null,489100,null,null,null,"Расходи који се финансирају из средстава за реализацију националног инвестиционог плана",null,null,null,null,null,null,null,null,null,null,null,null,null,null,null,null,null,null,{"$f":"UnObr4!D341","v":0},null,null,null,null,null,null,null,null,{"$f":"UnObr4!E341","v":0}]
[4340,null,null,500000,null,null,null,"ИЗДАЦИ ЗА НЕФИНАНСИЈСКУ ИМОВИНУ \n(4341 + 4363 + 4372 + 4375 + 4383)",null,null,null,null,null,null,null,null,null,null,null,null,null,null,null,null,null,null,{"$f":"UnObr4!D342","v":2576},null,null,null,null,null,null,null,null,{"$f":"UnObr4!E342","v":1301}]
[4341,null,null,510000,null,null,null,"ОСНОВНА СРЕДСТВА \n(4342 + 4347 + 4357 + 4359 + 4361)",null,null,null,null,null,null,null,null,null,null,null,null,null,null,null,null,null,null,{"$f":"UnObr4!D343","v":2576},null,null,null,null,null,null,null,null,{"$f":"UnObr4!E343","v":1301}]
[4342,null,null,511000,null,null,null,"ЗГРАДЕ И ГРАЂЕВИНСКИ ОБЈЕКТИ \n(од 4343 до 4346)",null,null,null,null,null,null,null,null,null,null,null,null,null,null,null,null,null,null,{"$f":"UnObr4!D344","v":0},null,null,null,null,null,null,null,null,{"$f":"UnObr4!E344","v":0}]
[4343,null,null,511100,null,null,null,"Куповина зграда и објеката",null,null,null,null,null,null,null,null,null,null,null,null,null,null,null,null,null,null,{"$f":"UnObr4!D345","v":0},null,null,null,null,null,null,null,null,{"$f":"UnObr4!E345","v":0}]
[4344,null,null,511200,null,null,null,"Изградња зграда и објеката",null,null,null,null,null,null,null,null,null,null,null,null,null,null,null,null,null,null,{"$f":"UnObr4!D346","v":0},null,null,null,null,null,null,null,null,{"$f":"UnObr4!E346","v":0}]
[4345,null,null,511300,null,null,null,"Капитално одржавање зграда и објеката",null,null,null,null,null,null,null,null,null,null,null,null,null,null,null,null,null,null,{"$f":"UnObr4!D347","v":0},null,null,null,null,null,null,null,null,{"$f":"UnObr4!E347","v":0}]
[4346,null,null,511400,null,null,null,"Пројектно планирање",null,null,null,null,null,null,null,null,null,null,null,null,null,null,null,null,null,null,{"$f":"UnObr4!D348","v":0},null,null,null,null,null,null,null,null,{"$f":"UnObr4!E348","v":0}]
[4347,null,null,512000,null,null,null,"МАШИНЕ И ОПРЕМА (од 4348 до 4356)",null,null,null,null,null,null,null,null,null,null,null,null,null,null,null,null,null,null,{"$f":"UnObr4!D349","v":2576},null,null,null,null,null,null,null,null,{"$f":"UnObr4!E349","v":1301}]
[4348,null,null,512100,null,null,null,"Опрема за саобраћај",null,null,null,null,null,null,null,null,null,null,null,null,null,null,null,null,null,null,{"$f":"UnObr4!D350","v":0},null,null,null,null,null,null,null,null,{"$f":"UnObr4!E350","v":0}]
[4349,null,null,512200,null,null,null,"Административна опрема",null,null,null,null,null,null,null,null,null,null,null,null,null,null,null,null,null,null,{"$f":"UnObr4!D351","v":2204},null,null,null,null,null,null,null,null,{"$f":"UnObr4!E351","v":896}]
[4350,null,null,512300,null,null,null,"Опрема за пољопривреду",null,null,null,null,null,null,null,null,null,null,null,null,null,null,null,null,null,null,{"$f":"UnObr4!D352","v":0},null,null,null,null,null,null,null,null,{"$f":"UnObr4!E352","v":0}]
[4351,null,null,512400,null,null,null,"Опрема за заштиту животне средине",null,null,null,null,null,null,null,null,null,null,null,null,null,null,null,null,null,null,{"$f":"UnObr4!D353","v":0},null,null,null,null,null,null,null,null,{"$f":"UnObr4!E353","v":0}]
[4352,null,null,512500,null,null,null,"Медицинска и лабораторијска опрема",null,null,null,null,null,null,null,null,null,null,null,null,null,null,null,null,null,null,{"$f":"UnObr4!D354","v":0},null,null,null,null,null,null,null,null,{"$f":"UnObr4!E354","v":0}]
[4353,null,null,512600,null,null,null,"Опрема за образовање, науку, културу и спорт",null,null,null,null,null,null,null,null,null,null,null,null,null,null,null,null,null,null,{"$f":"UnObr4!D355","v":333},null,null,null,null,null,null,null,null,{"$f":"UnObr4!E355","v":405}]
[4354,null,null,512700,null,null,null,"Опрема за војску",null,null,null,null,null,null,null,null,null,null,null,null,null,null,null,null,null,null,{"$f":"UnObr4!D356","v":0},null,null,null,null,null,null,null,null,{"$f":"UnObr4!E356","v":0}]
[4355,null,null,512800,null,null,null,"Опрема за јавну безбедност",null,null,null,null,null,null,null,null,null,null,null,null,null,null,null,null,null,null,{"$f":"UnObr4!D357","v":39},null,null,null,null,null,null,null,null,{"$f":"UnObr4!E357","v":0}]
[4356,null,null,512900,null,null,null,"Опрема за производњу, моторна, непокретна и немоторна опрема",null,null,null,null,null,null,null,null,null,null,null,null,null,null,null,null,null,null,{"$f":"UnObr4!D358","v":0},null,null,null,null,null,null,null,null,{"$f":"UnObr4!E358","v":0}]
[4357,null,null,513000,null,null,null,"ОСТАЛЕ НЕКРЕТНИНЕ И ОПРЕМА (4358)",null,null,null,null,null,null,null,null,null,null,null,null,null,null,null,null,null,null,{"$f":"UnObr4!D359","v":0},null,null,null,null,null,null,null,null,{"$f":"UnObr4!E359","v":0}]
[4358,null,null,513100,null,null,null,"Остале некретнине и опрема",null,null,null,null,null,null,null,null,null,null,null,null,null,null,null,null,null,null,{"$f":"UnObr4!D360","v":0},null,null,null,null,null,null,null,null,{"$f":"UnObr4!E360","v":0}]
[4359,null,null,514000,null,null,null,"КУЛТИВИСАНА ИМОВИНА (4360)",null,null,null,null,null,null,null,null,null,null,null,null,null,null,null,null,null,null,{"$f":"UnObr4!D361","v":0},null,null,null,null,null,null,null,null,{"$f":"UnObr4!E361","v":0}]
[4360,null,null,514100,null,null,null,"Култивисана имовина",null,null,null,null,null,null,null,null,null,null,null,null,null,null,null,null,null,null,{"$f":"UnObr4!D362","v":0},null,null,null,null,null,null,null,null,{"$f":"UnObr4!E362","v":0}]
[4361,null,null,515000,null,null,null,"НЕМАТЕРИЈАЛНА ИМОВИНА (4362)",null,null,null,null,null,null,null,null,null,null,null,null,null,null,null,null,null,null,{"$f":"UnObr4!D363","v":0},null,null,null,null,null,null,null,null,{"$f":"UnObr4!E363","v":0}]
[4362,null,null,515100,null,null,null,"Нематеријална имовина",null,null,null,null,null,null,null,null,null,null,null,null,null,null,null,null,null,null,{"$f":"UnObr4!D364","v":0},null,null,null,null,null,null,null,null,{"$f":"UnObr4!E364","v":0}]
[4363,null,null,520000,null,null,null,"ЗАЛИХЕ (4364 + 4366 + 4370)",null,null,null,null,null,null,null,null,null,null,null,null,null,null,null,null,null,null,{"$f":"UnObr4!D365","v":0},null,null,null,null,null,null,null,null,{"$f":"UnObr4!E365","v":0}]
[4364,null,null,521000,null,null,null,"РОБНЕ РЕЗЕРВЕ (4365)",null,null,null,null,null,null,null,null,null,null,null,null,null,null,null,null,null,null,{"$f":"UnObr4!D366","v":0},null,null,null,null,null,null,null,null,{"$f":"UnObr4!E366","v":0}]
[4365,null,null,521100,null,null,null,"Робне резерве",null,null,null,null,null,null,null,null,null,null,null,null,null,null,null,null,null,null,{"$f":"UnObr4!D367","v":0},null,null,null,null,null,null,null,null,{"$f":"UnObr4!E367","v":0}]
[4366,null,null,522000,null,null,null,"ЗАЛИХЕ ПРОИЗВОДЊЕ (од 4367 до 4369)",null,null,null,null,null,null,null,null,null,null,null,null,null,null,null,null,null,null,{"$f":"UnObr4!D368","v":0},null,null,null,null,null,null,null,null,{"$f":"UnObr4!E368","v":0}]
[4367,null,null,522100,null,null,null,"Залихе материјала",null,null,null,null,null,null,null,null,null,null,null,null,null,null,null,null,null,null,{"$f":"UnObr4!D369","v":0},null,null,null,null,null,null,null,null,{"$f":"UnObr4!E369","v":0}]
[4368,null,null,522200,null,null,null,"Залихе недовршене производње",null,null,null,null,null,null,null,null,null,null,null,null,null,null,null,null,null,null,{"$f":"UnObr4!D370","v":0},null,null,null,null,null,null,null,null,{"$f":"UnObr4!E370","v":0}]
[4369,null,null,522300,null,null,null,"Залихе готових производа",null,null,null,null,null,null,null,null,null,null,null,null,null,null,null,null,null,null,{"$f":"UnObr4!D371","v":0},null,null,null,null,null,null,null,null,{"$f":"UnObr4!E371","v":0}]
[4370,null,null,523000,null,null,null,"ЗАЛИХЕ РОБЕ ЗА ДАЉУ ПРОДАЈУ (4371)",null,null,null,null,null,null,null,null,null,null,null,null,null,null,null,null,null,null,{"$f":"UnObr4!D372","v":0},null,null,null,null,null,null,null,null,{"$f":"UnObr4!E372","v":0}]
[4371,null,null,523100,null,null,null,"Залихе робе за даљу продају",null,null,null,null,null,null,null,null,null,null,null,null,null,null,null,null,null,null,{"$f":"UnObr4!D373","v":0},null,null,null,null,null,null,null,null,{"$f":"UnObr4!E373","v":0}]
[4372,null,null,530000,null,null,null,"ДРАГОЦЕНОСТИ (4373)",null,null,null,null,null,null,null,null,null,null,null,null,null,null,null,null,null,null,{"$f":"UnObr4!D374","v":0},null,null,null,null,null,null,null,null,{"$f":"UnObr4!E374","v":0}]
[4373,null,null,531000,null,null,null,"ДРАГОЦЕНОСТИ (4374)",null,null,null,null,null,null,null,null,null,null,null,null,null,null,null,null,null,null,{"$f":"UnObr4!D375","v":0},null,null,null,null,null,null,null,null,{"$f":"UnObr4!E375","v":0}]
[4374,null,null,531100,null,null,null,"Драгоцености",null,null,null,null,null,null,null,null,null,null,null,null,null,null,null,null,null,null,{"$f":"UnObr4!D376","v":0},null,null,null,null,null,null,null,null,{"$f":"UnObr4!E376","v":0}]
[4375,null,null,540000,null,null,null,"ПРИРОДНА ИМОВИНА (4376 + 4378 + 4380)",null,null,null,null,null,null,null,null,null,null,null,null,null,null,null,null,null,null,{"$f":"UnObr4!D377","v":0},null,null,null,null,null,null,null,null,{"$f":"UnObr4!E377","v":0}]
[4376,null,null,541000,null,null,null,"ЗЕМЉИШТЕ (4377)",null,null,null,null,null,null,null,null,null,null,null,null,null,null,null,null,null,null,{"$f":"UnObr4!D378","v":0},null,null,null,null,null,null,null,null,{"$f":"UnObr4!E378","v":0}]
[4377,null,null,541100,null,null,null,"Земљиште",null,null,null,null,null,null,null,null,null,null,null,null,null,null,null,null,null,null,{"$f":"UnObr4!D379","v":0},null,null,null,null,null,null,null,null,{"$f":"UnObr4!E379","v":0}]
[4378,null,null,542000,null,null,null,"РУДНА БОГАТСТВА (4379)",null,null,null,null,null,null,null,null,null,null,null,null,null,null,null,null,null,null,{"$f":"UnObr4!D380","v":0},null,null,null,null,null,null,null,null,{"$f":"UnObr4!E380","v":0}]
[4379,null,null,542100,null,null,null,"Копови",null,null,null,null,null,null,null,null,null,null,null,null,null,null,null,null,null,null,{"$f":"UnObr4!D381","v":0},null,null,null,null,null,null,null,null,{"$f":"UnObr4!E381","v":0}]
[4380,null,null,543000,null,null,null,"ШУМЕ И ВОДЕ (4381 + 4382)",null,null,null,null,null,null,null,null,null,null,null,null,null,null,null,null,null,null,{"$f":"UnObr4!D382","v":0},null,null,null,null,null,null,null,null,{"$f":"UnObr4!E382","v":0}]
[4381,null,null,543100,null,null,null,"Шуме",null,null,null,null,null,null,null,null,null,null,null,null,null,null,null,null,null,null,{"$f":"UnObr4!D383","v":0},null,null,null,null,null,null,null,null,{"$f":"UnObr4!E383","v":0}]
[4382,null,null,543200,null,null,null,"Воде",null,null,null,null,null,null,null,null,null,null,null,null,null,null,null,null,null,null,{"$f":"UnObr4!D384","v":0},null,null,null,null,null,null,null,null,{"$f":"UnObr4!E384","v":0}]
[4383,null,null,55000,null,null,null,"НЕФИНАНСИЈСКА ИМОВИНА КОЈА СЕ \nФИНАНСИРА ИЗ СРЕДСТАВА ЗА РЕАЛИЗАЦИЈУ \nНАЦИОНАЛНОГ ИНВЕСТИЦИОНОГ ПЛАНА (4384)",null,null,null,null,null,null,null,null,null,null,null,null,null,null,null,null,null,null,{"$f":"UnObr4!D385","v":0},null,null,null,null,null,null,null,null,{"$f":"UnObr4!E385","v":0}]
[4384,null,null,551000,null,null,null,"НЕФИНАНСИЈСКА ИМОВИНА КОЈА СЕ \nФИНАНСИРА ИЗ СРЕДСТАВА ЗА РЕАЛИЗАЦИЈУ \nНАЦИОНАЛНОГ ИНВЕСТИЦИОНОГ ПЛАНА (4385)",null,null,null,null,null,null,null,null,null,null,null,null,null,null,null,null,null,null,{"$f":"UnObr4!D386","v":0},null,null,null,null,null,null,null,null,{"$f":"UnObr4!E386","v":0}]
[4385,null,null,551100,null,null,null,"Нефинансијска имовина која се финансира из средстава \nза реализацију националног инвестиционог плана",null,null,null,null,null,null,null,null,null,null,null,null,null,null,null,null,null,null,{"$f":"UnObr4!D387","v":0},null,null,null,null,null,null,null,null,{"$f":"UnObr4!E387","v":0}]
[4386,null,null,600000,null,null,null,"ИЗДАЦИ ЗА ОТПЛАТУ ГЛАВНИЦЕ И НАБАВКУ ФИНАНСИЈСКЕ ИМОВИНЕ (4387 + 4412)",null,null,null,null,null,null,null,null,null,null,null,null,null,null,null,null,null,null,{"$f":"UnObr4!D388","v":0},null,null,null,null,null,null,null,null,{"$f":"UnObr4!E388","v":0}]
[4387,null,null,610000,null,null,null,"ОТПЛАТА ГЛАВНИЦЕ \n(4388 + 4398 + 4406 + 4408 + 4410)",null,null,null,null,null,null,null,null,null,null,null,null,null,null,null,null,null,null,{"$f":"UnObr4!D389","v":0},null,null,null,null,null,null,null,null,{"$f":"UnObr4!E389","v":0}]
[4388,null,null,611000,null,null,null,"ОТПЛАТА ГЛАВНИЦЕ ДОМАЋИМ \nКРЕДИТОРИМА (од 4389 до 4397)",null,null,null,null,null,null,null,null,null,null,null,null,null,null,null,null,null,null,{"$f":"UnObr4!D390","v":0},null,null,null,null,null,null,null,null,{"$f":"UnObr4!E390","v":0}]
[4389,null,null,611100,null,null,null,"Отплата главнице на домаће хартије од вредности, изузев акција",null,null,null,null,null,null,null,null,null,null,null,null,null,null,null,null,null,null,{"$f":"UnObr4!D391","v":0},null,null,null,null,null,null,null,null,{"$f":"UnObr4!E391","v":0}]
[4390,null,null,611200,null,null,null,"Отплата главнице осталим нивоима власти",null,null,null,null,null,null,null,null,null,null,null,null,null,null,null,null,null,null,{"$f":"UnObr4!D392","v":0},null,null,null,null,null,null,null,null,{"$f":"UnObr4!E392","v":0}]
[4391,null,null,611300,null,null,null,"Отплата главнице домаћим јавним финансијским институцијама",null,null,null,null,null,null,null,null,null,null,null,null,null,null,null,null,null,null,{"$f":"UnObr4!D393","v":0},null,null,null,null,null,null,null,null,{"$f":"UnObr4!E393","v":0}]
[4392,null,null,611400,null,null,null,"Отплата главнице домаћим пословним банкама",null,null,null,null,null,null,null,null,null,null,null,null,null,null,null,null,null,null,{"$f":"UnObr4!D394","v":0},null,null,null,null,null,null,null,null,{"$f":"UnObr4!E394","v":0}]
[4393,null,null,611500,null,null,null,"Отплата главнице осталим домаћим кредиторима",null,null,null,null,null,null,null,null,null,null,null,null,null,null,null,null,null,null,{"$f":"UnObr4!D395","v":0},null,null,null,null,null,null,null,null,{"$f":"UnObr4!E395","v":0}]
[4394,null,null,611600,null,null,null,"Отплата главнице домаћинствима у земљи",null,null,null,null,null,null,null,null,null,null,null,null,null,null,null,null,null,null,{"$f":"UnObr4!D396","v":0},null,null,null,null,null,null,null,null,{"$f":"UnObr4!E396","v":0}]
[4395,null,null,611700,null,null,null,"Отплата главнице на домаће финансијске деривате ",null,null,null,null,null,null,null,null,null,null,null,null,null,null,null,null,null,null,{"$f":"UnObr4!D397","v":0},null,null,null,null,null,null,null,null,{"$f":"UnObr4!E397","v":0}]
[4396,null,null,611800,null,null,null,"Отплата домаћих меница",null,null,null,null,null,null,null,null,null,null,null,null,null,null,null,null,null,null,{"$f":"UnObr4!D398","v":0},null,null,null,null,null,null,null,null,{"$f":"UnObr4!E398","v":0}]
[4397,null,null,611900,null,null,null,"Исправка унутрашњег дуга",null,null,null,null,null,null,null,null,null,null,null,null,null,null,null,null,null,null,{"$f":"UnObr4!D399","v":0},null,null,null,null,null,null,null,null,{"$f":"UnObr4!E399","v":0}]
[4398,null,null,612000,null,null,null,"ОТПЛАТА ГЛАВНИЦЕ СТРАНИМ КРЕДИТОРИМА \n(од 4399 до 4405)",null,null,null,null,null,null,null,null,null,null,null,null,null,null,null,null,null,null,{"$f":"UnObr4!D400","v":0},null,null,null,null,null,null,null,null,{"$f":"UnObr4!E400","v":0}]
[4399,null,null,612100,null,null,null,"Отплата главнице на хартије од вредности, изузев акција, емитоване на иностраном финансијском тржишту",null,null,null,null,null,null,null,null,null,null,null,null,null,null,null,null,null,null,{"$f":"UnObr4!D401","v":0},null,null,null,null,null,null,null,null,{"$f":"UnObr4!E401","v":0}]
[4400,null,null,612200,null,null,null,"Отплата главнице страним владама",null,null,null,null,null,null,null,null,null,null,null,null,null,null,null,null,null,null,{"$f":"UnObr4!D402","v":0},null,null,null,null,null,null,null,null,{"$f":"UnObr4!E402","v":0}]
[4401,null,null,612300,null,null,null,"Отплата главнице мултилатералним институцијама",null,null,null,null,null,null,null,null,null,null,null,null,null,null,null,null,null,null,{"$f":"UnObr4!D403","v":0},null,null,null,null,null,null,null,null,{"$f":"UnObr4!E403","v":0}]
[4402,null,null,612400,null,null,null,"Отплата главнице страним пословним банкама",null,null,null,null,null,null,null,null,null,null,null,null,null,null,null,null,null,null,{"$f":"UnObr4!D404","v":0},null,null,null,null,null,null,null,null,{"$f":"UnObr4!E404","v":0}]
[4403,null,null,612500,null,null,null,"Отплата главнице осталим страним кредиторима",null,null,null,null,null,null,null,null,null,null,null,null,null,null,null,null,null,null,{"$f":"UnObr4!D405","v":0},null,null,null,null,null,null,null,null,{"$f":"UnObr4!E405","v":0}]
[4404,null,null,612600,null,null,null,"Отплата главнице на стране финансијске деривате",null,null,null,null,null,null,null,null,null,null,null,null,null,null,null,null,null,null,{"$f":"UnObr4!D406","v":0},null,null,null,null,null,null,null,null,{"$f":"UnObr4!E406","v":0}]
[4405,null,null,612900,null,null,null,"Исправка спољног дуга",null,null,null,null,null,null,null,null,null,null,null,null,null,null,null,null,null,null,{"$f":"UnObr4!D407","v":0},null,null,null,null,null,null,null,null,{"$f":"UnObr4!E407","v":0}]
[4406,null,null,613000,null,null,null,"ОТПЛАТА ГЛАВНИЦЕ ПО ГАРАНЦИЈАМА (4407)",null,null,null,null,null,null,null,null,null,null,null,null,null,null,null,null,null,null,{"$f":"UnObr4!D408","v":0},null,null,null,null,null,null,null,null,{"$f":"UnObr4!E408","v":0}]
[4407,null,null,613100,null,null,null,"Отплата главнице по гаранцијама",null,null,null,null,null,null,null,null,null,null,null,null,null,null,null,null,null,null,{"$f":"UnObr4!D409","v":0},null,null,null,null,null,null,null,null,{"$f":"UnObr4!E409","v":0}]
[4408,null,null,614000,null,null,null,"ОТПЛАТА ГЛАВНИЦЕ ЗА ФИНАНСИЈСКИ \nЛИЗИНГ (4409)",null,null,null,null,null,null,null,null,null,null,null,null,null,null,null,null,null,null,{"$f":"UnObr4!D410","v":0},null,null,null,null,null,null,null,null,{"$f":"UnObr4!E410","v":0}]
[4409,null,null,614100,null,null,null,"Отплата главнице за финансијски лизинг",null,null,null,null,null,null,null,null,null,null,null,null,null,null,null,null,null,null,{"$f":"UnObr4!D411","v":0},null,null,null,null,null,null,null,null,{"$f":"UnObr4!E411","v":0}]
[4410,null,null,615000,null,null,null,"ОТПЛАТА ГАРАНЦИЈА ПО КОМЕРЦИЈАЛНИМ ТРАНСАКЦИЈАМА (4411)",null,null,null,null,null,null,null,null,null,null,null,null,null,null,null,null,null,null,{"$f":"UnObr4!D412","v":0},null,null,null,null,null,null,null,null,{"$f":"UnObr4!E412","v":0}]
[4411,null,null,615100,null,null,null,"Отплата гаранција по комерцијалним трансакцијама",null,null,null,null,null,null,null,null,null,null,null,null,null,null,null,null,null,null,{"$f":"UnObr4!D413","v":0},null,null,null,null,null,null,null,null,{"$f":"UnObr4!E413","v":0}]
[4412,null,null,620000,null,null,null,"НАБАВКА ФИНАНСИЈСКЕ ИМОВИНЕ \n(4413 + 4423 + 4432)",null,null,null,null,null,null,null,null,null,null,null,null,null,null,null,null,null,null,{"$f":"UnObr4!D414","v":0},null,null,null,null,null,null,null,null,{"$f":"UnObr4!E414","v":0}]
[4413,null,null,621000,null,null,null,"НАБАВКА ДОМАЋЕ ФИНАНСИЈСКЕ ИМОВИНЕ \n(од 4414 до 4422)",null,null,null,null,null,null,null,null,null,null,null,null,null,null,null,null,null,null,{"$f":"UnObr4!D415","v":0},null,null,null,null,null,null,null,null,{"$f":"UnObr4!E415","v":0}]
[4414,null,null,621100,null,null,null,"Набавка домаћих хартија од вредности, изузев акција",null,null,null,null,null,null,null,null,null,null,null,null,null,null,null,null,null,null,{"$f":"UnObr4!D416","v":0},null,null,null,null,null,null,null,null,{"$f":"UnObr4!E416","v":0}]
[4415,null,null,621200,null,null,null,"Кредити осталим нивоима власти",null,null,null,null,null,null,null,null,null,null,null,null,null,null,null,null,null,null,{"$f":"UnObr4!D417","v":0},null,null,null,null,null,null,null,null,{"$f":"UnObr4!E417","v":0}]
[4416,null,null,621300,null,null,null,"Кредити домаћим јавним финансијским институцијама",null,null,null,null,null,null,null,null,null,null,null,null,null,null,null,null,null,null,{"$f":"UnObr4!D418","v":0},null,null,null,null,null,null,null,null,{"$f":"UnObr4!E418","v":0}]
[4417,null,null,621400,null,null,null,"Кредити домаћим пословним банкама",null,null,null,null,null,null,null,null,null,null,null,null,null,null,null,null,null,null,{"$f":"UnObr4!D419","v":0},null,null,null,null,null,null,null,null,{"$f":"UnObr4!E419","v":0}]
[4418,null,null,621500,null,null,null,"Кредити домаћим нефинансијским јавним институцијама",null,null,null,null,null,null,null,null,null,null,null,null,null,null,null,null,null,null,{"$f":"UnObr4!D420","v":0},null,null,null,null,null,null,null,null,{"$f":"UnObr4!E420","v":0}]
[4419,null,null,621600,null,null,null,"Кредити физичким лицима и домаћинствима у земљи",null,null,null,null,null,null,null,null,null,null,null,null,null,null,null,null,null,null,{"$f":"UnObr4!D421","v":0},null,null,null,null,null,null,null,null,{"$f":"UnObr4!E421","v":0}]
[4420,null,null,621700,null,null,null,"Кредити невладиним организацијама у земљи",null,null,null,null,null,null,null,null,null,null,null,null,null,null,null,null,null,null,{"$f":"UnObr4!D422","v":0},null,null,null,null,null,null,null,null,{"$f":"UnObr4!E422","v":0}]
[4421,null,null,621800,null,null,null,"Кредити домаћим нефинансијским приватним \nпредузећима",null,null,null,null,null,null,null,null,null,null,null,null,null,null,null,null,null,null,{"$f":"UnObr4!D423","v":0},null,null,null,null,null,null,null,null,{"$f":"UnObr4!E423","v":0}]
[4422,null,null,621900,null,null,null,"Набавка домаћих акција и осталог капитала",null,null,null,null,null,null,null,null,null,null,null,null,null,null,null,null,null,null,{"$f":"UnObr4!D424","v":0},null,null,null,null,null,null,null,null,{"$f":"UnObr4!E424","v":0}]
[4423,null,null,622000,null,null,null,"НАБАВКА СТРАНЕ ФИНАНСИЈСКЕ ИМОВИНЕ \n(од 4424 до 4431)",null,null,null,null,null,null,null,null,null,null,null,null,null,null,null,null,null,null,{"$f":"UnObr4!D425","v":0},null,null,null,null,null,null,null,null,{"$f":"UnObr4!E425","v":0}]
[4424,null,null,622100,null,null,null,"Набавка страних хартија од вредности, изузев акција",null,null,null,null,null,null,null,null,null,null,null,null,null,null,null,null,null,null,{"$f":"UnObr4!D426","v":0},null,null,null,null,null,null,null,null,{"$f":"UnObr4!E426","v":0}]
[4425,null,null,622200,null,null,null,"Кредити страним владама",null,null,null,null,null,null,null,null,null,null,null,null,null,null,null,null,null,null,{"$f":"UnObr4!D427","v":0},null,null,null,null,null,null,null,null,{"$f":"UnObr4!E427","v":0}]
[4426,null,null,622300,null,null,null,"Кредити међународним организацијама",null,null,null,null,null,null,null,null,null,null,null,null,null,null,null,null,null,null,{"$f":"UnObr4!D428","v":0},null,null,null,null,null,null,null,null,{"$f":"UnObr4!E428","v":0}]
[4427,null,null,622400,null,null,null,"Кредити страним пословним банкама",null,null,null,null,null,null,null,null,null,null,null,null,null,null,null,null,null,null,{"$f":"UnObr4!D429","v":0},null,null,null,null,null,null,null,null,{"$f":"UnObr4!E429","v":0}]
[4428,null,null,622500,null,null,null,"Кредити страним нефинансијским институцијама",null,null,null,null,null,null,null,null,null,null,null,null,null,null,null,null,null,null,{"$f":"UnObr4!D430","v":0},null,null,null,null,null,null,null,null,{"$f":"UnObr4!E430","v":0}]
[4429,null,null,622600,null,null,null,"Кредити страним невладиним организацијама",null,null,null,null,null,null,null,null,null,null,null,null,null,null,null,null,null,null,{"$f":"UnObr4!D431","v":0},null,null,null,null,null,null,null,null,{"$f":"UnObr4!E431","v":0}]
[4430,null,null,622700,null,null,null,"Набавка страних акција и осталог капитала",null,null,null,null,null,null,null,null,null,null,null,null,null,null,null,null,null,null,{"$f":"UnObr4!D432","v":0},null,null,null,null,null,null,null,null,{"$f":"UnObr4!E432","v":0}]
[4431,null,null,622800,null,null,null,"Куповина стране валуте",null,null,null,null,null,null,null,null,null,null,null,null,null,null,null,null,null,null,{"$f":"UnObr4!D433","v":0},null,null,null,null,null,null,null,null,{"$f":"UnObr4!E433","v":0}]
[4432,null,null,623000,null,null,null,"НАБАВКА ФИНАНСИЈСКЕ ИМОВИНЕ КОЈА СЕ ФИНАНСИРА ИЗ СРЕДСТАВА ЗА РЕАЛИЗАЦИЈУ НАЦИОНАЛНОГ ИНВЕСТИЦИОНОГ ПЛАНА (4433)",null,null,null,null,null,null,null,null,null,null,null,null,null,null,null,null,null,null,{"$f":"UnObr4!D434","v":0},null,null,null,null,null,null,null,null,{"$f":"UnObr4!E434","v":0}]
[4433,null,null,623100,null,null,null,"Набавка финансијске имовине која се финансира из средстава за реализацију националног инвестиционог плана",null,null,null,null,null,null,null,null,null,null,null,null,null,null,null,null,null,null,{"$f":"UnObr4!D435","v":0},null,null,null,null,null,null,null,null,{"$f":"UnObr4!E435","v":0}]
[4434,null,null,null,null,null,null,"ВИШАК НОВЧАНИХ ПРИЛИВА \n(4001 – 4171) > 0",null,null,null,null,null,null,null,null,null,null,null,null,null,null,null,null,null,null,{"$f":"UnObr4!D436","v":0},null,null,null,null,null,null,null,null,{"$f":"UnObr4!E436","v":5}]
[4435,null,null,null,null,null,null,"МАЊАК НОВЧАНИХ ПРИЛИВА \n(4171 – 4001) > 0",null,null,null,null,null,null,null,null,null,null,null,null,null,null,null,null,null,null,{"$f":"UnObr4!D437","v":2173},null,null,null,null,null,null,null,null,{"$f":"UnObr4!E437","v":0}]
[4436,null,null,null,null,null,null,"САЛДО ГОТОВИНЕ НА ПОЧЕТКУ ГОДИНЕ",null,null,null,null,null,null,null,null,null,null,null,null,null,null,null,null,null,null,{"$f":"UnObr4!D438","v":2174},null,null,null,null,null,null,null,null,{"$f":"UnObr4!E438","v":1}]
[4437,null,null,null,null,null,null,"КОРИГОВАНИ ПРИЛИВИ ЗА ПРИМЉЕНА СРЕДСТВА У ОБРАЧУНУ (4001 + 4438)",null,null,null,null,null,null,null,null,null,null,null,null,null,null,null,null,null,null,{"$f":"UnObr4!D439","v":139159},null,null,null,null,null,null,null,null,{"$f":"UnObr4!E439","v":156452}]
[4438,null,null,null,null,null,null,"Корекција новчаних прилива за наплаћена средства којa се не евидентирају преко класа 700000, 800000 и 900000",null,null,null,null,null,null,null,null,null,null,null,null,null,null,null,null,null,null,{"$f":"UnObr4!D440","v":0},null,null,null,null,null,null,null,null,{"$f":"UnObr4!E440","v":0}]
[4439,null,null,null,null,null,null,"КОРИГОВАНИ ОДЛИВИ ЗА ИСПЛАЋЕНА СРЕДСТВА У ОБРАЧУНУ (4171 – 4440 + 4441)",null,null,null,null,null,null,null,null,null,null,null,null,null,null,null,null,null,null,{"$f":"UnObr4!D441","v":141332},null,null,null,null,null,null,null,null,{"$f":"UnObr4!E441","v":156447}]
[4440,null,null,null,null,null,null,"Корекција новчаних одлива за износ обрачунате амортизације књижене на терет сопствених прихода",null,null,null,null,null,null,null,null,null,null,null,null,null,null,null,null,null,null,{"$f":"UnObr4!D442","v":0},null,null,null,null,null,null,null,null,{"$f":"UnObr4!E442","v":0}]
[4441,null,null,null,null,null,null,"Корекција новчаних одлива за износ плаћених расхода који се не евидентирају преко класе 400000, 500000 и 600000",null,null,null,null,null,null,null,null,null,null,null,null,null,null,null,null,null,null,{"$f":"UnObr4!D443","v":0},null,null,null,null,null,null,null,null,{"$f":"UnObr4!E443","v":0}]
[4442,null,null,null,null,null,null,"САЛДО ГОТОВИНЕ НА КРАЈУ ГОДИНЕ (4436 + 4437 – 4439)",null,null,null,null,null,null,null,null,null,null,null,null,null,null,null,null,null,null,{"$f":"UnObr4!D444","v":1},null,null,null,null,null,null,null,null,{"$f":"UnObr4!E444","v":6}]
[]
[null,null,null,null,null,null,null,null,null,null,null,null,null,null,null,null,"Лице одговорно за\nпопуњавање обрасца ",null,null,null,null,null,null,null,null,null,null,null,null,null,null,null,null,null,"Наредбодавац"]
["Датум, ",null,null,{"$f":"Podaci!E21","v":"23.02.2018."},null,null,null,null,". године"]

{"sheet":"UnObr5","index":10,"n_rows":449,"n_cols":13,"rows_kept":449,"cut":false,"hidden":false,"merged":[[0,4,0,10],[0,2,2,2],[0,1,2,1],[0,0,2,0],[1,9,2,9],[1,10,2,10],[1,4,2,4],[1,5,1,8],[0,3,2,3]]}
["Ознака ОП","Број конта","Опис","Износ\nпланираних прихода и примања\n","Износ остварених прихода и примања"]
[null,null,null,null,"Укупно \n(од 6 до 11)\n","Приходи и примања из буџета",null,null,null,"Из донација и помоћи","Из \nосталих извора\n"]
[null,null,null,null,null,"Републике\n\n","Аутономне покрајине","Општине /\nграда\n","ООСО\n\n",null,null,null,"Штампа"]
[1,2,3,4,5,6,7,8,9,10,11]
[5001,null,"ТЕКУЋИ ПРИХОДИ И ПРИМАЊА ОД ПРОДАЈЕ НЕФИНАНСИЈСКЕ ИМОВИНЕ\n(5002 + 5106)",{"$f":"D6+D110","v":159617},{"$f":"SUM(F5:K5)","v":156452},{"$f":"F6+F110","v":11436},0,144017,648,0,351]
[5002,700000,"ТЕКУЋИ ПРИХОДИ \n(5003 + 5047 + 5057 + 5069 + 5094 + 5099 + 5103)",{"$f":"D7+D51+D61+D73+D98+D103+D107","v":159617},{"$f":"SUM(F6:K6)","v":156452},{"$f":"F7+F51+F61+F73+F98+F103+F107","v":11436},0,144017,648,0,351]
[5003,710000,"ПОРЕЗИ \n(5004 + 5008 + 5010 + 5017 + 5023 + 5030 + 5033 + 5040)",{"$f":"D8+D12+D14+D21+D27+D34+D37+D44","v":0},0,{"$f":"F8+F12+F14+F21+F27+F34+F37+F44","v":0},0,0,0,0,0]
[5004,711000,"ПОРЕЗ НА ДОХОДАК, ДОБИТ И КАПИТАЛНЕ ДОБИТКЕ (од 5005 до 5007)",{"$f":"SUM(D9:D11)","v":0},0,{"$f":"SUM(F9:F11)","v":0},0,0,0,0,0]
[5005,711100,"Порези на доходак и капиталнe добиткe које плаћају физичка лица",null,0]
[5006,711200,"Порези на добит и капиталне добитке које плаћају предузећа и друга правна лица",null,0]
[5007,711300,"Порези на доходак, добит и капиталне добитке који се не могу разврстати између физичких и правних лица",null,0]
[5008,712000,"ПОРЕЗ НА ФОНД ЗАРАДА (5009)",{"$f":"SUM(D13)","v":0},0,0,0,0,0,0,0]
[5009,712100,"Порез на фонд зарада",null,0]
[5010,713000,"ПОРЕЗ НА ИМОВИНУ (од 5011 до 5016)",{"$f":"SUM(D15:D20)","v":0},0,0,0,0,0,0,0]
[5011,713100,"Периодични порези на непокретности",null,0]
[5012,713200,"Периодични порези на нето имовину",null,0]
[5013,713300,"Порези на заоставштину, наслеђе и поклон",null,0]
[5014,713400,"Порези на финансијске и капиталне трансакције",null,0]
[5015,713500,"Други једнократни порези на имовину",null,0]
[5016,713600,"Други периодични порези на имовину",null,0]
[5017,714000,"ПОРЕЗ НА ДОБРА И УСЛУГЕ (од 5018 до 5022)",{"$f":"SUM(D22:D26)","v":0},0,0,0,0,0,0,0]
[5018,714100,"Општи порези на добра и услуге",null,0]
[5019,714300,"Добит фискалних монопола",null,0]
[5020,714400,"Порези на појединачне услуге",null,0]
[5021,714500,"Порези, таксе и накнаде на употребу добара, на дозволу да се добра употребљавају или делатности обављају",null,0]
[5022,714600,"Други порези на добра и услуге",null,0]
[5023,715000,"ПОРЕЗ НА МЕЂУНАРОДНУ ТРГОВИНУ И ТРАНСАКЦИЈЕ (од 5024 до 5029)",{"$f":"SUM(D28:D33)","v":0},0,0,0,0,0,0,0]
[5024,715100,"Царине и друге увозне дажбине",null,0]
[5025,715200,"Порези на извоз",null,0]
[5026,715300,"Добит извозних или увозних монопола",null,0]
[5027,715400,"Добит по основу разлике између куповног и продајног девизног курса",null,0]
[5028,715500,"Порези на продају или куповину девиза",null,0]
[5029,715600,"Други порези на међународну трговину и трансакције",null,0]
[5030,716000,"ДРУГИ ПОРЕЗИ (5031 + 5032)",{"$f":"SUM(D35:D36)","v":0},0,0,0,0,0,0,0]
[5031,716100,"Други порези које искључиво плаћају предузећа, односно предузетници",null,0]
[5032,716200,"Други порези које плаћају остала лица или који се не могу идентификовати",null,0]
[5033,717000,"АКЦИЗЕ (од 5034 до 5039)",{"$f":"SUM(D38:D43)","v":0},0,0,0,0,0,0,0]
[5034,717100,"Акцизе на деривате нафте",null,0]
[5035,717200,"Акцизе на дуванске прерађевине",null,0]
[5036,717300,"Акцизе на алкохолна пића",null,0]
[5037,717400,"Акцизе на освежавајућа безалкохолна пића",null,0]
[5038,717500,"Акциза на кафу",null,0]
[5039,717600,"Друге акцизе",null,0]
[5040,719000,"ЈЕДНОКРАТНИ ПОРЕЗ НА ЕКСТРА ПРОФИТ И ЕКСТРА ИМОВИНУ СТЕЧЕНУ КОРИШЋЕЊЕМ ПОСЕБНИХ ПОГОДНОСТИ (од 5041до 5046)",{"$f":"SUM(D45:D50)","v":0},0,0,0,0,0,0,0]
[5041,719100,"Порез на доходак, добит и капиталну добит на терет физичких лица",null,0]
[5042,719200,"Порез на доходак, добит и капиталну добит на терет предузећа и осталих правних лица",null,0]
[5043,719300,"Порез на доходак, добит и капиталну добит нераспоредив између физичких и правних лица",null,0]
[5044,719400,"Остали једнократни порези на имовину",null,0]
[5045,719500,"Остали порези које плаћају искључиво предузећа и предузетници",null,0]
[5046,719600,"Остали порези које плаћају друга или неидентификована лица",null,0]
[5047,720000,"СОЦИЈАЛНИ ДОПРИНОСИ (5048 + 5053)",{"$f":"D52+D57","v":0},0,0,0,0,0,0,0]
[5048,721000,"ДОПРИНОСИ ЗА СОЦИЈАЛНО ОСИГУРАЊЕ (од 5049 до 5052)",{"$f":"SUM(D53:D56)","v":0},0,0,0,0,0,0,0]
[5049,721100,"Доприноси за социјално осигурање на терет запослених",null,0]
[5050,721200,"Доприноси за социјално осигурање на терет послодавца",null,0]
[5051,721300,"Доприноси за социјално осигурање лица која обављају самосталну делатност и незапослених лица",null,0]
[5052,721400,"Доприноси за социјално осигурање који се не могу разврстати",null,0]
[5053,722000,"ОСТАЛИ СОЦИЈАЛНИ ДОПРИНОСИ \n(од 5054 до 5056)",{"$f":"SUM(D58:D60)","v":0},0,0,0,0,0,0,0]
[5054,722100,"Социјални доприноси на терет осигураника",null,0]
[5055,722200,"Социјални доприноси на терет послодаваца",null,0]
[5056,722300,"Импутирани социјални доприноси",null,0]
[5057,730000,"ДОНАЦИЈЕ, ПОМОЋИ И ТРАНСФЕРИ \n(5058 + 5061 + 5066)",{"$f":"D62+D65+D70","v":12000},11436,{"$f":"F62+F65+F70","v":11436},0,0,0,0,0]
[5058,731000,"ДОНАЦИЈЕ ОД ИНОСТРАНИХ ДРЖАВА (5059 + 5060)",{"$f":"SUM(D63:D64)","v":0},0,0,0,0,0,0,0]
[5059,731100,"Текуће донације од иностраних држава",null,0]
[5060,731200,"Капиталне донације од иностраних држава",null,0]
[5061,732000,"ДОНАЦИЈЕ И ПОМОЋИ ОД МЕЂУНАРОДНИХ ОРГАНИЗАЦИЈА (од 5062 до 5065)",{"$f":"SUM(D66:D69)","v":0},0,{"$f":"SUM(F66:F69)","v":0},0,0,0,0,0]
[5062,732100,"Текуће донације од међународних организација",null,0]
[5063,732200,"Капиталне донације од међународних организација",null,{"$f":"SUM(F67:K67)","v":0}]
[5064,732300,"Текуће помоћи од ЕУ",null,{"$f":"SUM(F68:K68)","v":0}]
[5065,732400,"Капиталне помоћи од ЕУ",null,{"$f":"SUM(F69:K69)","v":0}]
[5066,733000,"ТРАНСФЕРИ ОД ДРУГИХ НИВОА ВЛАСТИ (5067 + 5068)",{"$f":"SUM(D71:D72)","v":12000},11436,11436,0,0,0,0,0]
[5067,733100,"Текући трансфери од других нивоа власти",12000,11436,11436]
[5068,733200,"Капитални трансфери од других нивоа власти",null,{"$f":"SUM(F72:K72)","v":0}]
[5069,740000,"ДРУГИ ПРИХОДИ (5070 + 5077 + 5082 + 5089 + 5092)",{"$f":"D74+D81+D86+D93+D96","v":0},351,{"$f":"F74+F81+F86+F93+F96","v":0},0,0,0,0,351]
[5070,741000,"ПРИХОДИ ОД ИМОВИНЕ (од 5071 до 5076)",{"$f":"SUM(D75:D80)","v":0},0,{"$f":"SUM(F75:F80)","v":0},0,0,0,0,0]
[5071,741100,"Камате",null,0]
[5072,741200,"Дивиденде",null,0]
[5073,741300,"Повлачење прихода од квази корпорација",null,0]
[5074,741400,"Приход од имовине који припада имаоцима полиса осигурања",null,0]
[5075,741500,"Закуп непроизведене имовине",null,0]
[5076,741600,"Финансијске промене на финансијским лизинзима",null,0]
[5077,742000,"ПРИХОДИ ОД ПРОДАЈЕ ДОБАРА И УСЛУГА (од 5078 до 5081)",{"$f":"SUM(D82:D85)","v":0},351,0,0,0,0,0,351]
[5078,742100,"Приходи од продаје добара и услуга или закупа од стране тржишних организација",null,28,null,null,null,null,null,28]
[5079,742200,"Таксе и накнаде",null,0]
[5080,742300,"Споредне продаје добара и услуга које врше државне нетржишне јединице",null,323,null,null,null,null,null,323]
[5081,742400,"Импутиране продаје добара и услуга",null,0]
[5082,743000,"НОВЧАНЕ КАЗНЕ И ОДУЗЕТА ИМОВИНСКА КОРИСТ (од 5083 до 5088)",{"$f":"SUM(D87:D92)","v":0},0,0,0,0,0,0,0]
[5083,743100,"Приходи од новчаних казни за кривична дела",null,0]
[5084,743200,"Приходи од новчаних казни за привредне преступе",null,0]
[5085,743300,"Приходи од новчаних казни за прекршаје",null,0]
[5086,743400,"Приходи од пенала",null,0]
[5087,743500,"Приходи од одузете имовинске користи",null,0]
[5088,743900,"Остале новчане казне, пенали и приходи од одузете имовинске користи",null,0]
[5089,744000,"ДОБРОВОЉНИ ТРАНСФЕРИ ОД ФИЗИЧКИХ И ПРАВНИХ ЛИЦА (5090 + 5091)",{"$f":"SUM(D94:D95)","v":0},0,0,0,0,0,0,0]
[5090,744100,"Текући добровољни трансфери од физичких и правних лица",null,0]
[5091,744200,"Капитални добровољни трансфери од физичких и правних лица",null,0]
[5092,745000,"МЕШОВИТИ И НЕОДРЕЂЕНИ ПРИХОДИ (5093)",{"$f":"D97","v":0},0,{"$f":"F97","v":0},0,0,0,0,0]
[5093,745100,"Мешовити и неодређени приходи",null,0]
[5094,770000,"МЕМОРАНДУМСКЕ СТАВКЕ ЗА РЕФУНДАЦИЈУ РАСХОДА (5095 + 5097)",{"$f":"D99+D101","v":0},648,0,0,0,648,0,0]
[5095,771000,"МЕМОРАНДУМСКЕ СТАВКЕ ЗА РЕФУНДАЦИЈУ РАСХОДА (5096)",{"$f":"D100","v":0},0,{"$f":"F100","v":0},0,0,0,0,0]
[5096,771100,"Меморандумске ставке за рефундацију расхода",null,0]
[5097,772000,"МЕМОРАНДУМСКЕ СТАВКЕ ЗА РЕФУНДАЦИЈУ РАСХОДА ИЗ ПРЕТХОДНЕ ГОДИНЕ (5098)",{"$f":"D102","v":0},648,{"$f":"F102","v":0},0,0,648,0,0]
[5098,772100,"Меморандумске ставке за рефундацију расхода из претходне године",null,648,null,null,null,648]
[5099,780000,"ТРАНСФЕРИ ИЗМЕЂУ БУЏЕТСКИХ КОРИСНИКА НА ИСТОМ НИВОУ (5100)",{"$f":"D104","v":0},0,0,0,0,0,0,0]
[5100,781000,"ТРАНСФЕРИ ИЗМЕЂУ БУЏЕТСКИХ КОРИСНИКА НА ИСТОМ НИВОУ (5101 + 5102)",{"$f":"SUM(D105:D106)","v":0},0,0,0,0,0,0,0]
[5101,781100,"Трансфери између буџетских корисника на истом нивоу",null,0]
[5102,781300,"Трансфери између организација обавезног социјалног осигурања",null,0]
[5103,790000,"ПРИХОДИ ИЗ БУЏЕТА (5104)",{"$f":"D108","v":147617},144017,0,0,144017,0,0,0]
[5104,791000,"ПРИХОДИ ИЗ БУЏЕТА (5105)",{"$f":"D109","v":147617},144017,0,0,144017,0,0,0]
[5105,791100,"Приходи из буџета",147617,144017,null,null,144017]
[5106,800000,"ПРИМАЊА ОД ПРОДАЈЕ НЕФИНАНСИЈСКЕ ИМОВИНЕ (5107 + 5114 + 5121 + 5124)",{"$f":"D111+D118+D125+D128","v":0},0,{"$f":"F111+F118+F125+F128","v":0},0,0,0,0,0]
[5107,810000,"ПРИМАЊА ОД ПРОДАЈЕ ОСНОВНИХ СРЕДСТАВА (5108 + 5110 + 5112)",{"$f":"D112+D114+D116","v":0},0,{"$f":"F112+F114+F116","v":0},0,0,0,0,0]
[5108,811000,"ПРИМАЊА ОД ПРОДАЈЕ НЕПОКРЕТНОСТИ (5109)",{"$f":"D113","v":0},0,{"$f":"F113","v":0},0,0,0,0,0]
[5109,811100,"Примања од продаје непокретности",null,0]
[5110,812000,"ПРИМАЊА ОД ПРОДАЈЕ ПОКРЕТНЕ ИМОВИНЕ (5111)",{"$f":"D115","v":0},0,0,0,0,0,0,0]
[5111,812100,"Примања од продаје покретне имовине",null,0]
[5112,813000,"ПРИМАЊА ОД ПРОДАЈЕ ОСТАЛИХ ОСНОВНИХ СРЕДСТАВА (5113)",{"$f":"D117","v":0},0,0,0,0,0,0,0]
[5113,813100,"Примања од продаје осталих основних средстава",null,0]
[5114,820000,"ПРИМАЊА ОД ПРОДАЈЕ ЗАЛИХА (5115 + 5117 + 5119)",{"$f":"D119+D121+D123","v":0},0,0,0,0,0,0,0]
[5115,821000,"ПРИМАЊА ОД ПРОДАЈЕ РОБНИХ РЕЗЕРВИ (5116)",{"$f":"D120","v":0},0,0,0,0,0,0,0]
[5116,821100,"Примања од продаје робних резерви",null,0]
[5117,822000,"ПРИМАЊА ОД ПРОДАЈЕ ЗАЛИХА  ПРОИЗВОДЊЕ (5118)",{"$f":"D122","v":0},0,0,0,0,0,0,0]
[5118,822100,"Примања од продаје залиха производње",null,0]
[5119,823000,"ПРИМАЊА ОД ПРОДАЈЕ РОБЕ ЗА ДАЉУ ПРОДАЈУ (5120)",{"$f":"D124","v":0},0,0,0,0,0,0,0]
[5120,823100,"Примања од продаје робе за даљу продају",null,0]
[5121,830000,"ПРИМАЊА ОД ПРОДАЈЕ ДРАГОЦЕНОСТИ (5122)",{"$f":"D126","v":0},{"$f":"SUM(F125:K125)","v":0},0,0,0,0,0,0]
[5122,831000,"ПРИМАЊА ОД ПРОДАЈЕ ДРАГОЦЕНОСТИ (5123)",0,0,0,0,0,0,0,0]
[5123,831100,"Примања од продаје драгоцености",null,0]
[5124,840000,"ПРИМАЊА ОД ПРОДАЈЕ ПРИРОДНЕ ИМОВИНЕ (5125 + 5127 + 5129)",{"$f":"D129+D131+D133","v":0},0,0,0,0,0,0,0]
[5125,841000,"ПРИМАЊА ОД ПРОДАЈЕ ЗЕМЉИШТА (5126)",{"$f":"D130","v":0},0,0,0,0,0,0,0]
[5126,841100,"Примања од продаје земљишта",null,0]
[5127,842000,"ПРИМАЊА ОД ПРОДАЈЕ ПОДЗЕМНИХ БЛАГА (5128)",{"$f":"D132","v":0},0,0,0,0,0,0,0]
[5128,842100,"Примања од продаје подземних блага",null,0]
[5129,843000,"ПРИМАЊА ОД ПРОДАЈЕ ШУМА И ВОДА (5130)",{"$f":"D134","v":0},0,0,0,0,0,0,0]
[5130,843100,"Примања од продаје шума и вода",null,0]
[5131,900000,"ПРИМАЊА ОД ЗАДУЖИВАЊА И ПРОДАЈЕ ФИНАНСИЈСКЕ ИМОВИНЕ (5132 + 5151)",{"$f":"D136+D155","v":0},0,{"$f":"F136+F155","v":0},0,0,0,0,0]
[5132,910000,"ПРИМАЊА ОД ЗАДУЖИВАЊА (5133 + 5143)",{"$f":"D137+D147","v":0},{"$f":"SUM(F136:K136)","v":0},{"$f":"F137+F147","v":0},0,0,0,0,0]
[5133,911000,"ПРИМАЊА ОД ДОМАЋИХ ЗАДУЖИВАЊА (од 5134 до 5142)",{"$f":"SUM(D138:D146)","v":0},0,0,0,0,0,0,0]
[5134,911100,"Примања од емитовања домаћих хартија од вредности, изузев акција",null,0]
[5135,911200,"Примања од задуживања од осталих нивоа власти",null,0]
[5136,911300,"Примања од задуживања од јавних финансијских институција у земљи",null,0]
[5137,911400,"Примања од задуживања од пословних банака у земљи",null,0]
[5138,911500,"Примања од задуживања код осталих поверилаца у земљи",null,0]
[5139,911600,"Примања од задуживања од домаћинстава у земљи",null,0]
[5140,911700,"Примања од домаћих финансијских деривата",null,0]
[5141,911800,"Примања од домаћих меница",null,0]
[5142,911900,"Исправка унутрашњег дуга",null,0]
[5143,912000,"ПРИМАЊА ОД ИНОСТРАНОГ ЗАДУЖИВАЊА (од 5144 до 5150)",{"$f":"SUM(D148:D154)","v":0},0,0,0,0,0,0,0]
[5144,912100,"Примања од емитовања хартија од вредности, изузев акција, на иностраном финансијском тржишту",null,0]
[5145,912200,"Примања од задуживања од иностраних држава",null,0]
[5146,912300,"Примања од задуживања од мултилатералних институција",null,0]
[5147,912400,"Примања од задуживања од иностраних пословних банака",null,0]
[5148,912500,"Примања од задуживања од осталих иностраних поверилаца",null,0]
[5149,912600,"Примања од иностраних финансијских деривата",null,0]
[5150,912900,"Исправка спољног дуга",null,0]
[5151,920000,"ПРИМАЊА ОД ПРОДАЈЕ ФИНАНСИЈСКЕ ИМОВИНЕ (5152 + 5162)",{"$f":"D156+D166","v":0},0,0,0,0,0,0,0]
[5152,921000,"ПРИМАЊА ОД ПРОДАЈЕ ДОМАЋЕ ФИНАНСИЈСКЕ ИМОВИНЕ (од 5153 до 5161) ",{"$f":"SUM(D157:D165)","v":0},0,0,0,0,0,0,0]
[5153,921100,"Примања од продаје домаћих хартија од вредности, изузев акција",null,0]
[5154,921200,"Примања од отплате кредита датих осталим нивоима власти",null,0]
[5155,921300,"Примања од отплате кредита датих домаћим јавним финансијским институцијама",null,0]
[5156,921400,"Примања од отплате кредита домаћим пословним банкама",null,0]
[5157,921500,"Примања од отплате кредита датих домаћим јавним нефинансијским институцијама",null,0]
[5158,921600,"Примања од отплате кредита датих физичким лицима и домаћинствима у земљи",null,0]
[5159,921700,"Примања од отплате кредита датих удружењима грађана у земљи",null,0]
[5160,921800,"Примања од отплате кредита датих нефинансијским приватним предузећима у земљи",null,0]
[5161,921900,"Примања од продаје домаћих акција и осталог капитала",null,0]
[5162,922000,"ПРИМАЊА ОД ПРОДАЈЕ СТРАНЕ ФИНАНСИЈСКЕ ИМОВИНЕ (од 5163 до 5170)",{"$f":"SUM(D167:D174)","v":0},0,{"$f":"SUM(F167:F174)","v":0},0,0,0,0,0]
[5163,922100,"Примања од продаје страних хартија од вредности, изузев акција",null,0]
[5164,922200,"Примања од отплате кредита датих страним владама",null,0]
[5165,922300,"Примања од отплате кредита датих међународним организацијама",null,0]
[5166,922400,"Примања од отплате кредита датих страним пословним банкама",null,0]
[5167,922500,"Примања од отплате кредита датих страним нефинансијским институцијама",null,0]
[5168,922600,"Примања од отплате кредита датих страним невладиним организацијама",null,0]
[5169,922700,"Примања од продаје страних акција и осталог капитала",null,0]
[5170,922800,"Примања од продаје стране валуте",null,0]
[5171,null,"УКУПНИ ПРИХОДИ И ПРИМАЊА (5001 + 5131)",{"$f":"D5+D135","v":159617},156452,{"$f":"F5+F135","v":11436},0,144017,648,0,351]
[5172,null,"ТЕКУЋИ РАСХОДИ И ИЗДАЦИ ЗА НЕФИНАНСИЈСКЕ ИМОВИНЕ (5173 + 5341)",{"$f":"D177+D345","v":159617},156447,{"$f":"F177+F345","v":11436},0,144012,648,0,351]
[5173,400000,"ТЕКУЋИ РАСХОДИ (5174 + 5196 + 5241 + 5256 + 5280 + 5293 + 5309 + 5324)",{"$f":"D178+D200+D245+D260+D284+D297+D313+D328","v":158667},155146,{"$f":"F178+F200+F245+F260+F284+F297+F313+F328","v":11163},0,143067,648,0,268]
[5174,410000,"РАСХОДИ ЗА ЗАПОСЛЕНЕ (5175 + 5177 + 5181 + 5183 + 5188 + 5190 + 5192 + 5194)",{"$f":"D179+D181+D185+D187+D192+D194+D196+D198","v":103248},103699,{"$f":"F179+F181+F185+F187+F192+F194+F196+F198","v":125},0,102926,648,0,0]
[5175,411000,"ПЛАТЕ, ДОДАЦИ И НАКНАДЕ ЗАПОСЛЕНИХ (ЗАРАДЕ) (5176)",{"$f":"D180","v":84970},84879,0,0,84879,0,0,0]
[5176,411100,"Плате, додаци и накнаде запослених",84970,84879,null,null,84879]
[5177,412000,"СОЦИЈАЛНИ ДОПРИНОСИ НА ТЕРЕТ ПОСЛОДАВЦА (од 5178 до 5180)",{"$f":"SUM(D182:D184)","v":15210},15200,0,0,15200,0,0,0]
[5178,412100,"Допринос за пензијско и инвалидско осигурање",10195,10190,null,null,10190]
[5179,412200,"Допринос за здравствено осигурање",4375,4373,null,null,4373]
[5180,412300,"Допринос за незапосленост",640,637,null,null,637]
[5181,413000,"НАКНАДЕ У НАТУРИ (5182)",{"$f":"D186","v":241},243,10,0,233,0,0,0]
[5182,413100,"Накнаде у натури",241,243,10,null,233]
[5183,414000,"СОЦИЈАЛНА ДАВАЊА ЗАПОСЛЕНИМА (од 5184 до 5187)",{"$f":"SUM(D188:D191)","v":207},969,115,0,206,648,0,0]
[5184,414100,"Исплата накнада за време одсуствовања с посла на терет фондова",null,763,115,null,null,648]
[5185,414200,"Расходи за образовање деце запослених",null,0]
[5186,414300,"Отпремнине и помоћи",207,206,null,null,206]
[5187,414400,"Помоћ у медицинском лечењу запосленог или чланова уже породице и друге помоћи запосленом",null,0]
[5188,415000,"НАКНАДА ТРОШКОВА ЗА ЗАПОСЛЕНЕ (5189)",{"$f":"D193","v":1320},1120,0,0,1120,0,0,0]
[5189,415100,"Накнаде трошкова за запослене",1320,1120,null,null,1120]
[5190,416000,"НАГРАДЕ ЗАПОСЛЕНИМА И ОСТАЛИ ПОСЕБНИ РАСХОДИ (5191)",{"$f":"D195","v":1300},1288,0,0,1288,0,0,0]
[5191,416100,"Награде запосленима и остали посебни расходи",1300,1288,null,null,1288]
[5192,417000,"ПОСЛАНИЧКИ ДОДАТАК (5193)",{"$f":"D197","v":0},0,{"$f":"F197","v":0},0,0,0,0,0]
[5193,417100,"Посланички додатак",null,0]
[5194,418000,"СУДИЈСКИ ДОДАТАК (5195)",{"$f":"D199","v":0},0,{"$f":"F199","v":0},0,0,0,0,0]
[5195,418100,"Судијски додатак",null,0]
[5196,420000,"КОРИШЋЕЊЕ УСЛУГА И РОБА (5197 + 5205 + 5211 + 5220 + 5228 + 5231) ",{"$f":"D201+D209+D215+D224+D232+D235","v":41500},{"$f":"SUM(F200:K200)","v":37468},10917,0,26283,0,0,268]
[5197,421000,"СТАЛНИ ТРОШКОВИ (од 5198 до 5204)",{"$f":"SUM(D202:D208)","v":12000},10626,746,0,9871,0,0,9]
[5198,421100,"Трошкови платног промета и банкарских услуга",210,210,166,null,35,null,null,9]
[5199,421200,"Енергетске услуге",9086,8273,200,null,8073]
[5200,421300,"Комуналне услуге",1843,1559,64,null,1495]
[5201,421400,"Услуге комуникација",641,471,203,null,268]
[5202,421500,"Трошкови осигурања",220,113,113]
[5203,421600,"Закуп имовине и опреме",null,0]
[5204,421900,"Остали трошкови",null,0]
[5205,422000,"ТРОШКОВИ ПУТОВАЊА (од 5206 до 5210)",{"$f":"SUM(D210:D214)","v":400},780,510,0,270,0,0,0]
[5206,422100,"Трошкови службених путовања у земљи",315,630,360,null,270]
[5207,422200,"Трошкови службених путовања у иностранство",null,0]
[5208,422300,"Трошкови путовања у оквиру редовног рада",85,150,150]
[5209,422400,"Трошкови путовања ученика",null,0]
[5210,422900,"Остали трошкови транспорта",null,0]
[5211,423000,"УСЛУГЕ ПО УГОВОРУ (од 5212 до 5219)",{"$f":"SUM(D216:D223)","v":3600},3401,465,0,2696,0,0,240]
[5212,423100,"Административне услуге",null,0]
[5213,423200,"Компјутерске услуге",102,101,22,null,79]
[5214,423300,"Услуге образовања и усавршавања запослених",195,187,62,null,125]
[5215,423400,"Услуге информисања",107,87,9,null,78]
[5216,423500,"Стручне услуге",null,0]
[5217,423600,"Услуге за домаћинство и угоститељство",130,106,106]
[5218,423700,"Репрезентација",null,0]
[5219,423900,"Остале опште услуге",3066,2920,266,null,2414,null,null,240]
[5220,424000,"СПЕЦИЈАЛИЗОВАНЕ УСЛУГЕ (од 5221 до 5227)",{"$f":"SUM(D225:D231)","v":2400},2165,145,0,2020,0,0,0]
[5221,424100,"Пољопривредне услуге",null,0]
[5222,424200,"Услуге образовања, културе и спорта",335,181,53,null,128]
[5223,424300,"Медицинске услуге",null,0]
[5224,424400,"Услуге одржавања аутопутева",null,0]
[5225,424500,"Услуге одржавања националних паркова и природних површина",null,0]
[5226,424600,"Услуге очувања животне средине, науке и геодетске услуге",null,0]
[5227,424900,"Остале специјализоване услуге",2065,1984,92,null,1892]
[5228,425000,"ТЕКУЋЕ ПОПРАВКЕ И ОДРЖАВАЊЕ (5229 + 5230)",{"$f":"D233+D234","v":2400},2034,{"$f":"F233+F234","v":487},0,1547,0,0,0]
[5229,425100,"Текуће поправке и одржавање зграда и објеката",1585,1451,345,null,1106]
[5230,425200,"Текуће поправке и одржавање опреме",815,583,142,null,441]
[5231,426000,"МАТЕРИЈАЛ (од 5232 до 5240)",{"$f":"SUM(D236:D244)","v":20700},18462,8564,0,9879,0,0,19]
[5232,426100,"Административни материјал",795,665,258,null,407]
[5233,426200,"Материјали за пољопривреду",null,0]
[5234,426300,"Материјали за образовање и усавршавање запослених",300,250,250]
[5235,426400,"Материјали за саобраћај",598,598,598]
[5236,426500,"Материјали за очување животне средине и науку",null,0]
[5237,426600,"Материјали за образовање, културу и спорт",1125,1033,610,null,418,null,null,5]
[5238,426700,"Медицински и лабораторијски материјали",null,0]
[5239,426800,"Материјали за одржавање хигијене и угоститељство",15257,13816,5660,null,8142,null,null,14]
[5240,426900,"Материјали за посебне намене",2625,2100,1188,null,912]
[5241,430000,"АМОРТИЗАЦИЈА И УПОТРЕБА СРЕДСТАВА ЗА РАД (5242 + 5246 + 5248 + 5250 + 5254)",{"$f":"D246+D250+D252+D254+D258","v":0},0,{"$f":"F246+F250+F252+F254+F258","v":0},0,0,0,0,0]
[5242,431000,"АМОРТИЗАЦИЈА НЕКРЕТНИНА И ОПРЕМЕ (од 5243 до 5245)",{"$f":"SUM(D247:D249)","v":0},0,0,0,0,0,0,0]
[5243,431100,"Амортизација зграда и грађевинскиx објеката",null,0]
[5244,431200,"Амортизација опреме",null,0]
[5245,431300,"Амортизација осталих некретнина и опреме",null,0]
[5246,432000,"АМОРТИЗАЦИЈА КУЛТИВИСАНЕ ИМОВИНЕ (5247)",{"$f":"D251","v":0},0,0,0,0,0,0,0]
[5247,432100,"Амортизација култивисане опреме",null,0]
[5248,433000,"УПОТРЕБА ДРАГОЦЕНОСТИ (5249)",{"$f":"D253","v":0},0,0,0,0,0,0,0]
[5249,433100,"Употреба драгоцености",null,0]
[5250,434000,"УПОТРЕБА ПРИРОДНЕ ИМОВИНЕ (од 5251 до 5253)",{"$f":"SUM(D255:D257)","v":0},0,0,0,0,0,0,0]
[5251,434100,"Употреба земљишта",null,0]
[5252,434200,"Употреба подземног блага",null,0]
[5253,434300,"Употреба шума и вода",null,0]
[5254,435000,"АМОРТИЗАЦИЈА НЕМАТЕРИЈАЛНЕ ИМОВИНЕ (5255)",{"$f":"D259","v":0},0,0,0,0,0,0,0]
[5255,435100,"Амортизација нематеријалне имовине",null,0]
[5256,440000,"ОТПЛАТА КАМАТА И ПРАТЕЋИ ТРОШКОВИ ЗАДУЖИВАЊА (5257 + 5267 + 5274 + 5276)",{"$f":"D261+D271+D278+D280","v":0},0,0,0,0,0,0,0]
[5257,441000,"ОТПЛАТЕ ДОМАЋИХ КАМАТА (од 5258 до 5266)",{"$f":"SUM(D262:D270)","v":0},0,{"$f":"SUM(F262:F270)","v":0},0,0,0,0,0]
[5258,441100,"Отплата камата на домаће хартије од вредности",null,0]
[5259,441200,"Отплата камата осталим нивоима власти",null,0]
[5260,441300,"Отплата камата домаћим јавним финансијским институцијама",null,{"$f":"SUM(F264:K264)","v":0}]
[5261,441400,"Отплата камата домаћим пословним банкама",null,0]
[5262,441500,"Отплата камата осталим домаћим кредиторима",null,0]
[5263,441600,"Отплата камата домаћинствима у земљи",null,0]
[5264,441700,"Отплата камата на домаће финансијске деривате",null,0]
[5265,441800,"Отплата камата на домаће менице",null,0]
[5266,441900,"Финансијске промене на финансијским лизинзима",null,0]
[5267,442000,"ОТПЛАТА СТРАНИХ КАМАТА (од 5268 до 5273)",{"$f":"SUM(D272:D277)","v":0},0,0,0,0,0,0,0]
[5268,442100,"Отплата камата на хартије од вредности емитоване на иностраном финансијском тржишту",null,{"$f":"SUM(F272:K272)","v":0}]
[5269,442200,"Отплата камата страним владама",null,0]
[5270,442300,"Отплата камата мултилатералним институцијама",null,0]
[5271,442400,"Отплата камата страним пословним банкама",null,0]
[5272,442500,"Отплата камата осталим страним кредиторима",null,0]
[5273,442600,"Отплата камата на стране финансијске деривате",null,0]
[5274,443000,"ОТПЛАТА КАМАТА ПО ГАРАНЦИЈАМА (5275)",{"$f":"D279","v":0},{"$f":"SUM(F278:K278)","v":0},{"$f":"F279","v":0},0,0,0,0,0]
[5275,443100,"Отплата камата по гаранцијама",null,0]
[5276,444000,"ПРАТЕЋИ ТРОШКОВИ ЗАДУЖИВАЊА (од 5277 до 5279)",{"$f":"SUM(D281:D283)","v":0},0,0,0,0,0,0,0]
[5277,444100,"Негативне курсне разлике",null,0]
[5278,444200,"Казне за кашњење",null,0]
[5279,444300,"Остали пратећи трошкови задуживања",null,0]
[5280,450000,"СУБВЕНЦИЈЕ (5281 + 5284 + 5287 + 5290)",{"$f":"D285+D288+D291+D294","v":0},0,0,0,0,0,0,0]
[5281,451000,"СУБВЕНЦИЈЕ ЈАВНИМ НЕФИНАНСИЈСКИМ ПРЕДУЗЕЋИМА И ОРГАНИЗАЦИЈАМА (5282 + 5283)",{"$f":"SUM(D286:D287)","v":0},0,0,0,0,0,0,0]
[5282,451100,"Текуће субвенције јавним нефинансијским предузећима и организацијама",null,0]
[5283,451200,"Капиталне субвенције јавним нефинансијским предузећима и организацијама",null,0]
[5284,452000,"СУБВЕНЦИЈЕ ПРИВАТНИМ ФИНАНСИЈСКИМ ИНСТИТУЦИЈАМА (5285 + 5286)",{"$f":"SUM(D289:D290)","v":0},0,0,0,0,0,0,0]
[5285,452100,"Текуће субвенције приватним финансијским институцијама",null,0]
[5286,452200,"Капиталне субвенције приватним финансијским институцијама",null,0]
[5287,453000,"СУБВЕНЦИЈЕ ЈАВНИМ ФИНАНСИЈСКИМ ИНСТИТУЦИЈАМА (5288 + 5289)",{"$f":"SUM(D292:D293)","v":0},0,0,0,0,0,0,0]
[5288,453100,"Текуће субвенције јавним финансијским институцијама",null,0]
[5289,453200,"Капиталне субвенције јавним финансијским институцијама",null,0]
[5290,454000,"СУБВЕНЦИЈЕ ПРИВАТНИМ ПРЕДУЗЕЋИМА (5291 + 5292)",{"$f":"SUM(D295:D296)","v":0},0,0,0,0,0,0,0]
[5291,454100,"Текуће субвенције приватним предузећима",null,0]
[5292,454200,"Капиталне субвенције приватним предузећима",null,0]
[5293,460000,"ДОНАЦИЈЕ, ДОТАЦИЈЕ И ТРАНСФЕРИ (5294 + 5297 + 5300 + 5303 + 5306)",{"$f":"D298+D301+D304+D307+D310","v":4330},4268,{"$f":"F298+F301+F304+F307+F310","v":0},0,4268,0,0,0]
[5294,461000,"ДОНАЦИЈЕ СТРАНИМ ВЛАДАМА (5295 + 5296)",{"$f":"SUM(D299:D300)","v":0},0,0,0,0,0,0,0]
[5295,461100,"Текуће донације страним владама",null,0]
[5296,461200,"Капиталне донације страним владама",null,0]
[5297,462000,"ДОТАЦИЈЕ МЕЂУНАРОДНИМ ОРГАНИЗАЦИЈАМА (5298 + 5299)",{"$f":"SUM(D302:D303)","v":0},0,0,0,0,0,0,0]
[5298,462100,"Текуће дотације међународним организацијама",null,0]
[5299,462200,"Капиталне дотације међународним организацијама",null,0]
[5300,463000,"ТРАНСФЕРИ ОСТАЛИМ НИВОИМА ВЛАСТИ (5301 + 5302)",{"$f":"SUM(D305:D306)","v":0},0,{"$f":"SUM(F305:F306)","v":0},0,0,0,0,0]
[5301,463100,"Текући трансфери осталим нивоима власти",null,0]
[5302,463200,"Капитални трансфери осталим нивоима власти",null,0]
[5303,464000,"ДОТАЦИЈЕ ОРГАНИЗАЦИЈАМА ОБАВЕЗНОГ СОЦИЈАЛНОГ ОСИГУРАЊА (5304 + 5305)",{"$f":"SUM(D308:D309)","v":0},0,0,0,0,0,0,0]
[5304,464100,"Текуће дотације организацијама обавезног социјалног осигурања",null,0]
[5305,464200,"Капиталне дотације организацијама обавезног социјалног осигурања",null,0]
[5306,465000,"ОСТАЛЕ ДОТАЦИЈЕ И ТРАНСФЕРИ (5307 + 5308)",{"$f":"SUM(D311:D312)","v":4330},4268,0,0,4268,0,0,0]
[5307,465100,"Остале текуће дотације и трансфери",4330,4268,null,null,4268]
[5308,465200,"Остале капиталне дотације и трансфери",null,0]
[5309,470000,"СОЦИЈАЛНО ОСИГУРАЊЕ И СОЦИЈАЛНА ЗАШТИТА (5310 + 5314)",{"$f":"D314+D318","v":0},121,121,0,0,0,0,0]
[5310,471000,"ПРАВА ИЗ СОЦИЈАЛНОГ ОСИГУРАЊА (ОРГАНИЗАЦИЈЕ ОБАВЕЗНОГ СОЦИЈАЛНОГ ОСИГУРАЊА) (од 5311 до 5313)",{"$f":"SUM(D315:D317)","v":0},0,0,0,0,0,0,0]
[5311,471100,"Права из социјалног осигурања која се исплаћују непосредно домаћинствима",null,0]
[5312,471200,"Права из социјалног осигурања која се исплаћују непосредно пружаоцима услуга",null,0]
[5313,471900,"Трансфери другим организацијама обавезног социјалног осигурања за доприносе за осигурање",null,0]
[5314,472000,"НАКНАДЕ ЗА СОЦИЈАЛНУ ЗАШТИТУ ИЗ БУЏЕТА (од 5315 до 5323)",{"$f":"SUM(D319:D327)","v":0},121,121,0,0,0,0,0]
[5315,472100,"Накнаде из буџета у случају болести и инвалидности",null,0]
[5316,472200,"Накнаде из буџета за породиљско одсуство",null,0]
[5317,472300,"Накнаде из буџета за децу и породицу",null,0]
[5318,472400,"Накнаде из буџета за случај незапослености",null,0]
[5319,472500,"Старосне и породичне пензије из буџета",null,0]
[5320,472600,"Накнаде из буџета у случају смрти",null,0]
[5321,472700,"Накнаде из буџета за образовање, културу, науку и спорт",null,121,121]
[5322,472800,"Накнаде из буџета за становање и живот",null,0]
[5323,472900,"Остале накнаде из буџета",null,0]
[5324,480000,"ОСТАЛИ РАСХОДИ (5325 + 5328 + 5332 + 5334 + 5337 + 5339)",{"$f":"D329+D332+D336+D338+D341+D343","v":9589},{"$f":"SUM(F328:K328)","v":9590},{"$f":"F329+F332+F336+F338+F341+F343","v":0},0,9590,0,0,0]
[5325,481000,"ДОТАЦИЈЕ НЕВЛАДИНИМ ОРГАНИЗАЦИЈАМА (5326 + 5327)",{"$f":"SUM(D330:D331)","v":0},0,0,0,0,0,0,0]
[5326,481100,"Дотације непрофитним организацијама које пружају помоћ домаћинствима",null,0]
[5327,481900,"Дотације осталим непрофитним институцијама",null,0]
[5328,482000,"ПОРЕЗИ, ОБАВЕЗНЕ ТАКСЕ И КАЗНЕ (од 5329 до 5331)",{"$f":"SUM(D333:D335)","v":132},134,{"$f":"SUM(F333:F335)","v":0},0,134,0,0,0]
[5329,482100,"Остали порези",null,0]
[5330,482200,"Обавезне таксе",132,134,null,null,134]
[5331,482300,"Новчане казне и пенали",null,0]
[5332,483000,"НОВЧАНЕ КАЗНЕ И ПЕНАЛИ ПО РЕШЕЊУ СУДОВА (5333)",{"$f":"D337","v":1200},1200,0,0,1200,0,0,0]
[5333,483100,"Новчане казне и пенали по решењу судова",1200,1200,null,null,1200]
[5334,484000,"НАКНАДА ШТЕТЕ ЗА ПОВРЕДЕ ИЛИ ШТЕТУ НАСТАЛУ УСЛЕД ЕЛЕМЕНТАРНИХ НЕПОГОДА ИЛИ ДРУГИХ ПРИРОДНИХ УЗРОКА (5335 + 5336)",{"$f":"SUM(D339:D340)","v":0},0,0,0,0,0,0,0]
[5335,484100,"Накнада штете за повреде или штету насталу услед елементарних непогода",null,0]
[5336,484200,"Накнада штете од дивљачи",null,0]
[5337,485000,"НАКНАДА ШТЕТЕ ЗА ПОВРЕДЕ ИЛИ ШТЕТУ НАНЕТУ ОД СТРАНЕ ДРЖАВНИХ ОРГАНА (5338)",{"$f":"D342","v":8257},8256,0,0,8256,0,0,0]
[5338,485100,"Накнада штете за повреде или штету нанету од стране државних органа",8257,8256,null,null,8256]
[5339,489000,"РАСХОДИ КОЈИ СЕ ФИНАНСИРАЈУ ИЗ СРЕДСТАВА ЗА РЕАЛИЗАЦИЈУ НАЦИОНАЛНОГ ИНВЕСТИЦИОНОГ ПЛАНА (5340)",0,0,0,0,0,0,0,0]
[5340,489100,"Расходи који се финансирају из средстава за реализацију националног инвестиционог плана",null,0]
[5341,500000,"ИЗДАЦИ ЗА НЕФИНАНСИЈСКУ ИМОВИНУ (5342 + 5364 + 5373 + 5376 + 5384)",{"$f":"D346+D368+D377+D380+D388","v":950},1301,{"$f":"F346+F368+F377+F380+F388","v":273},0,945,0,0,83]
[5342,510000,"ОСНОВНА СРЕДСТВА (5343 + 5348 + 5358 + 5360 + 5362)",{"$f":"D347+D352+D362+D364+D366","v":950},1301,{"$f":"F347+F352+F362+F364+F366","v":273},0,945,0,0,83]
[5343,511000,"ЗГРАДЕ И ГРАЂЕВИНСКИ ОБЈЕКТИ (од 5344 до 5347)",{"$f":"SUM(D348:D351)","v":0},0,0,0,0,0,0,0]
[5344,511100,"Куповина зграда и објеката",null,0]
[5345,511200,"Изградња зграда и објеката",null,0]
[5346,511300,"Капитално одржавање зграда и објеката",null,0]
[5347,511400,"Пројектно планирање",null,0]
[5348,512000,"МАШИНЕ И ОПРЕМА (од 5349 до 5357)",{"$f":"SUM(D353:D361)","v":950},1301,273,0,945,0,0,83]
[5349,512100,"Опрема за саобраћај",null,0]
[5350,512200,"Административна опрема",628,896,273,null,623]
[5351,512300,"Опрема за пољопривреду",null,0]
[5352,512400,"Опрема за заштиту животне средине",null,0]
[5353,512500,"Медицинска и лабораторијска опрема",null,0]
[5354,512600,"Опрема за образовање, културу и спорт",322,405,null,null,322,null,null,83]
[5355,512700,"Опрема за војску",null,0]
[5356,512800,"Опрема за јавну безбедност",null,0]
[5357,512900,"Опрема за производњу, моторна, непокретна и немоторна опрема",null,0]
[5358,513000,"ОСТАЛЕ НЕКРЕТНИНЕ И ОПРЕМА (5359)",{"$f":"D363","v":0},0,{"$f":"F363","v":0},0,0,0,0,0]
[5359,513100,"Остале некретнине и опрема",null,0]
[5360,514000,"КУЛТИВИСАНА ИМОВИНА (5361)",{"$f":"D365","v":0},0,{"$f":"F365","v":0},0,0,0,0,0]
[5361,514100,"Култивисана имовина",null,0]
[5362,515000,"НЕМАТЕРИЈАЛНА ИМОВИНА (5363)",{"$f":"D367","v":0},0,{"$f":"F367","v":0},0,0,0,0,0]
[5363,515100,"Нематеријална имовина",null,0]
[5364,520000,"ЗАЛИХЕ (5365 + 5367 + 5371)",{"$f":"D369+D371+D375","v":0},0,0,0,0,0,0,0]
[5365,521000,"РОБНЕ РЕЗЕРВЕ (5366)",{"$f":"D370","v":0},0,0,0,0,0,0,0]
[5366,521100,"Робне резерве",null,0]
[5367,522000,"ЗАЛИХЕ ПРОИЗВОДЊЕ (од 5368 до 5370)",{"$f":"SUM(D372:D374)","v":0},0,0,0,0,0,0,0]
[5368,522100,"Залихе материјала",null,0]
[5369,522200,"Залихе недовршене производње",null,0]
[5370,522300,"Залихе готових производа",null,0]
[5371,523000,"ЗАЛИХЕ РОБЕ ЗА ДАЉУ ПРОДАЈУ (5372)",{"$f":"D376","v":0},0,0,0,0,0,0,0]
[5372,523100,"Залихе робе за даљу продају",null,0]
[5373,530000,"ДРАГОЦЕНОСТИ (5374)",{"$f":"D378","v":0},0,0,0,0,0,0,0]
[5374,531000,"ДРАГОЦЕНОСТИ (5375)",0,0,0,0,0,0,0,0]
[5375,531100,"Драгоцености",null,0]
[5376,540000,"ПРИРОДНА ИМОВИНА (5377 + 5379 + 5381)",{"$f":"D381+D383+D385","v":0},0,0,0,0,0,0,0]
[5377,541000,"ЗЕМЉИШТЕ (5378)",{"$f":"D382","v":0},0,0,0,0,0,0,0]
[5378,541100,"Земљиште",null,0]
[5379,542000,"РУДНА БОГАТСТВА (5380)",{"$f":"D384","v":0},0,0,0,0,0,0,0]
[5380,542100,"Копови",null,0]
[5381,543000,"ШУМЕ И ВОДЕ (5382 + 5383)",{"$f":"SUM(D386:D387)","v":0},0,0,0,0,0,0,0]
[5382,543100,"Шуме",null,0]
[5383,543200,"Воде",null,0]
[5384,550000,"НЕФИНАНСИЈСКА ИМОВИНА КОЈА СЕ ФИНАНСИРА ИЗ СРЕДСТАВА ЗА РЕАЛИЗАЦИЈУ НАЦИОНАЛНОГ ИНВЕСТИЦИОНОГ ПЛАНА (5385)",{"$f":"D389","v":0},0,0,0,0,0,0,0]
[5385,551000,"НЕФИНАНСИЈСКА ИМОВИНА КОЈА СЕ ФИНАНСИРА ИЗ СРЕДСТАВА ЗА РЕАЛИЗАЦИЈУ НАЦИОНАЛНОГ ИНВЕСТИЦИОНОГ ПЛАНА (5386)",0,0,0,0,0,0,0,0]
[5386,551100,"Нефинансијска имовина која се финансира из средстава за реализацију националног инвестиционог плана",null,0]
[5387,600000,"ИЗДАЦИ ЗА ОТПЛАТУ ГЛАВНИЦЕ И НАБАВКУ ФИНАНСИЈСКЕ ИМОВИНЕ (5388 + 5413)",{"$f":"D392+D417","v":0},0,{"$f":"F392+F417","v":0},0,0,0,0,0]
[5388,610000,"ОТПЛАТА ГЛАВНИЦЕ (5389 + 5399 + 5407 + 5409 + 5411)",{"$f":"D393+D403+D411+D413+D415","v":0},{"$f":"SUM(F392:K392)","v":0},{"$f":"F393+F403+F411+F413+F415","v":0},0,0,0,0,0]
[5389,611000,"ОТПЛАТА ГЛАВНИЦЕ ДОМАЋИМ КРЕДИТОРИМА (од 5390 до 5398)",{"$f":"SUM(D394:D402)","v":0},0,0,0,0,0,0,0]
[5390,611100,"Отплата главнице на домаће хартије од вредности, изузев акција",null,0]
[5391,611200,"Отплата главнице осталим нивоима власти",null,0]
[5392,611300,"Отплата главнице домаћим јавним финансијским институцијама",null,0]
[5393,611400,"Отплата главнице домаћим пословним банкама",null,0]
[5394,611500,"Отплата главнице осталим домаћим кредиторима",null,0]
[5395,611600,"Отплата главнице домаћинствима у земљи",null,0]
[5396,611700,"Отплата главнице на домаће финансијске деривате",null,0]
[5397,611800,"Отплата домаћих меница",null,0]
[5398,611900,"Исправка унутрашњег дуга",null,0]
[5399,612000,"ОТПЛАТА ГЛАВНИЦЕ СТРАНИМ КРЕДИТОРИМА (од 5400 до 5406)",{"$f":"SUM(D404:D410)","v":0},0,0,0,0,0,0,0]
[5400,612100,"Отплата главнице на хартије од вредности, изузев акција, емитоване на иностраном финансијском тржишту",null,0]
[5401,612200,"Отплата главнице страним владама",null,0]
[5402,612300,"Отплата главнице мултилатералним институцијама",null,0]
[5403,612400,"Отплате главнице страним пословним банкама",null,0]
[5404,612500,"Отплате главнице осталим страним кредиторима",null,0]
[5405,612600,"Отплата главнице на стране финансијске деривате",null,0]
[5406,612900,"Исправка спољног дуга",null,0]
[5407,613000,"ОТПЛАТА ГЛАВНИЦЕ ПО ГАРАНЦИЈАМА (5408)",{"$f":"D412","v":0},0,{"$f":"F412","v":0},0,0,0,0,0]
[5408,613100,"Отплата главнице по гаранцијама",null,0]
[5409,614000,"ОТПЛАТА ГЛАВНИЦЕ ЗА ФИНАНСИЈСКИ ЛИЗИНГ (5410)",{"$f":"D414","v":0},0,{"$f":"F414","v":0},0,0,0,0,0]
[5410,614100,"Отплата главнице за финансијски лизинг",null,0]
[5411,615000,"ОТПЛАТА ГАРАНЦИЈА ПО КОМЕРЦИЈАЛНИМ ТРАНСАКЦИЈАМА (5412)",{"$f":"D416","v":0},{"$f":"SUM(F415:K415)","v":0},{"$f":"F416","v":0},0,0,0,0,0]
[5412,615100,"Отплата гаранција по комерцијалним трансакцијама",null,{"$f":"SUM(F416:K416)","v":0}]
[5413,620000,"НАБАВКА ФИНАНСИЈСКЕ ИМОВИНЕ (5414 + 5424 + 5433)",{"$f":"D418+D428+D437","v":0},0,{"$f":"F418+F428+F437","v":0},0,0,0,0,0]
[5414,621000,"НАБАВКА ДОМАЋЕ ФИНАНСИЈСКЕ ИМОВИНЕ (од 5415 до 5423)",{"$f":"SUM(D419:D427)","v":0},0,0,0,0,0,0,0]
[5415,621100,"Набавка домаћих хартија од вредности, изузев акција",null,0]
[5416,621200,"Кредити осталим нивоима власти",null,0]
[5417,621300,"Кредити домаћим јавним финансијским институцијама",null,0]
[5418,621400,"Кредити домаћим пословним банкама",null,0]
[5419,621500,"Кредити домаћим нефинансијским јавним институцијама",null,0]
[5420,621600,"Кредити физичким лицима и домаћинствима у земљи",null,0]
[5421,621700,"Кредити невладиним организацијама у земљи",null,0]
[5422,621800,"Кредити домаћим нефинансијским приватним предузећима",null,0]
[5423,621900,"Набавка домаћих акција и осталог капитала",null,0]
[5424,622000,"НАБАВКА СТРАНЕ ФИНАНСИЈСКЕ ИМОВИНЕ (од 5425 до 5432)",{"$f":"SUM(D429:D436)","v":0},0,{"$f":"SUM(F429:F436)","v":0},0,0,0,0,0]
[5425,622100,"Набавка страних хартија од вредности, изузев акција",null,0]
[5426,622200,"Кредити страним владама",null,0]
[5427,622300,"Кредити међународним организацијама",null,0]
[5428,622400,"Кредити страним пословним банкама",null,0]
[5429,622500,"Кредити страним нефинансијским институцијама",null,0]
[5430,622600,"Кредити страним невладиним организацијама",null,0]
[5431,622700,"Набавка страних акција и осталог капитала",null,0]
[5432,622800,"Куповина стране валуте",null,0]
[5433,623000,"НАБАВКА ФИНАНСИЈСКЕ ИМОВИНЕ КОЈА СЕ ФИНАНСИРА ИЗ СРЕДСТАВА ЗА РЕАЛИЗАЦИЈУ НАЦИОНАЛНОГ ИНВЕСТИЦИОНОГ ПЛАНА (5434)",{"$f":"D438","v":0},0,{"$f":"F438","v":0},0,0,0,0,0]
[5434,623100,"Набавка финансијске имовине која се финансира из средстава за реализацију националног инвестиционог плана ",null,0]
[5435,null,"УКУПНИ РАСХОДИ И ИЗДАЦИ (5172 + 5387)",{"$f":"D176+D391","v":159617},156447,{"$f":"F176+F391","v":11436},0,144012,648,0,351]
[5436,null,"ТЕКУЋИ ПРИХОДИ И ПРИМАЊА ОД ПРОДАЈЕ НЕФИНАНСИЈСКЕ ИМОВИНЕ (5001)",{"$f":"D5","v":159617},156452,{"$f":"F5","v":11436},0,144017,648,0,351]
[5437,null,"ТЕКУЋИ РАСХОДИ И ИЗДАЦИ ЗА НЕФИНАНСИЈСКУ ИМОВИНУ (5172)",{"$f":"D176","v":159617},156447,{"$f":"F176","v":11436},0,144012,648,0,351]
[5438,null,"Вишак прихода и примања – буџетски суфицит (5436 – 5437) > 0",{"$f":"IF(D440>D441,D440-D441,0)","v":0},{"$f":"IF(E440>E441,E440-E441,0)","v":5},0,0,5,0,0,0]
[5439,null,"Мањак прихода и примања – буџетски дефицит (5437 – 5436) > 0",{"$f":"IF(D441>D440,D441-D440,0)","v":0},{"$f":"IF(E441>E440,E441-E440,0)","v":0},0,0,0,0,0,0]
[5440,900000,"ПРИМАЊА ОД ЗАДУЖИВАЊА И ПРОДАЈЕ ФИНАНСИЈСКЕ ИМОВИНЕ (5131)",{"$f":"D135","v":0},0,{"$f":"F135","v":0},0,0,0,0,0]
[5441,600000,"ИЗДАЦИ ЗА ОТПЛАТУ ГЛАВНИЦЕ И НАБАВКУ ФИНАНСИЈСКЕ ИМОВИНЕ (5387)",{"$f":"D391","v":0},0,{"$f":"F391","v":0},0,0,0,0,0]
[5442,null,"ВИШАК ПРИМАЊА (5440 – 5441) > 0",{"$f":"IF(D444>D445,D444-D445,0)","v":0},{"$f":"IF(E444>E445,E444-E445,0)","v":0},0,0,0,0,0,0]
[5443,null,"МАЊАК ПРИМАЊА (5441 – 5440) > 0",{"$f":"IF(D445>D444,D445-D444,0)","v":0},{"$f":"IF(E445>E444,E445-E444,0)","v":0},0,0,0,0,0,0]
[5444,null,"ВИШАК НОВЧАНИХ ПРИЛИВА (5171 - 5435) > 0",{"$f":"IF(D175>D439,D175-D439,0)","v":0},5,0,0,5,0,0,0]
[5445,null,"МАЊАК НОВЧАНИХ ПРИЛИВА (5435 - 5171) > 0",{"$f":"IF(D439>D175,D439-D175,0)","v":0},0,0,0,0,0,0,0]

{"sheet":"StObr5","index":11,"n_rows":595,"n_cols":64,"rows_kept":595,"cut":false,"hidden":false,"merged":[[543,35,543,39],[543,29,543,34],[543,24,543,28],[543,7,543,23],[543,3,543,6],[25,29,27,34],[25,35,25,53],[28,40,28,44],[28,45,28,49],[543,0,543,2],[0,58,0,63],[1,0,1,43],[4,0,5,2],[4,4,5,9],[4,11,5,18],[4,20,5,24],[4,26,5,30],[4,32,5,32],[4,34,5,43],[7,1,7,24],[8,1,8,42],[10,1,10,6],[10,7,10,15],[10,17,10,23],[10,25,10,37],[12,1,12,3],[12,4,12,15],[12,17,12,24],[12,25,12,40],[14,1,14,39],[15,1,15,41],[16,1,16,41],[19,9,19,33],[20,12,20,17],[20,18,20,22],[22,0,22,35],[24,0,27,2],[24,3,27,6],[24,7,27,23],[24,24,27,28],[24,29,24,63],[25,54,27,58],[25,59,27,63],[26,35,27,39],[26,40,27,44],[26,45,27,49],[26,50,27,53],[28,0,28,2],[28,3,28,6],[28,7,28,23],[28,24,28,28],[28,29,28,34],[28,35,28,39],[28,50,28,53],[28,54,28,58],[28,59,28,63],[20,24,20,27],[29,0,29,2],[29,3,29,6],[29,7,29,23],[29,24,29,28],[29,29,29,34],[29,35,29,39],[29,40,29,44],[29,45,29,49],[29,50,29,53],[29,54,29,58],[29,59,29,63],[30,0,30,2],[30,3,30,6],[30,7,30,23],[30,24,30,28],[30,29,30,34],[30,35,30,39],[30,40,30,44],[30,45,30,49],[30,50,30,53],[30,54,30,58],[30,59,30,63],[31,0,31,2],[31,3,31,6],[31,7,31,23],[31,24,31,28],[31,29,31,34],[31,35,31,39],[31,40,31,44],[31,45,31,49],[31,50,31,53],[31,54,31,58],[31,59,31,63],[32,0,32,2],[32,3,32,6],[32,7,32,23],[32,24,32,28],[32,29,32,34],[32,35,32,39],[32,40,32,44],[32,45,32,49],[32,50,32,53],[32,54,32,58],[32,59,32,63],[33,0,33,2],[33,3,33,6],[33,7,33,23],[33,24,33,28],[33,29,33,34],[33,35,33,39],[33,40,33,44],[33,45,33,49],[33,50,33,53],[33,54,33,58],[33,59,33,63],[34,0,37,2],[34,3,37,6],[34,7,37,23],[34,24,37,28],[34,29,34,63],[35,29,37,34],[35,35,35,53],[35,54,37,58],[35,59,37,63],[36,35,37,39],[36,40,37,44],[36,45,37,49],[36,50,37,53],[38,0,38,2],[38,3,38,6],[38,7,38,23],[38,24,38,28],[38,29,38,34],[38,35,38,39],[38,40,38,44],[38,45,38,49],[38,50,38,53],[38,54,38,58],[38,59,38,63],[39,0,39,2],[39,3,39,6],[39,7,39,23],[39,24,39,28],[39,29,39,34],[39,35,39,39],[39,40,39,44],[39,45,39,49],[39,50,39,53],[39,54,39,58],[39,59,39,63],[40,0,40,2],[40,3,40,6],[40,7,40,23],[40,24,40,28],[40,29,40,34],[40,35,40,39],[40,40,40,44],[40,45,40,49],[40,50,40,53],[40,54,40,58],[40,59,40,63],[41,0,41,2],[41,3,41,6],[41,7,41,23],[41,24,41,28],[41,29,41,34],[41,35,41,39],[41,40,41,44],[41,45,41,49],[41,50,41,53],[41,54,41,58],[41,59,41,63],[42,0,42,2],[42,3,42,6],[42,7,42,23],[42,24,42,28],[42,29,42,34],[42,35,42,39],[42,40,42,44],[42,45,42,49],[42,50,42,53],[42,54,42,58],[42,59,42,63],[43,0,43,2],[43,3,43,6],[43,7,43,23],[43,24,43,28],[43,29,43,34],[43,35,43,39],[43,40,43,44],[43,45,43,49],[43,50,43,53],[43,54,43,58],[43,59,43,63],[44,0,44,2],[44,3,44,6],[44,7,44,23],[44,24,44,28],[44,29,44,34],[44,35,44,39],[44,40,44,44],[44,45,44,49],[44,50,44,53],[44,54,44,58],[44,59,44,63],[45,0,45,2],[45,3,45,6],[45,7,45,23],[45,24,45,28],[45,29,45,34],[45,35,45,39],[45,40,45,44],[45,45,45,49],[45,50,45,53],[45,54,45,58],[45,59,45,63],[46,0,46,2],[46,3,46,6],[46,7,46,23],[46,24,46,28],[46,29,46,34],[46,35,46,39],[46,40,46,44],[46,45,46,49],[46,50,46,53],[46,54,46,58],[46,59,46,63],[47,0,47,2],[47,3,47,6],[47,7,47,23],[47,24,47,28],[47,29,47,34],[47,35,47,39],[47,40,47,44],[47,45,47,49],[47,50,47,53],[47,54,47,58],[47,59,47,63],[48,0,48,2],[48,3,48,6],[48,7,48,23],[48,24,48,28],[48,29,48,34],[48,35,48,39],[48,40,48,44],[48,45,48,49],[48,50,48,53],[48,54,48,58],[48,59,48,63],[49,0,49,2],[49,3,49,6],[49,7,49,23],[49,24,49,28],[49,29,49,34],[49,35,49,39],[49,40,49,44],[49,45,49,49],[49,50,49,53],[49,54,49,58],[49,59,49,63],[50,0,50,2],[50,3,50,6],[50,7,50,23],[50,24,50,28],[50,29,50,34],[50,35,50,39],[50,40,50,44],[50,45,50,49],[50,50,50,53],[50,54,50,58],[50,59,50,63],[51,0,51,2],[51,3,51,6],[51,7,51,23],[51,24,51,28],[51,29,51,34],[51,35,51,39],[51,40,51,44],[51,45,51,49],[51,50,51,53],[51,54,51,58],[51,59,51,63],[52,0,52,2],[52,3,52,6],[52,7,52,23],[52,24,52,28],[52,29,52,34],[52,35,52,39],[52,40,52,44],[52,45,52,49],[52,50,52,53],[52,54,52,58],[52,59,52,63],[53,0,53,2],[53,3,53,6],[53,7,53,23],[53,24,53,28],[53,29,53,34],[53,35,53,39],[53,40,53,44],[53,45,53,49],[53,50,53,53],[53,54,53,58],[53,59,53,63],[54,0,54,2],[54,3,54,6],[54,7,54,23],[54,24,54,28],[54,29,54,34],[54,35,54,39],[54,40,54,44],[54,45,54,49],[54,50,54,53],[54,54,54,58],[54,59,54,63],[55,0,55,2],[55,3,55,6],[55,7,55,23],[55,24,55,28],[55,29,55,34],[55,35,55,39],[55,40,55,44],[55,45,55,49],[55,50,55,53],[55,54,55,58],[55,59,55,63],[56,0,56,2],[56,3,56,6],[56,7,56,23],[56,24,56,28],[56,29,56,34],[56,35,56,39],[56,40,56,44],[56,45,56,49],[56,50,56,53],[56,54,56,58],[56,59,56,63],[57,0,57,2],[57,3,57,6],[57,7,57,23],[57,24,57,28],[57,29,57,34],[57,35,57,39],[57,40,57,44],[57,45,57,49],[57,50,57,53],[57,54,57,58],[57,59,57,63],[58,0,58,2],[58,3,58,6],[58,7,58,23],[58,24,58,28],[58,29,58,34],[58,35,58,39],[58,40,58,44],[58,45,58,49],[58,50,58,53],[58,54,58,58],[58,59,58,63],[59,0,59,2],[59,3,59,6],[59,7,59,23],[59,24,59,28],[59,29,59,34],[59,35,59,39],[59,40,59,44],[59,45,59,49],[59,50,59,53],[59,54,59,58],[59,59,59,63],[60,0,60,2],[60,3,60,6],[60,7,60,23],[60,24,60,28],[60,29,60,34],[60,35,60,39],[60,40,60,44],[60,45,60,49],[60,50,60,53],[60,54,60,58],[60,59,60,63],[61,0,64,2],[61,3,64,6],[61,7,64,23],[61,24,64,28],[61,29,61,63],[62,29,64,34],[62,35,62,53],[62,54,64,58],[62,59,64,63],[63,35,64,39],[63,40,64,44],[63,45,64,49],[63,50,64,53],[65,0,65,2],[65,3,65,6],[65,7,65,23],[65,24,65,28],[65,29,65,34],[65,35,65,39],[65,40,65,44],[65,45,65,49],[65,50,65,53],[65,54,65,58],[65,59,65,63],[66,0,66,2],[66,3,66,6],[66,7,66,23],[66,24,66,28],[66,29,66,34],[66,35,66,39],[66,40,66,44],[66,45,66,49],[66,50,66,53],[66,54,66,58],[66,59,66,63],[67,0,67,2],[67,3,67,6],[67,7,67,23],[67,24,67,28],[67,29,67,34],[67,35,67,39],[67,40,67,44],[67,45,67,49],[67,50,67,53],[67,54,67,58],[67,59,67,63],[68,0,68,2],[68,3,68,6],[68,7,68,23],[68,24,68,28],[68,29,68,34],[68,35,68,39],[68,40,68,44],[68,45,68,49],[68,50,68,53],[68,54,68,58],[68,59,68,63],[69,0,69,2],[69,3,69,6],[69,7,69,23],[69,24,69,28],[69,29,69,34],[69,35,69,39],[69,40,69,44],[69,45,69,49],[69,50,69,53],[69,54,69,58],[69,59,69,63],[70,0,70,2],[70,3,70,6],[70,7,70,23],[70,24,70,28],[70,29,70,34],[70,35,70,39],[70,40,70,44],[70,45,70,49],[70,50,70,53],[70,54,70,58],[70,59,70,63],[71,0,71,2],[71,3,71,6],[71,7,71,23],[71,24,71,28],[71,29,71,34],[71,35,71,39],[71,40,71,44],[71,45,71,49],[71,50,71,53],[71,54,71,58],[71,59,71,63],[72,0,72,2],[72,3,72,6],[72,7,72,23],[72,24,72,28],[72,29,72,34],[72,35,72,39],[72,40,72,44],[72,45,72,49],[72,50,72,53],[72,54,72,58],[72,59,72,63],[73,0,73,2],[73,3,73,6],[73,7,73,23],[73,24,73,28],[73,29,73,34],[73,35,73,39],[73,40,73,44],[73,45,73,49],[73,50,73,53],[73,54,73,58],[73,59,73,63],[74,0,74,2],[74,3,74,6],[74,7,74,23],[74,24,74,28],[74,29,74,34],[74,35,74,39],[74,40,74,44],[74,45,74,49],[74,50,74,53],[74,54,74,58],[74,59,74,63],[75,0,75,2],[75,3,75,6],[75,7,75,23],[75,24,75,28],[75,29,75,34],[75,35,75,39],[75,40,75,44],[75,45,75,49],[75,50,75,53],[75,54,75,58],[75,59,75,63],[76,0,76,2],[76,3,76,6],[76,7,76,23],[76,24,76,28],[76,29,76,34],[76,35,76,39],[76,40,76,44],[76,45,76,49],[76,50,76,53],[76,54,76,58],[76,59,76,63],[77,0,77,2],[77,3,77,6],[77,7,77,23],[77,24,77,28],[77,29,77,34],[77,35,77,39],[77,40,77,44],[77,45,77,49],[77,50,77,53],[77,54,77,58],[77,59,77,63],[78,0,78,2],[78,3,78,6],[78,7,78,23],[78,24,78,28],[78,29,78,34],[78,35,78,39],[78,40,78,44],[78,45,78,49],[78,50,78,53],[78,54,78,58],[78,59,78,63],[79,0,79,2],[79,3,79,6],[79,7,79,23],[79,24,79,28],[79,29,79,34],[79,35,79,39],[79,40,79,44],[79,45,79,49],[79,50,79,53],[79,54,79,58],[79,59,79,63],[80,0,80,2],[80,3,80,6],[80,7,80,23],[80,24,80,28],[80,29,80,34],[80,35,80,39],[80,40,80,44],[80,45,80,49],[80,50,80,53],[80,54,80,58],[80,59,80,63],[81,0,81,2],[81,3,81,6],[81,7,81,23],[81,24,81,28],[81,29,81,34],[81,35,81,39],[81,40,81,44],[81,45,81,49],[81,50,81,53],[81,54,81,58],[81,59,81,63],[82,0,82,2],[82,3,82,6],[82,7,82,23],[82,24,82,28],[82,29,82,34],[82,35,82,39],[82,40,82,44],[82,45,82,49],[82,50,82,53],[82,54,82,58],[82,59,82,63],[83,0,83,2],[83,3,83,6],[83,7,83,23],[83,24,83,28],[83,29,83,34],[83,35,83,39],[83,40,83,44],[83,45,83,49],[83,50,83,53],[83,54,83,58],[83,59,83,63],[84,0,84,2],[84,3,84,6],[84,7,84,23],[84,24,84,28],[84,29,84,34],[84,35,84,39],[84,40,84,44],[84,45,84,49],[84,50,84,53],[84,54,84,58],[84,59,84,63],[85,0,85,2],[85,3,85,6],[85,7,85,23],[85,24,85,28],[85,29,85,34],[85,35,85,39],[85,40,85,44],[85,45,85,49],[85,50,85,53],[85,54,85,58],[85,59,85,63],[86,0,86,2],[86,3,86,6],[86,7,86,23],[86,24,86,28],[86,29,86,34],[86,35,86,39],[86,40,86,44],[86,45,86,49],[86,50,86,53],[86,54,86,58],[86,59,86,63],[87,0,90,2],[87,3,90,6],[87,7,90,23],[87,24,90,28],[87,29,87,63],[88,29,90,34],[88,35,88,53],[88,54,90,58],[88,59,90,63],[89,35,90,39],[89,40,90,44],[89,45,90,49],[89,50,90,53],[91,0,91,2],[91,3,91,6],[91,7,91,23],[91,24,91,28],[91,29,91,34],[91,35,91,39],[91,40,91,44],[91,45,91,49],[91,50,91,53],[91,54,91,58],[91,59,91,63],[92,0,92,2],[92,3,92,6],[92,7,92,23],[92,24,92,28],[92,29,92,34],[92,35,92,39],[92,40,92,44],[92,45,92,49],[92,50,92,53],[92,54,92,58],[92,59,92,63],[93,0,93,2],[93,3,93,6],[93,7,93,23],[93,24,93,28],[93,29,93,34],[93,35,93,39],[93,40,93,44],[93,45,93,49],[93,50,93,53],[93,54,93,58],[93,59,93,63],[94,0,94,2],[94,3,94,6],[94,7,94,23],[94,24,94,28],[94,29,94,34],[94,35,94,39],[94,40,94,44],[94,45,94,49],[94,50,94,53],[94,54,94,58],[94,59,94,63],[95,0,95,2],[95,3,95,6],[95,7,95,23],[95,24,95,28],[95,29,95,34],[95,35,95,39],[95,40,95,44],[95,45,95,49],[95,50,95,53],[95,54,95,58],[95,59,95,63],[96,0,96,2],[96,3,96,6],[96,7,96,23],[96,24,96,28],[96,29,96,34],[96,35,96,39],[96,40,96,44],[96,45,96,49],[96,50,96,53],[96,54,96,58],[96,59,96,63],[97,0,97,2],[97,3,97,6],[97,7,97,23],[97,24,97,28],[97,29,97,34],[97,35,97,39],[97,40,97,44],[97,45,97,49],[97,50,97,53],[97,54,97,58],[97,59,97,63],[98,0,98,2],[98,3,98,6],[98,7,98,23],[98,24,98,28],[98,29,98,34],[98,35,98,39],[98,40,98,44],[98,45,98,49],[98,50,98,53],[98,54,98,58],[98,59,98,63],[99,0,99,2],[99,3,99,6],[99,7,99,23],[99,24,99,28],[99,29,99,34],[99,35,99,39],[99,40,99,44],[99,45,99,49],[99,50,99,53],[99,54,99,58],[99,59,99,63],[100,0,100,2],[100,3,100,6],[100,7,100,23],[100,24,100,28],[100,29,100,34],[100,35,100,39],[100,40,100,44],[100,45,100,49],[100,50,100,53],[100,54,100,58],[100,59,100,63],[101,0,101,2],[101,3,101,6],[101,7,101,23],[101,24,101,28],[101,29,101,34],[101,35,101,39],[101,40,101,44],[101,45,101,49],[101,50,101,53],[101,54,101,58],[101,59,101,63],[102,0,102,2],[102,3,102,6],[102,7,102,23],[102,24,102,28],[102,29,102,34],[102,35,102,39],[102,40,102,44],[102,45,102,49],[102,50,102,53],[102,54,102,58],[102,59,102,63],[103,0,103,2],[103,3,103,6],[103,7,103,23],[103,24,103,28],[103,29,103,34],[103,35,103,39],[103,40,103,44],[103,45,103,49],[103,50,103,53],[103,54,103,58],[103,59,103,63],[104,0,104,2],[104,3,104,6],[104,7,104,23],[104,24,104,28],[104,29,104,34],[104,35,104,39],[104,40,104,44],[104,45,104,49],[104,50,104,53],[104,54,104,58],[104,59,104,63],[105,0,105,2],[105,3,105,6],[105,7,105,23],[105,24,105,28],[105,29,105,34],[105,35,105,39],[105,40,105,44],[105,45,105,49],[105,50,105,53],[105,54,105,58],[105,59,105,63],[106,0,106,2],[106,3,106,6],[106,7,106,23],[106,24,106,28],[106,29,106,34],[106,35,106,39],[106,40,106,44],[106,45,106,49],[106,50,106,53],[106,54,106,58],[106,59,106,63],[109,0,109,2],[109,3,109,6],[109,7,109,23],[109,24,109,28],[109,29,109,34],[109,35,109,39],[109,40,109,44],[109,45,109,49],[109,50,109,53],[109,54,109,58],[109,59,109,63],[107,0,107,2],[108,0,108,2],[107,3,107,6],[108,3,108,6],[107,7,107,23],[108,7,108,23],[107,24,107,28],[108,24,108,28],[107,29,107,34],[108,29,108,34],[110,0,110,2],[110,3,110,6],[110,7,110,23],[110,24,110,28],[110,29,110,34],[110,35,110,39],[110,40,110,44],[110,45,110,49],[110,50,110,53],[110,54,110,58],[110,59,110,63],[111,0,111,2],[111,3,111,6],[111,7,111,23],[111,24,111,28],[111,29,111,34],[111,35,111,39],[111,40,111,44],[111,45,111,49],[111,50,111,53],[111,54,111,58],[111,59,111,63],[112,0,112,2],[112,3,112,6],[112,7,112,23],[112,24,112,28],[112,29,112,34],[112,35,112,39],[112,40,112,44],[112,45,112,49],[112,50,112,53],[112,54,112,58],[112,59,112,63],[113,0,113,2],[113,3,113,6],[113,7,113,23],[113,24,113,28],[113,29,113,34],[113,35,113,39],[113,40,113,44],[113,45,113,49],[113,50,113,53],[113,54,113,58],[113,59,113,63],[114,0,114,2],[114,3,114,6],[114,7,114,23],[114,24,114,28],[114,29,114,34],[114,35,114,39],[114,40,114,44],[114,45,114,49],[114,50,114,53],[114,54,114,58],[114,59,114,63],[115,0,115,2],[115,3,115,6],[115,7,115,23],[115,24,115,28],[115,29,115,34],[115,35,115,39],[115,40,115,44],[115,45,115,49],[115,50,115,53],[115,54,115,58],[115,59,115,63],[116,0,119,2],[116,3,119,6],[116,7,119,23],[116,24,119,28],[116,29,116,63],[117,29,119,34],[117,35,117,53],[117,54,119,58],[117,59,119,63],[118,35,119,39],[118,40,119,44],[118,45,119,49],[118,50,119,53],[120,0,120,2],[120,3,120,6],[120,7,120,23],[120,24,120,28],[120,29,120,34],[120,35,120,39],[120,40,120,44],[120,45,120,49],[120,50,120,53],[120,54,120,58],[120,59,120,63],[121,0,121,2],[121,3,121,6],[121,7,121,23],[121,24,121,28],[121,29,121,34],[121,35,121,39],[121,40,121,44],[121,45,121,49],[121,50,121,53],[121,54,121,58],[121,59,121,63],[122,0,122,2],[122,3,122,6],[122,7,122,23],[122,24,122,28],[122,29,122,34],[122,35,122,39],[122,40,122,44],[122,45,122,49],[122,50,122,53],[122,54,122,58],[122,59,122,63],[123,0,123,2],[123,3,123,6],[123,7,123,23],[123,24,123,28],[123,29,123,34],[123,35,123,39],[123,40,123,44],[123,45,123,49],[123,50,123,53],[123,54,123,58],[123,59,123,63],[124,0,124,2],[124,3,124,6],[124,7,124,23],[124,24,124,28],[124,29,124,34],[124,35,124,39],[124,40,124,44],[124,45,124,49],[124,50,124,53],[124,54,124,58],[124,59,124,63],[125,0,125,2],[125,3,125,6],[125,7,125,23],[125,24,125,28],[125,29,125,34],[125,35,125,39],[125,40,125,44],[125,45,125,49],[125,50,125,53],[125,54,125,58],[125,59,125,63],[126,0,126,2],[126,3,126,6],[126,7,126,23],[126,24,126,28],[126,29,126,34],[126,35,126,39],[126,40,126,44],[126,45,126,49],[126,50,126,53],[126,54,126,58],[126,59,126,63],[127,0,127,2]],"merged_total":5489,"flags":["merged_cut"]}
[null,null,null,null,null,null,null,null,null,null,null,null,null,null,null,null,null,null,null,null,null,null,null,null,null,null,null,null,null,null,null,null,null,null,null,null,null,null,null,null,null,null,null,null,null,null,null,null,null,null,null,null,null,null,null,null,null,null,"Образац 5"]
["ПОПУЊАВА УПРАВА ЗА ТРЕЗОР - ФИЛИЈАЛА"]
[7,5,5,null,null,{"$f":"IF(LEN(Podaci!M2) > 4, MID(RIGHT(Podaci!$M$2,5),1,1),0)","v":"0"},{"$f":"IF(LEN(Podaci!M2) > 3, MID(RIGHT(Podaci!$M$2,4),1,1),0)","v":"8"},{"$f":"IF(LEN(Podaci!M2) > 2, MID(RIGHT(Podaci!$M$2,3),1,1),0)","v":"5"},{"$f":"MID(RIGHT(Podaci!$M$2,2),1,1)","v":"9"},{"$f":"MID(RIGHT(Podaci!$M$2,1),1,1)","v":"0"},null,{"$f":"IF(LEN(Podaci!Z7) > 7, MID(RIGHT(Podaci!$Z$7,8),1,1),0)","v":"0"},{"$f":"IF(LEN(Podaci!Z7) > 6, MID(RIGHT(Podaci!$Z$7,7),1,1),0)","v":"8"},{"$f":"MID(RIGHT(Podaci!$Z$7,6),1,1)","v":"0"},{"$f":"MID(RIGHT(Podaci!$Z$7,5),1,1)","v":"0"},{"$f":"MID(RIGHT(Podaci!$Z$7,4),1,1)","v":"4"},{"$f":"MID(RIGHT(Podaci!$Z$7,3),1,1)","v":"9"},{"$f":"MID(RIGHT(Podaci!$Z$7,2),1,1)","v":"3"},{"$f":"MID(RIGHT(Podaci!$Z$7,1),1,1)","v":"5"}]
[1,2,3,null,4,5,6,7,8,9,null,10,11,12,13,14,15,16,17,null,18,19,20,21,22,null,23,24,25,26,27,null,28,null,29,30,31,32,33,34,35,36,37,38]
["Врста\nпосла",null,null,null,"Јединствени\nброј КБС",null,null,null,null,null,null,null,null,null,null,null,null,null,null,null,"Седиште\nУТ",null,null,null,null,null,"Надлежни\nдиректни\nКБС"]
[]
[]
[null,"НАЗИВ КОРИСНИКА БУЏЕТСКИХ СРЕДСТАВА"]
[null,{"$f":"Podaci!B5","v":"ПРЕДШКОЛСКА  УСТАНОВА  \"БАМБИ\"  "}]
[]
[null,"СЕДИШТЕ",null,null,null,null,null,{"$f":"Podaci!H7","v":"КУЛА"},null,null,null,null,null,null,null,null,null,"МАТИЧНИ БРОЈ",null,null,null,null,null,null,null,{"$f":"Podaci!Z7","v":"08004935"}]
[]
[null,"ПИБ",null,null,{"$f":"Podaci!E9","v":100261597},null,null,null,null,null,null,null,null,null,null,null,null,"БРОЈ ПОДРАЧУНА",null,null,null,null,null,null,null,{"$f":"Podaci!AA9","v":"840-49661-40"}]
[]
[null,"НАЗИВ НАДЛЕЖНОГ ДИРЕКТНОГ КОРИСНИКА БУЏЕТСКИХ СРЕДСТАВА"]
[null,{"$f":"Podaci!B12","v":"ОПШТИНА  КУЛА"}]
[null,"(Попуњава само индиректни корисник буџетских средстава)"]
[]
[]
[null,null,null,null,null,null,null,null,null,"ИЗВЕШТАЈ О ИЗВРШЕЊУ БУЏЕТА"]
[null,null,null,null,null,null,null,null,null,null,null,null,"у периоду од",null,null,null,null,null,{"$f":"Podaci!D17","v":"01.01.2017."},null,null,null,null,"до",{"$f":"Podaci!D18","v":"31.12.2017."},null,null,null,"године"]
[]
["I. УКУПНИ ПРИХОДИ И ПРИМАЊА"]
[null,null,null,null,null,null,null,null,null,null,null,null,null,null,null,null,null,null,null,null,null,null,null,null,null,null,null,null,null,null,null,null,null,null,null,null,null,null,null,null,null,null,null,null,null,null,null,null,null,null,null,null,null,null,null,null,null,null,null,null,null,null,null,"(У хиљадама динара)"]
["Ознака\nОП",null,null,"Број\nконта",null,null,null,"Опис",null,null,null,null,null,null,null,null,null,null,null,null,null,null,null,null,"Износ\nпланираних прихода и примања",null,null,null,null,"Износ остварених прихода и примања"]
[null,null,null,null,null,null,null,null,null,null,null,null,null,null,null,null,null,null,null,null,null,null,null,null,null,null,null,null,null,"Укупно \n(од 6 до 11)",null,null,null,null,null,"Приходи и примања из буџета",null,null,null,null,null,null,null,null,null,null,null,null,null,null,null,null,null,null,"Из\nдонација и помоћи",null,null,null,null,"Из \nосталих\nизвора"]
[null,null,null,null,null,null,null,null,null,null,null,null,null,null,null,null,null,null,null,null,null,null,null,null,null,null,null,null,null,null,null,null,null,null,null,"Републике",null,null,null,null,"Аутономне\nпокрајине",null,null,null,null,"Општине /\nграда",null,null,null,null,"ООСО"]
[]
[1,null,null,2,null,null,null,3,null,null,null,null,null,null,null,null,null,null,null,null,null,null,null,null,4,null,null,null,null,5,null,null,null,null,null,6,null,null,null,null,7,null,null,null,null,8,null,null,null,null,9,null,null,null,10,null,null,null,null,11]
[5001,null,null,null,null,null,null,"ТЕКУЋИ ПРИХОДИ И ПРИМАЊА ОД ПРОДАЈЕ НЕФИНАНСИЈСКЕ ИМОВИНЕ (5002 + 5106)",null,null,null,null,null,null,null,null,null,null,null,null,null,null,null,null,{"$f":"UnObr5!D5","v":159617},null,null,null,null,{"$f":"UnObr5!E5","v":156452},null,null,null,null,null,{"$f":"UnObr5!F5","v":11436},null,null,null,null,{"$f":"UnObr5!G5","v":0},null,null,null,null,{"$f":"UnObr5!H5","v":144017},null,null,null,null,{"$f":"UnObr5!I5","v":648},null,null,null,{"$f":"UnObr5!J5","v":0},null,null,null,null,{"$f":"UnObr5!K5","v":351}]
[5002,null,null,700000,null,null,null,"ТЕКУЋИ ПРИХОДИ \n(5003 + 5047 + 5057 + 5069 + 5094 + 5099 + 5103)",null,null,null,null,null,null,null,null,null,null,null,null,null,null,null,null,{"$f":"UnObr5!D6","v":159617},null,null,null,null,{"$f":"UnObr5!E6","v":156452},null,null,null,null,null,{"$f":"UnObr5!F6","v":11436},null,null,null,null,{"$f":"UnObr5!G6","v":0},null,null,null,null,{"$f":"UnObr5!H6","v":144017},null,null,null,null,{"$f":"UnObr5!I6","v":648},null,null,null,{"$f":"UnObr5!J6","v":0},null,null,null,null,{"$f":"UnObr5!K6","v":351}]
[5003,null,null,710000,null,null,null,"ПОРЕЗИ (5004 + 5008 + 5010 + 5017 + 5023 + 5030 + 5033 + 5040)",null,null,null,null,null,null,null,null,null,null,null,null,null,null,null,null,{"$f":"UnObr5!D7","v":0},null,null,null,null,{"$f":"UnObr5!E7","v":0},null,null,null,null,null,{"$f":"UnObr5!F7","v":0},null,null,null,null,{"$f":"UnObr5!G7","v":0},null,null,null,null,{"$f":"UnObr5!H7","v":0},null,null,null,null,{"$f":"UnObr5!I7","v":0},null,null,null,{"$f":"UnObr5!J7","v":0},null,null,null,null,{"$f":"UnObr5!K7","v":0}]
[5004,null,null,711000,null,null,null,"ПОРЕЗ НА ДОХОДАК, ДОБИТ И \nКАПИТАЛНЕ ДОБИТКЕ (од 5005 до 5007)",null,null,null,null,null,null,null,null,null,null,null,null,null,null,null,null,{"$f":"UnObr5!D8","v":0},null,null,null,null,{"$f":"UnObr5!E8","v":0},null,null,null,null,null,{"$f":"UnObr5!F8","v":0},null,null,null,null,{"$f":"UnObr5!G8","v":0},null,null,null,null,{"$f":"UnObr5!H8","v":0},null,null,null,null,{"$f":"UnObr5!I8","v":0},null,null,null,{"$f":"UnObr5!J8","v":0},null,null,null,null,{"$f":"UnObr5!K8","v":0}]
[5005,null,null,711100,null,null,null,"Порези на доходак и капиталнe добиткe које \nплаћају физичка лица",null,null,null,null,null,null,null,null,null,null,null,null,null,null,null,null,{"$f":"UnObr5!D9","v":0},null,null,null,null,{"$f":"UnObr5!E9","v":0},null,null,null,null,null,{"$f":"UnObr5!F9","v":0},null,null,null,null,{"$f":"UnObr5!G9","v":0},null,null,null,null,{"$f":"UnObr5!H9","v":0},null,null,null,null,{"$f":"UnObr5!I9","v":0},null,null,null,{"$f":"UnObr5!J9","v":0},null,null,null,null,{"$f":"UnObr5!K9","v":0}]
["Ознака\nОП",null,null,"Број\nконта",null,null,null,"Опис",null,null,null,null,null,null,null,null,null,null,null,null,null,null,null,null,"Износ\nпланираних прихода и примања",null,null,null,null,"Износ остварених прихода и примања"]
[null,null,null,null,null,null,null,null,null,null,null,null,null,null,null,null,null,null,null,null,null,null,null,null,null,null,null,null,null,"Укупно \n(од 6 до 11)",null,null,null,null,null,"Приходи и примања из буџета",null,null,null,null,null,null,null,null,null,null,null,null,null,null,null,null,null,null,"Из\nдонација и помоћи",null,null,null,null,"Из \nосталих\nизвора"]
[null,null,null,null,null,null,null,null,null,null,null,null,null,null,null,null,null,null,null,null,null,null,null,null,null,null,null,null,null,null,null,null,null,null,null,"Републике",null,null,null,null,"Аутономне\nпокрајине",null,null,null,null,"Општине /\nграда",null,null,null,null,"ООСО"]
[]
[1,null,null,2,null,null,null,3,null,null,null,null,null,null,null,null,null,null,null,null,null,null,null,null,4,null,null,null,null,5,null,null,null,null,null,6,null,null,null,null,7,null,null,null,null,8,null,null,null,null,9,null,null,null,10,null,null,null,null,11]
[5006,null,null,711200,null,null,null,"Порези на добит и капиталне добитке које \nплаћају предузећа и друга правна лица",null,null,null,null,null,null,null,null,null,null,null,null,null,null,null,null,{"$f":"UnObr5!D10","v":0},null,null,null,null,{"$f":"UnObr5!E10","v":0},null,null,null,null,null,{"$f":"UnObr5!F10","v":0},null,null,null,null,{"$f":"UnObr5!G10","v":0},null,null,null,null,{"$f":"UnObr5!H10","v":0},null,null,null,null,{"$f":"UnObr5!I10","v":0},null,null,null,{"$f":"UnObr5!J10","v":0},null,null,null,null,{"$f":"UnObr5!K10","v":0}]
[5007,null,null,711300,null,null,null,"Порези на доходак, добит и капиталне добитке \nкоји се не могу разврстати између физичких и правних лица",null,null,null,null,null,null,null,null,null,null,null,null,null,null,null,null,{"$f":"UnObr5!D11","v":0},null,null,null,null,{"$f":"UnObr5!E11","v":0},null,null,null,null,null,{"$f":"UnObr5!F11","v":0},null,null,null,null,{"$f":"UnObr5!G11","v":0},null,null,null,null,{"$f":"UnObr5!H11","v":0},null,null,null,null,{"$f":"UnObr5!I11","v":0},null,null,null,{"$f":"UnObr5!J11","v":0},null,null,null,null,{"$f":"UnObr5!K11","v":0}]
[5008,null,null,712000,null,null,null,"ПОРЕЗ НА ФОНД ЗАРАДА (5009)",null,null,null,null,null,null,null,null,null,null,null,null,null,null,null,null,{"$f":"UnObr5!D12","v":0},null,null,null,null,{"$f":"UnObr5!E12","v":0},null,null,null,null,null,{"$f":"UnObr5!F12","v":0},null,null,null,null,{"$f":"UnObr5!G12","v":0},null,null,null,null,{"$f":"UnObr5!H12","v":0},null,null,null,null,{"$f":"UnObr5!I12","v":0},null,null,null,{"$f":"UnObr5!J12","v":0},null,null,null,null,{"$f":"UnObr5!K12","v":0}]
[5009,null,null,712100,null,null,null,"Порез на фонд зарада",null,null,null,null,null,null,null,null,null,null,null,null,null,null,null,null,{"$f":"UnObr5!D13","v":0},null,null,null,null,{"$f":"UnObr5!E13","v":0},null,null,null,null,null,{"$f":"UnObr5!F13","v":0},null,null,null,null,{"$f":"UnObr5!G13","v":0},null,null,null,null,{"$f":"UnObr5!H13","v":0},null,null,null,null,{"$f":"UnObr5!I13","v":0},null,null,null,{"$f":"UnObr5!J13","v":0},null,null,null,null,{"$f":"UnObr5!K13","v":0}]
[5010,null,null,713000,null,null,null,"ПОРЕЗ НА ИМОВИНУ (од 5011 до 5016)",null,null,null,null,null,null,null,null,null,null,null,null,null,null,null,null,{"$f":"UnObr5!D14","v":0},null,null,null,null,{"$f":"UnObr5!E14","v":0},null,null,null,null,null,{"$f":"UnObr5!F14","v":0},null,null,null,null,{"$f":"UnObr5!G14","v":0},null,null,null,null,{"$f":"UnObr5!H14","v":0},null,null,null,null,{"$f":"UnObr5!I14","v":0},null,null,null,{"$f":"UnObr5!J14","v":0},null,null,null,null,{"$f":"UnObr5!K14","v":0}]
[5011,null,null,713100,null,null,null,"Периодични порези на непокретности",null,null,null,null,null,null,null,null,null,null,null,null,null,null,null,null,{"$f":"UnObr5!D15","v":0},null,null,null,null,{"$f":"UnObr5!E15","v":0},null,null,null,null,null,{"$f":"UnObr5!F15","v":0},null,null,null,null,{"$f":"UnObr5!G15","v":0},null,null,null,null,{"$f":"UnObr5!H15","v":0},null,null,null,null,{"$f":"UnObr5!I15","v":0},null,null,null,{"$f":"UnObr5!J15","v":0},null,null,null,null,{"$f":"UnObr5!K15","v":0}]
[5012,null,null,713200,null,null,null,"Периодични порези на нето имовину",null,null,null,null,null,null,null,null,null,null,null,null,null,null,null,null,{"$f":"UnObr5!D16","v":0},null,null,null,null,{"$f":"UnObr5!E16","v":0},null,null,null,null,null,{"$f":"UnObr5!F16","v":0},null,null,null,null,{"$f":"UnObr5!G16","v":0},null,null,null,null,{"$f":"UnObr5!H16","v":0},null,null,null,null,{"$f":"UnObr5!I16","v":0},null,null,null,{"$f":"UnObr5!J16","v":0},null,null,null,null,{"$f":"UnObr5!K16","v":0}]
[5013,null,null,713300,null,null,null,"Порези на заоставштину, наслеђе и поклон",null,null,null,null,null,null,null,null,null,null,null,null,null,null,null,null,{"$f":"UnObr5!D17","v":0},null,null,null,null,{"$f":"UnObr5!E17","v":0},null,null,null,null,null,{"$f":"UnObr5!F17","v":0},null,null,null,null,{"$f":"UnObr5!G17","v":0},null,null,null,null,{"$f":"UnObr5!H17","v":0},null,null,null,null,{"$f":"UnObr5!I17","v":0},null,null,null,{"$f":"UnObr5!J17","v":0},null,null,null,null,{"$f":"UnObr5!K17","v":0}]
[5014,null,null,713400,null,null,null,"Порези на финансијске и капиталне трансакције",null,null,null,null,null,null,null,null,null,null,null,null,null,null,null,null,{"$f":"UnObr5!D18","v":0},null,null,null,null,{"$f":"UnObr5!E18","v":0},null,null,null,null,null,{"$f":"UnObr5!F18","v":0},null,null,null,null,{"$f":"UnObr5!G18","v":0},null,null,null,null,{"$f":"UnObr5!H18","v":0},null,null,null,null,{"$f":"UnObr5!I18","v":0},null,null,null,{"$f":"UnObr5!J18","v":0},null,null,null,null,{"$f":"UnObr5!K18","v":0}]
[5015,null,null,713500,null,null,null,"Други једнократни порези на имовину",null,null,null,null,null,null,null,null,null,null,null,null,null,null,null,null,{"$f":"UnObr5!D19","v":0},null,null,null,null,{"$f":"UnObr5!E19","v":0},null,null,null,null,null,{"$f":"UnObr5!F19","v":0},null,null,null,null,{"$f":"UnObr5!G19","v":0},null,null,null,null,{"$f":"UnObr5!H19","v":0},null,null,null,null,{"$f":"UnObr5!I19","v":0},null,null,null,{"$f":"UnObr5!J19","v":0},null,null,null,null,{"$f":"UnObr5!K19","v":0}]
[5016,null,null,713600,null,null,null,"Други периодични порези на имовину",null,null,null,null,null,null,null,null,null,null,null,null,null,null,null,null,{"$f":"UnObr5!D20","v":0},null,null,null,null,{"$f":"UnObr5!E20","v":0},null,null,null,null,null,{"$f":"UnObr5!F20","v":0},null,null,null,null,{"$f":"UnObr5!G20","v":0},null,null,null,null,{"$f":"UnObr5!H20","v":0},null,null,null,null,{"$f":"UnObr5!I20","v":0},null,null,null,{"$f":"UnObr5!J20","v":0},null,null,null,null,{"$f":"UnObr5!K20","v":0}]
[5017,null,null,714000,null,null,null,"ПОРЕЗ НА ДОБРА И УСЛУГЕ \n(од 5018 до 5022)",null,null,null,null,null,null,null,null,null,null,null,null,null,null,null,null,{"$f":"UnObr5!D21","v":0},null,null,null,null,{"$f":"UnObr5!E21","v":0},null,null,null,null,null,{"$f":"UnObr5!F21","v":0},null,null,null,null,{"$f":"UnObr5!G21","v":0},null,null,null,null,{"$f":"UnObr5!H21","v":0},null,null,null,null,{"$f":"UnObr5!I21","v":0},null,null,null,{"$f":"UnObr5!J21","v":0},null,null,null,null,{"$f":"UnObr5!K21","v":0}]
[5018,null,null,714100,null,null,null,"Општи порези на добра и услуге",null,null,null,null,null,null,null,null,null,null,null,null,null,null,null,null,{"$f":"UnObr5!D22","v":0},null,null,null,null,{"$f":"UnObr5!E22","v":0},null,null,null,null,null,{"$f":"UnObr5!F22","v":0},null,null,null,null,{"$f":"UnObr5!G22","v":0},null,null,null,null,{"$f":"UnObr5!H22","v":0},null,null,null,null,{"$f":"UnObr5!I22","v":0},null,null,null,{"$f":"UnObr5!J22","v":0},null,null,null,null,{"$f":"UnObr5!K22","v":0}]
[5019,null,null,714300,null,null,null,"Добит фискалних монопола",null,null,null,null,null,null,null,null,null,null,null,null,null,null,null,null,{"$f":"UnObr5!D23","v":0},null,null,null,null,{"$f":"UnObr5!E23","v":0},null,null,null,null,null,{"$f":"UnObr5!F23","v":0},null,null,null,null,{"$f":"UnObr5!G23","v":0},null,null,null,null,{"$f":"UnObr5!H23","v":0},null,null,null,null,{"$f":"UnObr5!I23","v":0},null,null,null,{"$f":"UnObr5!J23","v":0},null,null,null,null,{"$f":"UnObr5!K23","v":0}]
[5020,null,null,714400,null,null,null,"Порези на појединачне услуге",null,null,null,null,null,null,null,null,null,null,null,null,null,null,null,null,{"$f":"UnObr5!D24","v":0},null,null,null,null,{"$f":"UnObr5!E24","v":0},null,null,null,null,null,{"$f":"UnObr5!F24","v":0},null,null,null,null,{"$f":"UnObr5!G24","v":0},null,null,null,null,{"$f":"UnObr5!H24","v":0},null,null,null,null,{"$f":"UnObr5!I24","v":0},null,null,null,{"$f":"UnObr5!J24","v":0},null,null,null,null,{"$f":"UnObr5!K24","v":0}]
[5021,null,null,714500,null,null,null,"Порези, таксе и накнаде на употребу добара, на дозволу да се добра употребљавају или \nделатности обављају",null,null,null,null,null,null,null,null,null,null,null,null,null,null,null,null,{"$f":"UnObr5!D25","v":0},null,null,null,null,{"$f":"UnObr5!E25","v":0},null,null,null,null,null,{"$f":"UnObr5!F25","v":0},null,null,null,null,{"$f":"UnObr5!G25","v":0},null,null,null,null,{"$f":"UnObr5!H25","v":0},null,null,null,null,{"$f":"UnObr5!I25","v":0},null,null,null,{"$f":"UnObr5!J25","v":0},null,null,null,null,{"$f":"UnObr5!K25","v":0}]
[5022,null,null,714600,null,null,null,"Други порези на добра и услуге",null,null,null,null,null,null,null,null,null,null,null,null,null,null,null,null,{"$f":"UnObr5!D26","v":0},null,null,null,null,{"$f":"UnObr5!E26","v":0},null,null,null,null,null,{"$f":"UnObr5!F26","v":0},null,null,null,null,{"$f":"UnObr5!G26","v":0},null,null,null,null,{"$f":"UnObr5!H26","v":0},null,null,null,null,{"$f":"UnObr5!I26","v":0},null,null,null,{"$f":"UnObr5!J26","v":0},null,null,null,null,{"$f":"UnObr5!K26","v":0}]
[5023,null,null,715000,null,null,null,"ПОРЕЗ НА МЕЂУНАРОДНУ ТРГОВИНУ И ТРАНСАКЦИЈЕ (од 5024 до 5029)",null,null,null,null,null,null,null,null,null,null,null,null,null,null,null,null,{"$f":"UnObr5!D27","v":0},null,null,null,null,{"$f":"UnObr5!E27","v":0},null,null,null,null,null,{"$f":"UnObr5!F27","v":0},null,null,null,null,{"$f":"UnObr5!G27","v":0},null,null,null,null,{"$f":"UnObr5!H27","v":0},null,null,null,null,{"$f":"UnObr5!I27","v":0},null,null,null,{"$f":"UnObr5!J27","v":0},null,null,null,null,{"$f":"UnObr5!K27","v":0}]
[5024,null,null,715100,null,null,null,"Царине и друге увозне дажбине",null,null,null,null,null,null,null,null,null,null,null,null,null,null,null,null,{"$f":"UnObr5!D28","v":0},null,null,null,null,{"$f":"UnObr5!E28","v":0},null,null,null,null,null,{"$f":"UnObr5!F28","v":0},null,null,null,null,{"$f":"UnObr5!G28","v":0},null,null,null,null,{"$f":"UnObr5!H28","v":0},null,null,null,null,{"$f":"UnObr5!I28","v":0},null,null,null,{"$f":"UnObr5!J28","v":0},null,null,null,null,{"$f":"UnObr5!K28","v":0}]
[5025,null,null,715200,null,null,null,"Порези на извоз",null,null,null,null,null,null,null,null,null,null,null,null,null,null,null,null,{"$f":"UnObr5!D29","v":0},null,null,null,null,{"$f":"UnObr5!E29","v":0},null,null,null,null,null,{"$f":"UnObr5!F29","v":0},null,null,null,null,{"$f":"UnObr5!G29","v":0},null,null,null,null,{"$f":"UnObr5!H29","v":0},null,null,null,null,{"$f":"UnObr5!I29","v":0},null,null,null,{"$f":"UnObr5!J29","v":0},null,null,null,null,{"$f":"UnObr5!K29","v":0}]
[5026,null,null,715300,null,null,null,"Добит извозних или увозних монопола",null,null,null,null,null,null,null,null,null,null,null,null,null,null,null,null,{"$f":"UnObr5!D30","v":0},null,null,null,null,{"$f":"UnObr5!E30","v":0},null,null,null,null,null,{"$f":"UnObr5!F30","v":0},null,null,null,null,{"$f":"UnObr5!G30","v":0},null,null,null,null,{"$f":"UnObr5!H30","v":0},null,null,null,null,{"$f":"UnObr5!I30","v":0},null,null,null,{"$f":"UnObr5!J30","v":0},null,null,null,null,{"$f":"UnObr5!K30","v":0}]
[5027,null,null,715400,null,null,null,"Добит по основу разлике између куповног и продајног девизног курса",null,null,null,null,null,null,null,null,null,null,null,null,null,null,null,null,{"$f":"UnObr5!D31","v":0},null,null,null,null,{"$f":"UnObr5!E31","v":0},null,null,null,null,null,{"$f":"UnObr5!F31","v":0},null,null,null,null,{"$f":"UnObr5!G31","v":0},null,null,null,null,{"$f":"UnObr5!H31","v":0},null,null,null,null,{"$f":"UnObr5!I31","v":0},null,null,null,{"$f":"UnObr5!J31","v":0},null,null,null,null,{"$f":"UnObr5!K31","v":0}]
["Ознака\nОП",null,null,"Број\nконта",null,null,null,"Опис",null,null,null,null,null,null,null,null,null,null,null,null,null,null,null,null,"Износ\nпланираних прихода и примања",null,null,null,null,"Износ остварених прихода и примања"]
[null,null,null,null,null,null,null,null,null,null,null,null,null,null,null,null,null,null,null,null,null,null,null,null,null,null,null,null,null,"Укупно \n(од 6 до 11)",null,null,null,null,null,"Приходи и примања из буџета",null,null,null,null,null,null,null,null,null,null,null,null,null,null,null,null,null,null,"Из\nдонација и помоћи",null,null,null,null,"Из \nосталих\nизвора"]
[null,null,null,null,null,null,null,null,null,null,null,null,null,null,null,null,null,null,null,null,null,null,null,null,null,null,null,null,null,null,null,null,null,null,null,"Републике",null,null,null,null,"Аутономне\nпокрајине",null,null,null,null,"Општине /\nграда",null,null,null,null,"ООСО"]
[]
[1,null,null,2,null,null,null,3,null,null,null,null,null,null,null,null,null,null,null,null,null,null,null,null,4,null,null,null,null,5,null,null,null,null,null,6,null,null,null,null,7,null,null,null,null,8,null,null,null,null,9,null,null,null,10,null,null,null,null,11]
[5028,null,null,715500,null,null,null,"Порези на продају или куповину девиза",null,null,null,null,null,null,null,null,null,null,null,null,null,null,null,null,{"$f":"UnObr5!D32","v":0},null,null,null,null,{"$f":"UnObr5!E32","v":0},null,null,null,null,null,{"$f":"UnObr5!F32","v":0},null,null,null,null,{"$f":"UnObr5!G32","v":0},null,null,null,null,{"$f":"UnObr5!H32","v":0},null,null,null,null,{"$f":"UnObr5!I32","v":0},null,null,null,{"$f":"UnObr5!J32","v":0},null,null,null,null,{"$f":"UnObr5!K32","v":0}]
[5029,null,null,715600,null,null,null,"Други порези на међународну трговину и трансакције",null,null,null,null,null,null,null,null,null,null,null,null,null,null,null,null,{"$f":"UnObr5!D33","v":0},null,null,null,null,{"$f":"UnObr5!E33","v":0},null,null,null,null,null,{"$f":"UnObr5!F33","v":0},null,null,null,null,{"$f":"UnObr5!G33","v":0},null,null,null,null,{"$f":"UnObr5!H33","v":0},null,null,null,null,{"$f":"UnObr5!I33","v":0},null,null,null,{"$f":"UnObr5!J33","v":0},null,null,null,null,{"$f":"UnObr5!K33","v":0}]
[5030,null,null,716000,null,null,null,"ДРУГИ ПОРЕЗИ (5031 + 5032)",null,null,null,null,null,null,null,null,null,null,null,null,null,null,null,null,{"$f":"UnObr5!D34","v":0},null,null,null,null,{"$f":"UnObr5!E34","v":0},null,null,null,null,null,{"$f":"UnObr5!F34","v":0},null,null,null,null,{"$f":"UnObr5!G34","v":0},null,null,null,null,{"$f":"UnObr5!H34","v":0},null,null,null,null,{"$f":"UnObr5!I34","v":0},null,null,null,{"$f":"UnObr5!J34","v":0},null,null,null,null,{"$f":"UnObr5!K34","v":0}]
[5031,null,null,716100,null,null,null,"Други порези које искључиво плаћају \nпредузећа, односно предузетници",null,null,null,null,null,null,null,null,null,null,null,null,null,null,null,null,{"$f":"UnObr5!D35","v":0},null,null,null,null,{"$f":"UnObr5!E35","v":0},null,null,null,null,null,{"$f":"UnObr5!F35","v":0},null,null,null,null,{"$f":"UnObr5!G35","v":0},null,null,null,null,{"$f":"UnObr5!H35","v":0},null,null,null,null,{"$f":"UnObr5!I35","v":0},null,null,null,{"$f":"UnObr5!J35","v":0},null,null,null,null,{"$f":"UnObr5!K35","v":0}]
[5032,null,null,716200,null,null,null,"Други порези које плаћају остала лица или који се не могу идентификовати",null,null,null,null,null,null,null,null,null,null,null,null,null,null,null,null,{"$f":"UnObr5!D36","v":0},null,null,null,null,{"$f":"UnObr5!E36","v":0},null,null,null,null,null,{"$f":"UnObr5!F36","v":0},null,null,null,null,{"$f":"UnObr5!G36","v":0},null,null,null,null,{"$f":"UnObr5!H36","v":0},null,null,null,null,{"$f":"UnObr5!I36","v":0},null,null,null,{"$f":"UnObr5!J36","v":0},null,null,null,null,{"$f":"UnObr5!K36","v":0}]
[5033,null,null,717000,null,null,null,"АКЦИЗЕ (од 5034 до 5039)",null,null,null,null,null,null,null,null,null,null,null,null,null,null,null,null,{"$f":"UnObr5!D37","v":0},null,null,null,null,{"$f":"UnObr5!E37","v":0},null,null,null,null,null,{"$f":"UnObr5!F37","v":0},null,null,null,null,{"$f":"UnObr5!G37","v":0},null,null,null,null,{"$f":"UnObr5!H37","v":0},null,null,null,null,{"$f":"UnObr5!I37","v":0},null,null,null,{"$f":"UnObr5!J37","v":0},null,null,null,null,{"$f":"UnObr5!K37","v":0}]
[5034,null,null,717100,null,null,null,"Акцизе на деривате нафте",null,null,null,null,null,null,null,null,null,null,null,null,null,null,null,null,{"$f":"UnObr5!D38","v":0},null,null,null,null,{"$f":"UnObr5!E38","v":0},null,null,null,null,null,{"$f":"UnObr5!F38","v":0},null,null,null,null,{"$f":"UnObr5!G38","v":0},null,null,null,null,{"$f":"UnObr5!H38","v":0},null,null,null,null,{"$f":"UnObr5!I38","v":0},null,null,null,{"$f":"UnObr5!J38","v":0},null,null,null,null,{"$f":"UnObr5!K38","v":0}]
[5035,null,null,717200,null,null,null,"Акцизе на дуванске прерађевине",null,null,null,null,null,null,null,null,null,null,null,null,null,null,null,null,{"$f":"UnObr5!D39","v":0},null,null,null,null,{"$f":"UnObr5!E39","v":0},null,null,null,null,null,{"$f":"UnObr5!F39","v":0},null,null,null,null,{"$f":"UnObr5!G39","v":0},null,null,null,null,{"$f":"UnObr5!H39","v":0},null,null,null,null,{"$f":"UnObr5!I39","v":0},null,null,null,{"$f":"UnObr5!J39","v":0},null,null,null,null,{"$f":"UnObr5!K39","v":0}]
[5036,null,null,717300,null,null,null,"Акцизе на алкохолна пића",null,null,null,null,null,null,null,null,null,null,null,null,null,null,null,null,{"$f":"UnObr5!D40","v":0},null,null,null,null,{"$f":"UnObr5!E40","v":0},null,null,null,null,null,{"$f":"UnObr5!F40","v":0},null,null,null,null,{"$f":"UnObr5!G40","v":0},null,null,null,null,{"$f":"UnObr5!H40","v":0},null,null,null,null,{"$f":"UnObr5!I40","v":0},null,null,null,{"$f":"UnObr5!J40","v":0},null,null,null,null,{"$f":"UnObr5!K40","v":0}]
[5037,null,null,717400,null,null,null,"Акцизе на освежавајућа безалкохолна пића",null,null,null,null,null,null,null,null,null,null,null,null,null,null,null,null,{"$f":"UnObr5!D41","v":0},null,null,null,null,{"$f":"UnObr5!E41","v":0},null,null,null,null,null,{"$f":"UnObr5!F41","v":0},null,null,null,null,{"$f":"UnObr5!G41","v":0},null,null,null,null,{"$f":"UnObr5!H41","v":0},null,null,null,null,{"$f":"UnObr5!I41","v":0},null,null,null,{"$f":"UnObr5!J41","v":0},null,null,null,null,{"$f":"UnObr5!K41","v":0}]
[5038,null,null,717500,null,null,null,"Акциза на кафу",null,null,null,null,null,null,null,null,null,null,null,null,null,null,null,null,{"$f":"UnObr5!D42","v":0},null,null,null,null,{"$f":"UnObr5!E42","v":0},null,null,null,null,null,{"$f":"UnObr5!F42","v":0},null,null,null,null,{"$f":"UnObr5!G42","v":0},null,null,null,null,{"$f":"UnObr5!H42","v":0},null,null,null,null,{"$f":"UnObr5!I42","v":0},null,null,null,{"$f":"UnObr5!J42","v":0},null,null,null,null,{"$f":"UnObr5!K42","v":0}]
[5039,null,null,717600,null,null,null,"Друге акцизе",null,null,null,null,null,null,null,null,null,null,null,null,null,null,null,null,{"$f":"UnObr5!D43","v":0},null,null,null,null,{"$f":"UnObr5!E43","v":0},null,null,null,null,null,{"$f":"UnObr5!F43","v":0},null,null,null,null,{"$f":"UnObr5!G43","v":0},null,null,null,null,{"$f":"UnObr5!H43","v":0},null,null,null,null,{"$f":"UnObr5!I43","v":0},null,null,null,{"$f":"UnObr5!J43","v":0},null,null,null,null,{"$f":"UnObr5!K43","v":0}]
[5040,null,null,719000,null,null,null,"ЈЕДНОКРАТНИ ПОРЕЗ НА ЕКСТРА \nПРОФИТ И ЕКСТРА ИМОВИНУ \nСТЕЧЕНУ КОРИШЋЕЊЕМ ПОСЕБНИХ \nПОГОДНОСТИ (од 5041 до 5046)",null,null,null,null,null,null,null,null,null,null,null,null,null,null,null,null,{"$f":"UnObr5!D44","v":0},null,null,null,null,{"$f":"UnObr5!E44","v":0},null,null,null,null,null,{"$f":"UnObr5!F44","v":0},null,null,null,null,{"$f":"UnObr5!G44","v":0},null,null,null,null,{"$f":"UnObr5!H44","v":0},null,null,null,null,{"$f":"UnObr5!I44","v":0},null,null,null,{"$f":"UnObr5!J44","v":0},null,null,null,null,{"$f":"UnObr5!K44","v":0}]
[5041,null,null,719100,null,null,null,"Порез на доходак, добит и капиталну добит на \nтерет физичких лица",null,null,null,null,null,null,null,null,null,null,null,null,null,null,null,null,{"$f":"UnObr5!D45","v":0},null,null,null,null,{"$f":"UnObr5!E45","v":0},null,null,null,null,null,{"$f":"UnObr5!F45","v":0},null,null,null,null,{"$f":"UnObr5!G45","v":0},null,null,null,null,{"$f":"UnObr5!H45","v":0},null,null,null,null,{"$f":"UnObr5!I45","v":0},null,null,null,{"$f":"UnObr5!J45","v":0},null,null,null,null,{"$f":"UnObr5!K45","v":0}]
[5042,null,null,719200,null,null,null,"Порез на доходак, добит и капиталну добит на \nтерет предузећа и осталих правних лица",null,null,null,null,null,null,null,null,null,null,null,null,null,null,null,null,{"$f":"UnObr5!D46","v":0},null,null,null,null,{"$f":"UnObr5!E46","v":0},null,null,null,null,null,{"$f":"UnObr5!F46","v":0},null,null,null,null,{"$f":"UnObr5!G46","v":0},null,null,null,null,{"$f":"UnObr5!H46","v":0},null,null,null,null,{"$f":"UnObr5!I46","v":0},null,null,null,{"$f":"UnObr5!J46","v":0},null,null,null,null,{"$f":"UnObr5!K46","v":0}]
[5043,null,null,719300,null,null,null,"Порез на доходак, добит и капиталну добит нераспоредив између физичких и правних лица",null,null,null,null,null,null,null,null,null,null,null,null,null,null,null,null,{"$f":"UnObr5!D47","v":0},null,null,null,null,{"$f":"UnObr5!E47","v":0},null,null,null,null,null,{"$f":"UnObr5!F47","v":0},null,null,null,null,{"$f":"UnObr5!G47","v":0},null,null,null,null,{"$f":"UnObr5!H47","v":0},null,null,null,null,{"$f":"UnObr5!I47","v":0},null,null,null,{"$f":"UnObr5!J47","v":0},null,null,null,null,{"$f":"UnObr5!K47","v":0}]
[5044,null,null,719400,null,null,null,"Остали једнократни порези на имовину",null,null,null,null,null,null,null,null,null,null,null,null,null,null,null,null,{"$f":"UnObr5!D48","v":0},null,null,null,null,{"$f":"UnObr5!E48","v":0},null,null,null,null,null,{"$f":"UnObr5!F48","v":0},null,null,null,null,{"$f":"UnObr5!G48","v":0},null,null,null,null,{"$f":"UnObr5!H48","v":0},null,null,null,null,{"$f":"UnObr5!I48","v":0},null,null,null,{"$f":"UnObr5!J48","v":0},null,null,null,null,{"$f":"UnObr5!K48","v":0}]
[5045,null,null,719500,null,null,null,"Остали порези које плаћају искључиво \nпредузећа и предузетници",null,null,null,null,null,null,null,null,null,null,null,null,null,null,null,null,{"$f":"UnObr5!D49","v":0},null,null,null,null,{"$f":"UnObr5!E49","v":0},null,null,null,null,null,{"$f":"UnObr5!F49","v":0},null,null,null,null,{"$f":"UnObr5!G49","v":0},null,null,null,null,{"$f":"UnObr5!H49","v":0},null,null,null,null,{"$f":"UnObr5!I49","v":0},null,null,null,{"$f":"UnObr5!J49","v":0},null,null,null,null,{"$f":"UnObr5!K49","v":0}]
[5046,null,null,719600,null,null,null,"Остали порези које плаћају друга или неидентификована лица",null,null,null,null,null,null,null,null,null,null,null,null,null,null,null,null,{"$f":"UnObr5!D50","v":0},null,null,null,null,{"$f":"UnObr5!E50","v":0},null,null,null,null,null,{"$f":"UnObr5!F50","v":0},null,null,null,null,{"$f":"UnObr5!G50","v":0},null,null,null,null,{"$f":"UnObr5!H50","v":0},null,null,null,null,{"$f":"UnObr5!I50","v":0},null,null,null,{"$f":"UnObr5!J50","v":0},null,null,null,null,{"$f":"UnObr5!K50","v":0}]
[5047,null,null,720000,null,null,null,"СОЦИЈАЛНИ ДОПРИНОСИ (5048 + 5053)",null,null,null,null,null,null,null,null,null,null,null,null,null,null,null,null,{"$f":"UnObr5!D51","v":0},null,null,null,null,{"$f":"UnObr5!E51","v":0},null,null,null,null,null,{"$f":"UnObr5!F51","v":0},null,null,null,null,{"$f":"UnObr5!G51","v":0},null,null,null,null,{"$f":"UnObr5!H51","v":0},null,null,null,null,{"$f":"UnObr5!I51","v":0},null,null,null,{"$f":"UnObr5!J51","v":0},null,null,null,null,{"$f":"UnObr5!K51","v":0}]
[5048,null,null,721000,null,null,null,"ДОПРИНОСИ ЗА СОЦИЈАЛНО \nОСИГУРАЊЕ (од 5049 до 5052)",null,null,null,null,null,null,null,null,null,null,null,null,null,null,null,null,{"$f":"UnObr5!D52","v":0},null,null,null,null,{"$f":"UnObr5!E52","v":0},null,null,null,null,null,{"$f":"UnObr5!F52","v":0},null,null,null,null,{"$f":"UnObr5!G52","v":0},null,null,null,null,{"$f":"UnObr5!H52","v":0},null,null,null,null,{"$f":"UnObr5!I52","v":0},null,null,null,{"$f":"UnObr5!J52","v":0},null,null,null,null,{"$f":"UnObr5!K52","v":0}]
["Ознака\nОП",null,null,"Број\nконта",null,null,null,"Опис",null,null,null,null,null,null,null,null,null,null,null,null,null,null,null,null,"Износ\nпланираних прихода и примања",null,null,null,null,"Износ остварених прихода и примања"]
[null,null,null,null,null,null,null,null,null,null,null,null,null,null,null,null,null,null,null,null,null,null,null,null,null,null,null,null,null,"Укупно \n(од 6 до 11)",null,null,null,null,null,"Приходи и примања из буџета",null,null,null,null,null,null,null,null,null,null,null,null,null,null,null,null,null,null,"Из\nдонација и помоћи",null,null,null,null,"Из \nосталих\nизвора"]
[null,null,null,null,null,null,null,null,null,null,null,null,null,null,null,null,null,null,null,null,null,null,null,null,null,null,null,null,null,null,null,null,null,null,null,"Републике",null,null,null,null,"Аутономне\nпокрајине",null,null,null,null,"Општине /\nграда",null,null,null,null,"ООСО"]
[]
[1,null,null,2,null,null,null,3,null,null,null,null,null,null,null,null,null,null,null,null,null,null,null,null,4,null,null,null,null,5,null,null,null,null,null,6,null,null,null,null,7,null,null,null,null,8,null,null,null,null,9,null,null,null,10,null,null,null,null,11]
[5049,null,null,721100,null,null,null,"Доприноси за социјално осигурање на терет запослених",null,null,null,null,null,null,null,null,null,null,null,null,null,null,null,null,{"$f":"UnObr5!D53","v":0},null,null,null,null,{"$f":"UnObr5!E53","v":0},null,null,null,null,null,{"$f":"UnObr5!F53","v":0},null,null,null,null,{"$f":"UnObr5!G53","v":0},null,null,null,null,{"$f":"UnObr5!H53","v":0},null,null,null,null,{"$f":"UnObr5!I53","v":0},null,null,null,{"$f":"UnObr5!J53","v":0},null,null,null,null,{"$f":"UnObr5!K53","v":0}]
[5050,null,null,721200,null,null,null,"Доприноси за социјално осигурање на терет послодавца",null,null,null,null,null,null,null,null,null,null,null,null,null,null,null,null,{"$f":"UnObr5!D54","v":0},null,null,null,null,{"$f":"UnObr5!E54","v":0},null,null,null,null,null,{"$f":"UnObr5!F54","v":0},null,null,null,null,{"$f":"UnObr5!G54","v":0},null,null,null,null,{"$f":"UnObr5!H54","v":0},null,null,null,null,{"$f":"UnObr5!I54","v":0},null,null,null,{"$f":"UnObr5!J54","v":0},null,null,null,null,{"$f":"UnObr5!K54","v":0}]
[5051,null,null,721300,null,null,null,"Доприноси за социјално осигурање лица која обављају самосталну делатност и незапослених \nлица",null,null,null,null,null,null,null,null,null,null,null,null,null,null,null,null,{"$f":"UnObr5!D55","v":0},null,null,null,null,{"$f":"UnObr5!E55","v":0},null,null,null,null,null,{"$f":"UnObr5!F55","v":0},null,null,null,null,{"$f":"UnObr5!G55","v":0},null,null,null,null,{"$f":"UnObr5!H55","v":0},null,null,null,null,{"$f":"UnObr5!I55","v":0},null,null,null,{"$f":"UnObr5!J55","v":0},null,null,null,null,{"$f":"UnObr5!K55","v":0}]
[5052,null,null,721400,null,null,null,"Доприноси за социјално осигурање који се не \nмогу разврстати",null,null,null,null,null,null,null,null,null,null,null,null,null,null,null,null,{"$f":"UnObr5!D56","v":0},null,null,null,null,{"$f":"UnObr5!E56","v":0},null,null,null,null,null,{"$f":"UnObr5!F56","v":0},null,null,null,null,{"$f":"UnObr5!G56","v":0},null,null,null,null,{"$f":"UnObr5!H56","v":0},null,null,null,null,{"$f":"UnObr5!I56","v":0},null,null,null,{"$f":"UnObr5!J56","v":0},null,null,null,null,{"$f":"UnObr5!K56","v":0}]
[5053,null,null,722000,null,null,null,"ОСТАЛИ СОЦИЈАЛНИ ДОПРИНОСИ \n(од 5054 до 5056)",null,null,null,null,null,null,null,null,null,null,null,null,null,null,null,null,{"$f":"UnObr5!D57","v":0},null,null,null,null,{"$f":"UnObr5!E57","v":0},null,null,null,null,null,{"$f":"UnObr5!F57","v":0},null,null,null,null,{"$f":"UnObr5!G57","v":0},null,null,null,null,{"$f":"UnObr5!H57","v":0},null,null,null,null,{"$f":"UnObr5!I57","v":0},null,null,null,{"$f":"UnObr5!J57","v":0},null,null,null,null,{"$f":"UnObr5!K57","v":0}]
[5054,null,null,722100,null,null,null,"Социјални доприноси на терет осигураника",null,null,null,null,null,null,null,null,null,null,null,null,null,null,null,null,{"$f":"UnObr5!D58","v":0},null,null,null,null,{"$f":"UnObr5!E58","v":0},null,null,null,null,null,{"$f":"UnObr5!F58","v":0},null,null,null,null,{"$f":"UnObr5!G58","v":0},null,null,null,null,{"$f":"UnObr5!H58","v":0},null,null,null,null,{"$f":"UnObr5!I58","v":0},null,null,null,{"$f":"UnObr5!J58","v":0},null,null,null,null,{"$f":"UnObr5!K58","v":0}]
[5055,null,null,722200,null,null,null,"Социјални доприноси на терет послодаваца",null,null,null,null,null,null,null,null,null,null,null,null,null,null,null,null,{"$f":"UnObr5!D59","v":0},null,null,null,null,{"$f":"UnObr5!E59","v":0},null,null,null,null,null,{"$f":"UnObr5!F59","v":0},null,null,null,null,{"$f":"UnObr5!G59","v":0},null,null,null,null,{"$f":"UnObr5!H59","v":0},null,null,null,null,{"$f":"UnObr5!I59","v":0},null,null,null,{"$f":"UnObr5!J59","v":0},null,null,null,null,{"$f":"UnObr5!K59","v":0}]
[5056,null,null,722300,null,null,null,"Импутирани социјални доприноси",null,null,null,null,null,null,null,null,null,null,null,null,null,null,null,null,{"$f":"UnObr5!D60","v":0},null,null,null,null,{"$f":"UnObr5!E60","v":0},null,null,null,null,null,{"$f":"UnObr5!F60","v":0},null,null,null,null,{"$f":"UnObr5!G60","v":0},null,null,null,null,{"$f":"UnObr5!H60","v":0},null,null,null,null,{"$f":"UnObr5!I60","v":0},null,null,null,{"$f":"UnObr5!J60","v":0},null,null,null,null,{"$f":"UnObr5!K60","v":0}]
[5057,null,null,730000,null,null,null,"ДОНАЦИЈЕ, ПОМОЋИ И ТРАНСФЕРИ \n(5058 + 5061 + 5066)",null,null,null,null,null,null,null,null,null,null,null,null,null,null,null,null,{"$f":"UnObr5!D61","v":12000},null,null,null,null,{"$f":"UnObr5!E61","v":11436},null,null,null,null,null,{"$f":"UnObr5!F61","v":11436},null,null,null,null,{"$f":"UnObr5!G61","v":0},null,null,null,null,{"$f":"UnObr5!H61","v":0},null,null,null,null,{"$f":"UnObr5!I61","v":0},null,null,null,{"$f":"UnObr5!J61","v":0},null,null,null,null,{"$f":"UnObr5!K61","v":0}]
[5058,null,null,731000,null,null,null,"ДОНАЦИЈЕ ОД ИНОСТРАНИХ ДРЖАВА \n(5059 + 5060)",null,null,null,null,null,null,null,null,null,null,null,null,null,null,null,null,{"$f":"UnObr5!D62","v":0},null,null,null,null,{"$f":"UnObr5!E62","v":0},null,null,null,null,null,{"$f":"UnObr5!F62","v":0},null,null,null,null,{"$f":"UnObr5!G62","v":0},null,null,null,null,{"$f":"UnObr5!H62","v":0},null,null,null,null,{"$f":"UnObr5!I62","v":0},null,null,null,{"$f":"UnObr5!J62","v":0},null,null,null,null,{"$f":"UnObr5!K62","v":0}]
[5059,null,null,731100,null,null,null,"Текуће донације од иностраних држава",null,null,null,null,null,null,null,null,null,null,null,null,null,null,null,null,{"$f":"UnObr5!D63","v":0},null,null,null,null,{"$f":"UnObr5!E63","v":0},null,null,null,null,null,{"$f":"UnObr5!F63","v":0},null,null,null,null,{"$f":"UnObr5!G63","v":0},null,null,null,null,{"$f":"UnObr5!H63","v":0},null,null,null,null,{"$f":"UnObr5!I63","v":0},null,null,null,{"$f":"UnObr5!J63","v":0},null,null,null,null,{"$f":"UnObr5!K63","v":0}]
[5060,null,null,731200,null,null,null,"Капиталне донације од иностраних држава",null,null,null,null,null,null,null,null,null,null,null,null,null,null,null,null,{"$f":"UnObr5!D64","v":0},null,null,null,null,{"$f":"UnObr5!E64","v":0},null,null,null,null,null,{"$f":"UnObr5!F64","v":0},null,null,null,null,{"$f":"UnObr5!G64","v":0},null,null,null,null,{"$f":"UnObr5!H64","v":0},null,null,null,null,{"$f":"UnObr5!I64","v":0},null,null,null,{"$f":"UnObr5!J64","v":0},null,null,null,null,{"$f":"UnObr5!K64","v":0}]
[5061,null,null,732000,null,null,null,"ДОНАЦИЈЕ И ПОМОЋИ ОД МЕЂУНАРОДНИХ ОРГАНИЗАЦИЈА (од 5062 до 5065)",null,null,null,null,null,null,null,null,null,null,null,null,null,null,null,null,{"$f":"UnObr5!D65","v":0},null,null,null,null,{"$f":"UnObr5!E65","v":0},null,null,null,null,null,{"$f":"UnObr5!F65","v":0},null,null,null,null,{"$f":"UnObr5!G65","v":0},null,null,null,null,{"$f":"UnObr5!H65","v":0},null,null,null,null,{"$f":"UnObr5!I65","v":0},null,null,null,{"$f":"UnObr5!J65","v":0},null,null,null,null,{"$f":"UnObr5!K65","v":0}]
[5062,null,null,732100,null,null,null,"Текуће донације од међународних организација",null,null,null,null,null,null,null,null,null,null,null,null,null,null,null,null,{"$f":"UnObr5!D66","v":0},null,null,null,null,{"$f":"UnObr5!E66","v":0},null,null,null,null,null,{"$f":"UnObr5!F66","v":0},null,null,null,null,{"$f":"UnObr5!G66","v":0},null,null,null,null,{"$f":"UnObr5!H66","v":0},null,null,null,null,{"$f":"UnObr5!I66","v":0},null,null,null,{"$f":"UnObr5!J66","v":0},null,null,null,null,{"$f":"UnObr5!K66","v":0}]
[5063,null,null,732200,null,null,null,"Капиталне донације од међународних \nорганизација",null,null,null,null,null,null,null,null,null,null,null,null,null,null,null,null,{"$f":"UnObr5!D67","v":0},null,null,null,null,{"$f":"UnObr5!E67","v":0},null,null,null,null,null,{"$f":"UnObr5!F67","v":0},null,null,null,null,{"$f":"UnObr5!G67","v":0},null,null,null,null,{"$f":"UnObr5!H67","v":0},null,null,null,null,{"$f":"UnObr5!I67","v":0},null,null,null,{"$f":"UnObr5!J67","v":0},null,null,null,null,{"$f":"UnObr5!K67","v":0}]
[5064,null,null,732300,null,null,null,"Текуће помоћи од ЕУ",null,null,null,null,null,null,null,null,null,null,null,null,null,null,null,null,{"$f":"UnObr5!D68","v":0},null,null,null,null,{"$f":"UnObr5!E68","v":0},null,null,null,null,null,{"$f":"UnObr5!F68","v":0},null,null,null,null,{"$f":"UnObr5!G68","v":0},null,null,null,null,{"$f":"UnObr5!H68","v":0},null,null,null,null,{"$f":"UnObr5!I68","v":0},null,null,null,{"$f":"UnObr5!J68","v":0},null,null,null,null,{"$f":"UnObr5!K68","v":0}]
[5065,null,null,732400,null,null,null,"Капиталне помоћи од ЕУ",null,null,null,null,null,null,null,null,null,null,null,null,null,null,null,null,{"$f":"UnObr5!D69","v":0},null,null,null,null,{"$f":"UnObr5!E69","v":0},null,null,null,null,null,{"$f":"UnObr5!F69","v":0},null,null,null,null,{"$f":"UnObr5!G69","v":0},null,null,null,null,{"$f":"UnObr5!H69","v":0},null,null,null,null,{"$f":"UnObr5!I69","v":0},null,null,null,{"$f":"UnObr5!J69","v":0},null,null,null,null,{"$f":"UnObr5!K69","v":0}]
[5066,null,null,733000,null,null,null,"ТРАНСФЕРИ ОД ДРУГИХ НИВОА \nВЛАСТИ (5067 + 5068)",null,null,null,null,null,null,null,null,null,null,null,null,null,null,null,null,{"$f":"UnObr5!D70","v":12000},null,null,null,null,{"$f":"UnObr5!E70","v":11436},null,null,null,null,null,{"$f":"UnObr5!F70","v":11436},null,null,null,null,{"$f":"UnObr5!G70","v":0},null,null,null,null,{"$f":"UnObr5!H70","v":0},null,null,null,null,{"$f":"UnObr5!I70","v":0},null,null,null,{"$f":"UnObr5!J70","v":0},null,null,null,null,{"$f":"UnObr5!K70","v":0}]
[5067,null,null,733100,null,null,null,"Текући трансфери од других нивоа власти",null,null,null,null,null,null,null,null,null,null,null,null,null,null,null,null,{"$f":"UnObr5!D71","v":12000},null,null,null,null,{"$f":"UnObr5!E71","v":11436},null,null,null,null,null,{"$f":"UnObr5!F71","v":11436},null,null,null,null,{"$f":"UnObr5!G71","v":0},null,null,null,null,{"$f":"UnObr5!H71","v":0},null,null,null,null,{"$f":"UnObr5!I71","v":0},null,null,null,{"$f":"UnObr5!J71","v":0},null,null,null,null,{"$f":"UnObr5!K71","v":0}]
[5068,null,null,733200,null,null,null,"Капитални трансфери од других нивоа власти",null,null,null,null,null,null,null,null,null,null,null,null,null,null,null,null,{"$f":"UnObr5!D72","v":0},null,null,null,null,{"$f":"UnObr5!E72","v":0},null,null,null,null,null,{"$f":"UnObr5!F72","v":0},null,null,null,null,{"$f":"UnObr5!G72","v":0},null,null,null,null,{"$f":"UnObr5!H72","v":0},null,null,null,null,{"$f":"UnObr5!I72","v":0},null,null,null,{"$f":"UnObr5!J72","v":0},null,null,null,null,{"$f":"UnObr5!K72","v":0}]
[5069,null,null,740000,null,null,null,"ДРУГИ ПРИХОДИ \n(5070 + 5077 + 5082 + 5089 + 5092)",null,null,null,null,null,null,null,null,null,null,null,null,null,null,null,null,{"$f":"UnObr5!D73","v":0},null,null,null,null,{"$f":"UnObr5!E73","v":351},null,null,null,null,null,{"$f":"UnObr5!F73","v":0},null,null,null,null,{"$f":"UnObr5!G73","v":0},null,null,null,null,{"$f":"UnObr5!H73","v":0},null,null,null,null,{"$f":"UnObr5!I73","v":0},null,null,null,{"$f":"UnObr5!J73","v":0},null,null,null,null,{"$f":"UnObr5!K73","v":351}]
[5070,null,null,741000,null,null,null,"ПРИХОДИ ОД ИМОВИНЕ (од 5071 до 5076)",null,null,null,null,null,null,null,null,null,null,null,null,null,null,null,null,{"$f":"UnObr5!D74","v":0},null,null,null,null,{"$f":"UnObr5!E74","v":0},null,null,null,null,null,{"$f":"UnObr5!F74","v":0},null,null,null,null,{"$f":"UnObr5!G74","v":0},null,null,null,null,{"$f":"UnObr5!H74","v":0},null,null,null,null,{"$f":"UnObr5!I74","v":0},null,null,null,{"$f":"UnObr5!J74","v":0},null,null,null,null,{"$f":"UnObr5!K74","v":0}]
[5071,null,null,741100,null,null,null,"Камате",null,null,null,null,null,null,null,null,null,null,null,null,null,null,null,null,{"$f":"UnObr5!D75","v":0},null,null,null,null,{"$f":"UnObr5!E75","v":0},null,null,null,null,null,{"$f":"UnObr5!F75","v":0},null,null,null,null,{"$f":"UnObr5!G75","v":0},null,null,null,null,{"$f":"UnObr5!H75","v":0},null,null,null,null,{"$f":"UnObr5!I75","v":0},null,null,null,{"$f":"UnObr5!J75","v":0},null,null,null,null,{"$f":"UnObr5!K75","v":0}]
[5072,null,null,741200,null,null,null,"Дивиденде",null,null,null,null,null,null,null,null,null,null,null,null,null,null,null,null,{"$f":"UnObr5!D76","v":0},null,null,null,null,{"$f":"UnObr5!E76","v":0},null,null,null,null,null,{"$f":"UnObr5!F76","v":0},null,null,null,null,{"$f":"UnObr5!G76","v":0},null,null,null,null,{"$f":"UnObr5!H76","v":0},null,null,null,null,{"$f":"UnObr5!I76","v":0},null,null,null,{"$f":"UnObr5!J76","v":0},null,null,null,null,{"$f":"UnObr5!K76","v":0}]
["Ознака\nОП",null,null,"Број\nконта",null,null,null,"Опис",null,null,null,null,null,null,null,null,null,null,null,null,null,null,null,null,"Износ\nпланираних прихода и примања",null,null,null,null,"Износ остварених прихода и примања"]
[null,null,null,null,null,null,null,null,null,null,null,null,null,null,null,null,null,null,null,null,null,null,null,null,null,null,null,null,null,"Укупно \n(од 6 до 11)",null,null,null,null,null,"Приходи и примања из буџета",null,null,null,null,null,null,null,null,null,null,null,null,null,null,null,null,null,null,"Из\nдонација и помоћи",null,null,null,null,"Из \nосталих\nизвора"]
[null,null,null,null,null,null,null,null,null,null,null,null,null,null,null,null,null,null,null,null,null,null,null,null,null,null,null,null,null,null,null,null,null,null,null,"Републике",null,null,null,null,"Аутономне\nпокрајине",null,null,null,null,"Општине /\nграда",null,null,null,null,"ООСО"]
[]
[1,null,null,2,null,null,null,3,null,null,null,null,null,null,null,null,null,null,null,null,null,null,null,null,4,null,null,null,null,5,null,null,null,null,null,6,null,null,null,null,7,null,null,null,null,8,null,null,null,null,9,null,null,null,10,null,null,null,null,11]
[5073,null,null,741300,null,null,null,"Повлачење прихода од квази корпорација",null,null,null,null,null,null,null,null,null,null,null,null,null,null,null,null,{"$f":"UnObr5!D77","v":0},null,null,null,null,{"$f":"UnObr5!E77","v":0},null,null,null,null,null,{"$f":"UnObr5!F77","v":0},null,null,null,null,{"$f":"UnObr5!G77","v":0},null,null,null,null,{"$f":"UnObr5!H77","v":0},null,null,null,null,{"$f":"UnObr5!I77","v":0},null,null,null,{"$f":"UnObr5!J77","v":0},null,null,null,null,{"$f":"UnObr5!K77","v":0}]
[5074,null,null,741400,null,null,null,"Приход од имовине који припада имаоцима \nполиса осигурања",null,null,null,null,null,null,null,null,null,null,null,null,null,null,null,null,{"$f":"UnObr5!D78","v":0},null,null,null,null,{"$f":"UnObr5!E78","v":0},null,null,null,null,null,{"$f":"UnObr5!F78","v":0},null,null,null,null,{"$f":"UnObr5!G78","v":0},null,null,null,null,{"$f":"UnObr5!H78","v":0},null,null,null,null,{"$f":"UnObr5!I78","v":0},null,null,null,{"$f":"UnObr5!J78","v":0},null,null,null,null,{"$f":"UnObr5!K78","v":0}]
[5075,null,null,741500,null,null,null,"Закуп непроизведене имовине",null,null,null,null,null,null,null,null,null,null,null,null,null,null,null,null,{"$f":"UnObr5!D79","v":0},null,null,null,null,{"$f":"UnObr5!E79","v":0},null,null,null,null,null,{"$f":"UnObr5!F79","v":0},null,null,null,null,{"$f":"UnObr5!G79","v":0},null,null,null,null,{"$f":"UnObr5!H79","v":0},null,null,null,null,{"$f":"UnObr5!I79","v":0},null,null,null,{"$f":"UnObr5!J79","v":0},null,null,null,null,{"$f":"UnObr5!K79","v":0}]
[5076,null,null,741600,null,null,null,"Финансијске промене на финансијским \nлизинзима",null,null,null,null,null,null,null,null,null,null,null,null,null,null,null,null,{"$f":"UnObr5!D80","v":0},null,null,null,null,{"$f":"UnObr5!E80","v":0},null,null,null,null,null,{"$f":"UnObr5!F80","v":0},null,null,null,null,{"$f":"UnObr5!G80","v":0},null,null,null,null,{"$f":"UnObr5!H80","v":0},null,null,null,null,{"$f":"UnObr5!I80","v":0},null,null,null,{"$f":"UnObr5!J80","v":0},null,null,null,null,{"$f":"UnObr5!K80","v":0}]
[5077,null,null,742000,null,null,null,"ПРИХОДИ ОД ПРОДАЈЕ ДОБАРА И \nУСЛУГА (од 5078 до 5081)",null,null,null,null,null,null,null,null,null,null,null,null,null,null,null,null,{"$f":"UnObr5!D81","v":0},null,null,null,null,{"$f":"UnObr5!E81","v":351},null,null,null,null,null,{"$f":"UnObr5!F81","v":0},null,null,null,null,{"$f":"UnObr5!G81","v":0},null,null,null,null,{"$f":"UnObr5!H81","v":0},null,null,null,null,{"$f":"UnObr5!I81","v":0},null,null,null,{"$f":"UnObr5!J81","v":0},null,null,null,null,{"$f":"UnObr5!K81","v":351}]
[5078,null,null,742100,null,null,null,"Приходи од продаје добара и услуга или закупа \nод стране тржишних организација",null,null,null,null,null,null,null,null,null,null,null,null,null,null,null,null,{"$f":"UnObr5!D82","v":0},null,null,null,null,{"$f":"UnObr5!E82","v":28},null,null,null,null,null,{"$f":"UnObr5!F82","v":0},null,null,null,null,{"$f":"UnObr5!G82","v":0},null,null,null,null,{"$f":"UnObr5!H82","v":0},null,null,null,null,{"$f":"UnObr5!I82","v":0},null,null,null,{"$f":"UnObr5!J82","v":0},null,null,null,null,{"$f":"UnObr5!K82","v":28}]
[5079,null,null,742200,null,null,null,"Таксе и накнаде",null,null,null,null,null,null,null,null,null,null,null,null,null,null,null,null,{"$f":"UnObr5!D83","v":0},null,null,null,null,{"$f":"UnObr5!E83","v":0},null,null,null,null,null,{"$f":"UnObr5!F83","v":0},null,null,null,null,{"$f":"UnObr5!G83","v":0},null,null,null,null,{"$f":"UnObr5!H83","v":0},null,null,null,null,{"$f":"UnObr5!I83","v":0},null,null,null,{"$f":"UnObr5!J83","v":0},null,null,null,null,{"$f":"UnObr5!K83","v":0}]
[5080,null,null,742300,null,null,null,"Споредне продаје добара и услуга које врше\nдржавне нетржишне јединице",null,null,null,null,null,null,null,null,null,null,null,null,null,null,null,null,{"$f":"UnObr5!D84","v":0},null,null,null,null,{"$f":"UnObr5!E84","v":323},null,null,null,null,null,{"$f":"UnObr5!F84","v":0},null,null,null,null,{"$f":"UnObr5!G84","v":0},null,null,null,null,{"$f":"UnObr5!H84","v":0},null,null,null,null,{"$f":"UnObr5!I84","v":0},null,null,null,{"$f":"UnObr5!J84","v":0},null,null,null,null,{"$f":"UnObr5!K84","v":323}]
[5081,null,null,742400,null,null,null,"Импутиране продаје добара и услуга",null,null,null,null,null,null,null,null,null,null,null,null,null,null,null,null,{"$f":"UnObr5!D85","v":0},null,null,null,null,{"$f":"UnObr5!E85","v":0},null,null,null,null,null,{"$f":"UnObr5!F85","v":0},null,null,null,null,{"$f":"UnObr5!G85","v":0},null,null,null,null,{"$f":"UnObr5!H85","v":0},null,null,null,null,{"$f":"UnObr5!I85","v":0},null,null,null,{"$f":"UnObr5!J85","v":0},null,null,null,null,{"$f":"UnObr5!K85","v":0}]
[5082,null,null,743000,null,null,null,"НОВЧАНЕ КАЗНЕ И ОДУЗЕТА \nИМОВИНСКА КОРИСТ (од 5083 до 5088)",null,null,null,null,null,null,null,null,null,null,null,null,null,null,null,null,{"$f":"UnObr5!D86","v":0},null,null,null,null,{"$f":"UnObr5!E86","v":0},null,null,null,null,null,{"$f":"UnObr5!F86","v":0},null,null,null,null,{"$f":"UnObr5!G86","v":0},null,null,null,null,{"$f":"UnObr5!H86","v":0},null,null,null,null,{"$f":"UnObr5!I86","v":0},null,null,null,{"$f":"UnObr5!J86","v":0},null,null,null,null,{"$f":"UnObr5!K86","v":0}]
[5083,null,null,743100,null,null,null,"Приходи од новчаних казни за кривична дела",null,null,null,null,null,null,null,null,null,null,null,null,null,null,null,null,{"$f":"UnObr5!D87","v":0},null,null,null,null,{"$f":"UnObr5!E87","v":0},null,null,null,null,null,{"$f":"UnObr5!F87","v":0},null,null,null,null,{"$f":"UnObr5!G87","v":0},null,null,null,null,{"$f":"UnObr5!H87","v":0},null,null,null,null,{"$f":"UnObr5!I87","v":0},null,null,null,{"$f":"UnObr5!J87","v":0},null,null,null,null,{"$f":"UnObr5!K87","v":0}]
[5084,null,null,743200,null,null,null,"Приходи од новчаних казни за привредне \nпреступе",null,null,null,null,null,null,null,null,null,null,null,null,null,null,null,null,{"$f":"UnObr5!D88","v":0},null,null,null,null,{"$f":"UnObr5!E88","v":0},null,null,null,null,null,{"$f":"UnObr5!F88","v":0},null,null,null,null,{"$f":"UnObr5!G88","v":0},null,null,null,null,{"$f":"UnObr5!H88","v":0},null,null,null,null,{"$f":"UnObr5!I88","v":0},null,null,null,{"$f":"UnObr5!J88","v":0},null,null,null,null,{"$f":"UnObr5!K88","v":0}]
[5085,null,null,743300,null,null,null,"Приходи од новчаних казни за прекршаје",null,null,null,null,null,null,null,null,null,null,null,null,null,null,null,null,{"$f":"UnObr5!D89","v":0},null,null,null,null,{"$f":"UnObr5!E89","v":0},null,null,null,null,null,{"$f":"UnObr5!F89","v":0},null,null,null,null,{"$f":"UnObr5!G89","v":0},null,null,null,null,{"$f":"UnObr5!H89","v":0},null,null,null,null,{"$f":"UnObr5!I89","v":0},null,null,null,{"$f":"UnObr5!J89","v":0},null,null,null,null,{"$f":"UnObr5!K89","v":0}]
[5086,null,null,743400,null,null,null,"Приходи од пенала",null,null,null,null,null,null,null,null,null,null,null,null,null,null,null,null,{"$f":"UnObr5!D90","v":0},null,null,null,null,{"$f":"UnObr5!E90","v":0},null,null,null,null,null,{"$f":"UnObr5!F90","v":0},null,null,null,null,{"$f":"UnObr5!G90","v":0},null,null,null,null,{"$f":"UnObr5!H90","v":0},null,null,null,null,{"$f":"UnObr5!I90","v":0},null,null,null,{"$f":"UnObr5!J90","v":0},null,null,null,null,{"$f":"UnObr5!K90","v":0}]
[5087,null,null,743500,null,null,null,"Приходи од одузете имовинске користи",null,null,null,null,null,null,null,null,null,null,null,null,null,null,null,null,{"$f":"UnObr5!D91","v":0},null,null,null,null,{"$f":"UnObr5!E91","v":0},null,null,null,null,null,{"$f":"UnObr5!F91","v":0},null,null,null,null,{"$f":"UnObr5!G91","v":0},null,null,null,null,{"$f":"UnObr5!H91","v":0},null,null,null,null,{"$f":"UnObr5!I91","v":0},null,null,null,{"$f":"UnObr5!J91","v":0},null,null,null,null,{"$f":"UnObr5!K91","v":0}]
[5088,null,null,743900,null,null,null,"Остале новчане казне, пенали и приходи од\nодузете имовинске користи",null,null,null,null,null,null,null,null,null,null,null,null,null,null,null,null,{"$f":"UnObr5!D92","v":0},null,null,null,null,{"$f":"UnObr5!E92","v":0},null,null,null,null,null,{"$f":"UnObr5!F92","v":0},null,null,null,null,{"$f":"UnObr5!G92","v":0},null,null,null,null,{"$f":"UnObr5!H92","v":0},null,null,null,null,{"$f":"UnObr5!I92","v":0},null,null,null,{"$f":"UnObr5!J92","v":0},null,null,null,null,{"$f":"UnObr5!K92","v":0}]
[5089,null,null,744000,null,null,null,"ДОБРОВОЉНИ ТРАНСФЕРИ ОД \nФИЗИЧКИХ И ПРАВНИХ ЛИЦА \n(5090 + 5091)",null,null,null,null,null,null,null,null,null,null,null,null,null,null,null,null,{"$f":"UnObr5!D93","v":0},null,null,null,null,{"$f":"UnObr5!E93","v":0},null,null,null,null,null,{"$f":"UnObr5!F93","v":0},null,null,null,null,{"$f":"UnObr5!G93","v":0},null,null,null,null,{"$f":"UnObr5!H93","v":0},null,null,null,null,{"$f":"UnObr5!I93","v":0},null,null,null,{"$f":"UnObr5!J93","v":0},null,null,null,null,{"$f":"UnObr5!K93","v":0}]
[5090,null,null,744100,null,null,null,"Текући добровољни трансфери од физичких и \nправних лица",null,null,null,null,null,null,null,null,null,null,null,null,null,null,null,null,{"$f":"UnObr5!D94","v":0},null,null,null,null,{"$f":"UnObr5!E94","v":0},null,null,null,null,null,{"$f":"UnObr5!F94","v":0},null,null,null,null,{"$f":"UnObr5!G94","v":0},null,null,null,null,{"$f":"UnObr5!H94","v":0},null,null,null,null,{"$f":"UnObr5!I94","v":0},null,null,null,{"$f":"UnObr5!J94","v":0},null,null,null,null,{"$f":"UnObr5!K94","v":0}]
[5091,null,null,744200,null,null,null,"Капитални добровољни трансфери од физичких \nи правних лица",null,null,null,null,null,null,null,null,null,null,null,null,null,null,null,null,{"$f":"UnObr5!D95","v":0},null,null,null,null,{"$f":"UnObr5!E95","v":0},null,null,null,null,null,{"$f":"UnObr5!F95","v":0},null,null,null,null,{"$f":"UnObr5!G95","v":0},null,null,null,null,{"$f":"UnObr5!H95","v":0},null,null,null,null,{"$f":"UnObr5!I95","v":0},null,null,null,{"$f":"UnObr5!J95","v":0},null,null,null,null,{"$f":"UnObr5!K95","v":0}]
[5092,null,null,745000,null,null,null,"МЕШОВИТИ И НЕОДРЕЂЕНИ ПРИХОДИ (5093)",null,null,null,null,null,null,null,null,null,null,null,null,null,null,null,null,{"$f":"UnObr5!D96","v":0},null,null,null,null,{"$f":"UnObr5!E96","v":0},null,null,null,null,null,{"$f":"UnObr5!F96","v":0},null,null,null,null,{"$f":"UnObr5!G96","v":0},null,null,null,null,{"$f":"UnObr5!H96","v":0},null,null,null,null,{"$f":"UnObr5!I96","v":0},null,null,null,{"$f":"UnObr5!J96","v":0},null,null,null,null,{"$f":"UnObr5!K96","v":0}]
[5093,null,null,745100,null,null,null,"Мешовити и неодређени приходи",null,null,null,null,null,null,null,null,null,null,null,null,null,null,null,null,{"$f":"UnObr5!D97","v":0},null,null,null,null,{"$f":"UnObr5!E97","v":0},null,null,null,null,null,{"$f":"UnObr5!F97","v":0},null,null,null,null,{"$f":"UnObr5!G97","v":0},null,null,null,null,{"$f":"UnObr5!H97","v":0},null,null,null,null,{"$f":"UnObr5!I97","v":0},null,null,null,{"$f":"UnObr5!J97","v":0},null,null,null,null,{"$f":"UnObr5!K97","v":0}]
["Ознака\nОП",null,null,"Број\nконта",null,null,null,"Опис",null,null,null,null,null,null,null,null,null,null,null,null,null,null,null,null,"Износ\nпланираних прихода и примања",null,null,null,null,"Износ остварених прихода и примања"]
[null,null,null,null,null,null,null,null,null,null,null,null,null,null,null,null,null,null,null,null,null,null,null,null,null,null,null,null,null,"Укупно \n(од 6 до 11)",null,null,null,null,null,"Приходи и примања из буџета",null,null,null,null,null,null,null,null,null,null,null,null,null,null,null,null,null,null,"Из\nдонација и помоћи",null,null,null,null,"Из \nосталих\nизвора"]
[null,null,null,null,null,null,null,null,null,null,null,null,null,null,null,null,null,null,null,null,null,null,null,null,null,null,null,null,null,null,null,null,null,null,null,"Републике",null,null,null,null,"Аутономне\nпокрајине",null,null,null,null,"Општине /\nграда",null,null,null,null,"ООСО"]
[]
[1,null,null,2,null,null,null,3,null,null,null,null,null,null,null,null,null,null,null,null,null,null,null,null,4,null,null,null,null,5,null,null,null,null,null,6,null,null,null,null,7,null,null,null,null,8,null,null,null,null,9,null,null,null,10,null,null,null,null,11]
[5094,null,null,770000,null,null,null,"МЕМОРАНДУМСКЕ СТАВКЕ ЗА РЕФУНДАЦИЈУ РАСХОДА (5095 + 5097)",null,null,null,null,null,null,null,null,null,null,null,null,null,null,null,null,{"$f":"UnObr5!D98","v":0},null,null,null,null,{"$f":"UnObr5!E98","v":648},null,null,null,null,null,{"$f":"UnObr5!F98","v":0},null,null,null,null,{"$f":"UnObr5!G98","v":0},null,null,null,null,{"$f":"UnObr5!H98","v":0},null,null,null,null,{"$f":"UnObr5!I98","v":648},null,null,null,{"$f":"UnObr5!J98","v":0},null,null,null,null,{"$f":"UnObr5!K98","v":0}]
[5095,null,null,771000,null,null,null,"МЕМОРАНДУМСКЕ СТАВКЕ ЗА РЕФУНДАЦИЈУ РАСХОДА (5096)",null,null,null,null,null,null,null,null,null,null,null,null,null,null,null,null,{"$f":"UnObr5!D99","v":0},null,null,null,null,{"$f":"UnObr5!E99","v":0},null,null,null,null,null,{"$f":"UnObr5!F99","v":0},null,null,null,null,{"$f":"UnObr5!G99","v":0},null,null,null,null,{"$f":"UnObr5!H99","v":0},null,null,null,null,{"$f":"UnObr5!I99","v":0},null,null,null,{"$f":"UnObr5!J99","v":0},null,null,null,null,{"$f":"UnObr5!K99","v":0}]
[5096,null,null,771100,null,null,null,"Меморандумске ставке за рефундацију расхода",null,null,null,null,null,null,null,null,null,null,null,null,null,null,null,null,{"$f":"UnObr5!D100","v":0},null,null,null,null,{"$f":"UnObr5!E100","v":0},null,null,null,null,null,{"$f":"UnObr5!F100","v":0},null,null,null,null,{"$f":"UnObr5!G100","v":0},null,null,null,null,{"$f":"UnObr5!H100","v":0},null,null,null,null,{"$f":"UnObr5!I100","v":0},null,null,null,{"$f":"UnObr5!J100","v":0},null,null,null,null,{"$f":"UnObr5!K100","v":0}]
[5097,null,null,772000,null,null,null,"МЕМОРАНДУМСКЕ СТАВКЕ ЗА РЕФУНДАЦИЈУ РАСХОДА ИЗ \nПРЕТХОДНЕ ГОДИНЕ (5098)",null,null,null,null,null,null,null,null,null,null,null,null,null,null,null,null,{"$f":"UnObr5!D101","v":0},null,null,null,null,{"$f":"UnObr5!E101","v":648},null,null,null,null,null,{"$f":"UnObr5!F101","v":0},null,null,null,null,{"$f":"UnObr5!G101","v":0},null,null,null,null,{"$f":"UnObr5!H101","v":0},null,null,null,null,{"$f":"UnObr5!I101","v":648},null,null,null,{"$f":"UnObr5!J101","v":0},null,null,null,null,{"$f":"UnObr5!K101","v":0}]
[5098,null,null,772100,null,null,null,"Меморандумске ставке за рефундацију расхода \nиз претходне године",null,null,null,null,null,null,null,null,null,null,null,null,null,null,null,null,{"$f":"UnObr5!D102","v":0},null,null,null,null,{"$f":"UnObr5!E102","v":648},null,null,null,null,null,{"$f":"UnObr5!F102","v":0},null,null,null,null,{"$f":"UnObr5!G102","v":0},null,null,null,null,{"$f":"UnObr5!H102","v":0},null,null,null,null,{"$f":"UnObr5!I102","v":648},null,null,null,{"$f":"UnObr5!J102","v":0},null,null,null,null,{"$f":"UnObr5!K102","v":0}]
[5099,null,null,780000,null,null,null,"ТРАНСФЕРИ ИЗМЕЂУ БУЏЕТСКИХ КОРИСНИКА НА ИСТОМ НИВОУ \n(5100)",null,null,null,null,null,null,null,null,null,null,null,null,null,null,null,null,{"$f":"UnObr5!D103","v":0},null,null,null,null,{"$f":"UnObr5!E103","v":0},null,null,null,null,null,{"$f":"UnObr5!F103","v":0},null,null,null,null,{"$f":"UnObr5!G103","v":0},null,null,null,null,{"$f":"UnObr5!H103","v":0},null,null,null,null,{"$f":"UnObr5!I103","v":0},null,null,null,{"$f":"UnObr5!J103","v":0},null,null,null,null,{"$f":"UnObr5!K103","v":0}]
[5100,null,null,781000,null,null,null,"ТРАНСФЕРИ ИЗМЕЂУ БУЏЕТСКИХ КОРИСНИКА НА ИСТОМ НИВОУ \n(5101 + 5102)",null,null,null,null,null,null,null,null,null,null,null,null,null,null,null,null,{"$f":"UnObr5!D104","v":0},null,null,null,null,{"$f":"UnObr5!E104","v":0},null,null,null,null,null,{"$f":"UnObr5!F104","v":0},null,null,null,null,{"$f":"UnObr5!G104","v":0},null,null,null,null,{"$f":"UnObr5!H104","v":0},null,null,null,null,{"$f":"UnObr5!I104","v":0},null,null,null,{"$f":"UnObr5!J104","v":0},null,null,null,null,{"$f":"UnObr5!K104","v":0}]
[5101,null,null,781100,null,null,null,"Трансфери између буџетских корисника на \nистом нивоу",null,null,null,null,null,null,null,null,null,null,null,null,null,null,null,null,{"$f":"UnObr5!D105","v":0},null,null,null,null,{"$f":"UnObr5!E105","v":0},null,null,null,null,null,{"$f":"UnObr5!F105","v":0},null,null,null,null,{"$f":"UnObr5!G105","v":0},null,null,null,null,{"$f":"UnObr5!H105","v":0},null,null,null,null,{"$f":"UnObr5!I105","v":0},null,null,null,{"$f":"UnObr5!J105","v":0},null,null,null,null,{"$f":"UnObr5!K105","v":0}]
[5102,null,null,781300,null,null,null,"Трансфери између организација обавезног социјалног осигурања",null,null,null,null,null,null,null,null,null,null,null,null,null,null,null,null,{"$f":"UnObr5!D106","v":0},null,null,null,null,{"$f":"UnObr5!E106","v":0},null,null,null,null,null,{"$f":"UnObr5!F106","v":0},null,null,null,null,{"$f":"UnObr5!G106","v":0},null,null,null,null,{"$f":"UnObr5!H106","v":0},null,null,null,null,{"$f":"UnObr5!I106","v":0},null,null,null,{"$f":"UnObr5!J106","v":0},null,null,null,null,{"$f":"UnObr5!K106","v":0}]
[5103,null,null,790000,null,null,null,"ПРИХОДИ ИЗ БУЏЕТА (5104)",null,null,null,null,null,null,null,null,null,null,null,null,null,null,null,null,{"$f":"UnObr5!D107","v":147617},null,null,null,null,{"$f":"UnObr5!E107","v":144017},null,null,null,null,null,{"$f":"UnObr5!F107","v":0},null,null,null,null,{"$f":"UnObr5!G107","v":0},null,null,null,null,{"$f":"UnObr5!H107","v":144017},null,null,null,null,{"$f":"UnObr5!I107","v":0},null,null,null,{"$f":"UnObr5!J107","v":0},null,null,null,null,{"$f":"UnObr5!K107","v":0}]
[5104,null,null,791000,null,null,null,"ПРИХОДИ ИЗ БУЏЕТА (5105)",null,null,null,null,null,null,null,null,null,null,null,null,null,null,null,null,{"$f":"UnObr5!D108","v":147617},null,null,null,null,{"$f":"UnObr5!E108","v":144017},null,null,null,null,null,{"$f":"UnObr5!F108","v":0},null,null,null,null,{"$f":"UnObr5!G108","v":0},null,null,null,null,{"$f":"UnObr5!H108","v":144017},null,null,null,null,{"$f":"UnObr5!I108","v":0},null,null,null,{"$f":"UnObr5!J108","v":0},null,null,null,null,{"$f":"UnObr5!K108","v":0}]
[5105,null,null,791100,null,null,null,"Приходи из буџета",null,null,null,null,null,null,null,null,null,null,null,null,null,null,null,null,{"$f":"UnObr5!D109","v":147617},null,null,null,null,{"$f":"UnObr5!E109","v":144017},null,null,null,null,null,{"$f":"UnObr5!F109","v":0},null,null,null,null,{"$f":"UnObr5!G109","v":0},null,null,null,null,{"$f":"UnObr5!H109","v":144017},null,null,null,null,{"$f":"UnObr5!I109","v":0},null,null,null,{"$f":"UnObr5!J109","v":0},null,null,null,null,{"$f":"UnObr5!K109","v":0}]
[5106,null,null,800000,null,null,null,"ПРИМАЊА ОД ПРОДАЈЕ \nНЕФИНАНСИЈСКЕ ИМОВИНЕ\n(5107 + 5114 + 5121 + 5124)",null,null,null,null,null,null,null,null,null,null,null,null,null,null,null,null,{"$f":"UnObr5!D110","v":0},null,null,null,null,{"$f":"UnObr5!E110","v":0},null,null,null,null,null,{"$f":"UnObr5!F110","v":0},null,null,null,null,{"$f":"UnObr5!G110","v":0},null,null,null,null,{"$f":"UnObr5!H110","v":0},null,null,null,null,{"$f":"UnObr5!I110","v":0},null,null,null,{"$f":"UnObr5!J110","v":0},null,null,null,null,{"$f":"UnObr5!K110","v":0}]
[5107,null,null,810000,null,null,null,"ПРИМАЊА ОД ПРОДАЈЕ ОСНОВНИХ СРЕДСТАВА (5108 + 5110 + 5112)",null,null,null,null,null,null,null,null,null,null,null,null,null,null,null,null,{"$f":"UnObr5!D111","v":0},null,null,null,null,{"$f":"UnObr5!E111","v":0},null,null,null,null,null,{"$f":"UnObr5!F111","v":0},null,null,null,null,{"$f":"UnObr5!G111","v":0},null,null,null,null,{"$f":"UnObr5!H111","v":0},null,null,null,null,{"$f":"UnObr5!I111","v":0},null,null,null,{"$f":"UnObr5!J111","v":0},null,null,null,null,{"$f":"UnObr5!K111","v":0}]
[5108,null,null,811000,null,null,null,"ПРИМАЊА ОД ПРОДАЈЕ \nНЕПОКРЕТНОСТИ (5109)",null,null,null,null,null,null,null,null,null,null,null,null,null,null,null,null,{"$f":"UnObr5!D112","v":0},null,null,null,null,{"$f":"UnObr5!E112","v":0},null,null,null,null,null,{"$f":"UnObr5!F112","v":0},null,null,null,null,{"$f":"UnObr5!G112","v":0},null,null,null,null,{"$f":"UnObr5!H112","v":0},null,null,null,null,{"$f":"UnObr5!I112","v":0},null,null,null,{"$f":"UnObr5!J112","v":0},null,null,null,null,{"$f":"UnObr5!K112","v":0}]
[5109,null,null,811100,null,null,null,"Примања од продаје непокретности",null,null,null,null,null,null,null,null,null,null,null,null,null,null,null,null,{"$f":"UnObr5!D113","v":0},null,null,null,null,{"$f":"UnObr5!E113","v":0},null,null,null,null,null,{"$f":"UnObr5!F113","v":0},null,null,null,null,{"$f":"UnObr5!G113","v":0},null,null,null,null,{"$f":"UnObr5!H113","v":0},null,null,null,null,{"$f":"UnObr5!I113","v":0},null,null,null,{"$f":"UnObr5!J113","v":0},null,null,null,null,{"$f":"UnObr5!K113","v":0}]
[5110,null,null,812000,null,null,null,"ПРИМАЊА ОД ПРОДАЈЕ ПОКРЕТНЕ ИМОВИНЕ (5111)",null,null,null,null,null,null,null,null,null,null,null,null,null,null,null,null,{"$f":"UnObr5!D114","v":0},null,null,null,null,{"$f":"UnObr5!E114","v":0},null,null,null,null,null,{"$f":"UnObr5!F114","v":0},null,null,null,null,{"$f":"UnObr5!G114","v":0},null,null,null,null,{"$f":"UnObr5!H114","v":0},null,null,null,null,{"$f":"UnObr5!I114","v":0},null,null,null,{"$f":"UnObr5!J114","v":0},null,null,null,null,{"$f":"UnObr5!K114","v":0}]
[5111,null,null,812100,null,null,null,"Примања од продаје покретне имовине",null,null,null,null,null,null,null,null,null,null,null,null,null,null,null,null,{"$f":"UnObr5!D115","v":0},null,null,null,null,{"$f":"UnObr5!E115","v":0},null,null,null,null,null,{"$f":"UnObr5!F115","v":0},null,null,null,null,{"$f":"UnObr5!G115","v":0},null,null,null,null,{"$f":"UnObr5!H115","v":0},null,null,null,null,{"$f":"UnObr5!I115","v":0},null,null,null,{"$f":"UnObr5!J115","v":0},null,null,null,null,{"$f":"UnObr5!K115","v":0}]
[5112,null,null,813000,null,null,null,"ПРИМАЊА ОД ПРОДАЈЕ ОСТАЛИХ ОСНОВНИХ СРЕДСТАВА (5113)",null,null,null,null,null,null,null,null,null,null,null,null,null,null,null,null,{"$f":"UnObr5!D116","v":0},null,null,null,null,{"$f":"UnObr5!E116","v":0},null,null,null,null,null,{"$f":"UnObr5!F116","v":0},null,null,null,null,{"$f":"UnObr5!G116","v":0},null,null,null,null,{"$f":"UnObr5!H116","v":0},null,null,null,null,{"$f":"UnObr5!I116","v":0},null,null,null,{"$f":"UnObr5!J116","v":0},null,null,null,null,{"$f":"UnObr5!K116","v":0}]
[5113,null,null,813100,null,null,null,"Примања од продаје осталих основних \nсредстава",null,null,null,null,null,null,null,null,null,null,null,null,null,null,null,null,{"$f":"UnObr5!D117","v":0},null,null,null,null,{"$f":"UnObr5!E117","v":0},null,null,null,null,null,{"$f":"UnObr5!F117","v":0},null,null,null,null,{"$f":"UnObr5!G117","v":0},null,null,null,null,{"$f":"UnObr5!H117","v":0},null,null,null,null,{"$f":"UnObr5!I117","v":0},null,null,null,{"$f":"UnObr5!J117","v":0},null,null,null,null,{"$f":"UnObr5!K117","v":0}]
["Ознака\nОП",null,null,"Број\nконта",null,null,null,"Опис",null,null,null,null,null,null,null,null,null,null,null,null,null,null,null,null,"Износ\nпланираних прихода и примања",null,null,null,null,"Износ остварених прихода и примања"]
[null,null,null,null,null,null,null,null,null,null,null,null,null,null,null,null,null,null,null,null,null,null,null,null,null,null,null,null,null,"Укупно \n(од 6 до 11)",null,null,null,null,null,"Приходи и примања из буџета",null,null,null,null,null,null,null,null,null,null,null,null,null,null,null,null,null,null,"Из\nдонација и помоћи",null,null,null,null,"Из \nосталих\nизвора"]
[null,null,null,null,null,null,null,null,null,null,null,null,null,null,null,null,null,null,null,null,null,null,null,null,null,null,null,null,null,null,null,null,null,null,null,"Републике",null,null,null,null,"Аутономне\nпокрајине",null,null,null,null,"Општине /\nграда",null,null,null,null,"ООСО"]
[]
[1,null,null,2,null,null,null,3,null,null,null,null,null,null,null,null,null,null,null,null,null,null,null,null,4,null,null,null,null,5,null,null,null,null,null,6,null,null,null,null,7,null,null,null,null,8,null,null,null,null,9,null,null,null,10,null,null,null,null,11]
[5114,null,null,820000,null,null,null,"ПРИМАЊА ОД ПРОДАЈЕ ЗАЛИХА \n(5115 + 5117 + 5119)",null,null,null,null,null,null,null,null,null,null,null,null,null,null,null,null,{"$f":"UnObr5!D118","v":0},null,null,null,null,{"$f":"UnObr5!E118","v":0},null,null,null,null,null,{"$f":"UnObr5!F118","v":0},null,null,null,null,{"$f":"UnObr5!G118","v":0},null,null,null,null,{"$f":"UnObr5!H118","v":0},null,null,null,null,{"$f":"UnObr5!I118","v":0},null,null,null,{"$f":"UnObr5!J118","v":0},null,null,null,null,{"$f":"UnObr5!K118","v":0}]
[5115,null,null,821000,null,null,null,"ПРИМАЊА ОД ПРОДАЈЕ РОБНИХ \nРЕЗЕРВИ (5116)",null,null,null,null,null,null,null,null,null,null,null,null,null,null,null,null,{"$f":"UnObr5!D119","v":0},null,null,null,null,{"$f":"UnObr5!E119","v":0},null,null,null,null,null,{"$f":"UnObr5!F119","v":0},null,null,null,null,{"$f":"UnObr5!G119","v":0},null,null,null,null,{"$f":"UnObr5!H119","v":0},null,null,null,null,{"$f":"UnObr5!I119","v":0},null,null,null,{"$f":"UnObr5!J119","v":0},null,null,null,null,{"$f":"UnObr5!K119","v":0}]
[5116,null,null,821100,null,null,null,"Примања од продаје робних резерви",null,null,null,null,null,null,null,null,null,null,null,null,null,null,null,null,{"$f":"UnObr5!D120","v":0},null,null,null,null,{"$f":"UnObr5!E120","v":0},null,null,null,null,null,{"$f":"UnObr5!F120","v":0},null,null,null,null,{"$f":"UnObr5!G120","v":0},null,null,null,null,{"$f":"UnObr5!H120","v":0},null,null,null,null,{"$f":"UnObr5!I120","v":0},null,null,null,{"$f":"UnObr5!J120","v":0},null,null,null,null,{"$f":"UnObr5!K120","v":0}]
[5117,null,null,822000,null,null,null,"ПРИМАЊА ОД ПРОДАЈЕ ЗАЛИХА ПРОИЗВОДЊЕ (5118)",null,null,null,null,null,null,null,null,null,null,null,null,null,null,null,null,{"$f":"UnObr5!D121","v":0},null,null,null,null,{"$f":"UnObr5!E121","v":0},null,null,null,null,null,{"$f":"UnObr5!F121","v":0},null,null,null,null,{"$f":"UnObr5!G121","v":0},null,null,null,null,{"$f":"UnObr5!H121","v":0},null,null,null,null,{"$f":"UnObr5!I121","v":0},null,null,null,{"$f":"UnObr5!J121","v":0},null,null,null,null,{"$f":"UnObr5!K121","v":0}]
[5118,null,null,822100,null,null,null,"Примања од продаје залиха производње",null,null,null,null,null,null,null,null,null,null,null,null,null,null,null,null,{"$f":"UnObr5!D122","v":0},null,null,null,null,{"$f":"UnObr5!E122","v":0},null,null,null,null,null,{"$f":"UnObr5!F122","v":0},null,null,null,null,{"$f":"UnObr5!G122","v":0},null,null,null,null,{"$f":"UnObr5!H122","v":0},null,null,null,null,{"$f":"UnObr5!I122","v":0},null,null,null,{"$f":"UnObr5!J122","v":0},null,null,null,null,{"$f":"UnObr5!K122","v":0}]
[5119,null,null,823000,null,null,null,"ПРИМАЊА ОД ПРОДАЈЕ РОБЕ ЗА ДАЉУ ПРОДАЈУ (5120)",null,null,null,null,null,null,null,null,null,null,null,null,null,null,null,null,{"$f":"UnObr5!D123","v":0},null,null,null,null,{"$f":"UnObr5!E123","v":0},null,null,null,null,null,{"$f":"UnObr5!F123","v":0},null,null,null,null,{"$f":"UnObr5!G123","v":0},null,null,null,null,{"$f":"UnObr5!H123","v":0},null,null,null,null,{"$f":"UnObr5!I123","v":0},null,null,null,{"$f":"UnObr5!J123","v":0},null,null,null,null,{"$f":"UnObr5!K123","v":0}]
[5120,null,null,823100,null,null,null,"Примања од продаје робе за даљу продају",null,null,null,null,null,null,null,null,null,null,null,null,null,null,null,null,{"$f":"UnObr5!D124","v":0},null,null,null,null,{"$f":"UnObr5!E124","v":0},null,null,null,null,null,{"$f":"UnObr5!F124","v":0},null,null,null,null,{"$f":"UnObr5!G124","v":0},null,null,null,null,{"$f":"UnObr5!H124","v":0},null,null,null,null,{"$f":"UnObr5!I124","v":0},null,null,null,{"$f":"UnObr5!J124","v":0},null,null,null,null,{"$f":"UnObr5!K124","v":0}]
[5121,null,null,830000,null,null,null,"ПРИМАЊА ОД ПРОДАЈЕ \nДРАГОЦЕНОСТИ (5122)",null,null,null,null,null,null,null,null,null,null,null,null,null,null,null,null,{"$f":"UnObr5!D125","v":0},null,null,null,null,{"$f":"UnObr5!E125","v":0},null,null,null,null,null,{"$f":"UnObr5!F125","v":0},null,null,null,null,{"$f":"UnObr5!G125","v":0},null,null,null,null,{"$f":"UnObr5!H125","v":0},null,null,null,null,{"$f":"UnObr5!I125","v":0},null,null,null,{"$f":"UnObr5!J125","v":0},null,null,null,null,{"$f":"UnObr5!K125","v":0}]
[5122,null,null,831000,null,null,null,"ПРИМАЊА ОД ПРОДАЈЕ \nДРАГОЦЕНОСТИ (5123)",null,null,null,null,null,null,null,null,null,null,null,null,null,null,null,null,{"$f":"UnObr5!D126","v":0},null,null,null,null,{"$f":"UnObr5!E126","v":0},null,null,null,null,null,{"$f":"UnObr5!F126","v":0},null,null,null,null,{"$f":"UnObr5!G126","v":0},null,null,null,null,{"$f":"UnObr5!H126","v":0},null,null,null,null,{"$f":"UnObr5!I126","v":0},null,null,null,{"$f":"UnObr5!J126","v":0},null,null,null,null,{"$f":"UnObr5!K126","v":0}]
[5123,null,null,831100,null,null,null,"Примања од продаје драгоцености",null,null,null,null,null,null,null,null,null,null,null,null,null,null,null,null,{"$f":"UnObr5!D127","v":0},null,null,null,null,{"$f":"UnObr5!E127","v":0},null,null,null,null,null,{"$f":"UnObr5!F127","v":0},null,null,null,null,{"$f":"UnObr5!G127","v":0},null,null,null,null,{"$f":"UnObr5!H127","v":0},null,null,null,null,{"$f":"UnObr5!I127","v":0},null,null,null,{"$f":"UnObr5!J127","v":0},null,null,null,null,{"$f":"UnObr5!K127","v":0}]
[5124,null,null,840000,null,null,null,"ПРИМАЊА ОД ПРОДАЈЕ ПРИРОДНЕ \nИМОВИНЕ (5125 + 5127 + 5129)",null,null,null,null,null,null,null,null,null,null,null,null,null,null,null,null,{"$f":"UnObr5!D128","v":0},null,null,null,null,{"$f":"UnObr5!E128","v":0},null,null,null,null,null,{"$f":"UnObr5!F128","v":0},null,null,null,null,{"$f":"UnObr5!G128","v":0},null,null,null,null,{"$f":"UnObr5!H128","v":0},null,null,null,null,{"$f":"UnObr5!I128","v":0},null,null,null,{"$f":"UnObr5!J128","v":0},null,null,null,null,{"$f":"UnObr5!K128","v":0}]
[5125,null,null,841000,null,null,null,"ПРИМАЊА ОД ПРОДАЈЕ ЗЕМЉИШТА \n(5126)",null,null,null,null,null,null,null,null,null,null,null,null,null,null,null,null,{"$f":"UnObr5!D129","v":0},null,null,null,null,{"$f":"UnObr5!E129","v":0},null,null,null,null,null,{"$f":"UnObr5!F129","v":0},null,null,null,null,{"$f":"UnObr5!G129","v":0},null,null,null,null,{"$f":"UnObr5!H129","v":0},null,null,null,null,{"$f":"UnObr5!I129","v":0},null,null,null,{"$f":"UnObr5!J129","v":0},null,null,null,null,{"$f":"UnObr5!K129","v":0}]
[5126,null,null,841100,null,null,null,"Примања од продаје земљишта",null,null,null,null,null,null,null,null,null,null,null,null,null,null,null,null,{"$f":"UnObr5!D130","v":0},null,null,null,null,{"$f":"UnObr5!E130","v":0},null,null,null,null,null,{"$f":"UnObr5!F130","v":0},null,null,null,null,{"$f":"UnObr5!G130","v":0},null,null,null,null,{"$f":"UnObr5!H130","v":0},null,null,null,null,{"$f":"UnObr5!I130","v":0},null,null,null,{"$f":"UnObr5!J130","v":0},null,null,null,null,{"$f":"UnObr5!K130","v":0}]
[5127,null,null,842000,null,null,null,"ПРИМАЊА ОД ПРОДАЈЕ ПОДЗЕМНИХ\nБЛАГА (5128)",null,null,null,null,null,null,null,null,null,null,null,null,null,null,null,null,{"$f":"UnObr5!D131","v":0},null,null,null,null,{"$f":"UnObr5!E131","v":0},null,null,null,null,null,{"$f":"UnObr5!F131","v":0},null,null,null,null,{"$f":"UnObr5!G131","v":0},null,null,null,null,{"$f":"UnObr5!H131","v":0},null,null,null,null,{"$f":"UnObr5!I131","v":0},null,null,null,{"$f":"UnObr5!J131","v":0},null,null,null,null,{"$f":"UnObr5!K131","v":0}]
[5128,null,null,842100,null,null,null,"Примања од продаје подземних блага",null,null,null,null,null,null,null,null,null,null,null,null,null,null,null,null,{"$f":"UnObr5!D132","v":0},null,null,null,null,{"$f":"UnObr5!E132","v":0},null,null,null,null,null,{"$f":"UnObr5!F132","v":0},null,null,null,null,{"$f":"UnObr5!G132","v":0},null,null,null,null,{"$f":"UnObr5!H132","v":0},null,null,null,null,{"$f":"UnObr5!I132","v":0},null,null,null,{"$f":"UnObr5!J132","v":0},null,null,null,null,{"$f":"UnObr5!K132","v":0}]
[5129,null,null,843000,null,null,null,"ПРИМАЊА ОД ПРОДАЈЕ ШУМА И ВОДА\n(5130)",null,null,null,null,null,null,null,null,null,null,null,null,null,null,null,null,{"$f":"UnObr5!D133","v":0},null,null,null,null,{"$f":"UnObr5!E133","v":0},null,null,null,null,null,{"$f":"UnObr5!F133","v":0},null,null,null,null,{"$f":"UnObr5!G133","v":0},null,null,null,null,{"$f":"UnObr5!H133","v":0},null,null,null,null,{"$f":"UnObr5!I133","v":0},null,null,null,{"$f":"UnObr5!J133","v":0},null,null,null,null,{"$f":"UnObr5!K133","v":0}]
[5130,null,null,843100,null,null,null,"Примања од продаје шума и вода",null,null,null,null,null,null,null,null,null,null,null,null,null,null,null,null,{"$f":"UnObr5!D134","v":0},null,null,null,null,{"$f":"UnObr5!E134","v":0},null,null,null,null,null,{"$f":"UnObr5!F134","v":0},null,null,null,null,{"$f":"UnObr5!G134","v":0},null,null,null,null,{"$f":"UnObr5!H134","v":0},null,null,null,null,{"$f":"UnObr5!I134","v":0},null,null,null,{"$f":"UnObr5!J134","v":0},null,null,null,null,{"$f":"UnObr5!K134","v":0}]
[5131,null,null,900000,null,null,null,"ПРИМАЊА ОД ЗАДУЖИВАЊА И \nПРОДАЈЕ ФИНАНСИЈСКЕ ИМОВИНЕ \n(5132 + 5151)",null,null,null,null,null,null,null,null,null,null,null,null,null,null,null,null,{"$f":"UnObr5!D135","v":0},null,null,null,null,{"$f":"UnObr5!E135","v":0},null,null,null,null,null,{"$f":"UnObr5!F135","v":0},null,null,null,null,{"$f":"UnObr5!G135","v":0},null,null,null,null,{"$f":"UnObr5!H135","v":0},null,null,null,null,{"$f":"UnObr5!I135","v":0},null,null,null,{"$f":"UnObr5!J135","v":0},null,null,null,null,{"$f":"UnObr5!K135","v":0}]
[5132,null,null,910000,null,null,null,"ПРИМАЊА ОД ЗАДУЖИВАЊА \n(5133 + 5143)",null,null,null,null,null,null,null,null,null,null,null,null,null,null,null,null,{"$f":"UnObr5!D136","v":0},null,null,null,null,{"$f":"UnObr5!E136","v":0},null,null,null,null,null,{"$f":"UnObr5!F136","v":0},null,null,null,null,{"$f":"UnObr5!G136","v":0},null,null,null,null,{"$f":"UnObr5!H136","v":0},null,null,null,null,{"$f":"UnObr5!I136","v":0},null,null,null,{"$f":"UnObr5!J136","v":0},null,null,null,null,{"$f":"UnObr5!K136","v":0}]
[5133,null,null,911000,null,null,null,"ПРИМАЊА ОД ДОМАЋИХ \nЗАДУЖИВАЊА (од 5134 до 5142)",null,null,null,null,null,null,null,null,null,null,null,null,null,null,null,null,{"$f":"UnObr5!D137","v":0},null,null,null,null,{"$f":"UnObr5!E137","v":0},null,null,null,null,null,{"$f":"UnObr5!F137","v":0},null,null,null,null,{"$f":"UnObr5!G137","v":0},null,null,null,null,{"$f":"UnObr5!H137","v":0},null,null,null,null,{"$f":"UnObr5!I137","v":0},null,null,null,{"$f":"UnObr5!J137","v":0},null,null,null,null,{"$f":"UnObr5!K137","v":0}]
[5134,null,null,911100,null,null,null,"Примања од емитовања домаћих хартија од вредности, изузев акција",null,null,null,null,null,null,null,null,null,null,null,null,null,null,null,null,{"$f":"UnObr5!D138","v":0},null,null,null,null,{"$f":"UnObr5!E138","v":0},null,null,null,null,null,{"$f":"UnObr5!F138","v":0},null,null,null,null,{"$f":"UnObr5!G138","v":0},null,null,null,null,{"$f":"UnObr5!H138","v":0},null,null,null,null,{"$f":"UnObr5!I138","v":0},null,null,null,{"$f":"UnObr5!J138","v":0},null,null,null,null,{"$f":"UnObr5!K138","v":0}]
["Ознака\nОП",null,null,"Број\nконта",null,null,null,"Опис",null,null,null,null,null,null,null,null,null,null,null,null,null,null,null,null,"Износ\nпланираних прихода и примања",null,null,null,null,"Износ остварених прихода и примања"]
[null,null,null,null,null,null,null,null,null,null,null,null,null,null,null,null,null,null,null,null,null,null,null,null,null,null,null,null,null,"Укупно \n(од 6 до 11)",null,null,null,null,null,"Приходи и примања из буџета",null,null,null,null,null,null,null,null,null,null,null,null,null,null,null,null,null,null,"Из\nдонација и помоћи",null,null,null,null,"Из \nосталих\nизвора"]
[null,null,null,null,null,null,null,null,null,null,null,null,null,null,null,null,null,null,null,null,null,null,null,null,null,null,null,null,null,null,null,null,null,null,null,"Републике",null,null,null,null,"Аутономне\nпокрајине",null,null,null,null,"Општине /\nграда",null,null,null,null,"ООСО"]
[]
[1,null,null,2,null,null,null,3,null,null,null,null,null,null,null,null,null,null,null,null,null,null,null,null,4,null,null,null,null,5,null,null,null,null,null,6,null,null,null,null,7,null,null,null,null,8,null,null,null,null,9,null,null,null,10,null,null,null,null,11]
[5135,null,null,911200,null,null,null,"Примања од задуживања од осталих нивоа \nвласти",null,null,null,null,null,null,null,null,null,null,null,null,null,null,null,null,{"$f":"UnObr5!D139","v":0},null,null,null,null,{"$f":"UnObr5!E139","v":0},null,null,null,null,null,{"$f":"UnObr5!F139","v":0},null,null,null,null,{"$f":"UnObr5!G139","v":0},null,null,null,null,{"$f":"UnObr5!H139","v":0},null,null,null,null,{"$f":"UnObr5!I139","v":0},null,null,null,{"$f":"UnObr5!J139","v":0},null,null,null,null,{"$f":"UnObr5!K139","v":0}]
[5136,null,null,911300,null,null,null,"Примања од задуживања од јавних \nфинансијских институција у земљи",null,null,null,null,null,null,null,null,null,null,null,null,null,null,null,null,{"$f":"UnObr5!D140","v":0},null,null,null,null,{"$f":"UnObr5!E140","v":0},null,null,null,null,null,{"$f":"UnObr5!F140","v":0},null,null,null,null,{"$f":"UnObr5!G140","v":0},null,null,null,null,{"$f":"UnObr5!H140","v":0},null,null,null,null,{"$f":"UnObr5!I140","v":0},null,null,null,{"$f":"UnObr5!J140","v":0},null,null,null,null,{"$f":"UnObr5!K140","v":0}]
[5137,null,null,911400,null,null,null,"Примања од задуживања од пословних банака у земљи",null,null,null,null,null,null,null,null,null,null,null,null,null,null,null,null,{"$f":"UnObr5!D141","v":0},null,null,null,null,{"$f":"UnObr5!E141","v":0},null,null,null,null,null,{"$f":"UnObr5!F141","v":0},null,null,null,null,{"$f":"UnObr5!G141","v":0},null,null,null,null,{"$f":"UnObr5!H141","v":0},null,null,null,null,{"$f":"UnObr5!I141","v":0},null,null,null,{"$f":"UnObr5!J141","v":0},null,null,null,null,{"$f":"UnObr5!K141","v":0}]
[5138,null,null,911500,null,null,null,"Примања од задуживања код осталих \nповерилаца у земљи",null,null,null,null,null,null,null,null,null,null,null,null,null,null,null,null,{"$f":"UnObr5!D142","v":0},null,null,null,null,{"$f":"UnObr5!E142","v":0},null,null,null,null,null,{"$f":"UnObr5!F142","v":0},null,null,null,null,{"$f":"UnObr5!G142","v":0},null,null,null,null,{"$f":"UnObr5!H142","v":0},null,null,null,null,{"$f":"UnObr5!I142","v":0},null,null,null,{"$f":"UnObr5!J142","v":0},null,null,null,null,{"$f":"UnObr5!K142","v":0}]
[5139,null,null,911600,null,null,null,"Примања од задуживања од домаћинстава у \nземљи",null,null,null,null,null,null,null,null,null,null,null,null,null,null,null,null,{"$f":"UnObr5!D143","v":0},null,null,null,null,{"$f":"UnObr5!E143","v":0},null,null,null,null,null,{"$f":"UnObr5!F143","v":0},null,null,null,null,{"$f":"UnObr5!G143","v":0},null,null,null,null,{"$f":"UnObr5!H143","v":0},null,null,null,null,{"$f":"UnObr5!I143","v":0},null,null,null,{"$f":"UnObr5!J143","v":0},null,null,null,null,{"$f":"UnObr5!K143","v":0}]
[5140,null,null,911700,null,null,null,"Примања од домаћих финансијских деривата",null,null,null,null,null,null,null,null,null,null,null,null,null,null,null,null,{"$f":"UnObr5!D144","v":0},null,null,null,null,{"$f":"UnObr5!E144","v":0},null,null,null,null,null,{"$f":"UnObr5!F144","v":0},null,null,null,null,{"$f":"UnObr5!G144","v":0},null,null,null,null,{"$f":"UnObr5!H144","v":0},null,null,null,null,{"$f":"UnObr5!I144","v":0},null,null,null,{"$f":"UnObr5!J144","v":0},null,null,null,null,{"$f":"UnObr5!K144","v":0}]
[5141,null,null,911800,null,null,null,"Примања од домаћих меница",null,null,null,null,null,null,null,null,null,null,null,null,null,null,null,null,{"$f":"UnObr5!D145","v":0},null,null,null,null,{"$f":"UnObr5!E145","v":0},null,null,null,null,null,{"$f":"UnObr5!F145","v":0},null,null,null,null,{"$f":"UnObr5!G145","v":0},null,null,null,null,{"$f":"UnObr5!H145","v":0},null,null,null,null,{"$f":"UnObr5!I145","v":0},null,null,null,{"$f":"UnObr5!J145","v":0},null,null,null,null,{"$f":"UnObr5!K145","v":0}]
[5142,null,null,911900,null,null,null,"Исправка унутрашњег дуга",null,null,null,null,null,null,null,null,null,null,null,null,null,null,null,null,{"$f":"UnObr5!D146","v":0},null,null,null,null,{"$f":"UnObr5!E146","v":0},null,null,null,null,null,{"$f":"UnObr5!F146","v":0},null,null,null,null,{"$f":"UnObr5!G146","v":0},null,null,null,null,{"$f":"UnObr5!H146","v":0},null,null,null,null,{"$f":"UnObr5!I146","v":0},null,null,null,{"$f":"UnObr5!J146","v":0},null,null,null,null,{"$f":"UnObr5!K146","v":0}]
[5143,null,null,912000,null,null,null,"ПРИМАЊА ОД ИНОСТРАНОГ \nЗАДУЖИВАЊА (од 5144 до 5150)",null,null,null,null,null,null,null,null,null,null,null,null,null,null,null,null,{"$f":"UnObr5!D147","v":0},null,null,null,null,{"$f":"UnObr5!E147","v":0},null,null,null,null,null,{"$f":"UnObr5!F147","v":0},null,null,null,null,{"$f":"UnObr5!G147","v":0},null,null,null,null,{"$f":"UnObr5!H147","v":0},null,null,null,null,{"$f":"UnObr5!I147","v":0},null,null,null,{"$f":"UnObr5!J147","v":0},null,null,null,null,{"$f":"UnObr5!K147","v":0}]
[5144,null,null,912100,null,null,null,"Примања од емитовања хартија од вредности, изузев акција, на иностраном финансијском тржишту",null,null,null,null,null,null,null,null,null,null,null,null,null,null,null,null,{"$f":"UnObr5!D148","v":0},null,null,null,null,{"$f":"UnObr5!E148","v":0},null,null,null,null,null,{"$f":"UnObr5!F148","v":0},null,null,null,null,{"$f":"UnObr5!G148","v":0},null,null,null,null,{"$f":"UnObr5!H148","v":0},null,null,null,null,{"$f":"UnObr5!I148","v":0},null,null,null,{"$f":"UnObr5!J148","v":0},null,null,null,null,{"$f":"UnObr5!K148","v":0}]
[5145,null,null,912200,null,null,null,"Примања од задуживања од иностраних држава",null,null,null,null,null,null,null,null,null,null,null,null,null,null,null,null,{"$f":"UnObr5!D149","v":0},null,null,null,null,{"$f":"UnObr5!E149","v":0},null,null,null,null,null,{"$f":"UnObr5!F149","v":0},null,null,null,null,{"$f":"UnObr5!G149","v":0},null,null,null,null,{"$f":"UnObr5!H149","v":0},null,null,null,null,{"$f":"UnObr5!I149","v":0},null,null,null,{"$f":"UnObr5!J149","v":0},null,null,null,null,{"$f":"UnObr5!K149","v":0}]
[5146,null,null,912300,null,null,null,"Примања од задуживања од мултилатералних институција",null,null,null,null,null,null,null,null,null,null,null,null,null,null,null,null,{"$f":"UnObr5!D150","v":0},null,null,null,null,{"$f":"UnObr5!E150","v":0},null,null,null,null,null,{"$f":"UnObr5!F150","v":0},null,null,null,null,{"$f":"UnObr5!G150","v":0},null,null,null,null,{"$f":"UnObr5!H150","v":0},null,null,null,null,{"$f":"UnObr5!I150","v":0},null,null,null,{"$f":"UnObr5!J150","v":0},null,null,null,null,{"$f":"UnObr5!K150","v":0}]
[5147,null,null,912400,null,null,null,"Примања од задуживања од иностраних \nпословних банака",null,null,null,null,null,null,null,null,null,null,null,null,null,null,null,null,{"$f":"UnObr5!D151","v":0},null,null,null,null,{"$f":"UnObr5!E151","v":0},null,null,null,null,null,{"$f":"UnObr5!F151","v":0},null,null,null,null,{"$f":"UnObr5!G151","v":0},null,null,null,null,{"$f":"UnObr5!H151","v":0},null,null,null,null,{"$f":"UnObr5!I151","v":0},null,null,null,{"$f":"UnObr5!J151","v":0},null,null,null,null,{"$f":"UnObr5!K151","v":0}]
[5148,null,null,912500,null,null,null,"Примања од задуживања од осталих \nиностраних поверилаца",null,null,null,null,null,null,null,null,null,null,null,null,null,null,null,null,{"$f":"UnObr5!D152","v":0},null,null,null,null,{"$f":"UnObr5!E152","v":0},null,null,null,null,null,{"$f":"UnObr5!F152","v":0},null,null,null,null,{"$f":"UnObr5!G152","v":0},null,null,null,null,{"$f":"UnObr5!H152","v":0},null,null,null,null,{"$f":"UnObr5!I152","v":0},null,null,null,{"$f":"UnObr5!J152","v":0},null,null,null,null,{"$f":"UnObr5!K152","v":0}]
[5149,null,null,912600,null,null,null,"Примања од иностраних финансијских деривата",null,null,null,null,null,null,null,null,null,null,null,null,null,null,null,null,{"$f":"UnObr5!D153","v":0},null,null,null,null,{"$f":"UnObr5!E153","v":0},null,null,null,null,null,{"$f":"UnObr5!F153","v":0},null,null,null,null,{"$f":"UnObr5!G153","v":0},null,null,null,null,{"$f":"UnObr5!H153","v":0},null,null,null,null,{"$f":"UnObr5!I153","v":0},null,null,null,{"$f":"UnObr5!J153","v":0},null,null,null,null,{"$f":"UnObr5!K153","v":0}]
[5150,null,null,912900,null,null,null,"Исправка спољног дуга",null,null,null,null,null,null,null,null,null,null,null,null,null,null,null,null,{"$f":"UnObr5!D154","v":0},null,null,null,null,{"$f":"UnObr5!E154","v":0},null,null,null,null,null,{"$f":"UnObr5!F154","v":0},null,null,null,null,{"$f":"UnObr5!G154","v":0},null,null,null,null,{"$f":"UnObr5!H154","v":0},null,null,null,null,{"$f":"UnObr5!I154","v":0},null,null,null,{"$f":"UnObr5!J154","v":0},null,null,null,null,{"$f":"UnObr5!K154","v":0}]
[5151,null,null,920000,null,null,null,"ПРИМАЊА ОД ПРОДАЈЕ ФИНАНСИЈСКЕ ИМОВИНЕ (5152 + 5162)",null,null,null,null,null,null,null,null,null,null,null,null,null,null,null,null,{"$f":"UnObr5!D155","v":0},null,null,null,null,{"$f":"UnObr5!E155","v":0},null,null,null,null,null,{"$f":"UnObr5!F155","v":0},null,null,null,null,{"$f":"UnObr5!G155","v":0},null,null,null,null,{"$f":"UnObr5!H155","v":0},null,null,null,null,{"$f":"UnObr5!I155","v":0},null,null,null,{"$f":"UnObr5!J155","v":0},null,null,null,null,{"$f":"UnObr5!K155","v":0}]
[5152,null,null,921000,null,null,null,"ПРИМАЊА ОД ПРОДАЈЕ ДОМАЋЕ ФИНАНСИЈСКЕ ИМОВИНЕ \n(од 5153 до 5161) ",null,null,null,null,null,null,null,null,null,null,null,null,null,null,null,null,{"$f":"UnObr5!D156","v":0},null,null,null,null,{"$f":"UnObr5!E156","v":0},null,null,null,null,null,{"$f":"UnObr5!F156","v":0},null,null,null,null,{"$f":"UnObr5!G156","v":0},null,null,null,null,{"$f":"UnObr5!H156","v":0},null,null,null,null,{"$f":"UnObr5!I156","v":0},null,null,null,{"$f":"UnObr5!J156","v":0},null,null,null,null,{"$f":"UnObr5!K156","v":0}]
[5153,null,null,921100,null,null,null,"Примања од продаје домаћих хартија од \nвредности, изузев акција",null,null,null,null,null,null,null,null,null,null,null,null,null,null,null,null,{"$f":"UnObr5!D157","v":0},null,null,null,null,{"$f":"UnObr5!E157","v":0},null,null,null,null,null,{"$f":"UnObr5!F157","v":0},null,null,null,null,{"$f":"UnObr5!G157","v":0},null,null,null,null,{"$f":"UnObr5!H157","v":0},null,null,null,null,{"$f":"UnObr5!I157","v":0},null,null,null,{"$f":"UnObr5!J157","v":0},null,null,null,null,{"$f":"UnObr5!K157","v":0}]
[5154,null,null,921200,null,null,null,"Примања од отплате кредита датих осталим нивоима власти",null,null,null,null,null,null,null,null,null,null,null,null,null,null,null,null,{"$f":"UnObr5!D158","v":0},null,null,null,null,{"$f":"UnObr5!E158","v":0},null,null,null,null,null,{"$f":"UnObr5!F158","v":0},null,null,null,null,{"$f":"UnObr5!G158","v":0},null,null,null,null,{"$f":"UnObr5!H158","v":0},null,null,null,null,{"$f":"UnObr5!I158","v":0},null,null,null,{"$f":"UnObr5!J158","v":0},null,null,null,null,{"$f":"UnObr5!K158","v":0}]
[5155,null,null,921300,null,null,null,"Примања од отплате кредита датих домаћим \nјавним финансијским институцијама",null,null,null,null,null,null,null,null,null,null,null,null,null,null,null,null,{"$f":"UnObr5!D159","v":0},null,null,null,null,{"$f":"UnObr5!E159","v":0},null,null,null,null,null,{"$f":"UnObr5!F159","v":0},null,null,null,null,{"$f":"UnObr5!G159","v":0},null,null,null,null,{"$f":"UnObr5!H159","v":0},null,null,null,null,{"$f":"UnObr5!I159","v":0},null,null,null,{"$f":"UnObr5!J159","v":0},null,null,null,null,{"$f":"UnObr5!K159","v":0}]
["Ознака\nОП",null,null,"Број\nконта",null,null,null,"Опис",null,null,null,null,null,null,null,null,null,null,null,null,null,null,null,null,"Износ\nпланираних прихода и примања",null,null,null,null,"Износ остварених прихода и примања"]
[null,null,null,null,null,null,null,null,null,null,null,null,null,null,null,null,null,null,null,null,null,null,null,null,null,null,null,null,null,"Укупно \n(од 6 до 11)",null,null,null,null,null,"Приходи и примања из буџета",null,null,null,null,null,null,null,null,null,null,null,null,null,null,null,null,null,null,"Из\nдонација и помоћи",null,null,null,null,"Из \nосталих\nизвора"]
[null,null,null,null,null,null,null,null,null,null,null,null,null,null,null,null,null,null,null,null,null,null,null,null,null,null,null,null,null,null,null,null,null,null,null,"Републике",null,null,null,null,"Аутономне\nпокрајине",null,null,null,null,"Општине /\nграда",null,null,null,null,"ООСО"]
[]
[1,null,null,2,null,null,null,3,null,null,null,null,null,null,null,null,null,null,null,null,null,null,null,null,4,null,null,null,null,5,null,null,null,null,null,6,null,null,null,null,7,null,null,null,null,8,null,null,null,null,9,null,null,null,10,null,null,null,null,11]
[5156,null,null,921400,null,null,null,"Примања од отплате кредита домаћим \nпословним банкама",null,null,null,null,null,null,null,null,null,null,null,null,null,null,null,null,{"$f":"UnObr5!D160","v":0},null,null,null,null,{"$f":"UnObr5!E160","v":0},null,null,null,null,null,{"$f":"UnObr5!F160","v":0},null,null,null,null,{"$f":"UnObr5!G160","v":0},null,null,null,null,{"$f":"UnObr5!H160","v":0},null,null,null,null,{"$f":"UnObr5!I160","v":0},null,null,null,{"$f":"UnObr5!J160","v":0},null,null,null,null,{"$f":"UnObr5!K160","v":0}]
[5157,null,null,921500,null,null,null,"Примања од отплате кредита датих домаћим \nјавним нефинансијским институцијама",null,null,null,null,null,null,null,null,null,null,null,null,null,null,null,null,{"$f":"UnObr5!D161","v":0},null,null,null,null,{"$f":"UnObr5!E161","v":0},null,null,null,null,null,{"$f":"UnObr5!F161","v":0},null,null,null,null,{"$f":"UnObr5!G161","v":0},null,null,null,null,{"$f":"UnObr5!H161","v":0},null,null,null,null,{"$f":"UnObr5!I161","v":0},null,null,null,{"$f":"UnObr5!J161","v":0},null,null,null,null,{"$f":"UnObr5!K161","v":0}]
[5158,null,null,921600,null,null,null,"Примања од отплате кредита датих физичким лицима и домаћинствима у земљи",null,null,null,null,null,null,null,null,null,null,null,null,null,null,null,null,{"$f":"UnObr5!D162","v":0},null,null,null,null,{"$f":"UnObr5!E162","v":0},null,null,null,null,null,{"$f":"UnObr5!F162","v":0},null,null,null,null,{"$f":"UnObr5!G162","v":0},null,null,null,null,{"$f":"UnObr5!H162","v":0},null,null,null,null,{"$f":"UnObr5!I162","v":0},null,null,null,{"$f":"UnObr5!J162","v":0},null,null,null,null,{"$f":"UnObr5!K162","v":0}]
[5159,null,null,921700,null,null,null,"Примања од отплате кредита датих \nудружењима грађана у земљи",null,null,null,null,null,null,null,null,null,null,null,null,null,null,null,null,{"$f":"UnObr5!D163","v":0},null,null,null,null,{"$f":"UnObr5!E163","v":0},null,null,null,null,null,{"$f":"UnObr5!F163","v":0},null,null,null,null,{"$f":"UnObr5!G163","v":0},null,null,null,null,{"$f":"UnObr5!H163","v":0},null,null,null,null,{"$f":"UnObr5!I163","v":0},null,null,null,{"$f":"UnObr5!J163","v":0},null,null,null,null,{"$f":"UnObr5!K163","v":0}]
[5160,null,null,921800,null,null,null,"Примања од отплате кредита датих \nнефинансијским приватним предузећима у \nземљи",null,null,null,null,null,null,null,null,null,null,null,null,null,null,null,null,{"$f":"UnObr5!D164","v":0},null,null,null,null,{"$f":"UnObr5!E164","v":0},null,null,null,null,null,{"$f":"UnObr5!F164","v":0},null,null,null,null,{"$f":"UnObr5!G164","v":0},null,null,null,null,{"$f":"UnObr5!H164","v":0},null,null,null,null,{"$f":"UnObr5!I164","v":0},null,null,null,{"$f":"UnObr5!J164","v":0},null,null,null,null,{"$f":"UnObr5!K164","v":0}]
[5161,null,null,921900,null,null,null,"Примања од продаје домаћих акција и осталог капитала",null,null,null,null,null,null,null,null,null,null,null,null,null,null,null,null,{"$f":"UnObr5!D165","v":0},null,null,null,null,{"$f":"UnObr5!E165","v":0},null,null,null,null,null,{"$f":"UnObr5!F165","v":0},null,null,null,null,{"$f":"UnObr5!G165","v":0},null,null,null,null,{"$f":"UnObr5!H165","v":0},null,null,null,null,{"$f":"UnObr5!I165","v":0},null,null,null,{"$f":"UnObr5!J165","v":0},null,null,null,null,{"$f":"UnObr5!K165","v":0}]
[5162,null,null,922000,null,null,null,"ПРИМАЊА ОД ПРОДАЈЕ СТРАНЕ ФИНАНСИЈСКЕ ИМОВИНЕ \n(од 5163 до 5170)",null,null,null,null,null,null,null,null,null,null,null,null,null,null,null,null,{"$f":"UnObr5!D166","v":0},null,null,null,null,{"$f":"UnObr5!E166","v":0},null,null,null,null,null,{"$f":"UnObr5!F166","v":0},null,null,null,null,{"$f":"UnObr5!G166","v":0},null,null,null,null,{"$f":"UnObr5!H166","v":0},null,null,null,null,{"$f":"UnObr5!I166","v":0},null,null,null,{"$f":"UnObr5!J166","v":0},null,null,null,null,{"$f":"UnObr5!K166","v":0}]
[5163,null,null,922100,null,null,null,"Примања од продаје страних хартија од \nвредности, изузев акција",null,null,null,null,null,null,null,null,null,null,null,null,null,null,null,null,{"$f":"UnObr5!D167","v":0},null,null,null,null,{"$f":"UnObr5!E167","v":0},null,null,null,null,null,{"$f":"UnObr5!F167","v":0},null,null,null,null,{"$f":"UnObr5!G167","v":0},null,null,null,null,{"$f":"UnObr5!H167","v":0},null,null,null,null,{"$f":"UnObr5!I167","v":0},null,null,null,{"$f":"UnObr5!J167","v":0},null,null,null,null,{"$f":"UnObr5!K167","v":0}]
[5164,null,null,922200,null,null,null,"Примања од отплате кредита датих страним \nвладама",null,null,null,null,null,null,null,null,null,null,null,null,null,null,null,null,{"$f":"UnObr5!D168","v":0},null,null,null,null,{"$f":"UnObr5!E168","v":0},null,null,null,null,null,{"$f":"UnObr5!F168","v":0},null,null,null,null,{"$f":"UnObr5!G168","v":0},null,null,null,null,{"$f":"UnObr5!H168","v":0},null,null,null,null,{"$f":"UnObr5!I168","v":0},null,null,null,{"$f":"UnObr5!J168","v":0},null,null,null,null,{"$f":"UnObr5!K168","v":0}]
[5165,null,null,922300,null,null,null,"Примања од отплате кредита датих \nмеђународним организацијама",null,null,null,null,null,null,null,null,null,null,null,null,null,null,null,null,{"$f":"UnObr5!D169","v":0},null,null,null,null,{"$f":"UnObr5!E169","v":0},null,null,null,null,null,{"$f":"UnObr5!F169","v":0},null,null,null,null,{"$f":"UnObr5!G169","v":0},null,null,null,null,{"$f":"UnObr5!H169","v":0},null,null,null,null,{"$f":"UnObr5!I169","v":0},null,null,null,{"$f":"UnObr5!J169","v":0},null,null,null,null,{"$f":"UnObr5!K169","v":0}]
[5166,null,null,922400,null,null,null,"Примања од отплате кредита датих страним пословним банкама",null,null,null,null,null,null,null,null,null,null,null,null,null,null,null,null,{"$f":"UnObr5!D170","v":0},null,null,null,null,{"$f":"UnObr5!E170","v":0},null,null,null,null,null,{"$f":"UnObr5!F170","v":0},null,null,null,null,{"$f":"UnObr5!G170","v":0},null,null,null,null,{"$f":"UnObr5!H170","v":0},null,null,null,null,{"$f":"UnObr5!I170","v":0},null,null,null,{"$f":"UnObr5!J170","v":0},null,null,null,null,{"$f":"UnObr5!K170","v":0}]
[5167,null,null,922500,null,null,null,"Примања од отплате кредита датих страним нефинансијским институцијама",null,null,null,null,null,null,null,null,null,null,null,null,null,null,null,null,{"$f":"UnObr5!D171","v":0},null,null,null,null,{"$f":"UnObr5!E171","v":0},null,null,null,null,null,{"$f":"UnObr5!F171","v":0},null,null,null,null,{"$f":"UnObr5!G171","v":0},null,null,null,null,{"$f":"UnObr5!H171","v":0},null,null,null,null,{"$f":"UnObr5!I171","v":0},null,null,null,{"$f":"UnObr5!J171","v":0},null,null,null,null,{"$f":"UnObr5!K171","v":0}]
[5168,null,null,922600,null,null,null,"Примања од отплате кредита датих страним невладиним организацијама",null,null,null,null,null,null,null,null,null,null,null,null,null,null,null,null,{"$f":"UnObr5!D172","v":0},null,null,null,null,{"$f":"UnObr5!E172","v":0},null,null,null,null,null,{"$f":"UnObr5!F172","v":0},null,null,null,null,{"$f":"UnObr5!G172","v":0},null,null,null,null,{"$f":"UnObr5!H172","v":0},null,null,null,null,{"$f":"UnObr5!I172","v":0},null,null,null,{"$f":"UnObr5!J172","v":0},null,null,null,null,{"$f":"UnObr5!K172","v":0}]
[5169,null,null,922700,null,null,null,"Примања од продаје страних акција и осталог капитала",null,null,null,null,null,null,null,null,null,null,null,null,null,null,null,null,{"$f":"UnObr5!D173","v":0},null,null,null,null,{"$f":"UnObr5!E173","v":0},null,null,null,null,null,{"$f":"UnObr5!F173","v":0},null,null,null,null,{"$f":"UnObr5!G173","v":0},null,null,null,null,{"$f":"UnObr5!H173","v":0},null,null,null,null,{"$f":"UnObr5!I173","v":0},null,null,null,{"$f":"UnObr5!J173","v":0},null,null,null,null,{"$f":"UnObr5!K173","v":0}]
[5170,null,null,922800,null,null,null,"Примања од продаје стране валуте",null,null,null,null,null,null,null,null,null,null,null,null,null,null,null,null,{"$f":"UnObr5!D174","v":0},null,null,null,null,{"$f":"UnObr5!E174","v":0},null,null,null,null,null,{"$f":"UnObr5!F174","v":0},null,null,null,null,{"$f":"UnObr5!G174","v":0},null,null,null,null,{"$f":"UnObr5!H174","v":0},null,null,null,null,{"$f":"UnObr5!I174","v":0},null,null,null,{"$f":"UnObr5!J174","v":0},null,null,null,null,{"$f":"UnObr5!K174","v":0}]
[5171,null,null,null,null,null,null,"УКУПНИ ПРИХОДИ И ПРИМАЊА \n(5001 + 5131)",null,null,null,null,null,null,null,null,null,null,null,null,null,null,null,null,{"$f":"UnObr5!D175","v":159617},null,null,null,null,{"$f":"UnObr5!E175","v":156452},null,null,null,null,null,{"$f":"UnObr5!F175","v":11436},null,null,null,null,{"$f":"UnObr5!G175","v":0},null,null,null,null,{"$f":"UnObr5!H175","v":144017},null,null,null,null,{"$f":"UnObr5!I175","v":648},null,null,null,{"$f":"UnObr5!J175","v":0},null,null,null,null,{"$f":"UnObr5!K175","v":351}]
[]
[]
["II. УКУПНИ РАСХОДИ И ИЗДАЦИ"]
[]
["Ознака\nОП",null,null,"Број\nконта",null,null,null,"Опис",null,null,null,null,null,null,null,null,null,null,null,null,null,null,null,null,"Износ\nодобрених апропријација",null,null,null,null,"Износ извршених расхода и издатака"]
[null,null,null,null,null,null,null,null,null,null,null,null,null,null,null,null,null,null,null,null,null,null,null,null,null,null,null,null,null,"Укупно \n(од 6 до 11)",null,null,null,null,null,"Расходи и издаци на терет буџета",null,null,null,null,null,null,null,null,null,null,null,null,null,null,null,null,null,null,"Из\nдонација и помоћи",null,null,null,null,"Из \nосталих\nизвора"]
[null,null,null,null,null,null,null,null,null,null,null,null,null,null,null,null,null,null,null,null,null,null,null,null,null,null,null,null,null,null,null,null,null,null,null,"Републике",null,null,null,null,"Аутономне\nпокрајине",null,null,null,null,"Општине /\nграда",null,null,null,null,"ООСО"]
[]
[1,null,null,2,null,null,null,3,null,null,null,null,null,null,null,null,null,null,null,null,null,null,null,null,4,null,null,null,null,5,null,null,null,null,null,6,null,null,null,null,7,null,null,null,null,8,null,null,null,null,9,null,null,null,10,null,null,null,null,11]
[5172,null,null,null,null,null,null,"ТЕКУЋИ РАСХОДИ И ИЗДАЦИ ЗА НЕФИНАНСИЈСКЕ ИМОВИНЕ (5173 + 5341)",null,null,null,null,null,null,null,null,null,null,null,null,null,null,null,null,{"$f":"UnObr5!D176","v":159617},null,null,null,null,{"$f":"UnObr5!E176","v":156447},null,null,null,null,null,{"$f":"UnObr5!F176","v":11436},null,null,null,null,{"$f":"UnObr5!G176","v":0},null,null,null,null,{"$f":"UnObr5!H176","v":144012},null,null,null,null,{"$f":"UnObr5!I176","v":648},null,null,null,{"$f":"UnObr5!J176","v":0},null,null,null,null,{"$f":"UnObr5!K176","v":351}]
[5173,null,null,400000,null,null,null,"ТЕКУЋИ РАСХОДИ (5174 + 5196 + 5241 + 5256 + 5280 + 5293 + 5309 + 5324)",null,null,null,null,null,null,null,null,null,null,null,null,null,null,null,null,{"$f":"UnObr5!D177","v":158667},null,null,null,null,{"$f":"UnObr5!E177","v":155146},null,null,null,null,null,{"$f":"UnObr5!F177","v":11163},null,null,null,null,{"$f":"UnObr5!G177","v":0},null,null,null,null,{"$f":"UnObr5!H177","v":143067},null,null,null,null,{"$f":"UnObr5!I177","v":648},null,null,null,{"$f":"UnObr5!J177","v":0},null,null,null,null,{"$f":"UnObr5!K177","v":268}]
[5174,null,null,410000,null,null,null,"РАСХОДИ ЗА ЗАПОСЛЕНЕ (5175 + 5177 + 5181 + 5183 + 5188 + 5190 + 5192 + 5194)",null,null,null,null,null,null,null,null,null,null,null,null,null,null,null,null,{"$f":"UnObr5!D178","v":103248},null,null,null,null,{"$f":"UnObr5!E178","v":103699},null,null,null,null,null,{"$f":"UnObr5!F178","v":125},null,null,null,null,{"$f":"UnObr5!G178","v":0},null,null,null,null,{"$f":"UnObr5!H178","v":102926},null,null,null,null,{"$f":"UnObr5!I178","v":648},null,null,null,{"$f":"UnObr5!J178","v":0},null,null,null,null,{"$f":"UnObr5!K178","v":0}]
[5175,null,null,411000,null,null,null,"ПЛАТЕ, ДОДАЦИ И НАКНАДЕ \nЗАПОСЛЕНИХ (ЗАРАДЕ) (5176)",null,null,null,null,null,null,null,null,null,null,null,null,null,null,null,null,{"$f":"UnObr5!D179","v":84970},null,null,null,null,{"$f":"UnObr5!E179","v":84879},null,null,null,null,null,{"$f":"UnObr5!F179","v":0},null,null,null,null,{"$f":"UnObr5!G179","v":0},null,null,null,null,{"$f":"UnObr5!H179","v":84879},null,null,null,null,{"$f":"UnObr5!I179","v":0},null,null,null,{"$f":"UnObr5!J179","v":0},null,null,null,null,{"$f":"UnObr5!K179","v":0}]
[5176,null,null,411100,null,null,null,"Плате, додаци и накнаде запослених",null,null,null,null,null,null,null,null,null,null,null,null,null,null,null,null,{"$f":"UnObr5!D180","v":84970},null,null,null,null,{"$f":"UnObr5!E180","v":84879},null,null,null,null,null,{"$f":"UnObr5!F180","v":0},null,null,null,null,{"$f":"UnObr5!G180","v":0},null,null,null,null,{"$f":"UnObr5!H180","v":84879},null,null,null,null,{"$f":"UnObr5!I180","v":0},null,null,null,{"$f":"UnObr5!J180","v":0},null,null,null,null,{"$f":"UnObr5!K180","v":0}]
[5177,null,null,412000,null,null,null,"СОЦИЈАЛНИ ДОПРИНОСИ НА ТЕРЕТ ПОСЛОДАВЦА (од 5178 до 5180)",null,null,null,null,null,null,null,null,null,null,null,null,null,null,null,null,{"$f":"UnObr5!D181","v":15210},null,null,null,null,{"$f":"UnObr5!E181","v":15200},null,null,null,null,null,{"$f":"UnObr5!F181","v":0},null,null,null,null,{"$f":"UnObr5!G181","v":0},null,null,null,null,{"$f":"UnObr5!H181","v":15200},null,null,null,null,{"$f":"UnObr5!I181","v":0},null,null,null,{"$f":"UnObr5!J181","v":0},null,null,null,null,{"$f":"UnObr5!K181","v":0}]
[5178,null,null,412100,null,null,null,"Допринос за пензијско и инвалидско осигурање",null,null,null,null,null,null,null,null,null,null,null,null,null,null,null,null,{"$f":"UnObr5!D182","v":10195},null,null,null,null,{"$f":"UnObr5!E182","v":10190},null,null,null,null,null,{"$f":"UnObr5!F182","v":0},null,null,null,null,{"$f":"UnObr5!G182","v":0},null,null,null,null,{"$f":"UnObr5!H182","v":10190},null,null,null,null,{"$f":"UnObr5!I182","v":0},null,null,null,{"$f":"UnObr5!J182","v":0},null,null,null,null,{"$f":"UnObr5!K182","v":0}]
[5179,null,null,412200,null,null,null,"Допринос за здравствено осигурање",null,null,null,null,null,null,null,null,null,null,null,null,null,null,null,null,{"$f":"UnObr5!D183","v":4375},null,null,null,null,{"$f":"UnObr5!E183","v":4373},null,null,null,null,null,{"$f":"UnObr5!F183","v":0},null,null,null,null,{"$f":"UnObr5!G183","v":0},null,null,null,null,{"$f":"UnObr5!H183","v":4373},null,null,null,null,{"$f":"UnObr5!I183","v":0},null,null,null,{"$f":"UnObr5!J183","v":0},null,null,null,null,{"$f":"UnObr5!K183","v":0}]
[5180,null,null,412300,null,null,null,"Допринос за незапосленост",null,null,null,null,null,null,null,null,null,null,null,null,null,null,null,null,{"$f":"UnObr5!D184","v":640},null,null,null,null,{"$f":"UnObr5!E184","v":637},null,null,null,null,null,{"$f":"UnObr5!F184","v":0},null,null,null,null,{"$f":"UnObr5!G184","v":0},null,null,null,null,{"$f":"UnObr5!H184","v":637},null,null,null,null,{"$f":"UnObr5!I184","v":0},null,null,null,{"$f":"UnObr5!J184","v":0},null,null,null,null,{"$f":"UnObr5!K184","v":0}]
[5181,null,null,413000,null,null,null,"НАКНАДЕ У НАТУРИ (5182)",null,null,null,null,null,null,null,null,null,null,null,null,null,null,null,null,{"$f":"UnObr5!D185","v":241},null,null,null,null,{"$f":"UnObr5!E185","v":243},null,null,null,null,null,{"$f":"UnObr5!F185","v":10},null,null,null,null,{"$f":"UnObr5!G185","v":0},null,null,null,null,{"$f":"UnObr5!H185","v":233},null,null,null,null,{"$f":"UnObr5!I185","v":0},null,null,null,{"$f":"UnObr5!J185","v":0},null,null,null,null,{"$f":"UnObr5!K185","v":0}]
[5182,null,null,413100,null,null,null,"Накнаде у натури",null,null,null,null,null,null,null,null,null,null,null,null,null,null,null,null,{"$f":"UnObr5!D186","v":241},null,null,null,null,{"$f":"UnObr5!E186","v":243},null,null,null,null,null,{"$f":"UnObr5!F186","v":10},null,null,null,null,{"$f":"UnObr5!G186","v":0},null,null,null,null,{"$f":"UnObr5!H186","v":233},null,null,null,null,{"$f":"UnObr5!I186","v":0},null,null,null,{"$f":"UnObr5!J186","v":0},null,null,null,null,{"$f":"UnObr5!K186","v":0}]
[5183,null,null,414000,null,null,null,"СОЦИЈАЛНА ДАВАЊА ЗАПОСЛЕНИМА \n(од 5184 до 5187)",null,null,null,null,null,null,null,null,null,null,null,null,null,null,null,null,{"$f":"UnObr5!D187","v":207},null,null,null,null,{"$f":"UnObr5!E187","v":969},null,null,null,null,null,{"$f":"UnObr5!F187","v":115},null,null,null,null,{"$f":"UnObr5!G187","v":0},null,null,null,null,{"$f":"UnObr5!H187","v":206},null,null,null,null,{"$f":"UnObr5!I187","v":648},null,null,null,{"$f":"UnObr5!J187","v":0},null,null,null,null,{"$f":"UnObr5!K187","v":0}]
[5184,null,null,414100,null,null,null,"Исплата накнада за време одсуствовања с посла \nна терет фондова",null,null,null,null,null,null,null,null,null,null,null,null,null,null,null,null,{"$f":"UnObr5!D188","v":0},null,null,null,null,{"$f":"UnObr5!E188","v":763},null,null,null,null,null,{"$f":"UnObr5!F188","v":115},null,null,null,null,{"$f":"UnObr5!G188","v":0},null,null,null,null,{"$f":"UnObr5!H188","v":0},null,null,null,null,{"$f":"UnObr5!I188","v":648},null,null,null,{"$f":"UnObr5!J188","v":0},null,null,null,null,{"$f":"UnObr5!K188","v":0}]
[5185,null,null,414200,null,null,null,"Расходи за образовање деце запослених",null,null,null,null,null,null,null,null,null,null,null,null,null,null,null,null,{"$f":"UnObr5!D189","v":0},null,null,null,null,{"$f":"UnObr5!E189","v":0},null,null,null,null,null,{"$f":"UnObr5!F189","v":0},null,null,null,null,{"$f":"UnObr5!G189","v":0},null,null,null,null,{"$f":"UnObr5!H189","v":0},null,null,null,null,{"$f":"UnObr5!I189","v":0},null,null,null,{"$f":"UnObr5!J189","v":0},null,null,null,null,{"$f":"UnObr5!K189","v":0}]
[5186,null,null,414300,null,null,null,"Отпремнине и помоћи",null,null,null,null,null,null,null,null,null,null,null,null,null,null,null,null,{"$f":"UnObr5!D190","v":207},null,null,null,null,{"$f":"UnObr5!E190","v":206},null,null,null,null,null,{"$f":"UnObr5!F190","v":0},null,null,null,null,{"$f":"UnObr5!G190","v":0},null,null,null,null,{"$f":"UnObr5!H190","v":206},null,null,null,null,{"$f":"UnObr5!I190","v":0},null,null,null,{"$f":"UnObr5!J190","v":0},null,null,null,null,{"$f":"UnObr5!K190","v":0}]
[5187,null,null,414400,null,null,null,"Помоћ у медицинском лечењу запосленог или \nчланова уже породице и друге помоћи \nзапосленом",null,null,null,null,null,null,null,null,null,null,null,null,null,null,null,null,{"$f":"UnObr5!D191","v":0},null,null,null,null,{"$f":"UnObr5!E191","v":0},null,null,null,null,null,{"$f":"UnObr5!F191","v":0},null,null,null,null,{"$f":"UnObr5!G191","v":0},null,null,null,null,{"$f":"UnObr5!H191","v":0},null,null,null,null,{"$f":"UnObr5!I191","v":0},null,null,null,{"$f":"UnObr5!J191","v":0},null,null,null,null,{"$f":"UnObr5!K191","v":0}]
[5188,null,null,415000,null,null,null,"НАКНАДА ТРОШКОВА ЗА ЗАПОСЛЕНЕ \n(5189)",null,null,null,null,null,null,null,null,null,null,null,null,null,null,null,null,{"$f":"UnObr5!D192","v":1320},null,null,null,null,{"$f":"UnObr5!E192","v":1120},null,null,null,null,null,{"$f":"UnObr5!F192","v":0},null,null,null,null,{"$f":"UnObr5!G192","v":0},null,null,null,null,{"$f":"UnObr5!H192","v":1120},null,null,null,null,{"$f":"UnObr5!I192","v":0},null,null,null,{"$f":"UnObr5!J192","v":0},null,null,null,null,{"$f":"UnObr5!K192","v":0}]
[5189,null,null,415100,null,null,null,"Накнаде трошкова за запослене",null,null,null,null,null,null,null,null,null,null,null,null,null,null,null,null,{"$f":"UnObr5!D193","v":1320},null,null,null,null,{"$f":"UnObr5!E193","v":1120},null,null,null,null,null,{"$f":"UnObr5!F193","v":0},null,null,null,null,{"$f":"UnObr5!G193","v":0},null,null,null,null,{"$f":"UnObr5!H193","v":1120},null,null,null,null,{"$f":"UnObr5!I193","v":0},null,null,null,{"$f":"UnObr5!J193","v":0},null,null,null,null,{"$f":"UnObr5!K193","v":0}]
[5190,null,null,416000,null,null,null,"НАГРАДЕ ЗАПОСЛЕНИМА И ОСТАЛИ ПОСЕБНИ РАСХОДИ (5191)",null,null,null,null,null,null,null,null,null,null,null,null,null,null,null,null,{"$f":"UnObr5!D194","v":1300},null,null,null,null,{"$f":"UnObr5!E194","v":1288},null,null,null,null,null,{"$f":"UnObr5!F194","v":0},null,null,null,null,{"$f":"UnObr5!G194","v":0},null,null,null,null,{"$f":"UnObr5!H194","v":1288},null,null,null,null,{"$f":"UnObr5!I194","v":0},null,null,null,{"$f":"UnObr5!J194","v":0},null,null,null,null,{"$f":"UnObr5!K194","v":0}]
["Ознака\nОП",null,null,"Број\nконта",null,null,null,"Опис",null,null,null,null,null,null,null,null,null,null,null,null,null,null,null,null,"Износ\nодобрених апропријација",null,null,null,null,"Износ извршених расхода и издатака"]
[null,null,null,null,null,null,null,null,null,null,null,null,null,null,null,null,null,null,null,null,null,null,null,null,null,null,null,null,null,"Укупно \n(од 6 до 11)",null,null,null,null,null,"Расходи и издаци на терет буџета",null,null,null,null,null,null,null,null,null,null,null,null,null,null,null,null,null,null,"Из\nдонација и помоћи",null,null,null,null,"Из \nосталих\nизвора"]
[null,null,null,null,null,null,null,null,null,null,null,null,null,null,null,null,null,null,null,null,null,null,null,null,null,null,null,null,null,null,null,null,null,null,null,"Републике",null,null,null,null,"Аутономне\nпокрајине",null,null,null,null,"Општине /\nграда",null,null,null,null,"ООСО"]
[]
[1,null,null,2,null,null,null,3,null,null,null,null,null,null,null,null,null,null,null,null,null,null,null,null,4,null,null,null,null,5,null,null,null,null,null,6,null,null,null,null,7,null,null,null,null,8,null,null,null,null,9,null,null,null,10,null,null,null,null,11]
[5191,null,null,416100,null,null,null,"Награде запосленима и остали посебни расходи",null,null,null,null,null,null,null,null,null,null,null,null,null,null,null,null,{"$f":"UnObr5!D195","v":1300},null,null,null,null,{"$f":"UnObr5!E195","v":1288},null,null,null,null,null,{"$f":"UnObr5!F195","v":0},null,null,null,null,{"$f":"UnObr5!G195","v":0},null,null,null,null,{"$f":"UnObr5!H195","v":1288},null,null,null,null,{"$f":"UnObr5!I195","v":0},null,null,null,{"$f":"UnObr5!J195","v":0},null,null,null,null,{"$f":"UnObr5!K195","v":0}]
[5192,null,null,417000,null,null,null,"ПОСЛАНИЧКИ ДОДАТАК (5193)",null,null,null,null,null,null,null,null,null,null,null,null,null,null,null,null,{"$f":"UnObr5!D196","v":0},null,null,null,null,{"$f":"UnObr5!E196","v":0},null,null,null,null,null,{"$f":"UnObr5!F196","v":0},null,null,null,null,{"$f":"UnObr5!G196","v":0},null,null,null,null,{"$f":"UnObr5!H196","v":0},null,null,null,null,{"$f":"UnObr5!I196","v":0},null,null,null,{"$f":"UnObr5!J196","v":0},null,null,null,null,{"$f":"UnObr5!K196","v":0}]
[5193,null,null,417100,null,null,null,"Посланички додатак",null,null,null,null,null,null,null,null,null,null,null,null,null,null,null,null,{"$f":"UnObr5!D197","v":0},null,null,null,null,{"$f":"UnObr5!E197","v":0},null,null,null,null,null,{"$f":"UnObr5!F197","v":0},null,null,null,null,{"$f":"UnObr5!G197","v":0},null,null,null,null,{"$f":"UnObr5!H197","v":0},null,null,null,null,{"$f":"UnObr5!I197","v":0},null,null,null,{"$f":"UnObr5!J197","v":0},null,null,null,null,{"$f":"UnObr5!K197","v":0}]
[5194,null,null,418000,null,null,null,"СУДИЈСКИ ДОДАТАК (5195)",null,null,null,null,null,null,null,null,null,null,null,null,null,null,null,null,{"$f":"UnObr5!D198","v":0},null,null,null,null,{"$f":"UnObr5!E198","v":0},null,null,null,null,null,{"$f":"UnObr5!F198","v":0},null,null,null,null,{"$f":"UnObr5!G198","v":0},null,null,null,null,{"$f":"UnObr5!H198","v":0},null,null,null,null,{"$f":"UnObr5!I198","v":0},null,null,null,{"$f":"UnObr5!J198","v":0},null,null,null,null,{"$f":"UnObr5!K198","v":0}]
[5195,null,null,418100,null,null,null,"Судијски додатак",null,null,null,null,null,null,null,null,null,null,null,null,null,null,null,null,{"$f":"UnObr5!D199","v":0},null,null,null,null,{"$f":"UnObr5!E199","v":0},null,null,null,null,null,{"$f":"UnObr5!F199","v":0},null,null,null,null,{"$f":"UnObr5!G199","v":0},null,null,null,null,{"$f":"UnObr5!H199","v":0},null,null,null,null,{"$f":"UnObr5!I199","v":0},null,null,null,{"$f":"UnObr5!J199","v":0},null,null,null,null,{"$f":"UnObr5!K199","v":0}]
[5196,null,null,420000,null,null,null,"КОРИШЋЕЊЕ УСЛУГА И РОБА \n(5197 + 5205 + 5211 + 5220 + 5228 + 5231)",null,null,null,null,null,null,null,null,null,null,null,null,null,null,null,null,{"$f":"UnObr5!D200","v":41500},null,null,null,null,{"$f":"UnObr5!E200","v":37468},null,null,null,null,null,{"$f":"UnObr5!F200","v":10917},null,null,null,null,{"$f":"UnObr5!G200","v":0},null,null,null,null,{"$f":"UnObr5!H200","v":26283},null,null,null,null,{"$f":"UnObr5!I200","v":0},null,null,null,{"$f":"UnObr5!J200","v":0},null,null,null,null,{"$f":"UnObr5!K200","v":268}]
[5197,null,null,421000,null,null,null,"СТАЛНИ ТРОШКОВИ (од 5198 до 5204)",null,null,null,null,null,null,null,null,null,null,null,null,null,null,null,null,{"$f":"UnObr5!D201","v":12000},null,null,null,null,{"$f":"UnObr5!E201","v":10626},null,null,null,null,null,{"$f":"UnObr5!F201","v":746},null,null,null,null,{"$f":"UnObr5!G201","v":0},null,null,null,null,{"$f":"UnObr5!H201","v":9871},null,null,null,null,{"$f":"UnObr5!I201","v":0},null,null,null,{"$f":"UnObr5!J201","v":0},null,null,null,null,{"$f":"UnObr5!K201","v":9}]
[5198,null,null,421100,null,null,null,"Трошкови платног промета и банкарских услуга",null,null,null,null,null,null,null,null,null,null,null,null,null,null,null,null,{"$f":"UnObr5!D202","v":210},null,null,null,null,{"$f":"UnObr5!E202","v":210},null,null,null,null,null,{"$f":"UnObr5!F202","v":166},null,null,null,null,{"$f":"UnObr5!G202","v":0},null,null,null,null,{"$f":"UnObr5!H202","v":35},null,null,null,null,{"$f":"UnObr5!I202","v":0},null,null,null,{"$f":"UnObr5!J202","v":0},null,null,null,null,{"$f":"UnObr5!K202","v":9}]
[5199,null,null,421200,null,null,null,"Енергетске услуге",null,null,null,null,null,null,null,null,null,null,null,null,null,null,null,null,{"$f":"UnObr5!D203","v":9086},null,null,null,null,{"$f":"UnObr5!E203","v":8273},null,null,null,null,null,{"$f":"UnObr5!F203","v":200},null,null,null,null,{"$f":"UnObr5!G203","v":0},null,null,null,null,{"$f":"UnObr5!H203","v":8073},null,null,null,null,{"$f":"UnObr5!I203","v":0},null,null,null,{"$f":"UnObr5!J203","v":0},null,null,null,null,{"$f":"UnObr5!K203","v":0}]
[5200,null,null,421300,null,null,null,"Комуналне услуге",null,null,null,null,null,null,null,null,null,null,null,null,null,null,null,null,{"$f":"UnObr5!D204","v":1843},null,null,null,null,{"$f":"UnObr5!E204","v":1559},null,null,null,null,null,{"$f":"UnObr5!F204","v":64},null,null,null,null,{"$f":"UnObr5!G204","v":0},null,null,null,null,{"$f":"UnObr5!H204","v":1495},null,null,null,null,{"$f":"UnObr5!I204","v":0},null,null,null,{"$f":"UnObr5!J204","v":0},null,null,null,null,{"$f":"UnObr5!K204","v":0}]
[5201,null,null,421400,null,null,null,"Услуге комуникација",null,null,null,null,null,null,null,null,null,null,null,null,null,null,null,null,{"$f":"UnObr5!D205","v":641},null,null,null,null,{"$f":"UnObr5!E205","v":471},null,null,null,null,null,{"$f":"UnObr5!F205","v":203},null,null,null,null,{"$f":"UnObr5!G205","v":0},null,null,null,null,{"$f":"UnObr5!H205","v":268},null,null,null,null,{"$f":"UnObr5!I205","v":0},null,null,null,{"$f":"UnObr5!J205","v":0},null,null,null,null,{"$f":"UnObr5!K205","v":0}]
[5202,null,null,421500,null,null,null,"Трошкови осигурања",null,null,null,null,null,null,null,null,null,null,null,null,null,null,null,null,{"$f":"UnObr5!D206","v":220},null,null,null,null,{"$f":"UnObr5!E206","v":113},null,null,null,null,null,{"$f":"UnObr5!F206","v":113},null,null,null,null,{"$f":"UnObr5!G206","v":0},null,null,null,null,{"$f":"UnObr5!H206","v":0},null,null,null,null,{"$f":"UnObr5!I206","v":0},null,null,null,{"$f":"UnObr5!J206","v":0},null,null,null,null,{"$f":"UnObr5!K206","v":0}]
[5203,null,null,421600,null,null,null,"Закуп имовине и опреме",null,null,null,null,null,null,null,null,null,null,null,null,null,null,null,null,{"$f":"UnObr5!D207","v":0},null,null,null,null,{"$f":"UnObr5!E207","v":0},null,null,null,null,null,{"$f":"UnObr5!F207","v":0},null,null,null,null,{"$f":"UnObr5!G207","v":0},null,null,null,null,{"$f":"UnObr5!H207","v":0},null,null,null,null,{"$f":"UnObr5!I207","v":0},null,null,null,{"$f":"UnObr5!J207","v":0},null,null,null,null,{"$f":"UnObr5!K207","v":0}]
[5204,null,null,421900,null,null,null,"Остали трошкови",null,null,null,null,null,null,null,null,null,null,null,null,null,null,null,null,{"$f":"UnObr5!D208","v":0},null,null,null,null,{"$f":"UnObr5!E208","v":0},null,null,null,null,null,{"$f":"UnObr5!F208","v":0},null,null,null,null,{"$f":"UnObr5!G208","v":0},null,null,null,null,{"$f":"UnObr5!H208","v":0},null,null,null,null,{"$f":"UnObr5!I208","v":0},null,null,null,{"$f":"UnObr5!J208","v":0},null,null,null,null,{"$f":"UnObr5!K208","v":0}]
[5205,null,null,422000,null,null,null,"ТРОШКОВИ ПУТОВАЊА (од 5206 до 5210)",null,null,null,null,null,null,null,null,null,null,null,null,null,null,null,null,{"$f":"UnObr5!D209","v":400},null,null,null,null,{"$f":"UnObr5!E209","v":780},null,null,null,null,null,{"$f":"UnObr5!F209","v":510},null,null,null,null,{"$f":"UnObr5!G209","v":0},null,null,null,null,{"$f":"UnObr5!H209","v":270},null,null,null,null,{"$f":"UnObr5!I209","v":0},null,null,null,{"$f":"UnObr5!J209","v":0},null,null,null,null,{"$f":"UnObr5!K209","v":0}]
[5206,null,null,422100,null,null,null,"Трошкови службених путовања у земљи",null,null,null,null,null,null,null,null,null,null,null,null,null,null,null,null,{"$f":"UnObr5!D210","v":315},null,null,null,null,{"$f":"UnObr5!E210","v":630},null,null,null,null,null,{"$f":"UnObr5!F210","v":360},null,null,null,null,{"$f":"UnObr5!G210","v":0},null,null,null,null,{"$f":"UnObr5!H210","v":270},null,null,null,null,{"$f":"UnObr5!I210","v":0},null,null,null,{"$f":"UnObr5!J210","v":0},null,null,null,null,{"$f":"UnObr5!K210","v":0}]
[5207,null,null,422200,null,null,null,"Трошкови службених путовања у иностранство",null,null,null,null,null,null,null,null,null,null,null,null,null,null,null,null,{"$f":"UnObr5!D211","v":0},null,null,null,null,{"$f":"UnObr5!E211","v":0},null,null,null,null,null,{"$f":"UnObr5!F211","v":0},null,null,null,null,{"$f":"UnObr5!G211","v":0},null,null,null,null,{"$f":"UnObr5!H211","v":0},null,null,null,null,{"$f":"UnObr5!I211","v":0},null,null,null,{"$f":"UnObr5!J211","v":0},null,null,null,null,{"$f":"UnObr5!K211","v":0}]
[5208,null,null,422300,null,null,null,"Трошкови путовања у оквиру редовног рада",null,null,null,null,null,null,null,null,null,null,null,null,null,null,null,null,{"$f":"UnObr5!D212","v":85},null,null,null,null,{"$f":"UnObr5!E212","v":150},null,null,null,null,null,{"$f":"UnObr5!F212","v":150},null,null,null,null,{"$f":"UnObr5!G212","v":0},null,null,null,null,{"$f":"UnObr5!H212","v":0},null,null,null,null,{"$f":"UnObr5!I212","v":0},null,null,null,{"$f":"UnObr5!J212","v":0},null,null,null,null,{"$f":"UnObr5!K212","v":0}]
[5209,null,null,422400,null,null,null,"Трошкови путовања ученика",null,null,null,null,null,null,null,null,null,null,null,null,null,null,null,null,{"$f":"UnObr5!D213","v":0},null,null,null,null,{"$f":"UnObr5!E213","v":0},null,null,null,null,null,{"$f":"UnObr5!F213","v":0},null,null,null,null,{"$f":"UnObr5!G213","v":0},null,null,null,null,{"$f":"UnObr5!H213","v":0},null,null,null,null,{"$f":"UnObr5!I213","v":0},null,null,null,{"$f":"UnObr5!J213","v":0},null,null,null,null,{"$f":"UnObr5!K213","v":0}]
[5210,null,null,422900,null,null,null,"Остали трошкови транспорта",null,null,null,null,null,null,null,null,null,null,null,null,null,null,null,null,{"$f":"UnObr5!D214","v":0},null,null,null,null,{"$f":"UnObr5!E214","v":0},null,null,null,null,null,{"$f":"UnObr5!F214","v":0},null,null,null,null,{"$f":"UnObr5!G214","v":0},null,null,null,null,{"$f":"UnObr5!H214","v":0},null,null,null,null,{"$f":"UnObr5!I214","v":0},null,null,null,{"$f":"UnObr5!J214","v":0},null,null,null,null,{"$f":"UnObr5!K214","v":0}]
[5211,null,null,423000,null,null,null,"УСЛУГЕ ПО УГОВОРУ (од 5212 до 5219)",null,null,null,null,null,null,null,null,null,null,null,null,null,null,null,null,{"$f":"UnObr5!D215","v":3600},null,null,null,null,{"$f":"UnObr5!E215","v":3401},null,null,null,null,null,{"$f":"UnObr5!F215","v":465},null,null,null,null,{"$f":"UnObr5!G215","v":0},null,null,null,null,{"$f":"UnObr5!H215","v":2696},null,null,null,null,{"$f":"UnObr5!I215","v":0},null,null,null,{"$f":"UnObr5!J215","v":0},null,null,null,null,{"$f":"UnObr5!K215","v":240}]
[5212,null,null,423100,null,null,null,"Административне услуге",null,null,null,null,null,null,null,null,null,null,null,null,null,null,null,null,{"$f":"UnObr5!D216","v":0},null,null,null,null,{"$f":"UnObr5!E216","v":0},null,null,null,null,null,{"$f":"UnObr5!F216","v":0},null,null,null,null,{"$f":"UnObr5!G216","v":0},null,null,null,null,{"$f":"UnObr5!H216","v":0},null,null,null,null,{"$f":"UnObr5!I216","v":0},null,null,null,{"$f":"UnObr5!J216","v":0},null,null,null,null,{"$f":"UnObr5!K216","v":0}]
[5213,null,null,423200,null,null,null,"Компјутерске услуге",null,null,null,null,null,null,null,null,null,null,null,null,null,null,null,null,{"$f":"UnObr5!D217","v":102},null,null,null,null,{"$f":"UnObr5!E217","v":101},null,null,null,null,null,{"$f":"UnObr5!F217","v":22},null,null,null,null,{"$f":"UnObr5!G217","v":0},null,null,null,null,{"$f":"UnObr5!H217","v":79},null,null,null,null,{"$f":"UnObr5!I217","v":0},null,null,null,{"$f":"UnObr5!J217","v":0},null,null,null,null,{"$f":"UnObr5!K217","v":0}]
[5214,null,null,423300,null,null,null,"Услуге образовања и усавршавања запослених",null,null,null,null,null,null,null,null,null,null,null,null,null,null,null,null,{"$f":"UnObr5!D218","v":195},null,null,null,null,{"$f":"UnObr5!E218","v":187},null,null,null,null,null,{"$f":"UnObr5!F218","v":62},null,null,null,null,{"$f":"UnObr5!G218","v":0},null,null,null,null,{"$f":"UnObr5!H218","v":125},null,null,null,null,{"$f":"UnObr5!I218","v":0},null,null,null,{"$f":"UnObr5!J218","v":0},null,null,null,null,{"$f":"UnObr5!K218","v":0}]
[5215,null,null,423400,null,null,null,"Услуге информисања",null,null,null,null,null,null,null,null,null,null,null,null,null,null,null,null,{"$f":"UnObr5!D219","v":107},null,null,null,null,{"$f":"UnObr5!E219","v":87},null,null,null,null,null,{"$f":"UnObr5!F219","v":9},null,null,null,null,{"$f":"UnObr5!G219","v":0},null,null,null,null,{"$f":"UnObr5!H219","v":78},null,null,null,null,{"$f":"UnObr5!I219","v":0},null,null,null,{"$f":"UnObr5!J219","v":0},null,null,null,null,{"$f":"UnObr5!K219","v":0}]
["Ознака\nОП",null,null,"Број\nконта",null,null,null,"Опис",null,null,null,null,null,null,null,null,null,null,null,null,null,null,null,null,"Износ\nодобрених апропријација",null,null,null,null,"Износ извршених расхода и издатака"]
[null,null,null,null,null,null,null,null,null,null,null,null,null,null,null,null,null,null,null,null,null,null,null,null,null,null,null,null,null,"Укупно \n(од 6 до 11)",null,null,null,null,null,"Расходи и издаци на терет буџета",null,null,null,null,null,null,null,null,null,null,null,null,null,null,null,null,null,null,"Из\nдонација и помоћи",null,null,null,null,"Из \nосталих\nизвора"]
[null,null,null,null,null,null,null,null,null,null,null,null,null,null,null,null,null,null,null,null,null,null,null,null,null,null,null,null,null,null,null,null,null,null,null,"Републике",null,null,null,null,"Аутономне\nпокрајине",null,null,null,null,"Општине /\nграда",null,null,null,null,"ООСО"]
[]
[1,null,null,2,null,null,null,3,null,null,null,null,null,null,null,null,null,null,null,null,null,null,null,null,4,null,null,null,null,5,null,null,null,null,null,6,null,null,null,null,7,null,null,null,null,8,null,null,null,null,9,null,null,null,10,null,null,null,null,11]
[5216,null,null,423500,null,null,null,"Стручне услуге",null,null,null,null,null,null,null,null,null,null,null,null,null,null,null,null,{"$f":"UnObr5!D220","v":0},null,null,null,null,{"$f":"UnObr5!E220","v":0},null,null,null,null,null,{"$f":"UnObr5!F220","v":0},null,null,null,null,{"$f":"UnObr5!G220","v":0},null,null,null,null,{"$f":"UnObr5!H220","v":0},null,null,null,null,{"$f":"UnObr5!I220","v":0},null,null,null,{"$f":"UnObr5!J220","v":0},null,null,null,null,{"$f":"UnObr5!K220","v":0}]
[5217,null,null,423600,null,null,null,"Услуге за домаћинство и угоститељство",null,null,null,null,null,null,null,null,null,null,null,null,null,null,null,null,{"$f":"UnObr5!D221","v":130},null,null,null,null,{"$f":"UnObr5!E221","v":106},null,null,null,null,null,{"$f":"UnObr5!F221","v":106},null,null,null,null,{"$f":"UnObr5!G221","v":0},null,null,null,null,{"$f":"UnObr5!H221","v":0},null,null,null,null,{"$f":"UnObr5!I221","v":0},null,null,null,{"$f":"UnObr5!J221","v":0},null,null,null,null,{"$f":"UnObr5!K221","v":0}]
[5218,null,null,423700,null,null,null,"Репрезентација",null,null,null,null,null,null,null,null,null,null,null,null,null,null,null,null,{"$f":"UnObr5!D222","v":0},null,null,null,null,{"$f":"UnObr5!E222","v":0},null,null,null,null,null,{"$f":"UnObr5!F222","v":0},null,null,null,null,{"$f":"UnObr5!G222","v":0},null,null,null,null,{"$f":"UnObr5!H222","v":0},null,null,null,null,{"$f":"UnObr5!I222","v":0},null,null,null,{"$f":"UnObr5!J222","v":0},null,null,null,null,{"$f":"UnObr5!K222","v":0}]
[5219,null,null,423900,null,null,null,"Остале опште услуге",null,null,null,null,null,null,null,null,null,null,null,null,null,null,null,null,{"$f":"UnObr5!D223","v":3066},null,null,null,null,{"$f":"UnObr5!E223","v":2920},null,null,null,null,null,{"$f":"UnObr5!F223","v":266},null,null,null,null,{"$f":"UnObr5!G223","v":0},null,null,null,null,{"$f":"UnObr5!H223","v":2414},null,null,null,null,{"$f":"UnObr5!I223","v":0},null,null,null,{"$f":"UnObr5!J223","v":0},null,null,null,null,{"$f":"UnObr5!K223","v":240}]
[5220,null,null,424000,null,null,null,"СПЕЦИЈАЛИЗОВАНЕ УСЛУГЕ \n(од 5221 до 5227)",null,null,null,null,null,null,null,null,null,null,null,null,null,null,null,null,{"$f":"UnObr5!D224","v":2400},null,null,null,null,{"$f":"UnObr5!E224","v":2165},null,null,null,null,null,{"$f":"UnObr5!F224","v":145},null,null,null,null,{"$f":"UnObr5!G224","v":0},null,null,null,null,{"$f":"UnObr5!H224","v":2020},null,null,null,null,{"$f":"UnObr5!I224","v":0},null,null,null,{"$f":"UnObr5!J224","v":0},null,null,null,null,{"$f":"UnObr5!K224","v":0}]
[5221,null,null,424100,null,null,null,"Пољопривредне услуге",null,null,null,null,null,null,null,null,null,null,null,null,null,null,null,null,{"$f":"UnObr5!D225","v":0},null,null,null,null,{"$f":"UnObr5!E225","v":0},null,null,null,null,null,{"$f":"UnObr5!F225","v":0},null,null,null,null,{"$f":"UnObr5!G225","v":0},null,null,null,null,{"$f":"UnObr5!H225","v":0},null,null,null,null,{"$f":"UnObr5!I225","v":0},null,null,null,{"$f":"UnObr5!J225","v":0},null,null,null,null,{"$f":"UnObr5!K225","v":0}]
[5222,null,null,424200,null,null,null,"Услуге образовања, културе и спорта",null,null,null,null,null,null,null,null,null,null,null,null,null,null,null,null,{"$f":"UnObr5!D226","v":335},null,null,null,null,{"$f":"UnObr5!E226","v":181},null,null,null,null,null,{"$f":"UnObr5!F226","v":53},null,null,null,null,{"$f":"UnObr5!G226","v":0},null,null,null,null,{"$f":"UnObr5!H226","v":128},null,null,null,null,{"$f":"UnObr5!I226","v":0},null,null,null,{"$f":"UnObr5!J226","v":0},null,null,null,null,{"$f":"UnObr5!K226","v":0}]
[5223,null,null,424300,null,null,null,"Медицинске услуге",null,null,null,null,null,null,null,null,null,null,null,null,null,null,null,null,{"$f":"UnObr5!D227","v":0},null,null,null,null,{"$f":"UnObr5!E227","v":0},null,null,null,null,null,{"$f":"UnObr5!F227","v":0},null,null,null,null,{"$f":"UnObr5!G227","v":0},null,null,null,null,{"$f":"UnObr5!H227","v":0},null,null,null,null,{"$f":"UnObr5!I227","v":0},null,null,null,{"$f":"UnObr5!J227","v":0},null,null,null,null,{"$f":"UnObr5!K227","v":0}]
[5224,null,null,424400,null,null,null,"Услуге одржавања аутопутева",null,null,null,null,null,null,null,null,null,null,null,null,null,null,null,null,{"$f":"UnObr5!D228","v":0},null,null,null,null,{"$f":"UnObr5!E228","v":0},null,null,null,null,null,{"$f":"UnObr5!F228","v":0},null,null,null,null,{"$f":"UnObr5!G228","v":0},null,null,null,null,{"$f":"UnObr5!H228","v":0},null,null,null,null,{"$f":"UnObr5!I228","v":0},null,null,null,{"$f":"UnObr5!J228","v":0},null,null,null,null,{"$f":"UnObr5!K228","v":0}]
[5225,null,null,424500,null,null,null,"Услуге одржавања националних паркова и природних површина",null,null,null,null,null,null,null,null,null,null,null,null,null,null,null,null,{"$f":"UnObr5!D229","v":0},null,null,null,null,{"$f":"UnObr5!E229","v":0},null,null,null,null,null,{"$f":"UnObr5!F229","v":0},null,null,null,null,{"$f":"UnObr5!G229","v":0},null,null,null,null,{"$f":"UnObr5!H229","v":0},null,null,null,null,{"$f":"UnObr5!I229","v":0},null,null,null,{"$f":"UnObr5!J229","v":0},null,null,null,null,{"$f":"UnObr5!K229","v":0}]
[5226,null,null,424600,null,null,null,"Услуге очувања животне средине, науке и \nгеодетске услуге",null,null,null,null,null,null,null,null,null,null,null,null,null,null,null,null,{"$f":"UnObr5!D230","v":0},null,null,null,null,{"$f":"UnObr5!E230","v":0},null,null,null,null,null,{"$f":"UnObr5!F230","v":0},null,null,null,null,{"$f":"UnObr5!G230","v":0},null,null,null,null,{"$f":"UnObr5!H230","v":0},null,null,null,null,{"$f":"UnObr5!I230","v":0},null,null,null,{"$f":"UnObr5!J230","v":0},null,null,null,null,{"$f":"UnObr5!K230","v":0}]
[5227,null,null,424900,null,null,null,"Остале специјализоване услуге",null,null,null,null,null,null,null,null,null,null,null,null,null,null,null,null,{"$f":"UnObr5!D231","v":2065},null,null,null,null,{"$f":"UnObr5!E231","v":1984},null,null,null,null,null,{"$f":"UnObr5!F231","v":92},null,null,null,null,{"$f":"UnObr5!G231","v":0},null,null,null,null,{"$f":"UnObr5!H231","v":1892},null,null,null,null,{"$f":"UnObr5!I231","v":0},null,null,null,{"$f":"UnObr5!J231","v":0},null,null,null,null,{"$f":"UnObr5!K231","v":0}]
[5228,null,null,425000,null,null,null,"ТЕКУЋЕ ПОПРАВКЕ И ОДРЖАВАЊЕ \n(5229 + 5230)",null,null,null,null,null,null,null,null,null,null,null,null,null,null,null,null,{"$f":"UnObr5!D232","v":2400},null,null,null,null,{"$f":"UnObr5!E232","v":2034},null,null,null,null,null,{"$f":"UnObr5!F232","v":487},null,null,null,null,{"$f":"UnObr5!G232","v":0},null,null,null,null,{"$f":"UnObr5!H232","v":1547},null,null,null,null,{"$f":"UnObr5!I232","v":0},null,null,null,{"$f":"UnObr5!J232","v":0},null,null,null,null,{"$f":"UnObr5!K232","v":0}]
[5229,null,null,425100,null,null,null,"Текуће поправке и одржавање зграда и објеката",null,null,null,null,null,null,null,null,null,null,null,null,null,null,null,null,{"$f":"UnObr5!D233","v":1585},null,null,null,null,{"$f":"UnObr5!E233","v":1451},null,null,null,null,null,{"$f":"UnObr5!F233","v":345},null,null,null,null,{"$f":"UnObr5!G233","v":0},null,null,null,null,{"$f":"UnObr5!H233","v":1106},null,null,null,null,{"$f":"UnObr5!I233","v":0},null,null,null,{"$f":"UnObr5!J233","v":0},null,null,null,null,{"$f":"UnObr5!K233","v":0}]
[5230,null,null,425200,null,null,null,"Текуће поправке и одржавање опреме",null,null,null,null,null,null,null,null,null,null,null,null,null,null,null,null,{"$f":"UnObr5!D234","v":815},null,null,null,null,{"$f":"UnObr5!E234","v":583},null,null,null,null,null,{"$f":"UnObr5!F234","v":142},null,null,null,null,{"$f":"UnObr5!G234","v":0},null,null,null,null,{"$f":"UnObr5!H234","v":441},null,null,null,null,{"$f":"UnObr5!I234","v":0},null,null,null,{"$f":"UnObr5!J234","v":0},null,null,null,null,{"$f":"UnObr5!K234","v":0}]
[5231,null,null,426000,null,null,null,"МАТЕРИЈАЛ (од 5232 до 5240)",null,null,null,null,null,null,null,null,null,null,null,null,null,null,null,null,{"$f":"UnObr5!D235","v":20700},null,null,null,null,{"$f":"UnObr5!E235","v":18462},null,null,null,null,null,{"$f":"UnObr5!F235","v":8564},null,null,null,null,{"$f":"UnObr5!G235","v":0},null,null,null,null,{"$f":"UnObr5!H235","v":9879},null,null,null,null,{"$f":"UnObr5!I235","v":0},null,null,null,{"$f":"UnObr5!J235","v":0},null,null,null,null,{"$f":"UnObr5!K235","v":19}]
[5232,null,null,426100,null,null,null,"Административни материјал",null,null,null,null,null,null,null,null,null,null,null,null,null,null,null,null,{"$f":"UnObr5!D236","v":795},null,null,null,null,{"$f":"UnObr5!E236","v":665},null,null,null,null,null,{"$f":"UnObr5!F236","v":258},null,null,null,null,{"$f":"UnObr5!G236","v":0},null,null,null,null,{"$f":"UnObr5!H236","v":407},null,null,null,null,{"$f":"UnObr5!I236","v":0},null,null,null,{"$f":"UnObr5!J236","v":0},null,null,null,null,{"$f":"UnObr5!K236","v":0}]
[5233,null,null,426200,null,null,null,"Материјали за пољопривреду",null,null,null,null,null,null,null,null,null,null,null,null,null,null,null,null,{"$f":"UnObr5!D237","v":0},null,null,null,null,{"$f":"UnObr5!E237","v":0},null,null,null,null,null,{"$f":"UnObr5!F237","v":0},null,null,null,null,{"$f":"UnObr5!G237","v":0},null,null,null,null,{"$f":"UnObr5!H237","v":0},null,null,null,null,{"$f":"UnObr5!I237","v":0},null,null,null,{"$f":"UnObr5!J237","v":0},null,null,null,null,{"$f":"UnObr5!K237","v":0}]
[5234,null,null,426300,null,null,null,"Материјали за образовање и усавршавање запослених",null,null,null,null,null,null,null,null,null,null,null,null,null,null,null,null,{"$f":"UnObr5!D238","v":300},null,null,null,null,{"$f":"UnObr5!E238","v":250},null,null,null,null,null,{"$f":"UnObr5!F238","v":250},null,null,null,null,{"$f":"UnObr5!G238","v":0},null,null,null,null,{"$f":"UnObr5!H238","v":0},null,null,null,null,{"$f":"UnObr5!I238","v":0},null,null,null,{"$f":"UnObr5!J238","v":0},null,null,null,null,{"$f":"UnObr5!K238","v":0}]
[5235,null,null,426400,null,null,null,"Материјали за саобраћај",null,null,null,null,null,null,null,null,null,null,null,null,null,null,null,null,{"$f":"UnObr5!D239","v":598},null,null,null,null,{"$f":"UnObr5!E239","v":598},null,null,null,null,null,{"$f":"UnObr5!F239","v":598},null,null,null,null,{"$f":"UnObr5!G239","v":0},null,null,null,null,{"$f":"UnObr5!H239","v":0},null,null,null,null,{"$f":"UnObr5!I239","v":0},null,null,null,{"$f":"UnObr5!J239","v":0},null,null,null,null,{"$f":"UnObr5!K239","v":0}]
[5236,null,null,426500,null,null,null,"Материјали за очување животне средине и науку",null,null,null,null,null,null,null,null,null,null,null,null,null,null,null,null,{"$f":"UnObr5!D240","v":0},null,null,null,null,{"$f":"UnObr5!E240","v":0},null,null,null,null,null,{"$f":"UnObr5!F240","v":0},null,null,null,null,{"$f":"UnObr5!G240","v":0},null,null,null,null,{"$f":"UnObr5!H240","v":0},null,null,null,null,{"$f":"UnObr5!I240","v":0},null,null,null,{"$f":"UnObr5!J240","v":0},null,null,null,null,{"$f":"UnObr5!K240","v":0}]
[5237,null,null,426600,null,null,null,"Материјали за образовање, културу и спорт",null,null,null,null,null,null,null,null,null,null,null,null,null,null,null,null,{"$f":"UnObr5!D241","v":1125},null,null,null,null,{"$f":"UnObr5!E241","v":1033},null,null,null,null,null,{"$f":"UnObr5!F241","v":610},null,null,null,null,{"$f":"UnObr5!G241","v":0},null,null,null,null,{"$f":"UnObr5!H241","v":418},null,null,null,null,{"$f":"UnObr5!I241","v":0},null,null,null,{"$f":"UnObr5!J241","v":0},null,null,null,null,{"$f":"UnObr5!K241","v":5}]
[5238,null,null,426700,null,null,null,"Медицински и лабораторијски материјали",null,null,null,null,null,null,null,null,null,null,null,null,null,null,null,null,{"$f":"UnObr5!D242","v":0},null,null,null,null,{"$f":"UnObr5!E242","v":0},null,null,null,null,null,{"$f":"UnObr5!F242","v":0},null,null,null,null,{"$f":"UnObr5!G242","v":0},null,null,null,null,{"$f":"UnObr5!H242","v":0},null,null,null,null,{"$f":"UnObr5!I242","v":0},null,null,null,{"$f":"UnObr5!J242","v":0},null,null,null,null,{"$f":"UnObr5!K242","v":0}]
["Ознака\nОП",null,null,"Број\nконта",null,null,null,"Опис",null,null,null,null,null,null,null,null,null,null,null,null,null,null,null,null,"Износ\nодобрених апропријација",null,null,null,null,"Износ извршених расхода и издатака"]
[null,null,null,null,null,null,null,null,null,null,null,null,null,null,null,null,null,null,null,null,null,null,null,null,null,null,null,null,null,"Укупно \n(од 6 до 11)",null,null,null,null,null,"Расходи и издаци на терет буџета",null,null,null,null,null,null,null,null,null,null,null,null,null,null,null,null,null,null,"Из\nдонација и помоћи",null,null,null,null,"Из \nосталих\nизвора"]
[null,null,null,null,null,null,null,null,null,null,null,null,null,null,null,null,null,null,null,null,null,null,null,null,null,null,null,null,null,null,null,null,null,null,null,"Републике",null,null,null,null,"Аутономне\nпокрајине",null,null,null,null,"Општине /\nграда",null,null,null,null,"ООСО"]
[]
[1,null,null,2,null,null,null,3,null,null,null,null,null,null,null,null,null,null,null,null,null,null,null,null,4,null,null,null,null,5,null,null,null,null,null,6,null,null,null,null,7,null,null,null,null,8,null,null,null,null,9,null,null,null,10,null,null,null,null,11]
[5239,null,null,426800,null,null,null,"Материјали за одржавање хигијене и угоститељство",null,null,null,null,null,null,null,null,null,null,null,null,null,null,null,null,{"$f":"UnObr5!D243","v":15257},null,null,null,null,{"$f":"UnObr5!E243","v":13816},null,null,null,null,null,{"$f":"UnObr5!F243","v":5660},null,null,null,null,{"$f":"UnObr5!G243","v":0},null,null,null,null,{"$f":"UnObr5!H243","v":8142},null,null,null,null,{"$f":"UnObr5!I243","v":0},null,null,null,{"$f":"UnObr5!J243","v":0},null,null,null,null,{"$f":"UnObr5!K243","v":14}]
[5240,null,null,426900,null,null,null,"Материјали за посебне намене",null,null,null,null,null,null,null,null,null,null,null,null,null,null,null,null,{"$f":"UnObr5!D244","v":2625},null,null,null,null,{"$f":"UnObr5!E244","v":2100},null,null,null,null,null,{"$f":"UnObr5!F244","v":1188},null,null,null,null,{"$f":"UnObr5!G244","v":0},null,null,null,null,{"$f":"UnObr5!H244","v":912},null,null,null,null,{"$f":"UnObr5!I244","v":0},null,null,null,{"$f":"UnObr5!J244","v":0},null,null,null,null,{"$f":"UnObr5!K244","v":0}]
[5241,null,null,430000,null,null,null,"АМОРТИЗАЦИЈА И УПОТРЕБА СРЕДСТАВА ЗА РАД (5242 + 5246 + 5248 + 5250 + 5254)",null,null,null,null,null,null,null,null,null,null,null,null,null,null,null,null,{"$f":"UnObr5!D245","v":0},null,null,null,null,{"$f":"UnObr5!E245","v":0},null,null,null,null,null,{"$f":"UnObr5!F245","v":0},null,null,null,null,{"$f":"UnObr5!G245","v":0},null,null,null,null,{"$f":"UnObr5!H245","v":0},null,null,null,null,{"$f":"UnObr5!I245","v":0},null,null,null,{"$f":"UnObr5!J245","v":0},null,null,null,null,{"$f":"UnObr5!K245","v":0}]
[5242,null,null,431000,null,null,null,"АМОРТИЗАЦИЈА НЕКРЕТНИНА И ОПРЕМЕ \n(од 5243 до 5245)",null,null,null,null,null,null,null,null,null,null,null,null,null,null,null,null,{"$f":"UnObr5!D246","v":0},null,null,null,null,{"$f":"UnObr5!E246","v":0},null,null,null,null,null,{"$f":"UnObr5!F246","v":0},null,null,null,null,{"$f":"UnObr5!G246","v":0},null,null,null,null,{"$f":"UnObr5!H246","v":0},null,null,null,null,{"$f":"UnObr5!I246","v":0},null,null,null,{"$f":"UnObr5!J246","v":0},null,null,null,null,{"$f":"UnObr5!K246","v":0}]
[5243,null,null,431100,null,null,null,"Амортизација зграда и грађевинскиx објеката",null,null,null,null,null,null,null,null,null,null,null,null,null,null,null,null,{"$f":"UnObr5!D247","v":0},null,null,null,null,{"$f":"UnObr5!E247","v":0},null,null,null,null,null,{"$f":"UnObr5!F247","v":0},null,null,null,null,{"$f":"UnObr5!G247","v":0},null,null,null,null,{"$f":"UnObr5!H247","v":0},null,null,null,null,{"$f":"UnObr5!I247","v":0},null,null,null,{"$f":"UnObr5!J247","v":0},null,null,null,null,{"$f":"UnObr5!K247","v":0}]
[5244,null,null,431200,null,null,null,"Амортизација опреме",null,null,null,null,null,null,null,null,null,null,null,null,null,null,null,null,{"$f":"UnObr5!D248","v":0},null,null,null,null,{"$f":"UnObr5!E248","v":0},null,null,null,null,null,{"$f":"UnObr5!F248","v":0},null,null,null,null,{"$f":"UnObr5!G248","v":0},null,null,null,null,{"$f":"UnObr5!H248","v":0},null,null,null,null,{"$f":"UnObr5!I248","v":0},null,null,null,{"$f":"UnObr5!J248","v":0},null,null,null,null,{"$f":"UnObr5!K248","v":0}]
[5245,null,null,431300,null,null,null,"Амортизација осталих некретнина и опреме",null,null,null,null,null,null,null,null,null,null,null,null,null,null,null,null,{"$f":"UnObr5!D249","v":0},null,null,null,null,{"$f":"UnObr5!E249","v":0},null,null,null,null,null,{"$f":"UnObr5!F249","v":0},null,null,null,null,{"$f":"UnObr5!G249","v":0},null,null,null,null,{"$f":"UnObr5!H249","v":0},null,null,null,null,{"$f":"UnObr5!I249","v":0},null,null,null,{"$f":"UnObr5!J249","v":0},null,null,null,null,{"$f":"UnObr5!K249","v":0}]
[5246,null,null,432000,null,null,null,"АМОРТИЗАЦИЈА КУЛТИВИСАНЕ \nИМОВИНЕ (5247)",null,null,null,null,null,null,null,null,null,null,null,null,null,null,null,null,{"$f":"UnObr5!D250","v":0},null,null,null,null,{"$f":"UnObr5!E250","v":0},null,null,null,null,null,{"$f":"UnObr5!F250","v":0},null,null,null,null,{"$f":"UnObr5!G250","v":0},null,null,null,null,{"$f":"UnObr5!H250","v":0},null,null,null,null,{"$f":"UnObr5!I250","v":0},null,null,null,{"$f":"UnObr5!J250","v":0},null,null,null,null,{"$f":"UnObr5!K250","v":0}]
[5247,null,null,432100,null,null,null,"Амортизација култивисане опреме",null,null,null,null,null,null,null,null,null,null,null,null,null,null,null,null,{"$f":"UnObr5!D251","v":0},null,null,null,null,{"$f":"UnObr5!E251","v":0},null,null,null,null,null,{"$f":"UnObr5!F251","v":0},null,null,null,null,{"$f":"UnObr5!G251","v":0},null,null,null,null,{"$f":"UnObr5!H251","v":0},null,null,null,null,{"$f":"UnObr5!I251","v":0},null,null,null,{"$f":"UnObr5!J251","v":0},null,null,null,null,{"$f":"UnObr5!K251","v":0}]
[5248,null,null,433000,null,null,null,"УПОТРЕБА ДРАГОЦЕНОСТИ (5249)",null,null,null,null,null,null,null,null,null,null,null,null,null,null,null,null,{"$f":"UnObr5!D252","v":0},null,null,null,null,{"$f":"UnObr5!E252","v":0},null,null,null,null,null,{"$f":"UnObr5!F252","v":0},null,null,null,null,{"$f":"UnObr5!G252","v":0},null,null,null,null,{"$f":"UnObr5!H252","v":0},null,null,null,null,{"$f":"UnObr5!I252","v":0},null,null,null,{"$f":"UnObr5!J252","v":0},null,null,null,null,{"$f":"UnObr5!K252","v":0}]
[5249,null,null,433100,null,null,null,"Употреба драгоцености",null,null,null,null,null,null,null,null,null,null,null,null,null,null,null,null,{"$f":"UnObr5!D253","v":0},null,null,null,null,{"$f":"UnObr5!E253","v":0},null,null,null,null,null,{"$f":"UnObr5!F253","v":0},null,null,null,null,{"$f":"UnObr5!G253","v":0},null,null,null,null,{"$f":"UnObr5!H253","v":0},null,null,null,null,{"$f":"UnObr5!I253","v":0},null,null,null,{"$f":"UnObr5!J253","v":0},null,null,null,null,{"$f":"UnObr5!K253","v":0}]
[5250,null,null,434000,null,null,null,"УПОТРЕБА ПРИРОДНЕ ИМОВИНЕ \n(од 5251 до 5253)",null,null,null,null,null,null,null,null,null,null,null,null,null,null,null,null,{"$f":"UnObr5!D254","v":0},null,null,null,null,{"$f":"UnObr5!E254","v":0},null,null,null,null,null,{"$f":"UnObr5!F254","v":0},null,null,null,null,{"$f":"UnObr5!G254","v":0},null,null,null,null,{"$f":"UnObr5!H254","v":0},null,null,null,null,{"$f":"UnObr5!I254","v":0},null,null,null,{"$f":"UnObr5!J254","v":0},null,null,null,null,{"$f":"UnObr5!K254","v":0}]
[5251,null,null,434100,null,null,null,"Употреба земљишта",null,null,null,null,null,null,null,null,null,null,null,null,null,null,null,null,{"$f":"UnObr5!D255","v":0},null,null,null,null,{"$f":"UnObr5!E255","v":0},null,null,null,null,null,{"$f":"UnObr5!F255","v":0},null,null,null,null,{"$f":"UnObr5!G255","v":0},null,null,null,null,{"$f":"UnObr5!H255","v":0},null,null,null,null,{"$f":"UnObr5!I255","v":0},null,null,null,{"$f":"UnObr5!J255","v":0},null,null,null,null,{"$f":"UnObr5!K255","v":0}]
[5252,null,null,434200,null,null,null,"Употреба подземног блага",null,null,null,null,null,null,null,null,null,null,null,null,null,null,null,null,{"$f":"UnObr5!D256","v":0},null,null,null,null,{"$f":"UnObr5!E256","v":0},null,null,null,null,null,{"$f":"UnObr5!F256","v":0},null,null,null,null,{"$f":"UnObr5!G256","v":0},null,null,null,null,{"$f":"UnObr5!H256","v":0},null,null,null,null,{"$f":"UnObr5!I256","v":0},null,null,null,{"$f":"UnObr5!J256","v":0},null,null,null,null,{"$f":"UnObr5!K256","v":0}]
[5253,null,null,434300,null,null,null,"Употреба шума и вода",null,null,null,null,null,null,null,null,null,null,null,null,null,null,null,null,{"$f":"UnObr5!D257","v":0},null,null,null,null,{"$f":"UnObr5!E257","v":0},null,null,null,null,null,{"$f":"UnObr5!F257","v":0},null,null,null,null,{"$f":"UnObr5!G257","v":0},null,null,null,null,{"$f":"UnObr5!H257","v":0},null,null,null,null,{"$f":"UnObr5!I257","v":0},null,null,null,{"$f":"UnObr5!J257","v":0},null,null,null,null,{"$f":"UnObr5!K257","v":0}]
[5254,null,null,435000,null,null,null,"АМОРТИЗАЦИЈА НЕМАТЕРИЈАЛНЕ ИМОВИНЕ (5255)",null,null,null,null,null,null,null,null,null,null,null,null,null,null,null,null,{"$f":"UnObr5!D258","v":0},null,null,null,null,{"$f":"UnObr5!E258","v":0},null,null,null,null,null,{"$f":"UnObr5!F258","v":0},null,null,null,null,{"$f":"UnObr5!G258","v":0},null,null,null,null,{"$f":"UnObr5!H258","v":0},null,null,null,null,{"$f":"UnObr5!I258","v":0},null,null,null,{"$f":"UnObr5!J258","v":0},null,null,null,null,{"$f":"UnObr5!K258","v":0}]
[5255,null,null,435100,null,null,null,"Амортизација нематеријалне имовине",null,null,null,null,null,null,null,null,null,null,null,null,null,null,null,null,{"$f":"UnObr5!D259","v":0},null,null,null,null,{"$f":"UnObr5!E259","v":0},null,null,null,null,null,{"$f":"UnObr5!F259","v":0},null,null,null,null,{"$f":"UnObr5!G259","v":0},null,null,null,null,{"$f":"UnObr5!H259","v":0},null,null,null,null,{"$f":"UnObr5!I259","v":0},null,null,null,{"$f":"UnObr5!J259","v":0},null,null,null,null,{"$f":"UnObr5!K259","v":0}]
[5256,null,null,440000,null,null,null,"ОТПЛАТА КАМАТА И ПРАТЕЋИ ТРОШКОВИ ЗАДУЖИВАЊА (5257 + 5267 + 5274 + 5276)",null,null,null,null,null,null,null,null,null,null,null,null,null,null,null,null,{"$f":"UnObr5!D260","v":0},null,null,null,null,{"$f":"UnObr5!E260","v":0},null,null,null,null,null,{"$f":"UnObr5!F260","v":0},null,null,null,null,{"$f":"UnObr5!G260","v":0},null,null,null,null,{"$f":"UnObr5!H260","v":0},null,null,null,null,{"$f":"UnObr5!I260","v":0},null,null,null,{"$f":"UnObr5!J260","v":0},null,null,null,null,{"$f":"UnObr5!K260","v":0}]
[5257,null,null,441000,null,null,null,"ОТПЛАТЕ ДОМАЋИХ КАМАТА \n(од 5258 до 5266)",null,null,null,null,null,null,null,null,null,null,null,null,null,null,null,null,{"$f":"UnObr5!D261","v":0},null,null,null,null,{"$f":"UnObr5!E261","v":0},null,null,null,null,null,{"$f":"UnObr5!F261","v":0},null,null,null,null,{"$f":"UnObr5!G261","v":0},null,null,null,null,{"$f":"UnObr5!H261","v":0},null,null,null,null,{"$f":"UnObr5!I261","v":0},null,null,null,{"$f":"UnObr5!J261","v":0},null,null,null,null,{"$f":"UnObr5!K261","v":0}]
[5258,null,null,441100,null,null,null,"Отплата камата на домаће хартије од вредности",null,null,null,null,null,null,null,null,null,null,null,null,null,null,null,null,{"$f":"UnObr5!D262","v":0},null,null,null,null,{"$f":"UnObr5!E262","v":0},null,null,null,null,null,{"$f":"UnObr5!F262","v":0},null,null,null,null,{"$f":"UnObr5!G262","v":0},null,null,null,null,{"$f":"UnObr5!H262","v":0},null,null,null,null,{"$f":"UnObr5!I262","v":0},null,null,null,{"$f":"UnObr5!J262","v":0},null,null,null,null,{"$f":"UnObr5!K262","v":0}]
[5259,null,null,441200,null,null,null,"Отплата камата осталим нивоима власти",null,null,null,null,null,null,null,null,null,null,null,null,null,null,null,null,{"$f":"UnObr5!D263","v":0},null,null,null,null,{"$f":"UnObr5!E263","v":0},null,null,null,null,null,{"$f":"UnObr5!F263","v":0},null,null,null,null,{"$f":"UnObr5!G263","v":0},null,null,null,null,{"$f":"UnObr5!H263","v":0},null,null,null,null,{"$f":"UnObr5!I263","v":0},null,null,null,{"$f":"UnObr5!J263","v":0},null,null,null,null,{"$f":"UnObr5!K263","v":0}]
["Ознака\nОП",null,null,"Број\nконта",null,null,null,"Опис",null,null,null,null,null,null,null,null,null,null,null,null,null,null,null,null,"Износ\nодобрених апропријација",null,null,null,null,"Износ извршених расхода и издатака"]
[null,null,null,null,null,null,null,null,null,null,null,null,null,null,null,null,null,null,null,null,null,null,null,null,null,null,null,null,null,"Укупно \n(од 6 до 11)",null,null,null,null,null,"Расходи и издаци на терет буџета",null,null,null,null,null,null,null,null,null,null,null,null,null,null,null,null,null,null,"Из\nдонација и помоћи",null,null,null,null,"Из \nосталих\nизвора"]
[null,null,null,null,null,null,null,null,null,null,null,null,null,null,null,null,null,null,null,null,null,null,null,null,null,null,null,null,null,null,null,null,null,null,null,"Републике",null,null,null,null,"Аутономне\nпокрајине",null,null,null,null,"Општине /\nграда",null,null,null,null,"ООСО"]
[]
[1,null,null,2,null,null,null,3,null,null,null,null,null,null,null,null,null,null,null,null,null,null,null,null,4,null,null,null,null,5,null,null,null,null,null,6,null,null,null,null,7,null,null,null,null,8,null,null,null,null,9,null,null,null,10,null,null,null,null,11]
[5260,null,null,441300,null,null,null,"Отплата камата домаћим јавним финансијским институцијама",null,null,null,null,null,null,null,null,null,null,null,null,null,null,null,null,{"$f":"UnObr5!D264","v":0},null,null,null,null,{"$f":"UnObr5!E264","v":0},null,null,null,null,null,{"$f":"UnObr5!F264","v":0},null,null,null,null,{"$f":"UnObr5!G264","v":0},null,null,null,null,{"$f":"UnObr5!H264","v":0},null,null,null,null,{"$f":"UnObr5!I264","v":0},null,null,null,{"$f":"UnObr5!J264","v":0},null,null,null,null,{"$f":"UnObr5!K264","v":0}]
[5261,null,null,441400,null,null,null,"Отплата камата домаћим пословним банкама",null,null,null,null,null,null,null,null,null,null,null,null,null,null,null,null,{"$f":"UnObr5!D265","v":0},null,null,null,null,{"$f":"UnObr5!E265","v":0},null,null,null,null,null,{"$f":"UnObr5!F265","v":0},null,null,null,null,{"$f":"UnObr5!G265","v":0},null,null,null,null,{"$f":"UnObr5!H265","v":0},null,null,null,null,{"$f":"UnObr5!I265","v":0},null,null,null,{"$f":"UnObr5!J265","v":0},null,null,null,null,{"$f":"UnObr5!K265","v":0}]
[5262,null,null,441500,null,null,null,"Отплата камата осталим домаћим кредиторима",null,null,null,null,null,null,null,null,null,null,null,null,null,null,null,null,{"$f":"UnObr5!D266","v":0},null,null,null,null,{"$f":"UnObr5!E266","v":0},null,null,null,null,null,{"$f":"UnObr5!F266","v":0},null,null,null,null,{"$f":"UnObr5!G266","v":0},null,null,null,null,{"$f":"UnObr5!H266","v":0},null,null,null,null,{"$f":"UnObr5!I266","v":0},null,null,null,{"$f":"UnObr5!J266","v":0},null,null,null,null,{"$f":"UnObr5!K266","v":0}]
[5263,null,null,441600,null,null,null,"Отплата камата домаћинствима у земљи",null,null,null,null,null,null,null,null,null,null,null,null,null,null,null,null,{"$f":"UnObr5!D267","v":0},null,null,null,null,{"$f":"UnObr5!E267","v":0},null,null,null,null,null,{"$f":"UnObr5!F267","v":0},null,null,null,null,{"$f":"UnObr5!G267","v":0},null,null,null,null,{"$f":"UnObr5!H267","v":0},null,null,null,null,{"$f":"UnObr5!I267","v":0},null,null,null,{"$f":"UnObr5!J267","v":0},null,null,null,null,{"$f":"UnObr5!K267","v":0}]
[5264,null,null,441700,null,null,null,"Отплата камата на домаће финансијске деривате",null,null,null,null,null,null,null,null,null,null,null,null,null,null,null,null,{"$f":"UnObr5!D268","v":0},null,null,null,null,{"$f":"UnObr5!E268","v":0},null,null,null,null,null,{"$f":"UnObr5!F268","v":0},null,null,null,null,{"$f":"UnObr5!G268","v":0},null,null,null,null,{"$f":"UnObr5!H268","v":0},null,null,null,null,{"$f":"UnObr5!I268","v":0},null,null,null,{"$f":"UnObr5!J268","v":0},null,null,null,null,{"$f":"UnObr5!K268","v":0}]
[5265,null,null,441800,null,null,null,"Отплата камата на домаће менице",null,null,null,null,null,null,null,null,null,null,null,null,null,null,null,null,{"$f":"UnObr5!D269","v":0},null,null,null,null,{"$f":"UnObr5!E269","v":0},null,null,null,null,null,{"$f":"UnObr5!F269","v":0},null,null,null,null,{"$f":"UnObr5!G269","v":0},null,null,null,null,{"$f":"UnObr5!H269","v":0},null,null,null,null,{"$f":"UnObr5!I269","v":0},null,null,null,{"$f":"UnObr5!J269","v":0},null,null,null,null,{"$f":"UnObr5!K269","v":0}]
[5266,null,null,441900,null,null,null,"Финансијске промене на финансијским лизинзима",null,null,null,null,null,null,null,null,null,null,null,null,null,null,null,null,{"$f":"UnObr5!D270","v":0},null,null,null,null,{"$f":"UnObr5!E270","v":0},null,null,null,null,null,{"$f":"UnObr5!F270","v":0},null,null,null,null,{"$f":"UnObr5!G270","v":0},null,null,null,null,{"$f":"UnObr5!H270","v":0},null,null,null,null,{"$f":"UnObr5!I270","v":0},null,null,null,{"$f":"UnObr5!J270","v":0},null,null,null,null,{"$f":"UnObr5!K270","v":0}]
[5267,null,null,442000,null,null,null,"ОТПЛАТА СТРАНИХ КАМАТА (од 5268 до 5273)",null,null,null,null,null,null,null,null,null,null,null,null,null,null,null,null,{"$f":"UnObr5!D271","v":0},null,null,null,null,{"$f":"UnObr5!E271","v":0},null,null,null,null,null,{"$f":"UnObr5!F271","v":0},null,null,null,null,{"$f":"UnObr5!G271","v":0},null,null,null,null,{"$f":"UnObr5!H271","v":0},null,null,null,null,{"$f":"UnObr5!I271","v":0},null,null,null,{"$f":"UnObr5!J271","v":0},null,null,null,null,{"$f":"UnObr5!K271","v":0}]
[5268,null,null,442100,null,null,null,"Отплата камата на хартије од вредности емитоване на иностраном финансијском тржишту",null,null,null,null,null,null,null,null,null,null,null,null,null,null,null,null,{"$f":"UnObr5!D272","v":0},null,null,null,null,{"$f":"UnObr5!E272","v":0},null,null,null,null,null,{"$f":"UnObr5!F272","v":0},null,null,null,null,{"$f":"UnObr5!G272","v":0},null,null,null,null,{"$f":"UnObr5!H272","v":0},null,null,null,null,{"$f":"UnObr5!I272","v":0},null,null,null,{"$f":"UnObr5!J272","v":0},null,null,null,null,{"$f":"UnObr5!K272","v":0}]
[5269,null,null,442200,null,null,null,"Отплата камата страним владама",null,null,null,null,null,null,null,null,null,null,null,null,null,null,null,null,{"$f":"UnObr5!D273","v":0},null,null,null,null,{"$f":"UnObr5!E273","v":0},null,null,null,null,null,{"$f":"UnObr5!F273","v":0},null,null,null,null,{"$f":"UnObr5!G273","v":0},null,null,null,null,{"$f":"UnObr5!H273","v":0},null,null,null,null,{"$f":"UnObr5!I273","v":0},null,null,null,{"$f":"UnObr5!J273","v":0},null,null,null,null,{"$f":"UnObr5!K273","v":0}]
[5270,null,null,442300,null,null,null,"Отплата камата мултилатералним институцијама",null,null,null,null,null,null,null,null,null,null,null,null,null,null,null,null,{"$f":"UnObr5!D274","v":0},null,null,null,null,{"$f":"UnObr5!E274","v":0},null,null,null,null,null,{"$f":"UnObr5!F274","v":0},null,null,null,null,{"$f":"UnObr5!G274","v":0},null,null,null,null,{"$f":"UnObr5!H274","v":0},null,null,null,null,{"$f":"UnObr5!I274","v":0},null,null,null,{"$f":"UnObr5!J274","v":0},null,null,null,null,{"$f":"UnObr5!K274","v":0}]
[5271,null,null,442400,null,null,null,"Отплата камата страним пословним банкама",null,null,null,null,null,null,null,null,null,null,null,null,null,null,null,null,{"$f":"UnObr5!D275","v":0},null,null,null,null,{"$f":"UnObr5!E275","v":0},null,null,null,null,null,{"$f":"UnObr5!F275","v":0},null,null,null,null,{"$f":"UnObr5!G275","v":0},null,null,null,null,{"$f":"UnObr5!H275","v":0},null,null,null,null,{"$f":"UnObr5!I275","v":0},null,null,null,{"$f":"UnObr5!J275","v":0},null,null,null,null,{"$f":"UnObr5!K275","v":0}]
[5272,null,null,442500,null,null,null,"Отплата камата осталим страним кредиторима",null,null,null,null,null,null,null,null,null,null,null,null,null,null,null,null,{"$f":"UnObr5!D276","v":0},null,null,null,null,{"$f":"UnObr5!E276","v":0},null,null,null,null,null,{"$f":"UnObr5!F276","v":0},null,null,null,null,{"$f":"UnObr5!G276","v":0},null,null,null,null,{"$f":"UnObr5!H276","v":0},null,null,null,null,{"$f":"UnObr5!I276","v":0},null,null,null,{"$f":"UnObr5!J276","v":0},null,null,null,null,{"$f":"UnObr5!K276","v":0}]
[5273,null,null,442600,null,null,null,"Отплата камата на стране финансијске деривате",null,null,null,null,null,null,null,null,null,null,null,null,null,null,null,null,{"$f":"UnObr5!D277","v":0},null,null,null,null,{"$f":"UnObr5!E277","v":0},null,null,null,null,null,{"$f":"UnObr5!F277","v":0},null,null,null,null,{"$f":"UnObr5!G277","v":0},null,null,null,null,{"$f":"UnObr5!H277","v":0},null,null,null,null,{"$f":"UnObr5!I277","v":0},null,null,null,{"$f":"UnObr5!J277","v":0},null,null,null,null,{"$f":"UnObr5!K277","v":0}]
[5274,null,null,443000,null,null,null,"ОТПЛАТА КАМАТА ПО ГАРАНЦИЈАМА (5275)",null,null,null,null,null,null,null,null,null,null,null,null,null,null,null,null,{"$f":"UnObr5!D278","v":0},null,null,null,null,{"$f":"UnObr5!E278","v":0},null,null,null,null,null,{"$f":"UnObr5!F278","v":0},null,null,null,null,{"$f":"UnObr5!G278","v":0},null,null,null,null,{"$f":"UnObr5!H278","v":0},null,null,null,null,{"$f":"UnObr5!I278","v":0},null,null,null,{"$f":"UnObr5!J278","v":0},null,null,null,null,{"$f":"UnObr5!K278","v":0}]
[5275,null,null,443100,null,null,null,"Отплата камата по гаранцијама",null,null,null,null,null,null,null,null,null,null,null,null,null,null,null,null,{"$f":"UnObr5!D279","v":0},null,null,null,null,{"$f":"UnObr5!E279","v":0},null,null,null,null,null,{"$f":"UnObr5!F279","v":0},null,null,null,null,{"$f":"UnObr5!G279","v":0},null,null,null,null,{"$f":"UnObr5!H279","v":0},null,null,null,null,{"$f":"UnObr5!I279","v":0},null,null,null,{"$f":"UnObr5!J279","v":0},null,null,null,null,{"$f":"UnObr5!K279","v":0}]
[5276,null,null,444000,null,null,null,"ПРАТЕЋИ ТРОШКОВИ ЗАДУЖИВАЊА \n(од 5277 до 5279)",null,null,null,null,null,null,null,null,null,null,null,null,null,null,null,null,{"$f":"UnObr5!D280","v":0},null,null,null,null,{"$f":"UnObr5!E280","v":0},null,null,null,null,null,{"$f":"UnObr5!F280","v":0},null,null,null,null,{"$f":"UnObr5!G280","v":0},null,null,null,null,{"$f":"UnObr5!H280","v":0},null,null,null,null,{"$f":"UnObr5!I280","v":0},null,null,null,{"$f":"UnObr5!J280","v":0},null,null,null,null,{"$f":"UnObr5!K280","v":0}]
[5277,null,null,444100,null,null,null,"Негативне курсне разлике",null,null,null,null,null,null,null,null,null,null,null,null,null,null,null,null,{"$f":"UnObr5!D281","v":0},null,null,null,null,{"$f":"UnObr5!E281","v":0},null,null,null,null,null,{"$f":"UnObr5!F281","v":0},null,null,null,null,{"$f":"UnObr5!G281","v":0},null,null,null,null,{"$f":"UnObr5!H281","v":0},null,null,null,null,{"$f":"UnObr5!I281","v":0},null,null,null,{"$f":"UnObr5!J281","v":0},null,null,null,null,{"$f":"UnObr5!K281","v":0}]
[5278,null,null,444200,null,null,null,"Казне за кашњење",null,null,null,null,null,null,null,null,null,null,null,null,null,null,null,null,{"$f":"UnObr5!D282","v":0},null,null,null,null,{"$f":"UnObr5!E282","v":0},null,null,null,null,null,{"$f":"UnObr5!F282","v":0},null,null,null,null,{"$f":"UnObr5!G282","v":0},null,null,null,null,{"$f":"UnObr5!H282","v":0},null,null,null,null,{"$f":"UnObr5!I282","v":0},null,null,null,{"$f":"UnObr5!J282","v":0},null,null,null,null,{"$f":"UnObr5!K282","v":0}]
[5279,null,null,444300,null,null,null,"Остали пратећи трошкови задуживања",null,null,null,null,null,null,null,null,null,null,null,null,null,null,null,null,{"$f":"UnObr5!D283","v":0},null,null,null,null,{"$f":"UnObr5!E283","v":0},null,null,null,null,null,{"$f":"UnObr5!F283","v":0},null,null,null,null,{"$f":"UnObr5!G283","v":0},null,null,null,null,{"$f":"UnObr5!H283","v":0},null,null,null,null,{"$f":"UnObr5!I283","v":0},null,null,null,{"$f":"UnObr5!J283","v":0},null,null,null,null,{"$f":"UnObr5!K283","v":0}]
[5280,null,null,450000,null,null,null,"СУБВЕНЦИЈЕ  (5281 + 5284 + 5287 + 5290)",null,null,null,null,null,null,null,null,null,null,null,null,null,null,null,null,{"$f":"UnObr5!D284","v":0},null,null,null,null,{"$f":"UnObr5!E284","v":0},null,null,null,null,null,{"$f":"UnObr5!F284","v":0},null,null,null,null,{"$f":"UnObr5!G284","v":0},null,null,null,null,{"$f":"UnObr5!H284","v":0},null,null,null,null,{"$f":"UnObr5!I284","v":0},null,null,null,{"$f":"UnObr5!J284","v":0},null,null,null,null,{"$f":"UnObr5!K284","v":0}]
[5281,null,null,451000,null,null,null,"СУБВЕНЦИЈЕ ЈАВНИМ \nНЕФИНАНСИЈСКИМ ПРЕДУЗЕЋИМА И \nОРГАНИЗАЦИЈАМА (5282 + 5283)",null,null,null,null,null,null,null,null,null,null,null,null,null,null,null,null,{"$f":"UnObr5!D285","v":0},null,null,null,null,{"$f":"UnObr5!E285","v":0},null,null,null,null,null,{"$f":"UnObr5!F285","v":0},null,null,null,null,{"$f":"UnObr5!G285","v":0},null,null,null,null,{"$f":"UnObr5!H285","v":0},null,null,null,null,{"$f":"UnObr5!I285","v":0},null,null,null,{"$f":"UnObr5!J285","v":0},null,null,null,null,{"$f":"UnObr5!K285","v":0}]
["Ознака\nОП",null,null,"Број\nконта",null,null,null,"Опис",null,null,null,null,null,null,null,null,null,null,null,null,null,null,null,null,"Износ\nодобрених апропријација",null,null,null,null,"Износ извршених расхода и издатака"]
[null,null,null,null,null,null,null,null,null,null,null,null,null,null,null,null,null,null,null,null,null,null,null,null,null,null,null,null,null,"Укупно \n(од 6 до 11)",null,null,null,null,null,"Расходи и издаци на терет буџета",null,null,null,null,null,null,null,null,null,null,null,null,null,null,null,null,null,null,"Из\nдонација и помоћи",null,null,null,null,"Из \nосталих\nизвора"]
[null,null,null,null,null,null,null,null,null,null,null,null,null,null,null,null,null,null,null,null,null,null,null,null,null,null,null,null,null,null,null,null,null,null,null,"Републике",null,null,null,null,"Аутономне\nпокрајине",null,null,null,null,"Општине /\nграда",null,null,null,null,"ООСО"]
[]
[1,null,null,2,null,null,null,3,null,null,null,null,null,null,null,null,null,null,null,null,null,null,null,null,4,null,null,null,null,5,null,null,null,null,null,6,null,null,null,null,7,null,null,null,null,8,null,null,null,null,9,null,null,null,10,null,null,null,null,11]
[5282,null,null,451100,null,null,null,"Текуће субвенције јавним нефинансијским предузећима и организацијама",null,null,null,null,null,null,null,null,null,null,null,null,null,null,null,null,{"$f":"UnObr5!D286","v":0},null,null,null,null,{"$f":"UnObr5!E286","v":0},null,null,null,null,null,{"$f":"UnObr5!F286","v":0},null,null,null,null,{"$f":"UnObr5!G286","v":0},null,null,null,null,{"$f":"UnObr5!H286","v":0},null,null,null,null,{"$f":"UnObr5!I286","v":0},null,null,null,{"$f":"UnObr5!J286","v":0},null,null,null,null,{"$f":"UnObr5!K286","v":0}]
[5283,null,null,451200,null,null,null,"Капиталне субвенције јавним нефинансијским предузећима и организацијама",null,null,null,null,null,null,null,null,null,null,null,null,null,null,null,null,{"$f":"UnObr5!D287","v":0},null,null,null,null,{"$f":"UnObr5!E287","v":0},null,null,null,null,null,{"$f":"UnObr5!F287","v":0},null,null,null,null,{"$f":"UnObr5!G287","v":0},null,null,null,null,{"$f":"UnObr5!H287","v":0},null,null,null,null,{"$f":"UnObr5!I287","v":0},null,null,null,{"$f":"UnObr5!J287","v":0},null,null,null,null,{"$f":"UnObr5!K287","v":0}]
[5284,null,null,452000,null,null,null,"СУБВЕНЦИЈЕ ПРИВАТНИМ ФИНАНСИЈСКИМ ИНСТИТУЦИЈАМА (5285 + 5286)",null,null,null,null,null,null,null,null,null,null,null,null,null,null,null,null,{"$f":"UnObr5!D288","v":0},null,null,null,null,{"$f":"UnObr5!E288","v":0},null,null,null,null,null,{"$f":"UnObr5!F288","v":0},null,null,null,null,{"$f":"UnObr5!G288","v":0},null,null,null,null,{"$f":"UnObr5!H288","v":0},null,null,null,null,{"$f":"UnObr5!I288","v":0},null,null,null,{"$f":"UnObr5!J288","v":0},null,null,null,null,{"$f":"UnObr5!K288","v":0}]
[5285,null,null,452100,null,null,null,"Текуће субвенције приватним финансијским институцијама",null,null,null,null,null,null,null,null,null,null,null,null,null,null,null,null,{"$f":"UnObr5!D289","v":0},null,null,null,null,{"$f":"UnObr5!E289","v":0},null,null,null,null,null,{"$f":"UnObr5!F289","v":0},null,null,null,null,{"$f":"UnObr5!G289","v":0},null,null,null,null,{"$f":"UnObr5!H289","v":0},null,null,null,null,{"$f":"UnObr5!I289","v":0},null,null,null,{"$f":"UnObr5!J289","v":0},null,null,null,null,{"$f":"UnObr5!K289","v":0}]
[5286,null,null,452200,null,null,null,"Капиталне субвенције приватним финансијским институцијама",null,null,null,null,null,null,null,null,null,null,null,null,null,null,null,null,{"$f":"UnObr5!D290","v":0},null,null,null,null,{"$f":"UnObr5!E290","v":0},null,null,null,null,null,{"$f":"UnObr5!F290","v":0},null,null,null,null,{"$f":"UnObr5!G290","v":0},null,null,null,null,{"$f":"UnObr5!H290","v":0},null,null,null,null,{"$f":"UnObr5!I290","v":0},null,null,null,{"$f":"UnObr5!J290","v":0},null,null,null,null,{"$f":"UnObr5!K290","v":0}]
[5287,null,null,453000,null,null,null,"СУБВЕНЦИЈЕ ЈАВНИМ ФИНАНСИЈСКИМ ИНСТИТУЦИЈАМА (5288 + 5289)",null,null,null,null,null,null,null,null,null,null,null,null,null,null,null,null,{"$f":"UnObr5!D291","v":0},null,null,null,null,{"$f":"UnObr5!E291","v":0},null,null,null,null,null,{"$f":"UnObr5!F291","v":0},null,null,null,null,{"$f":"UnObr5!G291","v":0},null,null,null,null,{"$f":"UnObr5!H291","v":0},null,null,null,null,{"$f":"UnObr5!I291","v":0},null,null,null,{"$f":"UnObr5!J291","v":0},null,null,null,null,{"$f":"UnObr5!K291","v":0}]
[5288,null,null,453100,null,null,null,"Текуће субвенције јавним финансијским институцијама",null,null,null,null,null,null,null,null,null,null,null,null,null,null,null,null,{"$f":"UnObr5!D292","v":0},null,null,null,null,{"$f":"UnObr5!E292","v":0},null,null,null,null,null,{"$f":"UnObr5!F292","v":0},null,null,null,null,{"$f":"UnObr5!G292","v":0},null,null,null,null,{"$f":"UnObr5!H292","v":0},null,null,null,null,{"$f":"UnObr5!I292","v":0},null,null,null,{"$f":"UnObr5!J292","v":0},null,null,null,null,{"$f":"UnObr5!K292","v":0}]
[5289,null,null,453200,null,null,null,"Капиталне субвенције јавним финансијским институцијама",null,null,null,null,null,null,null,null,null,null,null,null,null,null,null,null,{"$f":"UnObr5!D293","v":0},null,null,null,null,{"$f":"UnObr5!E293","v":0},null,null,null,null,null,{"$f":"UnObr5!F293","v":0},null,null,null,null,{"$f":"UnObr5!G293","v":0},null,null,null,null,{"$f":"UnObr5!H293","v":0},null,null,null,null,{"$f":"UnObr5!I293","v":0},null,null,null,{"$f":"UnObr5!J293","v":0},null,null,null,null,{"$f":"UnObr5!K293","v":0}]
[5290,null,null,454000,null,null,null,"СУБВЕНЦИЈЕ ПРИВАТНИМ \nПРЕДУЗЕЋИМА (5291 + 5292)",null,null,null,null,null,null,null,null,null,null,null,null,null,null,null,null,{"$f":"UnObr5!D294","v":0},null,null,null,null,{"$f":"UnObr5!E294","v":0},null,null,null,null,null,{"$f":"UnObr5!F294","v":0},null,null,null,null,{"$f":"UnObr5!G294","v":0},null,null,null,null,{"$f":"UnObr5!H294","v":0},null,null,null,null,{"$f":"UnObr5!I294","v":0},null,null,null,{"$f":"UnObr5!J294","v":0},null,null,null,null,{"$f":"UnObr5!K294","v":0}]
[5291,null,null,454100,null,null,null,"Текуће субвенције приватним предузећима",null,null,null,null,null,null,null,null,null,null,null,null,null,null,null,null,{"$f":"UnObr5!D295","v":0},null,null,null,null,{"$f":"UnObr5!E295","v":0},null,null,null,null,null,{"$f":"UnObr5!F295","v":0},null,null,null,null,{"$f":"UnObr5!G295","v":0},null,null,null,null,{"$f":"UnObr5!H295","v":0},null,null,null,null,{"$f":"UnObr5!I295","v":0},null,null,null,{"$f":"UnObr5!J295","v":0},null,null,null,null,{"$f":"UnObr5!K295","v":0}]
[5292,null,null,454200,null,null,null,"Капиталне субвенције приватним предузећима",null,null,null,null,null,null,null,null,null,null,null,null,null,null,null,null,{"$f":"UnObr5!D296","v":0},null,null,null,null,{"$f":"UnObr5!E296","v":0},null,null,null,null,null,{"$f":"UnObr5!F296","v":0},null,null,null,null,{"$f":"UnObr5!G296","v":0},null,null,null,null,{"$f":"UnObr5!H296","v":0},null,null,null,null,{"$f":"UnObr5!I296","v":0},null,null,null,{"$f":"UnObr5!J296","v":0},null,null,null,null,{"$f":"UnObr5!K296","v":0}]
[5293,null,null,460000,null,null,null,"ДОНАЦИЈЕ, ДОТАЦИЈЕ И ТРАНСФЕРИ \n(5294 + 5297 + 5300 + 5303 + 5306)",null,null,null,null,null,null,null,null,null,null,null,null,null,null,null,null,{"$f":"UnObr5!D297","v":4330},null,null,null,null,{"$f":"UnObr5!E297","v":4268},null,null,null,null,null,{"$f":"UnObr5!F297","v":0},null,null,null,null,{"$f":"UnObr5!G297","v":0},null,null,null,null,{"$f":"UnObr5!H297","v":4268},null,null,null,null,{"$f":"UnObr5!I297","v":0},null,null,null,{"$f":"UnObr5!J297","v":0},null,null,null,null,{"$f":"UnObr5!K297","v":0}]
[5294,null,null,461000,null,null,null,"ДОНАЦИЈЕ СТРАНИМ ВЛАДАМА (5295 + 5296)",null,null,null,null,null,null,null,null,null,null,null,null,null,null,null,null,{"$f":"UnObr5!D298","v":0},null,null,null,null,{"$f":"UnObr5!E298","v":0},null,null,null,null,null,{"$f":"UnObr5!F298","v":0},null,null,null,null,{"$f":"UnObr5!G298","v":0},null,null,null,null,{"$f":"UnObr5!H298","v":0},null,null,null,null,{"$f":"UnObr5!I298","v":0},null,null,null,{"$f":"UnObr5!J298","v":0},null,null,null,null,{"$f":"UnObr5!K298","v":0}]
[5295,null,null,461100,null,null,null,"Текуће донације страним владама",null,null,null,null,null,null,null,null,null,null,null,null,null,null,null,null,{"$f":"UnObr5!D299","v":0},null,null,null,null,{"$f":"UnObr5!E299","v":0},null,null,null,null,null,{"$f":"UnObr5!F299","v":0},null,null,null,null,{"$f":"UnObr5!G299","v":0},null,null,null,null,{"$f":"UnObr5!H299","v":0},null,null,null,null,{"$f":"UnObr5!I299","v":0},null,null,null,{"$f":"UnObr5!J299","v":0},null,null,null,null,{"$f":"UnObr5!K299","v":0}]
[5296,null,null,461200,null,null,null,"Капиталне донације страним владама",null,null,null,null,null,null,null,null,null,null,null,null,null,null,null,null,{"$f":"UnObr5!D300","v":0},null,null,null,null,{"$f":"UnObr5!E300","v":0},null,null,null,null,null,{"$f":"UnObr5!F300","v":0},null,null,null,null,{"$f":"UnObr5!G300","v":0},null,null,null,null,{"$f":"UnObr5!H300","v":0},null,null,null,null,{"$f":"UnObr5!I300","v":0},null,null,null,{"$f":"UnObr5!J300","v":0},null,null,null,null,{"$f":"UnObr5!K300","v":0}]
[5297,null,null,462000,null,null,null,"ДОТАЦИЈЕ МЕЂУНАРОДНИМ ОРГАНИЗАЦИЈАМА (5298 + 5299)",null,null,null,null,null,null,null,null,null,null,null,null,null,null,null,null,{"$f":"UnObr5!D301","v":0},null,null,null,null,{"$f":"UnObr5!E301","v":0},null,null,null,null,null,{"$f":"UnObr5!F301","v":0},null,null,null,null,{"$f":"UnObr5!G301","v":0},null,null,null,null,{"$f":"UnObr5!H301","v":0},null,null,null,null,{"$f":"UnObr5!I301","v":0},null,null,null,{"$f":"UnObr5!J301","v":0},null,null,null,null,{"$f":"UnObr5!K301","v":0}]
[5298,null,null,462100,null,null,null,"Текуће дотације међународним организацијама",null,null,null,null,null,null,null,null,null,null,null,null,null,null,null,null,{"$f":"UnObr5!D302","v":0},null,null,null,null,{"$f":"UnObr5!E302","v":0},null,null,null,null,null,{"$f":"UnObr5!F302","v":0},null,null,null,null,{"$f":"UnObr5!G302","v":0},null,null,null,null,{"$f":"UnObr5!H302","v":0},null,null,null,null,{"$f":"UnObr5!I302","v":0},null,null,null,{"$f":"UnObr5!J302","v":0},null,null,null,null,{"$f":"UnObr5!K302","v":0}]
[5299,null,null,462200,null,null,null,"Капиталне дотације међународним \nорганизацијама",null,null,null,null,null,null,null,null,null,null,null,null,null,null,null,null,{"$f":"UnObr5!D303","v":0},null,null,null,null,{"$f":"UnObr5!E303","v":0},null,null,null,null,null,{"$f":"UnObr5!F303","v":0},null,null,null,null,{"$f":"UnObr5!G303","v":0},null,null,null,null,{"$f":"UnObr5!H303","v":0},null,null,null,null,{"$f":"UnObr5!I303","v":0},null,null,null,{"$f":"UnObr5!J303","v":0},null,null,null,null,{"$f":"UnObr5!K303","v":0}]
[5300,null,null,463000,null,null,null,"ТРАНСФЕРИ ОСТАЛИМ НИВОИМА \nВЛАСТИ (5301 + 5302)",null,null,null,null,null,null,null,null,null,null,null,null,null,null,null,null,{"$f":"UnObr5!D304","v":0},null,null,null,null,{"$f":"UnObr5!E304","v":0},null,null,null,null,null,{"$f":"UnObr5!F304","v":0},null,null,null,null,{"$f":"UnObr5!G304","v":0},null,null,null,null,{"$f":"UnObr5!H304","v":0},null,null,null,null,{"$f":"UnObr5!I304","v":0},null,null,null,{"$f":"UnObr5!J304","v":0},null,null,null,null,{"$f":"UnObr5!K304","v":0}]
[5301,null,null,463100,null,null,null,"Текући трансфери осталим нивоима власти",null,null,null,null,null,null,null,null,null,null,null,null,null,null,null,null,{"$f":"UnObr5!D305","v":0},null,null,null,null,{"$f":"UnObr5!E305","v":0},null,null,null,null,null,{"$f":"UnObr5!F305","v":0},null,null,null,null,{"$f":"UnObr5!G305","v":0},null,null,null,null,{"$f":"UnObr5!H305","v":0},null,null,null,null,{"$f":"UnObr5!I305","v":0},null,null,null,{"$f":"UnObr5!J305","v":0},null,null,null,null,{"$f":"UnObr5!K305","v":0}]
["Ознака\nОП",null,null,"Број\nконта",null,null,null,"Опис",null,null,null,null,null,null,null,null,null,null,null,null,null,null,null,null,"Износ\nодобрених апропријација",null,null,null,null,"Износ извршених расхода и издатака"]
[null,null,null,null,null,null,null,null,null,null,null,null,null,null,null,null,null,null,null,null,null,null,null,null,null,null,null,null,null,"Укупно \n(од 6 до 11)",null,null,null,null,null,"Расходи и издаци на терет буџета",null,null,null,null,null,null,null,null,null,null,null,null,null,null,null,null,null,null,"Из\nдонација и помоћи",null,null,null,null,"Из \nосталих\nизвора"]
[null,null,null,null,null,null,null,null,null,null,null,null,null,null,null,null,null,null,null,null,null,null,null,null,null,null,null,null,null,null,null,null,null,null,null,"Републике",null,null,null,null,"Аутономне\nпокрајине",null,null,null,null,"Општине /\nграда",null,null,null,null,"ООСО"]
[]
[1,null,null,2,null,null,null,3,null,null,null,null,null,null,null,null,null,null,null,null,null,null,null,null,4,null,null,null,null,5,null,null,null,null,null,6,null,null,null,null,7,null,null,null,null,8,null,null,null,null,9,null,null,null,10,null,null,null,null,11]
[5302,null,null,463200,null,null,null,"Капитални трансфери осталим нивоима власти",null,null,null,null,null,null,null,null,null,null,null,null,null,null,null,null,{"$f":"UnObr5!D306","v":0},null,null,null,null,{"$f":"UnObr5!E306","v":0},null,null,null,null,null,{"$f":"UnObr5!F306","v":0},null,null,null,null,{"$f":"UnObr5!G306","v":0},null,null,null,null,{"$f":"UnObr5!H306","v":0},null,null,null,null,{"$f":"UnObr5!I306","v":0},null,null,null,{"$f":"UnObr5!J306","v":0},null,null,null,null,{"$f":"UnObr5!K306","v":0}]
[5303,null,null,464000,null,null,null,"ДОТАЦИЈЕ ОРГАНИЗАЦИЈАМА \nОБАВЕЗНОГ СОЦИЈАЛНОГ \nОСИГУРАЊА (5304 + 5305)",null,null,null,null,null,null,null,null,null,null,null,null,null,null,null,null,{"$f":"UnObr5!D307","v":0},null,null,null,null,{"$f":"UnObr5!E307","v":0},null,null,null,null,null,{"$f":"UnObr5!F307","v":0},null,null,null,null,{"$f":"UnObr5!G307","v":0},null,null,null,null,{"$f":"UnObr5!H307","v":0},null,null,null,null,{"$f":"UnObr5!I307","v":0},null,null,null,{"$f":"UnObr5!J307","v":0},null,null,null,null,{"$f":"UnObr5!K307","v":0}]
[5304,null,null,464100,null,null,null,"Текуће дотације организацијама обавезног социјалног осигурања",null,null,null,null,null,null,null,null,null,null,null,null,null,null,null,null,{"$f":"UnObr5!D308","v":0},null,null,null,null,{"$f":"UnObr5!E308","v":0},null,null,null,null,null,{"$f":"UnObr5!F308","v":0},null,null,null,null,{"$f":"UnObr5!G308","v":0},null,null,null,null,{"$f":"UnObr5!H308","v":0},null,null,null,null,{"$f":"UnObr5!I308","v":0},null,null,null,{"$f":"UnObr5!J308","v":0},null,null,null,null,{"$f":"UnObr5!K308","v":0}]
[5305,null,null,464200,null,null,null,"Капиталне дотације организацијама обавезног социјалног осигурања",null,null,null,null,null,null,null,null,null,null,null,null,null,null,null,null,{"$f":"UnObr5!D309","v":0},null,null,null,null,{"$f":"UnObr5!E309","v":0},null,null,null,null,null,{"$f":"UnObr5!F309","v":0},null,null,null,null,{"$f":"UnObr5!G309","v":0},null,null,null,null,{"$f":"UnObr5!H309","v":0},null,null,null,null,{"$f":"UnObr5!I309","v":0},null,null,null,{"$f":"UnObr5!J309","v":0},null,null,null,null,{"$f":"UnObr5!K309","v":0}]
[5306,null,null,465000,null,null,null,"ОСТАЛЕ ДОТАЦИЈЕ И ТРАНСФЕРИ \n(5307 + 5308)",null,null,null,null,null,null,null,null,null,null,null,null,null,null,null,null,{"$f":"UnObr5!D310","v":4330},null,null,null,null,{"$f":"UnObr5!E310","v":4268},null,null,null,null,null,{"$f":"UnObr5!F310","v":0},null,null,null,null,{"$f":"UnObr5!G310","v":0},null,null,null,null,{"$f":"UnObr5!H310","v":4268},null,null,null,null,{"$f":"UnObr5!I310","v":0},null,null,null,{"$f":"UnObr5!J310","v":0},null,null,null,null,{"$f":"UnObr5!K310","v":0}]
[5307,null,null,465100,null,null,null,"Остале текуће дотације и трансфери",null,null,null,null,null,null,null,null,null,null,null,null,null,null,null,null,{"$f":"UnObr5!D311","v":4330},null,null,null,null,{"$f":"UnObr5!E311","v":4268},null,null,null,null,null,{"$f":"UnObr5!F311","v":0},null,null,null,null,{"$f":"UnObr5!G311","v":0},null,null,null,null,{"$f":"UnObr5!H311","v":4268},null,null,null,null,{"$f":"UnObr5!I311","v":0},null,null,null,{"$f":"UnObr5!J311","v":0},null,null,null,null,{"$f":"UnObr5!K311","v":0}]
[5308,null,null,465200,null,null,null,"Остале капиталне дотације и трансфери",null,null,null,null,null,null,null,null,null,null,null,null,null,null,null,null,{"$f":"UnObr5!D312","v":0},null,null,null,null,{"$f":"UnObr5!E312","v":0},null,null,null,null,null,{"$f":"UnObr5!F312","v":0},null,null,null,null,{"$f":"UnObr5!G312","v":0},null,null,null,null,{"$f":"UnObr5!H312","v":0},null,null,null,null,{"$f":"UnObr5!I312","v":0},null,null,null,{"$f":"UnObr5!J312","v":0},null,null,null,null,{"$f":"UnObr5!K312","v":0}]
[5309,null,null,470000,null,null,null,"СОЦИЈАЛНО ОСИГУРАЊЕ И СОЦИЈАЛНА ЗАШТИТА (5310 + 5314)",null,null,null,null,null,null,null,null,null,null,null,null,null,null,null,null,{"$f":"UnObr5!D313","v":0},null,null,null,null,{"$f":"UnObr5!E313","v":121},null,null,null,null,null,{"$f":"UnObr5!F313","v":121},null,null,null,null,{"$f":"UnObr5!G313","v":0},null,null,null,null,{"$f":"UnObr5!H313","v":0},null,null,null,null,{"$f":"UnObr5!I313","v":0},null,null,null,{"$f":"UnObr5!J313","v":0},null,null,null,null,{"$f":"UnObr5!K313","v":0}]
[5310,null,null,471000,null,null,null,"ПРАВА ИЗ СОЦИЈАЛНОГ ОСИГУРАЊА (ОРГАНИЗАЦИЈЕ ОБАВЕЗНОГ СОЦИЈАЛНОГ ОСИГУРАЊА) (од 5311 до 5313)",null,null,null,null,null,null,null,null,null,null,null,null,null,null,null,null,{"$f":"UnObr5!D314","v":0},null,null,null,null,{"$f":"UnObr5!E314","v":0},null,null,null,null,null,{"$f":"UnObr5!F314","v":0},null,null,null,null,{"$f":"UnObr5!G314","v":0},null,null,null,null,{"$f":"UnObr5!H314","v":0},null,null,null,null,{"$f":"UnObr5!I314","v":0},null,null,null,{"$f":"UnObr5!J314","v":0},null,null,null,null,{"$f":"UnObr5!K314","v":0}]
[5311,null,null,471100,null,null,null,"Права из социјалног осигурања која се \nисплаћују непосредно домаћинствима",null,null,null,null,null,null,null,null,null,null,null,null,null,null,null,null,{"$f":"UnObr5!D315","v":0},null,null,null,null,{"$f":"UnObr5!E315","v":0},null,null,null,null,null,{"$f":"UnObr5!F315","v":0},null,null,null,null,{"$f":"UnObr5!G315","v":0},null,null,null,null,{"$f":"UnObr5!H315","v":0},null,null,null,null,{"$f":"UnObr5!I315","v":0},null,null,null,{"$f":"UnObr5!J315","v":0},null,null,null,null,{"$f":"UnObr5!K315","v":0}]
[5312,null,null,471200,null,null,null,"Права из социјалног осигурања која се \nисплаћују непосредно пружаоцима услуга",null,null,null,null,null,null,null,null,null,null,null,null,null,null,null,null,{"$f":"UnObr5!D316","v":0},null,null,null,null,{"$f":"UnObr5!E316","v":0},null,null,null,null,null,{"$f":"UnObr5!F316","v":0},null,null,null,null,{"$f":"UnObr5!G316","v":0},null,null,null,null,{"$f":"UnObr5!H316","v":0},null,null,null,null,{"$f":"UnObr5!I316","v":0},null,null,null,{"$f":"UnObr5!J316","v":0},null,null,null,null,{"$f":"UnObr5!K316","v":0}]
[5313,null,null,471900,null,null,null,"Трансфери другим организацијама обавезног социјалног осигурања за доприносе за \nосигурање",null,null,null,null,null,null,null,null,null,null,null,null,null,null,null,null,{"$f":"UnObr5!D317","v":0},null,null,null,null,{"$f":"UnObr5!E317","v":0},null,null,null,null,null,{"$f":"UnObr5!F317","v":0},null,null,null,null,{"$f":"UnObr5!G317","v":0},null,null,null,null,{"$f":"UnObr5!H317","v":0},null,null,null,null,{"$f":"UnObr5!I317","v":0},null,null,null,{"$f":"UnObr5!J317","v":0},null,null,null,null,{"$f":"UnObr5!K317","v":0}]
[5314,null,null,472000,null,null,null,"НАКНАДЕ ЗА СОЦИЈАЛНУ ЗАШТИТУ ИЗ БУЏЕТА (од 5315 до 5323)",null,null,null,null,null,null,null,null,null,null,null,null,null,null,null,null,{"$f":"UnObr5!D318","v":0},null,null,null,null,{"$f":"UnObr5!E318","v":121},null,null,null,null,null,{"$f":"UnObr5!F318","v":121},null,null,null,null,{"$f":"UnObr5!G318","v":0},null,null,null,null,{"$f":"UnObr5!H318","v":0},null,null,null,null,{"$f":"UnObr5!I318","v":0},null,null,null,{"$f":"UnObr5!J318","v":0},null,null,null,null,{"$f":"UnObr5!K318","v":0}]
[5315,null,null,472100,null,null,null,"Накнаде из буџета у случају болести и инвалидности",null,null,null,null,null,null,null,null,null,null,null,null,null,null,null,null,{"$f":"UnObr5!D319","v":0},null,null,null,null,{"$f":"UnObr5!E319","v":0},null,null,null,null,null,{"$f":"UnObr5!F319","v":0},null,null,null,null,{"$f":"UnObr5!G319","v":0},null,null,null,null,{"$f":"UnObr5!H319","v":0},null,null,null,null,{"$f":"UnObr5!I319","v":0},null,null,null,{"$f":"UnObr5!J319","v":0},null,null,null,null,{"$f":"UnObr5!K319","v":0}]
[5316,null,null,472200,null,null,null,"Накнаде из буџета за породиљско одсуство",null,null,null,null,null,null,null,null,null,null,null,null,null,null,null,null,{"$f":"UnObr5!D320","v":0},null,null,null,null,{"$f":"UnObr5!E320","v":0},null,null,null,null,null,{"$f":"UnObr5!F320","v":0},null,null,null,null,{"$f":"UnObr5!G320","v":0},null,null,null,null,{"$f":"UnObr5!H320","v":0},null,null,null,null,{"$f":"UnObr5!I320","v":0},null,null,null,{"$f":"UnObr5!J320","v":0},null,null,null,null,{"$f":"UnObr5!K320","v":0}]
[5317,null,null,472300,null,null,null,"Накнаде из буџета за децу и породицу",null,null,null,null,null,null,null,null,null,null,null,null,null,null,null,null,{"$f":"UnObr5!D321","v":0},null,null,null,null,{"$f":"UnObr5!E321","v":0},null,null,null,null,null,{"$f":"UnObr5!F321","v":0},null,null,null,null,{"$f":"UnObr5!G321","v":0},null,null,null,null,{"$f":"UnObr5!H321","v":0},null,null,null,null,{"$f":"UnObr5!I321","v":0},null,null,null,{"$f":"UnObr5!J321","v":0},null,null,null,null,{"$f":"UnObr5!K321","v":0}]
[5318,null,null,472400,null,null,null,"Накнаде из буџета за случај незапослености",null,null,null,null,null,null,null,null,null,null,null,null,null,null,null,null,{"$f":"UnObr5!D322","v":0},null,null,null,null,{"$f":"UnObr5!E322","v":0},null,null,null,null,null,{"$f":"UnObr5!F322","v":0},null,null,null,null,{"$f":"UnObr5!G322","v":0},null,null,null,null,{"$f":"UnObr5!H322","v":0},null,null,null,null,{"$f":"UnObr5!I322","v":0},null,null,null,{"$f":"UnObr5!J322","v":0},null,null,null,null,{"$f":"UnObr5!K322","v":0}]
[5319,null,null,472500,null,null,null,"Старосне и породичне пензије из буџета",null,null,null,null,null,null,null,null,null,null,null,null,null,null,null,null,{"$f":"UnObr5!D323","v":0},null,null,null,null,{"$f":"UnObr5!E323","v":0},null,null,null,null,null,{"$f":"UnObr5!F323","v":0},null,null,null,null,{"$f":"UnObr5!G323","v":0},null,null,null,null,{"$f":"UnObr5!H323","v":0},null,null,null,null,{"$f":"UnObr5!I323","v":0},null,null,null,{"$f":"UnObr5!J323","v":0},null,null,null,null,{"$f":"UnObr5!K323","v":0}]
[5320,null,null,472600,null,null,null,"Накнаде из буџета у случају смрти",null,null,null,null,null,null,null,null,null,null,null,null,null,null,null,null,{"$f":"UnObr5!D324","v":0},null,null,null,null,{"$f":"UnObr5!E324","v":0},null,null,null,null,null,{"$f":"UnObr5!F324","v":0},null,null,null,null,{"$f":"UnObr5!G324","v":0},null,null,null,null,{"$f":"UnObr5!H324","v":0},null,null,null,null,{"$f":"UnObr5!I324","v":0},null,null,null,{"$f":"UnObr5!J324","v":0},null,null,null,null,{"$f":"UnObr5!K324","v":0}]
["Ознака\nОП",null,null,"Број\nконта",null,null,null,"Опис",null,null,null,null,null,null,null,null,null,null,null,null,null,null,null,null,"Износ\nодобрених апропријација",null,null,null,null,"Износ извршених расхода и издатака"]
[null,null,null,null,null,null,null,null,null,null,null,null,null,null,null,null,null,null,null,null,null,null,null,null,null,null,null,null,null,"Укупно \n(од 6 до 11)",null,null,null,null,null,"Расходи и издаци на терет буџета",null,null,null,null,null,null,null,null,null,null,null,null,null,null,null,null,null,null,"Из\nдонација и помоћи",null,null,null,null,"Из \nосталих\nизвора"]
[null,null,null,null,null,null,null,null,null,null,null,null,null,null,null,null,null,null,null,null,null,null,null,null,null,null,null,null,null,null,null,null,null,null,null,"Републике",null,null,null,null,"Аутономне\nпокрајине",null,null,null,null,"Општине /\nграда",null,null,null,null,"ООСО"]
[]
[1,null,null,2,null,null,null,3,null,null,null,null,null,null,null,null,null,null,null,null,null,null,null,null,4,null,null,null,null,5,null,null,null,null,null,6,null,null,null,null,7,null,null,null,null,8,null,null,null,null,9,null,null,null,10,null,null,null,null,11]
[5321,null,null,472700,null,null,null,"Накнаде из буџета за образовање, културу, \nнауку и спорт",null,null,null,null,null,null,null,null,null,null,null,null,null,null,null,null,{"$f":"UnObr5!D325","v":0},null,null,null,null,{"$f":"UnObr5!E325","v":121},null,null,null,null,null,{"$f":"UnObr5!F325","v":121},null,null,null,null,{"$f":"UnObr5!G325","v":0},null,null,null,null,{"$f":"UnObr5!H325","v":0},null,null,null,null,{"$f":"UnObr5!I325","v":0},null,null,null,{"$f":"UnObr5!J325","v":0},null,null,null,null,{"$f":"UnObr5!K325","v":0}]
[5322,null,null,472800,null,null,null,"Накнаде из буџета за становање и живот",null,null,null,null,null,null,null,null,null,null,null,null,null,null,null,null,{"$f":"UnObr5!D326","v":0},null,null,null,null,{"$f":"UnObr5!E326","v":0},null,null,null,null,null,{"$f":"UnObr5!F326","v":0},null,null,null,null,{"$f":"UnObr5!G326","v":0},null,null,null,null,{"$f":"UnObr5!H326","v":0},null,null,null,null,{"$f":"UnObr5!I326","v":0},null,null,null,{"$f":"UnObr5!J326","v":0},null,null,null,null,{"$f":"UnObr5!K326","v":0}]
[5323,null,null,472900,null,null,null,"Остале накнаде из буџета",null,null,null,null,null,null,null,null,null,null,null,null,null,null,null,null,{"$f":"UnObr5!D327","v":0},null,null,null,null,{"$f":"UnObr5!E327","v":0},null,null,null,null,null,{"$f":"UnObr5!F327","v":0},null,null,null,null,{"$f":"UnObr5!G327","v":0},null,null,null,null,{"$f":"UnObr5!H327","v":0},null,null,null,null,{"$f":"UnObr5!I327","v":0},null,null,null,{"$f":"UnObr5!J327","v":0},null,null,null,null,{"$f":"UnObr5!K327","v":0}]
[5324,null,null,480000,null,null,null,"ОСТАЛИ РАСХОДИ \n(5325 + 5328 + 5332 + 5334 + 5337 + 5339)",null,null,null,null,null,null,null,null,null,null,null,null,null,null,null,null,{"$f":"UnObr5!D328","v":9589},null,null,null,null,{"$f":"UnObr5!E328","v":9590},null,null,null,null,null,{"$f":"UnObr5!F328","v":0},null,null,null,null,{"$f":"UnObr5!G328","v":0},null,null,null,null,{"$f":"UnObr5!H328","v":9590},null,null,null,null,{"$f":"UnObr5!I328","v":0},null,null,null,{"$f":"UnObr5!J328","v":0},null,null,null,null,{"$f":"UnObr5!K328","v":0}]
[5325,null,null,481000,null,null,null,"ДОТАЦИЈЕ НЕВЛАДИНИМ ОРГАНИЗАЦИЈАМА (5326 + 5327)",null,null,null,null,null,null,null,null,null,null,null,null,null,null,null,null,{"$f":"UnObr5!D329","v":0},null,null,null,null,{"$f":"UnObr5!E329","v":0},null,null,null,null,null,{"$f":"UnObr5!F329","v":0},null,null,null,null,{"$f":"UnObr5!G329","v":0},null,null,null,null,{"$f":"UnObr5!H329","v":0},null,null,null,null,{"$f":"UnObr5!I329","v":0},null,null,null,{"$f":"UnObr5!J329","v":0},null,null,null,null,{"$f":"UnObr5!K329","v":0}]
[5326,null,null,481100,null,null,null,"Дотације непрофитним организацијама које \nпружају помоћ домаћинствима",null,null,null,null,null,null,null,null,null,null,null,null,null,null,null,null,{"$f":"UnObr5!D330","v":0},null,null,null,null,{"$f":"UnObr5!E330","v":0},null,null,null,null,null,{"$f":"UnObr5!F330","v":0},null,null,null,null,{"$f":"UnObr5!G330","v":0},null,null,null,null,{"$f":"UnObr5!H330","v":0},null,null,null,null,{"$f":"UnObr5!I330","v":0},null,null,null,{"$f":"UnObr5!J330","v":0},null,null,null,null,{"$f":"UnObr5!K330","v":0}]
[5327,null,null,481900,null,null,null,"Дотације осталим непрофитним институцијама",null,null,null,null,null,null,null,null,null,null,null,null,null,null,null,null,{"$f":"UnObr5!D331","v":0},null,null,null,null,{"$f":"UnObr5!E331","v":0},null,null,null,null,null,{"$f":"UnObr5!F331","v":0},null,null,null,null,{"$f":"UnObr5!G331","v":0},null,null,null,null,{"$f":"UnObr5!H331","v":0},null,null,null,null,{"$f":"UnObr5!I331","v":0},null,null,null,{"$f":"UnObr5!J331","v":0},null,null,null,null,{"$f":"UnObr5!K331","v":0}]
[5328,null,null,482000,null,null,null,"ПОРЕЗИ, ОБАВЕЗНЕ ТАКСЕ И КАЗНЕ \n(од 5329 до 5331)",null,null,null,null,null,null,null,null,null,null,null,null,null,null,null,null,{"$f":"UnObr5!D332","v":132},null,null,null,null,{"$f":"UnObr5!E332","v":134},null,null,null,null,null,{"$f":"UnObr5!F332","v":0},null,null,null,null,{"$f":"UnObr5!G332","v":0},null,null,null,null,{"$f":"UnObr5!H332","v":134},null,null,null,null,{"$f":"UnObr5!I332","v":0},null,null,null,{"$f":"UnObr5!J332","v":0},null,null,null,null,{"$f":"UnObr5!K332","v":0}]
[5329,null,null,482100,null,null,null,"Остали порези",null,null,null,null,null,null,null,null,null,null,null,null,null,null,null,null,{"$f":"UnObr5!D333","v":0},null,null,null,null,{"$f":"UnObr5!E333","v":0},null,null,null,null,null,{"$f":"UnObr5!F333","v":0},null,null,null,null,{"$f":"UnObr5!G333","v":0},null,null,null,null,{"$f":"UnObr5!H333","v":0},null,null,null,null,{"$f":"UnObr5!I333","v":0},null,null,null,{"$f":"UnObr5!J333","v":0},null,null,null,null,{"$f":"UnObr5!K333","v":0}]
[5330,null,null,482200,null,null,null,"Обавезне таксе",null,null,null,null,null,null,null,null,null,null,null,null,null,null,null,null,{"$f":"UnObr5!D334","v":132},null,null,null,null,{"$f":"UnObr5!E334","v":134},null,null,null,null,null,{"$f":"UnObr5!F334","v":0},null,null,null,null,{"$f":"UnObr5!G334","v":0},null,null,null,null,{"$f":"UnObr5!H334","v":134},null,null,null,null,{"$f":"UnObr5!I334","v":0},null,null,null,{"$f":"UnObr5!J334","v":0},null,null,null,null,{"$f":"UnObr5!K334","v":0}]
[5331,null,null,482300,null,null,null,"Новчане казне и пенали",null,null,null,null,null,null,null,null,null,null,null,null,null,null,null,null,{"$f":"UnObr5!D335","v":0},null,null,null,null,{"$f":"UnObr5!E335","v":0},null,null,null,null,null,{"$f":"UnObr5!F335","v":0},null,null,null,null,{"$f":"UnObr5!G335","v":0},null,null,null,null,{"$f":"UnObr5!H335","v":0},null,null,null,null,{"$f":"UnObr5!I335","v":0},null,null,null,{"$f":"UnObr5!J335","v":0},null,null,null,null,{"$f":"UnObr5!K335","v":0}]
[5332,null,null,483000,null,null,null,"НОВЧАНЕ КАЗНЕ И ПЕНАЛИ ПО \nРЕШЕЊУ СУДОВА (5333)",null,null,null,null,null,null,null,null,null,null,null,null,null,null,null,null,{"$f":"UnObr5!D336","v":1200},null,null,null,null,{"$f":"UnObr5!E336","v":1200},null,null,null,null,null,{"$f":"UnObr5!F336","v":0},null,null,null,null,{"$f":"UnObr5!G336","v":0},null,null,null,null,{"$f":"UnObr5!H336","v":1200},null,null,null,null,{"$f":"UnObr5!I336","v":0},null,null,null,{"$f":"UnObr5!J336","v":0},null,null,null,null,{"$f":"UnObr5!K336","v":0}]
[5333,null,null,483100,null,null,null,"Новчане казне и пенали по решењу судова",null,null,null,null,null,null,null,null,null,null,null,null,null,null,null,null,{"$f":"UnObr5!D337","v":1200},null,null,null,null,{"$f":"UnObr5!E337","v":1200},null,null,null,null,null,{"$f":"UnObr5!F337","v":0},null,null,null,null,{"$f":"UnObr5!G337","v":0},null,null,null,null,{"$f":"UnObr5!H337","v":1200},null,null,null,null,{"$f":"UnObr5!I337","v":0},null,null,null,{"$f":"UnObr5!J337","v":0},null,null,null,null,{"$f":"UnObr5!K337","v":0}]
[5334,null,null,484000,null,null,null,"НАКНАДА ШТЕТЕ ЗА ПОВРЕДЕ ИЛИ ШТЕТУ НАСТАЛУ УСЛЕД ЕЛЕМЕНТАРНИХ НЕПОГОДА ИЛИ ДРУГИХ ПРИРОДНИХ УЗРОКА (5335 + 5336)",null,null,null,null,null,null,null,null,null,null,null,null,null,null,null,null,{"$f":"UnObr5!D338","v":0},null,null,null,null,{"$f":"UnObr5!E338","v":0},null,null,null,null,null,{"$f":"UnObr5!F338","v":0},null,null,null,null,{"$f":"UnObr5!G338","v":0},null,null,null,null,{"$f":"UnObr5!H338","v":0},null,null,null,null,{"$f":"UnObr5!I338","v":0},null,null,null,{"$f":"UnObr5!J338","v":0},null,null,null,null,{"$f":"UnObr5!K338","v":0}]
[5335,null,null,484100,null,null,null,"Накнада штете за повреде или штету насталу \nуслед елементарних непогода",null,null,null,null,null,null,null,null,null,null,null,null,null,null,null,null,{"$f":"UnObr5!D339","v":0},null,null,null,null,{"$f":"UnObr5!E339","v":0},null,null,null,null,null,{"$f":"UnObr5!F339","v":0},null,null,null,null,{"$f":"UnObr5!G339","v":0},null,null,null,null,{"$f":"UnObr5!H339","v":0},null,null,null,null,{"$f":"UnObr5!I339","v":0},null,null,null,{"$f":"UnObr5!J339","v":0},null,null,null,null,{"$f":"UnObr5!K339","v":0}]
[5336,null,null,484200,null,null,null,"Накнада штете од дивљачи",null,null,null,null,null,null,null,null,null,null,null,null,null,null,null,null,{"$f":"UnObr5!D340","v":0},null,null,null,null,{"$f":"UnObr5!E340","v":0},null,null,null,null,null,{"$f":"UnObr5!F340","v":0},null,null,null,null,{"$f":"UnObr5!G340","v":0},null,null,null,null,{"$f":"UnObr5!H340","v":0},null,null,null,null,{"$f":"UnObr5!I340","v":0},null,null,null,{"$f":"UnObr5!J340","v":0},null,null,null,null,{"$f":"UnObr5!K340","v":0}]
[5337,null,null,485000,null,null,null,"НАКНАДА ШТЕТЕ ЗА ПОВРЕДЕ ИЛИ \nШТЕТУ НАНЕТУ ОД СТРАНЕ ДРЖАВНИХ \nОРГАНА (5338)",null,null,null,null,null,null,null,null,null,null,null,null,null,null,null,null,{"$f":"UnObr5!D341","v":8257},null,null,null,null,{"$f":"UnObr5!E341","v":8256},null,null,null,null,null,{"$f":"UnObr5!F341","v":0},null,null,null,null,{"$f":"UnObr5!G341","v":0},null,null,null,null,{"$f":"UnObr5!H341","v":8256},null,null,null,null,{"$f":"UnObr5!I341","v":0},null,null,null,{"$f":"UnObr5!J341","v":0},null,null,null,null,{"$f":"UnObr5!K341","v":0}]
[5338,null,null,485100,null,null,null,"Накнада штете за повреде или штету нанету од стране државних органа",null,null,null,null,null,null,null,null,null,null,null,null,null,null,null,null,{"$f":"UnObr5!D342","v":8257},null,null,null,null,{"$f":"UnObr5!E342","v":8256},null,null,null,null,null,{"$f":"UnObr5!F342","v":0},null,null,null,null,{"$f":"UnObr5!G342","v":0},null,null,null,null,{"$f":"UnObr5!H342","v":8256},null,null,null,null,{"$f":"UnObr5!I342","v":0},null,null,null,{"$f":"UnObr5!J342","v":0},null,null,null,null,{"$f":"UnObr5!K342","v":0}]
["Ознака\nОП",null,null,"Број\nконта",null,null,null,"Опис",null,null,null,null,null,null,null,null,null,null,null,null,null,null,null,null,"Износ\nодобрених апропријација",null,null,null,null,"Износ извршених расхода и издатака"]
[null,null,null,null,null,null,null,null,null,null,null,null,null,null,null,null,null,null,null,null,null,null,null,null,null,null,null,null,null,"Укупно \n(од 6 до 11)",null,null,null,null,null,"Расходи и издаци на терет буџета",null,null,null,null,null,null,null,null,null,null,null,null,null,null,null,null,null,null,"Из\nдонација и помоћи",null,null,null,null,"Из \nосталих\nизвора"]
[null,null,null,null,null,null,null,null,null,null,null,null,null,null,null,null,null,null,null,null,null,null,null,null,null,null,null,null,null,null,null,null,null,null,null,"Републике",null,null,null,null,"Аутономне\nпокрајине",null,null,null,null,"Општине /\nграда",null,null,null,null,"ООСО"]
[]
[1,null,null,2,null,null,null,3,null,null,null,null,null,null,null,null,null,null,null,null,null,null,null,null,4,null,null,null,null,5,null,null,null,null,null,6,null,null,null,null,7,null,null,null,null,8,null,null,null,null,9,null,null,null,10,null,null,null,null,11]
[5339,null,null,489000,null,null,null,"РАСХОДИ КОЈИ СЕ ФИНАНСИРАЈУ \nИЗ СРЕДСТАВА ЗА РЕАЛИЗАЦИЈУ НАЦИОНАЛНОГ ИНВЕСТИЦИОНОГ \nПЛАНА (5340)",null,null,null,null,null,null,null,null,null,null,null,null,null,null,null,null,{"$f":"UnObr5!D343","v":0},null,null,null,null,{"$f":"UnObr5!E343","v":0},null,null,null,null,null,{"$f":"UnObr5!F343","v":0},null,null,null,null,{"$f":"UnObr5!G343","v":0},null,null,null,null,{"$f":"UnObr5!H343","v":0},null,null,null,null,{"$f":"UnObr5!I343","v":0},null,null,null,{"$f":"UnObr5!J343","v":0},null,null,null,null,{"$f":"UnObr5!K343","v":0}]
[5340,null,null,489100,null,null,null,"Расходи који се финансирају из средстава \nза реализацију националног инвестиционог плана",null,null,null,null,null,null,null,null,null,null,null,null,null,null,null,null,{"$f":"UnObr5!D344","v":0},null,null,null,null,{"$f":"UnObr5!E344","v":0},null,null,null,null,null,{"$f":"UnObr5!F344","v":0},null,null,null,null,{"$f":"UnObr5!G344","v":0},null,null,null,null,{"$f":"UnObr5!H344","v":0},null,null,null,null,{"$f":"UnObr5!I344","v":0},null,null,null,{"$f":"UnObr5!J344","v":0},null,null,null,null,{"$f":"UnObr5!K344","v":0}]
[5341,null,null,500000,null,null,null,"ИЗДАЦИ ЗА НЕФИНАНСИЈСКУ \nИМОВИНУ (5342 + 5364 + 5373 + 5376 + 5384)",null,null,null,null,null,null,null,null,null,null,null,null,null,null,null,null,{"$f":"UnObr5!D345","v":950},null,null,null,null,{"$f":"UnObr5!E345","v":1301},null,null,null,null,null,{"$f":"UnObr5!F345","v":273},null,null,null,null,{"$f":"UnObr5!G345","v":0},null,null,null,null,{"$f":"UnObr5!H345","v":945},null,null,null,null,{"$f":"UnObr5!I345","v":0},null,null,null,{"$f":"UnObr5!J345","v":0},null,null,null,null,{"$f":"UnObr5!K345","v":83}]
[5342,null,null,510000,null,null,null,"ОСНОВНА СРЕДСТВА \n(5343 + 5348 + 5358 + 5360 + 5362)",null,null,null,null,null,null,null,null,null,null,null,null,null,null,null,null,{"$f":"UnObr5!D346","v":950},null,null,null,null,{"$f":"UnObr5!E346","v":1301},null,null,null,null,null,{"$f":"UnObr5!F346","v":273},null,null,null,null,{"$f":"UnObr5!G346","v":0},null,null,null,null,{"$f":"UnObr5!H346","v":945},null,null,null,null,{"$f":"UnObr5!I346","v":0},null,null,null,{"$f":"UnObr5!J346","v":0},null,null,null,null,{"$f":"UnObr5!K346","v":83}]
[5343,null,null,511000,null,null,null,"ЗГРАДЕ И ГРАЂЕВИНСКИ ОБЈЕКТИ \n(од 5344 до 5347)",null,null,null,null,null,null,null,null,null,null,null,null,null,null,null,null,{"$f":"UnObr5!D347","v":0},null,null,null,null,{"$f":"UnObr5!E347","v":0},null,null,null,null,null,{"$f":"UnObr5!F347","v":0},null,null,null,null,{"$f":"UnObr5!G347","v":0},null,null,null,null,{"$f":"UnObr5!H347","v":0},null,null,null,null,{"$f":"UnObr5!I347","v":0},null,null,null,{"$f":"UnObr5!J347","v":0},null,null,null,null,{"$f":"UnObr5!K347","v":0}]
[5344,null,null,511100,null,null,null,"Куповина зграда и објеката",null,null,null,null,null,null,null,null,null,null,null,null,null,null,null,null,{"$f":"UnObr5!D348","v":0},null,null,null,null,{"$f":"UnObr5!E348","v":0},null,null,null,null,null,{"$f":"UnObr5!F348","v":0},null,null,null,null,{"$f":"UnObr5!G348","v":0},null,null,null,null,{"$f":"UnObr5!H348","v":0},null,null,null,null,{"$f":"UnObr5!I348","v":0},null,null,null,{"$f":"UnObr5!J348","v":0},null,null,null,null,{"$f":"UnObr5!K348","v":0}]
[5345,null,null,511200,null,null,null,"Изградња зграда и објеката",null,null,null,null,null,null,null,null,null,null,null,null,null,null,null,null,{"$f":"UnObr5!D349","v":0},null,null,null,null,{"$f":"UnObr5!E349","v":0},null,null,null,null,null,{"$f":"UnObr5!F349","v":0},null,null,null,null,{"$f":"UnObr5!G349","v":0},null,null,null,null,{"$f":"UnObr5!H349","v":0},null,null,null,null,{"$f":"UnObr5!I349","v":0},null,null,null,{"$f":"UnObr5!J349","v":0},null,null,null,null,{"$f":"UnObr5!K349","v":0}]
[5346,null,null,511300,null,null,null,"Капитално одржавање зграда и објеката",null,null,null,null,null,null,null,null,null,null,null,null,null,null,null,null,{"$f":"UnObr5!D350","v":0},null,null,null,null,{"$f":"UnObr5!E350","v":0},null,null,null,null,null,{"$f":"UnObr5!F350","v":0},null,null,null,null,{"$f":"UnObr5!G350","v":0},null,null,null,null,{"$f":"UnObr5!H350","v":0},null,null,null,null,{"$f":"UnObr5!I350","v":0},null,null,null,{"$f":"UnObr5!J350","v":0},null,null,null,null,{"$f":"UnObr5!K350","v":0}]
[5347,null,null,511400,null,null,null,"Пројектно планирање",null,null,null,null,null,null,null,null,null,null,null,null,null,null,null,null,{"$f":"UnObr5!D351","v":0},null,null,null,null,{"$f":"UnObr5!E351","v":0},null,null,null,null,null,{"$f":"UnObr5!F351","v":0},null,null,null,null,{"$f":"UnObr5!G351","v":0},null,null,null,null,{"$f":"UnObr5!H351","v":0},null,null,null,null,{"$f":"UnObr5!I351","v":0},null,null,null,{"$f":"UnObr5!J351","v":0},null,null,null,null,{"$f":"UnObr5!K351","v":0}]
[5348,null,null,512000,null,null,null,"МАШИНЕ И ОПРЕМА (од 5349 до 5357)",null,null,null,null,null,null,null,null,null,null,null,null,null,null,null,null,{"$f":"UnObr5!D352","v":950},null,null,null,null,{"$f":"UnObr5!E352","v":1301},null,null,null,null,null,{"$f":"UnObr5!F352","v":273},null,null,null,null,{"$f":"UnObr5!G352","v":0},null,null,null,null,{"$f":"UnObr5!H352","v":945},null,null,null,null,{"$f":"UnObr5!I352","v":0},null,null,null,{"$f":"UnObr5!J352","v":0},null,null,null,null,{"$f":"UnObr5!K352","v":83}]
[5349,null,null,512100,null,null,null,"Опрема за саобраћај",null,null,null,null,null,null,null,null,null,null,null,null,null,null,null,null,{"$f":"UnObr5!D353","v":0},null,null,null,null,{"$f":"UnObr5!E353","v":0},null,null,null,null,null,{"$f":"UnObr5!F353","v":0},null,null,null,null,{"$f":"UnObr5!G353","v":0},null,null,null,null,{"$f":"UnObr5!H353","v":0},null,null,null,null,{"$f":"UnObr5!I353","v":0},null,null,null,{"$f":"UnObr5!J353","v":0},null,null,null,null,{"$f":"UnObr5!K353","v":0}]
[5350,null,null,512200,null,null,null,"Административна опрема",null,null,null,null,null,null,null,null,null,null,null,null,null,null,null,null,{"$f":"UnObr5!D354","v":628},null,null,null,null,{"$f":"UnObr5!E354","v":896},null,null,null,null,null,{"$f":"UnObr5!F354","v":273},null,null,null,null,{"$f":"UnObr5!G354","v":0},null,null,null,null,{"$f":"UnObr5!H354","v":623},null,null,null,null,{"$f":"UnObr5!I354","v":0},null,null,null,{"$f":"UnObr5!J354","v":0},null,null,null,null,{"$f":"UnObr5!K354","v":0}]
[5351,null,null,512300,null,null,null,"Опрема за пољопривреду",null,null,null,null,null,null,null,null,null,null,null,null,null,null,null,null,{"$f":"UnObr5!D355","v":0},null,null,null,null,{"$f":"UnObr5!E355","v":0},null,null,null,null,null,{"$f":"UnObr5!F355","v":0},null,null,null,null,{"$f":"UnObr5!G355","v":0},null,null,null,null,{"$f":"UnObr5!H355","v":0},null,null,null,null,{"$f":"UnObr5!I355","v":0},null,null,null,{"$f":"UnObr5!J355","v":0},null,null,null,null,{"$f":"UnObr5!K355","v":0}]
[5352,null,null,512400,null,null,null,"Опрема за заштиту животне средине",null,null,null,null,null,null,null,null,null,null,null,null,null,null,null,null,{"$f":"UnObr5!D356","v":0},null,null,null,null,{"$f":"UnObr5!E356","v":0},null,null,null,null,null,{"$f":"UnObr5!F356","v":0},null,null,null,null,{"$f":"UnObr5!G356","v":0},null,null,null,null,{"$f":"UnObr5!H356","v":0},null,null,null,null,{"$f":"UnObr5!I356","v":0},null,null,null,{"$f":"UnObr5!J356","v":0},null,null,null,null,{"$f":"UnObr5!K356","v":0}]
[5353,null,null,512500,null,null,null,"Медицинска и лабораторијска опрема",null,null,null,null,null,null,null,null,null,null,null,null,null,null,null,null,{"$f":"UnObr5!D357","v":0},null,null,null,null,{"$f":"UnObr5!E357","v":0},null,null,null,null,null,{"$f":"UnObr5!F357","v":0},null,null,null,null,{"$f":"UnObr5!G357","v":0},null,null,null,null,{"$f":"UnObr5!H357","v":0},null,null,null,null,{"$f":"UnObr5!I357","v":0},null,null,null,{"$f":"UnObr5!J357","v":0},null,null,null,null,{"$f":"UnObr5!K357","v":0}]
[5354,null,null,512600,null,null,null,"Опрема за образовање, културу и спорт",null,null,null,null,null,null,null,null,null,null,null,null,null,null,null,null,{"$f":"UnObr5!D358","v":322},null,null,null,null,{"$f":"UnObr5!E358","v":405},null,null,null,null,null,{"$f":"UnObr5!F358","v":0},null,null,null,null,{"$f":"UnObr5!G358","v":0},null,null,null,null,{"$f":"UnObr5!H358","v":322},null,null,null,null,{"$f":"UnObr5!I358","v":0},null,null,null,{"$f":"UnObr5!J358","v":0},null,null,null,null,{"$f":"UnObr5!K358","v":83}]
[5355,null,null,512700,null,null,null,"Опрема за војску",null,null,null,null,null,null,null,null,null,null,null,null,null,null,null,null,{"$f":"UnObr5!D359","v":0},null,null,null,null,{"$f":"UnObr5!E359","v":0},null,null,null,null,null,{"$f":"UnObr5!F359","v":0},null,null,null,null,{"$f":"UnObr5!G359","v":0},null,null,null,null,{"$f":"UnObr5!H359","v":0},null,null,null,null,{"$f":"UnObr5!I359","v":0},null,null,null,{"$f":"UnObr5!J359","v":0},null,null,null,null,{"$f":"UnObr5!K359","v":0}]
[5356,null,null,512800,null,null,null,"Опрема за јавну безбедност",null,null,null,null,null,null,null,null,null,null,null,null,null,null,null,null,{"$f":"UnObr5!D360","v":0},null,null,null,null,{"$f":"UnObr5!E360","v":0},null,null,null,null,null,{"$f":"UnObr5!F360","v":0},null,null,null,null,{"$f":"UnObr5!G360","v":0},null,null,null,null,{"$f":"UnObr5!H360","v":0},null,null,null,null,{"$f":"UnObr5!I360","v":0},null,null,null,{"$f":"UnObr5!J360","v":0},null,null,null,null,{"$f":"UnObr5!K360","v":0}]
[5357,null,null,512900,null,null,null,"Опрема за производњу, моторна, непокретна и немоторна опрема",null,null,null,null,null,null,null,null,null,null,null,null,null,null,null,null,{"$f":"UnObr5!D361","v":0},null,null,null,null,{"$f":"UnObr5!E361","v":0},null,null,null,null,null,{"$f":"UnObr5!F361","v":0},null,null,null,null,{"$f":"UnObr5!G361","v":0},null,null,null,null,{"$f":"UnObr5!H361","v":0},null,null,null,null,{"$f":"UnObr5!I361","v":0},null,null,null,{"$f":"UnObr5!J361","v":0},null,null,null,null,{"$f":"UnObr5!K361","v":0}]
[5358,null,null,513000,null,null,null,"ОСТАЛЕ НЕКРЕТНИНЕ И ОПРЕМА (5359)",null,null,null,null,null,null,null,null,null,null,null,null,null,null,null,null,{"$f":"UnObr5!D362","v":0},null,null,null,null,{"$f":"UnObr5!E362","v":0},null,null,null,null,null,{"$f":"UnObr5!F362","v":0},null,null,null,null,{"$f":"UnObr5!G362","v":0},null,null,null,null,{"$f":"UnObr5!H362","v":0},null,null,null,null,{"$f":"UnObr5!I362","v":0},null,null,null,{"$f":"UnObr5!J362","v":0},null,null,null,null,{"$f":"UnObr5!K362","v":0}]
[5359,null,null,513100,null,null,null,"Остале некретнине и опрема",null,null,null,null,null,null,null,null,null,null,null,null,null,null,null,null,{"$f":"UnObr5!D363","v":0},null,null,null,null,{"$f":"UnObr5!E363","v":0},null,null,null,null,null,{"$f":"UnObr5!F363","v":0},null,null,null,null,{"$f":"UnObr5!G363","v":0},null,null,null,null,{"$f":"UnObr5!H363","v":0},null,null,null,null,{"$f":"UnObr5!I363","v":0},null,null,null,{"$f":"UnObr5!J363","v":0},null,null,null,null,{"$f":"UnObr5!K363","v":0}]
["Ознака\nОП",null,null,"Број\nконта",null,null,null,"Опис",null,null,null,null,null,null,null,null,null,null,null,null,null,null,null,null,"Износ\nодобрених апропријација",null,null,null,null,"Износ извршених расхода и издатака"]
[null,null,null,null,null,null,null,null,null,null,null,null,null,null,null,null,null,null,null,null,null,null,null,null,null,null,null,null,null,"Укупно \n(од 6 до 11)",null,null,null,null,null,"Расходи и издаци на терет буџета",null,null,null,null,null,null,null,null,null,null,null,null,null,null,null,null,null,null,"Из\nдонација и помоћи",null,null,null,null,"Из \nосталих\nизвора"]
[null,null,null,null,null,null,null,null,null,null,null,null,null,null,null,null,null,null,null,null,null,null,null,null,null,null,null,null,null,null,null,null,null,null,null,"Републике",null,null,null,null,"Аутономне\nпокрајине",null,null,null,null,"Општине /\nграда",null,null,null,null,"ООСО"]
[]
[1,null,null,2,null,null,null,3,null,null,null,null,null,null,null,null,null,null,null,null,null,null,null,null,4,null,null,null,null,5,null,null,null,null,null,6,null,null,null,null,7,null,null,null,null,8,null,null,null,null,9,null,null,null,10,null,null,null,null,11]
[5360,null,null,514000,null,null,null,"КУЛТИВИСАНА ИМОВИНА (5361)",null,null,null,null,null,null,null,null,null,null,null,null,null,null,null,null,{"$f":"UnObr5!D364","v":0},null,null,null,null,{"$f":"UnObr5!E364","v":0},null,null,null,null,null,{"$f":"UnObr5!F364","v":0},null,null,null,null,{"$f":"UnObr5!G364","v":0},null,null,null,null,{"$f":"UnObr5!H364","v":0},null,null,null,null,{"$f":"UnObr5!I364","v":0},null,null,null,{"$f":"UnObr5!J364","v":0},null,null,null,null,{"$f":"UnObr5!K364","v":0}]
[5361,null,null,514100,null,null,null,"Култивисана имовина",null,null,null,null,null,null,null,null,null,null,null,null,null,null,null,null,{"$f":"UnObr5!D365","v":0},null,null,null,null,{"$f":"UnObr5!E365","v":0},null,null,null,null,null,{"$f":"UnObr5!F365","v":0},null,null,null,null,{"$f":"UnObr5!G365","v":0},null,null,null,null,{"$f":"UnObr5!H365","v":0},null,null,null,null,{"$f":"UnObr5!I365","v":0},null,null,null,{"$f":"UnObr5!J365","v":0},null,null,null,null,{"$f":"UnObr5!K365","v":0}]
[5362,null,null,515000,null,null,null,"НЕМАТЕРИЈАЛНА ИМОВИНА (5363)",null,null,null,null,null,null,null,null,null,null,null,null,null,null,null,null,{"$f":"UnObr5!D366","v":0},null,null,null,null,{"$f":"UnObr5!E366","v":0},null,null,null,null,null,{"$f":"UnObr5!F366","v":0},null,null,null,null,{"$f":"UnObr5!G366","v":0},null,null,null,null,{"$f":"UnObr5!H366","v":0},null,null,null,null,{"$f":"UnObr5!I366","v":0},null,null,null,{"$f":"UnObr5!J366","v":0},null,null,null,null,{"$f":"UnObr5!K366","v":0}]
[5363,null,null,515100,null,null,null,"Нематеријална имовина",null,null,null,null,null,null,null,null,null,null,null,null,null,null,null,null,{"$f":"UnObr5!D367","v":0},null,null,null,null,{"$f":"UnObr5!E367","v":0},null,null,null,null,null,{"$f":"UnObr5!F367","v":0},null,null,null,null,{"$f":"UnObr5!G367","v":0},null,null,null,null,{"$f":"UnObr5!H367","v":0},null,null,null,null,{"$f":"UnObr5!I367","v":0},null,null,null,{"$f":"UnObr5!J367","v":0},null,null,null,null,{"$f":"UnObr5!K367","v":0}]
[5364,null,null,520000,null,null,null,"ЗАЛИХЕ (5365 + 5367 + 5371)",null,null,null,null,null,null,null,null,null,null,null,null,null,null,null,null,{"$f":"UnObr5!D368","v":0},null,null,null,null,{"$f":"UnObr5!E368","v":0},null,null,null,null,null,{"$f":"UnObr5!F368","v":0},null,null,null,null,{"$f":"UnObr5!G368","v":0},null,null,null,null,{"$f":"UnObr5!H368","v":0},null,null,null,null,{"$f":"UnObr5!I368","v":0},null,null,null,{"$f":"UnObr5!J368","v":0},null,null,null,null,{"$f":"UnObr5!K368","v":0}]
[5365,null,null,521000,null,null,null,"РОБНЕ РЕЗЕРВЕ (5366)",null,null,null,null,null,null,null,null,null,null,null,null,null,null,null,null,{"$f":"UnObr5!D369","v":0},null,null,null,null,{"$f":"UnObr5!E369","v":0},null,null,null,null,null,{"$f":"UnObr5!F369","v":0},null,null,null,null,{"$f":"UnObr5!G369","v":0},null,null,null,null,{"$f":"UnObr5!H369","v":0},null,null,null,null,{"$f":"UnObr5!I369","v":0},null,null,null,{"$f":"UnObr5!J369","v":0},null,null,null,null,{"$f":"UnObr5!K369","v":0}]
[5366,null,null,521100,null,null,null,"Робне резерве",null,null,null,null,null,null,null,null,null,null,null,null,null,null,null,null,{"$f":"UnObr5!D370","v":0},null,null,null,null,{"$f":"UnObr5!E370","v":0},null,null,null,null,null,{"$f":"UnObr5!F370","v":0},null,null,null,null,{"$f":"UnObr5!G370","v":0},null,null,null,null,{"$f":"UnObr5!H370","v":0},null,null,null,null,{"$f":"UnObr5!I370","v":0},null,null,null,{"$f":"UnObr5!J370","v":0},null,null,null,null,{"$f":"UnObr5!K370","v":0}]
[5367,null,null,522000,null,null,null,"ЗАЛИХЕ ПРОИЗВОДЊЕ (од 5368 до 5370)",null,null,null,null,null,null,null,null,null,null,null,null,null,null,null,null,{"$f":"UnObr5!D371","v":0},null,null,null,null,{"$f":"UnObr5!E371","v":0},null,null,null,null,null,{"$f":"UnObr5!F371","v":0},null,null,null,null,{"$f":"UnObr5!G371","v":0},null,null,null,null,{"$f":"UnObr5!H371","v":0},null,null,null,null,{"$f":"UnObr5!I371","v":0},null,null,null,{"$f":"UnObr5!J371","v":0},null,null,null,null,{"$f":"UnObr5!K371","v":0}]
[5368,null,null,522100,null,null,null,"Залихе материјала",null,null,null,null,null,null,null,null,null,null,null,null,null,null,null,null,{"$f":"UnObr5!D372","v":0},null,null,null,null,{"$f":"UnObr5!E372","v":0},null,null,null,null,null,{"$f":"UnObr5!F372","v":0},null,null,null,null,{"$f":"UnObr5!G372","v":0},null,null,null,null,{"$f":"UnObr5!H372","v":0},null,null,null,null,{"$f":"UnObr5!I372","v":0},null,null,null,{"$f":"UnObr5!J372","v":0},null,null,null,null,{"$f":"UnObr5!K372","v":0}]
[5369,null,null,522200,null,null,null,"Залихе недовршене производње",null,null,null,null,null,null,null,null,null,null,null,null,null,null,null,null,{"$f":"UnObr5!D373","v":0},null,null,null,null,{"$f":"UnObr5!E373","v":0},null,null,null,null,null,{"$f":"UnObr5!F373","v":0},null,null,null,null,{"$f":"UnObr5!G373","v":0},null,null,null,null,{"$f":"UnObr5!H373","v":0},null,null,null,null,{"$f":"UnObr5!I373","v":0},null,null,null,{"$f":"UnObr5!J373","v":0},null,null,null,null,{"$f":"UnObr5!K373","v":0}]
[5370,null,null,522300,null,null,null,"Залихе готових производа",null,null,null,null,null,null,null,null,null,null,null,null,null,null,null,null,{"$f":"UnObr5!D374","v":0},null,null,null,null,{"$f":"UnObr5!E374","v":0},null,null,null,null,null,{"$f":"UnObr5!F374","v":0},null,null,null,null,{"$f":"UnObr5!G374","v":0},null,null,null,null,{"$f":"UnObr5!H374","v":0},null,null,null,null,{"$f":"UnObr5!I374","v":0},null,null,null,{"$f":"UnObr5!J374","v":0},null,null,null,null,{"$f":"UnObr5!K374","v":0}]
[5371,null,null,523000,null,null,null,"ЗАЛИХЕ РОБЕ ЗА ДАЉУ ПРОДАЈУ (5372)",null,null,null,null,null,null,null,null,null,null,null,null,null,null,null,null,{"$f":"UnObr5!D375","v":0},null,null,null,null,{"$f":"UnObr5!E375","v":0},null,null,null,null,null,{"$f":"UnObr5!F375","v":0},null,null,null,null,{"$f":"UnObr5!G375","v":0},null,null,null,null,{"$f":"UnObr5!H375","v":0},null,null,null,null,{"$f":"UnObr5!I375","v":0},null,null,null,{"$f":"UnObr5!J375","v":0},null,null,null,null,{"$f":"UnObr5!K375","v":0}]
[5372,null,null,523100,null,null,null,"Залихе робе за даљу продају",null,null,null,null,null,null,null,null,null,null,null,null,null,null,null,null,{"$f":"UnObr5!D376","v":0},null,null,null,null,{"$f":"UnObr5!E376","v":0},null,null,null,null,null,{"$f":"UnObr5!F376","v":0},null,null,null,null,{"$f":"UnObr5!G376","v":0},null,null,null,null,{"$f":"UnObr5!H376","v":0},null,null,null,null,{"$f":"UnObr5!I376","v":0},null,null,null,{"$f":"UnObr5!J376","v":0},null,null,null,null,{"$f":"UnObr5!K376","v":0}]
[5373,null,null,530000,null,null,null,"ДРАГОЦЕНОСТИ (5374)",null,null,null,null,null,null,null,null,null,null,null,null,null,null,null,null,{"$f":"UnObr5!D377","v":0},null,null,null,null,{"$f":"UnObr5!E377","v":0},null,null,null,null,null,{"$f":"UnObr5!F377","v":0},null,null,null,null,{"$f":"UnObr5!G377","v":0},null,null,null,null,{"$f":"UnObr5!H377","v":0},null,null,null,null,{"$f":"UnObr5!I377","v":0},null,null,null,{"$f":"UnObr5!J377","v":0},null,null,null,null,{"$f":"UnObr5!K377","v":0}]
[5374,null,null,531000,null,null,null,"ДРАГОЦЕНОСТИ (5375)",null,null,null,null,null,null,null,null,null,null,null,null,null,null,null,null,{"$f":"UnObr5!D378","v":0},null,null,null,null,{"$f":"UnObr5!E378","v":0},null,null,null,null,null,{"$f":"UnObr5!F378","v":0},null,null,null,null,{"$f":"UnObr5!G378","v":0},null,null,null,null,{"$f":"UnObr5!H378","v":0},null,null,null,null,{"$f":"UnObr5!I378","v":0},null,null,null,{"$f":"UnObr5!J378","v":0},null,null,null,null,{"$f":"UnObr5!K378","v":0}]
[5375,null,null,531100,null,null,null,"Драгоцености",null,null,null,null,null,null,null,null,null,null,null,null,null,null,null,null,{"$f":"UnObr5!D379","v":0},null,null,null,null,{"$f":"UnObr5!E379","v":0},null,null,null,null,null,{"$f":"UnObr5!F379","v":0},null,null,null,null,{"$f":"UnObr5!G379","v":0},null,null,null,null,{"$f":"UnObr5!H379","v":0},null,null,null,null,{"$f":"UnObr5!I379","v":0},null,null,null,{"$f":"UnObr5!J379","v":0},null,null,null,null,{"$f":"UnObr5!K379","v":0}]
[5376,null,null,540000,null,null,null,"ПРИРОДНА ИМОВИНА (5377 + 5379 + 5381)",null,null,null,null,null,null,null,null,null,null,null,null,null,null,null,null,{"$f":"UnObr5!D380","v":0},null,null,null,null,{"$f":"UnObr5!E380","v":0},null,null,null,null,null,{"$f":"UnObr5!F380","v":0},null,null,null,null,{"$f":"UnObr5!G380","v":0},null,null,null,null,{"$f":"UnObr5!H380","v":0},null,null,null,null,{"$f":"UnObr5!I380","v":0},null,null,null,{"$f":"UnObr5!J380","v":0},null,null,null,null,{"$f":"UnObr5!K380","v":0}]
[5377,null,null,541000,null,null,null,"ЗЕМЉИШТЕ (5378)",null,null,null,null,null,null,null,null,null,null,null,null,null,null,null,null,{"$f":"UnObr5!D381","v":0},null,null,null,null,{"$f":"UnObr5!E381","v":0},null,null,null,null,null,{"$f":"UnObr5!F381","v":0},null,null,null,null,{"$f":"UnObr5!G381","v":0},null,null,null,null,{"$f":"UnObr5!H381","v":0},null,null,null,null,{"$f":"UnObr5!I381","v":0},null,null,null,{"$f":"UnObr5!J381","v":0},null,null,null,null,{"$f":"UnObr5!K381","v":0}]
[5378,null,null,541100,null,null,null,"Земљиште",null,null,null,null,null,null,null,null,null,null,null,null,null,null,null,null,{"$f":"UnObr5!D382","v":0},null,null,null,null,{"$f":"UnObr5!E382","v":0},null,null,null,null,null,{"$f":"UnObr5!F382","v":0},null,null,null,null,{"$f":"UnObr5!G382","v":0},null,null,null,null,{"$f":"UnObr5!H382","v":0},null,null,null,null,{"$f":"UnObr5!I382","v":0},null,null,null,{"$f":"UnObr5!J382","v":0},null,null,null,null,{"$f":"UnObr5!K382","v":0}]
[5379,null,null,542000,null,null,null,"РУДНА БОГАТСТВА (5380)",null,null,null,null,null,null,null,null,null,null,null,null,null,null,null,null,{"$f":"UnObr5!D383","v":0},null,null,null,null,{"$f":"UnObr5!E383","v":0},null,null,null,null,null,{"$f":"UnObr5!F383","v":0},null,null,null,null,{"$f":"UnObr5!G383","v":0},null,null,null,null,{"$f":"UnObr5!H383","v":0},null,null,null,null,{"$f":"UnObr5!I383","v":0},null,null,null,{"$f":"UnObr5!J383","v":0},null,null,null,null,{"$f":"UnObr5!K383","v":0}]
[5380,null,null,542100,null,null,null,"Копови",null,null,null,null,null,null,null,null,null,null,null,null,null,null,null,null,{"$f":"UnObr5!D384","v":0},null,null,null,null,{"$f":"UnObr5!E384","v":0},null,null,null,null,null,{"$f":"UnObr5!F384","v":0},null,null,null,null,{"$f":"UnObr5!G384","v":0},null,null,null,null,{"$f":"UnObr5!H384","v":0},null,null,null,null,{"$f":"UnObr5!I384","v":0},null,null,null,{"$f":"UnObr5!J384","v":0},null,null,null,null,{"$f":"UnObr5!K384","v":0}]
[5381,null,null,543000,null,null,null,"ШУМЕ И ВОДЕ (5382 + 5383)",null,null,null,null,null,null,null,null,null,null,null,null,null,null,null,null,{"$f":"UnObr5!D385","v":0},null,null,null,null,{"$f":"UnObr5!E385","v":0},null,null,null,null,null,{"$f":"UnObr5!F385","v":0},null,null,null,null,{"$f":"UnObr5!G385","v":0},null,null,null,null,{"$f":"UnObr5!H385","v":0},null,null,null,null,{"$f":"UnObr5!I385","v":0},null,null,null,{"$f":"UnObr5!J385","v":0},null,null,null,null,{"$f":"UnObr5!K385","v":0}]
[5382,null,null,543100,null,null,null,"Шуме",null,null,null,null,null,null,null,null,null,null,null,null,null,null,null,null,{"$f":"UnObr5!D386","v":0},null,null,null,null,{"$f":"UnObr5!E386","v":0},null,null,null,null,null,{"$f":"UnObr5!F386","v":0},null,null,null,null,{"$f":"UnObr5!G386","v":0},null,null,null,null,{"$f":"UnObr5!H386","v":0},null,null,null,null,{"$f":"UnObr5!I386","v":0},null,null,null,{"$f":"UnObr5!J386","v":0},null,null,null,null,{"$f":"UnObr5!K386","v":0}]
[5383,null,null,543200,null,null,null,"Воде",null,null,null,null,null,null,null,null,null,null,null,null,null,null,null,null,{"$f":"UnObr5!D387","v":0},null,null,null,null,{"$f":"UnObr5!E387","v":0},null,null,null,null,null,{"$f":"UnObr5!F387","v":0},null,null,null,null,{"$f":"UnObr5!G387","v":0},null,null,null,null,{"$f":"UnObr5!H387","v":0},null,null,null,null,{"$f":"UnObr5!I387","v":0},null,null,null,{"$f":"UnObr5!J387","v":0},null,null,null,null,{"$f":"UnObr5!K387","v":0}]
["Ознака\nОП",null,null,"Број\nконта",null,null,null,"Опис",null,null,null,null,null,null,null,null,null,null,null,null,null,null,null,null,"Износ\nодобрених апропријација",null,null,null,null,"Износ извршених расхода и издатака"]
[null,null,null,null,null,null,null,null,null,null,null,null,null,null,null,null,null,null,null,null,null,null,null,null,null,null,null,null,null,"Укупно \n(од 6 до 11)",null,null,null,null,null,"Расходи и издаци на терет буџета",null,null,null,null,null,null,null,null,null,null,null,null,null,null,null,null,null,null,"Из\nдонација и помоћи",null,null,null,null,"Из \nосталих\nизвора"]
[null,null,null,null,null,null,null,null,null,null,null,null,null,null,null,null,null,null,null,null,null,null,null,null,null,null,null,null,null,null,null,null,null,null,null,"Републике",null,null,null,null,"Аутономне\nпокрајине",null,null,null,null,"Општине /\nграда",null,null,null,null,"ООСО"]
[]
[1,null,null,2,null,null,null,3,null,null,null,null,null,null,null,null,null,null,null,null,null,null,null,null,4,null,null,null,null,5,null,null,null,null,null,6,null,null,null,null,7,null,null,null,null,8,null,null,null,null,9,null,null,null,10,null,null,null,null,11]
[5384,null,null,550000,null,null,null,"НЕФИНАНСИЈСКА ИМОВИНА КОЈА СЕ ФИНАНСИРА ИЗ СРЕДСТАВА ЗА РЕАЛИЗАЦИЈУ НАЦИОНАЛНОГ ИНВЕСТИЦИОНОГ ПЛАНА (5385)",null,null,null,null,null,null,null,null,null,null,null,null,null,null,null,null,{"$f":"UnObr5!D388","v":0},null,null,null,null,{"$f":"UnObr5!E388","v":0},null,null,null,null,null,{"$f":"UnObr5!F388","v":0},null,null,null,null,{"$f":"UnObr5!G388","v":0},null,null,null,null,{"$f":"UnObr5!H388","v":0},null,null,null,null,{"$f":"UnObr5!I388","v":0},null,null,null,{"$f":"UnObr5!J388","v":0},null,null,null,null,{"$f":"UnObr5!K388","v":0}]
[5385,null,null,551000,null,null,null,"НЕФИНАНСИЈСКА ИМОВИНА КОЈА СЕ ФИНАНСИРА ИЗ СРЕДСТАВА ЗА РЕАЛИЗАЦИЈУ НАЦИОНАЛНОГ ИНВЕСТИЦИОНОГ ПЛАНА (5386)",null,null,null,null,null,null,null,null,null,null,null,null,null,null,null,null,{"$f":"UnObr5!D389","v":0},null,null,null,null,{"$f":"UnObr5!E389","v":0},null,null,null,null,null,{"$f":"UnObr5!F389","v":0},null,null,null,null,{"$f":"UnObr5!G389","v":0},null,null,null,null,{"$f":"UnObr5!H389","v":0},null,null,null,null,{"$f":"UnObr5!I389","v":0},null,null,null,{"$f":"UnObr5!J389","v":0},null,null,null,null,{"$f":"UnObr5!K389","v":0}]
[5386,null,null,551100,null,null,null,"Нефинансијска имовина која се финансира из средстава за реализацију националног инвестиционог плана",null,null,null,null,null,null,null,null,null,null,null,null,null,null,null,null,{"$f":"UnObr5!D390","v":0},null,null,null,null,{"$f":"UnObr5!E390","v":0},null,null,null,null,null,{"$f":"UnObr5!F390","v":0},null,null,null,null,{"$f":"UnObr5!G390","v":0},null,null,null,null,{"$f":"UnObr5!H390","v":0},null,null,null,null,{"$f":"UnObr5!I390","v":0},null,null,null,{"$f":"UnObr5!J390","v":0},null,null,null,null,{"$f":"UnObr5!K390","v":0}]
[5387,null,null,600000,null,null,null,"ИЗДАЦИ ЗА ОТПЛАТУ ГЛАВНИЦЕ И НАБАВКУ ФИНАНСИЈСКЕ ИМОВИНЕ (5388 + 5413)",null,null,null,null,null,null,null,null,null,null,null,null,null,null,null,null,{"$f":"UnObr5!D391","v":0},null,null,null,null,{"$f":"UnObr5!E391","v":0},null,null,null,null,null,{"$f":"UnObr5!F391","v":0},null,null,null,null,{"$f":"UnObr5!G391","v":0},null,null,null,null,{"$f":"UnObr5!H391","v":0},null,null,null,null,{"$f":"UnObr5!I391","v":0},null,null,null,{"$f":"UnObr5!J391","v":0},null,null,null,null,{"$f":"UnObr5!K391","v":0}]
[5388,null,null,610000,null,null,null,"ОТПЛАТА ГЛАВНИЦЕ \n(5389 + 5399 + 5407 + 5409 + 5411)",null,null,null,null,null,null,null,null,null,null,null,null,null,null,null,null,{"$f":"UnObr5!D392","v":0},null,null,null,null,{"$f":"UnObr5!E392","v":0},null,null,null,null,null,{"$f":"UnObr5!F392","v":0},null,null,null,null,{"$f":"UnObr5!G392","v":0},null,null,null,null,{"$f":"UnObr5!H392","v":0},null,null,null,null,{"$f":"UnObr5!I392","v":0},null,null,null,{"$f":"UnObr5!J392","v":0},null,null,null,null,{"$f":"UnObr5!K392","v":0}]
[5389,null,null,611000,null,null,null,"ОТПЛАТА ГЛАВНИЦЕ ДОМАЋИМ КРЕДИТОРИМА (од 5390 до 5398)",null,null,null,null,null,null,null,null,null,null,null,null,null,null,null,null,{"$f":"UnObr5!D393","v":0},null,null,null,null,{"$f":"UnObr5!E393","v":0},null,null,null,null,null,{"$f":"UnObr5!F393","v":0},null,null,null,null,{"$f":"UnObr5!G393","v":0},null,null,null,null,{"$f":"UnObr5!H393","v":0},null,null,null,null,{"$f":"UnObr5!I393","v":0},null,null,null,{"$f":"UnObr5!J393","v":0},null,null,null,null,{"$f":"UnObr5!K393","v":0}]
[5390,null,null,611100,null,null,null,"Отплата главнице на домаће хартије од \nвредности, изузев акција",null,null,null,null,null,null,null,null,null,null,null,null,null,null,null,null,{"$f":"UnObr5!D394","v":0},null,null,null,null,{"$f":"UnObr5!E394","v":0},null,null,null,null,null,{"$f":"UnObr5!F394","v":0},null,null,null,null,{"$f":"UnObr5!G394","v":0},null,null,null,null,{"$f":"UnObr5!H394","v":0},null,null,null,null,{"$f":"UnObr5!I394","v":0},null,null,null,{"$f":"UnObr5!J394","v":0},null,null,null,null,{"$f":"UnObr5!K394","v":0}]
[5391,null,null,611200,null,null,null,"Отплата главнице осталим нивоима власти",null,null,null,null,null,null,null,null,null,null,null,null,null,null,null,null,{"$f":"UnObr5!D395","v":0},null,null,null,null,{"$f":"UnObr5!E395","v":0},null,null,null,null,null,{"$f":"UnObr5!F395","v":0},null,null,null,null,{"$f":"UnObr5!G395","v":0},null,null,null,null,{"$f":"UnObr5!H395","v":0},null,null,null,null,{"$f":"UnObr5!I395","v":0},null,null,null,{"$f":"UnObr5!J395","v":0},null,null,null,null,{"$f":"UnObr5!K395","v":0}]
[5392,null,null,611300,null,null,null,"Отплата главнице домаћим јавним \nфинансијским институцијама",null,null,null,null,null,null,null,null,null,null,null,null,null,null,null,null,{"$f":"UnObr5!D396","v":0},null,null,null,null,{"$f":"UnObr5!E396","v":0},null,null,null,null,null,{"$f":"UnObr5!F396","v":0},null,null,null,null,{"$f":"UnObr5!G396","v":0},null,null,null,null,{"$f":"UnObr5!H396","v":0},null,null,null,null,{"$f":"UnObr5!I396","v":0},null,null,null,{"$f":"UnObr5!J396","v":0},null,null,null,null,{"$f":"UnObr5!K396","v":0}]
[5393,null,null,611400,null,null,null,"Отплата главнице домаћим пословним банкама",null,null,null,null,null,null,null,null,null,null,null,null,null,null,null,null,{"$f":"UnObr5!D397","v":0},null,null,null,null,{"$f":"UnObr5!E397","v":0},null,null,null,null,null,{"$f":"UnObr5!F397","v":0},null,null,null,null,{"$f":"UnObr5!G397","v":0},null,null,null,null,{"$f":"UnObr5!H397","v":0},null,null,null,null,{"$f":"UnObr5!I397","v":0},null,null,null,{"$f":"UnObr5!J397","v":0},null,null,null,null,{"$f":"UnObr5!K397","v":0}]
[5394,null,null,611500,null,null,null,"Отплата главнице осталим домаћим \nкредиторима",null,null,null,null,null,null,null,null,null,null,null,null,null,null,null,null,{"$f":"UnObr5!D398","v":0},null,null,null,null,{"$f":"UnObr5!E398","v":0},null,null,null,null,null,{"$f":"UnObr5!F398","v":0},null,null,null,null,{"$f":"UnObr5!G398","v":0},null,null,null,null,{"$f":"UnObr5!H398","v":0},null,null,null,null,{"$f":"UnObr5!I398","v":0},null,null,null,{"$f":"UnObr5!J398","v":0},null,null,null,null,{"$f":"UnObr5!K398","v":0}]
[5395,null,null,611600,null,null,null,"Отплата главнице домаћинствима у земљи",null,null,null,null,null,null,null,null,null,null,null,null,null,null,null,null,{"$f":"UnObr5!D399","v":0},null,null,null,null,{"$f":"UnObr5!E399","v":0},null,null,null,null,null,{"$f":"UnObr5!F399","v":0},null,null,null,null,{"$f":"UnObr5!G399","v":0},null,null,null,null,{"$f":"UnObr5!H399","v":0},null,null,null,null,{"$f":"UnObr5!I399","v":0},null,null,null,{"$f":"UnObr5!J399","v":0},null,null,null,null,{"$f":"UnObr5!K399","v":0}]
[5396,null,null,611700,null,null,null,"Отплата главнице на домаће финансијске \nдеривате",null,null,null,null,null,null,null,null,null,null,null,null,null,null,null,null,{"$f":"UnObr5!D400","v":0},null,null,null,null,{"$f":"UnObr5!E400","v":0},null,null,null,null,null,{"$f":"UnObr5!F400","v":0},null,null,null,null,{"$f":"UnObr5!G400","v":0},null,null,null,null,{"$f":"UnObr5!H400","v":0},null,null,null,null,{"$f":"UnObr5!I400","v":0},null,null,null,{"$f":"UnObr5!J400","v":0},null,null,null,null,{"$f":"UnObr5!K400","v":0}]
[5397,null,null,611800,null,null,null,"Отплата домаћих меница",null,null,null,null,null,null,null,null,null,null,null,null,null,null,null,null,{"$f":"UnObr5!D401","v":0},null,null,null,null,{"$f":"UnObr5!E401","v":0},null,null,null,null,null,{"$f":"UnObr5!F401","v":0},null,null,null,null,{"$f":"UnObr5!G401","v":0},null,null,null,null,{"$f":"UnObr5!H401","v":0},null,null,null,null,{"$f":"UnObr5!I401","v":0},null,null,null,{"$f":"UnObr5!J401","v":0},null,null,null,null,{"$f":"UnObr5!K401","v":0}]
[5398,null,null,611900,null,null,null,"Исправка унутрашњег дуга",null,null,null,null,null,null,null,null,null,null,null,null,null,null,null,null,{"$f":"UnObr5!D402","v":0},null,null,null,null,{"$f":"UnObr5!E402","v":0},null,null,null,null,null,{"$f":"UnObr5!F402","v":0},null,null,null,null,{"$f":"UnObr5!G402","v":0},null,null,null,null,{"$f":"UnObr5!H402","v":0},null,null,null,null,{"$f":"UnObr5!I402","v":0},null,null,null,{"$f":"UnObr5!J402","v":0},null,null,null,null,{"$f":"UnObr5!K402","v":0}]
[5399,null,null,612000,null,null,null,"ОТПЛАТА ГЛАВНИЦЕ СТРАНИМ КРЕДИТОРИМА (од 5400 до 5406)",null,null,null,null,null,null,null,null,null,null,null,null,null,null,null,null,{"$f":"UnObr5!D403","v":0},null,null,null,null,{"$f":"UnObr5!E403","v":0},null,null,null,null,null,{"$f":"UnObr5!F403","v":0},null,null,null,null,{"$f":"UnObr5!G403","v":0},null,null,null,null,{"$f":"UnObr5!H403","v":0},null,null,null,null,{"$f":"UnObr5!I403","v":0},null,null,null,{"$f":"UnObr5!J403","v":0},null,null,null,null,{"$f":"UnObr5!K403","v":0}]
[5400,null,null,612100,null,null,null,"Отплата главнице на хартије од вредности, изузев акција, емитоване на иностраном финансијском тржишту ",null,null,null,null,null,null,null,null,null,null,null,null,null,null,null,null,{"$f":"UnObr5!D404","v":0},null,null,null,null,{"$f":"UnObr5!E404","v":0},null,null,null,null,null,{"$f":"UnObr5!F404","v":0},null,null,null,null,{"$f":"UnObr5!G404","v":0},null,null,null,null,{"$f":"UnObr5!H404","v":0},null,null,null,null,{"$f":"UnObr5!I404","v":0},null,null,null,{"$f":"UnObr5!J404","v":0},null,null,null,null,{"$f":"UnObr5!K404","v":0}]
[5401,null,null,612200,null,null,null,"Отплата главнице страним владама",null,null,null,null,null,null,null,null,null,null,null,null,null,null,null,null,{"$f":"UnObr5!D405","v":0},null,null,null,null,{"$f":"UnObr5!E405","v":0},null,null,null,null,null,{"$f":"UnObr5!F405","v":0},null,null,null,null,{"$f":"UnObr5!G405","v":0},null,null,null,null,{"$f":"UnObr5!H405","v":0},null,null,null,null,{"$f":"UnObr5!I405","v":0},null,null,null,{"$f":"UnObr5!J405","v":0},null,null,null,null,{"$f":"UnObr5!K405","v":0}]
["Ознака\nОП",null,null,"Број\nконта",null,null,null,"Опис",null,null,null,null,null,null,null,null,null,null,null,null,null,null,null,null,"Износ\nодобрених апропријација",null,null,null,null,"Износ извршених расхода и издатака"]
[null,null,null,null,null,null,null,null,null,null,null,null,null,null,null,null,null,null,null,null,null,null,null,null,null,null,null,null,null,"Укупно \n(од 6 до 11)",null,null,null,null,null,"Расходи и издаци на терет буџета",null,null,null,null,null,null,null,null,null,null,null,null,null,null,null,null,null,null,"Из\nдонација и помоћи",null,null,null,null,"Из \nосталих\nизвора"]
[null,null,null,null,null,null,null,null,null,null,null,null,null,null,null,null,null,null,null,null,null,null,null,null,null,null,null,null,null,null,null,null,null,null,null,"Републике",null,null,null,null,"Аутономне\nпокрајине",null,null,null,null,"Општине /\nграда",null,null,null,null,"ООСО"]
[]
[1,null,null,2,null,null,null,3,null,null,null,null,null,null,null,null,null,null,null,null,null,null,null,null,4,null,null,null,null,5,null,null,null,null,null,6,null,null,null,null,7,null,null,null,null,8,null,null,null,null,9,null,null,null,10,null,null,null,null,11]
[5402,null,null,612300,null,null,null,"Отплата главнице мултилатералним институцијама",null,null,null,null,null,null,null,null,null,null,null,null,null,null,null,null,{"$f":"UnObr5!D406","v":0},null,null,null,null,{"$f":"UnObr5!E406","v":0},null,null,null,null,null,{"$f":"UnObr5!F406","v":0},null,null,null,null,{"$f":"UnObr5!G406","v":0},null,null,null,null,{"$f":"UnObr5!H406","v":0},null,null,null,null,{"$f":"UnObr5!I406","v":0},null,null,null,{"$f":"UnObr5!J406","v":0},null,null,null,null,{"$f":"UnObr5!K406","v":0}]
[5403,null,null,612400,null,null,null,"Отплате главнице страним пословним банкама",null,null,null,null,null,null,null,null,null,null,null,null,null,null,null,null,{"$f":"UnObr5!D407","v":0},null,null,null,null,{"$f":"UnObr5!E407","v":0},null,null,null,null,null,{"$f":"UnObr5!F407","v":0},null,null,null,null,{"$f":"UnObr5!G407","v":0},null,null,null,null,{"$f":"UnObr5!H407","v":0},null,null,null,null,{"$f":"UnObr5!I407","v":0},null,null,null,{"$f":"UnObr5!J407","v":0},null,null,null,null,{"$f":"UnObr5!K407","v":0}]
[5404,null,null,612500,null,null,null,"Отплате главнице осталим страним кредиторима",null,null,null,null,null,null,null,null,null,null,null,null,null,null,null,null,{"$f":"UnObr5!D408","v":0},null,null,null,null,{"$f":"UnObr5!E408","v":0},null,null,null,null,null,{"$f":"UnObr5!F408","v":0},null,null,null,null,{"$f":"UnObr5!G408","v":0},null,null,null,null,{"$f":"UnObr5!H408","v":0},null,null,null,null,{"$f":"UnObr5!I408","v":0},null,null,null,{"$f":"UnObr5!J408","v":0},null,null,null,null,{"$f":"UnObr5!K408","v":0}]
[5405,null,null,612600,null,null,null,"Отплата главнице на стране финансијске деривате",null,null,null,null,null,null,null,null,null,null,null,null,null,null,null,null,{"$f":"UnObr5!D409","v":0},null,null,null,null,{"$f":"UnObr5!E409","v":0},null,null,null,null,null,{"$f":"UnObr5!F409","v":0},null,null,null,null,{"$f":"UnObr5!G409","v":0},null,null,null,null,{"$f":"UnObr5!H409","v":0},null,null,null,null,{"$f":"UnObr5!I409","v":0},null,null,null,{"$f":"UnObr5!J409","v":0},null,null,null,null,{"$f":"UnObr5!K409","v":0}]
[5406,null,null,612900,null,null,null,"Исправка спољног дуга",null,null,null,null,null,null,null,null,null,null,null,null,null,null,null,null,{"$f":"UnObr5!D410","v":0},null,null,null,null,{"$f":"UnObr5!E410","v":0},null,null,null,null,null,{"$f":"UnObr5!F410","v":0},null,null,null,null,{"$f":"UnObr5!G410","v":0},null,null,null,null,{"$f":"UnObr5!H410","v":0},null,null,null,null,{"$f":"UnObr5!I410","v":0},null,null,null,{"$f":"UnObr5!J410","v":0},null,null,null,null,{"$f":"UnObr5!K410","v":0}]
[5407,null,null,613000,null,null,null,"ОТПЛАТА ГЛАВНИЦЕ ПО \nГАРАНЦИЈАМА (5408)",null,null,null,null,null,null,null,null,null,null,null,null,null,null,null,null,{"$f":"UnObr5!D411","v":0},null,null,null,null,{"$f":"UnObr5!E411","v":0},null,null,null,null,null,{"$f":"UnObr5!F411","v":0},null,null,null,null,{"$f":"UnObr5!G411","v":0},null,null,null,null,{"$f":"UnObr5!H411","v":0},null,null,null,null,{"$f":"UnObr5!I411","v":0},null,null,null,{"$f":"UnObr5!J411","v":0},null,null,null,null,{"$f":"UnObr5!K411","v":0}]
[5408,null,null,613100,null,null,null,"Отплата главнице по гаранцијама",null,null,null,null,null,null,null,null,null,null,null,null,null,null,null,null,{"$f":"UnObr5!D412","v":0},null,null,null,null,{"$f":"UnObr5!E412","v":0},null,null,null,null,null,{"$f":"UnObr5!F412","v":0},null,null,null,null,{"$f":"UnObr5!G412","v":0},null,null,null,null,{"$f":"UnObr5!H412","v":0},null,null,null,null,{"$f":"UnObr5!I412","v":0},null,null,null,{"$f":"UnObr5!J412","v":0},null,null,null,null,{"$f":"UnObr5!K412","v":0}]
[5409,null,null,614000,null,null,null,"ОТПЛАТА ГЛАВНИЦЕ ЗА \nФИНАНСИЈСКИ ЛИЗИНГ (5410)",null,null,null,null,null,null,null,null,null,null,null,null,null,null,null,null,{"$f":"UnObr5!D413","v":0},null,null,null,null,{"$f":"UnObr5!E413","v":0},null,null,null,null,null,{"$f":"UnObr5!F413","v":0},null,null,null,null,{"$f":"UnObr5!G413","v":0},null,null,null,null,{"$f":"UnObr5!H413","v":0},null,null,null,null,{"$f":"UnObr5!I413","v":0},null,null,null,{"$f":"UnObr5!J413","v":0},null,null,null,null,{"$f":"UnObr5!K413","v":0}]
[5410,null,null,614100,null,null,null,"Отплата главнице за финансијски лизинг",null,null,null,null,null,null,null,null,null,null,null,null,null,null,null,null,{"$f":"UnObr5!D414","v":0},null,null,null,null,{"$f":"UnObr5!E414","v":0},null,null,null,null,null,{"$f":"UnObr5!F414","v":0},null,null,null,null,{"$f":"UnObr5!G414","v":0},null,null,null,null,{"$f":"UnObr5!H414","v":0},null,null,null,null,{"$f":"UnObr5!I414","v":0},null,null,null,{"$f":"UnObr5!J414","v":0},null,null,null,null,{"$f":"UnObr5!K414","v":0}]
[5411,null,null,615000,null,null,null,"ОТПЛАТА ГАРАНЦИЈА ПО КОМЕРЦИЈАЛНИМ ТРАНСАКЦИЈАМА (5412)",null,null,null,null,null,null,null,null,null,null,null,null,null,null,null,null,{"$f":"UnObr5!D415","v":0},null,null,null,null,{"$f":"UnObr5!E415","v":0},null,null,null,null,null,{"$f":"UnObr5!F415","v":0},null,null,null,null,{"$f":"UnObr5!G415","v":0},null,null,null,null,{"$f":"UnObr5!H415","v":0},null,null,null,null,{"$f":"UnObr5!I415","v":0},null,null,null,{"$f":"UnObr5!J415","v":0},null,null,null,null,{"$f":"UnObr5!K415","v":0}]
[5412,null,null,615100,null,null,null,"Отплата гаранција по комерцијалним трансакцијама",null,null,null,null,null,null,null,null,null,null,null,null,null,null,null,null,{"$f":"UnObr5!D416","v":0},null,null,null,null,{"$f":"UnObr5!E416","v":0},null,null,null,null,null,{"$f":"UnObr5!F416","v":0},null,null,null,null,{"$f":"UnObr5!G416","v":0},null,null,null,null,{"$f":"UnObr5!H416","v":0},null,null,null,null,{"$f":"UnObr5!I416","v":0},null,null,null,{"$f":"UnObr5!J416","v":0},null,null,null,null,{"$f":"UnObr5!K416","v":0}]
[5413,null,null,620000,null,null,null,"НАБАВКА ФИНАНСИЈСКЕ ИМОВИНЕ \n(5414 + 5424 + 5433)",null,null,null,null,null,null,null,null,null,null,null,null,null,null,null,null,{"$f":"UnObr5!D417","v":0},null,null,null,null,{"$f":"UnObr5!E417","v":0},null,null,null,null,null,{"$f":"UnObr5!F417","v":0},null,null,null,null,{"$f":"UnObr5!G417","v":0},null,null,null,null,{"$f":"UnObr5!H417","v":0},null,null,null,null,{"$f":"UnObr5!I417","v":0},null,null,null,{"$f":"UnObr5!J417","v":0},null,null,null,null,{"$f":"UnObr5!K417","v":0}]
[5414,null,null,621000,null,null,null,"НАБАВКА ДОМАЋЕ ФИНАНСИЈСКЕ ИМОВИНЕ (од 5415 до 5423)",null,null,null,null,null,null,null,null,null,null,null,null,null,null,null,null,{"$f":"UnObr5!D418","v":0},null,null,null,null,{"$f":"UnObr5!E418","v":0},null,null,null,null,null,{"$f":"UnObr5!F418","v":0},null,null,null,null,{"$f":"UnObr5!G418","v":0},null,null,null,null,{"$f":"UnObr5!H418","v":0},null,null,null,null,{"$f":"UnObr5!I418","v":0},null,null,null,{"$f":"UnObr5!J418","v":0},null,null,null,null,{"$f":"UnObr5!K418","v":0}]
[5415,null,null,621100,null,null,null,"Набавка домаћих хартија од вредности, изузев акција",null,null,null,null,null,null,null,null,null,null,null,null,null,null,null,null,{"$f":"UnObr5!D419","v":0},null,null,null,null,{"$f":"UnObr5!E419","v":0},null,null,null,null,null,{"$f":"UnObr5!F419","v":0},null,null,null,null,{"$f":"UnObr5!G419","v":0},null,null,null,null,{"$f":"UnObr5!H419","v":0},null,null,null,null,{"$f":"UnObr5!I419","v":0},null,null,null,{"$f":"UnObr5!J419","v":0},null,null,null,null,{"$f":"UnObr5!K419","v":0}]
[5416,null,null,621200,null,null,null,"Кредити осталим нивоима власти",null,null,null,null,null,null,null,null,null,null,null,null,null,null,null,null,{"$f":"UnObr5!D420","v":0},null,null,null,null,{"$f":"UnObr5!E420","v":0},null,null,null,null,null,{"$f":"UnObr5!F420","v":0},null,null,null,null,{"$f":"UnObr5!G420","v":0},null,null,null,null,{"$f":"UnObr5!H420","v":0},null,null,null,null,{"$f":"UnObr5!I420","v":0},null,null,null,{"$f":"UnObr5!J420","v":0},null,null,null,null,{"$f":"UnObr5!K420","v":0}]
[5417,null,null,621300,null,null,null,"Кредити домаћим јавним финансијским институцијама",null,null,null,null,null,null,null,null,null,null,null,null,null,null,null,null,{"$f":"UnObr5!D421","v":0},null,null,null,null,{"$f":"UnObr5!E421","v":0},null,null,null,null,null,{"$f":"UnObr5!F421","v":0},null,null,null,null,{"$f":"UnObr5!G421","v":0},null,null,null,null,{"$f":"UnObr5!H421","v":0},null,null,null,null,{"$f":"UnObr5!I421","v":0},null,null,null,{"$f":"UnObr5!J421","v":0},null,null,null,null,{"$f":"UnObr5!K421","v":0}]
[5418,null,null,621400,null,null,null,"Кредити домаћим пословним банкама",null,null,null,null,null,null,null,null,null,null,null,null,null,null,null,null,{"$f":"UnObr5!D422","v":0},null,null,null,null,{"$f":"UnObr5!E422","v":0},null,null,null,null,null,{"$f":"UnObr5!F422","v":0},null,null,null,null,{"$f":"UnObr5!G422","v":0},null,null,null,null,{"$f":"UnObr5!H422","v":0},null,null,null,null,{"$f":"UnObr5!I422","v":0},null,null,null,{"$f":"UnObr5!J422","v":0},null,null,null,null,{"$f":"UnObr5!K422","v":0}]
[5419,null,null,621500,null,null,null,"Кредити домаћим нефинансијским јавним институцијама",null,null,null,null,null,null,null,null,null,null,null,null,null,null,null,null,{"$f":"UnObr5!D423","v":0},null,null,null,null,{"$f":"UnObr5!E423","v":0},null,null,null,null,null,{"$f":"UnObr5!F423","v":0},null,null,null,null,{"$f":"UnObr5!G423","v":0},null,null,null,null,{"$f":"UnObr5!H423","v":0},null,null,null,null,{"$f":"UnObr5!I423","v":0},null,null,null,{"$f":"UnObr5!J423","v":0},null,null,null,null,{"$f":"UnObr5!K423","v":0}]
[5420,null,null,621600,null,null,null,"Кредити физичким лицима и домаћинствима у земљи",null,null,null,null,null,null,null,null,null,null,null,null,null,null,null,null,{"$f":"UnObr5!D424","v":0},null,null,null,null,{"$f":"UnObr5!E424","v":0},null,null,null,null,null,{"$f":"UnObr5!F424","v":0},null,null,null,null,{"$f":"UnObr5!G424","v":0},null,null,null,null,{"$f":"UnObr5!H424","v":0},null,null,null,null,{"$f":"UnObr5!I424","v":0},null,null,null,{"$f":"UnObr5!J424","v":0},null,null,null,null,{"$f":"UnObr5!K424","v":0}]
[5421,null,null,621700,null,null,null,"Кредити невладиним организацијама у земљи",null,null,null,null,null,null,null,null,null,null,null,null,null,null,null,null,{"$f":"UnObr5!D425","v":0},null,null,null,null,{"$f":"UnObr5!E425","v":0},null,null,null,null,null,{"$f":"UnObr5!F425","v":0},null,null,null,null,{"$f":"UnObr5!G425","v":0},null,null,null,null,{"$f":"UnObr5!H425","v":0},null,null,null,null,{"$f":"UnObr5!I425","v":0},null,null,null,{"$f":"UnObr5!J425","v":0},null,null,null,null,{"$f":"UnObr5!K425","v":0}]
[5422,null,null,621800,null,null,null,"Кредити домаћим нефинансијским приватним предузећима",null,null,null,null,null,null,null,null,null,null,null,null,null,null,null,null,{"$f":"UnObr5!D426","v":0},null,null,null,null,{"$f":"UnObr5!E426","v":0},null,null,null,null,null,{"$f":"UnObr5!F426","v":0},null,null,null,null,{"$f":"UnObr5!G426","v":0},null,null,null,null,{"$f":"UnObr5!H426","v":0},null,null,null,null,{"$f":"UnObr5!I426","v":0},null,null,null,{"$f":"UnObr5!J426","v":0},null,null,null,null,{"$f":"UnObr5!K426","v":0}]
[5423,null,null,621900,null,null,null,"Набавка домаћих акција и осталог капитала",null,null,null,null,null,null,null,null,null,null,null,null,null,null,null,null,{"$f":"UnObr5!D427","v":0},null,null,null,null,{"$f":"UnObr5!E427","v":0},null,null,null,null,null,{"$f":"UnObr5!F427","v":0},null,null,null,null,{"$f":"UnObr5!G427","v":0},null,null,null,null,{"$f":"UnObr5!H427","v":0},null,null,null,null,{"$f":"UnObr5!I427","v":0},null,null,null,{"$f":"UnObr5!J427","v":0},null,null,null,null,{"$f":"UnObr5!K427","v":0}]
[5424,null,null,622000,null,null,null,"НАБАВКА СТРАНЕ ФИНАНСИЈСКЕ ИМОВИНЕ (од 5425 до 5432)",null,null,null,null,null,null,null,null,null,null,null,null,null,null,null,null,{"$f":"UnObr5!D428","v":0},null,null,null,null,{"$f":"UnObr5!E428","v":0},null,null,null,null,null,{"$f":"UnObr5!F428","v":0},null,null,null,null,{"$f":"UnObr5!G428","v":0},null,null,null,null,{"$f":"UnObr5!H428","v":0},null,null,null,null,{"$f":"UnObr5!I428","v":0},null,null,null,{"$f":"UnObr5!J428","v":0},null,null,null,null,{"$f":"UnObr5!K428","v":0}]
[5425,null,null,622100,null,null,null,"Набавка страних хартија од вредности, изузев акција",null,null,null,null,null,null,null,null,null,null,null,null,null,null,null,null,{"$f":"UnObr5!D429","v":0},null,null,null,null,{"$f":"UnObr5!E429","v":0},null,null,null,null,null,{"$f":"UnObr5!F429","v":0},null,null,null,null,{"$f":"UnObr5!G429","v":0},null,null,null,null,{"$f":"UnObr5!H429","v":0},null,null,null,null,{"$f":"UnObr5!I429","v":0},null,null,null,{"$f":"UnObr5!J429","v":0},null,null,null,null,{"$f":"UnObr5!K429","v":0}]
["Ознака\nОП",null,null,"Број\nконта",null,null,null,"Опис",null,null,null,null,null,null,null,null,null,null,null,null,null,null,null,null,"Износ\nодобрених апропријација",null,null,null,null,"Износ извршених расхода и издатака"]
[null,null,null,null,null,null,null,null,null,null,null,null,null,null,null,null,null,null,null,null,null,null,null,null,null,null,null,null,null,"Укупно \n(од 6 до 11)",null,null,null,null,null,"Расходи и издаци на терет буџета",null,null,null,null,null,null,null,null,null,null,null,null,null,null,null,null,null,null,"Из\nдонација и помоћи",null,null,null,null,"Из \nосталих\nизвора"]
[null,null,null,null,null,null,null,null,null,null,null,null,null,null,null,null,null,null,null,null,null,null,null,null,null,null,null,null,null,null,null,null,null,null,null,"Републике",null,null,null,null,"Аутономне\nпокрајине",null,null,null,null,"Општине /\nграда",null,null,null,null,"ООСО"]
[]
[1,null,null,2,null,null,null,3,null,null,null,null,null,null,null,null,null,null,null,null,null,null,null,null,4,null,null,null,null,5,null,null,null,null,null,6,null,null,null,null,7,null,null,null,null,8,null,null,null,null,9,null,null,null,10,null,null,null,null,11]
[5426,null,null,622200,null,null,null,"Кредити страним владама",null,null,null,null,null,null,null,null,null,null,null,null,null,null,null,null,{"$f":"UnObr5!D430","v":0},null,null,null,null,{"$f":"UnObr5!E430","v":0},null,null,null,null,null,{"$f":"UnObr5!F430","v":0},null,null,null,null,{"$f":"UnObr5!G430","v":0},null,null,null,null,{"$f":"UnObr5!H430","v":0},null,null,null,null,{"$f":"UnObr5!I430","v":0},null,null,null,{"$f":"UnObr5!J430","v":0},null,null,null,null,{"$f":"UnObr5!K430","v":0}]
[5427,null,null,622300,null,null,null,"Кредити међународним организацијама",null,null,null,null,null,null,null,null,null,null,null,null,null,null,null,null,{"$f":"UnObr5!D431","v":0},null,null,null,null,{"$f":"UnObr5!E431","v":0},null,null,null,null,null,{"$f":"UnObr5!F431","v":0},null,null,null,null,{"$f":"UnObr5!G431","v":0},null,null,null,null,{"$f":"UnObr5!H431","v":0},null,null,null,null,{"$f":"UnObr5!I431","v":0},null,null,null,{"$f":"UnObr5!J431","v":0},null,null,null,null,{"$f":"UnObr5!K431","v":0}]
[5428,null,null,622400,null,null,null,"Кредити страним пословним банкама",null,null,null,null,null,null,null,null,null,null,null,null,null,null,null,null,{"$f":"UnObr5!D432","v":0},null,null,null,null,{"$f":"UnObr5!E432","v":0},null,null,null,null,null,{"$f":"UnObr5!F432","v":0},null,null,null,null,{"$f":"UnObr5!G432","v":0},null,null,null,null,{"$f":"UnObr5!H432","v":0},null,null,null,null,{"$f":"UnObr5!I432","v":0},null,null,null,{"$f":"UnObr5!J432","v":0},null,null,null,null,{"$f":"UnObr5!K432","v":0}]
[5429,null,null,622500,null,null,null,"Кредити страним нефинансијским институцијама",null,null,null,null,null,null,null,null,null,null,null,null,null,null,null,null,{"$f":"UnObr5!D433","v":0},null,null,null,null,{"$f":"UnObr5!E433","v":0},null,null,null,null,null,{"$f":"UnObr5!F433","v":0},null,null,null,null,{"$f":"UnObr5!G433","v":0},null,null,null,null,{"$f":"UnObr5!H433","v":0},null,null,null,null,{"$f":"UnObr5!I433","v":0},null,null,null,{"$f":"UnObr5!J433","v":0},null,null,null,null,{"$f":"UnObr5!K433","v":0}]
[5430,null,null,622600,null,null,null,"Кредити страним невладиним организацијама",null,null,null,null,null,null,null,null,null,null,null,null,null,null,null,null,{"$f":"UnObr5!D434","v":0},null,null,null,null,{"$f":"UnObr5!E434","v":0},null,null,null,null,null,{"$f":"UnObr5!F434","v":0},null,null,null,null,{"$f":"UnObr5!G434","v":0},null,null,null,null,{"$f":"UnObr5!H434","v":0},null,null,null,null,{"$f":"UnObr5!I434","v":0},null,null,null,{"$f":"UnObr5!J434","v":0},null,null,null,null,{"$f":"UnObr5!K434","v":0}]
[5431,null,null,622700,null,null,null,"Набавка страних акција и осталог капитала",null,null,null,null,null,null,null,null,null,null,null,null,null,null,null,null,{"$f":"UnObr5!D435","v":0},null,null,null,null,{"$f":"UnObr5!E435","v":0},null,null,null,null,null,{"$f":"UnObr5!F435","v":0},null,null,null,null,{"$f":"UnObr5!G435","v":0},null,null,null,null,{"$f":"UnObr5!H435","v":0},null,null,null,null,{"$f":"UnObr5!I435","v":0},null,null,null,{"$f":"UnObr5!J435","v":0},null,null,null,null,{"$f":"UnObr5!K435","v":0}]
[5432,null,null,622800,null,null,null,"Куповина стране валуте",null,null,null,null,null,null,null,null,null,null,null,null,null,null,null,null,{"$f":"UnObr5!D436","v":0},null,null,null,null,{"$f":"UnObr5!E436","v":0},null,null,null,null,null,{"$f":"UnObr5!F436","v":0},null,null,null,null,{"$f":"UnObr5!G436","v":0},null,null,null,null,{"$f":"UnObr5!H436","v":0},null,null,null,null,{"$f":"UnObr5!I436","v":0},null,null,null,{"$f":"UnObr5!J436","v":0},null,null,null,null,{"$f":"UnObr5!K436","v":0}]
[5433,null,null,623000,null,null,null,"НАБАВКА ФИНАНСИЈСКЕ ИМОВИНЕ \nКОЈА СЕ ФИНАНСИРА ИЗ СРЕДСТАВА ЗА РЕАЛИЗАЦИЈУ НАЦИОНАЛНОГ ИНВЕСТИЦИОНОГ ПЛАНА (5434)",null,null,null,null,null,null,null,null,null,null,null,null,null,null,null,null,{"$f":"UnObr5!D437","v":0},null,null,null,null,{"$f":"UnObr5!E437","v":0},null,null,null,null,null,{"$f":"UnObr5!F437","v":0},null,null,null,null,{"$f":"UnObr5!G437","v":0},null,null,null,null,{"$f":"UnObr5!H437","v":0},null,null,null,null,{"$f":"UnObr5!I437","v":0},null,null,null,{"$f":"UnObr5!J437","v":0},null,null,null,null,{"$f":"UnObr5!K437","v":0}]
[5434,null,null,623100,null,null,null,"Набавка финансијске имовине која се \nфинансира из средстава за реализацију \nнационалног инвестиционог плана ",null,null,null,null,null,null,null,null,null,null,null,null,null,null,null,null,{"$f":"UnObr5!D438","v":0},null,null,null,null,{"$f":"UnObr5!E438","v":0},null,null,null,null,null,{"$f":"UnObr5!F438","v":0},null,null,null,null,{"$f":"UnObr5!G438","v":0},null,null,null,null,{"$f":"UnObr5!H438","v":0},null,null,null,null,{"$f":"UnObr5!I438","v":0},null,null,null,{"$f":"UnObr5!J438","v":0},null,null,null,null,{"$f":"UnObr5!K438","v":0}]
[5435,null,null,null,null,null,null,"УКУПНИ РАСХОДИ И ИЗДАЦИ (5172 + 5387)",null,null,null,null,null,null,null,null,null,null,null,null,null,null,null,null,{"$f":"UnObr5!D439","v":159617},null,null,null,null,{"$f":"UnObr5!E439","v":156447},null,null,null,null,null,{"$f":"UnObr5!F439","v":11436},null,null,null,null,{"$f":"UnObr5!G439","v":0},null,null,null,null,{"$f":"UnObr5!H439","v":144012},null,null,null,null,{"$f":"UnObr5!I439","v":648},null,null,null,{"$f":"UnObr5!J439","v":0},null,null,null,null,{"$f":"UnObr5!K439","v":351}]
[]
[]
["III. УТВРЂИВАЊЕ РАЗЛИКЕ ИЗМЕЂУ ОДОБРЕНИХ СРЕДСТАВА И ИЗВРШЕЊА"]
[]
["Ознака\nОП",null,null,"Број\nконта",null,null,null,"Опис",null,null,null,null,null,null,null,null,null,null,null,null,null,null,null,null,"Планирани приходи и примања / расходи и издаци",null,null,null,null,"Остварени приходи и примања / расходи и издаци"]
[null,null,null,null,null,null,null,null,null,null,null,null,null,null,null,null,null,null,null,null,null,null,null,null,null,null,null,null,null,"Укупно \n(од 6 до 11)",null,null,null,null,null,"Из буџета",null,null,null,null,null,null,null,null,null,null,null,null,null,null,null,null,null,null,"Из\nдонација и помоћи",null,null,null,null,"Из \nосталих\nизвора"]
[null,null,null,null,null,null,null,null,null,null,null,null,null,null,null,null,null,null,null,null,null,null,null,null,null,null,null,null,null,null,null,null,null,null,null,"Републике",null,null,null,null,"Аутономне\nпокрајине",null,null,null,null,"Општине /\nграда",null,null,null,null,"ООСО"]
[]
[1,null,null,2,null,null,null,3,null,null,null,null,null,null,null,null,null,null,null,null,null,null,null,null,4,null,null,null,null,5,null,null,null,null,null,6,null,null,null,null,7,null,null,null,null,8,null,null,null,null,9,null,null,null,10,null,null,null,null,11]
[5436,null,null,null,null,null,null,"ТЕКУЋИ ПРИХОДИ И ПРИМАЊА ОД ПРОДАЈЕ НЕФИНАНСИЈСКЕ ИМОВИНЕ (5001)",null,null,null,null,null,null,null,null,null,null,null,null,null,null,null,null,{"$f":"UnObr5!D440","v":159617},null,null,null,null,{"$f":"UnObr5!E440","v":156452},null,null,null,null,null,{"$f":"UnObr5!F440","v":11436},null,null,null,null,{"$f":"UnObr5!G440","v":0},null,null,null,null,{"$f":"UnObr5!H440","v":144017},null,null,null,null,{"$f":"UnObr5!I440","v":648},null,null,null,{"$f":"UnObr5!J440","v":0},null,null,null,null,{"$f":"UnObr5!K440","v":351}]
[5437,null,null,null,null,null,null,"ТЕКУЋИ РАСХОДИ И ИЗДАЦИ ЗА НЕФИНАНСИЈСКУ ИМОВИНУ (5172)",null,null,null,null,null,null,null,null,null,null,null,null,null,null,null,null,{"$f":"UnObr5!D441","v":159617},null,null,null,null,{"$f":"UnObr5!E441","v":156447},null,null,null,null,null,{"$f":"UnObr5!F441","v":11436},null,null,null,null,{"$f":"UnObr5!G441","v":0},null,null,null,null,{"$f":"UnObr5!H441","v":144012},null,null,null,null,{"$f":"UnObr5!I441","v":648},null,null,null,{"$f":"UnObr5!J441","v":0},null,null,null,null,{"$f":"UnObr5!K441","v":351}]
[5438,null,null,null,null,null,null,"Вишак прихода и примања – буџетски суфицит \n(5436 – 5437) > 0",null,null,null,null,null,null,null,null,null,null,null,null,null,null,null,null,{"$f":"UnObr5!D442","v":0},null,null,null,null,{"$f":"UnObr5!E442","v":5},null,null,null,null,null,{"$f":"UnObr5!F442","v":0},null,null,null,null,{"$f":"UnObr5!G442","v":0},null,null,null,null,{"$f":"UnObr5!H442","v":5},null,null,null,null,{"$f":"UnObr5!I442","v":0},null,null,null,{"$f":"UnObr5!J442","v":0},null,null,null,null,{"$f":"UnObr5!K442","v":0}]
[5439,null,null,null,null,null,null,"Мањак прихода и примања – буџетски дефицит \n(5437 – 5436) > 0",null,null,null,null,null,null,null,null,null,null,null,null,null,null,null,null,{"$f":"UnObr5!D443","v":0},null,null,null,null,{"$f":"UnObr5!E443","v":0},null,null,null,null,null,{"$f":"UnObr5!F443","v":0},null,null,null,null,{"$f":"UnObr5!G443","v":0},null,null,null,null,{"$f":"UnObr5!H443","v":0},null,null,null,null,{"$f":"UnObr5!I443","v":0},null,null,null,{"$f":"UnObr5!J443","v":0},null,null,null,null,{"$f":"UnObr5!K443","v":0}]
[5440,null,null,900000,null,null,null,"ПРИМАЊА ОД ЗАДУЖИВАЊА И ПРОДАЈЕ ФИНАНСИЈСКЕ ИМОВИНЕ (5131)",null,null,null,null,null,null,null,null,null,null,null,null,null,null,null,null,{"$f":"UnObr5!D444","v":0},null,null,null,null,{"$f":"UnObr5!E444","v":0},null,null,null,null,null,{"$f":"UnObr5!F444","v":0},null,null,null,null,{"$f":"UnObr5!G444","v":0},null,null,null,null,{"$f":"UnObr5!H444","v":0},null,null,null,null,{"$f":"UnObr5!I444","v":0},null,null,null,{"$f":"UnObr5!J444","v":0},null,null,null,null,{"$f":"UnObr5!K444","v":0}]
[5441,null,null,600000,null,null,null,"ИЗДАЦИ ЗА ОТПЛАТУ ГЛАВНИЦЕ И НАБАВКУ ФИНАНСИЈСКЕ ИМОВИНЕ (5387)",null,null,null,null,null,null,null,null,null,null,null,null,null,null,null,null,{"$f":"UnObr5!D445","v":0},null,null,null,null,{"$f":"UnObr5!E445","v":0},null,null,null,null,null,{"$f":"UnObr5!F445","v":0},null,null,null,null,{"$f":"UnObr5!G445","v":0},null,null,null,null,{"$f":"UnObr5!H445","v":0},null,null,null,null,{"$f":"UnObr5!I445","v":0},null,null,null,{"$f":"UnObr5!J445","v":0},null,null,null,null,{"$f":"UnObr5!K445","v":0}]
[5442,null,null,null,null,null,null,"ВИШАК ПРИМАЊА (5440 – 5441) > 0",null,null,null,null,null,null,null,null,null,null,null,null,null,null,null,null,{"$f":"UnObr5!D446","v":0},null,null,null,null,{"$f":"UnObr5!E446","v":0},null,null,null,null,null,{"$f":"UnObr5!F446","v":0},null,null,null,null,{"$f":"UnObr5!G446","v":0},null,null,null,null,{"$f":"UnObr5!H446","v":0},null,null,null,null,{"$f":"UnObr5!I446","v":0},null,null,null,{"$f":"UnObr5!J446","v":0},null,null,null,null,{"$f":"UnObr5!K446","v":0}]
[5443,null,null,null,null,null,null,"МАЊАК ПРИМАЊА (5441 – 5440) > 0",null,null,null,null,null,null,null,null,null,null,null,null,null,null,null,null,{"$f":"UnObr5!D447","v":0},null,null,null,null,{"$f":"UnObr5!E447","v":0},null,null,null,null,null,{"$f":"UnObr5!F447","v":0},null,null,null,null,{"$f":"UnObr5!G447","v":0},null,null,null,null,{"$f":"UnObr5!H447","v":0},null,null,null,null,{"$f":"UnObr5!I447","v":0},null,null,null,{"$f":"UnObr5!J447","v":0},null,null,null,null,{"$f":"UnObr5!K447","v":0}]
[5444,null,null,null,null,null,null,"ВИШАК НОВЧАНИХ ПРИЛИВА \n(5171 - 5435) > 0",null,null,null,null,null,null,null,null,null,null,null,null,null,null,null,null,{"$f":"UnObr5!D448","v":0},null,null,null,null,{"$f":"UnObr5!E448","v":5},null,null,null,null,null,{"$f":"UnObr5!F448","v":0},null,null,null,null,{"$f":"UnObr5!G448","v":0},null,null,null,null,{"$f":"UnObr5!H448","v":5},null,null,null,null,{"$f":"UnObr5!I448","v":0},null,null,null,{"$f":"UnObr5!J448","v":0},null,null,null,null,{"$f":"UnObr5!K448","v":0}]
[5445,null,null,null,null,null,null,"МАЊАК НОВЧАНИХ ПРИЛИВА \n(5435 - 5171) > 0",null,null,null,null,null,null,null,null,null,null,null,null,null,null,null,null,{"$f":"UnObr5!D449","v":0},null,null,null,null,{"$f":"UnObr5!E449","v":0},null,null,null,null,null,{"$f":"UnObr5!F449","v":0},null,null,null,null,{"$f":"UnObr5!G449","v":0},null,null,null,null,{"$f":"UnObr5!H449","v":0},null,null,null,null,{"$f":"UnObr5!I449","v":0},null,null,null,{"$f":"UnObr5!J449","v":0},null,null,null,null,{"$f":"UnObr5!K449","v":0}]
[]
[null,null,null,null,null,null,null,null,null,null,null,null,null,null,null,null,null,null,null,null,null,null,null,null,null,null,null,null,null,"Лице одговорно за\nпопуњавање обрасца ",null,null,null,null,null,null,null,null,null,null,null,null,null,null,null,null,null,null,null,null,null,null,null,null,"Наредбодавац"]
["Датум, ",null,null,{"$f":"Podaci!E21","v":"23.02.2018."},null,null,null,null,". године"]

{"sheet":"Kontrole","index":12,"n_rows":39,"n_cols":24,"rows_kept":39,"cut":false,"hidden":false,"merged":[[1,0,1,23],[3,0,3,7],[3,8,3,23],[38,0,39,6],[38,9,39,15]]}
[]
["ЛОГИЧКЕ КОНТРОЛЕ ЗА ЗАВРШНИ РАЧУН"]
[]
["ПРЕДХОДНА ГОДИНА",null,null,null,null,null,null,null,"ТЕКУЋА ГОДИНА"]
[]
[1072,"=",1239,null,null,null,null,null,null,1072,"=",1239,null,null,null,null,null,2132,"=",4172,"=",5173]
[{"$f":"UnObr1!D77","v":84339},"=",{"$f":"UnObr1!F249","v":84339},null,null,null,null,null,null,{"$f":"UnObr1!G77","v":85679},"=",{"$f":"UnObr1!G249","v":85679},null,null,null,null,null,{"$f":"UnObr2!E134","v":155146},"=",{"$f":"UnObr4!E174","v":155146},"=",{"$f":"UnObr5!E177","v":155146}]
[]
[1073,"=",1240,null,null,null,null,null,null,1073,"=",1240,null,null,null,null,null,2300,"=",3068,"=",4340,"=",5341]
[{"$f":"UnObr1!D78","v":0},"=",{"$f":"UnObr1!F250","v":0},null,null,null,null,null,null,{"$f":"UnObr1!G78","v":1964},"=",{"$f":"UnObr1!G250","v":1964},null,null,null,null,null,{"$f":"UnObr2!E302","v":1301},"=",{"$f":"UnObr3!E70","v":1301},"=",{"$f":"UnObr4!E342","v":1301},"=",{"$f":"UnObr5!E345","v":1301}]
[]
[1229,"=",2357,null,null,null,null,null,null,1229,"=",2357,null,null,null,null,null,3114,"=",4386,"=",5387,"=",5441]
[{"$f":"UnObr1!F238","v":0},"=",{"$f":"UnObr2!D360","v":0},null,null,null,null,null,null,{"$f":"UnObr1!G238","v":5},"=",{"$f":"UnObr2!E360","v":5},null,null,null,null,null,{"$f":"UnObr3!E116","v":0},"=",{"$f":"UnObr4!E388","v":0},"=",{"$f":"UnObr5!E391","v":0},"=",{"$f":"UnObr5!E445","v":0}]
[]
[1230,"=",2358,null,null,null,null,null,null,1230,"=",2358,null,null,null,null,null,2001,"=",5001,"=",5436]
[{"$f":"UnObr1!F239","v":0},"=",{"$f":"UnObr2!D361","v":0},null,null,null,null,null,null,{"$f":"UnObr1!G239","v":0},"=",{"$f":"UnObr2!E361","v":0},null,null,null,null,null,{"$f":"UnObr2!E3","v":156452},"=",{"$f":"UnObr5!E5","v":156452},"=",{"$f":"UnObr5!E440","v":156452}]
[]
[2002,"=",4002,null,null,null,null,null,null,2346,"=",5438,null,null,null,null,null,2131,"=",5172,"=",5437]
[{"$f":"UnObr2!D4","v":139159},"=",{"$f":"UnObr4!D4","v":139159},null,null,null,null,null,null,{"$f":"UnObr2!E349","v":5},"=",{"$f":"UnObr5!E442","v":5},null,null,null,null,null,{"$f":"UnObr2!E133","v":156447},"=",{"$f":"UnObr5!E176","v":156447},"=",{"$f":"UnObr5!E441","v":156447}]
[]
[2106,"=",3002,"=",4106,null,null,null,null,2347,"=",5439,null,null,null,null,null,4001,"=",5171]
[{"$f":"UnObr2!D108","v":0},"=",{"$f":"UnObr3!D4","v":0},"=",{"$f":"UnObr4!D108","v":0},null,null,null,null,{"$f":"UnObr2!E350","v":0},"=",{"$f":"UnObr5!E443","v":0},null,null,null,null,null,{"$f":"UnObr4!E3","v":156452},"=",{"$f":"UnObr5!E175","v":156452}]
[]
[3027,"=",4131,null,null,null,null,null,null,2002,"=",4002,"=",5002,null,null,null,4171,"=",5435]
[{"$f":"UnObr3!D29","v":0},"=",{"$f":"UnObr4!D133","v":0},null,null,null,null,null,null,{"$f":"UnObr2!E4","v":156452},"=",{"$f":"UnObr4!E4","v":156452},"=",{"$f":"UnObr5!E6","v":156452},null,null,null,{"$f":"UnObr4!E173","v":156447},"=",{"$f":"UnObr5!E439","v":156447}]
[]
[2132,"=",4172,null,null,null,null,null,null,2106,"=",3002,"=",4106,"=",5106,null,4434,"=",5444]
[{"$f":"UnObr2!D134","v":138756},"=",{"$f":"UnObr4!D174","v":138756},null,null,null,null,null,null,{"$f":"UnObr2!E108","v":0},"=",{"$f":"UnObr3!E4","v":0},"=",{"$f":"UnObr4!E108","v":0},"=",{"$f":"UnObr5!E110","v":0},null,{"$f":"UnObr4!E436","v":5},"=",{"$f":"UnObr5!E448","v":5}]
[]
[2300,"=",3068,"=",4340,null,null,null,null,3027,"=",4131,"=",5131,"=",5440,null,4435,"=",5445]
[{"$f":"UnObr2!D302","v":2576},"=",{"$f":"UnObr3!D70","v":2576},"=",{"$f":"UnObr4!D342","v":2576},null,null,null,null,{"$f":"UnObr3!E29","v":0},"=",{"$f":"UnObr4!E133","v":0},"=",{"$f":"UnObr5!E135","v":0},"=",{"$f":"UnObr5!E444","v":0},null,{"$f":"UnObr4!E437","v":0},"=",{"$f":"UnObr5!E449","v":0}]
[]
[3114,"=",4386]
[{"$f":"UnObr3!D116","v":0},"=",{"$f":"UnObr4!D388","v":0}]
[]
["",">","","","","*",null,null,null,"",">","","","","*"]
[0,">","","","",null,null,null,null,0,">","","",""]
[]
["* Predhodna godina: Izdaci se pokrivaju samo do visine suficita koji se utvrdi, uključujući iznos korekcije",null,null,null,null,null,null,null,null,"* Tekuća godina: Izdaci se pokrivaju samo do visine suficita koji se utvrdi, uključujući iznos korekcije"]

{"sheet":"KontrolnaStampa","index":13,"n_rows":45,"n_cols":9,"rows_kept":45,"cut":false,"hidden":false,"merged":[[0,0,2,7],[4,0,4,1],[4,2,4,3],[6,0,6,1],[6,2,6,3],[4,5,4,8],[6,5,6,8],[36,0,36,8],[9,0,9,4],[13,0,13,2],[20,0,20,2],[27,0,27,2]]}
["KONTROLNA ŠTAMPA - ZR"]
[]
[]
[]
["JBKBS:",null,{"$f":"Podaci!M2","v":"08590"}]
[]
["Matični broj:",null,{"$f":"Podaci!Z7","v":"08004935"}]
[]
[]
["Obrazac 1"]
["OP","Kolona 4","Kolona 5","Kolona 6","Kolona 7"]
[1072,{"$f":"UnObr1!D77","v":84339},{"$f":"UnObr1!E77","v":138799},{"$f":"UnObr1!F77","v":53120},{"$f":"UnObr1!G77","v":85679}]
[]
["Obrazac 2"]
["OP","Kolona 4","Kolona 5"]
[2001,{"$f":"UnObr2!D3","v":139159},{"$f":"UnObr2!E3","v":156452}]
[2131,{"$f":"UnObr2!D133","v":141332},{"$f":"UnObr2!E133","v":156447}]
[2346,{"$f":"UnObr2!D349","v":0},{"$f":"UnObr2!E349","v":5}]
[2347,{"$f":"UnObr2!D350","v":2173},{"$f":"UnObr2!E350","v":0}]
[]
["Obrazac 3"]
["OP","Kolona 4","Kolona 5"]
[3001,{"$f":"UnObr3!D3","v":0},{"$f":"UnObr3!E3","v":0}]
[3067,{"$f":"UnObr3!D69","v":2576},{"$f":"UnObr3!E69","v":1301}]
[3162,{"$f":"UnObr3!D164","v":0},{"$f":"UnObr3!E164","v":0}]
[3163,{"$f":"UnObr3!D165","v":2576},{"$f":"UnObr3!E165","v":1301}]
[]
["Obrazac 4"]
["OP","Kolona 4","Kolona 5"]
[4001,{"$f":"UnObr4!D3","v":139159},{"$f":"UnObr4!E3","v":156452}]
[4171,{"$f":"UnObr4!D173","v":141332},{"$f":"UnObr4!E173","v":156447}]
[4434,{"$f":"UnObr4!D436","v":0},{"$f":"UnObr4!E436","v":5}]
[4435,{"$f":"UnObr4!D437","v":2173},{"$f":"UnObr4!E437","v":0}]
[4436,{"$f":"UnObr4!D438","v":2174},{"$f":"UnObr4!E438","v":1}]
[4442,{"$f":"UnObr4!D444","v":1},{"$f":"UnObr4!E444","v":6}]
[]
["Obrazac 5"]
["OP","Kolona 4","Kolona 5","Kolona 6","Kolona 7","Kolona 8","Kolona 9","Kolona 10","Kolona 11"]
[5171,{"$f":"UnObr5!D175","v":159617},{"$f":"UnObr5!E175","v":156452},{"$f":"UnObr5!F175","v":11436},{"$f":"UnObr5!G175","v":0},{"$f":"UnObr5!H175","v":144017},{"$f":"UnObr5!I175","v":648},{"$f":"UnObr5!J175","v":0},{"$f":"UnObr5!K175","v":351}]
[5435,{"$f":"UnObr5!D439","v":159617},{"$f":"UnObr5!E439","v":156447},{"$f":"UnObr5!F439","v":11436},{"$f":"UnObr5!G439","v":0},{"$f":"UnObr5!H439","v":144012},{"$f":"UnObr5!I439","v":648},{"$f":"UnObr5!J439","v":0},{"$f":"UnObr5!K439","v":351}]
[5444,{"$f":"UnObr5!D448","v":0},{"$f":"UnObr5!E448","v":5},{"$f":"UnObr5!F448","v":0},{"$f":"UnObr5!G448","v":0},{"$f":"UnObr5!H448","v":5},{"$f":"UnObr5!I448","v":0},{"$f":"UnObr5!J448","v":0},{"$f":"UnObr5!K448","v":0}]
[5445,{"$f":"UnObr5!D449","v":0},{"$f":"UnObr5!E449","v":0},{"$f":"UnObr5!F449","v":0},{"$f":"UnObr5!G449","v":0},{"$f":"UnObr5!H449","v":0},{"$f":"UnObr5!I449","v":0},{"$f":"UnObr5!J449","v":0},{"$f":"UnObr5!K449","v":0}]
[]
[]
["Datum,",null,null,null,"Kontrolisao:"]

{"sheet":"Spisak","index":14,"n_rows":9511,"n_cols":21,"rows_kept":4500,"cut":true,"hidden":true,"merged":[[0,17,1,17],[0,18,1,18],[0,19,1,19],[0,20,1,20],[0,11,1,11],[0,12,1,12],[0,13,1,13],[0,14,1,14],[0,15,1,15],[0,16,1,16],[0,10,1,10],[0,0,1,0],[0,1,1,1],[0,2,1,2],[0,3,0,8],[0,9,1,9]],"bounds":{"rows_first":2000,"rows_last":500,"rows_between":2000,"halvings":0}}
["Орг.једин.\nтрезора","Назив","Место","Подрачун",null,null,null,null,null,"Трезор","ЈБ КЈС","Тип\nКЈС","Ознака\nДБК","Матични\nброј","КД","Општина","Обве-\nзник \nГФИ","ПИБ","Датум\nпријема\nдд.мм.гг","Измена\nу колони","Напомена"]
[null,null,null,"ББ","-","Партија","РН","-","КБ"]
[1,2,3,"4.1","-","4.2","4.3","-","4.4",5,6,7,8,9,10,11,12,13,14,15,16]
[40200,"РЕПУБЛИКА СРБИЈА-БУЏЕТ","БЕОГРАД","840","-","0000000001620","620","-","21","601","02683",0,"02683","07017715",8411,16,0,100279223]
[40200,"ПРЕДСЕДНИК РЕПУБЛИКЕ СРБИЈЕ","БЕОГРАД","","-","","","-","","601","10100",1,"10100","07051344",8411,18,0,100038847]
[40200,"ГЕНЕРАЛНИ СЕКРЕТAРИЈАТ ВЛАДЕ","БЕОГРАД","","-","","","-","","601","10200",1,"10200","07020171",8411,16,0,102211930]
[40200,"КАНЦЕЛАРИЈА ЗА САРАДЊУ С МЕДИЈИМА","БЕОГРАД","","-","","","-","","601","10201",1,"10201","07020171",8411,16,0,102211930]
[40200,"ЦЕНТАР ЗА РАЗМИНИРАЊЕ","БЕОГРАД","","-","","","-","","601","10202",1,"10202","17568051",8411,16,0,103458488]
[40200,"КАБИНЕТ ПРЕДСЕДНИКА ВЛАДЕ","БЕОГРАД","","-","","","-","","601","10204",1,"10204","07020171",8411,16,0,102211930]
[40200,"СЛУЖБА ЗА УПРАВЉАЊЕ КАДРОВИМА","БЕОГРАД","","-","","","-","","601","10206",1,"10206","07020171",8411,16,0,102211930]
[40200,"СЛУЖБА КООРДИНАЦИОНОГ ТЕЛА ВЛАДЕ РЕПУБЛИКЕ СРБИЈЕ ЗА ОПШТИНЕ ПРЕШЕВО, БУЈАНОВАЦ И МЕДВЕЂА","БЕОГРАД","","-","","","-","","601","10220",1,"10220","17649744",8411,13,0,104148588]
[40200,"КАНЦЕЛАРИЈА САВЕТА ЗА НАЦИОНАЛНУ БЕЗБЕДНОСТ И ЗАШТИТУ ТАЈНИХ ПОДАТАКА","БЕОГРАД","","-","","","-","","601","10222",1,"10222","07020171",8411,16,0,106329282]
[40200,"КАНЦЕЛАРИЈА ЗА САРАДЊУ СА ЦИВИЛНИМ ДРУШТВОМ","БЕОГРАД","","-","","","-","","601","10223",1,"10223","07020171",8411,13,0,106954611]
[40200,"КАНЦЕЛАРИЈА ЗА РЕВИЗИЈУ СИСТЕМА УПРАВЉАЊА СРЕДСТВИМА ЕВРОПСКЕ УНИЈЕ","БЕОГРАД","","-","","","-","","601","10225",1,"10225","17822837",8411,16,0,107264493]
[40200,"КАНЦЕЛАРИЈА ЗА КОСОВО И МЕТОХИЈУ","БЕОГРАД","","-","","","-","","601","10228",1,"10228","17829661",8411,13,0,107682699]
[40200,"КАНЦЕЛАРИЈА ЗА ЉУДСКА И МАЊИНСКА ПРАВА","БЕОГРАД","","-","","","-","","601","10229",1,"10229","07020171",8411,13,0,107683976]
[40200,"КАБИНЕТ ПОТПРЕДСЕДНИКА ВЛАДЕ И МИНИСТРА ТРГОВИНЕ,ТУРИЗМА И ТЕЛЕКОМУНИКАЦИЈА","БЕОГРАД","","-","","","-","","601","10235",1,"10235","07020171",8411,16,0,102211930]
[40200,"КАБИНЕТ МИНИСТРА БЕЗ ПОРТФЕЉА ЗАДУЖЕНОГ ЗА ЕВРОПСКЕ ИНТЕГРАЦИЈЕ","БЕОГРАД","","-","","","-","","601","10237",1,"10237","07020171",8411,16,0,108286277]
[40200,"КАБИНЕТ ПРВОГ ПОТПРЕДСЕДНИКА ВЛАДЕ И МИНИСТРА СПОЉНИХ ПОСЛОВА","БЕОГРАД","","-","","","-","","601","10238",1,"10238","07020171",8411,16,0,102211930]
[40200,"КАБИНЕТ ПОТПРЕДСЕДНИКА ВЛАДЕ И МИНИСТРА ДРЖАВНЕ УПРАВЕ И ЛОКАЛНЕ САМОУПРАВЕ","БЕОГРАД","","-","","","-","","601","10239",1,"10239","07020171",8411,16,0,102211930]
[40200,"КАБИНЕТ ПОТПРЕДСЕДНИКА ВЛАДЕ И МИНИСТРА ГРАЂЕВИНАРСТВА,САОБРАЋАЈА И ИНФРАСТРУКТУРЕ","БЕОГРАД","","-","","","-","","601","10240",1,"10240","07020171",8411,16,0,102211930]
[40200,"КАБИНЕТ МИНИСТРА БЕЗ ПОРТФЕЉА- ЗАДУЖЕН ЗА ВАНРЕДНЕ СИТУАЦИЈЕ","БЕОГРАД","","-","","","-","","601","10241",1,"10241","07020171",8411,16,0,102211930]
[40200,"КАНЦЕЛАРИЈА ЗА ПОМОЋ И ОБНОВУ ПОПЛАВЉЕНИХ ПОДРУЧЈА","БЕОГРАД","","-","","","-","","601","10242",1,"10242","07020171",8411,16,0,108566276]
[40200,"КАНЦЕЛАРИЈА ЗА БОРБУ ПРОТИВ ДРОГА","БЕОГРАД","","-","","","-","","601","10243",1,"10243","07020171",8411,18,0,109188750]
[40200,"КАНЦЕЛАРИЈА ЗА КООРД. ПОСЛОВЕ У ПРЕГОВАРАЧКОМ ПРОЦЕСУ СА ПРИВРЕМЕНИМ ИНСТИТУЦИЈАМА САМОУПРАВЕ У ПРИШТИНИ","БЕОГРАД","","-","","","-","","601","10244",1,"10244","07020171",8411,18,0,108940030]
[40200,"КАНЦЕЛАРИЈА ЗА УПРАВЉАЊЕ ЈАВНИМ УЛАГАЊИМА","Београд","","-","","","-","","601","10245",1,"10245","07020171",8411,18,0,109311023]
[40200,"КАБИНЕТ МИНИСТРА БЕЗ ПОРТФЕЉА ЗАДУЖЕН ЗА ДЕМОГРАФИЈУ И ПОПУЛАЦИОНУ ПОЛИТИКУ","БЕОГРАД","","-","","","-","","601","10246",1,"10246","07020171",8411,16,0,102211930]
[40200,"КАБИНЕТ ПОТПРЕДСЕДНИКА ВЛАДЕ И МИНИСТРА УНУТРАШЊИХ ПОСЛОВА","БЕОГРАД","","-","","","-","","601","10247",1,"10247","07020171",8411,16,0,102211930]
[40200,"КАБИНЕТ МИНИСТРА БЕЗ ПОРТФЕЉА ЗАДУЖЕН ЗА РЕГИОНАЛНИ РАЗВОЈ И ЈАВНА ПРЕДУЗЕЋА","БЕОГРАД","","-","","","-","","601","10248",1,"10248","07020171",8411,16,0,102211930]
[40200,"КАНЦЕЛАРИЈА НАЦИОНАЛНОГ САВЕТА ЗА КООРДИНАЦИЈУ САРАДЊЕ СА РУСКОМ ФЕДЕРАЦИЈОМ И НАРОДНОМ РЕПУБЛИКОМ КИНОМ","БЕОГРАД","","-","","","-","","601","10249",1,"10249","07020171",8411,16,0,110098153]
[40200,"КАБИНЕТ МИНИСТРА БЕЗ ПОРТФЕЉА ЗАДУЖЕН ЗА ИНОВАЦИЈЕ И ТЕХНОЛОШКИ РАЗВОЈ","БЕОГРАД","","-","","","-","","601","10250",1,"10250","07020171",8411,16,0,102211930]
[40200,"КАНЦЕЛАРИЈА ЗА ИНФОРМАЦИОНЕ ТЕХНОЛОГИЈЕ И ЕЛЕКТРОНСКУ УПРАВУ","БЕОГРАД","","-","","","-","","601","10251",1,"10251","07020171",8411,16,0,110177886]
[40200,"ПРАВОСУДНИ ЦЕНТАР ЗА ОБУКУ И СТРУЧНО УСАВРШАВАЊЕ","БЕОГРАД","","-","","","-","","601","02687",6,"10310","17401998",8559,16,1,100352789]
[40200,"ЦЕНТАР ЗА ПОСРЕДОВАЊЕ-МЕДИЈАЦИЈУ","БЕОГРАД","840","-","0000000942664","664","-","74","601","80117",6,"10310","17675486",7220,16,1,104767015]
[40200,"МИНИСТАРСТВО ПРАВДЕ","БЕОГРАД","","-","","","-","","601","10310",1,"10310","17855204",8411,16,0,108510096]
[40200,"МП-УПРАВА ЗА ИЗВРШЕЊЕ КРИВИЧНИХ САНКЦИЈА","БЕОГРАД","","-","","","-","","601","10311",1,"10311","17855204",8411,16,0,108510096]
[40200,"ДИРЕКЦИЈА ЗА УПРАВЉАЊЕ ОДУЗЕТОМ ИМОВИНОМ","БЕОГРАД","","-","","","-","","601","10312",1,"10312","17766830",8411,16,0,105952373]
[40200,"ПРАВОСУДНА АКАДЕМИЈА","БЕОГРАД","","-","","","-","","601","10313",1,"10313","17787128",8559,16,0,106430083]
[40200,"МП-УПРАВА ЗА САРАДЊУ С ЦРКВАМА И ВЕРСКИМ ЗАЈЕДНИЦАМА","БЕОГРАД","","-","","","-","","601","10314",1,"10314","17855204",8411,16,0,108510131]
[40200,"ФОНД ЗА РАЗВОЈ РЕПУБЛИКЕ СРБИЈЕ","НИШ","840","-","0000000001624","624","-","09","601","59027",6,"10520","07904959",6492,18,1,100121213]
[40200,"АГЕНЦИЈА ЗА ОСИГУРАЊЕ ДЕПОЗИТА","БЕОГРАД","","-","","","-","","601","10503",6,"10520","17606786",6512,18,1,104001240]
[40200,"НАЦИОНАЛНА КОРПОРАЦИЈА ЗА ОСИГУРАЊЕ СТАМБЕНИХ КРЕДИТА","БЕОГРАД","840","-","0000001187664","664","-","43","601","59018",6,"10520","17613120",6512,16,1,103539077]
[40200,"МИНИСТАРСТВО ФИНАНСИЈА","БЕОГРАД","","-","","","-","","601","10520",1,"10520","17862146",8411,16,0,108213413]
[40200,"МФ-УПРАВА ЦАРИНА","БЕОГРАД","","-","","","-","","601","10521",1,"10521","17862146",8411,13,0,101685102]
[40200,"МФ - ПОРЕСКА УПРАВА - РЕГИОНАЛНО ОДЕЉЕЊЕ БЕОГРАД","БЕОГРАД","840","-","0000000857621","621","-","93","601","03161",4,"10522","17862146",8411,15,0,100020943]
[40200,"МФ - ПОРЕСКА УПРАВА - ЦЕНТАР ЗА ВЕЛИКЕ ПОРЕСКЕ ОБВЕЗНИКЕ БЕОГРАД","БЕОГРАД","840","-","0000000920621","621","-","49","601","09436",4,"10522","17862146",8411,18,0,100020943]
[40200,"МФ-УПРАВА ЗА ТРЕЗОР","БЕОГРАД","","-","","","-","","601","10523",1,"10523","17862146",8411,18,0,103964453]
[40200,"МФ-УПРАВА ЗА ДУВАН","БЕОГРАД","","-","","","-","","601","10524",1,"10524","17862146",8411,18,0,104181192]
[40200,"МФ-УПРАВА ЗА СПРЕЧАВАЊЕ ПРАЊА НОВЦА","БЕОГРАД","","-","","","-","","601","10525",1,"10525","17862146",8411,16,0,104193397]
[40200,"МФ-УПРАВА ЗА СЛОБОДНЕ ЗОНЕ","БЕОГРАД","","-","","","-","","601","10526",1,"10526","17862146",8411,13,0,105883640]
[40200,"МФ-УПРАВА ЗА ЈАВНИ ДУГ","БЕОГРАД","","-","","","-","","601","10527",1,"10527","17862146",8411,18,0,106325816]
[40200,"ЦЕНТРАЛНИ РЕГИСТАР ОБАВЕЗНОГ СОЦИЈАЛНОГ ОСИГУРАЊА","БЕОГРАД","840","-","0000001031664","664","-","18","601","80859",2,"10528","17797603",8430,13,1,106819954]
[40200,"МУП - УПРАВА ЗА ПОСЛОВЕ ИСХРАНЕ И СМЕШТАЈА БЕОГРАД","БЕОГРАД","840","-","0000000922621","621","-","63","601","09549",4,"10600","07008104",8424,16,0,100184116]
[40200,"МИНИСТАРСТВО УНУТРАШЊИХ ПОСЛОВА","НОВИ БЕОГРАД","","-","","","-","","601","10600",1,"10600","07008104",8424,16,0,100184116]
[40200,"АГЕНЦИЈА ЗА ПРИВРЕДНЕ РЕГИСТРЕ","БЕОГРАД","","-","","","-","","601","59005",6,"10810","17580175",8411,16,1,103445385]
[40200,"АГЕНЦИЈА ЗА ЛИЦЕНЦИРАЊЕ СТЕЧАЈНИХ УПРАВНИКА","БЕОГРАД","840","-","0000001184664","664","-","22","601","59004",6,"10810","17599488",7022,18,1,103762410]
[40200,"МИНИСТАРСТВО ПРИВРЕДЕ","БЕОГРАД","","-","","","-","","601","10810",1,"10810","17862154",8411,16,0,108213421]
[40200,"АГЕНЦИЈА ЗА ВОЂЕЊЕ СПОРОВА У ПОСТУПКУ ПРИВАТИЗАЦИЈЕ","БЕОГРАД","840","-","0000001190664","664","-","64","601","96455",6,"10810","17885405",8411,18,1,109362998]
[40200,"РАЗВОЈНА АГЕНЦИЈА СРБИЈЕ","БЕОГРАД","840","-","0000001186664","664","-","36","601","96432",6,"10810","17905031",8413,16,1,109336535]
[40200,"АГЕНЦИЈА ЗА ОСИГУРАЊЕ И ФИНАНСИРАЊЕ ИЗВОЗА РЕПУБЛИКЕ СРБИЈЕ","УЖИЦЕ","840","-","0000001208664","664","-","93","601","59014",6,"10810","20069244",6512,100,1,103982111]
[40200,"МП-ДИРЕКЦИЈА ЗА МЕРЕ И ДРАГОЦЕНЕ МЕТАЛЕ","БЕОГРАД","","-","","","-","","601","10811",1,"10811","17862154",8413,18,0,107679582]
[40200,"ИНСТИТУТ ЗА СТАНДАРДИЗАЦИЈУ СРБИЈЕ","БЕОГРАД","840","-","0000000927664","664","-","66","601","80282",2,"10812","17740580",8413,11,1,105801694]
[40200,"АКРЕДИТАЦИОНО ТЕЛО СРБИЈЕ","БЕОГРАД","840","-","0000000926664","664","-","59","601","64030",2,"10813","17675338",8413,18,1,100271740]
[40200,"УПРАВА ЗА БРЗИ ОДГОВОР","БЕОГРАД","","-","","","-","","601","10814",1,"10814","17862154",8411,16,0,108213421]
[40200,"МИНИСТАРСТВО КУЛТУРЕ И ИНФОРМИСАЊА","БЕОГРАД","","-","","","-","","601","11800",1,"11800","07001525",8411,18,0,102199535]
[40200,"САВЕЗНА ЈАВНА УСТАНОВА РАДИО ЈУГОСЛАВИЈА - У ЛИКВИДАЦИЈИ","БЕОГРАД","","-","","","-","","601","03521",6,"11800","17371843",6010,18,1,101513029]
[40200,"РЕГУЛАТОРНО ТЕЛО ЗА ЕЛЕКТРОНСКЕ МЕДИЈЕ","БЕОГРАД","","-","","","-","","601","59013",6,"11800","17488554",8413,18,1,102945724]
[40200,"ФИЛМСКИ ЦЕНТАР СРБИЈЕ УСТАНОВА ЗА ОБАВЉАЊЕ КУЛТУРНО-ОБРАЗОВНЕ ДЕЛАТ-УСТН.КУЛТУРЕ ОД НАЦИОНАЛНОГ ЗНАЧАЈА","БЕОГРАД","840","-","0000000510664","664","-","57","601","02360",2,"11801","07017979",8559,16,1,100119077]
[40200,"ЗАВОД ЗА ПРОУЧАВАЊЕ КУЛТУРНОГ РАЗВИТКА - УСТАНОВА КУЛТУРЕ ОД НАЦИОНАЛНОГ ЗНАЧАЈА","БЕОГРАД","840","-","0000000704664","664","-","57","601","02333",2,"11801","07020139",7220,18,1,100057744]
[40200,"НАРОДНИ МУЗЕЈ У БЕОГРАДУ","БЕОГРАД","840","-","0000000523664","664","-","51","601","02341",2,"11801","07023677",9102,18,1,101514832]
[40200,"ЈУГОСЛОВЕНСКА КИНОТЕКА-УСТАНОВА КУЛТУРЕ ОД НАЦИОНАЛНОГ ЗНАЧАЈА","БЕОГРАД","840","-","0000000513664","664","-","78","601","02350",2,"11801","07023804",9101,18,1,101513422]
[40200,"НАРОДНО ПОЗОРИШТЕ У БЕОГРАДУ","БЕОГРАД","840","-","0000000153664","664","-","80","601","02364",2,"11801","07023863",9004,18,1,100046437]
[40200,"БЕОГРАДСКА ФИЛХАРМОНИЈА","БЕОГРАД","840","-","0000000522664","664","-","44","601","02363",2,"11801","07023901",9004,18,1,102060932]
[40200,"ИСТОРИЈСКИ МУЗЕЈ СРБИЈЕ","БЕОГРАД","840","-","0000000499664","664","-","77","601","02336",2,"11801","07030657",9102,18,1,100182477]
[40200,"АРХИВ ЈУГОСЛАВИЈЕ","БЕОГРАД","840","-","0000000925664","664","-","52","601","64090",2,"11801","07030673",8411,16,1,101288268]
[40200,"ЕТНОГРАФСКИ МУЗЕЈ У БЕОГРАДУ","БЕОГРАД","840","-","0000000521664","664","-","37","601","02334",2,"11801","07031491",9102,18,1,100063220]
[40200,"МУЗЕЈ ПРИМЕЊЕНЕ УМЕТНОСТИ","БЕОГРАД","840","-","0000000503664","664","-","08","601","02339",2,"11801","07031505",9102,18,1,100059779]
[40200,"МУЗЕЈ ПОЗОРИШНЕ УМЕТНОСТИ СРБИЈЕ","БЕОГРАД","840","-","0000000529664","664","-","93","601","02338",2,"11801","07048149",9102,18,1,100042659]
[40200,"МУЗЕЈ НАУКЕ И ТЕХНИКЕ","БЕОГРАД","840","-","0000000598664","664","-","91","601","02337",2,"11801","07464487",9102,18,1,101822990]
[40200,"МУЗЕЈ У ПРИШТИНИ","БЕОГРАД","840","-","0000000614664","664","-","09","601","02340",2,"11801","09018727",9102,18,1,100048220]
[40200,"МУЗЕЈ ЈУГОСЛАВИЈЕ БЕОГРАД","БЕОГРАД","840","-","0000000829664","664","-","59","601","02335",2,"11801","17156390",9102,16,1,100287514]
[40200,"ЦЕНТРАЛНИ ИНСТИТУТ ЗА КОНЗЕРВАЦИЈУ","БЕОГРАД","840","-","0000001000664","664","-","92","601","80408",2,"11801","17756435",9102,18,1,106306044]
[40200,"РЕПУБЛИЧКА УСТАНОВА ФИЛМСКЕ НОВОСТИ","БЕОГРАД","840","-","0000001009664","664","-","58","601","80633",2,"11801","17786890",9101,16,1,106416169]
[40200,"МИНИСТАРСТВО ЗДРАВЉА","БЕОГРАД","","-","","","-","","601","11900",1,"11900","07000723",8411,16,0,102199551]
[40200,"АГЕНЦИЈА ЗА АКРЕДИТАЦИЈУ ЗДРАВСТВЕНИХ УСТАНОВА СРБИЈЕ","БЕОГРАД","840","-","0000001201664","664","-","44","601","59028",6,"11900","17743368",8411,16,1,105877032]
[40200,"УПРАВА ЗА БИОМЕДИЦИНУ","БЕОГРАД","","-","","","-","","601","11902",1,"11902","07000723",8411,15,0,102199551]
[40200,"ДИРЕКЦИЈА ЗА ЖЕЛЕЗНИЦЕ","БЕОГРАД","","-","","","-","","601","12500",1,"12500","17604228",8413,16,0,103948951]
[40200,"ЦЕНТАР ЗА СМЕШТАЈ И ДНЕВНИ БОРАВАК ДЕЦЕ И ОМЛАДИНЕ ОМЕТЕНЕ У РАЗВОЈУ","БЕОГРАД","840","-","0000000477661","661","-","29","601","00171",2,"13400","07019157",8790,16,1,101288696]
[40200,"ЦЕНТАР ЗА ЗАШТИТУ ОДОЈЧАДИ, ДЕЦЕ И ОМЛАДИНЕ","БЕОГРАД","840","-","0000000635661","661","-","68","601","00155",2,"13400","07094345",8790,16,1,100286755]
[40200,"ГРАДСКИ ЦЕНТАР ЗА СОЦИЈАЛНИ РАД БЕОГРАД","БЕОГРАД","840","-","0000000303661","661","-","72","601","00218",2,"13400","07781962",8899,16,1,100350927]
[40200,"РЕПУБЛИЧКИ ЗАВОД ЗА СОЦИЈАЛНУ ЗАШТИТУ","БЕОГРАД","840","-","0000000879661","661","-","30","601","59023",2,"13400","17647245",8899,18,1,104489843]
[40200,"МИНИСТАРСТВО ЗА РАД, ЗАПОШЉАВАЊЕ, БОРАЧКА И СОЦИЈАЛНА ПИТАЊА","БЕОГРАД","","-","","","-","","601","13400",1,"13400","17693697",8412,16,0,105007470]
[40200,"ЦЕНТАР ЗА ЗАШТИТУ ЖРТАВА ТРГОВИНЕ ЉУДИМА","БЕОГРАД","840","-","0000000844661","661","-","76","601","80987",2,"13400","17839934",8899,16,1,107615111]
[40200,"УПРАВА ЗА БЕЗБЕДНОСТ И ЗДРАВЉЕ НА РАДУ","БЕОГРАД","","-","","","-","","601","13401",1,"13401","17693697",8412,18,0,105007470]
[40200,"СОЦИЈАЛНО ЕКОНОМСКИ САВЕТ РЕПУБЛИКЕ СРБИЈЕ","БЕОГРАД","840","-","0000001198664","664","-","23","601","59007",2,"13403","17601342",9411,13,1,103845314]
[40200,"ФОНД СОЛИДАРНОСТИ","БЕОГРАД","840","-","0000000010624","624","-","72","601","09883",2,"13403","17605488",6499,13,1,103974347]
[40200,"ФОНД ЗА ИНОВАЦИОНУ ДЕЛАТНОСТ","БЕОГРАД","","-","","","-","","601","59021",6,"13700","00111139",6499,16,1,104403200]
[40200,"АРХЕОЛОШКИ ИНСТИТУТ","БЕОГРАД","840","-","0000000681660","660","-","05","601","00371",6,"13700","07003234",7220,18,1,101824180]
[40200,"ИСТОРИЈСКИ ИНСТИТУТ","БЕОГРАД","840","-","0000000684660","660","-","26","601","00376",6,"13700","07003358",7220,18,1,100036749]
[40200,"ЕТНОГРАФСКИ ИНСТИТУТ САНУ","БЕОГРАД","840","-","0000000696660","660","-","13","601","00374",6,"13700","07010982",7220,18,1,100061806]
[40200,"ГЕОГРАФСКИ ИНСТИТУТ ЈОВАН ЦВИЈИЋ САНУ","БЕОГРАД","840","-","0000000675660","660","-","60","601","00348",6,"13700","07011008",7219,18,1,100046488]
[40200,"ИНСТИТУТ ТЕХНИЧКИХ НАУКА САНУ","БЕОГРАД","840","-","0000001613660","660","-","30","601","00358",6,"13700","07011016",7219,18,1,100039438]
[40200,"МАТЕМАТИЧКИ ИНСТИТУТ САНУ","БЕОГРАД","840","-","0000000691660","660","-","75","601","00349",6,"13700","07017871",7219,18,1,100056973]
[40200,"ВИЗАНТОЛОШКИ ИНСТИТУТ САНУ","БЕОГРАД","840","-","0000000729660","660","-","50","601","00373",6,"13700","07017898",7220,18,1,100061791]
[40200,"ИНСТИТУТ ЗА СРПСКИ ЈЕЗИК САНУ","БЕОГРАД","840","-","0000000705660","660","-","76","601","00375",6,"13700","07017936",7220,18,1,100042827]
[40200,"МУЗИКОЛОШКИ ИНСТИТУТ САНУ","БЕОГРАД","840","-","0000000687660","660","-","47","601","00377",6,"13700","07048912",7220,18,1,101824171]
[40200,"БАЛКАНОЛОШКИ ИНСТИТУТ САНУ","БЕОГРАД","840","-","0000001245660","660","-","73","601","00372",6,"13700","07053908",7220,18,1,101824163]
[40200,"МИНИСТАРСТВО ПРОСВЕТЕ, НАУКЕ И ТЕХНОЛОШКОГ РАЗВОЈА","БЕОГРАД","","-","","","-","","601","13700",1,"13700","17329235",8412,16,0,102199748]
[40200,"ОСНОВНА ШКОЛА ВОЈВОДА РАДОМИР ПУТНИК","БЕОГРАД","840","-","0000001033660","660","-","44","601","00385",2,"13701","07001797",8520,16,1,100219615]
[40200,"ОСНОВНА ШКОЛА ИСИДОРА СЕКУЛИЋ","БЕОГРАД","840","-","0000001038660","660","-","79","601","00389",2,"13701","07001819",8520,16,1,100348048]
[40200,"ОСНОВНА ШКОЛА СТЕФАН НЕМАЊА","БЕОГРАД","840","-","0000000954660","660","-","73","601","00396",2,"13701","07001827",8520,16,1,100222850]
[40200,"ОСНОВНА ШКОЛА ВОЈВОДА МИШИЋ","БЕОГРАД","840","-","0000001019660","660","-","43","601","00384",2,"13701","07001835",8520,16,1,100268168]
[40200,"ОСНОВНА ШКОЛА РАДОЈКА ЛАКИЋ","БЕОГРАД","840","-","0000001029660","660","-","16","601","00393",2,"13701","07001843",8520,16,1,100181062]
[40200,"ОСНОВНА ШКОЛА ПЕТАР ПЕТРОВИЋ ЊЕГОШ","БЕОГРАД","840","-","0000001171660","660","-","40","601","00392",2,"13701","07001851",8520,16,1,101885302]
[40200,"МУЗИЧКА ШКОЛА СТАНИСЛАВ БИНИЧКИ","БЕОГРАД","840","-","0000000974660","660","-","19","601","01606",2,"13701","07001894",8520,16,1,100349129]
[40200,"ОСНОВНА ШКОЛА ДР ДРАГАН ХЕРЦОГ","БЕОГРАД","840","-","0000001654660","660","-","26","601","00387",2,"13701","07002092",8520,16,1,101885343]
[40200,"ОСНОВНА ШКОЛА АНТОН СКАЛА","БЕОГРАД","840","-","0000001167660","660","-","12","601","01562",2,"13701","07002106",8520,16,1,100118084]
[40200,"ШКОЛА ЗА ОШТЕЋЕНЕ СЛУХОМ-НАГЛУВЕ СТЕФАН ДЕЧАНСКИ","БЕОГРАД","840","-","0000000824660","660","-","36","601","01564",2,"13701","07002114",8520,16,1,101288758]
[40200,"ОСНОВНА ШКОЛА КРАЉ ПЕТАР ПРВИ","БЕОГРАД","840","-","0000001588660","660","-","49","601","00390",2,"13701","07002882",8520,18,1,100043049]
[40200,"ОСНОВНА ШКОЛА СКАДАРЛИЈА","БЕОГРАД","840","-","0000001642660","660","-","39","601","00394",2,"13701","07002904",8520,18,1,100118898]
[40200,"ОСНОВНА ШКОЛА ВУК КАРАЏИЋ","БЕОГРАД","840","-","0000001641660","660","-","32","601","00386",2,"13701","07002912",8520,18,1,101953815]
[40200,"ОСНОВНА ШКОЛА БРАЋА БАРУХ","БЕОГРАД","840","-","0000001592660","660","-","77","601","00383",2,"13701","07002939",8520,18,1,100051936]
[40200,"ОСНОВНА ШКОЛА ДРИНКА ПАВЛОВИЋ","БЕОГРАД","840","-","0000001584660","660","-","21","601","00388",2,"13701","07002947",8520,18,1,100052861]
[40200,"ОСНОВНА ШКОЛА МИХАИЛО ПЕТРОВИЋ-АЛАС","БЕОГРАД","840","-","0000001635660","660","-","87","601","00391",2,"13701","07002955",8520,18,1,102016372]
[40200,"ОСНОВНА ШКОЛА СТАРИ ГРАД","БЕОГРАД","840","-","0000001636660","660","-","94","601","00395",2,"13701","07002963",8520,18,1,102161563]
[40200,"БАЛЕТСКА ШКОЛА ЛУЈО ДАВИЧО","БЕОГРАД","840","-","0000001414660","660","-","92","601","01605",2,"13701","07003013",8520,18,1,100039833]
[40200,"ОСНОВНА ШКОЛА ДРАГАН КОВАЧЕВИЋ","БЕОГРАД","840","-","0000001676660","660","-","83","601","01563",2,"13701","07017758",8520,18,1,100047028]
[40200,"ШКОЛА ЗА ОСНОВНО ОБРАЗОВАЊЕ ОДРАСЛИХ ЂУРО САЛАЈ","БЕОГРАД","840","-","0000001254660","660","-","39","601","01663",2,"13701","07030738",8559,16,1,100270087]
[40200,"ШКОЛА ЗА ДИЗАЈН","БЕОГРАД","840","-","0000001485660","660","-","07","601","01805",2,"13702","07001860",8532,16,1,100219883]
[40200,"ФИЛОЛОШКА ГИМНАЗИЈА","БЕОГРАД","840","-","0000001626660","660","-","24","601","01676",2,"13702","07001916",8531,16,1,100223140]
[40200,"ЧЕТВРТА ГИМНАЗИЈА У БЕОГРАДУ","БЕОГРАД","840","-","0000001844660","660","-","95","601","01677",2,"13702","07001924",8531,16,1,100349768]
[40200,"ГИМНАЗИЈА СВЕТИ САВА","БЕОГРАД","840","-","0000001845660","660","-","05","601","01672",2,"13702","07001932",8531,16,1,102259693]
[40200,"ШКОЛА ЗА БРОДАРСТВО, БРОДОГРАДЊУ И ХИДРОГРАДЊУ","БЕОГРАД","840","-","0000001037660","660","-","72","601","01804",2,"13702","07001959",8532,16,1,100118404]
[40200,"ЕЛЕКТРОТЕХНИЧКА ШКОЛА СТАРИ ГРАД","БЕОГРАД","840","-","0000001632660","660","-","66","601","01792",2,"13702","07002980",8532,18,1,101514816]
[40200,"ВАЗДУХОПЛОВНА АКАДЕМИЈА","БЕОГРАД","840","-","0000001640660","660","-","25","601","01799",2,"13702","07002998",8532,18,1,100122257]
[40200,"ПРВА ЕКОНОМСКА ШКОЛА БЕОГРАД","БЕОГРАД","840","-","0000001638660","660","-","11","601","01791",2,"13702","07003005",8532,18,1,100279145]
[40200,"ПРВА БЕОГРАДСКА ГИМНАЗИЈА","БЕОГРАД","840","-","0000001634660","660","-","80","601","01674",2,"13702","07003021",8531,18,1,100040770]
[40200,"МАТЕМАТИЧКА ГИМНАЗИЈА БЕОГРАД","БЕОГРАД","840","-","0000001643660","660","-","46","601","01673",2,"13702","07003030",8531,18,1,100059449]
[40200,"ЕЛЕКТРОТЕХНИЧКА ШКОЛА НИКОЛА ТЕСЛА","БЕОГРАД","840","-","0000001873660","660","-","07","601","01793",2,"13702","07003048",8532,18,1,100052255]
[40200,"ТЕХНИЧКА ШКОЛА ДРВО АРТ","БЕОГРАД","840","-","0000001629660","660","-","45","601","01801",2,"13702","07003137",8532,18,1,101824456]
[40200,"МУЗИЧКА ШКОЛА ДР ВОЈИСЛАВ ВУЧКОВИЋ","БЕОГРАД","840","-","0000001589660","660","-","56","601","01797",2,"13702","07003196",8532,18,1,100053014]
[40200,"УГОСТИТЕЉСКО-ТУРИСТИЧКА ШКОЛА","БЕОГРАД","840","-","0000001827660","660","-","73","601","01803",2,"13702","07017405",8532,16,1,100267874]
[40200,"МУЗИЧКА ШКОЛА СТАНКОВИЋ","БЕОГРАД","840","-","0000001398660","660","-","77","601","01796",2,"13702","07018851",8532,20,1,100155281]
[40200,"ТРГОВАЧКА ШКОЛА БЕОГРАД","БЕОГРАД","840","-","0000001864660","660","-","41","601","01802",2,"13702","07061625",8532,18,1,100054599]
[40200,"ПРАВНО-ПОСЛОВНА ШКОЛА БЕОГРАД","БЕОГРАД","840","-","0000001881660","660","-","63","601","01798",2,"13702","07079931",8531,18,1,101514728]
[40200,"МЕДИЦИНСКА ШКОЛА БЕОГРАД","БЕОГРАД","840","-","0000001848660","660","-","26","601","01795",2,"13702","07083785",8532,16,1,100267114]
[40200,"ТЕХНИЧКА ШКОЛА ЗА ДИЗАЈН КОЖЕ","БЕОГРАД","840","-","0000001879660","660","-","49","601","01800",2,"13702","07454783",8532,19,1,101994730]
[40200,"ЗУБОТЕХНИЧКА ШКОЛА","БЕОГРАД","840","-","0000001915660","660","-","10","601","01794",2,"13702","17091590",8532,16,1,102088368]
[40200,"РЕПУБЛИЧКИ ЦЕНТАР ЗА ТАЛЕНТЕ","БЕОГРАД","840","-","0000001919660","660","-","38","601","01662",2,"13702","17164953",8559,18,1,102457392]
[40200,"РЕГИОНАЛНИ ЦЕНТАР ЗА ТАЛЕНТЕ БЕОГРАД II","БЕОГРАД","840","-","0000002014660","660","-","24","601","02132",2,"13702","17242024",8559,18,1,101514777]
[40200,"СПОРТСКА ГИМНАЗИЈА","БЕОГРАД","840","-","0000001924660","660","-","73","601","01675",2,"13702","17411349",8531,16,1,100124773]
[40200,"УЧИТЕЉСКИ ФАКУЛТЕТ БЕОГРАД","БЕОГРАД","840","-","0000001906660","660","-","44","601","02274",2,"13704","06908985",8542,16,1,100035901]
[40200,"ФАРМАЦЕУТСКИ ФАКУЛТЕТ УНИВЕРЗИТЕТА У БЕОГРАДУ","БЕОГРАД","840","-","0000001127660","660","-","23","601","02262",2,"13704","07001975",8542,16,1,101746950]
[40200,"УНИВЕРЗИТЕТ У БЕОГРАДУ - ЕКОНОМСКИ ФАКУЛТЕТ","БЕОГРАД","840","-","0000001109660","660","-","91","601","02273",2,"13704","07001983",8542,16,1,100223295]
[40200,"СТОМАТОЛОШКИ ФАКУЛТЕТ УНИВЕРЗИТЕТА У БЕОГРАДУ","БЕОГРАД","840","-","0000001122660","660","-","85","601","02261",2,"13704","07001991",8542,16,1,100125119]
[40200,"УНИВЕРЗИТЕТ У БЕОГРАДУ - ФАКУЛТЕТ ВЕТЕРИНАРСКЕ МЕДИЦИНЕ","БЕОГРАД","840","-","0000001825660","660","-","59","601","02267",2,"13704","07002009",8542,16,1,100266509]
[40200,"ФАКУЛТЕТ МУЗИЧКЕ УМЕТНОСТИ","БЕОГРАД","840","-","0000001644660","660","-","53","601","02299",2,"13704","07002084",8542,16,1,101849339]
[40200,"ФИЛОЛОШКИ ФАКУЛТЕТ УНИВЕРЗИТЕТА У БЕОГРАДУ","БЕОГРАД","840","-","0000001615660","660","-","44","601","02276",2,"13704","07003161",8542,18,1,100119438]
[40200,"УНИВЕРЗИТЕТ У БЕОГРАДУ","БЕОГРАД","840","-","0000001835660","660","-","32","601","02311",2,"13704","07003170",8542,18,1,100052450]
[40200,"УНИВЕРЗИТЕТ УМЕТНОСТИ У БЕОГРАДУ","БЕОГРАД","840","-","0000001840660","660","-","67","601","02297",2,"13704","07003188",8542,18,1,100062526]
[40200,"УНИВЕРЗИТЕТ У БЕОГРАДУ - ФИЛОЗОФСКИ ФАКУЛТЕТ","БЕОГРАД","840","-","0000001614660","660","-","37","601","02275",2,"13704","07003269",8542,18,1,100050474]
[40200,"ФАКУЛТЕТ ПРИМЕЊЕНИХ УМЕТНОСТИ УНИВЕРЗИТЕТА УМЕТНОСТИ У БЕОГРАДУ","БЕОГРАД","840","-","0000001611660","660","-","16","601","02300",2,"13704","07007787",8542,18,1,100066998]
[40200,"ФАКУЛТЕТ ЛИКОВНИХ УМЕТНОСТИ","БЕОГРАД","840","-","0000001610660","660","-","09","601","02298",2,"13704","07014562",8542,18,1,100051104]
[40200,"УНИВЕРЗИТЕТ У БЕОГРАДУ - ФАКУЛТЕТ ЗА СПЕЦИЈАЛНУ ЕДУКАЦИЈУ И РЕХАБИЛИТАЦИЈУ","БЕОГРАД","840","-","0000001787660","660","-","84","601","02309",2,"13704","07017766",8542,18,1,101821989]
[40200,"УНИВЕРЗИТЕТ У БЕОГРАДУ - ГЕОГРАФСКИ ФАКУЛТЕТ","БЕОГРАД","840","-","0000001816660","660","-","93","601","02228",2,"13704","07027087",8542,18,1,100063932]
[40200,"ВИСОКА ШКОЛА СТРУКОВНИХ СТУДИЈА - БЕОГРАДСКА ПОЛИТЕХНИКА","БЕОГРАД","840","-","0000001854660","660","-","68","601","02182",2,"13704","07039794",8542,16,1,100350269]
[40200,"УНИВЕРЗИТЕТ У БЕОГРАДУ - МЕДИЦИНСКИ ФАКУЛТЕТ","БЕОГРАД","840","-","0000001139660","660","-","10","601","02260",2,"13704","07048157",8542,16,1,100221404]
[40200,"УНИВЕРЗИТЕТ У БЕОГРАДУ - ФИЗИЧКИ ФАКУЛТЕТ","БЕОГРАД","840","-","0000001984660","660","-","08","601","02231",2,"13704","07048190",8542,18,1,100039173]
[40200,"УНИВЕРЗИТЕТ У БЕОГРАДУ - МАТЕМАТИЧКИ ФАКУЛТЕТ","БЕОГРАД","840","-","0000001815660","660","-","86","601","02229",2,"13704","07048211",8542,18,1,100046603]
[40200,"БИОЛОШКИ ФАКУЛТЕТ УНИВЕРЗИТЕТА У БЕОГРАДУ","БЕОГРАД","840","-","0000001814660","660","-","79","601","02227",2,"13704","07048599",8542,18,1,100043776]
[40200,"УНИВЕРЗИТЕТ У БЕОГРАДУ - ХЕМИЈСКИ ФАКУЛТЕТ","БЕОГРАД","840","-","0000001817660","660","-","03","601","02232",2,"13704","07053681",8542,18,1,101823040]
[40200,"УНИВЕРЗИТЕТ У БЕОГРАДУ - ФАКУЛТЕТ ЗА ФИЗИЧКУ ХЕМИЈУ","БЕОГРАД","840","-","0000001888660","660","-","15","601","02230",2,"13704","07426976",8542,18,1,101821157]
[40200,"КОНФЕРЕНЦИЈА УНИВЕРЗИТЕТА СРБИЈЕ","БЕОГРАД","840","-","0000002118660","660","-","73","601","80978",2,"13704","17646052",8542,18,1,104441156]
[40200,"СТУДЕНТСКА КОНФЕРЕНЦИЈА УНИВЕРЗИТЕТА СРБИЈЕ","БЕОГРАД","840","-","0000002121660","660","-","94","601","84196",2,"13704","17844164",8542,16,1,107896974]
[40200,"УСТАНОВА СТУДЕНТСКИ КУЛТУРНИ ЦЕНТАР БЕОГРАД","БЕОГРАД","840","-","0000000334664","664","-","86","601","03618",2,"13705","07030797",8559,16,1,100219457]
[40200,"УСТАНОВА СТУДЕНСКИ ЦЕНТАР БЕОГРАД","БЕОГРАД","840","-","0000000630661","661","-","33","601","02317",2,"13705","07038011",5590,16,1,100224138]
[40200,"ЗАВОД ЗА УНАПРЕЂИВАЊЕ ОБРАЗОВАЊА И ВАСПИТАЊА","БЕОГРАД","840","-","0000002068660","660","-","14","601","84446",2,"13709","17568973",7219,16,1,103476211]
[40200,"ЗАВОД ЗА ВРЕДНОВАЊЕ КВАЛИТЕТА ОБРАЗОВАЊА И ВАСПИТАЊА","БЕОГРАД","840","-","0000002069660","660","-","21","601","84476",2,"13710","17568981",7219,16,1,103476203]
[40200,"МИНИСТАРСТВО ОМЛАДИНЕ И СПОРТА","БЕОГРАД","","-","","","-","","601","13800",1,"13800","17693719",8412,13,0,105004944]
[40200,"АНТИДОПИНГ АГЕНЦИЈА РЕПУБЛИКЕ СРБИЈЕ","БЕОГРАД","840","-","0000001173664","664","-","42","601","80867",2,"13801","17640771",9319,18,1,104231967]
[40200,"ФОНД ЗА МЛАДЕ ТАЛЕНТЕ","БЕОГРАД","","-","","","-","","601","13803",1,"13803","17693719",8412,13,0,105004944]
[40200,"МИНИСТАРСТВО ДРЖАВНЕ УПРАВЕ И ЛОКАЛНЕ САМОУПРАВЕ","БЕОГРАД","","-","","","-","","601","14800",1,"14800","17855255",8411,16,0,108512042]
[40200,"РЕПУБЛИЧКА АГЕНЦИЈА ЗА СТАНОВАЊЕ","НОВИ БЕОГРАД","840","-","0000001154621","621","-","38","601","80958",6,"14810","17808273",6492,18,1,107338809]
[40200,"АГЕНЦИЈА ЗА УПРАВЉАЊЕ ЛУКАМА","БЕОГРАД","840","-","0000001194664","664","-","92","601","85800",6,"14810","17847422",8413,16,1,108012345]
[40200,"МИНИСТАРСТВО ГРАЂЕВИНАРСТВА, САОБРАЋАЈА И ИНФРАСТРУКТУРЕ","БЕОГРАД","","-","","","-","","601","14810",1,"14810","17855212",8411,16,0,108510088]
[40200,"МГСИ-УПРАВА ЗА УТВРЂИВАЊЕ СПОСОБНОСТИ БРОДОВА ЗА ПЛОВИДБУ","БЕОГРАД","","-","","","-","","601","14811",1,"14811","17855212",8411,13,0,107677749]
[40200,"МГСИ-ДИРЕКЦИЈА ЗА ВОДНЕ ПУТЕВЕ","БЕОГРАД","","-","","","-","","601","14813",1,"14813","17855212",8411,18,0,108511929]
[40200,"АГЕНЦИЈА ЗА ЕНЕРГЕТИКУ РЕПУБЛИКЕ СРБИЈЕ","БЕОГРАД","","-","","","-","","601","59006",6,"14820","17604236",8413,18,1,103901110]
[40200,"МИНИСТАРСТВО РУДАРСТВА И ЕНЕРГЕТИКЕ","БЕОГРАД","","-","","","-","","601","14820",1,"14820","17855182",8411,16,0,108509991]
[40200,"УПРАВА ЗА РЕЗЕРВЕ ЕНЕРГЕНАТА","БЕОГРАД","","-","","","-","","601","14821",1,"14821","17855182",8411,18,0,108867689]
[40200,"РАТЕЛ РЕГУЛАТОРНА АГЕНЦИЈА ЗА ЕЛЕКТРОНСКЕ КОМУНИКАЦИЈЕ И ПОШТАНСКЕ УСЛУГЕ","БЕОГРАД","840","-","0000000927621","621","-","98","601","59011",6,"14830","17606590",8413,18,1,103986571]
[40200,"КОМИСИЈА ЗА ЗАШТИТУ КОНКУРЕНЦИЈЕ","БЕОГРАД","","-","","","-","","601","42900",6,"14830","17655515",8411,18,1,104383538]
[40200,"МИНИСТАРСТВО ТРГОВИНЕ, ТУРИЗМА И ТЕЛЕКОМУНИКАЦИЈА","БЕОГРАД","","-","","","-","","601","14830",1,"14830","17855131",8411,16,0,108508206]
[40200,"МИНИСТАРСТВО ПОЉОПРИВРЕДЕ, ШУМАРСТВА И ВОДОПРИВРЕДЕ","БЕОГРАД","","-","","","-","","601","14840",1,"14840","17855140",8411,16,0,108508191]
[40200,"КОМПЕЗАЦИОНИ ФОНД РЕПУБЛИКЕ СРБИЈЕ","БЕОГРАД","840","-","0000000013624","624","-","93","601","80638",6,"14840","20593709",6629,16,1,106402130]
[40200,"МПШВ-УПРАВА ЗА ВЕТЕРИНУ","БЕОГРАД","","-","","","-","","601","14841",1,"14841","17855140",8411,16,0,108508191]
[40200,"МПШВ-УПРАВА ЗА ЗАШТИТУ БИЉА","БЕОГРАД","","-","","","-","","601","14842",1,"14842","17855140",8411,13,0,108508191]
[40200,"МПШВ-РЕПУБЛИЧКА ДИРЕКЦИЈА ЗА ВОДЕ","БЕОГРАД","","-","","","-","","601","14843",1,"14843","17855140",8411,16,0,108508191]
[40200,"МПШВ-УПРАВА ЗА ШУМЕ","БЕОГРАД","","-","","","-","","601","14844",1,"14844","17855140",8411,16,0,108508191]
[40200,"МПШВ-УПРАВА ЗА АГРАРНА ПЛАЋАЊА","БЕОГРАД","","-","","","-","","601","14846",1,"14846","17855140",8411,99,0,108508191]
[40200,"МПШВ-УПРАВА ЗА ПОЉОПРИВРЕДНО ЗЕМЉИШТЕ","БЕОГРАД","","-","","","-","","601","14847",1,"14847","17855140",8411,18,0,108508191]
[40200,"МПЗЖС-АГЕНЦИЈА ЗА ЗАШТИТУ ЖИВОТНЕ СРЕДИНЕ","БЕОГРАД","","-","","","-","","601","14848",1,"14848","17855140",8411,16,0,107684065]
[40200,"АГЕНЦИЈА ЗА ЗАШТИТУ ОД ЈОНИЗУЈУЋИХ ЗРАЧЕЊА И НУКЛЕАРНУ СИГУРНОСТ СРБИЈЕ","БЕОГРАД","840","-","0000001191664","664","-","71","601","80818",6,"14850","17786920",8411,16,1,106436412]
[40200,"МИНИСТАРСТВО ЗАШТИТЕ ЖИВОТНЕ СРЕДИНЕ","БЕОГРАД","","-","","","-","","601","14850",1,"14850","17907344",8411,16,0,110125138]
[40200,"МИНИСТАРСТВО ЗАШТИТЕ ЖИВОТНЕ СРЕДИНЕ - АГЕНЦИЈА ЗА ЗАШТИТУ ЖИВОТНЕ СРЕДИНЕ","БЕОГРАД","","-","","","-","","601","14851",1,"14851","17907344",8411,16,0,107684065]
[40200,"МИНИСТАРСТВО ЗА ЕВРОПСКЕ ИНТЕГРАЦИЈЕ","БЕОГРАД","","-","","","-","","601","14860",1,"14860","17907042",8411,16,0,110118328]
[40200,"НАРОДНА СКУПШТИНА РЕПУБЛИКЕ СРБИЈЕ","БЕОГРАД","","-","","","-","","601","20100",1,"20100","07017715",8411,18,0,100279223]
[40200,"НАРОДНА СКУПШТИНА РЕПУБЛИКЕ СРБИЈЕ - СТРУЧНЕ СЛУЖБЕ","БЕОГРАД","","-","","","-","","601","20101",1,"20101","07017715",8411,18,0,100279223]
[40200,"ДРЖАВНА РЕВИЗОРСКА ИНСТИТУЦИЈА","БЕОГРАД","","-","","","-","","601","20102",1,"20102","17699539",8411,18,0,105225241]
[40200,"ФИСКАЛНИ САВЕТ","БЕОГРАД","","-","","","-","","601","20103",1,"20103","17803646",8411,16,0,107073932]
[40200,"УСТАВНИ СУД СРБИЈЕ","БЕОГРАД","","-","","","-","","601","30100",1,"30100","07001541",8423,15,0,102199633]
[40200,"РЕПУБЛИЧКО ЈАВНО ТУЖИЛАШТВО","БЕОГРАД","","-","","","-","","601","30203",1,"30203","07001622",8423,16,0,102199676]
[40200,"ДРЖАВНО ПРАВОБРАНИЛАШТВО","БЕОГРАД","","-","","","-","","601","30204",1,"30204","07001649",8423,16,0,102199668]
[40200,"УПРАВНИ СУД","БЕОГРАД","","-","","","-","","601","30210",1,"30210","17772767",8423,16,0,106399789]
[40200,"АПЕЛАЦИОНИ СУД У БЕОГРАДУ","БЕОГРАД","","-","","","-","","601","80569",2,"30211","17772732",8423,16,5,106399772]
[40200,"ДРЖАВНО ВЕЋЕ ТУЖИЛАЦА","БЕОГРАД","","-","","","-","","601","30215",1,"30215","17750950",8423,16,0,106129861]
[40200,"ВИСОКИ САВЕТ СУДСТВА","БЕОГРАД","","-","","","-","","601","30216",1,"30216","17750968",8423,16,0,106129853]
[40200,"ВРХОВНИ КАСАЦИОНИ СУД","БЕОГРАД","","-","","","-","","601","30221",1,"30221","17772783",8423,16,0,106399801]
[40200,"ПРИВРЕДНИ АПЕЛАЦИОНИ СУД","БЕОГРАД","","-","","","-","","601","30222",1,"30222","17772775",8423,16,0,106399797]
[40200,"ВИШИ СУД У БЕОГРАДУ","БЕОГРАД","","-","","","-","","601","80433",2,"30225","17772678",8423,16,5,106398735]
[40200,"ПРВИ ОСНОВНИ СУД У БЕОГРАДУ","БЕОГРАД","","-","","","-","","601","80459",2,"30226","17772686",8423,16,5,106400870]
[40200,"ДРУГИ ОСНОВНИ СУД У БЕОГРАДУ","БЕОГРАД","","-","","","-","","601","91273",2,"30226","17865404",8423,16,5,108341253]
[40200,"ТРЕЋИ ОСНОВНИ СУД У БЕОГРАДУ","БЕОГРАД","","-","","","-","","601","91274",2,"30226","17865412",8423,13,5,108341270]
[40200,"ПРИВРЕДНИ СУД У БЕОГРАДУ","БЕОГРАД","","-","","","-","","601","80493",2,"30227","17772708",8423,16,5,106398727]
[40200,"ВИШЕ ЈАВНО ТУЖИЛАШТВО У БЕОГРАДУ","БЕОГРАД","","-","","","-","","601","80543",2,"30228","17772813",8423,16,5,106400087]
[40200,"ПРВО ОСНОВНО ЈАВНО ТУЖИЛАШТВО У БЕОГРАДУ","БЕОГРАД","","-","","","-","","601","80509",2,"30229","17772716",8423,16,5,106398751]
[40200,"ДРУГО ОСНОВНО ЈАВНО ТУЖИЛАШТВО У БЕОГРАДУ","БЕОГРАД","","-","","","-","","601","91320",2,"30229","17865676",8423,20,5,108347725]
[40200,"ТРЕЋЕ ОСНОВНО ЈАВНО ТУЖИЛАШТВО У БЕОГРАДУ","БЕОГРАД","","-","","","-","","601","91321",2,"30229","17865684",8423,16,5,108347733]
[40200,"ПРЕКРШАЈНИ АПЕЛАЦИОНИ СУД","БЕОГРАД","","-","","","-","","601","30232",1,"30232","17772759",8423,20,0,106400222]
[40200,"ПРЕКРШАЈНИ СУД У БЕОГРАДУ","БЕОГРАД","","-","","","-","","601","80579",2,"30233","17772821",8423,16,5,106400239]
[40200,"АПЕЛАЦИОНО ЈАВНО ТУЖИЛАШТВО У БЕОГРАДУ","БЕОГРАД","","-","","","-","","601","80573",2,"30236","17772791",8423,20,5,106399810]
[40200,"РЕПУБЛИЧКИ СЕКРЕТАРИЈАТ ЗА ЈАВНЕ ПОЛИТИКЕ","БЕОГРАД","","-","","","-","","601","40010",1,"40010","17855719",8411,18,0,108539248]
[40200,"РЕПУБЛИЧКИ СЕКРЕТАРИЈАТ ЗА ЗАКОНОДАВСТВО","БЕОГРАД","","-","","","-","","601","40100",1,"40100","17031813",8411,16,0,102199764]
[40200,"РЕПУБЛИЧКИ ЗАВОД ЗА СТАТИСТИКУ","БЕОГРАД","","-","","","-","","601","40400",1,"40400","07004630",8411,22,0,102187054]
[40200,"РЕПУБЛИЧКИ ГЕОДЕТСКИ ЗАВОД","БЕОГРАД","","-","","","-","","601","40600",1,"40600","07004966",8411,16,0,100147152]
[40200,"РЕПУБЛИЧКА ДИРЕКЦИЈА ЗА ИМОВИНУ РЕПУБЛИКЕ СРБИЈЕ","БЕОГРАД","","-","","","-","","601","40700",1,"40700","17114450",8411,18,0,102199586]
[40200,"РЕПУБЛИЧКИ СЕИЗМОЛОШКИ ЗАВОД","БЕОГРАД","","-","","","-","","601","40800",1,"40800","07032617",8411,18,0,102328899]
[40200,"УПРАВА ЗА ЗАЈЕДНИЧКЕ ПОСЛОВЕ РЕПУБЛИЧКИХ ОРГАНА","БЕОГРАД","","-","","","-","","601","41100",1,"41100","07001401",8411,16,0,102199617]
[40200,"ЦЕНТАР ЗА ИСТРАЖИВАЊЕ НЕСРЕЋА У САОБРАЋАЈУ","БЕОГРАД","","-","","","-","","601","41140",1,"41140","17862111",8411,16,0,108160095]
[40200,"УПРАВА ЗА ЈАВНЕ НАБАВКЕ","БЕОГРАД","","-","","","-","","601","41200",1,"41200","17418785",8411,16,0,102027924]
[40200,"РЕПУБЛИЧКА КОМИСИЈА ЗА ЗАШТИТУ ПРАВА У ПОСТУПЦИМА ЈАВНИХ НАБАВКИ","БЕОГРАД","","-","","","-","","601","41210",1,"41210","17812866",8411,16,0,106813812]
[40200,"БЕЗБЕДОНОСНО-ИНФОРМАТИВНА АГЕНЦИЈА","БЕОГРАД","","-","","","-","","601","41300",1,"41300","17410679",8424,16,0,102199447]
[40200,"АКАДЕМИЈА ЗА НАЦИОНАЛНУ БЕЗБЕДНОСТ","БЕОГРАД","840","-","0000002127660","660","-","39","601","87388",2,"41301","17849646",8542,16,1,108155455]
[40200,"КАНЦЕЛАРИЈА ЗА ЕВРОПСКЕ ИНТЕГРАЦИЈЕ","БЕОГРАД","","-","","","-","","601","42200",1,"42200","07020171",8411,16,0,102211930]
[40200,"СРПСКА АКАДЕМИЈА НАУКА И УМЕТНОСТИ","БЕОГРАД","840","-","0000000628664","664","-","10","601","42300",1,"42300","07003218",7220,18,2,101511919]
[40200,"САВЕТ ЗА БОРБУ ПРОТИВ КОРУПЦИЈЕ","БЕОГРАД","","-","","","-","","601","42400",1,"42400","07020171",8411,16,0,102211930]
[40200,"ПОВЕРЕНИК ЗА ИНФОРМАЦИЈЕ ОД ЈАВНОГ ЗНАЧАЈА И ЗАШТИТУ ПОДАТАКА О ЛИЧНОСТИ","БЕОГРАД","","-","","","-","","601","42600",1,"42600","17600524",8412,18,0,103832055]
[40200,"ЗАШТИТНИК ГРАЂАНА","БЕОГРАД","","-","","","-","","601","42700",1,"42700","17709704",8411,16,0,105296026]
[40200,"РЕПУБЛИЧКА АГЕНЦИЈА ЗА МИРНО РЕШАВАЊЕ РАДНИХ СПОРОВА","БЕОГРАД","","-","","","-","","601","42800",1,"42800","17595610",8412,16,0,103670051]
[40200,"АГЕНЦИЈА ЗА БОРБУ ПРОТИВ КОРУПЦИЈЕ","БЕОГРАД","","-","","","-","","601","43200",1,"43200","17750763",8411,18,0,106106566]
[40200,"ПОВЕРЕНИК ЗА ЗАШТИТУ РАВНОПРАВНОСТИ","БЕОГРАД","","-","","","-","","601","43300",1,"43300","17792440",8411,13,0,106685266]
[40200,"БУЏЕТСКИ ФОНД ЗА ФИНАНСИРАЊЕ ЦРВЕНОГ КРСТА СРБИЈЕ","БЕОГРАД","","-","","","-","","601","50006",1,"50006","07000723",8411,16,0,102199551]
[40200,"ИНСПЕКТОРАТ ЗА РАД","БЕОГРАД","","-","","","-","","601","50010",1,"50010","17693697",8412,16,0,105007470]
[40200,"ЗАВОД ЗА СОЦИЈАЛНО ОСИГУРАЊЕ","БЕОГРАД","","-","","","-","","601","50011",1,"50011","17699768",8430,13,0,105230851]
[40200,"БУЏЕТСКИ ФОНД ЗА ПРОГРАМЕ ЗАШТИТЕ И УНАПРЕЂЕЊЕ ПОЛОЖАЈА ОСОБА СА ИНВАЛИДИТЕТОМ","БЕОГРАД","","-","","","-","","601","50021",1,"50021","17693697",8412,16,0,105007470]
[40200,"БУЏЕТСКИ ФОНД ЗА УСТАНОВЕ СОЦИЈАЛНЕ ЗАШТИТЕ","БЕОГРАД","","-","","","-","","601","50023",1,"50023","17693697",8412,16,0,105007470]
[40200,"БУЏЕТСКИ ФОНД ЗА ФИНАНСИРАЊЕ СПОРТА","БЕОГРАД","","-","","","-","","601","50025",1,"50025","17693719",8412,16,0,105004944]
[40200,"БУЏЕТСКИ ФОНД ЗА ВАНРЕДНЕ СИТУАЦИЈЕ","БЕОГРАД","","-","","","-","","601","50031",1,"50031","07008104",8424,16,0,100184116]
[40200,"БУЏЕТСКИ ФОНД ЗА РЕСТИТУЦИЈУ","БЕОГРАД","","-","","","-","","601","50037",1,"50037","07001410",8411,16,0,102105620]
[40200,"БУЏЕТСКИ ФОНД ЗА ПРОФЕСИОНАЛНУ РЕХАБИЛИТАЦИЈУ И ПОДСТИЦАЊЕ ЗАПОШЉАВАЊА ОСОБА СА ИНВАЛИДИТЕТОМ","БЕОГРАД","","-","","","-","","601","50038",1,"50038","17693697",8413,16,0,105007470]
[40200,"БУЏЕТСКИ ФОНД ЗА ФИНАНСИРАЊЕ СТАМБЕНИХ ПОТРЕБА ПРОФЕСИОНАЛНИХ ПРИПАДНИКА ВОЈСКЕ СРБИЈЕ И ЗАПОСЛЕН. У МО","БЕОГРАД","","-","","","-","","601","50043",1,"50043","07093608",8422,16,0,102116082]
[40200,"БУЏЕТСКИ ФОНД ЗА НАЦИОНАЛНЕ МАЊИНЕ","БЕОГРАД","","-","","","-","","601","50044",1,"50044","17855255",8411,16,0,108512042]
[40200,"ФОНД ЗА ПОДСТИЦАЊЕ РАЗВОЈА ПОЉОПРИВРЕДНЕ ПРОИЗВОДЊЕ У РЕПУБЛИЦИ","БЕОГРАД","","-","","","-","","601","50045",1,"50045","17855140",8413,16,0,108508191]
[40200,"БУЏЕТСКИ ФОНД ЗА ВОДЕ РЕПУБЛИКЕ СРБИЈЕ","БЕОГРАД","","-","","","-","","601","50046",1,"50046","17855140",8411,16,0,108508191]
[40200,"БУЏЕТСКИ ФОНД ЗА ШУМЕ РЕПУБЛИКЕ СРБИЈЕ","БЕОГРАД","","-","","","-","","601","50047",1,"50047","17855140",8411,16,0,108508191]
[40200,"БУЏЕТСКИ ФОНД ЗА РАЗВОЈ ЛОВСТВА РЕПУБЛИКЕ СРБИЈЕ","БЕОГРАД","","-","","","-","","601","50048",1,"50048","17855140",8411,16,0,108508191]
[40200,"БУЏЕТСКИ ФОНД ЗА УНАПРЕЂЕЊЕ ЕНЕРГЕТСКЕ ЕФИКАСНОСТИ РЕПУБЛИКЕ СРБИЈЕ","БЕОГРАД","","-","","","-","","601","50049",1,"50049","17855182",8411,16,0,108509991]
[40200,"БУЏЕТСКИ ФОНД ЗА ПРОГРАМ ЛОКАЛНЕ САМОУПРАВЕ","БЕОГРАД","","-","","","-","","601","50050",1,"50050","17855255",8411,16,0,108512042]
[40200,"БУЏЕТСКИ ФОНД ЗА УНАПРЕЂЕЊЕ И РАЗВОЈ ОБЛАСТИ ЕЛЕКТРОНСКИХ КОМУНИКАЦИЈА И ИНФОРМАЦИОНОГ ДРУШТВА","БЕОГРАД","","-","","","-","","601","50051",1,"50051","17855131",8411,18,0,108508206]
[40200,"БУЏЕТСКИ ФОНД ЗА ЛЕЧЕЊЕ ОБОЉЕЊА, СТАЊА ИЛИ ПОВРЕДА КОЈЕ СЕ НЕ МОГУ УСПЕШНО ЛЕЧИТИ У РЕПУБЛИЦИ СРБИЈИ","БЕОГРАД","","-","","","-","","601","50052",1,"50052","07000723",8411,18,0,102199551]
[40200,"БУЏЕТСКИ ФОНД ЗА НАОРУЖАЊЕ И ВОЈНУ ОПРЕМУ","БЕОГРАД","","-","","","-","","601","50053",1,"50053","07093608",8422,16,0,102116082]
[40200,"БУЏЕТСКИ ФОНД ЗА ПОТРЕБЕ ВОЈНОГ ОБРАЗОВАЊА И ВОЈНЕ НАУЧНОИСТРАЖИВАЧКЕ ДЕЛАТНОСТИ","БЕОГРАД","","-","","","-","","601","50054",1,"50054","07093608",8422,16,0,102116082]
[40200,"БУЏЕТСКИ ФОНД ЗА ПОТРЕБЕ СИСТЕМА СПЕЦИЈАЛНИХ ВЕЗА","БЕОГРАД","","-","","","-","","601","50055",1,"50055","07093608",8422,16,0,102116082]
[40200,"ЗЕЛЕНИ ФОНД РЕПУБЛИКЕ СРБИЈЕ","БЕОГРАД","","-","","","-","","601","50056",1,"50056","17855140",8411,16,0,108508191]
[40200,"ЗЕЛЕНИ ФОНД РЕПУБЛИКЕ СРБИЈЕ","БЕОГРАД","","-","","","-","","601","50057",1,"50057","17907344",8411,16,0,110125138]
[40200,"АВИО-СЛУЖБА ВЛАДЕ","БЕОГРАД","","-","","","-","","601","61029",1,"61029","07020171",8413,16,0,104625603]
[40200,"МИНИСТАРСТВО СПОЉНИХ ПОСЛОВА","БЕОГРАД","","-","","","-","","601","61030",1,"61030","07011636",8421,18,0,100184462]
[40200,"ДИПЛОМАТСКО КОНЗУЛАРНА ПРЕДСТАВНИШТВА","БЕОГРАД","","-","","","-","","601","61031",1,"61031","07011636",8411,16,0,100184462]
[40200,"МСП-УПРАВА ЗА САРАДЊУ С ДИЈАСПОРОМ И СРБИМА У РЕГИОНУ","БЕОГРАД","","-","","","-","","601","61032",1,"61032","07011636",8421,18,0,107683992]
[40200,"МИНИСТАРСТВО ОДБРАНЕ","БЕОГРАД","","-","","","-","","601","61040",1,"61040","07093608",8422,16,0,102116082]
[40200,"ВОЈНОГРАЂЕВИНСКА УСТАНОВА БЕОГРАД","БЕОГРАД","840","-","0000001192664","664","-","78","601","03531",6,"61040","17864939",8422,13,1,108341403]
[40200,"ВОЈНА УСТАНОВА ДЕДИЊЕ","БЕОГРАД","840","-","0000001188664","664","-","50","601","03533",6,"61040","17864955",8422,16,1,108341454]
[40200,"ЗАВОД ЗА ИНТЕЛЕКТУАЛНУ СВОЈИНУ","БЕОГРАД","","-","","","-","","601","64040",1,"64040","07045182",8411,18,0,100138911]
[40200,"РЕПУБЛИЧКИ ФОНД ЗА ЗДРАВСТВЕНО ОСИГУРАЊЕ - ФИЛИЈАЛА ЗА ГРАД БЕОГРАД","БЕОГРАД","840","-","0000000024650","650","-","92","601","02651",4,"95000","06042945",8430,16,0,101288707]
[40200,"РЕПУБЛИЧКИ ФОНД ЗА ЗДРАВСТВЕНО ОСИГУРАЊЕ","БЕОГРАД","840","-","0000000026650","650","-","09","601","95000",1,"95000","06042945",8430,16,4,101288707]
[40200,"СПЕЦИЈАЛНА БОЛНИЦА ЗА БОЛЕСТИ ЗАВИСНОСТИ У БЕОГРАДУ","БЕОГРАД","840","-","0000000669661","661","-","15","601","02521",2,"95000","06320945",8610,16,3,101369148]
[40200,"ГРАДСКИ ЗАВОД ЗА КОЖНЕ И ВЕНЕРИЧНЕ БОЛЕСТИ","БЕОГРАД","840","-","0000000546661","661","-","27","601","02401",2,"95000","07024851",8622,18,3,100061041]
[40200,"ГРАДСКИ ЗАВОД ЗА ХИТНУ МЕДИЦИНСКУ ПОМОЋ","БЕОГРАД","840","-","0000000619661","661","-","53","601","02397",2,"95000","07030860",8621,16,3,100220284]
[40200,"СПЕЦИЈАЛНА БОЛНИЦА ЗА ЦЕРЕБРОВАСКУЛАРНЕ БОЛЕСТИ СВЕТИ САВА","БЕОГРАД","840","-","0000000642661","661","-","20","601","02531",2,"95000","07030908",8610,16,3,100118470]
[40200,"ДОМ ЗДРАВЉА САВСКИ ВЕНАЦ","БЕОГРАД","840","-","0000000610661","661","-","87","601","02398",2,"95000","07030991",8621,16,3,100268504]
[40200,"ИНСТИТУТ ЗА НЕОНАТОЛОГИЈУ БЕОГРАД","БЕОГРАД","840","-","0000000176661","661","-","56","601","02524",2,"95000","07031238",8610,16,3,100219640]
[40200,"УНИВЕРЗИТЕТСКА ДЕЧЈА КЛИНИКА","БЕОГРАД","840","-","0000000629661","661","-","26","601","02533",2,"95000","07031246",8610,16,3,102004424]
[40200,"ДОМ ЗДРАВЉА СТАРИ ГРАД","БЕОГРАД","840","-","0000000650661","661","-","76","601","02399",2,"95000","07031521",8621,18,3,100043969]
[40200,"КЛИНИКА ЗА ПСИХИЈАТРИЈСКЕ БОЛЕСТИ ДР  ЛАЗА ЛАЗАРЕВИЋ","БЕОГРАД","840","-","0000000622661","661","-","74","601","02525",2,"95000","07035683",8610,16,3,101994801]
[40200,"КЛИНИКА ЗА НЕУРОЛОГИЈУ И ПСИХИЈАТРИЈУ ЗА ДЕЦУ И ОМЛАДИНУ","БЕОГРАД","840","-","0000000613661","661","-","11","601","02529",2,"95000","07035802",8610,16,3,100269185]
[40200,"ГИНЕКОЛОШКО АКУШЕРСКА КЛИНИКА НАРОДНИ ФРОНТ","БЕОГРАД","840","-","0000000198661","661","-","16","601","02520",2,"95000","07035888",8610,16,3,100219891]
[40200,"ИНСТИТУТ ЗА ОРТОПЕДСКО-ХИРУРШКЕ БОЛЕСТИ БАЊИЦА","БЕОГРАД","840","-","0000000273661","661","-","56","601","02527",2,"95000","07035900",8610,16,3,100221390]
[40200,"ИНСТИТУТ ЗА РЕУМАТОЛОГИЈУ-БЕОГРАД","БЕОГРАД","840","-","0000000617661","661","-","39","601","02528",2,"95000","07035969",8610,16,3,100183558]
[40200,"ИНСТИТУТ ЗА ЈАВНО ЗДРАВЉЕ СРБИЈЕ ДР МИЛАН ЈОВАНОВИЋ-БАТУТ","БЕОГРАД","840","-","0000000624661","661","-","88","601","02372",2,"95000","07036027",8690,16,3,102000930]
[40200,"СПЕЦИЈАЛНА БОЛНИЦА ЗА РЕХАБИЛИТАЦИЈУ И ОРТОПЕДСКУ ПРОТЕТИКУ","БЕОГРАД","840","-","0000000458661","661","-","90","601","02584",2,"95000","07036124",8690,16,3,101368670]
[40200,"КЛИНИКА ЗА РЕХАБИЛИТАЦИЈУ ДР МИРОСЛАВ ЗОТОВИЋ","БЕОГРАД","840","-","0000000460661","661","-","07","601","02586",2,"95000","07036159",8710,16,3,100348265]
[40200,"ГРАДСКИ ЗАВОД ЗА ЈАВНО ЗДРАВЉЕ БЕОГРАД","БЕОГРАД","840","-","0000000627661","661","-","12","601","02369",2,"95000","07041152",8690,18,3,100044907]
[40200,"ИНСТИТУТ ЗА МЕНТАЛНО ЗДРАВЉЕ","БЕОГРАД","840","-","0000000454661","661","-","62","601","02585",2,"95000","07041357",8610,18,3,100066596]
[40200,"КЛИНИЧКО-БОЛНИЧКИ ЦЕНТАР ДР ДРАГИША МИШОВИЋ-ДЕДИЊЕ","БЕОГРАД","840","-","0000000648661","661","-","62","601","02530",2,"95000","07044445",8610,16,3,101369025]
[40200,"ИНСТИТУТ ЗА ОНКОЛОГИЈУ И РАДИОЛОГИЈУ СРБИЈЕ","БЕОГРАД","840","-","0000000618661","661","-","46","601","02526",2,"95000","07046707",8610,16,3,100284729]
[40200,"ИНСТИТУТ ЗА КАРДИОВАСКУЛАРНЕ БОЛЕСТИ ДЕДИЊЕ","БЕОГРАД","840","-","0000000647661","661","-","55","601","02523",2,"95000","07062117",8610,16,3,100222374]
[40200,"ЗАВОД ЗА ЗДРАВСТВЕНУ ЗАШТИТУ РАДНИКА ЖЕЛЕЗНИЦЕ СРБИЈЕ","БЕОГРАД","840","-","0000000636661","661","-","75","601","02370",2,"95000","07065191",8690,16,3,100348642]
[40200,"ЗАВОД ЗА ЗДРАВСТВЕНУ ЗАШТИТУ РАДНИКА - МИНИСТАРСТВО УНУТРАШЊИХ ПОСЛОВА","БЕОГРАД","840","-","0000000348661","661","-","96","601","02371",2,"95000","07078978",8690,16,3,100182356]
[40200,"КЛИНИЧКИ ЦЕНТАР СРБИЈЕ","БЕОГРАД","840","-","0000000667661","661","-","98","601","02522",2,"95000","07089503",8610,16,3,100118429]
[40200,"ГРАДСКИ ЗАВОД ЗА ГЕРОНТОЛОГИЈУ","БЕОГРАД","840","-","0000000645661","661","-","41","601","02396",2,"95000","07451075",8622,16,3,100118679]
[40200,"ЗАВОД ЗА ПСИХОФИЗИОЛОШКЕ ПОРЕМЕЋАЈЕ И ГОВОРНУ ПАТОЛОГИЈУ ПРОФ. ДР ЦВЕТКО БРАЈОВИЋ","БЕОГРАД","840","-","0000000656661","661","-","21","601","02400",2,"95000","07456239",8622,16,3,100284114]
[40200,"ИНСТИТУТ ЗА МЕДИЦИНУ РАДА СРБИЈЕ ДР ДРАГОМИР КАРАЈОВИЋ","БЕОГРАД","840","-","0000000803661","661","-","80","601","80388",2,"95000","17753347",8610,16,3,106217293]
[40200,"РЕПУБЛИЧКИ ФОНД ПИО-ФИЛИЈАЛА- ЗА ГРАД БЕОГРАД","БЕОГРАД","840","-","0000000029652","652","-","24","601","00096",4,"95200","17715780",8430,16,0,105356542]
[40200,"РЕПУБЛИЧКИ ФОНД ПИО-ФИЛИЈАЛА  ПРИШТИНА","БЕОГРАД","","-","","","-","","601","80206",4,"95200","17715780",8430,16,0,105356542]
[40200,"РЕПУБЛИЧКИ ФОНД ПИО-ФИЛИЈАЛА  ГЊИЛАНЕ","БЕОГРАД","","-","","","-","","601","80207",4,"95200","17715780",8430,16,0,105356542]
[40200,"РЕПУБЛИЧКИ ФОНД ПИО-ФИЛИЈАЛА  ПЕЋ","БЕОГРАД","","-","","","-","","601","80208",4,"95200","17715780",8430,16,0,105356542]
[40200,"РЕПУБЛИЧКИ ФОНД ПИО-ФИЛИЈАЛА  ПРИЗРЕН","БЕОГРАД","","-","","","-","","601","80209",4,"95200","17715780",8430,16,0,105356542]
[40200,"РЕПУБЛИЧКИ ФОНД  ЗА ПИО","БЕОГРАД","840","-","0000000001652","652","-","22","601","95200",1,"95200","17715780",8430,16,4,105356542]
[40200,"НАЦИОНАЛНА СЛУЖБА ЗА ЗАПОШЉАВАЊЕ-ФИЛИЈАЛА БЕОГРАД","БЕОГРАД","840","-","0000000019654","654","-","45","601","00094",4,"95400","17539957",7810,18,0,103277483]
[40200,"ФОНД ЗА СОЦИЈАЛНО ОСИГУРАЊЕ ВОЈНИХ ОСИГУРАНИКА","БЕОГРАД","840","-","0000000014650","650","-","22","601","95500",1,"95500","17677675",8430,20,4,106070529]
[40200,"ГРАД БЕОГРАД-БУЏЕТ","БЕОГРАД","840","-","0000000147640","640","-","13","501","03587",0,"03587","17565800",8411,18,0,100065430]
[40200,"ГРАД БЕОГРАД - ГУ СЕКРЕТАРИЈАТ ЗА ОПШТЕ ПОСЛОВЕ","БЕОГРАД","","-","","","-","","501","03588",1,"03588","17565800",8411,18,0,100065430]
[40200,"ГРАД БЕОГРАД - СКУПШТИНА ГРАДА БЕОГРАДА","БЕОГРАД","","-","","","-","","501","03589",1,"03589","17565800",8411,18,0,100065430]
[40200,"ГРАД БЕОГРАД- ГУ СЕКРЕТАРИЈАТ ЗА ФИНАНСИЈЕ","БЕОГРАД","","-","","","-","","501","09394",1,"09394","17565800",8411,18,0,100065430]
[40200,"ГРАД БЕОГРАД-ГУ СЕКРЕТАРИЈАТ ЗА УРБАНИЗАМ И ГРАЂЕВИНСКЕ ПОСЛОВЕ","БЕОГРАД","","-","","","-","","501","09395",1,"09395","17565800",8411,15,0,100065430]
[40200,"ГРАД БЕОГРАД-СЕКРЕТАРИЈАТ ЗА КОМУНАЛНЕ И СТАМБЕНЕ ПОСЛОВЕ","БЕОГРАД","","-","","","-","","501","09396",1,"09396","17565800",8411,18,0,100065430]
[40200,"ГРАД БЕОГРАД - ГУ СЕКРЕТАРИЈАТ ЗА ИМОВИНСКЕ И ПРАВНЕ ПОСЛОВЕ","БЕОГРАД","","-","","","-","","501","09397",1,"09397","17565800",8411,15,0,100065430]
[40200,"ГРАД БЕОГРАД-ГУ СЕКРЕТАРИЈАТ ЗА САОБРАЋАЈ","БЕОГРАД","","-","","","-","","501","09398",1,"09398","17565800",8411,15,0,100065430]
[40200,"ГРАД БЕОГРАД-ГУ СЕКРЕТАРИЈАТ ЗА ЗАШТИТУ ЖИВОТНЕ СРЕДИНЕ","БЕОГРАД","","-","","","-","","501","09399",1,"09399","17565800",8411,15,0,100065430]
[40200,"ЈАВНА СЛУЖБА ЗА ВРШЕЊЕ ПОСЛ.РАЗВОЈА,ОЧУВ. И ЗАШТ.ТУРИСТ. ВРЕДН. ГРАДА ТУРИСТИЧКА ОРГАНИЗАЦИЈА БЕОГРАДА","БЕОГРАД","840","-","0000001120664","664","-","59","501","03592",2,"09400","17079085",8413,18,1,101513828]
[40200,"ГРАД БЕОГРАД-ГУ СЕКРЕТАРИЈАТ ЗА ПРИВРЕДУ","БЕОГРАД","","-","","","-","","501","09400",1,"09400","17565800",8411,18,0,100065430]
[40200,"ПЕДАГОШКИ МУЗЕЈ У БЕОГРАДУ","БЕОГРАД","840","-","0000000309664","664","-","08","501","03611",2,"09401","07023685",9102,18,1,102053929]
[40200,"ПРОДАЈНА ГАЛЕРИЈА БЕОГРАД","БЕОГРАД","840","-","0000000760664","664","-","61","501","03617",2,"09401","07023707",9102,18,1,100052239]
[40200,"БИБЛИОТЕКА ГРАДА БЕОГРАДА","БЕОГРАД","840","-","0000000502664","664","-","98","501","03598",2,"09401","07023715",9101,18,1,100147595]
[40200,"КУЛТУРНИ ЦЕНТАР БЕОГРАДА","БЕОГРАД","840","-","0000000511664","664","-","64","501","03607",2,"09401","07023774",9004,18,1,101516213]
[40200,"ДОМ ОМЛАДИНЕ БЕОГРАДА","БЕОГРАД","840","-","0000000526664","664","-","72","501","03601",2,"09401","07023855",9004,18,1,100049621]
[40200,"ПОЗОРИШТЕ БОШКО БУХА","БЕОГРАД","840","-","0000000507664","664","-","36","501","03614",2,"09401","07023871",9003,18,1,100038734]
[40200,"ПОЗОРИШТЕ АТЕЉЕ 212","БЕОГРАД","840","-","0000000509664","664","-","50","501","03613",2,"09401","07023880",9003,18,1,100049752]
[40200,"ПОЗОРИШТЕ НА ТЕРАЗИЈАМА","БЕОГРАД","840","-","0000000565664","664","-","54","501","03616",2,"09401","07023898",9003,18,1,100057486]
[40200,"ЈУГОСЛОВЕНСКО ДРАМСКО ПОЗОРИШТЕ-УСТАНОВА КУЛТУРЕ ОД НАЦИОНАЛНОГ ЗНАЧАЈА","БЕОГРАД","840","-","0000000252664","664","-","94","501","03606",2,"09401","07030843",9003,16,1,100266371]
[40200,"МУЗЕЈ ГРАДА БЕОГРАДА","БЕОГРАД","840","-","0000000504664","664","-","15","501","03610",2,"09401","07031513",9102,18,1,100044870]
[40200,"ЗАВОД ЗА ЗАШТИТУ СПОМЕНИКА КУЛТУРЕ ГРАДА БЕОГРАДА-УСТАНОВА КУЛТУРЕ ОД НАЦИОНАЛНОГ ЗНАЧАЈА","БЕОГРАД","840","-","0000000586664","664","-","07","501","03602",2,"09401","07045719",9103,18,1,101511252]
[40200,"МУЗЕЈ АФРИЧКЕ УМЕТНОСТИ - ЗБИРКА ВЕДЕ И ДР ЗДРАВКА ПЕЧАРА","БЕОГРАД","840","-","0000000584664","664","-","90","501","03609",2,"09401","07068964",9102,16,1,100220549]
[40200,"ПОЗОРИШТЕ ПУЖ","БЕОГРАД","840","-","0000000589664","664","-","28","501","03615",2,"09401","07092229",9001,20,1,100300077]
[40200,"УСТАНОВА БИТЕФ ТЕАТАР","БЕОГРАД","840","-","0000000594664","664","-","63","501","03619",2,"09401","07451083",9003,18,1,100061814]
[40200,"МУЗЕЈ АУТОМОБИЛА - ЗБИРКА Б. ПЕТКОВИЋА","БЕОГРАД","840","-","0000000766664","664","-","06","501","03608",2,"09401","17136186",9102,18,1,101953552]
[40200,"ЦЕНТАР БЕОГРАДСКИХ ФЕСТИВАЛА","БЕОГРАД","840","-","0000000764664","664","-","89","501","03600",2,"09401","17356038",9004,18,1,100038806]
[40200,"ГРАД БЕОГРАД-ГУ СЕКРЕТАРИЈАТ ЗА КУЛТУРУ","БЕОГРАД","","-","","","-","","501","09401",1,"09401","17565800",8411,18,0,100065430]
[40200,"КУЋА ЛЕГАТА","БЕОГРАД","840","-","0000000873664","664","-","76","501","09668",2,"09401","17573829",9102,18,1,103552829]
[40200,"ГРАД БЕОГРАД-ГУ СЕКРЕТАРИЈАТ ЗА СПОРТ И ОМЛАДИНУ","БЕОГРАД","","-","","","-","","501","09403",1,"09403","17565800",8411,18,0,100065430]
[40200,"ГРАД БЕОГРАД-ГУ СЕКРЕТАРИЈАТ ЗА ЗДРАВСТВО","БЕОГРАД","","-","","","-","","501","09404",1,"09404","17565800",8411,18,0,100065430]
[40200,"ГРАД БЕОГРАД-ГУ СЕКРЕТАРИЈАТ ЗА ИНСПЕЦИЈСКЕ ПОСЛОВЕ","БЕОГРАД","","-","","","-","","501","09406",1,"09406","17565800",8411,15,0,100065430]
[40200,"ГРАД БЕОГРАД - ГУ СЕКРЕТАРИЈАТ ЗА ИНФОРМИСАЊЕ","БЕОГРАД","","-","","","-","","501","09408",1,"09408","17565800",8411,18,0,100065430]
[40200,"ГРАД БЕОГРАД - ГРАДСКО ПРАВОБРАНИЛАШТВО","БЕОГРАД","","-","","","-","","501","09409",1,"09409","17565800",8423,16,0,100065430]
[40200,"ГУ СЕКРЕТАРИЈАТ ЗА ПОСЛОВЕ ОДБРАНЕ, ВАНРЕДНИХ СИТУАЦИЈА, КОМУНИКАЦИЈЕ И КООРДИНАЦИЈУ ОДНОСА СА ГРАЂАНИМА","БЕОГРАД","","-","","","-","","501","09410",1,"09410","17565800",8411,16,0,100065430]
[40200,"ГРАД БЕОГРАД-ГУ СЕКРЕТАРИЈАТ ЗА УПРАВУ","БЕОГРАД","","-","","","-","","501","09560",1,"09560","17565800",8411,18,0,100065430]
[40200,"ГРАД БЕОГРАД-ГРАДОНАЧЕЛНИК ГРАДА БЕОГРАДА","БЕОГРАД","","-","","","-","","501","09745",1,"09745","17565800",8411,18,0,100065430]
[40200,"ГРАД БЕОГРАД - ЗАШТИТНИК ГРАЂАНА","БЕОГРАД","","-","","","-","","501","10042",1,"10042","17565800",8411,18,0,100065430]
[40200,"ГРАД БЕОГРАД - ГУ СЕКРЕТАРИЈАТ ЗА ЈАВНИ ПРЕВОЗ","БЕОГРАД","","-","","","-","","501","62158",1,"62158","17565800",8411,15,0,100065430]
[40200,"ГРАД БЕОГРАД - ГУ СЕКРЕТАРИЈАТ ЗА ЈАВНЕ ПРИХОДЕ","БЕОГРАД","","-","","","-","","501","62398",1,"62398","17565800",8411,18,0,100065430]
[40200,"ГРАД БЕОГРАД-ГУ СЕКРЕТАРИЈАТ ЗА СОЦИЈАЛНУ ЗАШТИТУ","БЕОГРАД","","-","","","-","","501","80314",1,"80314","17565800",8411,16,0,100065430]
[40200,"ГРАДСКИ ЦЕНТАР ЗА СОЦИЈАЛНО ПРЕДУЗЕТНИШТВО БЕОГРАДА","БЕОГРАД","840","-","0000000853661","661","-","42","501","84949",2,"80314","17845829",8899,18,1,107985253]
[40200,"ГРАД БЕОГРАД - ГУ СЕКРЕТАРИЈАТ ЗА ИНВЕСТИЦИЈЕ","БЕОГРАД","","-","","","-","","501","80316",1,"80316","17565800",8411,18,0,100065430]
[40200,"ЦЕНТАР ДЕЧИЈИХ ЛЕТОВАЛИШТА И ОПОРАВИЛИШТА ГРАДА БЕОГРАДА","БЕОГРАД","840","-","0000000256661","661","-","34","501","03597",2,"80986","07036205",8891,16,1,100268221]
[40200,"ПРЕДШКОЛСКА УСТАНОВА САВСКИ ВЕНАЦ","БЕОГРАД","840","-","0000000652661","661","-","90","501","03596",2,"80986","07036213",8891,16,1,102194741]
[40200,"ПРЕДШКОЛСКА УСТАНОВА ДЕЧЈИ ДАНИ","БЕОГРАД","840","-","0000000654661","661","-","07","501","03595",2,"80986","07061960",8891,18,1,101822594]
[40200,"ГРАД БЕОГРАД-ГУ СЕКРЕТАРИЈАТ ЗА ОБРАЗОВАЊЕ И ДЕЧИЈУ ЗАШТИТУ","БЕОГРАД","","-","","","-","","501","80986",1,"80986","17565800",8411,20,0,100065430]
[40200,"ГРАД БЕОГРАД-ГУ СЕКРЕТАРИЈАТ ЗА ЕНЕРГЕТИКУ","БЕОГРАД","","-","","","-","","501","91887",1,"91887","17565800",8411,15,0,100065430]
[40200,"СЛУЖБА ЗА ЦЕНТРАЛИЗОВАНЕ ЈАВНЕ НАБАВКЕ И КОНТРОЛУ НАБАВКИ","БЕОГРАД","","-","","","-","","501","92228",1,"92228","17565800",8411,15,0,100065430]
[40200,"СЛУЖБА ЗА БУЏЕТСКУ ИНСПЕКЦИЈУ","БЕОГРАД","","-","","","-","","501","92330",1,"92330","17565800",8411,15,0,100065430]
[40200,"СЛУЖБА ЗА ИНТЕРНУ РЕВИЗИЈУ ГРАДА БЕОГРАДА","БЕОГРАД","","-","","","-","","501","92331",1,"92331","17565800",8411,15,0,100065430]
[40200,"ГРАД БЕОГРАД - КАНЦЕЛАРИЈА ЗА МЛАДЕ","БЕОГРАД","","-","","","-","","501","92494",1,"92494","17565800",8411,16,0,100065430]
[40200,"ГРАД БЕОГРАД-ГРАДСКА ОПШТИНА СТАРИ ГРАД-БУЏЕТ","БЕОГРАД","840","-","0000000146640","640","-","06","018","04370",0,"04370","07027125",8411,18,0,102689765]
[40200,"ГРАДСКА ОПШТИНА СТАРИ ГРАД - УПРАВА ГРАДСКЕ ОПШТИНЕ","БЕОГРАД","","-","","","-","","018","04372",1,"04372","07027125",8411,18,0,102689765]
[40200,"УСТАНОВА КУЛТУРЕ ГРАДСКЕ ОПШТИНЕ СТАРИ ГРАД ПАРОБРОД","БЕОГРАД","840","-","0000001024664","664","-","66","018","80833",2,"04372","17791869",9003,18,1,106685299]
[40200,"ГРАДСКА ОПШТИНА СТАРИ ГРАД - СКУПШТИНА ГРАДСКЕ ОПШТИНЕ","БЕОГРАД","","-","","","-","","018","09580",1,"09580","07027125",8411,18,0,102689765]
[40200,"ГРАДСКА ОПШТИНА СТАРИ ГРАД - ПРЕДСЕДНИК И ВЕЋЕ ГРАДСКЕ ОПШТИНЕ","БЕОГРАД","","-","","","-","","018","09718",1,"09718","07027125",8411,18,0,102689765]
[40200,"ГРАДСКА ОПШТИНА СТАРИ ГРАД - ЈАВНО ПРАВОБРАНИЛАШТВО ГРАДСКЕ ОПШТИНЕ СТАРИ ГРАД","БЕОГРАД","","-","","","-","","018","92394",1,"92394","07027125",6910,18,0,102689765]
[40200,"ГРАД БЕОГРАД-ГРАДСКА ОПШТИНА САВСКИ ВЕНАЦ-БУЏЕТ","БЕОГРАД","840","-","0000000016640","640","-","66","016","04338",0,"04338","07031386",8411,16,0,102759230]
[40200,"МЕСНА ЗАЈЕДНИЦА ЗЕЛЕНИ ВЕНАЦ","БЕОГРАД","","-","","","-","","016","04344",2,"04339","07001681",8411,16,1,102759230]
[40200,"МЕСНА ЗАЈЕДНИЦА ГАВРИЛО ПРИНЦИП","БЕОГРАД","","-","","","-","","016","04341",2,"04339","07001690",8411,16,1,102759230]
[40200,"МЕСНА ЗАЈЕДНИЦА СЛОБОДАН ПЕНЕЗИЋ-КРЦУН","БЕОГРАД","","-","","","-","","016","04350",2,"04339","07001703",8411,16,1,102759230]
[40200,"МЕСНА ЗАЈЕДНИЦА ЗАПАДНИ ВРАЧАР","БЕОГРАД","","-","","","-","","016","04343",2,"04339","07001711",8411,16,1,102759230]
[40200,"МЕСНА ЗАЈЕДНИЦА СТЕВАН ФИЛИПОВИЋ","БЕОГРАД","","-","","","-","","016","04351",2,"04339","07001720",8411,16,1,102759230]
[40200,"МЕСНА ЗАЈЕДНИЦА ВОЈВОДА МИШИЋ","БЕОГРАД","","-","","","-","","016","04340",2,"04339","07001738",8411,16,1,102759230]
[40200,"МЕСНА ЗАЈЕДНИЦА ТОПЧИДЕРСКО БРДО - СЕЊАК","БЕОГРАД","","-","","","-","","016","04345",2,"04339","07001754",8411,16,1,102759230]
[40200,"МЕСНА ЗАЈЕДНИЦА 4. ЈУЛИ","БЕОГРАД","","-","","","-","","016","04349",2,"04339","07001762",8411,16,1,102759230]
[40200,"МЕСНА ЗАЈЕДНИЦА ДЕДИЊЕ","БЕОГРАД","","-","","","-","","016","04342",2,"04339","07001789",8411,16,1,102759230]
[40200,"ГРАДСКА ОПШТИНА САВСКИ ВЕНАЦ - ОПШТИНСКА УПРАВА","БЕОГРАД","","-","","","-","","016","04339",1,"04339","07031386",8411,16,0,102759230]
[40200,"ДЕЧИЈИ КУЛТУРНИ ЦЕНТАР МАЈДАН","БЕОГРАД","840","-","0000000912664","664","-","58","016","09960",2,"04339","17642359",8559,16,1,104279699]
[40200,"ТУРИСТИЧКА ОРГАНИЗАЦИЈА ГРАДСКЕ ОПШТИНЕ САВСКИ ВЕНАЦ","БЕОГРАД","840","-","0000001175664","664","-","56","016","60549",2,"04339","17888102",7990,16,1,109480582]
[40200,"ГРАДСКА ОПШТИНА САВСКИ ВЕНАЦ - СКУПШТИНА ГРАДСКЕ ОПШТИНЕ","БЕОГРАД","","-","","","-","","016","09433",1,"09433","07031386",8411,16,0,102759230]
[40200,"ГРАДСКА ОПШТИНА САВСКИ ВЕНАЦ - ПРЕДСЕДНИК ГРАДСКЕ ОПШТИНЕ","БЕОГРАД","","-","","","-","","016","09716",1,"09716","07031386",8411,16,0,102759230]
[40200,"ГРАДСКА ОПШТИНА САВСКИ ВЕНАЦ - ОПШТИНСКО ВЕЋЕ ГРАДСКЕ ОПШТИНЕ","БЕОГРАД","","-","","","-","","016","09717",1,"09717","07031386",8411,16,0,102759230]
[40200,"ЗАШТИТНИК ГРАЂАНА/ГРАЂАНКИ ГРАДСКЕ ОПШТИНЕ САВСКИ ВЕНАЦ","БЕОГРАД","","-","","","-","","016","66034",1,"66034","07031386",8411,16,0,102759230]
[40200,"ГРАДСКА ОПШТИНА САВСКИ ВЕНАЦ - ПРАВОБРАНИЛАШТВО ГО САВСКИ ВЕНАЦ","БЕОГРАД","","-","","","-","","016","96347",1,"96347","07031386",8411,16,0,102759230]
[40300,"КАЗНЕНО-ПОПРАВНИ ЗАВОД У БЕОГРАДУ - ПАДИНСКА СКЕЛА","БЕОГРАД","840","-","0000000864621","621","-","45","601","00010",2,"10311","17621467",8423,15,1,103696831]
[40300,"КАЗНЕНО-ПОПРАВНИ ЗАВОД У БЕОГРАДУ","БЕОГРАД","840","-","0000001153621","621","-","31","601","80922",2,"10311","17819801",8423,15,1,107082672]
[40300,"МУП - ПОЛИЦИЈСКА УПРАВА ЗА ГРАД БЕОГРАД","БЕОГРАД","840","-","0000000861621","621","-","24","601","00044",4,"10600","07008104",8424,15,0,100184116]
[40300,"ПРИРОДЊАЧКИ МУЗЕЈ","БЕОГРАД","840","-","0000000443664","664","-","73","601","02342",2,"11801","07010010",9102,20,1,100153979]
[40300,"РЕПУБЛИЧКИ ЗАВОД ЗА ЗАШТИТУ СПОМЕНИКА КУЛТУРЕ","БЕОГРАД","840","-","0000000517664","664","-","09","601","02358",2,"11801","07010028",9103,20,1,100291710]
[40300,"НАРОДНА БИБЛИОТЕКА СРБИЈЕ-УСТАНОВА КУЛТУРЕ ОД НАЦИОНАЛНОГ ЗНАЧАЈА","БЕОГРАД","840","-","0000000506664","664","-","29","601","02347",2,"11801","07010044",9101,20,1,102187749]
[40300,"АРХИВ СРБИЈЕ","БЕОГРАД","840","-","0000000075664","664","-","19","601","02351",2,"11801","07032706",9101,15,1,100207825]
[40300,"АНСАМБЛ НАРОДНИХ ИГАРА И ПЕСАМА СРБИЈЕ КОЛО","БЕОГРАД","840","-","0000000464664","664","-","26","601","02365",2,"11801","07032773",9003,15,1,101726857]
[40300,"ГАЛЕРИЈА УМЕТНОСТИ ПРИШТИНА","БЕОГРАД","840","-","0000000744664","664","-","46","601","02346",2,"11801","09033599",9329,316,1,102504945]
[40300,"УСТАНОВА ЗА НОВИНСКО ИЗДАВАЧКУ ДЕЛАТНОСТ ПАНОРАМА","БЕОГРАД","840","-","0000001162664","664","-","62","601","96389",2,"11801","17881523",5813,20,1,109119018]
[40300,"ЦЕНТАР ЗА ПОРОДИЧНИ СМЕШТАЈ И УСВОЈЕЊЕ БЕОГРАД","БЕОГРАД","840","-","0000000791661","661","-","93","601","80259",2,"13400","17738453",8899,20,1,105736939]
[40300,"ОСНОВНА ШКОЛА КРАЉ ПЕТАР II КАРАЂОРЂЕВИЋ","БЕОГРАД","840","-","0000001401660","660","-","98","601","00415",2,"13701","07004249",8520,20,1,100299366]
[40300,"ОСНОВНА ШКОЛА ЈОВАН МИОДРАГОВИЋ","БЕОГРАД","840","-","0000001395660","660","-","56","601","00411",2,"13701","07004257",8520,20,1,100289516]
[40300,"ОСНОВНА ШКОЛА СВЕТОЗАР МАРКОВИЋ","БЕОГРАД","840","-","0000001403660","660","-","15","601","00421",2,"13701","07004265",8520,20,1,100288907]
[40300,"ОСНОВНА ШКОЛА НХ СИНИША НИКОЛАЈЕВИЋ","БЕОГРАД","840","-","0000001402660","660","-","08","601","00416",2,"13701","07004281",8520,20,1,100293754]
[40300,"ОГЛЕДНА ОСНОВНА ШКОЛА ВЛАДИСЛАВ РИБНИКАР","БЕОГРАД","840","-","0000001783660","660","-","56","601","00397",2,"13701","07004290",8520,20,1,100158846]
[40300,"МУЗИЧКА ШКОЛА ЈОСИФ МАРИНКОВИЋ","БЕОГРАД","840","-","0000001390660","660","-","21","601","01608",2,"13701","07004303",8520,20,1,100295768]
[40300,"ОСНОВНА ШКОЛА НХ ДУШАН ДУГАЛИЋ","БЕОГРАД","840","-","0000001412660","660","-","78","601","01566",2,"13701","07004338",8520,20,1,101602245]
[40300,"ОСНОВНА ШКОЛА РАДЕ ДРАИНАЦ","БЕОГРАД","840","-","0000001791660","660","-","15","601","00400",2,"13701","07004346",8520,15,1,100254469]
[40300,"ОСНОВНА ШКОЛА ДР АРЧИБАЛД РАЈС","БЕОГРАД","840","-","0000001434660","660","-","38","601","00425",2,"13701","07004354",8520,15,1,100208088]
[40300,"ОСНОВНА ШКОЛА ВАСА ПЕЛАГИЋ","БЕОГРАД","840","-","0000001428660","660","-","93","601","00399",2,"13701","07004362",8520,15,1,101727920]
[40300,"ОСНОВНА ШКОЛА ОЛГА ПЕТРОВ","БЕОГРАД","840","-","0000001433660","660","-","31","601","00417",2,"13701","07004389",8520,15,1,101728272]
[40300,"ОСНОВНА ШКОЛА ЈОВАН ПОПОВИЋ","БЕОГРАД","840","-","0000001430660","660","-","10","601","00412",2,"13701","07004397",8520,15,1,101518081]
[40300,"ОСНОВНА ШКОЛА СТАРИНА НОВАК","БЕОГРАД","840","-","0000001429660","660","-","03","601","00422",2,"13701","07004419",8520,15,1,101520735]
[40300,"ОСНОВНА ШКОЛА ФИЛИП ВИШЊИЋ","БЕОГРАД","840","-","0000001456660","660","-","95","601","00427",2,"13701","07004427",8520,15,1,100210152]
[40300,"ОСНОВНА ШКОЛА ЈОВАН ЦВИЈИЋ","БЕОГРАД","840","-","0000001426660","660","-","79","601","00413",2,"13701","07004435",8520,15,1,100213209]
[40300,"ОСНОВНА ШКОЛА ВЛАДА АКСЕНТИЈЕВИЋ","БЕОГРАД","840","-","0000001427660","660","-","86","601","00402",2,"13701","07004443",8520,15,1,100245020]
[40300,"ОСНОВНА ШКОЛА ОСЛОБОДИОЦИ БЕОГРАДА","БЕОГРАД","840","-","0000001432660","660","-","24","601","00418",2,"13701","07004451",8520,15,1,100206068]
[40300,"ОСНОВНА ШКОЛА ЗАГА МАЛИВУК","БЕОГРАД","840","-","0000001424660","660","-","65","601","00407",2,"13701","07004460",8520,15,1,101726824]
[40300,"ОСНОВНА ШКОЛА СТЕВАН СРЕМАЦ","БЕОГРАД","840","-","0000001431660","660","-","17","601","00424",2,"13701","07004478",8520,15,1,100207702]
[40300,"ОСНОВНА ШКОЛА СТЕВАН ДУКИЋ","БЕОГРАД","840","-","0000001448660","660","-","39","601","00423",2,"13701","07004486",8520,15,1,100206654]
[40300,"ОСНОВНА ШКОЛА ВЕЉКО ДУГОШЕВИЋ","БЕОГРАД","840","-","0000001462660","660","-","40","601","00401",2,"13701","07004702",8520,22,1,100032528]
[40300,"ОСНОВНА ШКОЛА ЈЕЛЕНА ЋЕТКОВИЋ","БЕОГРАД","840","-","0000001450660","660","-","53","601","00410",2,"13701","07004761",8520,22,1,100003523]
[40300,"ОСНОВНА ШКОЛА ДРАГОЈЛО ДУДИЋ","БЕОГРАД","840","-","0000001460660","660","-","26","601","00406",2,"13701","07004788",8520,22,1,101718865]
[40300,"ОСНОВНА ШКОЛА ВЛАДИСЛАВ ПЕТКОВИЋ-ДИС","БЕОГРАД","840","-","0000001459660","660","-","19","601","00403",2,"13701","07004796",8520,22,1,100025086]
[40300,"ОСНОВНА МУЗИЧКА ШКОЛА ВЛАДИМИР ЂОРЂЕВИЋ","БЕОГРАД","840","-","0000001461660","660","-","33","601","01607",2,"13701","07004842",8520,22,1,100132724]
[40300,"ОСНОВНА ШКОЛА ИВАН ГОРАН КОВАЧИЋ","БЕОГРАД","840","-","0000001458660","660","-","12","601","00408",2,"13701","07009763",8520,22,1,101990159]
[40300,"ОСНОВНА ШКОЛА БОШКО БУХА","БЕОГРАД","840","-","0000001472660","660","-","13","601","01565",2,"13701","07014686",8520,22,1,101148925]
[40300,"ОСНОВНА ШКОЛА СВЕТИ САВА БЕОГРАД","БЕОГРАД","840","-","0000001400660","660","-","91","601","00420",2,"13701","07018843",8520,20,1,100292665]
[40300,"ОСНОВНА ШКОЛА МАРИЈА БУРСАЋ","БЕОГРАД","840","-","0000001457660","660","-","05","601","00414",2,"13701","07041462",8520,22,1,101850706]
[40300,"ШКОЛА ЗА ОСНОВНО ОБРАЗОВАЊЕ ОДРАСЛИХ БРАЋА СТАМЕНКОВИЋ","БЕОГРАД","840","-","0000001788660","660","-","91","601","01664",2,"13701","07042191",8559,15,1,101853942]
[40300,"ОСНОВНА ШКОЛА ДЕСАНКА МАКСИМОВИЋ","БЕОГРАД","840","-","0000001471660","660","-","06","601","00404",2,"13701","07042213",8520,22,1,101553172]
[40300,"ОСНОВНА ШКОЛА ИВАН МИЛУТИНОВИЋ","БЕОГРАД","840","-","0000001750660","660","-","19","601","00409",2,"13701","07049846",8520,15,1,100123522]
[40300,"ОСНОВНА ШКОЛА ПАВЛЕ САВИЋ НОВО МИРИЈЕВО","БЕОГРАД","840","-","0000001908660","660","-","58","601","00419",2,"13701","17053884",8520,22,1,101723189]
[40300,"ОСНОВНА ШКОЛА 1300 КАПЛАРА","БЕОГРАД","840","-","0000001927660","660","-","94","601","00398",2,"13701","17415450",8520,22,1,101468398]
[40300,"ОСНОВНА ШКОЛА ДЕСПОТ СТЕФАН ЛАЗАРЕВИЋ","БЕОГРАД","840","-","0000002011660","660","-","03","601","00405",2,"13701","17417908",8520,22,1,100008060]
[40300,"ОСНОВНА ШКОЛА ЋИРИЛО И МЕТОДИЈЕ","БЕОГРАД","840","-","0000001929660","660","-","11","601","00426",2,"13701","17417916",8520,22,1,100004702]
[40300,"ОСНОВНА ШКОЛА ЈОВАН РИСТИЋ","БЕОГРАД","840","-","0000002112660","660","-","31","601","80849",2,"13701","17795511",8520,15,1,106746517]
[40300,"ОСНОВНА ШКОЛА МИЛЕНА ПАВЛОВИЋ БАРИЛИ","БЕОГРАД","840","-","0000002120660","660","-","87","601","80991",2,"13701","17840053",8520,15,1,107654201]
[40300,"ОСНОВНА ШКОЛА КРАЉИЦА МАРИЈА","БЕОГРАД","840","-","0000002122660","660","-","04","601","92111",2,"13701","17856669",8520,15,1,108629644]
[40300,"МУЗИЧКА ШКОЛА ЈОСИП СЛАВЕНСКИ","БЕОГРАД","840","-","0000001020660","660","-","50","601","01814",2,"13702","07001908",8532,20,1,100160200]
[40300,"МУЗИЧКА ШКОЛА МОКРАЊАЦ","БЕОГРАД","840","-","0000001392660","660","-","35","601","01815",2,"13702","07004311",8532,15,1,101511540]
[40300,"ХIV БЕОГРАДСКА ГИМНАЗИЈА","БЕОГРАД","840","-","0000001397660","660","-","70","601","01681",2,"13702","07004320",8531,20,1,100279813]
[40300,"ЕЛЕКТРОТЕХНИЧКА ШКОЛА РАДЕ КОНЧАР","БЕОГРАД","840","-","0000001587660","660","-","42","601","01810",2,"13702","07004494",8532,15,1,101727430]
[40300,"ПЕТА БЕОГРАДСКА ГИМНАЗИЈА","БЕОГРАД","840","-","0000001425660","660","-","72","601","01678",2,"13702","07004508",8531,15,1,101521096]
[40300,"ГЕОДЕТСКА ТЕХНИЧКА ШКОЛА","БЕОГРАД","840","-","0000001470660","660","-","96","601","01807",2,"13702","07004826",8532,22,1,101721861]
[40300,"МЕДИЦИНСКА ШКОЛА БЕОГРАД","БЕОГРАД","840","-","0000001473660","660","-","20","601","01813",2,"13702","07014643",8532,22,1,100029516]
[40300,"ШКОЛА ЗА МАШИНСТВО И УМЕТНИЧКЕ ЗАНАТЕ ТЕХНОАРТ БЕОГРАД","БЕОГРАД","840","-","0000001858660","660","-","96","601","01812",2,"13702","07014651",8532,22,1,101715742]
[40300,"ТРЕЋА БЕОГРАДСКА ГИМНАЗИЈА","БЕОГРАД","840","-","0000001646660","660","-","67","601","01680",2,"13702","07018860",8531,20,1,100290203]
[40300,"ТЕХНИЧКА ШКОЛА ГСП","БЕОГРАД","840","-","0000001630660","660","-","52","601","01818",2,"13702","07018878",8532,20,1,100157484]
[40300,"ЖЕЛЕЗНИЧКО-ТЕХНИЧКА ШКОЛА БЕОГРАД","БЕОГРАД","840","-","0000001837660","660","-","46","601","01811",2,"13702","07032463",8532,15,1,100210499]
[40300,"ПОЉОПРИВРЕДНА ШКОЛА СА ДОМОМ УЧЕНИКА ПК БЕОГРАД","БЕОГРАД","840","-","0000001857660","660","-","89","601","01816",2,"13702","07043309",8532,15,1,100254975]
[40300,"ШЕСТА БЕОГРАДСКА ГИМНАЗИЈА","БЕОГРАД","840","-","0000001836660","660","-","39","601","01682",2,"13702","07076843",8531,22,1,100027643]
[40300,"ГРАЂЕВИНСКА ТЕХНИЧКА ШКОЛА БРАНКО ЖЕЖЕЉ","БЕОГРАД","840","-","0000001841660","660","-","74","601","01808",2,"13702","07078625",8532,22,1,100027008]
[40300,"ГРАЂЕВИНСКА ШКОЛА БЕОГРАД","БЕОГРАД","840","-","0000001843660","660","-","88","601","01809",2,"13702","07078633",8532,22,1,101150068]
[40300,"АРХИТЕКТОНСКА ТЕХНИЧКА ШКОЛА","БЕОГРАД","840","-","0000001842660","660","-","81","601","01806",2,"13702","07078641",8532,22,1,102079710]
[40300,"СЕДМА БЕОГРАДСКА ГИМНАЗИЈА","БЕОГРАД","840","-","0000001923660","660","-","66","601","01679",2,"13702","17409336",8531,22,1,100032938]
[40300,"СРЕДЊА ТЕХНИЧКА ПТТ ШКОЛА","БЕОГРАД","840","-","0000002047660","660","-","61","601","01817",2,"13702","17459139",8532,15,1,102706478]
[40300,"ФАРМАЦЕУТСКО-ФИЗИОТЕРАПЕУТСКА ШКОЛА","БЕОГРАД","840","-","0000002049660","660","-","75","601","01819",2,"13702","17482076",8532,22,1,102830030]
[40300,"ДОМ УЧЕНИКА СРЕДЊЕ ЖЕЛЕЗНИЧКЕ ШКОЛЕ","БЕОГРАД","840","-","0000000612661","661","-","04","601","02149",2,"13703","07077718",5590,15,1,101879558]
[40300,"ДОМ УЧЕНИКА СРЕДЊИХ ШКОЛА ЈЕЛИЦА МИЛОВАНОВИЋ БЕОГРАД","БЕОГРАД","840","-","0000000663661","661","-","70","601","02151",2,"13703","07444028",5590,20,1,100158071]
[40300,"ДОМ УЧЕНИКА СРЕДЊИХ ШКОЛА","БЕОГРАД","840","-","0000000653661","661","-","97","601","02148",2,"13703","07453906",5590,22,1,100131901]
[40300,"ДОМ УЧЕНИКА СРЕДЊЕ ПТТ ШКОЛЕ","БЕОГРАД","840","-","0000000705661","661","-","73","601","02150",2,"13703","17459147",5590,15,1,102693202]
[40300,"ГРАЂЕВИНСКИ ФАКУЛТЕТ УНИВЕРЗИТЕТА У БЕОГРАДУ","БЕОГРАД","840","-","0000001437660","660","-","59","601","02238",2,"13704","07006454",8542,15,1,100251144]
[40300,"ВИСОКА ЖЕЛЕЗНИЧКА ШКОЛА СТРУКОВНИХ СТУДИЈА","БЕОГРАД","840","-","0000001447660","660","-","32","601","02184",2,"13704","07032471",8542,15,1,100123346]
[40300,"АРХИТЕКТОНСКИ ФАКУЛТЕТ УНИВЕРЗИТЕТА У БЕОГРАДУ","БЕОГРАД","840","-","0000001436660","660","-","52","601","02237",2,"13704","07032480",8542,15,1,100252129]
[40300,"ЕЛЕКТРОТЕХНИЧКИ ФАКУЛТЕТ УНИВЕРЗИТЕТА У БЕОГРАДУ","БЕОГРАД","840","-","0000001438660","660","-","66","601","02239",2,"13704","07032498",8542,15,1,100206130]
[40300,"МАШИНСКИ ФАКУЛТЕТ УНИВЕРЗИТЕТА У БЕОГРАДУ","БЕОГРАД","840","-","0000001876660","660","-","28","601","02241",2,"13704","07032501",8542,15,1,100209517]
[40300,"ТЕХНОЛОШКО-МЕТАЛУРШКИ ФАКУЛТЕТ УНИВЕРЗИТЕТА У БЕОГРАДУ","БЕОГРАД","840","-","0000001441660","660","-","87","601","02243",2,"13704","07032552",8542,15,1,100123813]
[40300,"ПРАВНИ ФАКУЛТЕТ УНИВЕРЗИТЕТА У БЕОГРАДУ","БЕОГРАД","840","-","0000001439660","660","-","73","601","02277",2,"13704","07032579",8542,15,1,101729152]
[40300,"ЗАВОД ЗА ФИЗИКУ ТЕХНИЧКИХ ФАКУЛТЕТА УНИВЕРЗИТЕТА У БЕОГРАДУ","БЕОГРАД","840","-","0000001442660","660","-","94","601","02240",2,"13704","07032595",8542,15,1,100208342]
[40300,"УНИВЕРЗИТЕТСКА БИБЛИОТЕКА СВЕТОЗАР МАРКОВИЋ","БЕОГРАД","840","-","0000000471664","664","-","75","601","03631",2,"13704","07032714",9101,15,1,101728060]
[40300,"ВИСОКА ТЕКСТИЛНА СТРУКОВНА ШКОЛА ЗА ДИЗАЈН, ТЕХНОЛОГИЈУ И МЕНАНЏМЕНТ У БЕОГРАДУ","БЕОГРАД","840","-","0000001856660","660","-","82","601","02185",2,"13704","07039808",8542,15,1,100252153]
[40300,"РУДАРСКО-ГЕОЛОШКИ ФАКУЛТЕТ УНИВЕРЗИТЕТА У БЕОГРАДУ","БЕОГРАД","840","-","0000001812660","660","-","65","601","02242",2,"13704","07045735",8542,15,1,100206244]
[40300,"ВИСОКА ШКОЛА ЛИКОВНИХ И ПРИМЕЊЕНИХ УМЕТНОСТИ СТРУКОВНИХ СТУДИЈА У БЕОГРАДУ","БЕОГРАД","840","-","0000001865660","660","-","48","601","02222",2,"13704","07061633",8542,22,1,101816294]
[40300,"БЕОГРАДСКА ПОСЛОВНА ШКОЛА - ВИСОКА ШКОЛА СТРУКОВНИХ СТУДИЈА","БЕОГРАД","840","-","0000001875660","660","-","21","601","02178",2,"13704","07451920",8542,22,1,100005375]
[40300,"ВИСОКА ГРАЂЕВИНСКО-ГЕОДЕТСКА ШКОЛА СТРУКОВНИХ СТУДИЈА","БЕОГРАД","840","-","0000001918660","660","-","31","601","02183",2,"13704","17150570",8542,22,1,100005367]
[40300,"ВИСОКА ШКОЛА СТРУКОВНИХ СТУДИЈА ЗА ИНФОРМАЦИОНЕ И КОМУНИКАЦИОНЕ ТЕХНОЛОГИЈЕ У БЕОГРАДУ","БЕОГРАД","840","-","0000002048660","660","-","68","601","02186",2,"13704","17459023",8542,15,1,102693219]
[40300,"УНИВЕРЗИТЕТ У БЕОГРАДУ - ПРАВОСЛАВНИ БОГОСЛОВСКИ ФАКУЛТЕТ","БЕОГРАД","840","-","0000002071660","660","-","35","601","09629",2,"13704","17569961",8542,15,1,103503783]
[40300,"ЈАВНО ПРЕДУЗЕЋЕ ПУТЕВИ СРБИЈЕ","БЕОГРАД","840","-","0000001189664","664","-","57","601","11001",6,"14810","20132248",4211,22,1,104260456]
[40300,"ИНФОРМАЦИОНО-КОМУНИКАЦИОНА УСТАНОВА АКАДЕМСКА МРЕЖА РЕПУБЛИКЕ СРБИЈЕ - АМРЕС","БЕОГРАД","840","-","0000001044664","664","-","12","601","80927",6,"14830","17805142",6110,22,1,107138471]
[40300,"РЕПУБЛИЧКА ДИРЕКЦИЈА ЗА РОБНЕ РЕЗЕРВЕ","БЕОГРАД","","-","","","-","","601","43400",1,"43400","07001452",8411,15,0,102199721]
[40300,"БЕОГРАД-2 ВОЈНА УСТАНОВА ЗА ОДРЖАВАЊЕ ЗГРАДА И СТАНОВА","БЕОГРАД","840","-","0000001199664","664","-","30","601","03558",6,"61040","17864947",4120,15,1,108341420]
[40300,"ЗАВОД ЗА ЗДРАВСТВЕНУ ЗАШТИТУ СТУДЕНАТА","БЕОГРАД","840","-","0000000485661","661","-","85","601","02406",2,"95000","07010117",8621,20,3,100281358]
[40300,"ДОМ ЗДРАВЉА ЗВЕЗДАРА","БЕОГРАД","840","-","0000000611661","661","-","94","601","02405",2,"95000","07016999",8621,22,3,100133493]
[40300,"КЛИНИЧКО БОЛНИЧКИ ЦЕНТАР ЗВЕЗДАРА","БЕОГРАД","840","-","0000000634661","661","-","61","601","02534",2,"95000","07017073",8610,22,3,101468937]
[40300,"ГРАДСКИ ЗАВОД ЗА ПЛУЋНЕ БОЛЕСТИ И ТУБЕРКУЛОЗУ","БЕОГРАД","840","-","0000000506661","661","-","38","601","02402",2,"95000","07017120",8622,22,3,100031970]
[40300,"ДОМ ЗДРАВЉА ВРАЧАР","БЕОГРАД","840","-","0000000616661","661","-","32","601","02403",2,"95000","07018967",8621,20,3,100290140]
[40300,"ИНСТИТУТ ЗА ТРАНСФУЗИЈУ КРВИ СРБИЈЕ","БЕОГРАД","840","-","0000000632661","661","-","47","601","02612",2,"95000","07019025",8690,20,3,100300028]
[40300,"АПОТЕКА БЕОГРАД","БЕОГРАД","840","-","0000000668661","661","-","08","601","02617",2,"95000","07019084",4773,20,3,100000580]
[40300,"ДОМ ЗДРАВЉА ДР МИЛУТИН ИВКОВИЋ","БЕОГРАД","840","-","0000000628661","661","-","19","601","02404",2,"95000","07036965",8621,15,3,100123514]
[40300,"НАЦИОНАЛНА СЛУЖБА ЗА ЗАПОШЉАВАЊЕ-АКТИВНЕ МЕРЕ ЗА ЗАПОШЉАВАЊЕ","КРАГУЈЕВАЦ","840","-","0000000030654","654","-","25","601","09588",4,"95400","17539957",8430,49,0,103277483]
[40300,"НАЦИОНАЛНА СЛУЖБА ЗА ЗАПОШЉАВАЊЕ","КРАГУЈЕВАЦ","840","-","0000000018654","654","-","38","601","95400",1,"95400","17539957",8430,49,4,103277483]
[40300,"ФОНД ЗА ПРОТИВПОЖАРНУ ЗАШТИТУ БЕОГРАД","БЕОГРАД","","-","","","-","","501","03621",2,"09394","07449500",8411,22,1,101149792]
[40300,"МУЗЕЈ НИКОЛЕ ТЕСЛЕ","БЕОГРАД","840","-","0000000555664","664","-","81","501","03628",2,"09401","07010001",9102,20,1,100293019]
[40300,"БЕОГРАДСКО ДРАМСКО ПОЗОРИШТЕ","БЕОГРАД","840","-","0000000564664","664","-","47","501","03625",2,"09401","07010079",9004,20,1,100153874]
[40300,"ЦЕНТАР ЗА ЛИКОВНО ОБРАЗОВАЊЕ","БЕОГРАД","840","-","0000000438664","664","-","38","501","03632",2,"09401","07018886",8559,20,1,101601390]
[40300,"БИБЛИОТЕКА МИЛУТИН БОЈИЋ","БЕОГРАД","840","-","0000000461664","664","-","05","501","03629",2,"09401","07032722",9101,15,1,100216029]
[40300,"МАЛО ПОЗОРИШТЕ ДУШКО РАДОВИЋ","БЕОГРАД","840","-","0000000516664","664","-","02","501","03627",2,"09401","07032765",9001,15,1,100252993]
[40300,"ПОЗОРИШТЕ ЗВЕЗДАРА ТЕАТАР - УСТАНОВА КУЛТУРЕ ОД НАЦИОНАЛНОГ ЗНАЧАЈА","БЕОГРАД","840","-","0000000601664","664","-","15","501","03630",2,"09401","07442912",9004,22,1,100005535]
[40300,"ОМЛАДИНСКО ПОЗОРИШТЕ ДАДОВ","БЕОГРАД","840","-","0000000987664","664","-","98","501","80360",2,"09401","07771550",9001,20,1,100289723]
[40300,"ДЕЧИЈИ КУЛТУРНИ ЦЕНТАР БЕОГРАД","БЕОГРАД","840","-","0000000613664","664","-","02","501","03626",2,"09401","17074563",9003,15,1,100247357]
[40300,"БЕЛЕФ ЦЕНТАР - УСТАНОВА КУЛТУРЕ - У ЛИКВИДАЦИЈИ","БЕОГРАД","","-","","","-","","501","09631",2,"09401","17571630",9004,20,1,103516729]
[40300,"УСТАНОВА КУЛТУРЕ ВУК СТЕФАНОВИЋ КАРАЏИЋ","БЕОГРАД","840","-","0000001093664","664","-","64","501","94337",2,"09401","17860607",9004,22,1,108937591]
[40300,"ПРЕДШКОЛСКА УСТАНОВА ЗВЕЗДАРА","БЕОГРАД","840","-","0000000651661","661","-","83","501","03624",2,"80986","07007876",8891,22,1,101717300]
[40300,"ПРЕДШКОЛСКА УСТАНОВА ВРАЧАР","БЕОГРАД","840","-","0000000664661","661","-","77","501","03623",2,"80986","07019149",8891,20,1,100160808]
[40300,"ПРЕДШКОЛСКА УСТАНОВА БОШКО БУХА ПАЛИЛУЛА","БЕОГРАД","840","-","0000000655661","661","-","14","501","03622",2,"80986","07036337",8891,15,1,100213135]
[40300,"ГРАД БЕОГРАД - ГРАДСКА ОПШТИНА ЗВЕЗДАРА - БУЏЕТ","БЕОГРАД","840","-","0000000132640","640","-","05","022","04424",0,"04424","07004656",8411,22,0,101468873]
[40300,"УПРАВА ГРАДСКЕ ОПШТИНЕ ЗВЕЗДАРА","БЕОГРАД","","-","","","-","","022","04428",1,"04428","07004656",8411,22,0,101468873]
[40300,"МЕСНА ЗАЈЕДНИЦА ЗВЕЗДАРА","БЕОГРАД","840","-","0000002041645","645","-","64","022","04429",2,"04428","07011130",8411,22,1,101468568]
[40300,"СКУПШТИНА ГРАДСКЕ ОПШТИНЕ ЗВЕЗДАРА","БЕОГРАД","","-","","","-","","022","92265",1,"92265","07004656",8411,22,0,101468873]
[40300,"ПРЕДСЕДНИК ГРАДСКЕ ОПШТИНЕ ЗВЕЗДАРА","БЕОГРАД","","-","","","-","","022","92266",1,"92266","07004656",8411,22,0,101468873]
[40300,"ВЕЋЕ ГРАДСКЕ ОПШТИНЕ ЗВЕЗДАРА","БЕОГРАД","","-","","","-","","022","92267",1,"92267","07004656",8411,22,0,101468873]
[40300,"ОПШТИНСКО ПРАВОБРАНИЛАШТВО ГРАДСКЕ ОПШТИНЕ ЗВЕЗДАРА","БЕОГРАД","","-","","","-","","022","92268",1,"92268","07004656",6910,22,0,101468873]
[40300,"ГРАД БЕОГРАД-ГРАДСКА ОПШТИНА ВРАЧАР-БУЏЕТ","БЕОГРАД","840","-","0000000097640","640","-","51","020","04401",0,"04401","07013183",8411,20,0,101989714]
[40300,"ГРАДСКА ОПШТИНА ВРАЧАР - УПРАВА ГРАДСКЕ ОПШТИНЕ","БЕОГРАД","","-","","","-","","020","04404",1,"04404","07013183",8411,20,0,101989714]
[40300,"ГРАДСКА ОПШТИНА ВРАЧАР - СКУПШТИНА ГРАДСКЕ ОПШТИНЕ","БЕОГРАД","","-","","","-","","020","09723",1,"09723","07013183",8411,20,0,101989714]
[40300,"ПРЕДСЕДНИК ГРАДСКЕ ОПШТИНЕ ВРАЧАР","БЕОГРАД","","-","","","-","","020","91496",1,"91496","07013183",8411,20,0,101989714]
[40300,"ВЕЋЕ ГРАДСКЕ ОПШТИНЕ ВРАЧАР","БЕОГРАД","","-","","","-","","020","91497",1,"91497","07013183",8411,20,0,101989714]
[40300,"ОПШТИНСКО ПРАВОБРАНИЛАШТВО ГРАДСКЕ ОПШТИНЕ ВРАЧАР","БЕОГРАД","","-","","","-","","020","91498",1,"91498","07013183",8423,20,0,101989714]
[40300,"ЗАШТИТНИК/ЗАШТИТНИЦА ГРАЂАНА/ГРАЂАНКИ ГРАДСКЕ ОПШТИНЕ ВРАЧАР","БЕОГРАД","","-","","","-","","020","91499",1,"91499","07013183",8411,20,0,101989714]
[40300,"ГРАД БЕОГРАД-ГРАДСКА ОПШТИНА ПАЛИЛУЛА-БУЏЕТ","БЕОГРАД","840","-","0000000126640","640","-","60","015","04312",0,"04312","07025629",8411,15,0,102327937]
[40300,"УПРАВА ГРАДСКE ОПШТИНE ПАЛИЛУЛА","БЕОГРАД","","-","","","-","","015","04313",1,"04313","07025629",8411,15,0,102327937]
[40300,"ЦЕНТАР ЗА КУЛТУРУ ВЛАДА ДИВЉАН","БЕОГРАД","840","-","0000001165664","664","-","83","015","96404",2,"04313","17698672",9004,15,1,105202498]
[40300,"СКУПШТИНА ГРАДСКЕ ОПШТИНЕ ПАЛИЛУЛА","БЕОГРАД","","-","","","-","","015","04314",1,"04314","07025629",8411,15,0,102327937]
[40300,"ВЕЋЕ ГРАДСКЕ ОПШТИНЕ ПАЛИЛУЛА","БЕОГРАД","","-","","","-","","015","91106",1,"91106","07025629",8411,15,0,102327937]
[40300,"ПРЕДСЕДНИК ГРАДСКЕ ОПШТИНЕ ПАЛИЛУЛА","БЕОГРАД","","-","","","-","","015","91107",1,"91107","07025629",8411,15,0,102327937]
[40300,"ОПШТИНСКО ПРАВОБРАНИЛАШТВО ГРАДСКЕ ОПШТИНЕ ПАЛИЛУЛА","БЕОГРАД","","-","","","-","","015","92414",1,"92414","07025629",6910,15,0,102327937]
[40330,"ОСНОВНА ШКОЛА НИКОЛА ТЕСЛА","ГРОЦКА","840","-","0000001467660","660","-","75","601","00433",2,"13701","07035209",8520,12,1,101552900]
[40330,"ОСНОВНА ШКОЛА ИВО ЛОЛА РИБАР","ГРОЦКА","840","-","0000001465660","660","-","61","601","00430",2,"13701","07035217",8520,12,1,101185930]
[40330,"ОСНОВНА ШКОЛА СВЕТИ САВА ВРЧИН","ГРОЦКА","840","-","0000001468660","660","-","82","601","00431",2,"13701","07035233",8520,12,1,101953139]
[40330,"ОСНОВНА ШКОЛА ИЛИЈА ГАРАШАНИН","ГРОЦКА","840","-","0000001464660","660","-","54","601","00429",2,"13701","07035241",8520,12,1,101181090]
[40330,"ОСНОВНА ШКОЛА МИЋА СТОЈКОВИЋ УМЧАРИ","ГРОЦКА","840","-","0000001490660","660","-","42","601","00432",2,"13701","07048084",8520,12,1,101953147]
[40330,"ОСНОВНА ШКОЛА АЛЕКСА ШАНТИЋ","ГРОЦКА","840","-","0000001853660","660","-","61","601","00428",2,"13701","07089104",8520,12,1,101187082]
[40330,"ОСНОВНА МУЗИЧКА ШКОЛА НЕВЕНА ПОПОВИЋ","ГРОЦКА","840","-","0000001911660","660","-","79","601","01609",2,"13701","17057979",8520,12,1,101848115]
[40330,"ОСНОВНА ШКОЛА МИЛОЈЕ ВАСИЋ","ГРОЦКА","840","-","0000002113660","660","-","38","601","80886",2,"13701","17796577",8520,12,1,106906904]
[40330,"СРЕДЊА ШКОЛА ГРОЦКА","ГРОЦКА","840","-","0000001466660","660","-","68","601","01820",2,"13702","07035195",8532,12,1,101848107]
[40330,"ДОМ ЗДРАВЉА ГРОЦКА","ГРОЦКА","840","-","0000000607661","661","-","66","601","02407",2,"95000","07047649",8621,12,3,101187363]
[40330,"ПРЕДШКОЛСКА УСТАНОВА ЛАНЕ","ГРОЦКА","840","-","0000000517661","661","-","18","501","03633",2,"80986","07035152",8891,12,1,101182214]
[40330,"ГРАД БЕОГРАД-ГРАДСКА ОПШТИНА ГРОЦКА-БУЏЕТ","ГРОЦКА","840","-","0000000137640","640","-","40","012","04226",0,"04226","07030495",8411,12,0,101552934]
[40330,"МЕСНА ЗАЈЕДНИЦА ГРОЦКА","ГРОЦКА","","-","","","-","","012","04233",2,"04229","07007566",8411,12,1,101878401]
[40330,"УПРАВА ГРАДСКЕ ОПШТИНЕ ГРОЦКА","ГРОЦКА","","-","","","-","","012","04229",1,"04229","07030495",8411,12,0,101552934]
[40330,"МЕСНА ЗАЈЕДНИЦА ВРЧИН","ГРОЦКА","","-","","","-","","012","04239",2,"04229","07030509",8411,12,1,101188171]
[40330,"МЕСНА ЗАЈЕДНИЦА ЛЕШТАНЕ","ГРОЦКА","","-","","","-","","012","04244",2,"04229","07030517",8411,12,1,102166029]
[40330,"МЕСНА ЗАЈЕДНИЦА БЕГАЉИЦА","ГРОЦКА","","-","","","-","","012","04235",2,"04229","07030525",8411,12,1,101553121]
[40330,"МЕСНА ЗАЈЕДНИЦА ПУДАРЦИ","ГРОЦКА","","-","","","-","","012","04245",2,"04229","07030533",8411,12,1,101188155]
[40330,"МЕСНА ЗАЈЕДНИЦА БРЕСТОВИК","ГРОЦКА","","-","","","-","","012","04237",2,"04229","07044615",8411,12,1,101188139]
[40330,"МЕСНА ЗАЈЕДНИЦА ДРАЖАЊ","ГРОЦКА","","-","","","-","","012","04240",2,"04229","07047762",8411,12,1,101188309]
[40330,"МЕСНА ЗАЈЕДНИЦА РИТОПЕК","ГРОЦКА","840","-","0000001101645","645","-","80","012","04246",2,"04229","07047789",8411,12,1,101188243]
[40330,"МЕСНА ЗАЈЕДНИЦА УМЧАРИ","ГРОЦКА","","-","","","-","","012","04247",2,"04229","07048025",8411,12,1,102166012]
[40330,"МЕСНА ЗАЈЕДНИЦА ЖИВКОВАЦ","ГРОЦКА","","-","","","-","","012","04241",2,"04229","07048564",8411,12,1,101188317]
[40330,"МЕСНА ЗАЈЕДНИЦА ГОЛУБАН ПАУНОВИЋ КАМЕНДОЛ","ГРОЦКА","","-","","","-","","012","04234",2,"04229","07050925",8411,12,1,101188163]
[40330,"МЕСНА ЗАЈЕДНИЦА ЗАКЛОПАЧА","ГРОЦКА","","-","","","-","","012","04242",2,"04229","07051948",8411,12,1,101188294]
[40330,"МЕСНА ЗАЈЕДНИЦА БОЛЕЧ","ГРОЦКА","","-","","","-","","012","04236",2,"04229","07052707",8411,12,1,101188147]
[40330,"МЕСНА ЗАЈЕДНИЦА ВИНЧА","ГРОЦКА","","-","","","-","","012","04238",2,"04229","07055137",8411,12,1,101553017]
[40330,"МЕСНА ЗАЈЕДНИЦА КАЛУЂЕРИЦА","ГРОЦКА","","-","","","-","","012","04243",2,"04229","07076827",8411,12,1,101188122]
[40330,"ЦЕНТАР ЗА КУЛТУРУ ГРОЦКА","ГРОЦКА","840","-","0000000932664","664","-","04","012","80053",2,"04229","17673939",9004,12,1,104700125]
[40330,"ПРЕДСЕДНИК ГРАДСКЕ ОПШТИНЕ ГРОЦКА","ГРОЦКА","","-","","","-","","012","91995",1,"91995","07030495",8411,12,0,101552934]
[40330,"СКУПШТИНА ГРАДСКЕ ОПШТИНЕ ГРОЦКА","ГРОЦКА","","-","","","-","","012","91996",1,"91996","07030495",8411,12,0,101552934]
[40330,"ВЕЋЕ ГРАДСКЕ ОПШТИНЕ ГРОЦКА","ГРОЦКА","","-","","","-","","012","91997",1,"91997","07030495",8411,12,0,101552934]
[40330,"ОПШТИНСКО ПРАВОБРАНИЛАШТВО ГРАДСКЕ ОПШТИНЕ ГРОЦКА","ГРОЦКА","","-","","","-","","012","96415",1,"96415","07030495",8411,12,0,101552934]
[40600,"УСТАНОВА ЗА ДЕЦУ И МЛАДЕ СРЕМЧИЦА","БЕОГРАД","840","-","0000000444661","661","-","89","601","00172",2,"13400","07037317",8790,11,1,102475457]
[40600,"ОСНОВНА ШКОЛА МИЛОШ ЦРЊАНСКИ","БЕОГРАД","840","-","0000001904660","660","-","30","601","00453",2,"13701","06042988",8520,11,1,101032259]
[40600,"ОСНОВНА ШКОЛА ВУК КАРАЏИЋ СРЕМЧИЦА","БЕОГРАД","840","-","0000001905660","660","-","37","601","00442",2,"13701","06193021",8520,11,1,100115395]
[40600,"ОСНОВНА ШКОЛА ПАВЛЕ ПОПОВИЋ ВРАНИЋ","БЕОГРАД","840","-","0000001285660","660","-","62","601","00455",2,"13701","07001185",8520,10,1,100141791]
[40600,"ОСНОВНА ШКОЛА ИВО АНДРИЋ","БЕОГРАД","840","-","0000001796660","660","-","50","601","00447",2,"13701","07003960",8520,11,1,102185984]
[40600,"ОСНОВНА ШКОЛА ФРАНЦЕ ПРЕШЕРН","БЕОГРАД","840","-","0000001011660","660","-","84","601","00458",2,"13701","07003978",8520,11,1,102150091]
[40600,"ОСНОВНА ШКОЛА ЂУРА ЈАКШИЋ","БЕОГРАД","840","-","0000001269660","660","-","47","601","00446",2,"13701","07003986",8520,11,1,101991895]
[40600,"ОСНОВНА ШКОЛА НИКОЛА ТЕСЛА","БЕОГРАД","840","-","0000001262660","660","-","95","601","00454",2,"13701","07003994",8520,11,1,100226248]
[40600,"ОСНОВНА ШКОЛА 14. ОКТОБАР КНЕЖЕВАЦ","БЕОГРАД","840","-","0000001266660","660","-","26","601","00434",2,"13701","07004001",8520,120,1,100173206]
[40600,"ОСНОВНА ШКОЛА КОСТА АБРАШЕВИЋ","БЕОГРАД","840","-","0000001272660","660","-","68","601","00450",2,"13701","07004010",8520,11,1,100169916]
[40600,"МУЗИЧКА ШКОЛА ДАВОРИН ЈЕНКО","БЕОГРАД","840","-","0000001274660","660","-","82","601","01611",2,"13701","07004052",8520,11,1,101994037]
[40600,"ОСНОВНА ШКОЛА ДОСИТЕЈ ОБРАДОВИЋ","БЕОГРАД","840","-","0000001296660","660","-","42","601","00443",2,"13701","07007914",8520,11,1,101013080]
[40600,"ОСНОВНА ШКОЛА БАНОВИЋ СТРАХИЊА","БЕОГРАД","840","-","0000001310660","660","-","43","601","00436",2,"13701","07009224",8520,11,1,100575896]
[40600,"ОСНОВНА ШКОЛА МИРОСЛАВ АНТИЋ","БЕОГРАД","840","-","0000001303660","660","-","91","601","00452",2,"13701","07009232",8520,11,1,101018091]
[40600,"ОСНОВНА ШКОЛА ЈОСИФ ПАНЧИЋ","БЕОГРАД","840","-","0000001290660","660","-","97","601","00448",2,"13701","07014317",8520,11,1,101014076]
[40600,"ОСНОВНА ШКОЛА ЂОРЂЕ КРСТИЋ","БЕОГРАД","840","-","0000001291660","660","-","07","601","00445",2,"13701","07014325",8520,11,1,100114933]
[40600,"ОСНОВНА ШКОЛА ФИЛИП КЉАЈИЋ-ФИЋА","БЕОГРАД","840","-","0000001301660","660","-","77","601","00457",2,"13701","07014333",8520,11,1,100416306]
[40600,"ОСНОВНА ШКОЛА ЉУБА НЕНАДОВИЋ","БЕОГРАД","840","-","0000001293660","660","-","21","601","00451",2,"13701","07014341",8520,11,1,101016406]
[40600,"ОСНОВНА ШКОЛА БРАЋА ЈЕРКОВИЋ","БЕОГРАД","840","-","0000001280660","660","-","27","601","00439",2,"13701","07014350",8520,11,1,101017111]
[40600,"ОСНОВНА ШКОЛА СТЕФАН ДЕЧАНСКИ","БЕОГРАД","840","-","0000001287660","660","-","76","601","00440",2,"13701","07014368",8520,11,1,101031721]
[40600,"ОСНОВНА ШКОЛА КАРАЂОРЂЕ","БЕОГРАД","840","-","0000001295660","660","-","35","601","00449",2,"13701","07014376",8520,11,1,101031158]
[40600,"ОСНОВНА ШКОЛА ДУШКО РАДОВИЋ","БЕОГРАД","840","-","0000001786660","660","-","77","601","00444",2,"13701","07014384",8520,11,1,101015403]
[40600,"ШКОЛА ЗА ОСНОВНО И СРЕДЊЕ ОБРАЗОВАЊЕ СВЕТИ САВА","БЕОГРАД","840","-","0000001305660","660","-","08","601","01568",2,"13701","07014406",8520,11,1,100575564]
[40600,"ОСНОВНА ШКОЛА МИЛОЈЕ ПАВЛОВИЋ","БЕОГРАД","840","-","0000001759660","660","-","82","601","01567",2,"13701","07014414",8520,11,1,101833762]
[40600,"ОСНОВНА МУЗИЧКА ШКОЛА ВАТРОСЛАВ ЛИСИНСКИ","БЕОГРАД","840","-","0000001294660","660","-","28","601","01610",2,"13701","07027893",8520,11,1,100115137]
[40600,"ОСНОВНА ШКОЛА ВЛАДИМИР РОЛОВИЋ","БЕОГРАД","840","-","0000001268660","660","-","40","601","00441",2,"13701","07049803",8520,11,1,100226481]
[40600,"ОСНОВНА ШКОЛА БРАНКО ЋОПИЋ БЕОГРАД","БЕОГРАД","840","-","0000001874660","660","-","14","601","00438",2,"13701","07094108",8520,11,1,100170168]
[40600,"ОСНОВНА ШКОЛА АЦА МИЛОСАВЉЕВИЋ","БЕОГРАД","840","-","0000001867660","660","-","62","601","00435",2,"13701","07094418",8520,11,1,101031199]
[40600,"ОСНОВНА ШКОЛА УЈЕДИЊЕНЕ НАЦИЈЕ","БЕОГРАД","840","-","0000001868660","660","-","69","601","00456",2,"13701","07094809",8520,11,1,102004473]
[40600,"ОСНОВНА ШКОЛА БРАНКО РАДИЧЕВИЋ","БЕОГРАД","840","-","0000001883660","660","-","77","601","00437",2,"13701","07463669",8520,11,1,101018761]
[40600,"ГИМНАЗИЈА ПАТРИЈАРХ ПАВЛЕ","БЕОГРАД","840","-","0000001903660","660","-","23","601","01683",2,"13702","06009719",8531,11,1,101992172]
[40600,"ПЕТА ЕКОНОМСКА ШКОЛА РАКОВИЦА","БЕОГРАД","840","-","0000001277660","660","-","06","601","01821",2,"13702","07004028",8531,11,1,101993296]
[40600,"СРЕДЊА ЗАНАТСКА ШКОЛА БЕОГРАД","БЕОГРАД","840","-","0000001500660","660","-","15","601","01825",2,"13702","07004036",8532,120,1,100166887]
[40600,"МАШИНСКА ШКОЛА РАДОЈЕ ДАКИЋ РАКОВИЦА","БЕОГРАД","840","-","0000001645660","660","-","60","601","01822",2,"13702","07004532",8532,11,1,100167898]
[40600,"ТЕХНИЧКА ШКОЛА ЖЕЛЕЗНИК","БЕОГРАД","840","-","0000001283660","660","-","48","601","01823",2,"13702","07009267",8532,11,1,101013900]
[40600,"ХЕМИЈСКО-ПРЕХРАМБЕНА ТЕХНОЛОШКА ШКОЛА","БЕОГРАД","840","-","0000001299660","660","-","63","601","01824",2,"13702","07009275",8532,11,1,101012781]
[40600,"ХIII БЕОГРАДСКА ГИМНАЗИЈА","БЕОГРАД","840","-","0000001308660","660","-","29","601","01684",2,"13702","07014392",8531,11,1,101011889]
[40600,"УНИВЕЗИТЕТ У БЕОГРАДУ - ФАКУЛТЕТ СПОРТА И ФИЗИЧКОГ ВАСПИТАЊА","БЕОГРАД","840","-","0000001102660","660","-","42","601","02305",2,"13704","07009283",8542,11,1,101014582]
[40600,"УНИВЕРЗИТЕТ У БЕОГРАДУ - ШУМАРСКИ ФАКУЛТЕТ","БЕОГРАД","840","-","0000001878660","660","-","42","601","02268",2,"13704","07009291",8542,11,1,101833051]
[40600,"ВИСОКА ХОТЕЛИЈЕРСКА ШКОЛА СТРУКОВНИХ СТУДИЈА У БЕОГРАДУ","БЕОГРАД","840","-","0000001819660","660","-","17","601","02224",2,"13704","07017367",8542,11,1,101019537]
[40600,"ЗАВОД ЗА СПОРТ И МЕДИЦИНУ СПОРТА РЕПУБЛИКЕ СРБИЈЕ","БЕОГРАД","840","-","0000000709664","664","-","92","601","02331",2,"13802","07009305",7219,11,1,101991629]
[40600,"РЕПУБЛИЧКИ ХИДРОМЕТЕОРОЛОШКИ ЗАВОД","БЕОГРАД","","-","","","-","","601","40500",1,"40500","07003706",8411,11,0,102217008]
[40600,"ДОМ ЗДРАВЉА ДР СИМО МИЛОШЕВИЋ","БЕОГРАД","840","-","0000000631661","661","-","40","601","02409",2,"95000","07009429",8621,11,3,100974050]
[40600,"ДОМ ЗДРАВЉА РАКОВИЦА","БЕОГРАД","840","-","0000000620661","661","-","60","601","02408",2,"95000","07009801",8621,11,3,100166428]
[40600,"ЗАВОД ЗА БИОЦИДЕ И МЕДИЦИНСКУ ЕКОЛОГИЈУ","БЕОГРАД","840","-","0000000644661","661","-","34","601","02395",6,"95000","07011563",8690,11,3,102142866]
[40600,"ПРЕДШКОЛСКА УСТАНОВА ЧУКАРИЦА","БЕОГРАД","840","-","0000000641661","661","-","13","501","03635",2,"80986","07009496",8891,11,1,100974365]
[40600,"ПРЕДШКОЛСКА УСТАНОВА РАКОВИЦА","БЕОГРАД","840","-","0000000643661","661","-","27","501","03634",2,"80986","07049021",8891,120,1,100178752]
[40600,"ГРАД БЕОГРАД-ГРАДСКА ОПШТИНА РАКОВИЦА-БУЏЕТ","БЕОГРАД","840","-","0000000153640","640","-","55","120","08229",0,"08229","07450168",8411,120,0,100172514]
[40600,"МЕСНА ЗАЈЕДНИЦА МИЉАКОВАЦ","БЕОГРАД","840","-","0000003340645","645","-","39","120","08231",2,"08230","07003935",8411,120,1,102619368]
[40600,"ЦЕНТАР ЗА КУЛТУРУ И ОБРАЗОВАЊЕ ОПШТИНЕ РАКОВИЦА","БЕОГРАД","840","-","0000000569664","664","-","82","120","03636",2,"08230","07052006",9004,120,1,100169498]
[40600,"ГРАДСКА ОПШТИНА РАКОВИЦА - ОПШТИНСКА УПРАВА","БЕОГРАД","","-","","","-","","120","08230",1,"08230","07450168",8411,120,0,100172514]
[40600,"ГРАДСКА ОПШТИНА РАКОВИЦА-СКУПШТИНА ГРАДСКЕ ОПШТИНЕ РАКОВИЦА","БЕОГРАД","","-","","","-","","120","92232",1,"92232","07450168",8411,120,0,100172514]
[40600,"ГРАДСКА ОПШТИНА РАКОВИЦА-ПРЕДСЕДНИК ГРАДСКЕ ОПШТИНЕ РАКОВИЦА","БЕОГРАД","","-","","","-","","120","92233",1,"92233","07450168",8411,120,0,100172514]
[40600,"ГРАДСКА ОПШТИНА РАКОВИЦА-ВЕЋЕ ГРАДСКЕ ОПШТИНЕ РАКОВИЦА","БЕОГРАД","","-","","","-","","120","92234",1,"92234","07450168",8411,120,0,100172514]
[40600,"ГРАДСКА ОПШТИНА РАКОВИЦА-ЗАШТИТНИК ГРАЂАНА","БЕОГРАД","","-","","","-","","120","92236",1,"92236","07450168",8411,120,0,100172514]
[40600,"ГРАДСКА ОПШТИНА РАКОВИЦА-ЈАВНО ПРАВОБРАНИЛАШТВО","БЕОГРАД","","-","","","-","","120","92406",1,"92406","07450168",6910,120,0,100172514]
[40600,"ГРАД БЕОГРАД-ГРАДСКА ОПШТИНА ЧУКАРИЦА-БУЏЕТ","БЕОГРАД","840","-","0000000046640","640","-","82","011","04195",0,"04195","07014210",8411,11,0,102699531]
[40600,"МЕСНА ЗАЈЕДНИЦА ВЕЛИКА МОШТАНИЦА","БЕОГРАД","840","-","0000000952645","645","-","07","011","04197",2,"04196","07000251",8411,11,1,100417180]
[40600,"МЕСНА ЗАЈЕДНИЦА МИХАЈЛОВАЦ","БЕОГРАД","840","-","0000000668645","645","-","56","011","04208",2,"04196","07007906",8411,11,1,100417235]
[40600,"МЕСНА ЗАЈЕДНИЦА БАНОВО БРДО","БЕОГРАД","840","-","0000000789645","645","-","30","011","04203",2,"04196","07009194",8411,11,1,100417219]
[40600,"МЕСНА ЗАЈЕДНИЦА РУШАЊ","БЕОГРАД","840","-","0000000860645","645","-","42","011","04199",2,"04196","07011407",8411,11,1,100417198]
[40600,"МЕСНА ЗАЈЕДНИЦА СРЕМЧИЦА","БЕОГРАД","840","-","0000000837645","645","-","75","011","04200",2,"04196","07011415",8411,11,1,100417202]
[40600,"ГРАДСКА ОПШТИНА ЧУКАРИЦА - УПРАВА ГРАДСКЕ ОПШТИНЕ","БЕОГРАД","","-","","","-","","011","04196",1,"04196","07014210",8411,11,0,102699531]
[40600,"МЕСНА ЗАЈЕДНИЦА ЧУКАРИЧКА ПАДИНА","БЕОГРАД","840","-","0000003320645","645","-","93","011","04213",2,"04196","07014287",8411,11,1,100416605]
[40600,"МЕСНА ЗАЈЕДНИЦА ЖАРКОВО ЖАРКОВО","БЕОГРАД","840","-","0000000642645","645","-","68","011","04212",2,"04196","07014309",8411,11,1,100417227]
[40600,"МЕСНА ЗАЈЕДНИЦА УМКА","БЕОГРАД","840","-","0000000885645","645","-","23","011","04201",2,"04196","07041624",8411,11,1,100416613]
[40600,"МЕСНА ЗАЈЕДНИЦА ОСТРУЖНИЦА","БЕОГРАД","840","-","0000000909645","645","-","94","011","04198",2,"04196","07049587",8411,11,1,100417309]
[40600,"МЕСНА ЗАЈЕДНИЦА ЖЕЛЕЗНИК ЧУКАРИЦА","БЕОГРАД","840","-","0000000766645","645","-","63","011","04217",2,"04196","07049692",8411,11,1,100416592]
[40600,"МЕСНА ЗАЈЕДНИЦА ЦЕРАК","БЕОГРАД","840","-","0000000995645","645","-","17","011","04202",2,"04196","07050968",8411,11,1,100416621]
[40600,"КУЛТУРНИ ЦЕНТАР ЧУКАРИЦА","БЕОГРАД","840","-","0000000608664","664","-","64","011","04218",2,"04196","07050984",9003,11,1,100974025]
[40600,"КУЛТУРНА УСТАНОВА ГАЛЕРИЈА 73","БЕОГРАД","840","-","0000000821664","664","-","03","011","04219",2,"04196","17488414",9004,11,1,102951860]
[40600,"ГРАДСКА ОПШТИНА ЧУКАРИЦА-ВЕЋЕ ГРАДСКЕ ОПШТИНЕ ЧУКАРИЦА","БЕОГРАД","","-","","","-","","011","88623",1,"88623","07014210",8411,11,0,102699531]
[40600,"ГРАДСКА ОПШТИНА ЧУКАРИЦА-СКУПШТИНА ГРАДСКЕ ОПШТИНЕ ЧУКАРИЦА","БЕОГРАД","","-","","","-","","011","88624",1,"88624","07014210",8411,11,0,102699531]
[40600,"ГРАДСКА ОПШТИНА ЧУКАРИЦА-ЈАВНО ПРАВОБРАНИЛАШТВО ГРАДСКЕ ОПШТИНЕ ЧУКАРИЦА","БЕОГРАД","","-","","","-","","011","88625",1,"88625","07014210",6910,11,0,102699531]
[40600,"ГРАДСКА ОПШТИНА ЧУКАРИЦА - ПРЕДСЕДНИК ГО ЧУКАРИЦА","БЕОГРАД","","-","","","-","","011","96305",1,"96305","07014210",8411,11,0,102699531]
[40610,"ГЕРОНТОЛОШКИ ЦЕНТАР ОБРЕНОВАЦ","ОБРЕНОВАЦ","840","-","0000000674661","661","-","50","601","00179",2,"13400","17413821",8730,14,1,101213130]
[40610,"ОСНОВНА ШКОЛА ЈОВАН ЈОВАНОВИЋ-ЗМАЈ","ОБРЕНОВАЦ","840","-","0000001717660","660","-","79","601","00462",2,"13701","07038674",8520,14,1,101214237]
[40610,"ПРВА ОБРЕНОВАЧКА ОСНОВНА ШКОЛА","ОБРЕНОВАЦ","840","-","0000001720660","660","-","03","601","00463",2,"13701","07038682",8520,14,1,101212846]
[40610,"ОСНОВНА ШКОЛА ДРАЖЕВАЦ","ОБРЕНОВАЦ","840","-","0000001716660","660","-","72","601","00460",2,"13701","07038704",8520,14,1,101217608]
[40610,"ОСНОВНА ШКОЛА ГРАБОВАЦ","ОБРЕНОВАЦ","840","-","0000001719660","660","-","93","601","00461",2,"13701","07038712",8520,14,1,101213332]
[40610,"ОСНОВНА ШКОЛА НИКОЛА ТЕСЛА СКЕЛА","ОБРЕНОВАЦ","840","-","0000001713660","660","-","51","601","00466",2,"13701","07038739",8520,14,1,101214500]
[40610,"ОСНОВНА ШКОЛА ПОСАВСКИ ПАРТИЗАНИ","ОБРЕНОВАЦ","840","-","0000001722660","660","-","17","601","00464",2,"13701","07038747",8520,14,1,101215543]
[40610,"ОСНОВНА ШКОЛА ЖИВОЈИН ПЕРИЋ","ОБРЕНОВАЦ","840","-","0000001715660","660","-","65","601","00465",2,"13701","07047509",8520,14,1,101213412]
[40610,"ОСНОВНА ШКОЛА 14. ОКТОБАР ОБРЕНОВАЦ","ОБРЕНОВАЦ","840","-","0000001714660","660","-","58","601","00459",2,"13701","07047916",8520,14,1,101209163]
[40610,"ШКОЛА ЗА ОСНОВНО ОБРАЗОВАЊЕ ОДРАСЛИХ ОБРЕНОВАЦ","ОБРЕНОВАЦ","840","-","0000001896660","660","-","71","601","01665",2,"13701","07722966",8559,14,1,102087785]
[40610,"ОСНОВНА ШКОЛА ЉУБОМИР АЋИМОВИЋ","ОБРЕНОВАЦ","840","-","0000001920660","660","-","45","601","01569",2,"13701","17241362",8520,14,1,101214606]
[40610,"ОСНОВНА ШКОЛА ЈЕФИМИЈА","ОБРЕНОВАЦ","840","-","0000002073660","660","-","49","601","09632",2,"13701","17572431",8520,14,1,103526659]
[40610,"ТЕХНИЧКА ШКОЛА ОБРЕНОВАЦ","ОБРЕНОВАЦ","840","-","0000001866660","660","-","55","601","01827",2,"13702","07094299",8532,14,1,101214479]
[40610,"ПОЉОПРИВРЕДНО-ХЕМИЈСКА ШКОЛА","ОБРЕНОВАЦ","840","-","0000001891660","660","-","36","601","01826",2,"13702","07506589",8532,14,1,101213357]
[40610,"ГИМНАЗИЈА У ОБРЕНОВЦУ","ОБРЕНОВАЦ","840","-","0000001892660","660","-","43","601","01685",2,"13702","07506597",8531,14,1,101212895]
[40610,"ОСНОВНИ СУД У ОБРЕНОВЦУ","ОБРЕНОВАЦ","","-","","","-","","601","91292",2,"30226","17865595",8423,14,5,108341727]
[40610,"ОСНОВНО ЈАВНО ТУЖИЛАШТВО У ОБРЕНОВЦУ","ОБРЕНОВАЦ","","-","","","-","","601","91322",2,"30229","17865692",8423,14,5,108347776]
[40610,"ПРЕКРШАЈНИ СУД У ОБРЕНОВЦУ","ОБРЕНОВАЦ","","-","","","-","","601","80601",2,"30233","17772856",8423,14,5,106400790]
[40610,"ДОМ ЗДРАВЉА ОБРЕНОВАЦ","ОБРЕНОВАЦ","840","-","0000000623661","661","-","81","601","02410",2,"95000","07038950",8621,14,3,101214972]
[40610,"БИБЛИОТЕКА ВЛАДА АКСЕНТИЈЕВИЋ","ОБРЕНОВАЦ","840","-","0000000591664","664","-","42","501","03638",2,"09401","07047827",9101,14,1,101881139]
[40610,"ПРЕДШКОЛСКА УСТАНОВА ПЕРКА ВИЋЕНТИЈЕВИЋ","ОБРЕНОВАЦ","840","-","0000000569661","661","-","91","501","03637",2,"80986","07044666",8891,14,1,101211829]
[40610,"ГРАД БЕОГРАД-ГРАДСКА ОПШТИНА ОБРЕНОВАЦ-БУЏЕТ","ОБРЕНОВАЦ","840","-","0000000149640","640","-","27","014","04281",0,"04281","07038330",8411,14,0,102700379]
[40610,"ГРАДСКА ОПШТИНА ОБРЕНОВАЦ - ОПШТИНСКА УПРАВА","ОБРЕНОВАЦ","","-","","","-","","014","04282",1,"04282","07038330",8411,14,0,102700379]
[40610,"МЕСНА ЗАЈЕДНИЦА ЗВЕЧКА","ОБРЕНОВАЦ","840","-","0000003226645","645","-","17","014","04294",2,"04282","07038402",8411,14,1,102287990]
[40610,"III МЕСНА ЗАЈЕДНИЦА ОБРЕНОВАЦ","ОБРЕНОВАЦ","840","-","0000002906645","645","-","08","014","04301",2,"04282","07038429",8411,14,1,102288099]
[40610,"МЕСНА ЗАЈЕДНИЦА БЕЛО ПОЉЕ","ОБРЕНОВАЦ","840","-","0000003255645","645","-","26","014","04287",2,"04282","07038437",8411,14,1,102288082]
[40610,"МЕСНА ЗАЈЕДНИЦА ГРАБОВАЦ","ОБРЕНОВАЦ","840","-","0000003273645","645","-","55","014","04290",2,"04282","07038445",8411,14,1,102288074]
[40610,"МЕСНА ЗАЈЕДНИЦА ЗАБРЕЖЈЕ","ОБРЕНОВАЦ","840","-","0000002897645","645","-","42","014","04293",2,"04282","07038453",8411,14,1,102287949]
[40610,"МЕСНА ЗАЈЕДНИЦА БАРИЧ","ОБРЕНОВАЦ","840","-","0000002889645","645","-","83","014","04286",2,"04282","07038461",8411,14,1,102288066]
[40610,"МЕСНА ЗАЈЕДНИЦА ВЕЛИКО ПОЉЕ","ОБРЕНОВАЦ","840","-","0000003267645","645","-","13","014","04288",2,"04282","07038470",8411,14,1,102287957]
[40610,"МЕСНА ЗАЈЕДНИЦА СТУБЛИНЕ","ОБРЕНОВАЦ","840","-","0000003228645","645","-","31","014","04307",2,"04282","07038488",8411,14,1,102287908]
[40610,"МЕСНА ЗАЈЕДНИЦА ДРАЖЕВАЦ","ОБРЕНОВАЦ","840","-","0000003241645","645","-","25","014","04291",2,"04282","07044658",8411,14,1,102287965]
[40610,"МЕСНА ЗАЈЕДНИЦА УРОВЦИ","ОБРЕНОВАЦ","840","-","0000003256645","645","-","33","014","04309",2,"04282","07047622",8411,14,1,102288031]
[40610,"МЕСНА ЗАЈЕДНИЦА СКЕЛА","ОБРЕНОВАЦ","840","-","0000003269645","645","-","27","014","04306",2,"04282","07047703",8411,14,1,102287893]
[40610,"МЕСНА ЗАЈЕДНИЦА УШЋЕ","ОБРЕНОВАЦ","840","-","0000003276645","645","-","76","014","04310",2,"04282","07047711",8411,14,1,102287981]
[40610,"МЕСНА ЗАЈЕДНИЦА КРТИНСКА","ОБРЕНОВАЦ","840","-","0000003265645","645","-","96","014","04297",2,"04282","07047720",8411,14,1,102288040]
[40610,"МЕСНА ЗАЈЕДНИЦА ПИРОМАН","ОБРЕНОВАЦ","840","-","0000003231645","645","-","52","014","04303",2,"04282","07047738",8411,14,1,102287916]
[40610,"МЕСНА ЗАЈЕДНИЦА КОНАТИЦЕ","ОБРЕНОВАЦ","840","-","0000003254645","645","-","19","014","04296",2,"04282","07047894",8411,14,1,102288007]
[40610,"МЕСНА ЗАЈЕДНИЦА ОРАШАЦ","ОБРЕНОВАЦ","840","-","0000003250645","645","-","88","014","04302",2,"04282","07048831",8411,14,1,102288103]
[40610,"МЕСНА ЗАЈЕДНИЦА ВУКИЋЕВИЦА","ОБРЕНОВАЦ","840","-","0000003261645","645","-","68","014","04289",2,"04282","07048840",8411,14,1,102288146]
[40610,"МЕСНА ЗАЈЕДНИЦА ЉУБИНИЋ","ОБРЕНОВАЦ","840","-","0000003271645","645","-","41","014","04298",2,"04282","07048858",8411,14,1,102287924]
[40610,"МЕСНА ЗАЈЕДНИЦА ТРСТЕНИЦА","ОБРЕНОВАЦ","840","-","0000002880645","645","-","20","014","04308",2,"04282","07048866",8411,14,1,102288120]
[40610,"МЕСНА ЗАЈЕДНИЦА МИСЛОЂИН","ОБРЕНОВАЦ","840","-","0000003237645","645","-","94","014","04300",2,"04282","07049668",8411,14,1,102288015]
[40610,"МЕСНА ЗАЈЕДНИЦА РАТАРИ","ОБРЕНОВАЦ","840","-","0000003234645","645","-","73","014","04305",2,"04282","07050348",8411,14,1,102288058]
[40610,"МЕСНА ЗАЈЕДНИЦА МАЛА МОШТАНИЦА","ОБРЕНОВАЦ","840","-","0000003274645","645","-","62","014","04299",2,"04282","07050356",8411,14,1,102287932]
[40610,"МЕСНА ЗАЈЕДНИЦА ДРЕН","ОБРЕНОВАЦ","840","-","0000003257645","645","-","40","014","04292",2,"04282","07050364",8411,14,1,102288023]
[40610,"МЕСНА ЗАЈЕДНИЦА БАЉЕВАЦ","ОБРЕНОВАЦ","840","-","0000003239645","645","-","11","014","04285",2,"04282","07051794",8411,14,1,102288138]
[40610,"МЕСНА ЗАЈЕДНИЦА ПОЉАНЕ","ОБРЕНОВАЦ","840","-","0000003263645","645","-","82","014","04304",2,"04282","07051816",8411,14,1,102287973]
[40610,"МЕСНА ЗАЈЕДНИЦА ЈАСЕНАК","ОБРЕНОВАЦ","840","-","0000002914645","645","-","64","014","04295",2,"04282","07051867",8411,14,1,102288111]
[40610,"МЕСНА ЗАЈЕДНИЦА РВАТИ","ОБРЕНОВАЦ","840","-","0000004043645","645","-","13","014","09881",2,"04282","07087870",8411,14,1,103934497]
[40610,"МЕСНА ЗАЈЕДНИЦА ДУДОВИ","ОБРЕНОВАЦ","840","-","0000004044645","645","-","20","014","09882",2,"04282","07087888",8411,14,1,103934501]
[40610,"II МЕСНА ЗАЈЕДНИЦА ОБРЕНОВАЦ","ОБРЕНОВАЦ","840","-","0000004050645","645","-","62","014","09948",2,"04282","07087896",8411,14,1,104121067]
[40610,"БУЏЕТСКИ ФОНД ЗА ЗАШТИТУ ЖИВОТНЕ СРЕДИНЕ","ОБРЕНОВАЦ","","-","","","-","","014","80677",2,"04282","17326848",8411,14,1,101218078]
[40610,"ГРАДСКА ОПШТИНА ОБРЕНОВАЦ-ВЕЋЕ ГРАДСКЕ ОПШТИНЕ ОБРЕНОВАЦ","ОБРЕНОВАЦ","","-","","","-","","014","88811",1,"88811","07038330",8411,14,0,102700379]
[40610,"ГРАДСКА ОПШТИНА ОБРЕНОВАЦ-СКУПШТИНА ГРАДСКЕ ОПШТИНЕ ОБРЕНОВАЦ","ОБРЕНОВАЦ","","-","","","-","","014","88812",1,"88812","07038330",8411,14,0,102700379]
[40610,"ГРАДСКА ОПШТИНА ОБРЕНОВАЦ-ЈАВНО ПРАВОБРАНИЛАШТВО ГРАДСКЕ ОПШТИНЕ ОБРЕНОВАЦ","ОБРЕНОВАЦ","","-","","","-","","014","88949",1,"88949","07038330",8423,14,0,102700379]
[40620,"ОСНОВНА ШКОЛА ВОЈИСЛАВ-ВОКА САВИЋ","ЛАЗАРЕВАЦ","840","-","0000001730660","660","-","73","601","00467",2,"13701","07007884",8520,56,1,102129952]
[40620,"ОСНОВНА ШКОЛА СВЕТИ САВА ВЕЛИКИ ЦРЉАНИ","ЛАЗАРЕВАЦ","840","-","0000001725660","660","-","38","601","00476",2,"13701","07010257",8520,56,1,101136494]
[40620,"ОСНОВНА ШКОЛА МИХАИЛО МЛАДЕНОВИЋ-СЕЉА","ЛАЗАРЕВАЦ","840","-","0000001728660","660","-","59","601","00473",2,"13701","07010265",8520,56,1,101130910]
[40620,"ОСНОВНА ШКОЛА СЛОБОДАН ПЕНЕЗИЋ-КРЦУН","ЛАЗАРЕВАЦ","840","-","0000001729660","660","-","66","601","00475",2,"13701","07010273",8520,56,1,101132782]
[40620,"ОСНОВНА ШКОЛА ДИША ЂУРЂЕВИЋ ВРЕОЦИ","ЛАЗАРЕВАЦ","840","-","0000001727660","660","-","52","601","00469",2,"13701","07020805",8520,56,1,101135342]
[40620,"ОСНОВНА ШКОЛА РУДОВЦИ","ЛАЗАРЕВАЦ","840","-","0000001731660","660","-","80","601","00474",2,"13701","07020813",8520,56,1,101138561]
[40620,"ОСНОВНА ШКОЛА ВУК КАРАЏИЋ СТЕПОЈЕВАЦ","ЛАЗАРЕВАЦ","840","-","0000001732660","660","-","87","601","00468",2,"13701","07020821",8520,56,1,101130442]
[40620,"ОСНОВНА ШКОЛА ДУЛЕ КАРАКЛАЈИЋ","ЛАЗАРЕВАЦ","840","-","0000001735660","660","-","11","601","00470",2,"13701","07020830",8520,56,1,101136427]
[40620,"ОСНОВНА ШКОЛА МИЛОРАД ЛАБУДОВИЋ-ЛАБУД","ЛАЗАРЕВАЦ","840","-","0000001724660","660","-","31","601","00472",2,"13701","07020848",8520,56,1,101138658]
[40620,"ОСНОВНА ШКОЛА КНЕЗ ЛАЗАР","ЛАЗАРЕВАЦ","840","-","0000001909660","660","-","65","601","00471",2,"13701","17057375",8520,56,1,101135916]
[40620,"ОСНОВНА МУЗИЧКА ШКОЛА МАРКО ТАЈЧЕВИЋ","ЛАЗАРЕВАЦ","840","-","0000001912660","660","-","86","601","01612",2,"13701","17062069",8520,56,1,101135924]
[40620,"ТЕХНИЧКА ШКОЛА КОЛУБАРА","ЛАЗАРЕВАЦ","840","-","0000001830660","660","-","94","601","01828",2,"13702","07070365",8532,56,1,101970205]
[40620,"ГИМНАЗИЈА ЛАЗАРЕВАЦ","ЛАЗАРЕВАЦ","840","-","0000001916660","660","-","17","601","01686",2,"13702","17079638",8531,56,1,101132022]
[40620,"ОСНОВНИ СУД У ЛАЗАРЕВЦУ","ЛАЗАРЕВАЦ","","-","","","-","","601","91287",2,"30226","17865536",8423,56,5,108341575]
[40620,"ОСНОВНО ЈАВНО ТУЖИЛАШТВО У ЛАЗАРЕВЦУ","ЛАЗАРЕВАЦ","","-","","","-","","601","91324",2,"30229","17865714",8423,56,5,108347792]
[40620,"ПРЕКРШАЈНИ СУД У ЛАЗАРЕВЦУ","ЛАЗАРЕВАЦ","","-","","","-","","601","80593",2,"30233","17772830",8423,56,5,106399158]
[40620,"ДОМ ЗДРАВЉА ДР ЂОРЂЕ КОВАЧЕВИЋ","ЛАЗАРЕВАЦ","840","-","0000000614661","661","-","18","601","02411",2,"95000","07010320",8621,56,3,101970094]
[40620,"СПЕЦИЈАЛНА БОЛНИЦА ЗА ЕНДЕМСКУ НЕФРОПАТИЈУ","ЛАЗАРЕВАЦ","840","-","0000000571661","661","-","08","601","02412",2,"95000","07010427",8622,56,3,101130215]
[40620,"БИБЛИОТЕКА ДИМИТРИЈЕ ТУЦОВИЋ","ЛАЗАРЕВАЦ","840","-","0000000545664","664","-","11","501","03640",2,"09401","07010311",9101,56,1,101764343]
[40620,"ПРЕДШКОЛСКА УСТАНОВА РАКИЛА КОТАРОВ-ВУКА","ЛАЗАРЕВАЦ","840","-","0000000649661","661","-","69","501","03639",2,"80986","07010435",8891,56,1,101133734]
[40620,"ГРАД БЕОГРАД-ГРАДСКА ОПШТИНА ЛАЗАРЕВАЦ-БУЏЕТ","ЛАЗАРЕВАЦ","840","-","0000000150640","640","-","34","056","05678",0,"05678","17329251",8411,56,0,101135869]
[40620,"МЕСНА ЗАЈЕДНИЦА ЈУНКОВАЦ","ЛАЗАРЕВАЦ","840","-","0000003052645","645","-","60","056","05721",2,"05679","07010222",8411,56,1,101135692]
[40620,"МЕСНА ЗАЈЕДНИЦА ТРБУШНИЦА","ЛАЗАРЕВАЦ","840","-","0000003078645","645","-","48","056","05705",2,"05679","07010249",8411,56,1,101135617]
[40620,"МЕСНА ЗАЈЕДНИЦА СТЕПОЈЕВАЦ","ЛАЗАРЕВАЦ","840","-","0000002940645","645","-","52","056","05711",2,"05679","07020783",8411,56,1,102196991]
[40620,"МЕСНА ЗАЈЕДНИЦА МИРОСАЉЦИ","ЛАЗАРЕВАЦ","840","-","0000003033645","645","-","24","056","05699",2,"05679","07039026",8411,56,1,101135650]
[40620,"МЕСНА ЗАЈЕДНИЦА ЖУПАЊАЦ","ЛАЗАРЕВАЦ","840","-","0000003083645","645","-","83","056","05719",2,"05679","07039042",8411,56,1,101135641]
[40620,"МЕСНА ЗАЈЕДНИЦА БУРОВО","ЛАЗАРЕВАЦ","840","-","0000003275645","645","-","69","056","05687",2,"05679","07039069",8411,56,1,101134181]
[40620,"МЕСНА ЗАЈЕДНИЦА ЧИБУТКОВИЦА","ЛАЗАРЕВАЦ","840","-","0000003072645","645","-","06","056","05706",2,"05679","07039077",8411,56,1,102707979]
[40620,"МЕСНА ЗАЈЕДНИЦА ДУДОВИЦА","ЛАЗАРЕВАЦ","840","-","0000003065645","645","-","54","056","05692",2,"05679","07039085",8411,56,1,101135789]
[40620,"МЕСНА ЗАЈЕДНИЦА РУДОВЦИ","ЛАЗАРЕВАЦ","840","-","0000003018645","645","-","16","056","05702",2,"05679","07039425",8411,56,1,101135318]
[40620,"МЕСНА ЗАЈЕДНИЦА БАРЗИЛОВИЦА","ЛАЗАРЕВАЦ","840","-","0000003361645","645","-","89","056","05683",2,"05679","07039433",8411,56,1,102196178]
[40620,"МЕСНА ЗАЈЕДНИЦА ШОПИЋ","ЛАЗАРЕВАЦ","840","-","0000003247645","645","-","67","056","05707",2,"05679","07039441",8411,56,1,101133898]
[40620,"МЕСНА ЗАЈЕДНИЦА БАРОШЕВАЦ","ЛАЗАРЕВАЦ","840","-","0000003026645","645","-","72","056","05684",2,"05679","07044631",8411,56,1,101135810]
[40620,"МЕСНА ЗАЈЕДНИЦА ВРЕОЦИ","ЛАЗАРЕВАЦ","840","-","0000002949645","645","-","18","056","05690",2,"05679","07046162",8411,56,1,101133880]
[40620,"МЕСНА ЗАЈЕДНИЦА ШУШЊАР","ЛАЗАРЕВАЦ","840","-","0000003290645","645","-","77","056","05708",2,"05679","07047606",8411,56,1,101134190]
[40620,"МЕСНА ЗАЈЕДНИЦА МАЛИ ЦРЉЕНИ","ЛАЗАРЕВАЦ","840","-","0000003059645","645","-","12","056","05697",2,"05679","07047746",8411,56,1,102032063]
[40620,"МЕСНА ЗАЈЕДНИЦА КРУШЕВИЦА","ЛАЗАРЕВАЦ","840","-","0000003045645","645","-","11","056","05694",2,"05679","07048165",8411,56,1,101135668]
[40620,"МЕСНА ЗАЈЕДНИЦА ПЕТКА","ЛАЗАРЕВАЦ","840","-","0000003253645","645","-","12","056","05700",2,"05679","07048319",8411,56,1,101135713]
[40620,"МЕСНА ЗАЈЕДНИЦА ВЕЛИКИ ЦРЉЕНИ","ЛАЗАРЕВАЦ","840","-","0000002931645","645","-","86","056","05688",2,"05679","07050372",8411,56,1,101134358]
[40620,"МЕСНА ЗАЈЕДНИЦА СТУБИЦА","ЛАЗАРЕВАЦ","840","-","0000003354645","645","-","40","056","05704",2,"05679","07050836",8411,56,1,101134212]
[40620,"МЕСНА ЗАЈЕДНИЦА ЛУКАВИЦА","ЛАЗАРЕВАЦ","840","-","0000003272645","645","-","48","056","05696",2,"05679","07051972",8411,56,1,101135772]
[40620,"МЕСНА ЗАЈЕДНИЦА МЕДОШЕВАЦ","ЛАЗАРЕВАЦ","840","-","0000002957645","645","-","74","056","05698",2,"05679","07056613",8411,56,1,101134204]
[40620,"МЕСНА ЗАЈЕДНИЦА ЗЕОКЕ","ЛАЗАРЕВАЦ","840","-","0000003315645","645","-","58","056","05693",2,"05679","07067160",8411,56,1,101134149]
[40620,"МЕСНА ЗАЈЕДНИЦА БРАЈКОВАЦ","ЛАЗАРЕВАЦ","840","-","0000003088645","645","-","21","056","05686",2,"05679","07067178",8411,56,1,101135797]
[40620,"МЕСНА ЗАЈЕДНИЦА ДРЕН","ЛАЗАРЕВАЦ","840","-","0000003252645","645","-","05","056","05691",2,"05679","07067186",8411,56,1,101135684]
[40620,"МЕСНА ЗАЈЕДНИЦА ЛЕСКОВАЦ","ЛАЗАРЕВАЦ","840","-","0000003385645","645","-","63","056","05695",2,"05679","07068930",8411,56,1,101135676]
[40620,"МЕСНА ЗАЈЕДНИЦА СОКОЛОВО","ЛАЗАРЕВАЦ","840","-","0000003363645","645","-","06","056","05703",2,"05679","07072180",8411,56,1,101135633]
[40620,"МЕСНА ЗАЈЕДНИЦА ВРБОВНО","ЛАЗАРЕВАЦ","840","-","0000003387645","645","-","77","056","05689",2,"05679","07074328",8411,56,1,101135625]
[40620,"МЕСНА ЗАЈЕДНИЦА БИСТРИЦА","ЛАЗАРЕВАЦ","840","-","0000003389645","645","-","91","056","05685",2,"05679","07075049",8411,56,1,101135764]
[40620,"МЕСНА ЗАЈЕДНИЦА АРАПОВАЦ","ЛАЗАРЕВАЦ","840","-","0000003424645","645","-","45","056","05682",2,"05679","07079842",8411,56,1,102196151]
[40620,"МЕСНА ЗАЈЕДНИЦА ЦВЕТОВАЦ","ЛАЗАРЕВАЦ","840","-","0000003359645","645","-","75","056","05710",2,"05679","07079869",8411,56,1,101135721]
[40620,"МЕСНА ЗАЈЕДНИЦА ЗАГОРКА ДРАГОВИЋ ЛАЗАРЕВАЦ","ЛАЗАРЕВАЦ","840","-","0000003397645","645","-","50","056","05716",2,"05679","07084528",8411,56,1,101135756]
[40620,"МЕСНА ЗАЈЕДНИЦА ГОРЊИ ГРАД ЛАЗАРЕВАЦ","ЛАЗАРЕВАЦ","840","-","0000003443645","645","-","81","056","05713",2,"05679","07090315",8411,56,1,102196160]
[40620,"МЕСНА ЗАЈЕДНИЦА МОМЧИЛО ПАВЛОВИЋ ЛАЗАРЕВАЦ","ЛАЗАРЕВАЦ","840","-","0000003435645","645","-","25","056","05717",2,"05679","07090323",8411,56,1,101135730]
[40620,"МЕСНА ЗАЈЕДНИЦА БРАНКО РАДИЧЕВИЋ ЛАЗАРЕВАЦ","ЛАЗАРЕВАЦ","840","-","0000003447645","645","-","12","056","05712",2,"05679","07090331",8411,56,1,102032071]
[40620,"МЕСНА ЗАЈЕДНИЦА СТАНИСЛАВ СРЕМЧЕВИЋ-ЦРНИ ЛАЗАРЕВАЦ","ЛАЗАРЕВАЦ","840","-","0000003441645","645","-","67","056","05720",2,"05679","07090340",8411,56,1,101134173]
[40620,"МЕСНА ЗАЈЕДНИЦА ДУШАН ПЕТРОВИЋ ШАНЕ ЛАЗАРЕВАЦ","ЛАЗАРЕВАЦ","840","-","0000003438645","645","-","46","056","05715",2,"05679","07090358",8411,56,1,101134165]
[40620,"МЕСНА ЗАЈЕДНИЦА ДУЛЕ КАРАКЛАЈИЋ ЛАЗАРЕВАЦ","ЛАЗАРЕВАЦ","840","-","0000003468645","645","-","62","056","05714",2,"05679","07090366",8411,56,1,101134157]
[40620,"МЕСНА ЗАЈЕДНИЦА 19. СЕПТЕМБАР ЛАЗАРЕВАЦ","ЛАЗАРЕВАЦ","840","-","0000002922645","645","-","23","056","05709",2,"05679","07090722",8411,56,1,101135801]
[40620,"ЦЕНТАР ЗА КУЛТУРУ ЛАЗАРЕВАЦ","ЛАЗАРЕВАЦ","840","-","0000000590664","664","-","35","056","03641",2,"05679","07093233",9004,56,1,101135391]
[40620,"МЕСНА ЗАЈЕДНИЦА СУМЕЂ","ЛАЗАРЕВАЦ","840","-","0000003462645","645","-","20","056","05722",2,"05679","07094655",8411,56,1,101135748]
[40620,"ГРАДСКА ОПШТИНА ЛАЗАРЕВАЦ - ОПШТИНСКА УПРАВА","ЛАЗАРЕВАЦ","","-","","","-","","056","05679",1,"05679","17329251",8411,56,0,101135869]
[40620,"МЕСНА ЗАЈЕДНИЦА НОВИ МЕДОШЕВАЦ","ЛАЗАРЕВАЦ","840","-","0000003523645","645","-","59","056","05718",2,"05679","17331957",8411,56,1,102695780]
[40620,"МЕСНА ЗАЈЕДНИЦА ПРКОСАВА","ЛАЗАРЕВАЦ","840","-","0000003531645","645","-","18","056","05701",2,"05679","17338455",8411,56,1,102074724]
[40620,"МЕСНА ЗАЈЕДНИЦА СТРМОВО","ЛАЗАРЕВАЦ","840","-","0000003541645","645","-","88","056","05723",2,"05679","17358944",8411,56,1,102196233]
[40620,"ПРВО ПРИГРАДСКО ПОЗОРИШТЕ ЛАЗАРЕВАЦ","ЛАЗАРЕВАЦ","840","-","0000001011664","664","-","72","056","80662",2,"05679","17757334",9001,56,1,106355803]
[40620,"ТУРИСТИЧКА ОРГАНИЗАЦИЈА ГРАДСКЕ ОПШТИНЕ ЛАЗАРЕВАЦ","ЛАЗАРЕВАЦ","840","-","0000001081664","664","-","77","056","89570",2,"05679","17850725",8413,56,1,108245287]
[40620,"ГРАДСКА ОПШТИНА ЛАЗАРЕВАЦ - ПРЕДСЕДНИК ГРАДСКЕ ОПШТИНЕ И ВЕЋЕ ГРАДСКЕ ОПШТИНЕ ЛАЗАРЕВАЦ","ЛАЗАРЕВАЦ","","-","","","-","","056","80058",1,"80058","17329251",8411,56,0,101135869]
[40620,"ГРАДСКА ОПШТИНА ЛАЗАРЕВАЦ- СКУПШТИНА ГО ЛАЗАРЕВАЦ","ЛАЗАРЕВАЦ","","-","","","-","","056","92356",1,"92356","17329251",8411,56,0,101135869]
[40620,"ГРАДСКА ОПШТИНА ЛАЗАРЕВАЦ- ОПШТИНСКО ПРАВОБРАНИЛАШТВО","ЛАЗАРЕВАЦ","","-","","","-","","056","92357",1,"92357","17329251",6910,56,0,101135869]
[40630,"ОСНОВНА ШКОЛА КНЕЗ СИМА МАРКОВИЋ","БАРАЈЕВО","840","-","0000001286660","660","-","69","601","00477",2,"13701","07001193",8520,10,1,101412064]
[40630,"СРЕДЊА ШКОЛА БАРАЈЕВО","БАРАЈЕВО","840","-","0000001828660","660","-","80","601","01829",2,"13702","07067623",8532,10,1,101413717]
[40630,"ДОМ ЗДРАВЉА ДР МИЛОРАД ВЛАЈКОВИЋ","БАРАЈЕВО","840","-","0000000438661","661","-","47","601","02413",2,"95000","07001266",8621,10,3,101412579]
[40630,"ПРЕДШКОЛСКА УСТАНОВА ПОЛЕТАРАЦ","БАРАЈЕВО","840","-","0000000615661","661","-","25","501","03642",2,"80986","07084463",8891,10,1,101412458]
[40630,"ГРАД БЕОГРАД-ГРАДСКА ОПШТИНА БАРАЈЕВО-БУЏЕТ","БАРАЈЕВО","840","-","0000000074640","640","-","84","010","04177",0,"04177","07001126",8411,10,0,101954875]
[40630,"МЕСНА ЗАЈЕДНИЦА НАСЕЉЕ  ГАЈ","БАРАЈЕВО","840","-","0000003497645","645","-","71","010","04192",2,"04178","06880738",8411,10,1,102908617]
[40630,"МЕСНА ЗАЈЕДНИЦА АРНАЈЕВО","БАРАЈЕВО","840","-","0000000453645","645","-","06","010","04180",2,"04178","07001061",8411,10,1,101415401]
[40630,"МЕСНА ЗАЈЕДНИЦА БАРАЈЕВО","БАРАЈЕВО","840","-","0000000401645","645","-","30","010","04181",2,"04178","07001070",8411,10,1,101413129]
[40630,"МЕСНА ЗАЈЕДНИЦА БЕЉИНА","БАРАЈЕВО","840","-","0000000479645","645","-","91","010","04183",2,"04178","07001088",8411,10,1,101415389]
[40630,"МЕСНА ЗАЈЕДНИЦА БОЖДАРЕВАЦ","БАРАЈЕВО","840","-","0000000296645","645","-","71","010","04184",2,"04178","07001096",8411,10,1,101852100]
[40630,"МЕСНА ЗАЈЕДНИЦА МЕЉАК","БАРАЈЕВО","840","-","0000000616645","645","-","80","010","04188",2,"04178","07001100",8411,10,1,102031999]
[40630,"ГРАДСКА ОПШТИНА БАРАЈЕВО - ОПШТИНСКА УПРАВА","БАРАЈЕВО","","-","","","-","","010","04178",1,"04178","07001126",8411,10,0,101954875]
[40630,"МЕСНА ЗАЈЕДНИЦА ШИЉАКОВАЦ","БАРАЈЕВО","840","-","0000000504645","645","-","72","010","04190",2,"04178","07001169",8411,10,1,102298256]
[40630,"МЕСНА ЗАЈЕДНИЦА ВРАНИЋ","БАРАЈЕВО","840","-","0000000323645","645","-","66","010","04186",2,"04178","07004524",8411,10,1,102031982]
[40630,"МЕСНА ЗАЈЕДНИЦА ГУНЦАТЕ","БАРАЈЕВО","840","-","0000000375645","645","-","42","010","04191",2,"04178","07040237",8411,10,1,102000663]
[40630,"МЕСНА ЗАЈЕДНИЦА РОЖАНЦИ","БАРАЈЕВО","840","-","0000000533645","645","-","81","010","04189",2,"04178","07041772",8411,10,1,101415135]
[40630,"МЕСНА ЗАЈЕДНИЦА СЕЛА ЛИСОВИЋ","БАРАЈЕВО","840","-","0000000562645","645","-","90","010","04193",2,"04178","07041799",8411,10,1,101415039]
[40630,"МЕСНА ЗАЈЕДНИЦА ВЕЛИКИ БОРАК","БАРАЈЕВО","840","-","0000000426645","645","-","11","010","04185",2,"04178","07046014",8411,10,1,101415887]
[40630,"МЕСНА ЗАЈЕДНИЦА БАЋЕВАЦ","БАРАЈЕВО","840","-","0000000349645","645","-","54","010","04182",2,"04178","07046120",8411,10,1,101415516]
[40630,"МЕСНА ЗАЈЕДНИЦА МАНИЋ","БАРАЈЕВО","840","-","0000000590645","645","-","92","010","04187",2,"04178","07050801",8411,10,1,101415151]
[40630,"МЕСНА ЗАЈЕДНИЦА ГЛУМЧЕВО БРДО","БАРАЈЕВО","840","-","0000004023645","645","-","67","010","09665",2,"04178","17575554",8411,10,1,103562132]
[40630,"ЦЕНТАР ЗА КУЛТУРУ БАРАЈЕВО","БАРАЈЕВО","840","-","0000001063664","664","-","48","010","81351",2,"04178","17702645",9004,10,1,105410111]
[40630,"ПРЕДСЕДНИК ГРАДСКЕ ОПШТИНЕ БАРАЈЕВО","БАРАЈЕВО","","-","","","-","","010","91510",1,"91510","07001126",8411,10,0,101954875]
[40630,"СКУПШТИНА ГРАДСКЕ ОПШТИНЕ БАРАЈЕВО","БАРАЈЕВО","","-","","","-","","010","91511",1,"91511","07001126",8411,10,0,101954875]
[40630,"ВЕЋЕ ГРАДСКЕ ОПШТИНЕ БАРАЈЕВО","БАРАЈЕВО","","-","","","-","","010","91512",1,"91512","07001126",8411,10,0,101954875]
[40630,"ЈАВНО ПРАВОБРАНИЛАШТВО ГРАДСКЕ ОПШТИНЕ БАРАЈЕВО","БАРАЈЕВО","","-","","","-","","010","92400",1,"92400","07001126",6910,10,0,101954875]
[40700,"КРИМИНАЛИСТИЧКО-ПОЛИЦИЈСКА АКАДЕМИЈА","ЗЕМУН","840","-","0000001751660","660","-","26","601","80042",2,"10600","17672355",8542,21,1,104629251]
[40700,"МУЗЕЈ САВРЕМЕНЕ УМЕТНОСТИ - УСТАНОВА ОД НАЦИОНАЛНОГ ЗНАЧАЈА","НОВИ БЕОГРАД","840","-","0000000512664","664","-","71","601","02343",2,"11801","07033281",9102,13,1,101852247]
[40700,"УСТАНОВА ГЕРОНТОЛОШКИ ЦЕНТАР БЕОГРАД","ЗЕМУН","840","-","0000000638661","661","-","89","601","00180",2,"13400","07028768",8730,21,1,100011573]
[40700,"ДОМ ЗА ОДРАСЛА ИНВАЛИДНА ЛИЦА ЗЕМУН","ЗЕМУН","840","-","0000000676661","661","-","64","601","00211",2,"13400","17413996",8790,21,1,101543870]
[40700,"ОСНОВНА ШКОЛА ДУШАН ВУКАСОВИЋ-ДИОГЕН БЕЧМЕН","СУРЧИН","840","-","0000001564660","660","-","75","601","00492",2,"13701","07019491",8520,124,1,100130499]
[40700,"ОСНОВНА ШКОЛА БРАНКО ПЕШИЋ","ЗЕМУН","840","-","0000001794660","660","-","36","601","00482",2,"13701","07019548",8520,21,1,100129031]
[40700,"ОСНОВНА ШКОЛА БРАНКО РАДИЧЕВИЋ БАТАЈНИЦА","ЗЕМУН","840","-","0000001526660","660","-","03","601","00484",2,"13701","07021038",8520,21,1,100093476]
[40700,"ОСНОВНА ШКОЛА МАЈКА ЈУГОВИЋА","ЗЕМУН","840","-","0000001552660","660","-","88","601","00502",2,"13701","07021046",8520,21,1,100129023]
[40700,"ОСНОВНА ШКОЛА ПЕТАР КОЧИЋ","ЗЕМУН","840","-","0000001525660","660","-","93","601","00506",2,"13701","07021054",8520,21,1,101952672]
[40700,"ОСНОВНА ШКОЛА РАДЕ КОНЧАР","ЗЕМУН","840","-","0000001534660","660","-","59","601","00507",2,"13701","07021062",8520,21,1,101540352]
[40700,"ОСНОВНА ШКОЛА СВЕТОЗАР МИЛЕТИЋ","ЗЕМУН","840","-","0000001520660","660","-","58","601","00511",2,"13701","07021089",8520,21,1,100016042]
[40700,"ОСНОВНА ШКОЛА ГОРЊА ВАРОШ","ЗЕМУН","840","-","0000001518660","660","-","44","601","00490",2,"13701","07021097",8520,21,1,100010765]
[40700,"ОСНОВНА ШКОЛА СУТЈЕСКА","ЗЕМУН","840","-","0000001540660","660","-","04","601","00516",2,"13701","07021119",8520,21,1,101540980]
[40700,"ОСНОВНА ШКОЛА СТЕВАН СРЕМАЦ ДОБАНОВЦИ","СУРЧИН","840","-","0000001562660","660","-","61","601","00515",2,"13701","07021127",8520,124,1,100130503]
[40700,"ОСНОВНА ШКОЛА ВУК КАРАЏИЋ сурчин","СУРЧИН","840","-","0000001559660","660","-","40","601","00488",2,"13701","07021135",8520,124,1,100203129]
[40700,"ОСНОВНА ШКОЛА ГАВРИЛО ПРИНЦИП","ЗЕМУН","840","-","0000001522660","660","-","72","601","00489",2,"13701","07021143",8520,21,1,100129697]
[40700,"ОСНОВНА ШКОЛА СОЊА МАРИНКОВИЋ","ЗЕМУН","840","-","0000001523660","660","-","79","601","00513",2,"13701","07021151",8520,21,1,100198780]
[40700,"ОСНОВНА ШКОЛА СТАНКО МАРИЋ УГРИНОВЦИ","ЗЕМУН","840","-","0000001527660","660","-","10","601","00514",2,"13701","07021160",8520,21,1,100194246]
[40700,"ОСНОВНА ШКОЛА ИЛИЈА БИРЧАНИН","ЗЕМУН","840","-","0000001517660","660","-","37","601","00498",2,"13701","07021178",8520,21,1,100015486]
[40700,"ОСНОВНА ШКОЛА ЛАЗАР САВАТИЋ","ЗЕМУН","840","-","0000001533660","660","-","52","601","00501",2,"13701","07021186",8520,21,1,100200489]
[40700,"ОСНОВНА ШКОЛА 22. ОКТОБАР","СУРЧИН","840","-","0000001580660","660","-","90","601","00479",2,"13701","07021194",8520,124,1,100193382]
[40700,"ОСНОВНА ШКОЛА БОШКО ПАЛКОВЉЕВИЋ-ПИНКИ","ЗЕМУН","840","-","0000001530660","660","-","31","601","00481",2,"13701","07021208",8520,21,1,100130329]
[40700,"ОСНОВНА ШКОЛА БРАНКО РАДИЧЕВИЋ БОЉЕВЦИ","СУРЧИН","840","-","0000001563660","660","-","68","601","00485",2,"13701","07021216",8520,124,1,101541600]
[40700,"ОСНОВНА ШКОЛА ВОЖД КАРАЂОРЂЕ ЈАКОВО","СУРЧИН","840","-","0000001561660","660","-","54","601","00487",2,"13701","07021224",8520,124,1,101541691]
[40700,"ОСНОВНА ШКОЛА СВЕТИСЛАВ ГОЛУБОВИЋ-МИТРАЉЕТА","ЗЕМУН","840","-","0000001554660","660","-","05","601","00510",2,"13701","07021259",8520,21,1,100014810]
[40700,"МУЗИЧКА ШКОЛА КОСТА МАНОЈЛОВИЋ","ЗЕМУН","840","-","0000001524660","660","-","86","601","01613",2,"13701","07021283",8520,21,1,100097342]
[40700,"ОСНОВНА ШКОЛА САВА ЈОВАНОВИЋ-СИРОГОЈНО","ЗЕМУН","840","-","0000001546660","660","-","46","601","01572",2,"13701","07026676",8520,21,1,100013382]
[40700,"ШКОЛА ЗА УЧЕНИКЕ ОШТЕЋЕНОГ ВИДА ВЕЉКО РАМАДАНОВИЋ","ЗЕМУН","840","-","0000001859660","660","-","06","601","01573",2,"13701","07026757",8520,21,1,100014070]
[40700,"ОСНОВНА ШКОЛА ЈОВАН СТЕРИЈА ПОПОВИЋ","НОВИ БЕОГРАД","840","-","0000001568660","660","-","06","601","00500",2,"13701","07029632",8520,13,1,101831744]
[40700,"ОСНОВНА ШКОЛА МАРКО ОРЕШКОВИЋ","НОВИ БЕОГРАД","840","-","0000001567660","660","-","96","601","00503",2,"13701","07029659",8520,13,1,101200570]
[40700,"ОСНОВНА ШКОЛА НАДЕЖДА ПЕТРОВИЋ","НОВИ БЕОГРАД","840","-","0000001566660","660","-","89","601","00496",2,"13701","07029667",8520,13,1,102041629]
[40700,"ОСНОВНА ШКОЛА КРАЉ АЛЕКСАНДАР I","НОВИ БЕОГРАД","840","-","0000001556660","660","-","19","601","00495",2,"13701","07029675",8520,13,1,101671007]
[40700,"ОСНОВНА ШКОЛА ЂУРО СТРУГАР","НОВИ БЕОГРАД","840","-","0000001557660","660","-","26","601","00494",2,"13701","07029683",8520,13,1,101554204]
[40700,"ОСНОВНА ШКОЛА РАДОЈЕ ДОМАНОВИЋ","НОВИ БЕОГРАД","840","-","0000001639660","660","-","18","601","00508",2,"13701","07029691",8520,13,1,101553349]
[40700,"ОСНОВНА ШКОЛА БРАНКО РАДИЧЕВИЋ","НОВИ БЕОГРАД","840","-","0000000985660","660","-","96","601","00483",2,"13701","07029705",8520,13,1,102197540]
[40700,"ОСНОВНА ШКОЛА ИВАН ГУНДУЛИЋ","НОВИ БЕОГРАД","840","-","0000001571660","660","-","27","601","00497",2,"13701","07029721",8520,13,1,101713214]
[40700,"ОСНОВНА ШКОЛА ЈОВАН ДУЧИЋ","НОВИ БЕОГРАД","840","-","0000001573660","660","-","41","601","00499",2,"13701","07029730",8520,13,1,100228223]
[40700,"ОСНОВНА ШКОЛА МИЛАН РАКИЋ","НОВИ БЕОГРАД","840","-","0000001579660","660","-","83","601","00504",2,"13701","07029748",8520,13,1,101831752]
[40700,"ОСНОВНА ШКОЛА РАТКО МИТРОВИЋ","НОВИ БЕОГРАД","840","-","0000001754660","660","-","47","601","00509",2,"13701","07029756",8520,13,1,101555279]
[40700,"ОСНОВНА ШКОЛА ДУШКО РАДОВИЋ","НОВИ БЕОГРАД","840","-","0000001570660","660","-","20","601","00493",2,"13701","07029764",8520,13,1,101712776]
[40700,"ОСНОВНА ШКОЛА НОВИ БЕОГРАД","НОВИ БЕОГРАД","840","-","0000001581660","660","-","97","601","01570",2,"13701","07029802",8520,13,1,101969730]
[40700,"ОСНОВНА ШКОЛА ВЛАДА ОБРАДОВИЋ-КАМЕНИ","НОВИ БЕОГРАД","840","-","0000001578660","660","-","76","601","00486",2,"13701","07053657",8520,13,1,101200859]
[40700,"ОСНОВНА ШКОЛА 20. ОКТОБАР","НОВИ БЕОГРАД","840","-","0000001804660","660","-","09","601","00478",2,"13701","07053967",8520,13,1,100137179]
[40700,"ОСНОВНА ШКОЛА ЛАЗА КОСТИЋ","НОВИ БЕОГРАД","840","-","0000001810660","660","-","51","601","00512",2,"13701","07060467",8520,13,1,101670498]
[40700,"ОСНОВНА ШКОЛА РАДИВОЈ ПОПОВИЋ","ЗЕМУН","840","-","0000001833660","660","-","18","601","01571",2,"13701","07074263",8520,21,1,100014088]
[40700,"ОСНОВНА ШКОЛА КНЕГИЊА МИЛИЦА","НОВИ БЕОГРАД","840","-","0000001850660","660","-","40","601","00517",2,"13701","07087381",8520,13,1,101681449]
[40700,"ОСНОВНА ШКОЛА МЛАДОСТ НОВИ БЕОГРАД","НОВИ БЕОГРАД","840","-","0000001882660","660","-","70","601","00505",2,"13701","07457057",8520,13,1,101201562]
[40700,"ОСНОВНА ШКОЛА БОРИСЛАВ ПЕКИЋ","НОВИ БЕОГРАД","840","-","0000001925660","660","-","80","601","00480",2,"13701","17412434",8520,13,1,101954553]
[40700,"ОСНОВНА ШКОЛА МИХАЈЛО ПУПИН","ЗЕМУН","840","-","0000002107660","660","-","93","601","80395",2,"13701","17754378",8520,21,1,106246235]
[40700,"ОСНОВНА ШКОЛА САВА ШУМАНОВИЋ","ЗЕМУН","840","-","0000002106660","660","-","86","601","80394",2,"13701","17754386",8520,21,1,106246227]
[40700,"ОСНОВНА ШКОЛА ДРАГАН ЛУКИЋ","НОВИ БЕОГРАД","840","-","0000002116660","660","-","59","601","80933",2,"13701","17806343",8520,13,1,107197227]
[40700,"ЕКОНОМСКА ШКОЛА НАДА ДИМИЋ","ЗЕМУН","840","-","0000001870660","660","-","83","601","01831",2,"13702","07021267",8532,21,1,100015460]
[40700,"МЕДИЦИНСКА ШКОЛА НАДЕЖДА ПЕТРОВИЋ","ЗЕМУН","840","-","0000001536660","660","-","73","601","01834",2,"13702","07021275",8531,21,1,101540883]
[40700,"ЗЕМУНСКА ГИМНАЗИЈА","ЗЕМУН","840","-","0000001871660","660","-","90","601","01689",2,"13702","07021291",8531,21,1,100010159]
[40700,"ЕЛЕКТРОТЕХНИЧКА ШКОЛА ЗЕМУН","ЗЕМУН","840","-","0000001541660","660","-","11","601","01832",2,"13702","07026641",8532,21,1,101540955]
[40700,"ТЕХНИЧКА ШКОЛА ЗМАЈ","БЕОГРАД, НОВИ БЕОГРАД","840","-","0000001535660","660","-","66","601","01833",2,"13702","07026650",8532,13,1,100102295]
[40700,"ПРАВНО-БИРОТЕХНИЧКА ШКОЛА ДИМИТРИЈЕ ДАВИДОВИЋ","ЗЕМУН","840","-","0000001824660","660","-","52","601","01835",2,"13702","07026684",8532,21,1,100102287]
[40700,"Х ГИМНАЗИЈА МИХАЈЛО ПУПИН","НОВИ БЕОГРАД","840","-","0000000967660","660","-","67","601","01688",2,"13702","07047177",8531,13,1,100228602]
[40700,"ГРАФИЧКА ШКОЛА","НОВИ БЕОГРАД","840","-","0000001577660","660","-","69","601","01830",2,"13702","07047380",8532,13,1,101995752]
[40700,"IХ ГИМНАЗИЈА МИХАИЛО ПЕТРОВИЋ-АЛАС","НОВИ БЕОГРАД","840","-","0000001860660","660","-","13","601","01687",2,"13702","07093314",8531,13,1,100428013]
[40700,"ТЕХНИЧКА ШКОЛА НОВИ БЕОГРАД","НОВИ БЕОГРАД","840","-","0000001861660","660","-","20","601","01837",2,"13702","07093322",8532,13,1,102216642]
[40700,"САОБРАЋАЈНО-ТЕХНИЧКА ШКОЛА","ЗЕМУН","840","-","0000001807660","660","-","30","601","01836",2,"13702","17076469",8532,21,1,100016067]
[40700,"РЕГИОНАЛНИ ЦЕНТАР ЗА ТАЛЕНТЕ ИЗ ПРИРОДНИХ И ТЕХНИЧКИХ НАУКА БЕОГРАД","ЗЕМУН","840","-","0000002026660","660","-","11","601","02133",2,"13702","17171887",8559,21,1,101540465]
[40700,"ШКОЛА ЗА НОВЕ ТЕХНОЛОГИЈЕ ПОЛИТЕХНИКА","БЕОГРАД-ЗЕМУН","840","-","0000002080660","660","-","98","601","10071",2,"13702","17642197",8532,21,1,104266332]
[40700,"СРЕДЊА ТУРИСТИЧКА ШКОЛА","НОВИ БЕОГРАД","840","-","0000002082660","660","-","15","601","10073",2,"13702","17642219",8532,13,1,104266357]
[40700,"ВИСОКА ЗДРАВСТВЕНА ШКОЛА СТРУКОВНИХ СТУДИЈА У БЕОГРАДУ-ЗЕМУН","ЗЕМУН","840","-","0000001105660","660","-","63","601","02206",2,"13704","07014678",8542,21,1,100010255]
[40700,"ФАКУЛТЕТ ДРАМСКИХ УМЕТНОСТИ","НОВИ БЕОГРАД","840","-","0000001612660","660","-","23","601","02301",2,"13704","07029799",8542,13,1,101554850]
[40700,"УНИВЕРЗИТЕТ  У БЕОГРАДУ - ПОЉОПРИВРЕДНИ ФАКУЛТЕТ","ЗЕМУН","840","-","0000001872660","660","-","97","601","02269",2,"13704","07029845",8542,21,1,100198802]
[40700,"ТЕХНИКУМ ТАУРУНУМ - ВИСОКА ИНЖИЊЕРИЈСКА ШКОЛА СТРУКОВНИХ СТУДИЈА У БЕОГРАДУ-ЗЕМУН","ЗЕМУН","840","-","0000001852660","660","-","54","601","02187",2,"13704","07039816",8542,21,1,100091193]
[40700,"ВИСОКА ТУРИСТИЧКА ШКОЛА СТРУКОВНИХ СТУДИЈА","НОВИ БЕОГРАД","840","-","0000002083660","660","-","22","601","10074",2,"13704","17642162",8542,13,1,104266365]
[40700,"ВИСОКА ТЕХНИЧКА ШКОЛА СТРУКОВНИХ СТУДИЈА","НОВИ БЕОГРАД","840","-","0000002081660","660","-","08","601","10072",2,"13704","17642189",8542,13,1,104266349]
[40700,"КОНФЕРЕНЦИЈА АКАДЕМИЈА СТРУКОВНИХ СТУДИЈА СРБИЈЕ","НОВИ БЕОГРАД","840","-","0000002119660","660","-","80","601","80981",2,"13704","17837214",8542,13,1,107464858]
[40700,"УСТАНОВА ДОМ КУЛТУРЕ СТУДЕНТСКИ ГРАД У БЕОГРАДУ","НОВИ БЕОГРАД","840","-","0000000497664","664","-","63","601","03648",2,"13705","07053029",8559,13,1,101678687]
[40700,"АГЕНЦИЈА ЗА БЕЗБЕДНОСТ САОБРАЋАЈА","НОВИ БЕОГРАД","840","-","0000001183664","664","-","15","601","80831",6,"14810","17791303",8424,13,1,106651829]
[40700,"МГСИ-УПРАВА ЗА ТРАНСПОРТ ОПАСНОГ ТЕРЕТА","БЕОГРАД","","-","","","-","","601","14812",1,"14812","17855212",8411,13,0,107914032]
[40700,"МПШВ-ДИРЕКЦИЈА ЗА НАЦИОНАЛНЕ РЕФЕРЕНТНЕ ЛАБОРАТОРИЈЕ","ЗЕМУН","","-","","","-","","601","14845",1,"14845","17855140",8411,21,0,108508191]
[40700,"ЗАВОД ЗА ЗАШТИТУ ПРИРОДЕ СРБИЈЕ","НОВИ БЕОГРАД","840","-","0000000518664","664","-","16","601","59019",6,"14850","17798561",9104,13,1,106844260]
[40700,"КОМЕСАРИЈАТ ЗА ИЗБЕГЛИЦЕ И МИГРАЦИЈЕ","БЕОГРАД","","-","","","-","","601","41000",1,"41000","07898100",8411,13,0,102199609]
[40700,"КЛИНИЧКО БОЛНИЧКИ ЦЕНТАР ЗЕМУН","БЕОГРАД","840","-","0000000621661","661","-","67","601","02536",2,"95000","07030100",8610,21,3,100105205]
[40700,"ДОМ ЗДРАВЉА НОВИ БЕОГРАД","НОВИ БЕОГРАД","840","-","0000000637661","661","-","82","601","02414",2,"95000","07033397",8621,13,3,101674909]
[40700,"КЛИНИЧКО БОЛНИЧКИ ЦЕНТАР БЕЖАНИЈСКА КОСА","БЕОГРАД","840","-","0000000633661","661","-","54","601","02537",2,"95000","07039743",8610,21,3,100200745]
[40700,"ДОМ ЗДРАВЉА ЗЕМУН","ЗЕМУН","840","-","0000000626661","661","-","05","601","02415",2,"95000","07041632",8621,21,3,100203635]
[40700,"ИНСТИТУТ ЗА ЗДРАВСТВЕНУ ЗАШТИТУ МАЈКЕ И ДЕТЕТА СРБИЈЕ ДР ВУКАН ЧУПИЋ","БЕОГРАД","840","-","0000000625661","661","-","95","601","02535",2,"95000","07046219",8610,13,3,100136676]
[40700,"ИСТОРИЈСКИ АРХИВ БЕОГРАДА","НОВИ БЕОГРАД","840","-","0000000500664","664","-","84","501","03646",2,"09401","07033290",9101,13,1,101203476]
[40700,"ПОЗОРИШТЕ ЛУТАКА ПИНОКИО","НОВИ БЕОГРАД","840","-","0000000583664","664","-","83","501","03647",2,"09401","07066171",9001,13,1,100008787]
[40700,"ПРЕДШКОЛСКА УСТАНОВА ДР СИМА МИЛОШЕВИЋ","ЗЕМУН","840","-","0000000606661","661","-","59","501","03644",2,"80986","07041055",8891,21,1,100008875]
[40700,"ПРЕДШКОЛСКА УСТАНОВА 11. АПРИЛ","НОВИ БЕОГРАД","840","-","0000000665661","661","-","84","501","03643",2,"80986","07079460",8891,13,1,101670061]
[40700,"ПРЕДШКОЛСКА УСТАНОВА СУРЧИН","СУРЧИН","840","-","0000000836661","661","-","20","501","80936",2,"80986","17806521",8891,124,1,107206628]
[40700,"ГРАД БЕОГРАД-ГРАДСКА ОПШТИНА СУРЧИН-БУЏЕТ","СУРЧИН","840","-","0000000222640","640","-","53","124","09671",0,"09671","17587714",8411,124,0,103583030]
[40700,"ПРЕДСЕДНИК ГРАДСКЕ ОПШТИНЕ СУРЧИН","СУРЧИН","","-","","","-","","124","80038",1,"80038","17587714",8411,124,0,103583030]
[40700,"СКУПШТИНА ГРАДСКЕ ОПШТИНЕ СУРЧИН","СУРЧИН","","-","","","-","","124","92239",1,"92239","17587714",8411,124,0,103583030]
[40700,"ВЕЋЕ ГРАДСКЕ ОПШТИНЕ СУРЧИН","СУРЧИН","","-","","","-","","124","92240",1,"92240","17587714",8411,124,0,103583030]
[40700,"МЕСНА ЗАЈЕДНИЦА БОЉЕВЦИ","СУРЧИН","840","-","0000002623645","645","-","64","124","04415",2,"92241","07019475",8411,124,1,100104552]
[40700,"УПРАВА ГРАДСКЕ ОПШТИНЕ СУРЧИН","СУРЧИН","","-","","","-","","124","92241",1,"92241","17587714",8411,124,0,103583030]
[40700,"КУЛТУРНИ ЦЕНТАР СУРЧИН - УСТАНОВА КУЛТУРЕ","СУРЧИН","840","-","0000001160664","664","-","48","124","96380",2,"92241","17882562",9004,124,1,109303275]
[40700,"ОПШТИНСКО ЈАВНО ПРАВОБРАНИЛАШТВО СУРЧИН","СУРЧИН","","-","","","-","","124","94516",1,"94516","17587714",6910,124,0,103583030]
[40700,"ГРАД БЕОГРАД - ГРАДСКА ОПШТИНА ЗЕМУН - БУЏЕТ","ЗЕМУН","840","-","0000000140640","640","-","61","021","04411",0,"04411","07000073",8411,21,0,100014908]
[40700,"ГРАДСКА ОПШТИНА ЗЕМУН - ОПШТИНСКА УПРАВА","ЗЕМУН","","-","","","-","","021","04412",1,"04412","07000073",8411,21,0,100014908]
[40700,"СКУПШТИНА ГРАДСКЕ ОПШТИНЕ ЗЕМУН","ЗЕМУН","","-","","","-","","021","91744",1,"91744","07000073",8411,21,0,100014908]
[40700,"ПРЕДСЕДНИК ГРАДСКЕ ОПШТИНЕ ЗЕМУН","ЗЕМУН","","-","","","-","","021","91745",1,"91745","07000073",8411,21,0,100014908]
[40700,"ВЕЋЕ ГРАДСКЕ ОПШТИНЕ ЗЕМУН","ЗЕМУН","","-","","","-","","021","91746",1,"91746","07000073",8411,21,0,100014908]
[40700,"ПРАВОБРАНИЛАШТВО ГРАДСКЕ ОПШТИНЕ ЗЕМУН","ЗЕМУН","","-","","","-","","021","92448",1,"92448","07000073",6910,21,0,100014908]
[40700,"ГРАД БЕОГРАД-ГРАДСКА ОПШТИНА НОВИ БЕОГРАД-БУЏЕТ","НОВИ БЕОГРАД","840","-","0000000145640","640","-","96","013","04249",0,"04249","07047541",8411,13,0,102265706]
[40700,"ВЕЋЕ ГРАДСКЕ ОПШТИНЕ НОВИ БЕОГРАД","НОВИ БЕОГРАД","","-","","","-","","013","04250",1,"04250","07047541",8411,13,0,102265706]
[40700,"МЕСНА ЗАЈЕДНИЦА САВА","НОВИ БЕОГРАД","840","-","0000003248645","645","-","74","013","04270",2,"04251","07007744",8411,13,1,100393326]
[40700,"МЕСНА ЗАЈЕДНИЦА ФОНТАНА","НОВИ БЕОГРАД","840","-","0000002593645","645","-","48","013","04277",2,"04251","07009739",8411,13,1,100137066]
[40700,"МЕСНА ЗАЈЕДНИЦА САВСКИ КЕЈ","НОВИ БЕОГРАД","840","-","0000003342645","645","-","53","013","04264",2,"04251","07010761",8411,13,1,100393367]
[40700,"МЕСНА ЗАЈЕДНИЦА СТУДЕНТСКИ ГРАД","НОВИ БЕОГРАД","840","-","0000002554645","645","-","66","013","04278",2,"04251","07010770",8411,13,1,100395745]
[40700,"МЕСНА ЗАЈЕДНИЦА СТАРО САЈМИШТЕ","НОВИ БЕОГРАД","840","-","0000002574645","645","-","12","013","04274",2,"04251","07010788",8411,13,1,100428941]
[40700,"МЕСНА ЗАЈЕДНИЦА БЕЖАНИЈА","НОВИ БЕОГРАД","840","-","0000002564645","645","-","39","013","04254",2,"04251","07010796",8411,13,1,100428968]
[40700,"МЕСНА ЗАЈЕДНИЦА ПАРИСКЕ КОМУНЕ","НОВИ БЕОГРАД","840","-","0000002497645","645","-","55","013","04280",2,"04251","07010800",8411,13,1,100430210]
[40700,"МЕСНА ЗАЈЕДНИЦА ИКАРУС","НОВИ БЕОГРАД","840","-","0000002510645","645","-","49","013","04267",2,"04251","07010826",8411,13,1,100393199]
[40700,"МЕСНА ЗАЈЕДНИЦА СТАРИ АЕРОДРОМ","НОВИ БЕОГРАД","840","-","0000002475645","645","-","95","013","04273",2,"04251","07010869",8411,13,1,101714581]
[40700,"МЕСНА ЗАЈЕДНИЦА АКАДЕМИЈА","НОВИ БЕОГРАД","840","-","0000002692645","645","-","62","013","04257",2,"04251","07010877",8411,13,1,100428976]
[40700,"МЕСНА ЗАЈЕДНИЦА ГАЗЕЛА","НОВИ БЕОГРАД","840","-","0000003277645","645","-","83","013","04256",2,"04251","07010885",8411,13,1,100430898]
[40700,"МЕСНА ЗАЈЕДНИЦА УШЋЕ","НОВИ БЕОГРАД","840","-","0000002520645","645","-","22","013","04276",2,"04251","07010907",8411,13,1,100393641]
[40700,"МЕСНА ЗАЈЕДНИЦА ЛЕДИНЕ","НОВИ БЕОГРАД","840","-","0000002543645","645","-","86","013","04268",2,"04251","07027877",8411,13,1,101674763]
[40700,"МЕСНА ЗАЈЕДНИЦА ПАВИЉОНИ","НОВИ БЕОГРАД","840","-","0000002584645","645","-","82","013","04269",2,"04251","07043333",8411,13,1,101714006]
[40700,"УПРАВА ГРАДСКЕ ОПШТИНЕ НОВИ БЕОГРАД","НОВИ БЕОГРАД","","-","","","-","","013","04251",1,"04251","07047541",8411,13,0,102265706]
[40700,"МЕСНА ЗАЈЕДНИЦА БЕЖАНИЈСКИ БЛОКОВИ","НОВИ БЕОГРАД","840","-","0000003367645","645","-","34","013","04260",2,"04251","07058969",8411,13,1,101832501]
[40700,"МЕСНА ЗАЈЕДНИЦА ДУНАВСКИ КЕЈ","НОВИ БЕОГРАД","840","-","0000003371645","645","-","62","013","04258",2,"04251","07060416",8411,13,1,100140233]
[40700,"МЕСНА ЗАЈЕДНИЦА МЛАДОСТ","НОВИ БЕОГРАД","840","-","0000003421645","645","-","24","013","04263",2,"04251","07088035",8411,13,1,100393342]
[40700,"МЕСНА ЗАЈЕДНИЦА БЕЖАНИЈСКА КОСА","НОВИ БЕОГРАД","840","-","0000003528645","645","-","94","013","04255",2,"04251","17338048",8411,13,1,100428950]
[40700,"НОВОБЕОГРАДСКА КУЛТУРНА МРЕЖА - НБКМ","НОВИ БЕОГРАД","840","-","0000001156664","664","-","20","013","80271",2,"04251","17738658",9001,13,1,105749164]
[40700,"МЕСНА ЗАЈЕДНИЦА ДР. ИВАН РИБАР","БЕОГРАД - НОВИ БЕОГРАД","840","-","0000004220645","645","-","88","013","98195",2,"04251","17883631",8411,13,1,109418510]
[40700,"ТУРИСТИЧКА ОРГАНИЗАЦИЈА НОВИ БЕОГРАД ЗА ПРОМОЦИЈУ ТУРИЗМА, РЕКРЕАЦИЈЕ И ЗДРАВОГ ЖИВОТА","НОВИ БЕОГРАД","840","-","0000001161664","664","-","55","013","96381",2,"04251","17883763",8413,13,1,109306780]
[40700,"ЦЕНТАР ЗА БРИГУ О СТАРИМА, ДЕЦИ И ОСОБАМА СА ИНВАЛИДИТЕТОМ НОВИ БЕОГРАД","НОВИ БЕОГРАД","840","-","0000001168664","664","-","07","013","96457",2,"04251","17884336",8810,13,1,109384044]
[40700,"СКУПШТИНА ГРАДСКЕ ОПШТИНЕ НОВИ БЕОГРАД","НОВИ БЕОГРАД","","-","","","-","","013","92513",1,"92513","07047541",8411,13,0,102265706]
[40700,"ПРЕДСЕДНИК ГРАДСКЕ ОПШТИНЕ НОВИ БЕОГРАД","НОВИ БЕОГРАД","","-","","","-","","013","92514",1,"92514","07047541",8411,13,0,102265706]
[40700,"ОПШТИНСКО ПРАВОБРАНИЛАШТВО ГРАДСКЕ ОПШТИНЕ НОВИ БЕОГРАД","НОВИ БЕОГРАД","","-","","","-","","013","92515",1,"92515","07047541",6910,13,0,102265706]
[40710,"ЦЕНТАР ЗА СОЦИЈАЛНИ РАД СТАРА ПАЗОВА","СТАРА ПАЗОВА","840","-","0000000518661","661","-","25","601","00219",2,"13400","08150605",8899,235,1,100486090]
[40710,"ОСНОВНА ШКОЛА ХЕРОЈ ЈАНКО ЧМЕЛИК","СТАРА ПАЗОВА","840","-","0000001406660","660","-","36","601","00525",2,"13701","08011192",8520,235,1,102151002]
[40710,"ОСНОВНА ШКОЛА МИЛАН ХАЏИЋ ВОЈКА","СТАРА ПАЗОВА","840","-","0000001393660","660","-","42","601","00521",2,"13701","08011214",8520,235,1,100531377]
[40710,"ОСНОВНА ШКОЛА 23. ОКТОБАР ГОЛУБИНЦИ","СТАРА ПАЗОВА","840","-","0000001404660","660","-","22","601","00518",2,"13701","08011257",8520,235,1,100534669]
[40710,"ОСНОВНА ШКОЛА БОШКО ПАЛКОВЉЕВИЋ-ПИНКИ","СТАРА ПАЗОВА","840","-","0000001405660","660","-","29","601","00519",2,"13701","08011290",8520,235,1,100535014]
[40710,"ШКОЛА ЗА ОСНОВНО И СРЕДЊЕ ОБРАЗОВАЊЕ АНТОН СКАЛА","СТАРА ПАЗОВА","840","-","0000001411660","660","-","71","601","01574",2,"13701","08011338",8520,235,1,100532329]
[40710,"ОСНОВНА ШКОЛА РАСТКО НЕМАЊИЋ-СВЕТИ САВА НОВА ПАЗОВА","СТАРА ПАЗОВА","840","-","0000001511660","660","-","92","601","00523",2,"13701","08112614",8520,235,1,100536863]
[40710,"ОСНОВНА ШКОЛА СЛОБОДАН САВКОВИЋ СТАРИ БАНОВЦИ","СТАРА ПАЗОВА","840","-","0000001512660","660","-","02","601","00524",2,"13701","08165882",8520,235,1,100532458]
[40710,"ОСНОВНА ШКОЛА НИКОЛА ТЕСЛА НОВИ БАНОВЦИ","СТАРА ПАЗОВА","840","-","0000001514660","660","-","16","601","00522",2,"13701","08165904",8520,235,1,100532546]
[40710,"ОСНОВНА ШКОЛА ВЕРА МИШЧЕВИЋ БЕЛЕГИШ","СТАРА ПАЗОВА","840","-","0000001513660","660","-","09","601","00520",2,"13701","08165912",8520,235,1,100532224]
[40710,"ОСНОВНА ШКОЛА СИМЕОН  АРАНИЦКИ","СТАРА ПАЗОВА","840","-","0000002108660","660","-","03","601","80399",2,"13701","08907323",8520,235,1,106246552]
[40710,"ТЕХНИЧКА ШКОЛА СТАРА ПАЗОВА","СТАРА ПАЗОВА","840","-","0000001515660","660","-","23","601","01839",2,"13702","08170622",8532,235,1,100535508]
[40710,"ЕКОНОМСКО-ТРГОВИНСКА ШКОЛА ВУК КАРАЏИЋ","СТАРА ПАЗОВА","840","-","0000001516660","660","-","30","601","01838",2,"13702","08170649",8532,235,1,100535516]
[40710,"ГИМНАЗИЈА БРАНКО РАДИЧЕВИЋ","СТАРА ПАЗОВА","840","-","0000001519660","660","-","51","601","01690",2,"13702","08228426",8531,235,1,100535524]
[40710,"ОСНОВНИ СУД У СТАРОЈ ПАЗОВИ","СТАРА ПАЗОВА","","-","","","-","","601","91299",2,"30226","08945543",8423,235,5,108341622]
[40710,"ОСНОВНО ЈАВНО ТУЖИЛАШТВО У СТАРОЈ ПАЗОВИ","СТАРА ПАЗОВА","","-","","","-","","601","91343",2,"30229","08945608",8423,235,5,108348020]
[40710,"ДОМ ЗДРАВЉА ДР ЈОВАН ЈОВАНОВИЋ-ЗМАЈ","СТАРА ПАЗОВА","840","-","0000000481661","661","-","57","601","02416",2,"95000","08010714",8621,235,3,100535469]
[40710,"ОПШТИНА СТАРА ПАЗОВА-БУЏЕТ","СТАРА ПАЗОВА","840","-","0000000143640","640","-","82","235","08975",0,"08975","08358257",8411,235,0,101241970]
[40710,"НАРОДНА БИБЛИОТЕКА ДОСИТЕЈ ОБРАДОВИЋ","СТАРА ПАЗОВА","840","-","0000000434664","664","-","10","235","08992",2,"08976","08010781",9101,235,1,100532265]
[40710,"ПРЕДШКОЛСКА УСТАНОВА ПОЛЕТАРАЦ","СТАРА ПАЗОВА","840","-","0000000496661","661","-","65","235","08988",2,"08976","08011389",8891,235,1,100532763]
[40710,"МЕСНА ЗАЈЕДНИЦА ВОЈКА","СТАРА ПАЗОВА","840","-","0000001751645","645","-","71","235","08979",2,"08976","08011460",8411,235,1,100534765]
[40710,"МЕСНА ЗАЈЕДНИЦА НОВИ БАНОВЦИ","СТАРА ПАЗОВА","840","-","0000001735645","645","-","56","235","08983",2,"08976","08011478",8411,235,1,102111343]
[40710,"МЕСНА ЗАЈЕДНИЦА ГОЛУБУНЦИ","СТАРА ПАЗОВА","840","-","0000001683645","645","-","80","235","08980",2,"08976","08011486",8411,235,1,101240810]
[40710,"МЕСНА ЗАЈЕДНИЦА БЕЛЕГИШ","СТАРА ПАЗОВА","840","-","0000001766645","645","-","79","235","08978",2,"08976","08011494",8411,235,1,100488401]
[40710,"МЕСНА ЗАЈЕДНИЦА СТАРА ПАЗОВА","СТАРА ПАЗОВА","840","-","0000001664645","645","-","44","235","08984",2,"08976","08011508",8411,235,1,100531891]
[40710,"МЕСНА ЗАЈЕДНИЦА НОВА ПАЗОВА","СТАРА ПАЗОВА","840","-","0000001701645","645","-","12","235","08982",2,"08976","08011516",8411,235,1,102172149]
[40710,"МЕСНА ЗАЈЕДНИЦА СУРДУК","СТАРА ПАЗОВА","840","-","0000001783645","645","-","04","235","08986",2,"08976","08011524",8411,235,1,100488410]
[40710,"МЕСНА ЗАЈЕДНИЦА СТАРИ БАНОВЦИ","СТАРА ПАЗОВА","840","-","0000001719645","645","-","41","235","08985",2,"08976","08011532",8411,235,1,100488209]
[40710,"МЕСНА ЗАЈЕДНИЦА КРЊЕШЕВЦИ","СТАРА ПАЗОВА","840","-","0000001797645","645","-","05","235","08981",2,"08976","08016542",8411,235,1,102110813]
[40710,"ЈАВНА УСТАНОВА ЦЕНТАР ЗА КУЛТУРУ СТАРА ПАЗОВА","СТАРА ПАЗОВА","840","-","0000000432664","664","-","93","235","08990",2,"08976","08028796",8559,235,1,101243248]
[40710,"ПРЕДШКОЛСКА УСТАНОВА РАДОСТ НОВИ БАНОВЦИ","СТАРА ПАЗОВА","840","-","0000000521661","661","-","46","235","08989",2,"08976","08174261",8891,235,1,100487468]
[40710,"ОПШТИНСКА УПРАВА СТАРА ПАЗОВА","СТАРА ПАЗОВА","","-","","","-","","235","08976",1,"08976","08358257",8411,235,0,101241970]
[40710,"МЕСНА ЗАЈЕДНИЦА БАНОВЦИ-ДУНАВ","СТАРА ПАЗОВА","840","-","0000001841645","645","-","22","235","08987",2,"08976","08577587",8411,235,1,100484607]
[40710,"ТУРИСТИЧКА ОРГАНИЗАЦИЈА ОПШТИНЕ СТАРА ПАЗОВА","СТАРА ПАЗОВА","840","-","0000001151664","664","-","82","235","80404",2,"08976","08908583",8413,235,1,106286012]
[40720,"ЦЕНТАР ЗА СОЦИЈАЛНИ РАД ДУНАВ ИНЂИЈА","ИНЂИЈА","840","-","0000000519661","661","-","32","601","00220",2,"13400","08150524",8899,212,1,101438426]
[40720,"ОСНОВНА ШКОЛА ЈОВАН ПОПОВИЋ","ИНЂИЈА","840","-","0000001379660","660","-","41","601","00531",2,"13701","08003882",8520,212,1,100703080]
[40720,"ОСНОВНА ШКОЛА БРАНКО РАДИЧЕВИЋ МАРАДИК","ИНЂИЈА","840","-","0000001381660","660","-","55","601","00527",2,"13701","08003963",8520,212,1,100703119]
[40720,"ОСНОВНА ШКОЛА ДР ЂОРЂЕ НАТОШЕВИЋ НОВИ СЛАНКАМЕН","ИНЂИЈА","840","-","0000001374660","660","-","06","601","00529",2,"13701","08003971",8520,212,1,101489821]
[40720,"ОСНОВНА ШКОЛА ПЕТАР КОЧИЋ","ИНЂИЈА","840","-","0000001369660","660","-","68","601","00532",2,"13701","08003980",8520,212,1,100702079]
[40720,"ОСНОВНА ШКОЛА 22. ЈУЛ КРЧЕДИН","ИНЂИЈА","840","-","0000001383660","660","-","69","601","00526",2,"13701","08003998",8520,212,1,101438153]
[40720,"ОСНОВНА ШКОЛА ДУШАН ЈЕРКОВИЋ","ИНЂИЈА","840","-","0000001372660","660","-","89","601","00530",2,"13701","08004005",8520,212,1,100702206]
[40720,"ОСНОВНА ШКОЛА БРАЋА ГРУЛОВИЋ БЕШКА","ИНЂИЈА","840","-","0000001382660","660","-","62","601","00528",2,"13701","08004013",8520,212,1,101438188]
[40720,"ОСНОВНА ШКОЛА СЛОБОДАН БАЈИЋ-ПАЈА НОВИ КАРЛОВЦИ","ИНЂИЈА","840","-","0000001376660","660","-","20","601","00534",2,"13701","08004021",8520,212,1,101488097]
[40720,"ОСНОВНА ШКОЛА РУЖА ЂУРЂЕВИЋ-ЦРНА ЧОРТАНОВЦИ","ИНЂИЈА","840","-","0000001384660","660","-","76","601","00533",2,"13701","08004030",8520,212,1,100701090]
[40720,"ТЕХНИЧКА ШКОЛА МИХАЈЛО ПУПИН","ИНЂИЈА","840","-","0000001510660","660","-","85","601","01840",2,"13702","08004056",8532,212,1,100698386]
[40720,"ГИМНАЗИЈА ИНЂИЈА","ИНЂИЈА","840","-","0000001507660","660","-","64","601","01691",2,"13702","08111634",8531,212,1,100702812]
[40720,"СРЕДЊА ШКОЛА ДР ЂОРЂЕ НАТОШЕВИЋ","ИНЂИЈА","840","-","0000001529660","660","-","24","601","01841",2,"13702","08656550",8532,212,1,100701813]
[40720,"ДОМ ЗДРАВЉА ДР МИЛОРАД М. ПАВЛОВИЋ","ИНЂИЈА","840","-","0000000461661","661","-","14","601","02417",2,"95000","08004102",8621,212,3,101799726]
[40720,"СПЕЦИЈАЛНА БОЛНИЦА ЗА НЕУРОЛОШКА И ПОСТТРАУМАТОЛОШКА СТАЊА ДР БОРИВОЈ ГЊАТИЋ СТАРИ СЛАНКАМЕН","ИНЂИЈА","840","-","0000000462661","661","-","21","601","02587",2,"95000","08101060",8610,212,3,101798934]
[40720,"ОПШТИНА ИНЂИЈА-БУЏЕТ","ИНЂИЈА","840","-","0000000142640","640","-","75","212","08444",0,"08444","08027536",8411,212,0,102198438]
[40720,"МЕСНА ЗАЈЕДНИЦА НОВИ КАРЛОВЦИ","ИНЂИЈА","840","-","0000001610645","645","-","54","212","08456",2,"08445","08003378",8411,212,1,101438231]
[40720,"НАРОДНА БИБЛИОТЕКА ДР ЂОРЂЕ НАТОШЕВИЋ","ИНЂИЈА","840","-","0000000460664","664","-","95","212","08462",2,"08445","08004099",9101,212,1,100702845]
[40720,"МЕСНА ЗАЈЕДНИЦА НОВИ СЛАНКАМЕН","ИНЂИЈА","840","-","0000001495645","645","-","25","212","08460",2,"08445","08004161",8411,212,1,101437925]
[40720,"МЕСНА ЗАЈЕДНИЦА СТАРИ СЛАНКАМЕН","ИНЂИЈА","840","-","0000001515645","645","-","68","212","08458",2,"08445","08004170",8411,212,1,101437950]
[40720,"МЕСНА ЗАЈЕДНИЦА МАРАДИК","ИНЂИЈА","840","-","0000001475645","645","-","79","212","08455",2,"08445","08004188",8411,212,1,100702597]
[40720,"МЕСНА ЗАЈЕДНИЦА КРЧЕДИН","ИНЂИЈА","840","-","0000001572645","645","-","79","212","08453",2,"08445","08004196",8411,212,1,101802516]
[40720,"МЕСНА ЗАЈЕДНИЦА БЕШКА","ИНЂИЈА","840","-","0000001554645","645","-","50","212","08451",2,"08445","08004200",8411,212,1,101613333]
[40720,"МЕСНА ЗАЈЕДНИЦА ЧОРТАНОВЦИ","ИНЂИЈА","840","-","0000001591645","645","-","18","212","08459",2,"08445","08004218",8411,212,1,100699428]
[40720,"ОПШТИНСКА УПРАВА ИНЂИЈА","ИНЂИЈА","","-","","","-","","212","08445",1,"08445","08027536",8411,212,0,102198438]
[40720,"МЕСНА ЗАЈЕДНИЦА ЉУКОВО","ИНЂИЈА","840","-","0000001456645","645","-","43","212","08454",2,"08445","08102724",8411,212,1,102449569]
[40720,"МЕСНА ЗАЈЕДНИЦА ЈАРКОВЦИ","ИНЂИЈА","840","-","0000001534645","645","-","07","212","08452",2,"08445","08103283",8411,212,1,101437941]
[40720,"МЕСНА ЗАЈЕДНИЦА СЛАНКАМЕНАЧКИ ВИНОГРАДИ","ИНЂИЈА","840","-","0000001628645","645","-","83","212","08457",2,"08445","08103925",8411,212,1,101437933]
[40720,"ПРЕДШКОЛСКА УСТАНОВА БОШКО БУХА","ИНЂИЈА","840","-","0000000516661","661","-","11","212","08461",2,"08445","08127344",8891,212,1,101489725]
[40720,"МЕСНА ЗАЈЕДНИЦА ИНЂИЈА","ИНЂИЈА","840","-","0000002021645","645","-","21","212","08450",2,"08445","08692408",8411,212,1,100700802]
[40720,"ТУРИСТИЧКА ОРГАНИЗАЦИЈА ОПШТИНЕ ИНЂИЈА","ИНЂИЈА","840","-","0000001153664","664","-","96","212","10034",2,"08445","08850712",8413,212,1,104112533]
[40720,"КУЛТУРНИ ЦЕНТАР ИНЂИЈА","ИНЂИЈА","840","-","0000000937664","664","-","39","212","80101",2,"08445","08867364",9004,212,1,104781295]
[40720,"ОРГАНИ ОПШТИНЕ","ИНЂИЈА","","-","","","-","","212","10051",1,"10051","08027536",8411,212,0,102198438]
[40800,"СПЕЦИЈАЛНА ЗАТВОРСКА БОЛНИЦА У БЕОГРАДУ","БЕОГРАД","840","-","0000000747621","621","-","02","601","00011",2,"10311","17621408",8423,19,1,103698511]
[40800,"ОКРУЖНИ ЗАТВОР У БЕОГРАДУ","БЕОГРАД","840","-","0000000734621","621","-","08","601","00012",2,"10311","17621483",8423,19,1,103698520]
[40800,"МФ - ПОРЕСКА УПРАВА - РЕГИОНАЛНИ ЦЕНТАР ПРИШТИНА - БЕОГРАД","БЕОГРАД","840","-","0000000914621","621","-","07","601","03178",4,"10522","17862146",8411,19,0,100020943]
[40800,"МФ-ПОРЕСКА УПРАВА","БЕОГРАД","","-","","","-","","601","10522",1,"10522","17862146",8411,19,0,100020943]
[40800,"МЕЂУКОМУНАЛНИ АРХИВ ПЕЋ","КОСОВСКА МИТРОВИЦА","840","-","0000000742664","664","-","32","601","02356",2,"11801","09009906",9101,310,1,102493129]
[40800,"НАРОДНА И УНИВЕРЗИТЕТСКА БИБЛИОТЕКА ИВО АНДРИЋ У ПРИШТИНИ","БЕОГРАД","840","-","0000000615664","664","-","16","601","02348",2,"11801","09018743",9101,19,1,102187732]
[40800,"АРХИВ КОСОВА И МЕТОХИЈЕ","КОСОВСКА МИТРОВИЦА","840","-","0000000746664","664","-","60","601","02353",2,"11801","09018751",9101,310,1,102493104]
[40800,"АГЕНЦИЈА ЗА ЛЕКОВЕ И МЕДИЦИНСКА СРЕДСТВА СРБИЈЕ","БЕОГРАД","840","-","0000000722661","661","-","95","601","59010",6,"11900","17616803",8412,19,1,103605344]
[40800,"ЗАВОД ЗА ВАСПИТАЊЕ ДЕЦЕ И ОМЛАДИНЕ БЕОГРАД","БЕОГРАД","840","-","0000000522661","661","-","53","601","00156",2,"13400","06726267",8790,19,1,100433111]
[40800,"ОСНОВНА ШКОЛА СТЕВАН СИНЂЕЛИЋ","БЕОГРАД","840","-","0000001690660","660","-","84","601","00549",2,"13701","07004745",8520,19,1,101723919]
[40800,"ОСНОВНА ШКОЛА БРАНИСЛАВ НУШИЋ","БЕОГРАД","840","-","0000001694660","660","-","15","601","00536",2,"13701","07014554",8520,19,1,100164602]
[40800,"ОСНОВНА ШКОЛА ФИЛИП ФИЛИПОВИЋ","БЕОГРАД","840","-","0000001688660","660","-","70","601","00550",2,"13701","07017197",8520,19,1,102174443]
[40800,"ОСНОВНА ШКОЛА КАРАЂОРЂЕ","БЕОГРАД","840","-","0000001697660","660","-","36","601","00547",2,"13701","07017219",8520,19,1,101739418]
[40800,"ОСНОВНА ШКОЛА ЈАНКО ВЕСЕЛИНОВИЋ","БЕОГРАД","840","-","0000001637660","660","-","04","601","00546",2,"13701","07017227",8520,19,1,100164299]
[40800,"ОСНОВНА ШКОЛА БОРА СТАНКОВИЋ","БЕОГРАД","840","-","0000001693660","660","-","08","601","00535",2,"13701","07017235",8520,19,1,101734519]
[40800,"ОСНОВНА ШКОЛА ВОЈВОДА ПУТНИК РИПАЊ","БЕОГРАД","840","-","0000001692660","660","-","98","601","00539",2,"13701","07017251",8520,19,1,101746056]
[40800,"ОСНОВНА ШКОЛА ВАСА ЧАРАПИЋ БЕЛИ ПОТОК","БЕОГРАД","840","-","0000001821660","660","-","31","601","00537",2,"13701","07017260",8520,19,1,101746152]
[40800,"ОСНОВНА ШКОЛА ВОЈВОДА СТЕПА БЕОГРАД","БЕОГРАД","840","-","0000001701660","660","-","64","601","00540",2,"13701","07017278",8520,19,1,100382175]
[40800,"ОСНОВНА ШКОЛА ВУК КАРАЏИЋ РИПАЊ","БЕОГРАД","840","-","0000001691660","660","-","91","601","00541",2,"13701","07017286",8520,19,1,101736987]
[40800,"ОСНОВНА ШКОЛА ВЕСЕЛИН МАСЛЕША","БЕОГРАД","840","-","0000001699660","660","-","50","601","00538",2,"13701","07017294",8520,19,1,101732994]
[40800,"ОСНОВНА ШКОЛА ЂУРА ДАНИЧИЋ","БЕОГРАД","840","-","0000001455660","660","-","88","601","00543",2,"13701","07017308",8520,19,1,101951965]
[40800,"ОСНОВНА ШКОЛА ЈАЈИНЦИ ЈАЈИНЦИ","БЕОГРАД","840","-","0000001703660","660","-","78","601","00545",2,"13701","07017316",8520,19,1,100382183]
[40800,"ОСНОВНА ШКОЛА ЗМАЈ ЈОВА ЈОВАНОВИЋ","БЕОГРАД","840","-","0000001686660","660","-","56","601","00544",2,"13701","07019912",8520,19,1,101739170]
[40800,"ОСНОВНА ШКОЛА МИОДРАГ МАТИЋ","БЕОГРАД","840","-","0000001753660","660","-","40","601","01575",2,"13701","07028156",8520,19,1,100372976]
[40800,"ОСНОВНА МУЗИЧКА ШКОЛА ПЕТАР КОЊОВИЋ","БЕОГРАД","840","-","0000001834660","660","-","25","601","01614",2,"13701","07075189",8520,19,1,100373073]
[40800,"ШКОЛА ЗА ОСНОВНО И СРЕДЊЕ ОБРАЗОВАЊЕ ВОЖД","БЕОГРАД","840","-","0000001914660","660","-","03","601","00551",2,"13701","17091212",8520,19,1,100021850]
[40800,"ОСНОВНА ШКОЛА МИЛАН Ђ. МИЛИЋЕВИЋ","БЕОГРАД","840","-","0000001926660","660","-","87","601","00548",2,"13701","17412604",8520,19,1,100433082]
[40800,"ОСНОВНА ШКОЛА ДОСИТЕЈ ОБРАДОВИЋ","БЕОГРАД","840","-","0000001928660","660","-","04","601","00542",2,"13701","17416944",8520,19,1,100382845]
[40800,"ОСНОВНА ШКОЛА ДАНИЛО КИШ","БЕОГРАД","840","-","0000002126660","660","-","32","601","92148",2,"13701","17856944",8520,19,1,108657287]
[40800,"ШКОЛА ЗА НЕГУ ЛЕПОТЕ БЕОГРАД","БЕОГРАД","840","-","0000001016660","660","-","22","601","01845",2,"13702","07002971",8532,19,1,101976930]
[40800,"ХII БЕОГРАДСКА ГИМНАЗИЈА","БЕОГРАД","840","-","0000001698660","660","-","43","601","01692",2,"13702","07017332",8531,19,1,100378676]
[40800,"ГЕОЛОШКА И ХИДРОМЕТЕОРОЛОШКА ШКОЛА МИЛУТИН МИЛАНКОВИЋ БЕОГРАД","БЕОГРАД","840","-","0000001695660","660","-","22","601","01843",2,"13702","07019939",8532,19,1,100164338]
[40800,"ДРУГА ЕКОНОМСКА ШКОЛА БЕОГРАД","БЕОГРАД","840","-","0000001689660","660","-","77","601","01842",2,"13702","07049951",8532,19,1,101740041]
[40800,"ШКОЛА ЗА ДИЗАЈН ТЕКСТИЛА","БЕОГРАД","840","-","0000001880660","660","-","56","601","01844",2,"13702","07454775",8532,19,1,102008983]
[40800,"ОСМА БЕОГРАДСКА ГИМНАЗИЈА","БЕОГРАД","840","-","0000001922660","660","-","59","601","01693",2,"13702","17409077",8531,19,1,102008758]
[40800,"ФАКУЛТЕТ ОРГАНИЗАЦИОНИХ НАУКА УНИВЕРЗИТЕТА У БЕОГРАДУ","БЕОГРАД","840","-","0000001344660","660","-","87","601","02245",2,"13704","07004044",8542,19,1,100383934]
[40800,"ФАКУЛТЕТ ПОЛИТИЧКИХ НАУКА УНИВЕРЗИТЕТА У БЕОГРАДУ","БЕОГРАД","840","-","0000001838660","660","-","53","601","02278",2,"13704","07028121",8542,19,1,101746499]
[40800,"САОБРАЋАЈНИ ФАКУЛТЕТ УНИВЕРЗИТЕТА У БЕОГРАДУ","БЕОГРАД","840","-","0000001443660","660","-","04","601","02244",2,"13704","07032587",8542,19,1,100376470]
[40800,"ВИСОКА ШКОЛА ЕЛЕКТРОТЕХНИКЕ И РАЧУНАРСТВА СТРУКОВНИХ СТУДИЈА У БЕОГРАДУ","БЕОГРАД","840","-","0000001991660","660","-","57","601","02189",2,"13704","07040512",8542,19,1,100373303]
[40800,"ФАКУЛТЕТ БЕЗБЕДНОСТИ УНИВЕРЗИТЕТА У БЕОГРАДУ","БЕОГРАД","840","-","0000001832660","660","-","11","601","02313",2,"13704","07061609",8542,19,1,101732084]
[40800,"УСТАНОВА СТУДЕНТСКО ОДМАРАЛИШТЕ ПИНОСАВА","БЕОГРАД","840","-","0000000672661","661","-","36","601","02318",2,"13705","07028610",5590,19,1,101743613]
[40800,"ТУЖИЛАШТВО ЗА РАТНЕ ЗЛОЧИНЕ","БЕОГРАД","","-","","","-","","601","30214",1,"30214","17515632",8423,19,0,103116105]
[40800,"ТУЖИЛАШТВО ЗА ОРГАНИЗОВАНИ КРИМИНАЛ","БЕОГРАД","","-","","","-","","601","30235",1,"30235","17772805",8423,19,0,106400255]
[40800,"ГЕОЛОШКИ ЗАВОД СРБИЈЕ","БЕОГРАД","","-","","","-","","601","43500",1,"43500","17840525",7219,19,0,107654244]
[40800,"УНИВЕРЗИТЕТ ОДБРАНЕ У БЕОГРАДУ","БЕОГРАД","","-","","","-","","601","89933",6,"61040","17862910",8542,19,1,108349590]
[40800,"ДОМ ЗДРАВЉА ВОЖДОВАЦ","БЕОГРАД","840","-","0000000715661","661","-","46","601","02418",2,"95000","07028547",8621,19,3,101734535]
[40800,"СПЕЦИЈАЛНА БОЛНИЦА ЗА ЦЕРЕБАЛНУ ПАРАЛИЗУ И РАЗВОЈНУ НЕУРОЛОГИЈУ","БЕОГРАД","840","-","0000000564661","661","-","56","601","02588",2,"95000","07036175",8690,19,3,100184296]
[40800,"ТОРЛАК ИНСТИТУТ ЗА ВИРУСОЛОГИЈУ ВАКЦИНЕ И СЕРУМЕ","БЕОГРАД","840","-","0000000796661","661","-","31","601","80319",6,"95000","17078712",8690,19,3,101739057]
[40800,"УСТАНОВА ПРИХВАТИЛИШТЕ ЗА ОДРАСЛА И СТАРА ЛИЦА","БЕОГРАД","840","-","0000000716661","661","-","53","501","09857",2,"80314","17598708",8790,19,1,103753548]
[40800,"ПРЕДШКОЛСКА УСТАНОВА ЧИКА ЈОВА ЗМАЈ","БЕОГРАД","840","-","0000000640661","661","-","06","501","03649",2,"80986","07028628",8891,19,1,101745980]
[40800,"ГРАД БЕОГРАД-ГРАДСКА ОПШТИНА ВОЖДОВАЦ-БУЏЕТ","БЕОГРАД","840","-","0000000148640","640","-","20","019","04374",0,"04374","07003722",8411,19,0,102829648]
[40800,"УПРАВА ГРАДСКЕ ОПШТИНЕ ВОЖДОВАЦ","БЕОГРАД","","-","","","-","","019","04375",1,"04375","07003722",8411,19,0,102829648]
[40800,"ДВАНАЕСТА МЕСНА ЗАЈЕДНИЦА МИЛУНКА САВИЋ","БЕОГРАД","840","-","0000003153645","645","-","88","019","04399",2,"70747","06897029",8411,19,1,102579614]
[40800,"МЕСНА ЗАЈЕДНИЦА АУТОКОМАНДА","БЕОГРАД","840","-","0000003098645","645","-","91","019","04385",2,"70747","06975534",8411,19,1,102613054]
[40800,"МЕСНА ЗАЈЕДНИЦА ДОЊИ ВОЖДОВАЦ","БЕОГРАД","840","-","0000003395645","645","-","36","019","04376",2,"70747","06975640",8411,19,1,102579639]
[40800,"МЕСНА ЗАЈЕДНИЦА ЧИНОВНИЧКА КОЛОНИЈА","БЕОГРАД","840","-","0000003118645","645","-","37","019","04394",2,"70747","06975844",8411,19,1,102613087]
[40800,"МЕСНА ЗАЈЕДНИЦА ГОРЊИ ВОЖДОВАЦ","БЕОГРАД","840","-","0000003093645","645","-","56","019","04384",2,"70747","06975852",8411,19,1,102613079]
[40800,"МЕСНА ЗАЈЕДНИЦА МИТРОВО БРДО","БЕОГРАД","840","-","0000003375645","645","-","90","019","04380",2,"70747","06975895",8411,19,1,102613159]
[40800,"МЕСНА ЗАЈЕДНИЦА КУМОДРАЖ 2","БЕОГРАД","840","-","0000003392645","645","-","15","019","04379",2,"70747","06977499",8411,19,1,102613222]
[40800,"МЕСНА ЗАЈЕДНИЦА ТЕШИЋА КУПАТИЛО","БЕОГРАД","840","-","0000003126645","645","-","93","019","04393",2,"70747","06978541",8411,19,1,102613095]
[40800,"МЕСНА ЗАЈЕДНИЦА ПАШИНО БРДО","БЕОГРАД","840","-","0000003129645","645","-","17","019","04392",2,"70747","06978550",8411,19,1,102613100]
[40800,"МЕСНА ЗАЈЕДНИЦА ВИНОГРАДИ","БЕОГРАД","840","-","0000003122645","645","-","65","019","04383",2,"70747","06978568",8411,19,1,102613118]
[40800,"МЕСНА ЗАЈЕДНИЦА ШУМИЦЕ","БЕОГРАД","840","-","0000003103645","645","-","29","019","04395",2,"70747","06978649",8411,19,1,102613126]
[40800,"МЕСНА ЗАЈЕДНИЦА БРАЋЕ ЈЕРКОВИЋ","БЕОГРАД","840","-","0000003157645","645","-","19","019","04382",2,"70747","06978657",8411,19,1,102613142]
[40800,"МЕСНА ЗАЈЕДНИЦА КУМОДРАЖ","БЕОГРАД","840","-","0000003161645","645","-","47","019","04390",2,"70747","06978665",8411,19,1,102613167]
[40800,"МЕСНА ЗАЈЕДНИЦА КУМОДРАЖ 1","БЕОГРАД","840","-","0000003412645","645","-","58","019","04389",2,"70747","06978673",8411,19,1,102613239]
[40800,"МЕСНА ЗАЈЕДНИЦА МИЛОРАД МЕДАКОВИЋ","БЕОГРАД","840","-","0000003108645","645","-","64","019","04391",2,"70747","06978681",8411,19,1,102613134]
[40800,"МЕСНА ЗАЈЕДНИЦА ДУШАНОВАЦ","БЕОГРАД","840","-","0000003113645","645","-","02","019","04386",2,"70747","06978690",8411,19,1,102579622]
[40800,"МЕСНА ЗАЈЕДНИЦА БАЊИЦА","БЕОГРАД","840","-","0000003169645","645","-","06","019","04378",2,"70747","07003765",8411,19,1,102613062]
[40800,"МЕСНА ЗАЈЕДНИЦА РИПАЊ","БЕОГРАД","840","-","0000003138645","645","-","80","019","04398",2,"70747","07003838",8411,19,1,102579606]
[40800,"МЕСНА ЗАЈЕДНИЦА БЕЛИ ПОТОК","БЕОГРАД","840","-","0000003134645","645","-","52","019","04381",2,"70747","07013078",8411,19,1,102613191]
[40800,"МЕСНА ЗАЈЕДНИЦА ПИНОСАВА","БЕОГРАД","840","-","0000003173645","645","-","34","019","04397",2,"70747","07013086",8411,19,1,102613206]
[40800,"МЕСНА ЗАЈЕДНИЦА ЗУЦЕ","БЕОГРАД","840","-","0000003147645","645","-","46","019","04387",2,"70747","07013094",8411,19,1,102613214]
[40800,"МЕСНА ЗАЈЕДНИЦА ЈАЈИНЦИ","БЕОГРАД","840","-","0000003142645","645","-","11","019","04388",2,"70747","07050739",8411,19,1,102613175]
[40800,"МЕСНА ЗАЈЕДНИЦА РАКОВИЦА","БЕОГРАД","840","-","0000003165645","645","-","75","019","04377",2,"70747","07067500",8411,19,1,102613183]
[40800,"МЕСНА ЗАЈЕДНИЦА МЕДАКОВИЋ 3","БЕОГРАД","840","-","0000003428645","645","-","73","019","04396",2,"70747","17050125",8411,19,1,102579591]
[40800,"СКУПШТИНА ГРАДСКЕ ОПШТИНЕ ВОЖДОВАЦ","БЕОГРАД","","-","","","-","","019","92437",1,"92437","07003722",8411,19,0,102829648]
[40800,"ПРЕДСЕДНИК ГРАДСКЕ ОПШТИНЕ ВОЖДОВАЦ","БЕОГРАД","","-","","","-","","019","92438",1,"92438","07003722",8411,19,0,102829648]
[40800,"ВЕЋЕ ГРАДСКЕ ОПШТИНЕ ВОЖДОВАЦ","БЕОГРАД","","-","","","-","","019","92439",1,"92439","07003722",8411,19,0,102829648]
[40800,"ПРАВОБРАНИЛАШТВО ГРАДСКЕ ОПШТИНЕ ВОЖДОВАЦ","БЕОГРАД","","-","","","-","","019","96030",1,"96030","07003722",8411,19,0,102829648]
[40810,"ГЕРОНТОЛОШКИ ЦЕНТАР МЛАДЕНОВАЦ","МЛАДЕНОВАЦ","840","-","0000000675661","661","-","57","601","00181",2,"13400","17413805",8730,70,1,101477704]
[40810,"ОСНОВНА ШКОЛА БИСА СИМИЋ","МЛАДЕНОВАЦ","840","-","0000001741660","660","-","53","601","00552",2,"13701","07007175",8520,70,1,101960945]
[40810,"ОСНОВНА ШКОЛА СВЕТИ САВА МЛАДЕНОВАЦ","МЛАДЕНОВАЦ","840","-","0000001738660","660","-","32","601","00554",2,"13701","07007183",8520,70,1,101478640]
[40810,"ОСНОВНА ШКОЛА ЖИВОМИР САВКОВИЋ","МЛАДЕНОВАЦ","840","-","0000001742660","660","-","60","601","00555",2,"13701","07007191",8520,70,1,101481452]
[40810,"ОСНОВНА ШКОЛА КОСТА ЂУКИЋ","МЛАДЕНОВАЦ","840","-","0000001748660","660","-","05","601","00556",2,"13701","07007205",8520,70,1,101283243]
[40810,"ОСНОВНА ШКОЛА МИЛИЦА МИЛОШЕВИЋ","МЛАДЕНОВАЦ","840","-","0000001740660","660","-","46","601","00557",2,"13701","07007213",8520,70,1,101961585]
[40810,"ОСНОВНА ШКОЛА МОМЧИЛО ЖИВОЈИНОВИЋ","МЛАДЕНОВАЦ","840","-","0000001739660","660","-","39","601","00558",2,"13701","07011059",8520,70,1,101481731]
[40810,"ШКОЛА ЗА ОСНОВНО ОБРАЗОВАЊЕ И ВАСПИТАЊЕ ОДРАСЛИХ МЛАДЕНОВАЦ","МЛАДЕНОВАЦ","840","-","0000001829660","660","-","87","601","01666",2,"13701","07068760",8559,70,1,101961807]
[40810,"ОСНОВНА МУЗИЧКА ШКОЛА СТЕВАН ХРИСТИЋ","МЛАДЕНОВАЦ","840","-","0000001910660","660","-","72","601","01615",2,"13701","17057952",8520,70,1,101960769]
[40810,"ОСНОВНА ШКОЛА БОРА ЛАЗИЋ","МЛАДЕНОВАЦ","840","-","0000001913660","660","-","93","601","00553",2,"13701","17075411",8520,70,1,102069173]
[40810,"ТЕХНИЧКА ШКОЛА МЛАДЕНОВАЦ","МЛАДЕНОВАЦ","840","-","0000001893660","660","-","50","601","01846",2,"13702","07524285",8532,70,1,101478980]
[40810,"ГИМНАЗИЈА МЛАДЕНОВАЦ","МЛАДЕНОВАЦ","840","-","0000001894660","660","-","57","601","01694",2,"13702","07524293",8531,70,1,101477979]
[40810,"ОСНОВНИ СУД У МЛАДЕНОВЦУ","МЛАДЕНОВАЦ","","-","","","-","","601","91291",2,"30226","17865587",8423,70,5,108341719]
[40810,"ОСНОВНО ЈАВНО ТУЖИЛАШТВО У МЛАДЕНОВЦУ","МЛАДЕНОВАЦ","","-","","","-","","601","91323",2,"30229","17865706",8423,70,5,108347784]
[40810,"ПРЕКРШАЈНИ СУД У МЛАДЕНОВЦУ","МЛАДЕНОВАЦ","","-","","","-","","601","80596",2,"30233","17772848",8423,70,5,106399262]
[40810,"ДОМ ЗДРАВЉА МЛАДЕНОВАЦ","МЛАДЕНОВАЦ","840","-","0000000579661","661","-","64","601","02419",2,"95000","07007272",8621,70,3,101279394]
[40810,"СПЕЦИЈАЛНА БОЛНИЦА ЗА ИНТЕРНЕ БОЛЕСТИ МЛАДЕНОВАЦ","МЛАДЕНОВАЦ","840","-","0000000572661","661","-","15","601","02538",2,"95000","07039751",8610,70,3,101478150]
[40810,"ИНСТИТУТ ЗА РЕХАБИЛИТАЦИЈУ БЕОГРАД","МЛАДЕНОВАЦ","840","-","0000000657661","661","-","28","601","02589",2,"95000","07050844",8710,70,3,101962711]
[40810,"ПРЕДШКОЛСКА УСТАНОВА ЈЕЛИЦА ОБРАДОВИЋ","МЛАДЕНОВАЦ","840","-","0000000608661","661","-","73","501","03650",2,"80986","07067194",8891,70,1,101281037]
[40810,"ГРАД БЕОГРАД-ГРАДСКА ОПШТИНА МЛАДЕНОВАЦ-БУЏЕТ","МЛАДЕНОВАЦ","840","-","0000000152640","640","-","48","070","06265",0,"06265","07049234",8411,70,0,102152909]
[40810,"УПРАВА ГРАДСКЕ ОПШТИНЕ МЛАДЕНОВАЦ","МЛАДЕНОВАЦ","","-","","","-","","070","06266",1,"06266","07049234",8411,70,0,102152909]
[40810,"УСТАНОВА ЦЕНТАР ЗА КУЛТУРУ МЛАДЕНОВАЦ","МЛАДЕНОВАЦ","840","-","0000000585664","664","-","97","070","03651",2,"06266","07068778",9004,70,1,101280997]
[40810,"УСТАНОВА ЦЕНТАР ЗА КУЛТУРУ И ТУРИЗАМ МЛАДЕНОВАЦ","МЛАДЕНОВАЦ","840","-","0000001212664","664","-","24","070","62292",2,"06266","17899660",9004,70,1,109884131]
[40810,"МЕСНА ЗАЈЕДНИЦА ВЛАШКА","МЛАДЕНОВАЦ","840","-","0000003210645","645","-","02","070","06277",2,"70810","07007124",8411,70,1,101881091]
[40810,"МЕСНА ЗАЈЕДНИЦА ДУБОНА","МЛАДЕНОВАЦ","840","-","0000003204645","645","-","57","070","06279",2,"70810","07007132",8411,70,1,102638538]
[40810,"МЕСНА ЗАЈЕДНИЦА АМЕРИЋ","МЛАДЕНОВАЦ","840","-","0000003184645","645","-","14","070","06275",2,"70810","07007159",8411,70,1,102630484]
[40810,"МЕСНА ЗАЈЕДНИЦА ВЕЛИКА ИВАНЧА","МЛАДЕНОВАЦ","840","-","0000003181645","645","-","90","070","06276",2,"70810","07007167",8411,70,1,102305741]
[40810,"МЕСНА ЗАЈЕДНИЦА РАЈКОВАЦ","МЛАДЕНОВАЦ","840","-","0000003218645","645","-","58","070","06288",2,"70810","07038224",8411,70,1,103286896]
[40810,"МЕСНА ЗАЈЕДНИЦА ЈАГЊИЛО","МЛАДЕНОВАЦ","840","-","0000003187645","645","-","35","070","06280",2,"70810","07038232",8411,70,1,104304786]
[40810,"МЕСНА ЗАЈЕДНИЦА КОВАЧЕВАЦ","МЛАДЕНОВАЦ","840","-","0000003216645","645","-","44","070","06281",2,"70810","07038259",8411,70,1,102305792]
[40810,"МЕСНА ЗАЈЕДНИЦА МЛАДЕНОВАЦ СЕЛО","МЛАДЕНОВАЦ","840","-","0000003221645","645","-","79","070","06286",2,"70810","07041756",8411,70,1,101761640]
[40810,"МЕСНА ЗАЈЕДНИЦА РАБРОВАЦ","МЛАДЕНОВАЦ","840","-","0000003194645","645","-","84","070","06272",2,"70810","07041764",8411,70,1,102638520]
[40810,"МЕСНА ЗАЈЕДНИЦА МАРКОВАЦ","МЛАДЕНОВАЦ","840","-","0000003224645","645","-","03","070","06284",2,"70810","07047690",8411,70,1,102287318]
[40810,"МЕСНА ЗАЈЕДНИЦА ПРУЖАТОВАЦ","МЛАДЕНОВАЦ","840","-","0000003213645","645","-","23","070","06287",2,"70810","07047754",8411,70,1,102286817]
[40810,"МЕСНА ЗАЈЕДНИЦА СЕНАЈА","МЛАДЕНОВАЦ","840","-","0000003222645","645","-","86","070","06289",2,"70810","07048572",8411,70,1,102432529]
[40810,"МЕСНА ЗАЈЕДНИЦА ВЕЛИКА КРСНА","МЛАДЕНОВАЦ","840","-","0000003190645","645","-","56","070","06291",2,"70810","07050399",8411,70,1,102286663]
[40810,"МЕСНА ЗАЈЕДНИЦА ШЕПШИН","МЛАДЕНОВАЦ","840","-","0000003197645","645","-","08","070","06290",2,"70810","07050879",8411,70,1,103286907]
[40810,"МЕСНА ЗАЈЕДНИЦА ГРАНИЦЕ","МЛАДЕНОВАЦ","840","-","0000003177645","645","-","62","070","06268",2,"70810","07050917",8411,70,1,102638499]
[40810,"МЕСНА ЗАЈЕДНИЦА МЕЂУЛУЖЈЕ","МЛАДЕНОВАЦ","840","-","0000003201645","645","-","36","070","06285",2,"70810","07051646",8411,70,1,102432588]
[40810,"МЕСНА ЗАЈЕДНИЦА КОРАЋИЦА","МЛАДЕНОВАЦ","840","-","0000003207645","645","-","78","070","06282",2,"70810","07055986",8411,70,1,102569284]
[40810,"МЕСНА ЗАЈЕДНИЦА ДРАПШИН","МЛАДЕНОВАЦ","840","-","0000003379645","645","-","21","070","06271",2,"70810","07065728",8411,70,1,104304760]
[40810,"МЕСНА ЗАЈЕДНИЦА ЦЕНТАР","МЛАДЕНОВАЦ","840","-","0000003377645","645","-","07","070","06274",2,"70810","07065736",8411,70,1,106227973]
[40810,"МЕСНА ЗАЈЕДНИЦА БАТАШЕВО","МЛАДЕНОВАЦ","840","-","0000003381645","645","-","35","070","06270",2,"70810","07065744",8411,70,1,104042792]
[40810,"МЕСНА ЗАЈЕДНИЦА СЕЛТЕРС","МЛАДЕНОВАЦ","840","-","0000003383645","645","-","49","070","06273",2,"70810","07065752",8411,70,1,103286915]
[40810,"МЕСНА ЗАЈЕДНИЦА 25. МАЈ","МЛАДЕНОВАЦ","840","-","0000003417645","645","-","93","070","06269",2,"70810","07087403",8411,70,1,104413141]
[40810,"МЕСНА ЗАЈЕДНИЦА ВЛАШКО ПОЉЕ","МЛАДЕНОВАЦ","840","-","0000003538645","645","-","67","070","06278",2,"70810","17324888",8411,70,1,102286964]
[40810,"МЕСНА ЗАЈЕДНИЦА МАЛА ВРБИЦА","МЛАДЕНОВАЦ","840","-","0000003901645","645","-","86","070","06283",2,"70810","17337220",8411,70,1,102723031]
[40810,"СКУПШТИНА ГРАДСКЕ ОПШТИНЕ МЛАДЕНОВАЦ","МЛАДЕНОВАЦ","","-","","","-","","070","91761",1,"91761","07049234",8411,70,0,102152909]
[40810,"ПРЕДСЕДНИК ГРАДСКЕ ОПШТИНЕ МЛАДЕНОВАЦ","МЛАДЕНОВАЦ","","-","","","-","","070","91762",1,"91762","07049234",8411,70,0,102152909]
[40810,"ВЕЋЕ ГРАДСКЕ ОПШТИНЕ МЛАДЕНОВАЦ","МЛАДЕНОВАЦ","","-","","","-","","070","92471",1,"92471","07049234",8411,70,0,102152909]
[40810,"ОПШТИНСКО ПРАВОБРАНИЛАШТВО ГРАДСКЕ ОПШТИНЕ МЛАДЕНОВАЦ","МЛАДЕНОВАЦ","","-","","","-","","070","94761",1,"94761","07049234",8411,70,0,102152909]
[40820,"ОСНОВНА ШКОЛА ЈЕЛИЦА МИЛОВАНОВИЋ","СОПОТ","840","-","0000001410660","660","-","64","601","00560",2,"13701","07003544",8520,17,1,100150077]
[40820,"ОСНОВНА ШКОЛА ЦАНА МАРЈАНОВИЋ","СОПОТ","840","-","0000001408660","660","-","50","601","00562",2,"13701","07003552",8520,17,1,101848990]
[40820,"ОСНОВНА ШКОЛА ЈАНКО КАТИЋ","СОПОТ","840","-","0000001409660","660","-","57","601","00559",2,"13701","07003579",8520,17,1,100189396]
[40820,"ОСНОВНА ШКОЛА МИЛОРАД МИЋА МАРКОВИЋ","СОПОТ","840","-","0000001407660","660","-","43","601","00561",2,"13701","07003587",8520,17,1,101761408]
[40820,"МАШИНСКА ШКОЛА КОСМАЈ","СОПОТ","840","-","0000001847660","660","-","19","601","01848",2,"13702","07084005",8532,17,1,100150735]
[40820,"ЕКОНОМСКО-ТРГОВИНСКА ШКОЛА  СОПОТ","СОПОТ","840","-","0000001895660","660","-","64","601","01847",2,"13702","07565631",8531,17,1,100150743]
[40820,"ДОМ ЗДРАВЉА СОПОТ","СОПОТ","840","-","0000000489661","661","-","16","601","02420",2,"95000","07003609",8621,17,3,100150542]
[40820,"ПРЕДШКОЛСКА УСТАНОВА НАША РАДОСТ","СОПОТ","840","-","0000000609661","661","-","80","501","03652",2,"80986","07069090",8891,17,1,100149853]
[40820,"ГРАД БЕОГРАД-ГРАДСКА ОПШТИНА СОПОТ-БУЏЕТ","СОПОТ","840","-","0000000113640","640","-","66","017","04352",0,"04352","17319116",8411,17,0,102001004]
[40820,"МЕСНА ЗАЈЕДНИЦА ДУЧИНА","СОПОТ","840","-","0000001702645","645","-","19","017","04357",2,"04353","07003471",8411,17,1,102725432]
[40820,"МЕСНА ЗАЈЕДНИЦА ЂУРИНЦИ","СОПОТ","840","-","0000001827645","645","-","21","017","04358",2,"04353","07003480",8411,17,1,102720960]
[40820,"МЕСНА ЗАЈЕДНИЦА ПОПОВИЋ","СОПОТ","840","-","0000001665645","645","-","51","017","04363",2,"04353","07003498",8411,17,1,102725416]
[40820,"МЕСНА ЗАЈЕДНИЦА РАЉА","СОПОТ","840","-","0000001784645","645","-","11","017","04364",2,"04353","07003501",8411,17,1,102666638]
[40820,"МЕСНА ЗАЈЕДНИЦА СИБНИЦА","СОПОТ","840","-","0000001871645","645","-","38","017","04366",2,"04353","07003510",8411,17,1,102666646]
[40820,"МЕСНА ЗАЈЕДНИЦА СОПОТ","СОПОТ","840","-","0000001752645","645","-","78","017","04369",2,"04353","07003528",8411,17,1,102725408]
[40820,"МЕСНА ЗАЈЕДНИЦА СТОЈНИК","СОПОТ","840","-","0000001736645","645","-","63","017","04368",2,"04353","07003536",8411,17,1,102725424]
[40820,"ЦЕНТАР ЗА КУЛТУРУ СОПОТ","СОПОТ","840","-","0000000570664","664","-","89","017","03653",2,"04353","07003595",9004,17,1,100192033]
[40820,"МЕСНА ЗАЈЕДНИЦА БАБЕ","СОПОТ","840","-","0000001812645","645","-","13","017","04354",2,"04353","07041802",8411,17,1,102666679]
[40820,"МЕСНА ЗАЈЕДНИЦА ГУБЕРЕВАЦ","СОПОТ","840","-","0000003365645","645","-","20","017","04355",2,"04353","07041829",8411,17,1,102725465]
[40820,"МЕСНА ЗАЈЕДНИЦА СЛАТИНА","СОПОТ","840","-","0000003344645","645","-","67","017","04367",2,"04353","07041837",8411,17,1,102662415]
[40820,"МЕСНА ЗАЈЕДНИЦА РОГАЧА","СОПОТ","840","-","0000001887645","645","-","53","017","04365",2,"04353","07041845",8411,17,1,102725457]
[40820,"МЕСНА ЗАЈЕДНИЦА НЕМЕНИКУЋЕ","СОПОТ","840","-","0000001646645","645","-","15","017","04361",2,"04353","07041853",8411,17,1,102725449]
[40820,"МЕСНА ЗАЈЕДНИЦА МАЛИ ПОЖАРЕВАЦ","СОПОТ","840","-","0000001842645","645","-","29","017","04360",2,"04353","07041861",8411,17,1,102725393]
[40820,"МЕСНА ЗАЈЕДНИЦА МАЛА ИВАНЧА","СОПОТ","840","-","0000001684645","645","-","87","017","04359",2,"04353","07041870",8411,17,1,102740737]
[40820,"МЕСНА ЗАЈЕДНИЦА ПАРЦАНИ","СОПОТ","840","-","0000001857645","645","-","37","017","04362",2,"04353","07047614",8411,17,1,102725385]
[40820,"МЕСНА ЗАЈЕДНИЦА ДРЛУПА","СОПОТ","840","-","0000001798645","645","-","12","017","04356",2,"04353","07048068",8411,17,1,102666695]
[40820,"ГРАДСКА ОПШТИНА СОПОТ - ОПШТИНСКА УПРАВА","СОПОТ","","-","","","-","","017","04353",1,"04353","17319116",8411,17,0,102001004]
[40820,"СКУПШТИНА ГРАДСКЕ ОПШТИНЕ СОПОТ","СОПОТ","","-","","","-","","017","96400",1,"96400","17319116",8411,17,0,102001004]
[40820,"ОПШТИНСКО ПРАВОБРАНИЛАШТВО ГРАДСКЕ ОПШТИНЕ СОПОТ","СОПОТ","","-","","","-","","017","96401",1,"96401","17319116",8411,17,0,102001004]
[40820,"ПРЕДСЕДНИК ГРАДСКЕ ОПШТИНЕ СОПОТ","СОПОТ","","-","","","-","","017","96402",1,"96402","17319116",8411,17,0,102001004]
[40820,"ВЕЋЕ ГРАДСКЕ ОПШТИНЕ СОПОТ","СОПОТ","","-","","","-","","017","96405",1,"96405","17319116",8411,17,0,102001004]
[41300,"ОКРУЖНИ ЗАТВОР У ЧАЧКУ","ЧАЧАК","840","-","0000000173621","621","-","58","601","00013",2,"10311","17621785",8423,34,1,103699240]
[41300,"МУП - ПОЛИЦИЈСКА УПРАВА ЧАЧАК","ЧАЧАК","840","-","0000000148621","621","-","77","601","00045",4,"10600","07008104",8424,34,0,100184116]
[41300,"ЦЕНТАР ЗА СОЦИЈАЛНИ РАД ЧАЧАК","ЧАЧАК","840","-","0000000158661","661","-","27","601","00221",2,"13400","07181809",8899,34,1,101120703]
[41300,"ОСНОВНА ШКОЛА ВЛАДИСЛАВ ПЕТКОВИЋ-ДИС ЗАБЛАЋЕ","ЧАЧАК","840","-","0000000283660","660","-","32","601","00566",2,"13701","07181574",8520,34,1,100483807]
[41300,"ОСНОВНА ШКОЛА СВЕТИ ЂАКОН АВАКУМ ТРНАВА","ЧАЧАК","840","-","0000000260660","660","-","65","601","00571",2,"13701","07181612",8520,34,1,100483761]
[41300,"ОСНОВНА ШКОЛА ПРЕЉИНА ПРЕЉИНА","ЧАЧАК","840","-","0000000384660","660","-","60","601","00578",2,"13701","07181663",8520,34,1,101552160]
[41300,"ОСНОВНА ШКОЛА МИЛИЦА ПАВЛОВИЋ","ЧАЧАК","840","-","0000000057660","660","-","02","601","00572",2,"13701","07182007",8520,34,1,100483286]
[41300,"ОСНОВНА ШКОЛА ФИЛИП ФИЛИПОВИЋ","ЧАЧАК","840","-","0000000043660","660","-","98","601","00577",2,"13701","07182015",8520,34,1,101290584]
[41300,"ОСНОВНА ШКОЛА 22. ДЕЦЕМБАР ДОЊА ТРЕПЧА","ЧАЧАК","840","-","0000000341660","660","-","50","601","00563",2,"13701","07182031",8520,34,1,100891426]
[41300,"ОСНОВНА ШКОЛА РАТКО МИТРОВИЋ","ЧАЧАК","840","-","0000000132660","660","-","42","601","00574",2,"13701","07182511",8520,34,1,101300716]
[41300,"ОСНОВНА ШКОЛА ТАНАСКО РАЈИЋ","ЧАЧАК","840","-","0000000408660","660","-","34","601","00576",2,"13701","07182546",8520,34,1,101886055]
[41300,"ОСНОВНА ШКОЛА ЂЕНЕРАЛ МАРКО Ђ.КАТАНИЋ БРЕСНИЦА","ЧАЧАК","840","-","0000000328660","660","-","56","601","00573",2,"13701","07182589",8520,34,1,101290744]
[41300,"ОСНОВНА ШКОЛА ВУК КАРАЏИЋ ЧАЧАК","ЧАЧАК","840","-","0000000030660","660","-","07","601","00567",2,"13701","07182597",8520,34,1,101107685]
[41300,"ОСНОВНА ШКОЛА БРАНИСЛАВ ПЕТРОВИЋ СЛАТИНА","ЧАЧАК","840","-","0000000317660","660","-","76","601","00568",2,"13701","07182619",8520,34,1,102048185]
[41300,"ОСНОВНА ШКОЛА ТАТОМИР АНЂЕЛИЋ МРЧАЈЕВЦИ","ЧАЧАК","840","-","0000000085660","660","-","04","601","00570",2,"13701","07182635",8520,34,1,100483657]
[41300,"ОСНОВНА ШКОЛА ДР ДРАГИША МИШОВИЋ","ЧАЧАК","840","-","0000000019660","660","-","27","601","00569",2,"13701","07182643",8520,34,1,101291770]
[41300,"ОСНОВНА ШКОЛА СТЕПА СТЕПАНОВИЋ ГОРЊА ГОРЕВНИЦА","ЧАЧАК","840","-","0000000224660","660","-","07","601","00575",2,"13701","07182651",8520,34,1,102047720]
[41300,"ОСНОВНА ШКОЛА СВЕТИ САВА ЧАЧАК","ЧАЧАК","840","-","0000000722660","660","-","98","601","00564",2,"13701","07182660",8520,34,1,101114223]
[41300,"МУЗИЧКА ШКОЛА ДР ВОЈИСЛАВ ВУЧКОВИЋ","ЧАЧАК","840","-","0000000012660","660","-","75","601","01616",2,"13701","07182678",8520,34,1,100898341]
[41300,"ШКОЛА ЗА ОСНОВНО И СРЕДЊЕ ОБРАЗОВАЊЕ 1. НОВЕМБАР","ЧАЧАК","840","-","0000000862660","660","-","11","601","01576",2,"13701","07192746",8520,34,1,101114346]
[41300,"ОСНОВНА ШКОЛА БОЖО ТОМИЋ ПРИЈЕВОР","ЧАЧАК","840","-","0000000307660","660","-","06","601","00565",2,"13701","07206003",8520,34,1,101108209]
[41300,"ОСНОВНА ШКОЛА ЗА ОБРАЗОВАЊЕ ОДРАСЛИХ ЧАЧАК","ЧАЧАК","840","-","0000002099660","660","-","37","601","80220",2,"13701","17689096",8559,34,1,105375793]
[41300,"ГИМНАЗИЈА ЧАЧАК","ЧАЧАК","840","-","0000000072660","660","-","10","601","01695",2,"13702","07182074",8531,34,1,101551804]
[41300,"МАШИНСКО-САОБРАЋАЈНА ШКОЛА ЧАЧАК","ЧАЧАК","840","-","0000000199660","660","-","26","601","01850",2,"13702","07182139",8532,34,1,101108436]
[41300,"ТЕХНИЧКА ШКОЛА ЧАЧАК","ЧАЧАК","840","-","0000000354660","660","-","44","601","01853",2,"13702","07182694",8532,34,1,100892011]
[41300,"МЕДИЦИНСКА ШКОЛА ЧАЧАК","ЧАЧАК","840","-","0000000181660","660","-","94","601","01851",2,"13702","07182783",8532,34,1,101110648]
[41300,"ЕКОНОМСКА ШКОЛА ЧАЧАК","ЧАЧАК","840","-","0000000164660","660","-","72","601","01849",2,"13702","07182848",8532,34,1,100897710]
[41300,"РЕГИОНАЛНИ ЦЕНТАР ЗА ТАЛЕНТЕ ЧАЧАК","ЧАЧАК","840","-","0000001969660","660","-","97","601","02134",2,"13702","17276832",8532,34,1,100899310]
[41300,"ПРЕХРАМБЕНО-УГОСТИТЕЉСКА ШКОЛА ЧАЧАК","ЧАЧАК","840","-","0000002051660","660","-","89","601","01852",2,"13702","17502735",8532,34,1,102932664]
[41300,"ДОМ УЧЕНИКА СРЕДЊИХ ШКОЛА ЧАЧАК","ЧАЧАК","840","-","0000000001661","661","-","92","601","02152",2,"13703","07181639",5590,34,1,102208021]
[41300,"УНИВЕРЗИТЕТ У КРАГУЈЕВЦУ - ТЕХНИЧКИ ФАКУЛТЕТ - ЧАЧАК","ЧАЧАК","840","-","0000000875660","660","-","05","601","02246",2,"13704","07181779",8542,34,1,101123484]
[41300,"УНИВЕРЗИТЕТ У КРАГУЈЕВЦУ - АГРОНОМСКИ ФАКУЛТЕТ У ЧАЧКУ","ЧАЧАК","840","-","0000000948660","660","-","31","601","02270",2,"13704","07281536",8542,34,1,101122442]
[41300,"ВИСОКА ШКОЛА ТЕХНИЧКИХ СТРУКОВНИХ СТУДИЈА У ЧАЧКУ","ЧАЧАК","840","-","0000000998660","660","-","90","601","02190",2,"13704","07355742",8542,34,1,101892563]
[41300,"СТУДЕНТСКИ ЦЕНТАР ЧАЧАК - УСТАНОВА ЗА СТАНДАРД","ЧАЧАК","840","-","0000000046661","661","-","19","601","02319",2,"13705","07181817",5590,34,1,101892627]
[41300,"ВИШИ СУД У ЧАЧКУ","ЧАЧАК","","-","","","-","","601","80457",2,"30225","17773054",8423,34,5,106399949]
[41300,"ОСНОВНИ СУД У ЧАЧКУ","ЧАЧАК","","-","","","-","","601","80491",2,"30226","17773321",8423,34,5,106399981]
[41300,"ПРИВРЕДНИ СУД У ЧАЧКУ","ЧАЧАК","","-","","","-","","601","80508",2,"30227","17773445",8423,34,5,106399932]
[41300,"ВИШЕ ЈАВНО ТУЖИЛАШТВО У ЧАЧКУ","ЧАЧАК","","-","","","-","","601","80567",2,"30228","17773941",8423,34,5,106399957]
[41300,"ОСНОВНО ЈАВНО ТУЖИЛАШТВО У ЧАЧКУ","ЧАЧАК","","-","","","-","","601","80541",2,"30229","17773682",8423,34,5,106399973]
[41300,"ПРЕКРШАЈНИ СУД У ЧАЧКУ","ЧАЧАК","","-","","","-","","601","80620",2,"30233","17774263",8423,34,5,106399965]
[41300,"МОРАВИЧКИ УПРАВНИ ОКРУГ","ЧАЧАК","","-","","","-","","601","41118",1,"41118","17650505",8411,34,0,104201350]
[41300,"РЕПУБЛИЧКИ ЗАВОД ЗА ЗДРАВСТВЕНО ОСИГУРАЊЕ - ФИЛИЈАЛА ЗА МОРАВИЧКИ ОКРУГ","ЧАЧАК","840","-","0000000016650","650","-","36","601","02652",4,"95000","06042945",8430,34,0,101288707]
[41300,"АПОТЕКА ЧАЧАК","ЧАЧАК","840","-","0000000312661","661","-","38","601","02618",2,"95000","06813470",4773,34,3,100484213]
[41300,"ЗАВОД ЗА ЈАВНО ЗДРАВЉЕ ЧАЧАК","ЧАЧАК","840","-","0000000243661","661","-","40","601","02374",2,"95000","07271735",8690,34,3,101120720]
[41300,"ДОМ ЗДРАВЉА ЧАЧАК ЧАЧАК","ЧАЧАК","840","-","0000000866661","661","-","36","601","91967",2,"95000","17870017",8621,34,3,108578347]
[41300,"ОПШТА БОЛНИЦА ЧАЧАК","ЧАЧАК","840","-","0000000876661","661","-","09","601","96237",2,"95000","17878735",8610,34,3,109170290]
[41300,"РЕПУБЛИЧКИ ФОНД ПИО-ФИЛИЈАЛА- ЧАЧАК","ЧАЧАК","840","-","0000000002652","652","-","29","601","00102",4,"95200","17715780",8430,34,0,105356542]
[41300,"НАЦИОНАЛНА СЛУЖБА ЗА ЗАПОШЉАВАЊЕ-ФИЛИЈАЛА ЧАЧАК","ЧАЧАК","840","-","0000000012654","654","-","93","601","00101",4,"95400","17539957",7810,34,0,103277483]
[41300,"ГРАД ЧАЧАК-БУЏЕТ","ЧАЧАК","840","-","0000000001640","640","-","58","034","04794",0,"04794","07183046",8411,34,0,101296508]
[41300,"ГРАДСКА УПРАВА ЗА ОПШТЕ И ЗАЈЕДНИЧКЕ ПОСЛОВЕ","ЧАЧАК","","-","","","-","","034","04795",1,"04795","07183046",8411,34,0,101296508]
[41300,"ГРАДСКО ПРАВОБРАНИЛАШТВО ЧАЧАК","ЧАЧАК","","-","","","-","","034","04796",1,"04796","07183259",8423,34,0,100893305]
[41300,"ГРАД ЧАЧАК - СКУПШТИНА ГРАДА","ЧАЧАК","","-","","","-","","034","09685",1,"09685","07183046",8411,34,0,101296508]
[41300,"ГРАД ЧАЧАК - ГРАДОНАЧЕЛНИК","ЧАЧАК","","-","","","-","","034","09686",1,"09686","07183046",8411,34,0,101296508]
[41300,"ГРАД ЧАЧАK - ГРАДСКО ВЕЋЕ","ЧАЧАК","","-","","","-","","034","09687",1,"09687","07183046",8411,34,0,101296508]
[41300,"ГРАД ЧАЧАК-ГРАДСКО ПРАВОБРАНИЛАШТВО","ЧАЧАК","","-","","","-","","034","66362",1,"66362","07183046",6910,34,0,101296508]
[41300,"МЕСНА ЗАЈЕДНИЦА ВРАНИЋИ","ЧАЧАК","840","-","0000000953645","645","-","14","034","04814",2,"82932","07167679",8411,34,1,101118454]
[41300,"МЕСНА ЗАЈЕДНИЦА ЉУБИЋ","ЧАЧАК","840","-","0000000563645","645","-","97","034","04834",2,"82932","07167687",8411,34,1,101118204]
[41300,"МЕСНА ЗАЈЕДНИЦА ВИДОВА","ЧАЧАК","840","-","0000001647645","645","-","22","034","04812",2,"82932","07167709",8411,34,1,101119551]
[41300,"МЕСНА ЗАЈЕДНИЦА МЕЂУВРШЈЕ","ЧАЧАК","840","-","0000002464645","645","-","18","034","04835",2,"82932","07167717",8411,34,1,101119519]
[41300,"МЕСНА ЗАЈЕДНИЦА ЈОВАН КУРСУЛА ДОЊА ГОРЕВНИЦА","ЧАЧАК","840","-","0000001612645","645","-","68","034","04820",2,"82932","07167725",8411,34,1,100895315]
[41300,"МЕСНА ЗАЈЕДНИЦА ВРНЧАНИ","ЧАЧАК","840","-","0000000838645","645","-","82","034","04815",2,"82932","07167741",8411,34,1,101117951]
[41300,"МЕСНА ЗАЈЕДНИЦА МИЛИЋЕВЦИ","ЧАЧАК","840","-","0000000741645","645","-","82","034","04836",2,"82932","07167750",8411,34,1,101295870]
[41300,"МЕСНА ЗАЈЕДНИЦА ДОЊА ТРЕПЧА","ЧАЧАК","840","-","0000000591645","645","-","02","034","04821",2,"82932","07167768",8411,34,1,101118500]
[41300,"МЕСНА ЗАЈЕДНИЦА КЉУЧ","ЧАЧАК","840","-","0000001038645","645","-","27","034","04860",2,"82932","07167776",8411,34,1,100895296]
[41300,"МЕСНА ЗАЈЕДНИЦА ВИЉУША","ЧАЧАК","840","-","0000001292645","645","-","59","034","04813",2,"82932","07167784",8411,34,1,101295888]
[41300,"МЕСНА ЗАЈЕДНИЦА МИОКОВЦИ","ЧАЧАК","840","-","0000001166645","645","-","50","034","04837",2,"82932","07167792",8411,34,1,100895358]
[41300,"МЕСНА ЗАЈЕДНИЦА ЖАОЧАНИ","ЧАЧАК","840","-","0000001016645","645","-","67","034","04822",2,"82932","07167806",8411,34,1,101119730]
[41300,"МЕСНА ЗАЈЕДНИЦА КОШУТЊАК","ЧАЧАК","840","-","0000002544645","645","-","93","034","04861",2,"82932","07167814",8411,34,1,101118229]
[41300,"МЕСНА ЗАЈЕДНИЦА ВУЈЕТИНЦИ","ЧАЧАК","840","-","0000001353645","645","-","98","034","04816",2,"82932","07167822",8411,34,1,100895905]
[41300,"МЕСНА ЗАЈЕДНИЦА МОЈСИЊЕ","ЧАЧАК","840","-","0000000427645","645","-","18","034","04838",2,"82932","07167849",8411,34,1,100896713]
[41300,"МЕСНА ЗАЈЕДНИЦА СТАРИ ГРАД","ЧАЧАК","840","-","0000001144645","645","-","90","034","04866",2,"82932","07167857",8411,34,1,101114073]
[41300,"МЕСНА ЗАЈЕДНИЦА ПРИЈЕВОР","ЧАЧАК","840","-","0000002511645","645","-","56","034","04849",2,"82932","07167865",8411,34,1,101118479]
[41300,"МЕСНА ЗАЈЕДНИЦА МРЧАЈЕВЦИ","ЧАЧАК","840","-","0000000669645","645","-","63","034","04839",2,"82932","07167873",8411,34,1,100895913]
[41300,"МЕСНА ЗАЈЕДНИЦА ЗАБЛАЋЕ","ЧАЧАК","840","-","0000000350645","645","-","61","034","04823",2,"82932","07167881",8411,34,1,100896107]
[41300,"МЕСНА ЗАЈЕДНИЦА ПРИСЛОНИЦА","ЧАЧАК","840","-","0000000996645","645","-","24","034","04850",2,"82932","07167903",8411,34,1,101118534]
[41300,"МЕСНА ЗАЈЕДНИЦА МРШИНЦИ","ЧАЧАК","840","-","0000001187645","645","-","03","034","04840",2,"82932","07167911",8411,34,1,100895288]
[41300,"МЕСНА ЗАЈЕДНИЦА ЈАНЧИЋИ","ЧАЧАК","840","-","0000000717645","645","-","11","034","04824",2,"82932","07167920",8411,34,1,101119535]
[41300,"МЕСНА ЗАЈЕДНИЦА АТЕНИЦА","ЧАЧАК","840","-","0000001753645","645","-","85","034","04803",2,"82932","07167938",8411,34,1,101118149]
[41300,"МЕСНА ЗАЈЕДНИЦА ПЕТНИЦА","ЧАЧАК","840","-","0000000402645","645","-","37","034","04845",2,"82932","07167946",8411,34,1,101117919]
[41300,"МЕСНА ЗАЈЕДНИЦА ОВЧАР БАЊА","ЧАЧАК","840","-","0000000767645","645","-","70","034","04841",2,"82932","07167954",8411,34,1,100895270]
[41300,"МЕСНА ЗАЈЕДНИЦА ЈЕЗДИНА","ЧАЧАК","840","-","0000000910645","645","-","04","034","04826",2,"82932","07167962",8411,34,1,101118124]
[41300,"МЕСНА ЗАЈЕДНИЦА БАЛУГА ЉУБИЋСКА","ЧАЧАК","840","-","0000001720645","645","-","48","034","04804",2,"82932","07167989",8411,34,1,100895921]
[41300,"МЕСНА ЗАЈЕДНИЦА ПРЕМЕЋА","ЧАЧАК","840","-","0000000973645","645","-","57","034","04847",2,"82932","07167997",8411,34,1,101118526]
[41300,"МЕСНА ЗАЈЕДНИЦА БАЛУГА ТРНАВСКА","ЧАЧАК","840","-","0000001437645","645","-","07","034","04805",2,"82932","07168012",8411,34,1,101119455]
[41300,"МЕСНА ЗАЈЕДНИЦА РАКОВА","ЧАЧАК","840","-","0000001228645","645","-","96","034","04852",2,"82932","07168039",8411,34,1,101118132]
[41300,"МЕСНА ЗАЈЕДНИЦА КАТРГА","ЧАЧАК","840","-","0000001629645","645","-","90","034","04827",2,"82932","07168047",8411,34,1,101117105]
[41300,"МЕСНА ЗАЈЕДНИЦА ЈЕЖЕВИЦА","ЧАЧАК","840","-","0000000454645","645","-","13","034","04825",2,"82932","07168055",8411,34,1,101295837]
[41300,"МЕСНА ЗАЈЕДНИЦА БЕЉИНА","ЧАЧАК","840","-","0000001666645","645","-","58","034","04807",2,"82932","07168063",8411,34,1,101118165]
[41300,"МЕСНА ЗАЈЕДНИЦА РОШЦИ","ЧАЧАК","840","-","0000000790645","645","-","37","034","04854",2,"82932","07168071",8411,34,1,101119463]
[41300,"МЕСНА ЗАЈЕДНИЦА КУЛИНОВЦИ","ЧАЧАК","840","-","0000001517645","645","-","82","034","04831",2,"82932","07168080",8411,34,1,100895253]
[41300,"МЕСНА ЗАЈЕДНИЦА КАЧУЛИЦА","ЧАЧАК","840","-","0000001477645","645","-","93","034","04828",2,"82932","07168098",8411,34,1,101119560]
[41300,"МЕСНА ЗАЈЕДНИЦА БАЊИЦА","ЧАЧАК","840","-","0000001395645","645","-","04","034","04806",2,"82932","07168101",8411,34,1,101892821]
[41300,"МЕСНА ЗАЈЕДНИЦА РИЂАГЕ","ЧАЧАК","840","-","0000001737645","645","-","70","034","04853",2,"82932","07168110",8411,34,1,100895261]
[41300,"МЕСНА ЗАЈЕДНИЦА КУКИЋИ","ЧАЧАК","840","-","0000001497645","645","-","39","034","04830",2,"82932","07168128",8411,34,1,101117960]
[41300,"МЕСНА ЗАЈЕДНИЦА ЛУГОВИ","ЧАЧАК","840","-","0000001556645","645","-","64","034","04862",2,"82932","07168136",8411,34,1,101117943]
[41300,"МЕСНА ЗАЈЕДНИЦА БЕЧАЊ","ЧАЧАК","840","-","0000000505645","645","-","79","034","04808",2,"82932","07168144",8411,34,1,101120352]
[41300,"МЕСНА ЗАЈЕДНИЦА РАЈАЦ","ЧАЧАК","840","-","0000001574645","645","-","93","034","04851",2,"82932","07168152",8411,34,1,101118157]
[41300,"МЕСНА ЗАЈЕДНИЦА ЛОЗНИЦА","ЧАЧАК","840","-","0000001250645","645","-","56","034","04833",2,"82932","07168179",8411,34,1,101118518]
[41300,"МЕСНА ЗАЈЕДНИЦА БРЕЗОВИЦА","ЧАЧАК","840","-","0000001312645","645","-","05","034","04809",2,"82932","07168187",8411,34,1,101118542]
[41300,"МЕСНА ЗАЈЕДНИЦА СОКОЛИЋИ","ЧАЧАК","840","-","0000001331645","645","-","41","034","04856",2,"82932","07168195",8411,34,1,100895956]
[41300,"МЕСНА ЗАЈЕДНИЦА ЛИПНИЦА","ЧАЧАК","840","-","0000001458645","645","-","57","034","04832",2,"82932","07168209",8411,34,1,101118212]
[41300,"МЕСНА ЗАЈЕДНИЦА СЛАТИНА","ЧАЧАК","840","-","0000000376645","645","-","49","034","04855",2,"82932","07168217",8411,34,1,101118559]
[41300,"МЕСНА ЗАЈЕДНИЦА БРЕСНИЦА","ЧАЧАК","840","-","0000000534645","645","-","88","034","04810",2,"82932","07168225",8411,34,1,101295853]
[41300,"МЕСНА ЗАЈЕДНИЦА ТРБУШАНИ","ЧАЧАК","840","-","0000000886645","645","-","30","034","04858",2,"82932","07168233",8411,34,1,101118438]
[41300,"МЕСНА ЗАЈЕДНИЦА ГОРЊА ТРЕПЧА","ЧАЧАК","840","-","0000001416645","645","-","54","034","04819",2,"82932","07168241",8411,34,1,101118190]
[41300,"МЕСНА ЗАЈЕДНИЦА СТАНЧИЋИ","ЧАЧАК","840","-","0000001080645","645","-","30","034","04857",2,"82932","07168250",8411,34,1,100895323]
[41300,"МЕСНА ЗАЈЕДНИЦА ВАПА","ЧАЧАК","840","-","0000001593645","645","-","32","034","04811",2,"82932","07168268",8411,34,1,101295845]
[41300,"МЕСНА ЗАЈЕДНИЦА ТРНАВА","ЧАЧАК","840","-","0000001123645","645","-","40","034","04859",2,"82932","07168276",8411,34,1,101117927]
[41300,"МЕСНА ЗАЈЕДНИЦА ГОРИЧАНИ","ЧАЧАК","840","-","0000000480645","645","-","98","034","04817",2,"82932","07168284",8411,34,1,101119578]
[41300,"МЕСНА ЗАЈЕДНИЦА ОСТРА","ЧАЧАК","840","-","0000000861645","645","-","49","034","04842",2,"82932","07168292",8411,34,1,101295861]
[41300,"МЕСНА ЗАЈЕДНИЦА ПАКОВРАЋЕ","ЧАЧАК","840","-","0000001205645","645","-","32","034","04843",2,"82932","07181540",8411,34,1,101118495]
[41300,"МЕСНА ЗАЈЕДНИЦА ПАРМЕНАЦ","ЧАЧАК","840","-","0000001272645","645","-","16","034","04844",2,"82932","07181582",8411,34,1,101117935]
[41300,"МЕСНА ЗАЈЕДНИЦА ПРЕЉИНА","ЧАЧАК","840","-","0000001058645","645","-","70","034","04846",2,"82932","07181647",8411,34,1,101118487]
[41300,"МЕСНА ЗАЈЕДНИЦА ПРИДВОРИЦА","ЧАЧАК","840","-","0000001703645","645","-","26","034","04848",2,"82932","07181680",8411,34,1,100895307]
[41300,"МЕСНА ЗАЈЕДНИЦА ГОРЊА ГОРЕВНИЦА","ЧАЧАК","840","-","0000000813645","645","-","04","034","04818",2,"82932","07181710",8411,34,1,101295896]
[41300,"ГРАДСКА УПРАВА ЗА ФИНАНСИЈЕ","ЧАЧАК","","-","","","-","","034","82932",1,"82932","07183046",8411,34,0,101296508]
[41300,"МЕСНА ЗАЈЕДНИЦА КОЊЕВИЋИ","ЧАЧАК","840","-","0000001102645","645","-","87","034","04829",2,"82932","07243120",8411,34,1,101119527]
[41300,"МЕСНА ЗАЈЕДНИЦА ПАРК","ЧАЧАК","840","-","0000002533645","645","-","16","034","04865",2,"82932","07259077",8411,34,1,101118462]
[41300,"МЕСНА ЗАЈЕДНИЦА СВЕТИ САВА","ЧАЧАК","840","-","0000002565645","645","-","46","034","04868",2,"82932","07260121",8411,34,1,101118181]
[41300,"МЕСНА ЗАЈЕДНИЦА ПАЛИЛУЛЕ","ЧАЧАК","840","-","0000000617645","645","-","87","034","04864",2,"82932","07325983",8411,34,1,101119721]
[41300,"ЈАВНА УСТАНОВА ТУРИСТИЧКА ОРГАНИЗАЦИЈА ЧАЧАК","ЧАЧАК","840","-","0000001140664","664","-","05","034","04798",2,"82932","17213938",8413,34,1,101108557]
[41300,"МЕСНА ЗАЈЕДНИЦА ТАНАСКО РАЈИЋ","ЧАЧАК","840","-","0000002792645","645","-","83","034","04867",2,"82932","17297937",8411,34,1,101118173]
[41300,"МЕСНА ЗАЈЕДНИЦА 3. ДЕЦЕМБАР","ЧАЧАК","840","-","0000004033645","645","-","40","034","09861",2,"82932","17622510",8411,34,1,103732785]
[41300,"МЕСНА ЗАЈЕДНИЦА АЛВЛАЏИНИЦА","ЧАЧАК","840","-","0000004030645","645","-","19","034","09836",2,"82932","17622528",8411,34,1,103732793]
[41300,"МЕСНА ЗАЈЕДНИЦА САЈМИШТЕ","ЧАЧАК","840","-","0000004059645","645","-","28","034","10047",2,"82932","17650157",8411,34,1,104173449]
[41300,"МЕСНА ЗАЈЕДНИЦА ЉУБИЋ КЕЈ","ЧАЧАК","840","-","0000004058645","645","-","21","034","10046",2,"82932","17650165",8411,34,1,104173457]
[41300,"ГРАДСКА СТАМБЕНА АГЕНЦИЈА ЧАЧАК","ЧАЧАК","840","-","0000001211664","664","-","17","034","10068",2,"82932","17650360",4110,34,1,104251970]
[41300,"ГРАДСКА УПРАВА ЗА ИНСПЕКЦИЈСКИ НАЏОР","ЧАЧАК","","-","","","-","","034","82933",1,"82933","07183046",8411,34,0,101296508]
[41300,"ФОНД ЗА ЗАШТИТУ ЖИВОТНЕ СРЕДИНЕ ГРАДА ЧАЧАК","ЧАЧАК","","-","","","-","","034","80834",2,"82934","07183046",8411,34,1,101296508]
[41300,"ГРАДСКА УПРАВА ЗА УРБАНИЗАМ","ЧАЧАК","","-","","","-","","034","82934",1,"82934","07183046",8411,34,0,101296508]
[41300,"ГРАДСКА УПРАВА ЗА ЛОКАЛНУ ПОРЕСКУ АДМИНИСТРАЦИЈУ","ЧАЧАК","","-","","","-","","034","82935",1,"82935","07183046",8411,34,0,101296508]
[41300,"ГРАДСКА УПРАВА ЗА СТРУЧНЕ ПОСЛОВЕ СКУПШТИНЕ,ГРАДОНАЧЕЛНИКА И ГРАДСКОГ ВЕЋА","ЧАЧАК","","-","","","-","","034","82936",1,"82936","07183046",8411,34,0,101296508]
[41300,"ГРАДСКА УПРАВА ЗА ЛОКАЛНИ ЕКОНОМСКИ РАЗВОЈ","ЧАЧАК","","-","","","-","","034","82937",1,"82937","07183046",8411,34,0,101296508]
[41300,"СПОРТСКИ ЦЕНТАР МЛАДОСТ","ЧАЧАК","840","-","0000000777664","664","-","83","034","04879",2,"82938","06612946",9319,34,1,100895614]
[41300,"ДОМ КУЛТУРЕ ЧАЧАК","ЧАЧАК","840","-","0000000167664","664","-","81","034","04871",2,"82938","07167342",9003,34,1,101112640]
[41300,"НАРОДНИ МУЗЕЈ ЧАЧАК","ЧАЧАК","840","-","0000000031664","664","-","02","034","04873",2,"82938","07167385",9102,34,1,101113415]
[41300,"ГРАДСКА БИБЛИОТЕКА ВЛАДИСЛАВ ПЕТКОВИЋ-ДИС","ЧАЧАК","840","-","0000000017664","664","-","98","034","04870",2,"82938","07167393",9101,34,1,101112658]
[41300,"МЕЂУОПШТИНСКИ ИСТОРИЈСКИ АРХИВ ЗА ОПШТИНЕ ЧАЧАК, ГОРЊИ МИЛАНОВАЦ И ЛУЧАНИ","ЧАЧАК","840","-","0000000027664","664","-","71","034","04872",2,"82938","07167423",9101,34,1,101113431]
[41300,"УМЕТНИЧКА ГАЛЕРИЈА НАДЕЖДА ПЕТРОВИЋЧАЧАК","ЧАЧАК","840","-","0000000060664","664","-","11","034","04874",2,"82938","07167466",9102,34,1,101113423]
[41300,"ПРЕДШКОЛСКА УСТАНОВА РАДОСТ","ЧАЧАК","840","-","0000000006661","661","-","30","034","04869",2,"82938","07181671",8891,34,1,100894847]
[41300,"ГРАДСКА УПРАВА ЗА ДРУШТВЕНЕ ДЕЛАТНОСТИ","ЧАЧАК","","-","","","-","","034","82938",1,"82938","07183046",8411,34,0,101296508]
[41300,"РЕГИОНАЛНИ ЦЕНТАР ЗА ПРОФЕСИОНАЛНИ РАЗВОЈ ЗАПОСЛЕНИХ У ОБРАЗОВАЊУ ЧАЧАК","ЧАЧАК","840","-","0000000914664","664","-","72","034","10088",2,"82938","17655914",8412,34,1,104364291]
[41300,"УСТАНОВА ЗА ДНЕВНИ БОРАВАК ДЕЦЕ, МЛАДИХ И ОДРАСЛИХ СА СМЕТЊАМА У РАЗВОЈУ ЗРАЧАК ЧАЧАК","ЧАЧАК","840","-","0000000854661","661","-","49","034","86287",2,"82938","17833073",8891,34,1,108073269]
[41300,"ПРЕДШКОЛСКА УСТАНОВА МОЈЕ ДЕТИЊСТВО","ЧАЧАК","840","-","0000000855661","661","-","56","034","89422",2,"82938","17833626",8510,34,1,108245246]
[41301,"ОСНОВНА ШКОЛА МИЛАН БЛАГОЈЕВИЋ","ЛУЧАНИ","840","-","0000000437660","660","-","43","601","00579",2,"13701","07146434",8520,60,1,101267478]
[41301,"ДОМ ЗДРАВЉА ЛУЧАНИ","ЛУЧАНИ","840","-","0000000865661","661","-","29","601","91966",2,"95000","17870025",8621,60,3,108573790]
[41301,"ОПШТИНА ЛУЧАНИ-БУЏЕТ","ЛУЧАНИ","840","-","0000000060640","640","-","83","060","05991",0,"05991","07175345",8411,60,0,101266617]
[41301,"МЕСНА ЗАЈЕДНИЦА СЕЛО ЛУЧАНИ","ЛУЧАНИ","840","-","0000002729645","645","-","30","060","06007",2,"05992","06983685",8411,60,1,101268430]
[41301,"ПРЕДШКОЛСКА УСТАНОВА НАША РАДОСТ ЛУЧАНИ","ЛУЧАНИ","840","-","0000000118661","661","-","38","060","06008",2,"05992","07151896",8891,60,1,101266502]
[41301,"МЕСНА ЗАЈЕДНИЦА НЕГРИШОРИ","ЛУЧАНИ","840","-","0000002399645","645","-","48","060","06004",2,"05992","07152078",8411,60,1,101267111]
[41301,"МЕСНА ЗАЈЕДНИЦА МАРКОВИЦА","ЛУЧАНИ","840","-","0000000324645","645","-","73","060","06003",2,"05992","07152094",8411,60,1,101267195]
[41301,"МЕСНА ЗАЈЕДНИЦА ЛИСИЦЕ","ЛУЧАНИ","840","-","0000002476645","645","-","05","060","06002",2,"05992","07152132",8411,60,1,101268421]
[41301,"МЕСНА ЗАЈЕДНИЦА ДЉИН","ЛУЧАНИ","840","-","0000000217645","645","-","03","060","05997",2,"05992","07152167",8411,60,1,101267146]
[41301,"МЕСНА ЗАЈЕДНИЦА ЛУЧАНИ ВАРОШ","ЛУЧАНИ","840","-","0000002488645","645","-","89","060","05996",2,"05992","07152191",8411,60,1,101267120]
[41301,"МЕСНА ЗАЈЕДНИЦА ЂЕРАЋ","ЛУЧАНИ","840","-","0000002426645","645","-","43","060","05999",2,"05992","07152213",8411,60,1,101267179]
[41301,"МЕСНА ЗАЈЕДНИЦА ПУХОВО","ЛУЧАНИ","840","-","0000000297645","645","-","78","060","06005",2,"05992","07152256",8411,60,1,101267162]
[41301,"ОПШТИНСКА УПРАВА ЛУЧАНИ","ЛУЧАНИ","","-","","","-","","060","05992",1,"05992","07175345",8411,60,0,101266617]
[41301,"МЕСНА ЗАЈЕДНИЦА РТАРИ","ЛУЧАНИ","840","-","0000002594645","645","-","55","060","06006",2,"05992","07262086",8411,60,1,101268413]
[41301,"МЕСНА ЗАЈЕДНИЦА ДУЧАЛОВИЋИ","ЛУЧАНИ","840","-","0000002585645","645","-","89","060","05998",2,"05992","07262108",8411,60,1,101267187]
[41301,"МЕСНА ЗАЈЕДНИЦА КРСТАЦ","ЛУЧАНИ","840","-","0000002498645","645","-","62","060","06000",2,"05992","07294603",8411,60,1,101267200]
[41301,"МЕСНА ЗАЈЕДНИЦА ЛИС","ЛУЧАНИ","840","-","0000002671645","645","-","12","060","06001",2,"05992","07302568",8411,60,1,101267154]
[41301,"МЕСНА ЗАЈЕДНИЦА ЛИСИЦА 2","ЛУЧАНИ","840","-","0000004001645","645","-","10","060","09522",2,"05992","17534491",8411,60,1,103222146]
[41301,"ОПШТИНА ЛУЧАНИ - СКУПШТИНА ОПШТИНЕ","ЛУЧАНИ","","-","","","-","","060","91639",1,"91639","07175345",8411,60,0,101266617]
[41301,"ОПШТИНА ЛУЧАНИ - ПРЕДСЕДНИК ОПШТИНЕ","ЛУЧАНИ","","-","","","-","","060","91640",1,"91640","07175345",8411,60,0,101266617]
[41301,"ОПШТИНА ЛУЧАНИ - ОПШТИНСКО ВЕЋЕ","ЛУЧАНИ","","-","","","-","","060","91641",1,"91641","07175345",8411,60,0,101266617]
[41301,"ОПШТИНСКО ПРАВОБРАНИЛАШТВО ОПШТИНЕ ЛУЧАНИ","ЛУЧАНИ","","-","","","-","","060","94479",1,"94479","07175345",6910,60,0,101266617]
[41302,"ЦЕНТАР ЗА СОЦИЈАЛНИ РАД ЛУЧАНИ","ГУЧА","840","-","0000000224661","661","-","04","601","00222",2,"13400","07296959",8899,60,1,101263661]
[41302,"ОСНОВНА ШКОЛА ВУК КАРАЏИЋ КАОНА","ГУЧА","840","-","0000000503660","660","-","20","601","00581",2,"13701","07151918",8520,60,1,101265052]
[41302,"ОСНОВНА ШКОЛА ГОРАЧИЋИ ГОРАЧИЋИ","ГУЧА","840","-","0000000509660","660","-","62","601","00582",2,"13701","07151926",8520,60,1,102005431]
[41302,"ОСНОВНА ШКОЛА АКАДЕМИК МИЛЕНКО ШУШИЋ ГУЧА","ГУЧА","840","-","0000000471660","660","-","87","601","00580",2,"13701","07151942",8520,60,1,101265069]
[41302,"ОСНОВНА ШКОЛА МАРКО ПАЈИЋ ВИЧА","ГУЧА","840","-","0000000494660","660","-","54","601","00584",2,"13701","07151969",8520,60,1,101265315]
[41302,"ОСНОВНА ШКОЛА КОТРАЖА КОТРАЖА","ГУЧА","840","-","0000000484660","660","-","81","601","00583",2,"13701","07193394",8520,60,1,101267865]
[41302,"СРЕДЊА ШКОЛА ДРАГАЧЕВО","ГУЧА","840","-","0000000943660","660","-","93","601","01854",2,"13702","07261322",8532,60,1,101265575]
[41302,"МЕСНА ЗАЈЕДНИЦА ЛУКОВИЋИ КОТРАЖА","ГУЧА","840","-","0000002760645","645","-","53","060","06033",2,"05992","06942601",8411,60,1,101265261]
[41302,"МЕСНА ЗАЈЕДНИЦА КОШАНИ РОГАЧА","ГУЧА","840","-","0000002740645","645","-","10","060","06032",2,"05992","06984681",8411,60,1,101268649]
[41302,"МЕСНА ЗАЈЕДНИЦА ДРАГАЧИЦА","ГУЧА","840","-","0000002751645","645","-","87","060","06021",2,"05992","06984789",8411,60,1,102005499]
[41302,"ЦЕНТАР ЗА КУЛТУРУ И СПОРТ ОПШТИНЕ ЛУЧАНИ У ГУЧИ","ГУЧА","840","-","0000000097664","664","-","76","060","06034",2,"05992","07151900",8559,60,1,101264871]
[41302,"МЕСНА ЗАЈЕДНИЦА ВУЧКОВИЦА","ГУЧА","840","-","0000000271645","645","-","90","060","06013",2,"05992","07152086",8411,60,1,102005511]
[41302,"МЕСНА ЗАЈЕДНИЦА КОТРАЖА","ГУЧА","840","-","0000000054645","645","-","26","060","06025",2,"05992","07152108",8411,60,1,101267996]
[41302,"МЕСНА ЗАЈЕДНИЦА МИЛАТОВИЋИ","ГУЧА","840","-","0000000929645","645","-","40","060","06026",2,"05992","07152116",8411,60,1,101267630]
[41302,"МЕСНА ЗАЈЕДНИЦА ГРАБ","ГУЧА","840","-","0000000243645","645","-","88","060","06017",2,"05992","07152124",8411,60,1,101266965]
[41302,"МЕСНА ЗАЈЕДНИЦА ВИЧА","ГУЧА","840","-","0000000110645","645","-","30","060","06012",2,"05992","07152159",8411,60,1,101268106]
[41302,"МЕСНА ЗАЈЕДНИЦА ГУБЕРЕВЦИ","ГУЧА","840","-","0000001374645","645","-","51","060","06018",2,"05992","07152175",8411,60,1,101268472]
[41302,"МЕСНА ЗАЈЕДНИЦА ДОЊА КРАВАРИЦА","ГУЧА","840","-","0000000081645","645","-","21","060","06019",2,"05992","07152183",8411,60,1,102005474]
[41302,"МЕСНА ЗАЈЕДНИЦА ГУЧА","ГУЧА","840","-","0000000029645","645","-","45","060","06011",2,"05992","07152205",8411,60,1,101267937]
[41302,"МЕСНА ЗАЈЕДНИЦА ГОРАЧИЋИ","ГУЧА","840","-","0000000136645","645","-","18","060","06014",2,"05992","07152221",8411,60,1,102005520]
[41302,"МЕСНА ЗАЈЕДНИЦА КАОНА","ГУЧА","840","-","0000000164645","645","-","20","060","06024",2,"05992","07152230",8411,60,1,102005482]
[41302,"МЕСНА ЗАЈЕДНИЦА ГОРЊИ ДУБАЦ","ГУЧА","840","-","0000000189645","645","-","98","060","06016",2,"05992","07152248",8411,60,1,101268083]
[41302,"МЕСНА ЗАЈЕДНИЦА ТИЈАНЕ","ГУЧА","840","-","0000002575645","645","-","19","060","06028",2,"05992","07260067",8411,60,1,101268091]
[41302,"МЕСНА ЗАЈЕДНИЦА ЗЕОКЕ","ГУЧА","840","-","0000002616645","645","-","15","060","06023",2,"05992","07262094",8411,60,1,102713157]
[41302,"МЕСНА ЗАЈЕДНИЦА ДОЊИ ДУБАЦ","ГУЧА","840","-","0000002604645","645","-","28","060","06020",2,"05992","07262183",8411,60,1,101268075]
[41302,"МЕСНА ЗАЈЕДНИЦА ТУРИЦА","ГУЧА","840","-","0000002625645","645","-","78","060","06029",2,"05992","07266324",8411,60,1,101266527]
[41302,"МЕСНА ЗАЈЕДНИЦА РТИ","ГУЧА","840","-","0000002637645","645","-","65","060","06027",2,"05992","07266332",8411,60,1,101267988]
[41302,"МЕСНА ЗАЈЕДНИЦА ГОРЊА КРАВАРИЦА","ГУЧА","840","-","0000002648645","645","-","45","060","06015",2,"05992","07266359",8411,60,1,102005503]
[41302,"МЕСНА ЗАЈЕДНИЦА ЖИВИЦА","ГУЧА","840","-","0000002660645","645","-","32","060","06022",2,"05992","07291060",8411,60,1,101268067]
[41302,"МЕСНА ЗАЈЕДНИЦА ВЕЛЕС","ГУЧА","840","-","0000002683645","645","-","96","060","06030",2,"05992","07302983",8411,60,1,101268018]
[41302,"МЕСНА ЗАЈЕДНИЦА ГЛОГ ДОЊИ ДУБАЦ","ГУЧА","840","-","0000002782645","645","-","13","060","06031",2,"05992","17191152",8411,60,1,101268034]
[41302,"МЕСНА ЗАЈЕДНИЦА РАСОВАЦ","ГУЧА","840","-","0000004134645","645","-","68","060","80355",2,"05992","17764527",8411,60,1,105989769]
[41302,"БИБЛИОТЕКА ОПШТИНЕ ЛУЧАНИ, ГУЧА","ГУЧА","840","-","0000001013664","664","-","86","060","80670",2,"05992","17771124",9101,60,1,106447728]
[41302,"МЕСНА ЗАЈЕДНИЦА РОГАЧА","ГУЧА","840","-","0000004166645","645","-","98","060","84762",2,"05992","17831488",8411,60,1,107934288]
[41302,"ТУРИСТИЧКА ОРГАНИЗАЦИЈА ДРАГАЧЕВО","ЛУЧАНИ","840","-","0000001109664","664","-","79","060","86797",2,"05992","17834843",8413,60,1,108127597]
[41320,"ЦЕНТАР ЗА СОЦИЈАЛНИ РАД ГОРЊИ МИЛАНОВАЦ","ГОРЊИ МИЛАНОВАЦ","840","-","0000000162661","661","-","55","601","00223",2,"13400","07193416",8899,41,1,101487834]
[41320,"ОСНОВНА ШКОЛА ТАКОВСКИ УСТАНАК ТАКОВО","ГОРЊИ МИЛАНОВАЦ","840","-","0000000613660","660","-","14","601","00591",2,"13701","07153856",8520,41,1,100887288]
[41320,"ОСНОВНА ШКОЛА АРСЕНИЈЕ ЛОМА РУДНИК","ГОРЊИ МИЛАНОВАЦ","840","-","0000000635660","660","-","71","601","00585",2,"13701","07177216",8520,41,1,100889306]
[41320,"ОСНОВНА ШКОЛА КРАЉ АЛЕКСАНДАР I","ГОРЊИ МИЛАНОВАЦ","840","-","0000000676660","660","-","67","601","00590",2,"13701","07177283",8520,41,1,100889363]
[41320,"ОСНОВНА ШКОЛА ИВО АНДРИЋ ПРАЊАНИ","ГОРЊИ МИЛАНОВАЦ","840","-","0000000628660","660","-","22","601","00587",2,"13701","07177291",8520,41,1,101884830]
[41320,"ОСНОВНА ШКОЛА СВЕТИ САВА ГОРЊИ МИЛАНОВАЦ","ГОРЊИ МИЛАНОВАЦ","840","-","0000000992660","660","-","48","601","00589",2,"13701","07344228",8520,41,1,101151921]
[41320,"ОСНОВНА ШКОЛА ДЕСАНКА МАКСИМОВИЋ","ГОРЊИ МИЛАНОВАЦ","840","-","0000001049660","660","-","59","601","00586",2,"13701","07696949",8520,41,1,101985519]
[41320,"ОСНОВНА ШКОЛА МОМЧИЛО НАСТАСИЈЕВИЋ","ГОРЊИ МИЛАНОВАЦ","840","-","0000000670660","660","-","25","601","00588",2,"13701","07697368",8520,41,1,100889460]
[41320,"ТЕХНИЧКА ШКОЛА ЈОВАН ЖУЈОВИЋ","ГОРЊИ МИЛАНОВАЦ","840","-","0000000623660","660","-","84","601","01856",2,"13702","07177135",8532,41,1,102156726]
[41320,"ГИМНАЗИЈА ТАКОВСКИ УСТАНАК","ГОРЊИ МИЛАНОВАЦ","840","-","0000000663660","660","-","73","601","01696",2,"13702","07177941",8531,41,1,102291724]
[41320,"ЕКОНОМСКО-ТРГОВИНСКА ШКОЛА КЊАЗ МИЛОШ","ГОРЊИ МИЛАНОВАЦ","840","-","0000001014660","660","-","08","601","01855",2,"13702","07578130",8532,41,1,102193353]
[41320,"ОСНОВНИ СУД У ГОРЊЕМ МИЛАНОВЦУ","ГОРЊИ МИЛАНОВАЦ","","-","","","-","","601","91281",2,"30226","17865471",8423,41,5,108341374]
[41320,"ОСНОВНО ЈАВНО ТУЖИЛАШТВО У ГОРЊЕМ МИЛАНОВЦУ","ГОРЊИ МИЛАНОВАЦ","","-","","","-","","601","91345",2,"30229","17865889",8423,41,5,108348046]
[41320,"ПРЕКРШАЈНИ СУД У ГОРЊЕМ МИЛАНОВЦУ","ГОРЊИ МИЛАНОВАЦ","","-","","","-","","601","80584",2,"30233","17773992",8423,41,5,106398817]
[41320,"АПОТЕКА ГОРЊИ МИЛАНОВАЦ","ГОРЊИ МИЛАНОВАЦ","840","-","0000000294661","661","-","09","601","02619",2,"95000","06357890",4773,41,3,102156599]
[41320,"ДОМ ЗДРАВЉА ГОРЊИ МИЛАНОВАЦ","ГОРЊИ МИЛАНОВАЦ","840","-","0000000798661","661","-","45","601","80368",2,"95000","17776037",8621,41,3,106106068]
[41320,"ОПШТА БОЛНИЦА ГОРЊИ МИЛАНОВАЦ","ГОРЊИ МИЛАНОВАЦ","840","-","0000000805661","661","-","94","601","80415",2,"95000","17780042",8610,41,3,106308146]
[41320,"ОПШТИНА ГОРЊИ МИЛАНОВАЦ-БУЏЕТ","ГОРЊИ МИЛАНОВАЦ","840","-","0000000031640","640","-","74","041","05094",0,"05094","07175221",8411,41,0,102156105]
[41320,"МУЗЕЈ РУДНИЧКО-ТАКОВСКОГ КРАЈА","ГОРЊИ МИЛАНОВАЦ","840","-","0000000276664","664","-","68","041","05154",2,"05097","06993800",9102,41,1,101152965]
[41320,"ОПШТИНСКА УПРАВА ГОРЊИ МИЛАНОВАЦ","ГОРЊИ МИЛАНОВАЦ","","-","","","-","","041","05097",1,"05097","07175221",8411,41,0,102156105]
[41320,"БУЏЕТСКИ ФОНД ЗА ЗАШТИТУ ЖИВОТНЕ СРЕДИНЕ ОПШТИНЕ ГОРЊИ МИЛАНОВАЦ","ГОРЊИ МИЛАНОВАЦ","","-","","","-","","041","80634",2,"05097","07175221",8411,41,1,102156105]
[41320,"ПРЕДШКОЛСКА УСТАНОВА СУНЦЕ ГОРЊИ МИЛАНОВАЦ","ГОРЊИ МИЛАНОВАЦ","840","-","0000000130661","661","-","25","041","05152",2,"05097","07177232",8510,41,1,100889777]
[41320,"МЕСНА ЗАЈЕДНИЦА ГОРЊИ МИЛАНОВАЦ","ГОРЊИ МИЛАНОВАЦ","840","-","0000001536645","645","-","21","041","05101",2,"05097","07192860",8411,41,1,102385873]
[41320,"МЕСНА ЗАЈЕДНИЦА ПРАЊАНИ","ГОРЊИ МИЛАНОВАЦ","840","-","0000001767645","645","-","86","041","05140",2,"05097","07192878",8411,41,1,102386155]
[41320,"МЕСНА ЗАЈЕДНИЦА КОШТУНИЋИ","ГОРЊИ МИЛАНОВАЦ","840","-","0000001858645","645","-","44","041","05129",2,"05097","07192886",8411,41,1,102385478]
[41320,"МЕСНА ЗАЈЕДНИЦА ШИЛОПАЈ","ГОРЊИ МИЛАНОВАЦ","840","-","0000001872645","645","-","45","041","05151",2,"05097","07192894",8411,41,1,102155782]
[41320,"МЕСНА ЗАЈЕДНИЦА ТЕОЧИН","ГОРЊИ МИЛАНОВАЦ","840","-","0000002301645","645","-","41","041","05148",2,"05097","07192908",8411,41,1,102155942]
[41320,"МЕСНА ЗАЈЕДНИЦА РУДНИК","ГОРЊИ МИЛАНОВАЦ","840","-","0000002452645","645","-","31","041","05141",2,"05097","07192916",8411,41,1,102384578]
[41320,"УСТАНОВА ЗА КУЛТУРУ И УМЕТНОСТ КУЛТУРНИ ЦЕНТАР","ГОРЊИ МИЛАНОВАЦ","840","-","0000000241664","664","-","17","041","05155",2,"05097","07193459",8559,41,1,101152990]
[41320,"МЕСНА ЗАЈЕДНИЦА ЛЕУШИЋИ","ГОРЊИ МИЛАНОВАЦ","840","-","0000002352645","645","-","10","041","05130",2,"05097","07206437",8411,41,1,102384609]
[41320,"МЕСНА ЗАЈЕДНИЦА ДОЊА ВРБАВА","ГОРЊИ МИЛАНОВАЦ","840","-","0000002314645","645","-","35","041","05120",2,"05097","07224001",8411,41,1,102155707]
[41320,"МЕСНА ЗАЈЕДНИЦА ДОЊИ БРАНЕТИЋИ","ГОРЊИ МИЛАНОВАЦ","840","-","0000002289645","645","-","54","041","05122",2,"05097","07224010",8411,41,1,102155661]
[41320,"МЕСНА ЗАЈЕДНИЦА БРЕЗНА","ГОРЊИ МИЛАНОВАЦ","840","-","0000002340645","645","-","23","041","05108",2,"05097","07224028",8411,41,1,102155862]
[41320,"МЕСНА ЗАЈЕДНИЦА ДОЊА ЦРНУЋА","ГОРЊИ МИЛАНОВАЦ","840","-","0000002438645","645","-","30","041","05121",2,"05097","07224052",8411,41,1,102155887]
[41320,"МЕСНА ЗАЈЕДНИЦА ПОЛОМ","ГОРЊИ МИЛАНОВАЦ","840","-","0000002413645","645","-","49","041","05139",2,"05097","07224079",8411,41,1,102155731]
[41320,"МЕСНА ЗАЈЕДНИЦА ВРАЋЕВШНИЦА","ГОРЊИ МИЛАНОВАЦ","840","-","0000002387645","645","-","61","041","05112",2,"05097","07224087",8411,41,1,102385427]
[41320,"МЕСНА ЗАЈЕДНИЦА БЕРШИЋИ","ГОРЊИ МИЛАНОВАЦ","840","-","0000002376645","645","-","81","041","05103",2,"05097","07224095",8411,41,1,102155799]
[41320,"МЕСНА ЗАЈЕДНИЦА ОЗРЕМ","ГОРЊИ МИЛАНОВАЦ","840","-","0000002276645","645","-","60","041","05138",2,"05097","07224117",8411,41,1,102384586]
[41320,"МЕСНА ЗАЈЕДНИЦА НЕВАДЕ","ГОРЊИ МИЛАНОВАЦ","840","-","0000002262645","645","-","59","041","05137",2,"05097","07224125",8411,41,1,102155846]
[41320,"МЕСНА ЗАЈЕДНИЦА БОГДАНИЦА","ГОРЊИ МИЛАНОВАЦ","840","-","0000002232645","645","-","43","041","05104",2,"05097","07224133",8411,41,1,102156902]
[41320,"МЕСНА ЗАЈЕДНИЦА ГРАБОВИЦА","ГОРЊИ МИЛАНОВАЦ","840","-","0000002217645","645","-","35","041","05119",2,"05097","07224141",8411,41,1,102155723]
[41320,"МЕСНА ЗАЈЕДНИЦА БРЂАНИ","ГОРЊИ МИЛАНОВАЦ","840","-","0000002202645","645","-","27","041","05107",2,"05097","07224150",8411,41,1,102155820]
[41320,"МЕСНА ЗАЈЕДНИЦА БРУСНИЦА","ГОРЊИ МИЛАНОВАЦ","840","-","0000001785645","645","-","18","041","05109",2,"05097","07224176",8411,41,1,102155918]
[41320,"МЕСНА ЗАЈЕДНИЦА СВРАЧКОВЦИ","ГОРЊИ МИЛАНОВАЦ","840","-","0000001813645","645","-","20","041","05144",2,"05097","07224184",8411,41,1,102448402]
[41320,"МЕСНА ЗАЈЕДНИЦА ГОЈНА ГОРА","ГОРЊИ МИЛАНОВАЦ","840","-","0000001828645","645","-","28","041","05115",2,"05097","07224192",8411,41,1,102155879]
[41320,"МЕСНА ЗАЈЕДНИЦА ТАКОВО","ГОРЊИ МИЛАНОВАЦ","840","-","0000001888645","645","-","60","041","05147",2,"05097","07224206",8411,41,1,102384594]
[41320,"МЕСНА ЗАЈЕДНИЦА ЗАГРАЂЕ","ГОРЊИ МИЛАНОВАЦ","840","-","0000001899645","645","-","40","041","05124",2,"05097","07224214",8411,41,1,102156880]
[41320,"МЕСНА ЗАЈЕДНИЦА ГОРЊА ВРБАВА","ГОРЊИ МИЛАНОВАЦ","840","-","0000001912645","645","-","34","041","05114",2,"05097","07224222",8411,41,1,102155758]
[41320,"МЕСНА ЗАЈЕДНИЦА ДРАГОЉ","ГОРЊИ МИЛАНОВАЦ","840","-","0000001924645","645","-","21","041","05123",2,"05097","07224249",8411,41,1,102155766]
[41320,"МЕСНА ЗАЈЕДНИЦА ТРУДЕЉ","ГОРЊИ МИЛАНОВАЦ","840","-","0000001939645","645","-","29","041","05149",2,"05097","07224257",8411,41,1,102155715]
[41320,"МЕСНА ЗАЈЕДНИЦА СРЕЗОЈЕВЦИ","ГОРЊИ МИЛАНОВАЦ","840","-","0000001969645","645","-","45","041","05146",2,"05097","07224265",8411,41,1,102156919]
[41320,"МЕСНА ЗАЈЕДНИЦА ВАРНИЦЕ","ГОРЊИ МИЛАНОВАЦ","840","-","0000001982645","645","-","39","041","05110",2,"05097","07224273",8411,41,1,102155803]
[41320,"МЕСНА ЗАЈЕДНИЦА ЛИПОВАЦ","ГОРЊИ МИЛАНОВАЦ","840","-","0000002026645","645","-","56","041","05131",2,"05097","07224281",8411,41,1,102156898]
[41320,"МЕСНА ЗАЈЕДНИЦА ГОРЊИ БАЊАНИ","ГОРЊИ МИЛАНОВАЦ","840","-","0000002042645","645","-","71","041","05117",2,"05097","07224290",8411,41,1,102448865]
[41320,"МЕСНА ЗАЈЕДНИЦА БЕЛО ПОЉЕ","ГОРЊИ МИЛАНОВАЦ","840","-","0000002058645","645","-","86","041","05102",2,"05097","07224303",8411,41,1,102155926]
[41320,"МЕСНА ЗАЈЕДНИЦА ЉУТОВНИЦА","ГОРЊИ МИЛАНОВАЦ","840","-","0000002084645","645","-","74","041","05134",2,"05097","07224311",8411,41,1,102386202]
[41320,"МЕСНА ЗАЈЕДНИЦА СЕМЕДРАЖ","ГОРЊИ МИЛАНОВАЦ","840","-","0000002073645","645","-","94","041","05145",2,"05097","07224320",8411,41,1,102385451]
[41320,"МЕСНА ЗАЈЕДНИЦА ГОРЊА ЦРНУЋА","ГОРЊИ МИЛАНОВАЦ","840","-","0000002099645","645","-","82","041","05116",2,"05097","07224338",8411,41,1,102386163]
[41320,"МЕСНА ЗАЈЕДНИЦА БОЉКОВЦИ","ГОРЊИ МИЛАНОВАЦ","840","-","0000002114645","645","-","90","041","05105",2,"05097","07224346",8411,41,1,102448398]
[41320,"МЕСНА ЗАЈЕДНИЦА РУЧИЋИ","ГОРЊИ МИЛАНОВАЦ","840","-","0000002173645","645","-","18","041","05142",2,"05097","07224354",8411,41,1,102155774]
[41320,"МЕСНА ЗАЈЕДНИЦА ЈАБЛАНИЦА","ГОРЊИ МИЛАНОВАЦ","840","-","0000002158645","645","-","10","041","05125",2,"05097","07224362",8411,41,1,102155688]
[41320,"МЕСНА ЗАЈЕДНИЦА ВЕЛЕРЕЧ","ГОРЊИ МИЛАНОВАЦ","840","-","0000002247645","645","-","51","041","05111",2,"05097","07224389",8411,41,1,102155696]
[41320,"МЕСНА ЗАЈЕДНИЦА КАЛИМАНИЋИ","ГОРЊИ МИЛАНОВАЦ","840","-","0000002187645","645","-","19","041","05126",2,"05097","07224397",8411,41,1,102155900]
[41320,"МЕСНА ЗАЈЕДНИЦА САВИНАЦ","ГОРЊИ МИЛАНОВАЦ","840","-","0000002010645","645","-","41","041","05143",2,"05097","07224419",8411,41,1,102155934]
[41320,"МЕСНА ЗАЈЕДНИЦА БРАЈИЋИ","ГОРЊИ МИЛАНОВАЦ","840","-","0000001799645","645","-","19","041","05106",2,"05097","07225253",8411,41,1,102155959]
[41320,"МЕСНА ЗАЈЕДНИЦА МАЈДАН","ГОРЊИ МИЛАНОВАЦ","840","-","0000001843645","645","-","36","041","05135",2,"05097","07225261",8411,41,1,102386180]
[41320,"МЕСНА ЗАЈЕДНИЦА ГОРЊИ БРАНЕТИЋИ","ГОРЊИ МИЛАНОВАЦ","840","-","0000001954645","645","-","37","041","05118",2,"05097","07225270",8411,41,1,102156935]
[41320,"МЕСНА ЗАЈЕДНИЦА УГРИНОВЦИ","ГОРЊИ МИЛАНОВАЦ","840","-","0000001995645","645","-","33","041","05150",2,"05097","07225288",8411,41,1,102385435]
[41320,"МЕСНА ЗАЈЕДНИЦА ВРНЧАНИ","ГОРЊИ МИЛАНОВАЦ","840","-","0000002128645","645","-","91","041","05113",2,"05097","07225296",8411,41,1,102155895]
[41320,"МЕСНА ЗАЈЕДНИЦА ЛОЗАЊ","ГОРЊИ МИЛАНОВАЦ","840","-","0000002143645","645","-","02","041","05132",2,"05097","07225300",8411,41,1,102448380]
[41320,"МЕСНА ЗАЈЕДНИЦА ЛУЊЕВИЦА","ГОРЊИ МИЛАНОВАЦ","840","-","0000002364645","645","-","94","041","05133",2,"05097","07243898",8411,41,1,102155670]
[41320,"МЕСНА ЗАЈЕДНИЦА КАМЕНИЦА","ГОРЊИ МИЛАНОВАЦ","840","-","0000002328645","645","-","36","041","05127",2,"05097","07313667",8411,41,1,102386171]
[41320,"БИБЛИОТЕКА БРАЋА НАСТАСИЈЕВИЋ","ГОРЊИ МИЛАНОВАЦ","840","-","0000000282664","664","-","13","041","05153",2,"05097","17020471",9101,41,1,101152957]
[41320,"МЕСНА ЗАЈЕДНИЦА НАКУЧАНИ","ГОРЊИ МИЛАНОВАЦ","840","-","0000002771645","645","-","33","041","05136",2,"05097","17124692",8411,41,1,102385486]
[41320,"МЕСНА ЗАЈЕДНИЦА КЛАТИЧЕВО","ГОРЊИ МИЛАНОВАЦ","840","-","0000002803645","645","-","63","041","05128",2,"05097","17292285",8411,41,1,102385443]
[41320,"ТУРИСТИЧКА ОРГАНИЗАЦИЈА ОПШТИНЕ","ГОРЊИ МИЛАНОВАЦ","840","-","0000001116664","664","-","31","041","05098",2,"05097","17297279",8413,41,1,101152973]
[41320,"УСТАНОВА СПОРТСКО - РЕКРЕАТИВНИ ЦЕНТАР ГОРЊИ МИЛАНОВАЦ","ГОРЊИ МИЛАНОВАЦ","840","-","0000001209664","664","-","03","041","62131",2,"05097","20456108",9311,41,1,105764670]
[41320,"СКУПШТИНА ОПШТИНЕ ГОРЊИ МИЛАНОВАЦ","ГОРЊИ МИЛАНОВАЦ","","-","","","-","","041","09808",1,"09808","07175221",8411,41,0,102156105]
[41320,"ОПШТИНСКО ВЕЋЕ ГОРЊИ МИЛАНОВАЦ","ГОРЊИ МИЛАНОВАЦ","","-","","","-","","041","09809",1,"09809","07175221",8411,41,0,102156105]
[41320,"ОПШТИНА ГОРЊИ МИЛАНОВАЦ - ОПШТИНСКО ПРАВОБРАНИЛАШТВО","ГОРЊИ МИЛАНОВАЦ","","-","","","-","","041","60500",1,"60500","07175221",8411,41,0,102156105]
[41320,"ПРЕДСЕДНИК ОПШТИНЕ ГОРЊИ МИЛАНОВАЦ","ГОРЊИ МИЛАНОВАЦ","","-","","","-","","041","80198",1,"80198","07175221",8411,41,0,102156105]
[41700,"ОКРУЖНИ ЗАТВОР У КРАГУЈЕВЦУ","КРАГУЈЕВАЦ","840","-","0000000674621","621","-","73","601","00014",2,"10311","17621521",8423,49,1,103698843]
[41700,"МФ - ПОРЕСКА УПРАВА - РЕГИОНАЛНО ОДЕЉЕЊЕ КРАГУЈЕВАЦ","КРАГУЈЕВАЦ","840","-","0000000653621","621","-","23","601","03185",4,"10522","17862146",8411,49,0,100020943]
[41700,"МУП - ПОЛИЦИЈСКА УПРАВА КРАГУЈЕВАЦ","КРАГУЈЕВАЦ","840","-","0000000666621","621","-","17","601","00046",4,"10600","07008104",8424,49,0,100184116]
[41700,"МУЗЕЈ ЖРТАВА ГЕНОЦИДА КРАГУЈЕВАЦ","КРАГУЈЕВАЦ","840","-","0000000433664","664","-","03","601","02344",2,"11801","17014579",9102,49,1,101578773]
[41700,"ГЕРОНТОЛОШКИ ЦЕНТАР КРАГУЈЕВАЦ","КРАГУЈЕВАЦ","840","-","0000000058661","661","-","06","601","00182",2,"13400","07151594",8730,49,1,101576579]
[41700,"ЗАВОД ЗА СМЕШТАЈ ОДРАСЛИХ МАЛЕ ПЧЕЛИЦЕ КРАГУЈЕВАЦ","КРАГУЈЕВАЦ","840","-","0000000244661","661","-","47","601","00212",2,"13400","07151608",8790,49,1,101578931]
[41700,"ЦЕНТАР ЗА СОЦИЈАЛНИ РАД СОЛИДАРНОСТ КРАГУЈЕВАЦ","КРАГУЈЕВАЦ","840","-","0000000445661","661","-","96","601","00224",2,"13400","07151616",8899,49,1,101459318]
[41700,"ЦЕНТАР ЗА ПОРОДИЧНИ СМЕШТАЈ И УСВОЈЕЊЕ КРАГУЈЕВАЦ","КРАГУЈЕВАЦ","840","-","0000000839661","661","-","41","601","80940",2,"13400","17821318",8790,49,1,107183589]
[41700,"ОСНОВНА ШКОЛА СВЕТОЗАР МАРКОВИЋ","КРАГУЈЕВАЦ","840","-","0000000133660","660","-","49","601","00610",2,"13701","07149077",8520,49,1,101038766]
[41700,"ОСНОВНА ШКОЛА РАДОЈЕ ДОМАНОВИЋ","КРАГУЈЕВАЦ","840","-","0000000225660","660","-","14","601","00608",2,"13701","07149085",8520,49,1,101041608]
[41700,"ОСНОВНА ШКОЛА 21. ОКТОБАР","КРАГУЈЕВАЦ","840","-","0000000261660","660","-","72","601","00594",2,"13701","07149107",8520,49,1,101578378]
[41700,"ОСНОВНА ШКОЛА МОМА СТАНОЈЛОВИЋ","КРАГУЈЕВАЦ","840","-","0000000165660","660","-","79","601","00606",2,"13701","07149115",8520,49,1,101509352]
[41700,"ОСНОВНА ШКОЛА МИЛУТИН И ДРАГИЊА ТОДОРОВИЋ","КРАГУЈЕВАЦ","840","-","0000000485660","660","-","88","601","00604",2,"13701","07149123",8520,49,1,101509408]
[41700,"ОСНОВНА ШКОЛА ТРЕЋИ КРАГУЈЕВАЧКИ БАТАЉОН","КРАГУЈЕВАЦ","840","-","0000000533660","660","-","36","601","00613",2,"13701","07149131",8520,49,1,101317768]
[41700,"ОСНОВНА ШКОЛА ДРАГИША ЛУКОВИЋ-ШПАНАЦ БЕЛОШЕВАЦ","КРАГУЈЕВАЦ","840","-","0000000200660","660","-","33","601","00597",2,"13701","07149140",8520,49,1,101319895]
[41700,"ОСНОВНА ШКОЛА НАТАЛИЈА-НАНА НЕДЕЉКОВИЋ ГРОШНИЦА","КРАГУЈЕВАЦ","840","-","0000000308660","660","-","13","601","00607",2,"13701","07149158",8520,49,1,101039429]
[41700,"ОСНОВНА ШКОЛА МИЛОЈЕ СИМОВИЋ ДРАГОБРАЋА","КРАГУЈЕВАЦ","840","-","0000000295660","660","-","19","601","00603",2,"13701","07150067",8520,49,1,100562857]
[41700,"ОСНОВНА ШКОЛА ЈОВАН ПОПОВИЋ","КРАГУЈЕВАЦ","840","-","0000000058660","660","-","09","601","00601",2,"13701","07150130",8520,49,1,101041729]
[41700,"ОСНОВНА ШКОЛА 19. ОКТОБАР МАРШИЋ","КРАГУЈЕВАЦ","840","-","0000000182660","660","-","04","601","00593",2,"13701","07151179",8520,49,1,101579217]
[41700,"ОСНОВНА ШКОЛА ЈУЛИЈАНА ЋАТИЋ СТРАГАРИ","КРАГУЈЕВАЦ","840","-","0000000385660","660","-","67","601","00602",2,"13701","07151187",8520,49,1,101235035]
[41700,"ОСНОВНА ШКОЛА ПРОТА СТЕВАН ПОПОВИЋ ЧУМИЋ","КРАГУЈЕВАЦ","840","-","0000000447660","660","-","16","601","00592",2,"13701","07151195",8520,49,1,101458591]
[41700,"ОСНОВНА ШКОЛА СРЕТЕН МЛАДЕНОВИЋ ДЕСИМИРОВАЦ","КРАГУЈЕВАЦ","840","-","0000000031660","660","-","14","601","00611",2,"13701","07151209",8520,49,1,101317282]
[41700,"ОСНОВНА ШКОЛА СТАНИСЛАВ СРЕМЧЕВИЋ","КРАГУЈЕВАЦ","840","-","0000001039660","660","-","86","601","00612",2,"13701","07151225",8520,49,1,100563616]
[41700,"ОСНОВНА ШКОЛА ЖИВАДИНКА ДИВАЦ","КРАГУЈЕВАЦ","840","-","0000001041660","660","-","03","601","00600",2,"13701","07151233",8520,49,1,101041753]
[41700,"ШКОЛА СА ДОМОМ ЗА УЧЕНИКЕ ОШТЕЋЕНОГ СЛУХА КРАГУЈЕВАЦ","КРАГУЈЕВАЦ","840","-","0000000355660","660","-","51","601","01577",2,"13701","07151349",8520,49,1,101578556]
[41700,"ШКОЛА ЗА ОСНОВНО И СРЕДЊЕ ОБРАЗОВАЊЕ ВУКАШИН МАРКОВИЋ","КРАГУЈЕВАЦ","840","-","0000000960660","660","-","18","601","01578",2,"13701","07151357",8520,49,1,101577008]
[41700,"ОСНОВНА ШКОЛА ЂУРА ЈАКШИЋ","КРАГУЈЕВАЦ","840","-","0000001184660","660","-","34","601","00599",2,"13701","07277717",8520,49,1,101576798]
[41700,"ОСНОВНА ШКОЛА ВУК СТЕФАНОВИЋ КАРАЏИЋ","КРАГУЈЕВАЦ","840","-","0000001189660","660","-","69","601","00595",2,"13701","07277725",8520,49,1,100562200]
[41700,"ОСНОВНА ШКОЛА МИРКО ЈОВАНОВИЋ","КРАГУЈЕВАЦ","840","-","0000001210660","660","-","22","601","00605",2,"13701","07319703",8520,49,1,100561893]
[41700,"ОСНОВНА ШКОЛА ДРАГИША МИХАИЛОВИЋ СТАНОВО","КРАГУЈЕВАЦ","840","-","0000001219660","660","-","85","601","00598",2,"13701","07334206",8520,49,1,101578319]
[41700,"ОСНОВНА ШКОЛА ДОСИТЕЈ ОБРАДОВИЋ ЕРДЕЧ","КРАГУЈЕВАЦ","840","-","0000001260660","660","-","81","601","00596",2,"13701","07360886",8520,49,1,101040347]
[41700,"ОСНОВНА ШКОЛА СВЕТИ САВА КРАГУЈЕВАЦ","КРАГУЈЕВАЦ","840","-","0000001263660","660","-","05","601","00609",2,"13701","07360894",8520,49,1,101037484]
[41700,"ЕКОНОМСКА ШКОЛА КРАГУЈЕВАЦ","КРАГУЈЕВАЦ","840","-","0000000086660","660","-","11","601","01859",2,"13702","07150105",8532,49,1,101319991]
[41700,"МЕДИЦИНСКА ШКОЛА СА ДОМОМ УЧЕНИКА СЕСТРЕ НИНКОВИЋ","КРАГУЈЕВАЦ","840","-","0000000272660","660","-","52","601","01860",2,"13702","07150318",8532,49,1,101042289]
[41700,"ТРГОВИНСКО-УГОСТИТЕЉСКА ШКОЛА ТОЗА ДРАГОВИЋ","КРАГУЈЕВАЦ","840","-","0000001071660","660","-","19","601","01863",2,"13702","07151250",8532,49,1,100562509]
[41700,"ДРУГА ТЕХНИЧКА ШКОЛА КРАГУЈЕВАЦ","КРАГУЈЕВАЦ","840","-","0000001066660","660","-","81","601","01857",2,"13702","07151268",8532,49,1,101042133]
[41700,"ПОЛИТЕХНИЧКА ШКОЛА КРАГУЈЕВАЦ","КРАГУЈЕВАЦ","840","-","0000001062660","660","-","53","601","01862",2,"13702","07151276",8532,49,1,101317602]
[41700,"ПРВА КРАГУЈЕВАЧКА ГИМНАЗИЈА","КРАГУЈЕВАЦ","840","-","0000000342660","660","-","57","601","01699",2,"13702","07151292",8531,49,1,101576683]
[41700,"ПРВА ТЕХНИЧКА ШКОЛА КРАГУЈЕВАЦ","КРАГУЈЕВАЦ","840","-","0000000495660","660","-","61","601","01858",2,"13702","07151306",8532,49,1,101508745]
[41700,"МУЗИЧКА ШКОЛА ДР МИЛОЈЕ МИЛОЈЕВИЋ","КРАГУЈЕВАЦ","840","-","0000000243660","660","-","43","601","01861",2,"13702","07151373",8532,49,1,101941898]
[41700,"ДРУГА КРАГУЈЕВАЧКА ГИМНАЗИЈА","КРАГУЈЕВАЦ","840","-","0000001358660","660","-","88","601","01698",2,"13702","07668104",8531,49,1,101317717]
[41700,"РЕГИОНАЛНИ ЦЕНТАР ЗА ТАЛЕНТЕ КРАГУЈЕВАЦ","КРАГУЈЕВАЦ","840","-","0000001966660","660","-","76","601","02135",2,"13702","17280686",7219,49,1,102119064]
[41700,"ДОМ УЧЕНИКА СРЕДЊИХ ШКОЛА КРАГУЈЕВАЦ","КРАГУЈЕВАЦ","840","-","0000000012661","661","-","72","601","02153",2,"13703","07151586",5590,49,1,101577065]
[41700,"УНИВЕРЗИТЕТ У КРАГУЈЕВЦУ","КРАГУЈЕВАЦ","840","-","0000001128660","660","-","30","601","02314",2,"13704","07150393",8542,49,1,101319321]
[41700,"ВИСОКА ТЕХНИЧКА ШКОЛА СТРУКОВНИХ СТУДИЈА У КРАГУЈЕВЦУ","КРАГУЈЕВАЦ","840","-","0000001103660","660","-","49","601","02191",2,"13704","07151284",8542,49,1,101576626]
[41700,"ФАКУЛТЕТ ИНЖЕЊЕРСКИХ НАУКА УНИВЕРЗИТЕТА У КРАГУЈЕВЦУ","КРАГУЈЕВАЦ","840","-","0000000510660","660","-","69","601","02247",2,"13704","07151314",8542,49,1,101576499]
[41700,"ЕКОНОМСКИ ФАКУЛТЕТ УНИВЕРЗИТЕТА У КРАГУЈЕВЦУ","КРАГУЈЕВАЦ","840","-","0000000570660","660","-","04","601","02279",2,"13704","07151322",8542,49,1,101578837]
[41700,"ПРАВНИ ФАКУЛТЕТ КРАГУЈЕВАЦ","КРАГУЈЕВАЦ","840","-","0000000999660","660","-","97","601","02280",2,"13704","07227035",8542,49,1,100564301]
[41700,"ПРИРОДНО-МАТЕМАТИЧКИ ФАКУЛТЕТ КРАГУЈЕВАЦ","КРАГУЈЕВАЦ","840","-","0000001017660","660","-","29","601","02233",2,"13704","07232721",8542,49,1,101041593]
[41700,"УНИВЕРЗИТЕТСКА БИБЛИОТЕКА КРАГУЈЕВАЦ","КРАГУЈЕВАЦ","840","-","0000000325664","664","-","23","601","03792",2,"13704","07343353",9101,49,1,101508421]
[41700,"ФАКУЛТЕТ МЕДИЦИНСКИХ НАУКА УНИВЕРЗИTЕТА У КРАГУЈЕВЦУ","КРАГУЈЕВАЦ","840","-","0000001226660","660","-","37","601","02263",2,"13704","07345496",8542,49,1,101042779]
[41700,"ФИЛОЛОШКО-УМЕТНИЧКИ ФАКУЛТЕТ У КРАГУЈЕВЦУ","КРАГУЈЕВАЦ","840","-","0000001446660","660","-","25","601","02281",2,"13704","17429108",8542,49,1,101578548]
[41700,"СТУДЕНТСКИ ЦЕНТАР КРАГУЈЕВАЦ","КРАГУЈЕВАЦ","840","-","0000000233661","661","-","67","601","02321",2,"13705","07151578",5590,49,1,101509490]
[41700,"УСТАНОВА СТУДЕНТСКИ КУЛТУРНИ ЦЕНТАР КРАГУЈЕВАЦ","КРАГУЈЕВАЦ","840","-","0000000367664","664","-","26","601","03790",2,"13705","07244428",8559,49,1,100562314]
[41700,"АПЕЛАЦИОНИ СУД У КРАГУЈЕВЦУ","КРАГУЈЕВАЦ","","-","","","-","","601","80570",2,"30211","17773712",8423,49,5,106398997]
[41700,"ВИШИ СУД У КРАГУЈЕВЦУ","КРАГУЈЕВАЦ","","-","","","-","","601","80440",2,"30225","17772937",8423,49,5,106398956]
[41700,"ОСНОВНИ СУД У КРАГУЈЕВЦУ","КРАГУЈЕВАЦ","","-","","","-","","601","80470",2,"30226","17773151",8423,49,5,106398972]
[41700,"ПРИВРЕДНИ СУД У КРАГУЈЕВЦУ","КРАГУЈЕВАЦ","","-","","","-","","601","80498",2,"30227","17773372",8423,49,5,106398948]
[41700,"ВИШЕ ЈАВНО ТУЖИЛАШТВО У КРАГУЈЕВЦУ","КРАГУЈЕВАЦ","","-","","","-","","601","80550",2,"30228","17773810",8423,49,5,106398964]
[41700,"ОСНОВНО ЈАВНО ТУЖИЛАШТВО У КРАГУЈЕВЦУ","КРАГУЈЕВАЦ","","-","","","-","","601","80520",2,"30229","17773518",8423,49,5,106398989]
[41700,"ПРЕКРШАЈНИ СУД У КРАГУЈЕВЦУ","КРАГУЈЕВАЦ","","-","","","-","","601","80590",2,"30233","17774034",8423,49,5,106399012]
[41700,"АПЕЛАЦИОНО ЈАВНО ТУЖИЛАШТВО У КРАГУЈЕВЦУ","КРАГУЈЕВАЦ","","-","","","-","","601","80574",2,"30236","17773747",8423,49,5,106399004]
[41700,"ШУМАДИЈСКИ УПРАВНИ ОКРУГ","КРАГУЈЕВАЦ","","-","","","-","","601","41113",1,"41113","17649825",8411,49,0,104184038]
[41700,"ТЕХНИЧКИ РЕМОНТНИ ЗАВОД ЂУРЂЕ ДИМИТРИЈЕВИЋ-ЂУРА","КРАГУЈЕВАЦ","840","-","0000001195664","664","-","02","601","03561",6,"61040","17864904",8422,49,1,108341438]
[41700,"РЕПУБЛИЧКИ ФОНД ЗА ЗДРАВСТВЕНО ОСИГУРАЊЕ - ФИЛИЈАЛА ЗА ШУМАДИЈСКИ ОКРУГ","КРАГУЈЕВАЦ","840","-","0000000021650","650","-","71","601","02653",4,"95000","06042945",8430,49,0,101288707]
[41700,"АПОТЕКА КРАГУЈЕВАЦ","КРАГУЈЕВАЦ","840","-","0000000466661","661","-","49","601","02620",2,"95000","06962017",4773,49,3,101041737]
[41700,"ИНСТИТУТ ЗА ЈАВНО ЗДРАВЉЕ КРАГУЈЕВАЦ","КРАГУЈЕВАЦ","840","-","0000000340661","661","-","40","601","02375",2,"95000","07150369",8690,49,3,102135344]
[41700,"ДОО ЗА ЗДРАВСТВЕНУ ЗАШТИТУ РАДНИКА ЗАСТАВА ЗАВОД ЗА ЗДРАВСТВЕНУ ЗАШТИТУ РАДНИКА КРАГУЈЕВАЦ","КРАГУЈЕВАЦ","840","-","0000000691661","661","-","72","601","02423",2,"95000","07165498",8621,49,3,101509035]
[41700,"КЛИНИЧКИ ЦЕНТАР КРАГУЈЕВАЦ","КРАГУЈЕВАЦ","840","-","0000000345661","661","-","75","601","02540",2,"95000","07253958",8610,49,3,101042141]
[41700,"ДОМ ЗДРАВЉА КРАГУЈЕВАЦ","КРАГУЈЕВАЦ","840","-","0000000497661","661","-","72","601","02422",2,"95000","17219227",8621,49,3,101041243]
[41700,"ЗАВОД ЗА СТОМАТОЛОГИЈУ КРАГУЈЕВАЦ","КРАГУЈЕВАЦ","840","-","0000000495661","661","-","58","601","02609",2,"95000","17228439",8623,49,3,101508979]
[41700,"ЗАВОД ЗА ХИТНУ МЕДИЦИНСКУ ПОМОЋ","КРАГУЈЕВАЦ","840","-","0000000746661","661","-","69","601","80123",2,"95000","17667220",8690,49,3,104810269]
[41700,"РЕПУБЛИЧКИ ФОНД ПИО-ФИЛИЈАЛА- КРАГУЈЕВАЦ","КРАГУЈЕВАЦ","840","-","0000000003652","652","-","36","601","00104",4,"95200","17715780",8430,49,0,105356542]
[41700,"НАЦИОНАЛНА СЛУЖБА ЗА ЗАПОШЉАВАЊЕ-ФИЛИЈАЛА КРАГУЈЕВАЦ","КРАГУЈЕВАЦ","840","-","0000000017654","654","-","31","601","00103",4,"95400","17539957",7810,49,0,103277483]
[41700,"ГРАД КРАГУЈЕВАЦ-БУЏЕТ","КРАГУЈЕВАЦ","840","-","0000000029640","640","-","60","531","03698",0,"03698","07184069",8411,49,0,101982436]
[41700,"ГРАДСКО ЈАВНО ПРАВОБРАНИЛАШТВО КРАГУЈЕВАЦ","КРАГУЈЕВАЦ","","-","","","-","","531","03703",1,"03703","07184069",8411,49,0,101982436]
[41700,"СКУПШТИНА ГРАДА КРАГУЈЕВЦА","КРАГУЈЕВАЦ","","-","","","-","","531","09706",1,"09706","07184069",8411,49,0,101982436]
[41700,"ГРАДОНАЧЕЛНИК ГРАДА КРАГУЈЕВЦА","КРАГУЈЕВАЦ","","-","","","-","","531","09707",1,"09707","07184069",8411,49,0,101982436]
[41700,"ГРАДСКА УПРАВА ЗА ФИНАНСИЈЕ","КРАГУЈЕВАЦ","","-","","","-","","531","09708",1,"09708","07184069",8411,49,0,101982436]
[41700,"ЗАШТИТНИК ГРАЂАНА КРАГУЈЕВАЦ","КРАГУЈЕВАЦ","","-","","","-","","531","80952",1,"80952","07184069",8411,49,0,101982436]
[41700,"ГРАДСКО ВЕЋЕ ГРАДА КРАГУЈЕВЦА","КРАГУЈЕВАЦ","","-","","","-","","531","91699",1,"91699","07184069",8411,49,0,101982436]
[41700,"ГРАДСКА ПОРЕСКА УПРАВА","КРАГУЈЕВАЦ","","-","","","-","","531","91700",1,"91700","07184069",8411,49,0,101982436]
[41700,"ГРАДСКА УПРАВА ЗА ИНВЕСТИЦИЈЕ КРАГУЈЕВАЦ","КРАГУЈЕВАЦ","","-","","","-","","531","94661",1,"94661","07184069",8411,49,0,101982436]
[41700,"ГРАДСКА УПРАВА ЗА ИМОВИНУ КРАГУЈЕВАЦ","КРАГУЈЕВАЦ","","-","","","-","","531","94662",1,"94662","07184069",8411,49,0,101982436]
[41700,"ГРАДСКА УПРАВА ЗА ПРОСТОРНО ПЛАНИРАЊЕ,УРБАНИЗАМ,ИЗГРАДНУ И ЗАШТИТУ ЖИВОТНЕ СРЕДИНЕ КРАГУЈЕВАЦ","КРАГУЈЕВАЦ","840","-","0000000620644","644","-","14","531","94663",1,"94663","07184069",8411,49,2,101982436]
[41700,"ГРАДСКА УПРАВА ЗА УПРАВЉАЊЕ ПРОЈЕКТИМА,ОДРЖИВИ И РАВНОМЕРНИ РАЗВОЈ КРАГУЈЕВАЦ","КРАГУЈЕВАЦ","","-","","","-","","531","94664",1,"94664","07184069",8411,49,0,101982436]
[41700,"МЕСНА ЗАЈЕДНИЦА БРЕСНИЦА 3","КРАГУЈЕВАЦ","840","-","0000002672645","645","-","19","531","03773",2,"94665","07150253",8411,49,1,100565013]
[41700,"МЕСНА ЗАЈЕДНИЦА ЕРДЕЧ","КРАГУЈЕВАЦ","840","-","0000002489645","645","-","96","531","03735",2,"94665","07150300",8411,49,1,101459625]
[41700,"МЕСНА ЗАЈЕДНИЦА СТРАГАРИ","КРАГУЈЕВАЦ","840","-","0000000244645","645","-","95","531","03757",2,"94665","07150474",8411,49,1,100604440]
[41700,"МЕСНА ЗАЈЕДНИЦА ГРОШНИЦА","КРАГУЈЕВАЦ","840","-","0000000403645","645","-","44","531","03724",2,"94665","07151535",8411,49,1,100604337]
[41700,"МЕСНА ЗАЈЕДНИЦА СТАНОВО","КРАГУЈЕВАЦ","840","-","0000000643645","645","-","75","531","03756",2,"94665","07151543",8411,49,1,102281265]
[41700,"МЕСНА ЗАЈЕДНИЦА ПАЛИЛУЛА","КРАГУЈЕВАЦ","840","-","0000000082645","645","-","28","531","03775",2,"94665","07165099",8411,49,1,100564906]
[41700,"МЕСНА ЗАЈЕДНИЦА СТАРА РАДНИЧКА КОЛОНИЈА","КРАГУЈЕВАЦ","840","-","0000000030645","645","-","52","531","03777",2,"94665","07165102",8411,49,1,100564826]
[41700,"МЕСНА ЗАЈЕДНИЦА ПИВАРА","КРАГУЈЕВАЦ","840","-","0000000111645","645","-","37","531","03776",2,"94665","07165129",8411,49,1,101812767]
[41700,"МЕСНА ЗАЈЕДНИЦА ЕРДОГЛИЈА","КРАГУЈЕВАЦ","840","-","0000003011645","645","-","64","531","03709",2,"94665","07165137",8411,49,1,100564834]
[41700,"МЕСНА ЗАЈЕДНИЦА СУШИЦА","КРАГУЈЕВАЦ","840","-","0000000165645","645","-","27","531","03778",2,"94665","07165145",8411,49,1,100564922]
[41700,"МЕСНА ЗАЈЕДНИЦА ЦЕНТАР ГРАДА","КРАГУЈЕВАЦ","840","-","0000001498645","645","-","46","531","03780",2,"94665","07165153",8411,49,1,101319838]
[41700,"МЕСНА ЗАЈЕДНИЦА ВАШАРИШТЕ","КРАГУЈЕВАЦ","840","-","0000002465645","645","-","25","531","03710",2,"94665","07165161",8411,49,1,100564955]
[41700,"МЕСНА ЗАЈЕДНИЦА НАРОДНИ ХЕРОЈ ФИЛИП КЉАЈИЋ","КРАГУЈЕВАЦ","840","-","0000002477645","645","-","12","531","03772",2,"94665","07165170",8411,49,1,100564914]
[41700,"МЕСНА ЗАЈЕДНИЦА ЛЕПЕНИЦА","КРАГУЈЕВАЦ","840","-","0000002534645","645","-","23","531","03771",2,"94665","07165188",8411,49,1,100565030]
[41700,"МЕСНА ЗАЈЕДНИЦА БУБАЊ","КРАГУЈЕВАЦ","840","-","0000002512645","645","-","63","531","03769",2,"94665","07165196",8411,49,1,100564867]
[41700,"ГРАДСКА УПРАВА ЗА ОПШТЕ И ЗАЈЕДНИЧКЕ ПОСЛОВЕ КРАГУЈЕВАЦ","КРАГУЈЕВАЦ","","-","","","-","","531","94665",1,"94665","07184069",8411,49,0,101982436]
[41700,"МЕСНА ЗАЈЕДНИЦА МАЛА ВРБИЦА","КРАГУЈЕВАЦ","840","-","0000002085645","645","-","81","531","03743",2,"94665","07201133",8411,49,1,100604224]
[41700,"МЕСНА ЗАЈЕДНИЦА МАРШИЋ","КРАГУЈЕВАЦ","840","-","0000001800645","645","-","26","531","03744",2,"94665","07224907",8411,49,1,101320203]
[41700,"МЕСНА ЗАЈЕДНИЦА ЈОВАНОВАЦ","КРАГУЈЕВАЦ","840","-","0000001685645","645","-","94","531","03739",2,"94665","07229470",8411,49,1,101459012]
[41700,"МЕСНА ЗАЈЕДНИЦА ВИЊИШТЕ","КРАГУЈЕВАЦ","840","-","0000002753645","645","-","04","531","03718",2,"94665","07232594",8411,49,1,100604144]
[41700,"МЕСНА ЗАЈЕДНИЦА РЕСНИК","КРАГУЈЕВАЦ","840","-","0000001859645","645","-","51","531","03753",2,"94665","07232624",8411,49,1,100604431]
[41700,"МЕСНА ЗАЈЕДНИЦА БОТУЊЕ","КРАГУЈЕВАЦ","840","-","0000000814645","645","-","11","531","03713",2,"94665","07237880",8411,49,1,102665975]
[41700,"МЕСНА ЗАЈЕДНИЦА ЦЕРОВАЦ","КРАГУЈЕВАЦ","840","-","0000002100645","645","-","89","531","03763",2,"94665","07238045",8411,49,1,100604396]
[41700,"МЕСНА ЗАЈЕДНИЦА КАМЕНИЦА","КРАГУЈЕВАЦ","840","-","0000001786645","645","-","25","531","03740",2,"94665","07244398",8411,49,1,100604249]
[41700,"МЕСНА ЗАЈЕДНИЦА ДРАЧА","КРАГУЈЕВАЦ","840","-","0000000592645","645","-","09","531","03732",2,"94665","07246625",8411,49,1,101320158]
[41700,"МЕСНА ЗАЈЕДНИЦА ЖДРАЉИЦА","КРАГУЈЕВАЦ","840","-","0000002720645","645","-","64","531","03736",2,"94665","07246633",8411,49,1,100564787]
[41700,"МЕСНА ЗАЈЕДНИЦА ПЕТРОВАЦ","КРАГУЈЕВАЦ","840","-","0000001738645","645","-","77","531","03749",2,"94665","07246641",8411,49,1,100564947]
[41700,"МЕСНА ЗАЈЕДНИЦА ИЛИЋЕВО","КРАГУЈЕВАЦ","840","-","0000002741645","645","-","17","531","03737",2,"94665","07246650",8411,49,1,100604407]
[41700,"МЕСНА ЗАЈЕДНИЦА ГОРЊЕ ЈАРУШИЦЕ","КРАГУЈЕВАЦ","840","-","0000002043645","645","-","78","531","03722",2,"94665","07246668",8411,49,1,100564859]
[41700,"МЕСНА ЗАЈЕДНИЦА ВЕЛИКА СУГУБИНА","КРАГУЈЕВАЦ","840","-","0000000718645","645","-","18","531","03715",2,"94665","07246676",8411,49,1,100564762]
[41700,"МЕСНА ЗАЈЕДНИЦА ГОРЊА САБАНТА","КРАГУЈЕВАЦ","840","-","0000000742645","645","-","89","531","03720",2,"94665","07246684",8411,49,1,100604415]
[41700,"МЕСНА ЗАЈЕДНИЦА ЧУМИЋ","КРАГУЈЕВАЦ","840","-","0000000455645","645","-","20","531","03760",2,"94665","07247508",8411,49,1,101319854]
[41700,"МЕСНА ЗАЈЕДНИЦА ДУЛЕНЕ","КРАГУЈЕВАЦ","840","-","0000000351645","645","-","68","531","03734",2,"94665","07247869",8411,49,1,101812759]
[41700,"МЕСНА ЗАЈЕДНИЦА ДОБРАЧА","КРАГУЈЕВАЦ","840","-","0000001873645","645","-","52","531","03727",2,"94665","07247877",8411,49,1,101812775]
[41700,"МЕСНА ЗАЈЕДНИЦА ТЕФЕРИЧ","КРАГУЈЕВАЦ","840","-","0000002661645","645","-","39","531","03758",2,"94665","07247885",8411,49,1,100564875]
[41700,"МЕСНА ЗАЈЕДНИЦА ТРМБАС","КРАГУЈЕВАЦ","840","-","0000000428645","645","-","25","531","03759",2,"94665","07247893",8411,49,1,100604257]
[41700,"МЕСНА ЗАЈЕДНИЦА ЛУЖНИЦЕ","КРАГУЈЕВАЦ","840","-","0000001955645","645","-","44","531","09529",2,"94665","07247907",8411,49,1,102329947]
[41700,"МЕСНА ЗАЈЕДНИЦА ДОЊА САБАНТА","КРАГУЈЕВАЦ","840","-","0000000564645","645","-","07","531","03728",2,"94665","07247915",8411,49,1,101319846]
[41700,"МЕСНА ЗАЈЕДНИЦА ШЉИВОВАЦ","КРАГУЈЕВАЦ","840","-","0000001844645","645","-","43","531","03764",2,"94665","07247923",8411,49,1,102666068]
[41700,"МЕСНА ЗАЈЕДНИЦА ПОСКУРИЦЕ","КРАГУЈЕВАЦ","840","-","0000000272645","645","-","97","531","03750",2,"94665","07247931",8411,49,1,102281249]
[41700,"МЕСНА ЗАЈЕДНИЦА НОВИ МИЛАНОВАЦ","КРАГУЈЕВАЦ","840","-","0000000670645","645","-","70","531","03746",2,"94665","07247940",8411,49,1,102135914]
[41700,"МЕСНА ЗАЈЕДНИЦА ПАЈАЗИТОВО","КРАГУЈЕВАЦ","840","-","0000000768645","645","-","77","531","03748",2,"94665","07247958",8411,49,1,101320140]
[41700,"МЕСНА ЗАЈЕДНИЦА БУКОРОВАЦ","КРАГУЈЕВАЦ","840","-","0000000298645","645","-","85","531","03714",2,"94665","07247966",8411,49,1,102666113]
[41700,"МЕСНА ЗАЈЕДНИЦА ДЕСИМИРОВАЦ","КРАГУЈЕВАЦ","840","-","0000000506645","645","-","86","531","03725",2,"94665","07247974",8411,49,1,100565005]
[41700,"МЕСНА ЗАЈЕДНИЦА ВЕЛИКИ ШЕЊ","КРАГУЈЕВАЦ","840","-","0000002011645","645","-","48","531","03716",2,"94665","07247982",8411,49,1,101320131]
[41700,"МЕСНА ЗАЈЕДНИЦА РАМАЋА","КРАГУЈЕВАЦ","840","-","0000001768645","645","-","93","531","03752",2,"94665","07248008",8411,49,1,100564779]
[41700,"МЕСНА ЗАЈЕДНИЦА ЦВЕТОЈЕВАЦ","КРАГУЈЕВАЦ","840","-","0000002814645","645","-","43","531","03762",2,"94665","07248016",8411,49,1,101319887]
[41700,"МЕСНА ЗАЈЕДНИЦА ДРАГОБРАЋА","КРАГУЈЕВАЦ","840","-","0000000325645","645","-","80","531","03731",2,"94665","07248024",8411,49,1,100604423]
[41700,"МЕСНА ЗАЈЕДНИЦА ВЕЛИКЕ ПЧЕЛИЦЕ","КРАГУЈЕВАЦ","840","-","0000000791645","645","-","44","531","09527",2,"94665","07248032",8411,49,1,100564795]
[41700,"МЕСНА ЗАЈЕДНИЦА КОРИЋАНИ","КРАГУЈЕВАЦ","840","-","0000002773645","645","-","47","531","03741",2,"94665","07248555",8411,49,1,101459609]
[41700,"МЕСНА ЗАЈЕДНИЦА ДОЊЕ КОМАРИЦЕ","КРАГУЈЕВАЦ","840","-","0000002414645","645","-","56","531","03730",2,"94665","07248822",8411,49,1,100564998]
[41700,"МЕСНА ЗАЈЕДНИЦА ВЛАКЧА","КРАГУЈЕВАЦ","840","-","0000002144645","645","-","09","531","03719",2,"94665","07248849",8411,49,1,100564800]
[41700,"МЕСНА ЗАЈЕДНИЦА ГОРЊЕ КОМАРИЦЕ","КРАГУЈЕВАЦ","840","-","0000001913645","645","-","41","531","03723",2,"94665","07248857",8411,49,1,100604265]
[41700,"МЕСНА ЗАЈЕДНИЦА КУТЛОВО","КРАГУЈЕВАЦ","840","-","0000002693645","645","-","69","531","03781",2,"94665","07248865",8411,49,1,101319820]
[41700,"МЕСНА ЗАЈЕДНИЦА РОГОЈЕВАЦ","КРАГУЈЕВАЦ","840","-","0000001518645","645","-","89","531","03754",2,"94665","07248873",8411,49,1,100604216]
[41700,"МЕСНА ЗАЈЕДНИЦА ОПОРНИЦА","КРАГУЈЕВАЦ","840","-","0000001996645","645","-","40","531","03747",2,"94665","07248881",8411,49,1,100604388]
[41700,"МЕСНА ЗАЈЕДНИЦА АЏИНЕ ЛИВАДЕ","КРАГУЈЕВАЦ","840","-","0000002824645","645","-","16","531","03712",2,"94665","07250568",8411,49,1,102281257]
[41700,"МЕСНА ЗАЈЕДНИЦА БЕЛОШЕВАЦ","КРАГУЈЕВАЦ","840","-","0000001537645","645","-","28","531","09528",2,"94665","07251122",8411,49,1,100564842]
[41700,"МЕСНА ЗАЈЕДНИЦА ДИВОСТИН","КРАГУЈЕВАЦ","840","-","0000002115645","645","-","97","531","03726",2,"94665","07251149",8411,49,1,101320166]
[41700,"МЕСНА ЗАЈЕДНИЦА КОРМАН","КРАГУЈЕВАЦ","840","-","0000001829645","645","-","35","531","03742",2,"94665","07251157",8411,49,1,100604232]
[41700,"МЕСНА ЗАЈЕДНИЦА ДРЕНОВАЦ","КРАГУЈЕВАЦ","840","-","0000002804645","645","-","70","531","03733",2,"94665","07253885",8411,49,1,102329955]
[41700,"МЕСНА ЗАЈЕДНИЦА ПРЕКОПЕЧА","КРАГУЈЕВАЦ","840","-","0000002783645","645","-","20","531","03751",2,"94665","07257333",8411,49,1,101320199]
[41700,"МЕСНА ЗАЈЕДНИЦА ШУМАРИЦЕ","КРАГУЈЕВАЦ","840","-","0000002793645","645","-","90","531","03711",2,"94665","07261047",8411,49,1,100564818]
[41700,"МЕСНА ЗАЈЕДНИЦА ЈАБУЧЈЕ","КРАГУЈЕВАЦ","840","-","0000002843645","645","-","52","531","03738",2,"94665","07278926",8411,49,1,102666105]
[41700,"МЕСНА ЗАЈЕДНИЦА НОВО НАСЕЉЕ МАЛЕ ПЧЕЛИЦЕ","КРАГУЈЕВАЦ","840","-","0000002834645","645","-","86","531","03774",2,"94665","07279159",8411,49,1,100604361]
[41700,"МЕСНА ЗАЈЕДНИЦА АЕРОДРОМ","КРАГУЈЕВАЦ","840","-","0000002852645","645","-","18","531","03767",2,"94665","07282567",8411,49,1,101459633]
[41700,"МЕСНА ЗАЈЕДНИЦА ВИНОГРАДИ","КРАГУЈЕВАЦ","840","-","0000002870645","645","-","47","531","03770",2,"94665","07282575",8411,49,1,100565021]
[41700,"МЕСНА ЗАЈЕДНИЦА ВЕЛИКО ПОЉЕ","КРАГУЈЕВАЦ","840","-","0000002861645","645","-","81","531","03717",2,"94665","07282583",8411,49,1,100604345]
[41700,"МЕСНА ЗАЈЕДНИЦА УГЉАРЕВАЦ","КРАГУЈЕВАЦ","840","-","0000002982645","645","-","55","531","03761",2,"94665","07290012",8411,49,1,102610947]
[41700,"МЕСНА ЗАЈЕДНИЦА МАСЛОШЕВО","КРАГУЈЕВАЦ","840","-","0000000535645","645","-","95","531","03745",2,"94665","07306121",8411,49,1,101320182]
[41700,"МЕСНА ЗАЈЕДНИЦА 21. ОКТОБАР","КРАГУЈЕВАЦ","840","-","0000002950645","645","-","25","531","03766",2,"94665","07315678",8411,49,1,102329939]
[41700,"МЕСНА ЗАЈЕДНИЦА 1. МАЈ","КРАГУЈЕВАЦ","840","-","0000002958645","645","-","81","531","03765",2,"94665","07317638",8411,49,1,101459594]
[41700,"МЕСНА ЗАЈЕДНИЦА БАГРЕМАР","КРАГУЈЕВАЦ","840","-","0000002966645","645","-","40","531","03768",2,"94665","07319266",8411,49,1,100564939]
[41700,"МЕСНА ЗАЈЕДНИЦА СЕЛИШТЕ","КРАГУЈЕВАЦ","840","-","0000002996645","645","-","56","531","03755",2,"94665","07322518",8411,49,1,101320174]
[41700,"МЕСНА ЗАЈЕДНИЦА ГОРЊЕ ГРБИЦЕ","КРАГУЈЕВАЦ","840","-","0000002974645","645","-","96","531","03721",2,"94665","07327269",8411,49,1,102281819]
[41700,"МЕСНА ЗАЈЕДНИЦА УГЉЕШНИЦА","КРАГУЈЕВАЦ","840","-","0000003004645","645","-","15","531","03779",2,"94665","07355025",8411,49,1,101459617]
[41700,"МЕСНА ЗАЈЕДНИЦА МАЛЕ ПЧЕЛИЦЕ","КРАГУЈЕВАЦ","840","-","0000003053645","645","-","67","531","03782",2,"94665","17227769",8411,49,1,100604152]
[41700,"МЕСНА ЗАЈЕДНИЦА ДОЊЕ ГРБИЦЕ","КРАГУЈЕВАЦ","840","-","0000000218645","645","-","10","531","03729",2,"94665","17445120",8411,49,1,101812783]
[41700,"МЕСНА ЗАЈЕДНИЦА ДЕНИНО БРДО","КРАГУЈЕВАЦ","840","-","0000004125645","645","-","05","531","80235",2,"94665","17689169",8411,49,1,105478869]
[41700,"ГРАДСКА УПРАВА ЗА ПРИВРЕДУ КРАГУЈЕВАЦ","КРАГУЈЕВАЦ","","-","","","-","","531","94666",1,"94666","07184069",8411,49,0,101982436]
[41700,"ГРАДСКА ТУРИСТИЧКА ОРГАНИЗАЦИЈА КРАГУЈЕВАЦ","КРАГУЈЕВАЦ","840","-","0000001133664","664","-","53","531","80006",2,"94666","17651641",8413,49,1,104218074]
[41700,"НАРОДНА БИБЛИОТЕКА ВУК КАРАЏИЋ","КРАГУЈЕВАЦ","840","-","0000000015664","664","-","84","531","03787",2,"94667","07150156",9101,49,1,100563770]
[41700,"НАРОДНИ МУЗЕЈ КРАГУЈЕВАЦ","КРАГУЈЕВАЦ","840","-","0000000036664","664","-","37","531","03788",2,"94667","07150849",9102,49,1,101577897]
[41700,"ИСТОРИЈСКИ АРХИВ ШУМАДИЈЕ","КРАГУЈЕВАЦ","840","-","0000000237664","664","-","86","531","03786",2,"94667","07151403",9101,49,1,100561916]
[41700,"ЗАВОД ЗА ЗАШТИТУ СПОМЕНИКА КУЛТУРЕ - КРАГУЈЕВАЦ","КРАГУЈЕВАЦ","840","-","0000000200664","664","-","21","531","03785",2,"94667","07151411",9103,49,1,101040785]
[41700,"СПОМЕН-ПАРК КРАГУЈЕВАЧКИ ОКТОБАР","КРАГУЈЕВАЦ","840","-","0000000207664","664","-","70","531","03789",2,"94667","07151438",9102,49,1,101578765]
[41700,"ПРЕДШКОЛСКА УСТАНОВА НАДА НАУМОВИЋ","КРАГУЈЕВАЦ","840","-","0000000007661","661","-","37","531","03783",2,"94667","07151560",8891,49,1,100562494]
[41700,"УСТАНОВА СПОРТСКО РЕКРЕАТИВНИ ЦЕНТАР МЛАДОСТ КРАГУЈЕВАЦ","КРАГУЈЕВАЦ","840","-","0000001215664","664","-","45","531","62369",2,"94667","07165447",9311,49,1,101573427]
[41700,"ГРАДСКА УПРАВА ЗА ВАНПРИВРЕДНЕ ДЕЛАТНОСТИ КРАГУЈЕВАЦ","КРАГУЈЕВАЦ","","-","","","-","","531","94667",1,"94667","07184069",8411,49,0,101982436]
[41700,"КЊАЖЕВСКО-СРПСКИ ТЕАТАР","КРАГУЈЕВАЦ","840","-","0000000001664","664","-","83","531","03791",2,"94667","07225962",9001,49,1,100562630]
[41700,"ДОМ ОМЛАДИНЕ КРАГУЈЕВАЦ","КРАГУЈЕВАЦ","840","-","0000000455664","664","-","60","531","03784",2,"94667","17183923",9004,49,1,101042230]
[41700,"ПОЗОРИШТЕ ЗА ДЕЦУ - КРАГУЈЕВАЦ","КРАГУЈЕВАЦ","840","-","0000000811664","664","-","30","531","09438",2,"94667","17531395",9001,49,1,103168111]
[41700,"ЦЕНТАР ЗА НЕГОВАЊЕ ТРАДИЦИОНАЛНЕ КУЛТУРЕ АБРАШЕВИЋ КРАГУЈЕВАЦ","КРАГУЈЕВАЦ","840","-","0000001134664","664","-","60","531","80062",2,"94667","17665669",9003,49,1,104726202]
[41700,"МУЗИЧКИ ЦЕНТАР КРАГУЈЕВАЦ","КРАГУЈЕВАЦ","840","-","0000001032664","664","-","25","531","80875",2,"94667","17809130",9004,49,1,106882930]
[41700,"ЦЕНТАР ЗА СТРУЧНО УСАВРШАВАЊЕ ЗАПОСЛЕНИХ У ОБРАЗОВАЊУ КРАГУЈЕВАЦ","КРАГУЈЕВАЦ","840","-","0000001045664","664","-","19","531","80932",2,"94667","17821717",8559,49,1,107183610]
[41700,"ПРЕДШКОЛСКА УСТАНОВА ЂУРЂЕВДАН","КРАГУЈЕВАЦ","840","-","0000000873661","661","-","85","531","94321",2,"94667","17872672",8510,49,1,108937534]
[41700,"УСТАНОВА КУЛТУРЕ КОРАЦИ КРАГУЈЕВАЦ","КРАГУЈЕВАЦ","840","-","0000001228664","664","-","39","531","65457",2,"94667","17907859",9004,49,1,110182371]
[41700,"УСТАНОВА ЗА СПОРТ И ФИЗИЧКУ КУЛТУРУ ПАРК КРАГУЈЕВАЦ","КРАГУЈЕВАЦ","840","-","0000001216664","664","-","52","531","62658",2,"94667","20795301",9311,49,1,107404082]
[41700,"ГРАДСКА УПРАВА ЗА ЗДРАВСТВЕНУ И СОЦИЈАЛНУ ЗАШТИТУ КРАГУЈЕВАЦ","КРАГУЈЕВАЦ","","-","","","-","","531","94668",1,"94668","07184069",8411,49,0,101982436]
[41700,"ЦЕНТАР ЗА РАЗВОЈ УСЛУГА СОЦИЈАЛНЕ ЗАШТИТЕ КНЕГИЊА ЉУБИЦА","КРАГУЈЕВАЦ","840","-","0000000838661","661","-","34","531","80939",2,"94668","17820605",8899,49,1,107217778]
[41700,"ГРАДСКА УПРАВА ЗА КОМУНАЛНЕ И ИНСПЕКЦИЈСКЕ ПОСЛОВЕ КРАГУЈЕВАЦ","КРАГУЈЕВАЦ","","-","","","-","","531","94669",1,"94669","07184069",8411,49,0,101982436]
[41700,"ГРАДСКА УПРАВА ЗА ПОСЛОВЕ ГРАДОНАЧЕЛНИКА И ГРАДСКОГ ВЕЋА КРАГУЈЕВАЦ","КРАГУЈЕВАЦ","","-","","","-","","531","94670",1,"94670","07184069",8411,49,0,101982436]
[41700,"ГРАДСКА УПРАВА ЗА ЈАВНЕ НАБАВКЕ КРАГУЈЕВАЦ","КРАГУЈЕВАЦ","","-","","","-","","531","94671",1,"94671","07184069",8411,49,0,101982436]
[41701,"ОСНОВНА ШКОЛА КАРАЂОРЂЕ","РАЧА","840","-","0000001255660","660","-","46","601","00614",2,"13701","07113676",8520,86,1,101228706]
[41701,"СРЕДЊА ШКОЛА ЂУРА ЈАКШИЋ РАЧА","РАЧА","840","-","0000000892660","660","-","27","601","01864",2,"13702","07113579",8532,86,1,101228345]
[41701,"ДОМ ЗДРАВЉА МИЛОЈЕ ХАЏИЋ-ШУЛЕ","РАЧА","840","-","0000000492661","661","-","37","601","02424",2,"95000","17211943",8621,86,3,101228013]
[41701,"ОПШТИНА РАЧА-БУЏЕТ","РАЧА","840","-","0000000087640","640","-","78","086","06957",0,"06957","07113838",8411,86,0,101228415]
[41701,"ОПШТИНА РАЧА - ОПШТИНСКА УПРАВА","РАЧА","","-","","","-","","086","06958",1,"06958","07113838",8411,86,0,101228415]
[41701,"ТУРИСТИЧКА ОРГАНИЗАЦИЈА ОПШТИНЕ РАЧА","РАЧА","840","-","0000001154664","664","-","06","086","06959",2,"06958","17495461",8413,86,1,102812368]
[41701,"ОПШТИНА РАЧА - ПРЕДСЕДНИК ОПШТИНЕ","РАЧА","","-","","","-","","086","09736",1,"09736","07113838",8411,86,0,101228415]
[41701,"ОПШТИНА РАЧА - ОПШТИНСКО ВЕЋЕ","РАЧА","","-","","","-","","086","61499",1,"61499","07113838",8411,86,0,101228415]
[41701,"ОПШТИНА РАЧА - ОПШТИНСКО ПРАВОБРАНИЛАШТВО","РАЧА","","-","","","-","","086","62777",1,"62777","07113838",6910,86,0,101228415]
[41701,"КУЛТУРНИ ЦЕНТАР РАДОЈЕ ДОМАНОВИЋ","РАЧА","840","-","0000000260664","664","-","53","086","06982",2,"70073","07113714",8559,86,1,101228933]
[41701,"НАРОДНА БИБЛИОТЕКА РАДОЈЕ ДОМАНОВИЋ","РАЧА","840","-","0000000450664","664","-","25","086","06983",2,"70074","17116541",9101,86,1,101227027]
[41701,"ПРЕДШКОЛСКА УСТАНОВА НАША РАДОСТ","РАЧА","840","-","0000000364661","661","-","14","086","06981",2,"70075","07264607",8891,86,1,101226946]
[41701,"МЕСНА ЗАЈЕДНИЦА РАЧА","РАЧА","840","-","0000002174645","645","-","25","086","06976",2,"70077","07113889",8411,86,1,101228802]
[41701,"МЕСНА ЗАЈЕДНИЦА ТРСКА","РАЧА","840","-","0000002233645","645","-","50","086","06980",2,"70077","07113897",8411,86,1,101883886]
[41701,"МЕСНА ЗАЈЕДНИЦА ВУЧИЋ","РАЧА","840","-","0000002353645","645","-","17","086","06969",2,"70077","07113927",8411,86,1,101228992]
[41701,"МЕСНА ЗАЈЕДНИЦА ВЕЛИКО КРЧМАРЕ","РАЧА","840","-","0000001900645","645","-","47","086","06967",2,"70077","07113935",8411,86,1,101229081]
[41701,"МЕСНА ЗАЈЕДНИЦА ЂУРЂЕВО","РАЧА","840","-","0000002248645","645","-","58","086","06972",2,"70077","07113943",8411,86,1,101229073]
[41701,"МЕСНА ЗАЈЕДНИЦА СИПИЋ","РАЧА","840","-","0000002218645","645","-","42","086","06978",2,"70077","07113960",8411,86,1,101229049]
[41701,"МЕСНА ЗАЈЕДНИЦА ВИШЕВАЦ","РАЧА","840","-","0000001925645","645","-","28","086","06968",2,"70077","07113978",8411,86,1,101229032]
[41701,"МЕСНА ЗАЈЕДНИЦА ДОЊЕ ЈАРУШИЦЕ","РАЧА","840","-","0000002377645","645","-","88","086","06971",2,"70077","07113986",8411,86,1,101228968]
[41701,"МЕСНА ЗАЈЕДНИЦА САРАНОВО","РАЧА","840","-","0000001889645","645","-","67","086","06977",2,"70077","07114001",8411,86,1,101228950]
[41701,"МЕСНА ЗАЈЕДНИЦА ДОЊА РАЧА","РАЧА","840","-","0000002315645","645","-","42","086","06970",2,"70077","07114010",8411,86,1,102143192]
[41701,"МЕСНА ЗАЈЕДНИЦА ПОПОВИЋ","РАЧА","840","-","0000002188645","645","-","26","086","06975",2,"70077","07114028",8411,86,1,101228984]
[41701,"МЕСНА ЗАЈЕДНИЦА БОШЊАНЕ","РАЧА","840","-","0000002277645","645","-","67","086","06966",2,"70077","07114036",8411,86,1,101229008]
[41701,"МЕСНА ЗАЈЕДНИЦА СЕПЦИ","РАЧА","840","-","0000001704645","645","-","33","086","06979",2,"70077","07114079",8411,86,1,101229016]
[41701,"МЕСНА ЗАЈЕДНИЦА МИРАШЕВАЦ","РАЧА","840","-","0000001970645","645","-","52","086","06974",2,"70077","07220677",8411,86,1,101883941]
[41701,"МЕСНА ЗАЈЕДНИЦА МАЛО КРЧМАРЕ","РАЧА","840","-","0000002203645","645","-","34","086","06973",2,"70077","07225946",8411,86,1,102143184]
[41701,"МЕСНА ЗАЈЕДНИЦА БОРЦИ","РАЧА","840","-","0000002263645","645","-","66","086","06965",2,"70077","07245769",8411,86,1,102181045]
[41701,"ОПШТИНА РАЧА - СКУПШТИНА ОПШТИНЕ","РАЧА","","-","","","-","","086","80974",1,"80974","07113838",8411,86,0,101228415]
[41702,"ЦЕНТАР ЗА СОЦИЈАЛНИ РАД ШУМАДИЈА ЗА ОПШТИНЕ БАТОЧИНА, РАЧА И ЛАПОВО","БАТОЧИНА","840","-","0000000441661","661","-","68","601","00225",2,"13400","07831668",8899,8,1,102117593]
[41702,"ОСНОВНА ШКОЛА СВЕТИ САВА БАТОЧИНА","БАТОЧИНА","840","-","0000001043660","660","-","17","601","00615",2,"13701","07149182",8520,8,1,101220476]
[41702,"ОСНОВНА ШКОЛА СВЕТОЗАР МАРКОВИЋ","ЛАПОВО","840","-","0000000396660","660","-","47","601","00616",2,"13701","07149514",8520,121,1,101888446]
[41702,"СРЕДЊА ШКОЛА ЛАПОВО","ЛАПОВО","840","-","0000001377660","660","-","27","601","01866",2,"13702","06952461",8532,121,1,101888518]
[41702,"СРЕДЊА ШКОЛА НИКОЛА ТЕСЛА","БАТОЧИНА","840","-","0000001140660","660","-","17","601","01865",2,"13702","07199554",8532,8,1,101219763]
[41702,"ДОМ ЗДРАВЉА БАТОЧИНА","БАТОЧИНА","840","-","0000000490661","661","-","23","601","02425",2,"95000","17210408",8621,8,3,101219440]
[41702,"ДОМ ЗДРАВЉА ЛАПОВО","ЛАПОВО","840","-","0000000493661","661","-","44","601","02426",2,"95000","17211986",8621,121,3,102115203]
[41702,"ОПШТИНА ЛАПОВО - БУЏЕТ","ЛАПОВО","840","-","0000000139640","640","-","54","121","08232",0,"08232","07713754",8411,121,0,101888526]
[41702,"ЦЕНТАР ЗА КУЛТУРУ СТЕФАН НЕМАЊА","ЛАПОВО","840","-","0000000384664","664","-","48","121","08240",2,"08233","07652038",8559,121,1,101888204]
[41702,"ОПШТИНА ЛАПОВО - ОПШТИНСКА УПРАВА","ЛАПОВО","","-","","","-","","121","08233",1,"08233","07713754",8411,121,0,101888526]
[41702,"УСТАНОВА ЗА ДЕЦУ ПРЕДШКОЛСКОГ УЗРАСТА НАША МЛАДОСТ","ЛАПОВО","840","-","0000000443661","661","-","82","121","08238",2,"08233","07877757",8891,121,1,100980389]
[41702,"ОПШТИНСКА БИБЛИОТЕКА СЛОВО","ЛАПОВО","840","-","0000000445664","664","-","87","121","08239",2,"08233","17036521",9101,121,1,100980477]
[41702,"ОПШТИНА ЛАПОВО - СКУПШТИНА ОПШТИНЕ","ЛАПОВО","","-","","","-","","121","61708",1,"61708","07713754",8411,121,0,101888526]
[41702,"ОПШТИНА ЛАПОВО -  ПРЕДСЕДНИК ОПШТИНЕ","ЛАПОВО","","-","","","-","","121","61709",1,"61709","07713754",8411,121,0,101888526]
[41702,"ОПШТИНА ЛАПОВО - ОПШТИНСКО ВЕЋЕ","ЛАПОВО","","-","","","-","","121","61710",1,"61710","07713754",8411,121,0,101888526]
[41702,"МЕСНА ЗАЈЕДНИЦА ЛАПОВО","ЛАПОВО","","-","","","-","","121","08237",2,"70052","07149344",8411,121,1,102793441]
[41702,"ФОНД ЗА ЗАШТИТУ ЖИВОТНЕ СРЕДИНЕ","ЛАПОВО","840","-","0000000597644","644","-","47","121","80675",2,"70052","17782703",6499,121,1,106461096]
[41702,"ОПШТИНА БАТОЧИНА-БУЏЕТ","БАТОЧИНА","840","-","0000000032640","640","-","81","008","04106",0,"04106","07202342",8411,8,0,101220685]
[41702,"МЕСНА ЗАЈЕДНИЦА БАТОЧИНА","БАТОЧИНА","840","-","0000000008645","645","-","92","008","04112",2,"04107","07149697",8411,8,1,101220669]
[41702,"ОПШТИНСКА УПРАВА БАТОЧИНА","БАТОЧИНА","","-","","","-","","008","04107",1,"04107","07202342",8411,8,0,101220685]
[41702,"МЕСНА ЗАЈЕДНИЦА БАДЊЕВАЦ","БАТОЧИНА","840","-","0000000694645","645","-","44","008","04113",2,"04107","07217765",8411,8,1,101220610]
[41702,"МЕСНА ЗАЈЕДНИЦА ДОБРОВОДИЦЕ","БАТОЧИНА","840","-","0000001630645","645","-","97","008","04116",2,"04107","07246609",8411,8,1,101220888]
[41702,"МЕСНА ЗАЈЕДНИЦА НИКШИЋ","БАТОЧИНА","840","-","0000000481645","645","-","08","008","04120",2,"04107","07246617",8411,8,1,101220853]
[41702,"МЕСНА ЗАЈЕДНИЦА БРЗАН","БАТОЧИНА","840","-","0000000190645","645","-","08","008","04114",2,"04107","07247796",8411,8,1,101218787]
[41702,"МЕСНА ЗАЈЕДНИЦА МИЛАТОВАЦ","БАТОЧИНА","840","-","0000001754645","645","-","92","008","04119",2,"04107","07247800",8411,8,1,101220716]
[41702,"МЕСНА ЗАЈЕДНИЦА ГРАДАЦ","БАТОЧИНА","840","-","0000003846645","645","-","89","008","04123",2,"04107","07247818",8411,8,1,101220845]
[41702,"МЕСНА ЗАЈЕДНИЦА ПРЊАВОР","БАТОЧИНА","840","-","0000002365645","645","-","04","008","04121",2,"04107","07249357",8411,8,1,103210014]
[41702,"МЕСНА ЗАЈЕДНИЦА КИЈЕВО","БАТОЧИНА","840","-","0000001575645","645","-","03","008","04118",2,"04107","07250576",8411,8,1,101220790]
[41702,"ПРЕДШКОЛСКА УСТАНОВА ПОЛЕТАРАЦ","БАТОЧИНА","840","-","0000000376661","661","-","98","008","04124",2,"04107","07283857",8891,8,1,101218859]
[41702,"МЕСНА ЗАЈЕДНИЦА ЦРНИ КАО","БАТОЧИНА","840","-","0000001721645","645","-","55","008","04122",2,"04107","07293151",8411,8,1,101220708]
[41702,"МЕСНА ЗАЈЕДНИЦА ЖИРОВНИЦА","БАТОЧИНА","840","-","0000000377645","645","-","56","008","04117",2,"04107","07314477",8411,8,1,101220724]
[41702,"КУЛТУРНИ ЦЕНТАР ДОСИТЕЈ ОБРАДОВИЋ","БАТОЧИНА","840","-","0000000397664","664","-","42","008","04125",2,"04107","07944721",9002,8,1,101220360]
[41702,"НАРОДНА БИБЛИОТЕКА ВУК КАРАЏИЋ","БАТОЧИНА","840","-","0000000447664","664","-","04","008","04126",2,"04107","17043609",9101,8,1,101218344]
[41702,"СКУПШТИНА ОПШТИНЕ БАТОЧИНА","БАТОЧИНА","","-","","","-","","008","61470",1,"61470","07202342",8411,8,0,101220685]
[41702,"ПРЕДСЕДНИК ОПШТИНЕ БАТОЧИНА","БАТОЧИНА","","-","","","-","","008","61471",1,"61471","07202342",8411,8,0,101220685]
[41702,"ОПШТИНСКО ВЕЋЕ ОПШТИНЕ БАТОЧИНА","БАТОЧИНА","","-","","","-","","008","61472",1,"61472","07202342",8411,8,0,101220685]
[41703,"ОСНОВНА ШКОЛА МИЛУТИН ЈЕЛЕНИЋ ГОРЊА ТРНАВА","ГОРЊА ТРНАВА","840","-","0000000846660","660","-","93","601","00620",2,"13701","07123337",8520,101,1,101223639]
[41703,"ОСНОВНА ШКОЛА СЕСТРЕ РАДОВИЋ БЕЛОСАВЦИ","БЕЛОСАВЦИ","840","-","0000000825660","660","-","43","601","00621",2,"13701","07123345",8520,101,1,101223663]
[41703,"ОСНОВНА ШКОЛА КАРАЂОРЂЕ","ТОПОЛА","840","-","0000000839660","660","-","44","601","00618",2,"13701","07123370",8520,101,1,101223989]
[41703,"ОСНОВНА ШКОЛА ЖИВКО ТОМИЋ ДОЊА ШАТОРНА","ДОЊА ШАТОРЊА","840","-","0000000854660","660","-","52","601","00617",2,"13701","07123388",8520,101,1,101223655]
[41703,"ОСНОВНА ШКОЛА МИЛАН БЛАГОЈЕВИЋ НАТАЛИНЦИ","НАТАЛИНЦИ","840","-","0000000832660","660","-","92","601","00619",2,"13701","07123418",8520,101,1,101224123]
[41703,"СРЕДЊА ШКОЛА КРАЉ ПЕТАР ПРВИ","ТОПОЛА","840","-","0000001035660","660","-","58","601","01867",2,"13702","07123604",8532,101,1,101224115]
[41703,"ДОМ ЗДРАВЉА СВЕТИ ЂОРЂЕ","ТОПОЛА","840","-","0000000491661","661","-","30","601","02427",2,"95000","17210548",8621,101,3,101221549]
[41703,"ОПШТИНА ТОПОЛА-БУЏЕТ","ТОПОЛА","840","-","0000000135640","640","-","26","101","07546",0,"07546","07183933",8411,101,0,101988213]
[41703,"МЕСНА ЗАЈЕДНИЦА БОЖУРЊА","БОЖУРЊА","840","-","0000004089645","645","-","44","101","09926",2,"07547","07123787",8411,101,1,104749420]
[41703,"МЕСНА ЗАЈЕДНИЦА ЈУНКОВАЦ","ЈУНКОВАЦ","840","-","0000003895645","645","-","44","101","07559",2,"07547","07123795",8411,101,1,101988141]
[41703,"МЕСНА ЗАЈЕДНИЦА МАСКАР","МАСКАР","840","-","0000004150645","645","-","83","101","09927",2,"07547","07123809",8411,101,1,107053993]
[41703,"МЕСНА ЗАЈЕДНИЦА ЖАБАРИ","ЖАБАРИ","840","-","0000003894645","645","-","37","101","07555",2,"07547","07123817",8411,101,1,102794127]
[41703,"МЕСНА ЗАЈЕДНИЦА КЛОКА","КЛОКА","840","-","0000001396645","645","-","11","101","07560",2,"07547","07123825",8411,101,1,101978728]
[41703,"МЕСНА ЗАЈЕДНИЦА ЈАРМЕНОВЦИ","ЈЕРМЕНОВЦИ","840","-","0000002329645","645","-","43","101","07557",2,"07547","07123833",8411,101,1,102291888]
[41703,"МЕСНА ЗАЈЕДНИЦА ГОРЊА ТРНАВА","ГОРЊА ТРНАВА","840","-","0000002341645","645","-","30","101","07552",2,"07547","07123841",8411,101,1,101988176]
[41703,"МЕСНА ЗАЈЕДНИЦА ВАРОШ ТОПОЛА","ТОПОЛА","840","-","0000004228645","645","-","47","101","09928",2,"07547","07123850",8411,101,1,101988230]
[41703,"МЕСНА ЗАЈЕДНИЦА ОВСИШТЕ","ОВСИШТЕ","840","-","0000003897645","645","-","58","101","07565",2,"07547","07123868",8411,101,1,102504066]
[41703,"МЕСНА ЗАЈЕДНИЦА БЕЛОСАВЦИ","БЕЛОСАВЦИ","840","-","0000001251645","645","-","63","101","07550",2,"07547","07123876",8411,101,1,102810705]
[41703,"МЕСНА ЗАЈЕДНИЦА ДОЊА ТРНАВА","ДОЊА ТРНАВА","840","-","0000003896645","645","-","51","101","07553",2,"07547","07123884",8411,101,1,102584425]
[41703,"МЕСНА ЗАЈЕДНИЦА КРЋЕВАЦ","КРЋЕВАЦ","840","-","0000001417645","645","-","61","101","07561",2,"07547","07123892",8411,101,1,102838147]
[41703,"МЕСНА ЗАЈЕДНИЦА ШУМЕ","ШУМЕ","840","-","0000002898645","645","-","49","101","07568",2,"07547","07123906",8411,101,1,102578092]
[41703,"МЕСНА ЗАЈЕДНИЦА ЈЕЛЕНАЦ","ЈЕЛЕНАЦ","840","-","0000003899645","645","-","72","101","07558",2,"07547","07123914",8411,101,1,102838139]
[41703,"МЕСНА ЗАЈЕДНИЦА ДОЊА ШАТОРЊА","ДОЊА ШАТОРЊА","840","-","0000001478645","645","-","03","101","07554",2,"07547","07123922",8411,101,1,103130209]
[41703,"МЕСНА ЗАЈЕДНИЦА МИТРОВЧИЋ","ТОПОЛА","840","-","0000003046645","645","-","18","101","07563",2,"07547","07123949",8411,101,1,101988205]
[41703,"МЕСНА ЗАЈЕДНИЦА БЛАЗНАВА","БЛАЗНАВА","840","-","0000002923645","645","-","30","101","07551",2,"07547","07123965",8411,101,1,101978881]
[41703,"МЕСНА ЗАЈЕДНИЦА ЉУБЕСЕЛО","СЕЛО ТОПОЛА","840","-","0000002941645","645","-","59","101","07576",2,"07547","07123973",8411,101,1,101988184]
[41703,"МЕСНА ЗАЈЕДНИЦА НАТАЛИНЦИ","НАТАЛНИЦИ","840","-","0000001332645","645","-","48","101","07564",2,"07547","07124007",8411,101,1,101988248]
[41703,"МЕСНА ЗАЈЕДНИЦА ЗАГОРИЦА","ЗАГОРИЦА","840","-","0000003893645","645","-","30","101","07556",2,"07547","07124015",8411,101,1,101988150]
[41703,"МЕСНА ЗАЈЕДНИЦА ЛИПОВАЦ","ЛИПОВАЦ","840","-","0000003898645","645","-","65","101","07562",2,"07547","07124040",8411,101,1,103050549]
[41703,"ОПШТИНА ТОПОЛА - ОПШТИНСКА УПРАВА","ТОПОЛА","","-","","","-","","101","07547",1,"07547","07183933",8411,101,0,101988213]
[41703,"МЕСНА ЗАЈЕДНИЦА ВИНЧА","ВИНЧА","840","-","0000001206645","645","-","39","101","07569",2,"07547","07199872",8411,101,1,101978873]
[41703,"МЕСНА ЗАЈЕДНИЦА ДОЊА ТРЕШЊЕВИЦА","ДОЊА ТРЕШЊЕВИЦА","840","-","0000003967645","645","-","63","101","07575",2,"07547","07248148",8411,101,1,102810668]
[41703,"МЕСНА ЗАЈЕДНИЦА СВЕТЛИЋ","СВЕТЛИЋ","840","-","0000004087645","645","-","30","101","09929",2,"07547","07248989",8411,101,1,104749454]
[41703,"МЕСНА ЗАЈЕДНИЦА ПЛАСКОВАЦ","ПЛАСКОВАЦ","840","-","0000002932645","645","-","93","101","07566",2,"07547","07297211",8411,101,1,102147604]
[41703,"ПРЕДШКОЛСКА УСТАНОВА СОФИЈА РИСТИЋ","ТОПОЛА","840","-","0000000384661","661","-","57","101","07577",2,"07547","07329628",8510,101,1,101226278]
[41703,"МЕСНА ЗАЈЕДНИЦА РАЈКОВАЦ","РАЈКОВАЦ","840","-","0000003892645","645","-","23","101","07567",2,"07547","07346697",8411,101,1,101978648]
[41703,"БИБЛИОТЕКА РАДОЈЕ ДОМАНОВИЋ","ТОПОЛА","840","-","0000000435664","664","-","17","101","07578",2,"07547","17023730",9101,101,1,101222148]
[41703,"МЕСНА ЗАЈЕДНИЦА БОР СЕЛО ТОПОЛА","ТОПОЛА","840","-","0000003019645","645","-","23","101","07570",2,"07547","17037129",8411,101,1,101988192]
[41703,"МЕСНА ЗАЈЕДНИЦА ГРЕДА ДОЊА ТРНАВА","ДОЊА ТРНАВА","840","-","0000003034645","645","-","31","101","07572",2,"07547","17126024",8411,101,1,102834092]
[41703,"МЕСНА ЗАЈЕДНИЦА ПОКОЗИЦА ДОЊА ТРНАВА","ДОЊА ТРНАВА","840","-","0000003040645","645","-","73","101","07573",2,"07547","17128035",8411,101,1,102292071]
[41703,"ТУРИСТИЧКА ОРГАНИЗАЦИЈА ОПЛЕНАЦ","ТОПОЛА","840","-","0000001149664","664","-","68","101","09451",2,"07547","17265415",8413,101,1,101221047]
[41703,"МЕСНА ЗАЈЕДНИЦА ВОЈКОВЦИ","ВОЈКОВЦИ","840","-","0000003968645","645","-","70","101","07574",2,"07547","17499777",8411,101,1,102901674]
[41703,"МЕСНА ЗАЈЕДНИЦА ГОРОВИЧ ТОПОЛА","ГОРОВИЧ","840","-","0000003060645","645","-","19","101","07571",2,"07547","17527029",8411,101,1,103130194]
[41703,"МЕСНА ЗАЈЕДНИЦА ВИТЛИНА ГОРЊА ТРНАВА","ГОРЊА ТРНАВА","840","-","0000004068645","645","-","91","101","80013",2,"07547","17657828",8411,101,1,104503081]
[41703,"КУЛТУРНИ ЦЕНТАР ТОПОЛА","ТОПОЛА","840","-","0000000981664","664","-","56","101","80334",2,"07547","17763326",9004,101,1,105924266]
[41703,"СПОРТСКА ОРГАНИЗАЦИЈА ФК КАРАЂОРЂЕ","ТОПОЛА","840","-","0000000980664","664","-","49","101","80333",2,"07547","17763334",9312,101,1,105924274]
[41703,"ОПШТИНА ТОПОЛА - СКУПШТИНА ОПШТИНЕ","ТОПОЛА","","-","","","-","","101","09737",1,"09737","07183933",8411,101,0,101988213]
[41703,"ОПШТИНА ТОПОЛА - ОПШТИНСКО ПРАВОБРАНИЛАШТВО","ТОПОЛА","","-","","","-","","101","80214",1,"80214","07183933",6910,101,0,101988213]
[41703,"ОПШТИНА ТОПОЛА - ОПШТИНСКО ВЕЋЕ","ТОПОЛА","","-","","","-","","101","96334",1,"96334","07183933",8411,101,0,101988213]
[41703,"ОПШТИНА ТОПОЛА - ПРЕДСЕДНИК ОПШТИНЕ","ТОПОЛА","","-","","","-","","101","96335",1,"96335","07183933",8411,101,0,101988213]
[41704,"ЦЕНТАР ЗА СОЦИЈАЛНИ РАД КНИЋ","КНИЋ","840","-","0000000500661","661","-","93","601","00226",2,"13400","17273256",8899,44,1,101610655]
[41704,"ОСНОВНА ШКОЛА ВУК КАРАЏИЋ КНИЋ","КНИЋ","840","-","0000000419660","660","-","14","601","00622",2,"13701","07124651",8520,44,1,101610989]
[41704,"ОСНОВНА ШКОЛА СВЕТИ САВА ТОПОНИЦА","КНИЋ","840","-","0000000367660","660","-","38","601","00623",2,"13701","07124724",8520,44,1,101610892]
[41704,"ОСНОВНА ШКОЛА РАДА ШУБАКИЋ ГРУЖА","КНИЋ","840","-","0000000409660","660","-","41","601","00624",2,"13701","07202440",8520,44,1,101610606]
[41704,"СРЕДЊА ШКОЛА КНИЋ","КНИЋ","840","-","0000000460660","660","-","10","601","01868",2,"13702","07124686",8532,44,1,100819880]
[41704,"ДОМ ЗДРАВЉА ДР ДАНИЦА И КОСТА ШАМАНОВИЋ","КНИЋ","840","-","0000000494661","661","-","51","601","02428",2,"95000","17213547",8621,44,3,100820824]
[41704,"ОПШТИНА КНИЋ-БУЏЕТ","КНИЋ","840","-","0000000061640","640","-","90","044","05219",0,"05219","07186193",8411,44,0,101611061]
[41704,"МЕСНА ЗАЈЕДНИЦА БАЈЧЕТИНА","КНИЋ","840","-","0000002595645","645","-","62","044","05225",2,"05220","07124694",8411,44,1,102180647]
[41704,"МЕСНА ЗАЈЕДНИЦА ДУБРАВА","КНИЋ","840","-","0000002521645","645","-","29","044","05238",2,"05220","07124732",8411,44,1,100820945]
[41704,"МЕСНА ЗАЈЕДНИЦА ЖУЊЕ","КНИЋ","840","-","0000002576645","645","-","26","044","05239",2,"05220","07124759",8411,44,1,102126421]
[41704,"МЕСНА ЗАЈЕДНИЦА КНИЋ","КНИЋ","840","-","0000002059645","645","-","93","044","05243",2,"05220","07124767",8411,44,1,102148646]
[41704,"МЕСНА ЗАЈЕДНИЦА ЉУБИЋ","КНИЋ","840","-","0000002617645","645","-","22","044","05247",2,"05220","07124775",8411,44,1,102180655]
[41704,"МЕСНА ЗАЈЕДНИЦА ЗАБОЈНИЦА","КНИЋ","840","-","0000002129645","645","-","98","044","05240",2,"05220","07124783",8411,44,1,101986218]
[41704,"МЕСНА ЗАЈЕДНИЦА КОЊУША-БРЕСТОВАЦ","КНИЋ","840","-","0000002555645","645","-","73","044","05244",2,"05220","07124791",8411,44,1,100820881]
[41704,"МЕСНА ЗАЈЕДНИЦА ПАЈСИЈЕВИЋ","КНИЋ","840","-","0000001613645","645","-","75","044","05250",2,"05220","07124805",8411,44,1,102148638]
[41704,"МЕСНА ЗАЈЕДНИЦА ЧЕСТИН","КНИЋ","840","-","0000002388645","645","-","68","044","05255",2,"05220","07124813",8411,44,1,101612314]
[41704,"МЕСНА ЗАЈЕДНИЦА КНЕЖЕВАЦ","КНИЋ","840","-","0000002453645","645","-","38","044","05242",2,"05220","07124821",8411,44,1,102148603]
[41704,"МЕСНА ЗАЈЕДНИЦА ЛЕСКОВАЦ","КНИЋ","840","-","0000002626645","645","-","85","044","05245",2,"05220","07124830",8411,44,1,102148611]
[41704,"МЕСНА ЗАЈЕДНИЦА РАШКОВИЋ","КНИЋ","840","-","0000002649645","645","-","52","044","05252",2,"05220","07124848",8411,44,1,100819599]
[41704,"МЕСНА ЗАЈЕДНИЦА ТОПОНИЦА","КНИЋ","840","-","0000000618645","645","-","94","044","05254",2,"05220","07124856",8411,44,1,100819978]
[41704,"МЕСНА ЗАЈЕДНИЦА КИКОЈЕВАЦ","КНИЋ","840","-","0000002400645","645","-","55","044","05241",2,"05220","07124864",8411,44,1,102687337]
[41704,"МЕСНА ЗАЈЕДНИЦА ЛИПНИЦА","КНИЋ","840","-","0000002027645","645","-","63","044","05246",2,"05220","07124872",8411,44,1,101612306]
[41704,"МЕСНА ЗАЈЕДНИЦА СУМОРОВАЦ","КНИЋ","840","-","0000002499645","645","-","69","044","05253",2,"05220","07124899",8411,44,1,101612355]
[41704,"МЕСНА ЗАЈЕДНИЦА РАДМИЛОВИЋ","КНИЋ","840","-","0000003887645","645","-","85","044","05257",2,"05220","07124902",8411,44,1,102180639]
[41704,"МЕСНА ЗАЈЕДНИЦА ПРЕТОКЕ","КНИЋ","840","-","0000002605645","645","-","35","044","05251",2,"05220","07124929",8411,44,1,103188659]
[41704,"МЕСНА ЗАЈЕДНИЦА БАРЕ","КНИЋ","840","-","0000001814645","645","-","27","044","05227",2,"05220","07124937",8411,44,1,101611543]
[41704,"МЕСНА ЗАЈЕДНИЦА БУМБАРЕВО БРДО","КНИЋ","840","-","0000001940645","645","-","36","044","05231",2,"05220","07124945",8411,44,1,102148654]
[41704,"МЕСНА ЗАЈЕДНИЦА ОПЛАНИЋ","КНИЋ","840","-","0000002439645","645","-","37","044","05249",2,"05220","07124953",8411,44,1,100819986]
[41704,"МЕСНА ЗАЈЕДНИЦА БЕЧЕВИЦА","КНИЋ","840","-","0000002545645","645","-","03","044","05228",2,"05220","07124961",8411,44,1,100820621]
[41704,"МЕСНА ЗАЈЕДНИЦА ВРБЕТА","КНИЋ","840","-","0000002684645","645","-","06","044","05232",2,"05220","07124970",8411,44,1,102148582]
[41704,"МЕСНА ЗАЈЕДНИЦА ГРУЖА-ГРАБОВАЦ","КНИЋ","840","-","0000001648645","645","-","29","044","05256",2,"05220","07124988",8411,44,1,100820873]
[41704,"МЕСНА ЗАЈЕДНИЦА ЉУЉАЦИ","КНИЋ","840","-","0000002762645","645","-","67","044","05248",2,"05220","07124996",8411,44,1,100820648]
[41704,"МЕСНА ЗАЈЕДНИЦА БОРАЧ","КНИЋ","840","-","0000002302645","645","-","48","044","05229",2,"05220","07125003",8411,44,1,100820630]
[41704,"МЕСНА ЗАЈЕДНИЦА ВУЧКОВИЦА","КНИЋ","840","-","0000002159645","645","-","17","044","05233",2,"05220","07125011",8411,44,1,101612363]
[41704,"МЕСНА ЗАЈЕДНИЦА ГУБЕРЕВАЦ","КНИЋ","840","-","0000002074645","645","-","04","044","05235",2,"05220","07125020",8411,44,1,100820953]
[41704,"МЕСНА ЗАЈЕДНИЦА БАЛОСАВЕ","КНИЋ","840","-","0000002566645","645","-","53","044","05226",2,"05220","07125038",8411,44,1,100820769]
[41704,"МЕСНА ЗАЈЕДНИЦА БРЊИЦА","КНИЋ","","-","","","-","","044","05230",2,"05220","07125046",8411,44,1,102996644]
[41704,"МЕСНА ЗАЈЕДНИЦА ГРИВАЦ","КНИЋ","840","-","0000002638645","645","-","72","044","05234",2,"05220","07125054",8411,44,1,101612291]
[41704,"МЕСНА ЗАЈЕДНИЦА ГУНЦАТИ","КНИЋ","840","-","0000002427645","645","-","50","044","05236",2,"05220","07125062",8411,44,1,102317132]
[41704,"МЕСНА ЗАЈЕДНИЦА ДРАГУШИЦА","КНИЋ","840","-","0000002701645","645","-","28","044","05237",2,"05220","07125089",8411,44,1,102148599]
[41704,"ОПШТИНСКА УПРАВА","КНИЋ","","-","","","-","","044","05220",1,"05220","07186193",8411,44,0,101611061]
[41704,"ПРЕДШКОЛСКА УСТАНОВА ЦВЕТИЋ","КНИЋ","840","-","0000000414661","661","-","73","044","05258",2,"05220","07410816",8891,44,1,101611422]
[41704,"ЦЕНТАР ЗА КУЛТУРУ,ТУРИЗАМ И СПОРТ-КНИЋ","КНИЋ","840","-","0000001104664","664","-","44","044","96189",2,"05220","17877534",9101,44,1,109108374]
[41704,"ВАТРОГАСНИ ФОНД ОПШТИНЕ КНИЋ","КНИЋ","","-","","","-","","044","05223",2,"70060","17340719",6499,44,1,100820937]
[41704,"СКУПШТИНА ОПШТИНЕ КНИЋ","КНИЋ","","-","","","-","","044","98591",1,"98591","07186193",8411,44,0,101611061]
[41704,"ПРЕДСЕДНИК ОПШТИНЕ КНИЋ","КНИЋ","","-","","","-","","044","98592",1,"98592","07186193",8411,44,0,101611061]
[41704,"ОПШТИНСКО ВЕЋЕ ОПШТИНЕ КНИЋ","КНИЋ","","-","","","-","","044","98593",1,"98593","07186193",8411,44,0,101611061]
[41704,"ОПШТИНСКО ПРАВОБРАНИЛАШТВО","КНИЋ","","-","","","-","","044","98667",1,"98667","07186193",8411,44,0,101611061]
[41710,"ЦЕНТАР ЗА СОЦИЈАЛНИ РАД САВА ИЛИЋ АРАНЂЕЛОВАЦ","АРАНЂЕЛОВАЦ","840","-","0000000136661","661","-","67","601","00227",2,"13400","07122799",8899,3,1,100994457]
[41710,"ОСНОВНА ШКОЛА ВЕЉА ГЕРАСИМОВИЋ ВЕНЧАНИ","АРАНЂЕЛОВАЦ","840","-","0000000750660","660","-","03","601","00625",2,"13701","07113374",8520,3,1,100902027]
[41710,"ОСНОВНА ШКОЛА СВЕТОЛИК РАНКОВИЋ","АРАНЂЕЛОВАЦ","840","-","0000000759660","660","-","66","601","00633",2,"13701","07113382",8520,3,1,100901979]
[41710,"ОСНОВНА ШКОЛА ДУШАН РАДОЊИЋ БАЊА","АРАНЂЕЛОВАЦ","840","-","0000000730660","660","-","57","601","00627",2,"13701","07113404",8520,3,1,100765857]
[41710,"ОСНОВНА ШКОЛА ЉУБОМИР-ЉУБА НЕНАДОВИЋ РАНИЛОВИЋ","АРАНЂЕЛОВАЦ","840","-","0000000757660","660","-","52","601","00628",2,"13701","07113439",8520,3,1,100995860]
[41710,"ОСНОВНА ШКОЛА МИЛАН ИЛИЋ-ЧИЧА","АРАНЂЕЛОВАЦ","840","-","0000000716660","660","-","56","601","00629",2,"13701","07113463",8520,3,1,100995851]
[41710,"ОСНОВНА ШКОЛА ПРВИ СРПСКИ УСТАНАК ОРАШАЦ","АРАНЂЕЛОВАЦ","840","-","0000000736660","660","-","02","601","00631",2,"13701","07113471",8520,3,1,100767027]
[41710,"ОСНОВНА ШКОЛА СЛАВКО ПОПОВИЋ ДАРОСАВА","АРАНЂЕЛОВАЦ","840","-","0000000706660","660","-","83","601","00634",2,"13701","07113501",8520,3,1,100764924]
[41710,"ОСНОВНА ШКОЛА ВУК КАРАЏИЋ СТОЈНИК","АРАНЂЕЛОВАЦ","840","-","0000000723660","660","-","08","601","00626",2,"13701","07113510",8520,3,1,100995894]
[41710,"ОСНОВНА ШКОЛА ИЛИЈА ГАРАШАНИН","АРАНЂЕЛОВАЦ","840","-","0000001194660","660","-","07","601","00635",2,"13701","07280599",8520,3,1,100996008]
[41710,"ОСНОВНА ШКОЛА МИЛОШ ОБРЕНОВИЋ","АРАНЂЕЛОВАЦ","840","-","0000001192660","660","-","90","601","00630",2,"13701","07280645",8520,3,1,100899875]
[41710,"ОСНОВНА МУЗИЧКА ШКОЛА ПЕТАР ИЛИЋ","АРАНЂЕЛОВАЦ","840","-","0000001240660","660","-","38","601","01617",2,"13701","07347332",8520,3,1,100765082]
[41710,"ОСНОВНА ШКОЛА СВЕТИ САВА АРАНЂЕЛОВАЦ","АРАНЂЕЛОВАЦ","840","-","0000001281660","660","-","34","601","00632",2,"13701","07571836",8520,3,1,100995992]
[41710,"ГИМНАЗИЈА МИЛОШ САВКОВИЋ","АРАНЂЕЛОВАЦ","840","-","0000001246660","660","-","80","601","01700",2,"13702","07351160",8531,3,1,100901430]
[41710,"ЕКОНОМСКО-УГОСТИТЕЉСКА ШКОЛА СЛОБОДАН МИНИЋ","АРАНЂЕЛОВАЦ","840","-","0000001248660","660","-","94","601","01869",2,"13702","07351186",8532,3,1,100764334]
[41710,"ТЕХНИЧКА ШКОЛА МИЛЕТА НИКОЛИЋ","АРАНЂЕЛОВАЦ","840","-","0000001251660","660","-","18","601","01870",2,"13702","07351194",8532,3,1,100901448]
[41710,"ВИСОКА ТЕХНОЛОШКА ШКОЛА СТРУКОВНИХ СТУДИЈА У АРАНЂЕЛОВЦУ","АРАНЂЕЛОВАЦ","840","-","0000000785660","660","-","54","601","02192",2,"13704","07113528",8542,3,1,100766569]
[41710,"ОСНОВНИ СУД У АРАНЂЕЛОВЦУ","АРАНЂЕЛОВАЦ","","-","","","-","","601","91271",2,"30226","17865382",8423,3,5,108341229]
[41710,"ОСНОВНО ЈАВНО ТУЖИЛАШТВО У АРАНЂЕЛОВЦУ","АРАНЂЕЛОВАЦ","","-","","","-","","601","91328",2,"30229","17865765",8423,3,5,108347856]
[41710,"ПРЕКРШАЈНИ СУД У АРАНЂЕЛОВЦУ","АРАНЂЕЛОВАЦ","","-","","","-","","601","80577",2,"30233","17773968",8423,3,5,106398778]
[41710,"ЗДРАВСТВЕНИ ЦЕНТАР АРАНЂЕЛОВАЦ","АРАНЂЕЛОВАЦ","840","-","0000000467661","661","-","56","601","02429",2,"95000","06961991",8621,3,3,100996483]
[41710,"АПОТЕКА ШУМАДИЈА","АРАНЂЕЛОВАЦ","840","-","0000000468661","661","-","63","601","02621",2,"95000","06962009",4773,3,3,100998194]
[41710,"СПЕЦИЈАЛНА БОЛНИЦА ЗА СПЕЦИЈАЛИЗОВАНУ И ОПШТУ РЕХАБИЛИТАЦИЈУ БУКОВИЧКА БАЊА","АРАНЂЕЛОВАЦ","840","-","0000000339661","661","-","33","601","02541",2,"95000","07113056",8610,3,3,100900007]
[41710,"ОПШТИНА АРАНЂЕЛОВАЦ-БУЏЕТ","АРАНЂЕЛОВАЦ","840","-","0000000107640","640","-","24","003","03943",0,"03943","07184549",8411,3,0,101486788]
[41710,"НАРОДНА БИБЛИОТЕКА СВЕТИ САВА","АРАНЂЕЛОВАЦ","840","-","0000000176664","664","-","47","003","03971",2,"03945","07122764",9101,3,1,100766155]
[41710,"ПРЕДШКОЛСКА УСТАНОВА ДУГА","АРАНЂЕЛОВАЦ","840","-","0000000216661","661","-","45","003","03969",2,"03945","07122900",8891,3,1,100995265]
[41710,"УПРАВА ОПШТИНЕ АРАНЂЕЛОВАЦ","АРАНЂЕЛОВАЦ","","-","","","-","","003","03945",1,"03945","07184549",8411,3,0,101486788]
[41710,"МЕСНА ЗАЈЕДНИЦА ЦЕНТАР АРАНЂЕЛОВАЦ","АРАНЂЕЛОВАЦ","","-","","","-","","003","03968",2,"03945","07232535",8411,3,1,102201975]
[41710,"МЕСНА ЗАЈЕДНИЦА СТОЈНИК","АРАНЂЕЛОВАЦ","","-","","","-","","003","03965",2,"03945","07232551",8411,3,1,102202092]
[41710,"МЕСНА ЗАЈЕДНИЦА СТАРИ ГРАД","АРАНЂЕЛОВАЦ","","-","","","-","","003","03967",2,"03945","07234503",8411,3,1,100902699]
[41710,"МЕСНА ЗАЈЕДНИЦА ГОРЊА ТРЕШЊЕВИЦА","АРАНЂЕЛОВАЦ","","-","","","-","","003","03956",2,"03945","07237561",8411,3,1,102494685]
[41710,"МЕСНА ЗАЈЕДНИЦА ВУКОСАВЦИ","АРАНЂЕЛОВАЦ","","-","","","-","","003","03955",2,"03945","07237570",8411,3,1,102202084]
[41710,"МЕСНА ЗАЈЕДНИЦА ДАРОСАВА","АРАНЂЕЛОВАЦ","","-","","","-","","003","03958",2,"03945","07237588",8411,3,1,102202033]
[41710,"МЕСНА ЗАЈЕДНИЦА СЕЛО БАЊА","АРАНЂЕЛОВАЦ","","-","","","-","","003","03964",2,"03945","07237596",8411,3,1,102202050]
[41710,"МЕСНА ЗАЈЕДНИЦА МИСАЧА","АРАНЂЕЛОВАЦ","","-","","","-","","003","03961",2,"03945","07239904",8411,3,1,102201991]
[41710,"МЕСНА ЗАЈЕДНИЦА ТУЛЕЖ","АРАНЂЕЛОВАЦ","","-","","","-","","003","03966",2,"03945","07239912",8411,3,1,102202017]
[41710,"МЕСНА ЗАЈЕДНИЦА ВЕНЧАНИ","АРАНЂЕЛОВАЦ","","-","","","-","","003","03953",2,"03945","07239939",8411,3,1,102494708]
[41710,"МЕСНА ЗАЈЕДНИЦА КОПЉАРЕ","АРАНЂЕЛОВАЦ","","-","","","-","","003","03960",2,"03945","07239947",8411,3,1,102202025]
[41710,"МЕСНА ЗАЈЕДНИЦА ГАРАШИ","АРАНЂЕЛОВАЦ","","-","","","-","","003","03957",2,"03945","07239955",8411,3,1,102494693]
[41710,"МЕСНА ЗАЈЕДНИЦА БУКОВИК","АРАНЂЕЛОВАЦ","","-","","","-","","003","03952",2,"03945","07239963",8411,3,1,102382210]
[41710,"МЕСНА ЗАЈЕДНИЦА ЈЕЛОВИК","АРАНЂЕЛОВАЦ","","-","","","-","","003","03959",2,"03945","07239971",8411,3,1,102201983]
[41710,"МЕСНА ЗАЈЕДНИЦА БРЕЗОВАЦ","АРАНЂЕЛОВАЦ","","-","","","-","","003","03951",2,"03945","07239980",8411,3,1,102382236]
[41710,"МЕСНА ЗАЈЕДНИЦА ВРБИЦА","АРАНЂЕЛОВАЦ","","-","","","-","","003","03954",2,"03945","07242336",8411,3,1,102202009]
[41710,"МЕСНА ЗАЈЕДНИЦА РАНИЛОВИЋ","АРАНЂЕЛОВАЦ","","-","","","-","","003","03963",2,"03945","07242344",8411,3,1,102202105]
[41710,"МЕСНА ЗАЈЕДНИЦА ОРАШАЦ","АРАНЂЕЛОВАЦ","","-","","","-","","003","03962",2,"03945","07242379",8411,3,1,102202041]
[41710,"МЕСНА ЗАЈЕДНИЦА БОСУТА","АРАНЂЕЛОВАЦ","","-","","","-","","003","03950",2,"03945","07244363",8411,3,1,102382228]
[41710,"НАРОДНИ МУЗЕЈ У АРАНЂЕЛОВЦУ","АРАНЂЕЛОВАЦ","840","-","0000000315664","664","-","50","003","03970",2,"03945","07311818",9102,3,1,100766632]
[41710,"СМОТРА УМЕТНОСТИ МЕРМЕР И ЗВУЦИ","АРАНЂЕЛОВАЦ","840","-","0000000272664","664","-","40","003","03972",2,"03945","07331959",9329,3,1,100766163]
[41710,"УСТАНОВА СПОРТСКО РЕКРЕАТИВНИ ЦЕНТАР ШУМАДИЈА","АРАНЂЕЛОВАЦ","840","-","0000000331664","664","-","65","003","03973",2,"03945","07345810",9311,3,1,100994344]
[41710,"ТУРИСТИЧКА ОРГАНИЗАЦИЈА ОПШТИНЕ АРАНЂЕЛОВАЦ","АРАНЂЕЛОВАЦ","840","-","0000001148664","664","-","61","003","03944",2,"03945","17004794",8413,3,1,100997433]
[41710,"ФУДБАЛСКИ КЛУБ ШУМАДИЈА - У ЛИКВИДАЦИЈИ","АРАНЂЕЛОВАЦ","","-","","","-","","003","03974",2,"03945","17211218",9311,3,1,100994615]
[41710,"ЦЕНТАР ЗА КУЛТУРУ И ОБРАЗОВАЊЕ","АРАНЂЕЛОВАЦ","840","-","0000000465664","664","-","33","003","03975",2,"03945","17265423",9004,3,1,100900701]
[41710,"ФОНД ПРВИ СРПСКИ УСТАНАК ОРАШАЦ","АРАНЂЕЛОВАЦ","840","-","0000000462644","644","-","72","003","03947",2,"03945","17290274",6499,3,1,100902703]
[41710,"МЕСНА ЗАЈЕДНИЦА ПРОГОРЕОЦИ","АРАНЂЕЛОВАЦ","","-","","","-","","003","03949",2,"03945","17394975",8411,3,1,102148269]
[41710,"АГЕНЦИЈА ЗА ИМОВИНУ ОПШТИНЕ АРАНЂЕЛОВАЦ","АРАНЂЕЛОВАЦ","840","-","0000000771641","641","-","13","003","81030",2,"03945","17821733",6820,3,1,107202219]
[41710,"СКУПШТИНА ОПШТИНЕ АРАНЂЕЛОВАЦ","АРАНЂЕЛОВАЦ","","-","","","-","","003","92353",1,"92353","07184549",8411,3,0,101486788]
[41710,"ПРЕДСЕДНИК ОПШТИНЕ АРАНЂЕЛОВАЦ","АРАНЂЕЛОВАЦ","","-","","","-","","003","92354",1,"92354","07184549",8411,3,0,101486788]
[41710,"ОПШТИНСКО ВЕЋЕ ОПШТИНЕ АРАНЂЕЛОВАЦ","АРАНЂЕЛОВАЦ","","-","","","-","","003","92355",1,"92355","07184549",8411,3,0,101486788]
[41800,"ОКРУЖНИ ЗАТВОР У КРАЉЕВУ","КРАЉЕВО","840","-","0000000183621","621","-","31","601","00015",2,"10311","17621530",8423,50,1,103696987]
[41800,"МУП - ПОЛИЦИЈСКА УПРАВА КРАЉЕВО","КРАЉЕВО","840","-","0000000164621","621","-","92","601","00047",4,"10600","07008104",8424,50,0,100184116]
[41800,"ЦЕНТАР ЗА СОЦИЈАЛНИ РАД КРАЉЕВО","КРАЉЕВО","840","-","0000000040661","661","-","74","601","00228",2,"13400","07154127",8899,50,1,100239767]
[41800,"ГЕРОНТОЛОШКИ ЦЕНТАР МАТАРУШКА БАЊА","КРАЉЕВО","840","-","0000000285661","661","-","43","601","00183",2,"13400","07325703",8730,50,1,101247838]
[41800,"ОСНОВНА ШКОЛА ЧИБУКОВАЧКИ ПАРТИЗАНИ","КРАЉЕВО","840","-","0000000318660","660","-","83","601","00656",2,"13701","07100841",8520,50,1,100264495]
[41800,"ОСНОВНА ШКОЛА ОЛГА МИЛУТИНОВИЋ ГОДАЧИЦА","КРАЉЕВО","840","-","0000000296660","660","-","26","601","00649",2,"13701","07100850",8520,50,1,101071942]
[41800,"ОСНОВНА ШКОЛА ВУК КАРАЏИЋ РИБНИЦА","КРАЉЕВО","840","-","0000000134660","660","-","56","601","00639",2,"13701","07100876",8520,50,1,101957636]
[41800,"ОСНОВНА ШКОЛА ДОСИТЕЈ ОБРАДОВИЋ ВРБА","КРАЉЕВО","840","-","0000000151660","660","-","78","601","00641",2,"13701","07100884",8520,50,1,101957378]
[41800,"ОСНОВНА ШКОЛА ЧЕТВРТИ КРАЉЕВАЧКИ БАТАЉОН","КРАЉЕВО","840","-","0000000073660","660","-","17","601","00655",2,"13701","07100892",8520,50,1,101258254]
[41800,"ОСНОВНА ШКОЛА ЂУРА ЈАКШИЋ КОНАРЕВО","КРАЉЕВО","840","-","0000000183660","660","-","11","601","00644",2,"13701","07100922",8520,50,1,100244145]
[41800,"ОСНОВНА ШКОЛА ДРАГАН ЂОКОВИЋ-УЧА ЛАЂЕВЦИ","КРАЉЕВО","840","-","0000000554660","660","-","86","601","00642",2,"13701","07100949",8520,50,1,100264591]
[41800,"ОСНОВНА ШКОЛА БРАНКО РАДИЧЕВИЋ ВИТКОВАЦ","КРАЉЕВО","840","-","0000000284660","660","-","39","601","00637",2,"13701","07100965",8520,50,1,101071241]
[41800,"ОСНОВНА ШКОЛА СВЕТОЗАР МАРКОВИЋ","КРАЉЕВО","840","-","0000000103660","660","-","33","601","00652",2,"13701","07100973",8520,50,1,100264288]
[41800,"ОСНОВНА ШКОЛА ЈОВАН ЦВИЈИЋ СИРЧА","КРАЉЕВО","840","-","0000000244660","660","-","50","601","00646",2,"13701","07100981",8520,50,1,102029122]
[41800,"ОСНОВНА ШКОЛА МИЛУН ИВАНОВИЋ УШЋЕ","КРАЉЕВО","840","-","0000000562660","660","-","45","601","00648",2,"13701","07100990",8520,50,1,101252021]
[41800,"ОСНОВНА ШКОЛА ЈОВО КУРСУЛА","КРАЉЕВО","840","-","0000000087660","660","-","18","601","00647",2,"13701","07101015",8520,50,1,101776004]
[41800,"ОСНОВНА ШКОЛА МИЛУНКА САВИЋ ВИТАНОВАЦ","КРАЉЕВО","840","-","0000000309660","660","-","20","601","00636",2,"13701","07101023",8520,50,1,101071959]
[41800,"ОСНОВНА ШКОЛА БРАЋА ВИЛОТИЈЕВИЋ","КРАЉЕВО","840","-","0000000636660","660","-","78","601","00638",2,"13701","07101031",8520,50,1,100242666]
[41800,"ОСНОВНА МУЗИЧКА ШКОЛА СТЕВАН МОКРАЊАЦ","КРАЉЕВО","840","-","0000000397660","660","-","54","601","01618",2,"13701","07101163",8520,50,1,100264575]
[41800,"ОСНОВНА ШКОЛА СВЕТИ САВА РИБНИЦА","КРАЉЕВО","840","-","0000000534660","660","-","43","601","00651",2,"13701","07102305",8520,50,1,101774429]
[41800,"ОСНОВНА ШКОЛА ДИМИТРИЈЕ ТУЦОВИЋ","КРАЉЕВО","840","-","0000000117660","660","-","34","601","00640",2,"13701","07102313",8520,50,1,101257956]
[41800,"ОСНОВНА ШКОЛА ЖИВАН МАРИЧИЋ ЖИЧА","КРАЉЕВО","840","-","0000000166660","660","-","86","601","00645",2,"13701","07144440",8520,50,1,100264296]
[41800,"ОСНОВНА ШКОЛА ПЕТАР НИКОЛИЋ САМАИЛА","КРАЉЕВО","840","-","0000000542660","660","-","02","601","00650",2,"13701","07154046",8520,50,1,101260780]
[41800,"ОСНОВНА ШКОЛА ДРАГАН МАРИНКОВИЋ АДРАНИ","КРАЉЕВО","840","-","0000000226660","660","-","21","601","00643",2,"13701","07191006",8520,50,1,100240031]
[41800,"ШКОЛА ЗА ОСНОВНО И СРЕДЊЕ ОБРАЗОВАЊЕ ИВО ЛОЛА РИБАР","КРАЉЕВО","840","-","0000000580660","660","-","74","601","01579",2,"13701","07191111",8520,50,1,100241341]
[41800,"ОСНОВНА ШКОЛА ЈОВАН ДУЧИЋ РОЋЕВИЋИ","КРАЉЕВО","840","-","0000000201660","660","-","40","601","00653",2,"13701","07191260",8520,50,1,101774603]
[41800,"ОСНОВНА ШКОЛА СТЕФАН НЕМАЊА СТУДЕНИЦА","КРАЉЕВО","840","-","0000001106660","660","-","70","601","00654",2,"13701","07592914",8520,50,1,101256390]
[41800,"ШУМАРСКА ШКОЛА КРАЉЕВО","КРАЉЕВО","840","-","0000001027660","660","-","02","601","01876",2,"13702","07100957",8532,50,1,101071637]
[41800,"ПОЉОПРИВРЕДНО-ХЕМИЈСКА ШКОЛА ДР ЂОРЂЕ РАДИЋ КРАЉЕВО","КРАЉЕВО","840","-","0000001030660","660","-","23","601","01875",2,"13702","07101007",8532,50,1,100239919]
[41800,"ГИМНАЗИЈА КРАЉЕВО","КРАЉЕВО","840","-","0000001036660","660","-","65","601","01701",2,"13702","07102453",8531,50,1,100242078]
[41800,"МАШИНСКА ТЕХНИЧКА ШКОЛА 14. ОКТОБАР КРАЉЕВО","КРАЉЕВО","840","-","0000001007660","660","-","56","601","01873",2,"13702","07237685",8532,50,1,100241235]
[41800,"ЕКОНОМСКО-ТРГОВИНСКА ШКОЛА КРАЉЕВО","КРАЉЕВО","840","-","0000001096660","660","-","97","601","01871",2,"13702","07353928",8532,50,1,100240371]
[41800,"МЕДИЦИНСКА ШКОЛА КРАЉЕВО","КРАЉЕВО","840","-","0000001110660","660","-","98","601","01874",2,"13702","07588488",8532,50,1,101256507]
[41800,"ЕЛЕКТРО-САОБРАЋАЈНА ТЕХНИЧКА ШКОЛА НИКОЛА ТЕСЛА КРАЉЕВО","КРАЉЕВО","840","-","0000001113660","660","-","22","601","01872",2,"13702","07607202",8532,50,1,101775518]
[41800,"РЕГИОНАЛНИ ЦЕНТАР ЗА ТАЛЕНТЕ КРАЉЕВО","КРАЉЕВО","840","-","0000002013660","660","-","17","601","02136",2,"13702","17276859",8532,50,1,101958135]
[41800,"УМЕТНИЧКА ШКОЛА У КРАЉЕВУ","КРАЉЕВО","840","-","0000002067660","660","-","07","601","09611",2,"13702","17578430",8532,50,1,103435339]
[41800,"ДОМ УЧЕНИКА СРЕДЊИХ ШКОЛА КРАЉЕВО","КРАЉЕВО","840","-","0000000038661","661","-","60","601","02154",2,"13703","07101040",5590,50,1,101256599]
[41800,"УНИВЕРЗИТЕТ У КРАГУЈЕВАЦУ - МАШИНСКИ ФАКУЛТЕТ","КРАЉЕВО","840","-","0000001042660","660","-","10","601","02248",2,"13704","07316291",8542,50,1,101255862]
[41800,"ВИШИ СУД У КРАЉЕВУ","КРАЉЕВО","","-","","","-","","601","80441",2,"30225","17772945",8423,50,5,106399037]
[41800,"ОСНОВНИ СУД У КРАЉЕВУ","КРАЉЕВО","","-","","","-","","601","80471",2,"30226","17773160",8423,50,5,106399053]
[41800,"ПРИВРЕДНИ СУД У КРАЉЕВУ","КРАЉЕВО","","-","","","-","","601","80497",2,"30227","17773364",8423,50,5,106399029]
[41800,"ВИШЕ ЈАВНО ТУЖИЛАШТВО У КРАЉЕВУ","КРАЉЕВО","","-","","","-","","601","80551",2,"30228","17773828",8423,50,5,106399045]
[41800,"ОСНОВНО ЈАВНО ТУЖИЛАШТВО У КРАЉЕВУ","КРАЉЕВО","","-","","","-","","601","80521",2,"30229","17773526",8423,50,5,106399061]
[41800,"ПРЕКРШАЈНИ СУД У КРАЉЕВУ","КРАЉЕВО","","-","","","-","","601","80591",2,"30233","17774042",8423,50,5,106399070]
[41800,"РАШКИ УПРАВНИ ОКРУГ","КРАЉЕВО","","-","","","-","","601","41119",1,"41119","17649582",8411,50,0,104173842]
[41800,"РЕПУБЛИЧКИ ФОНД ЗА ЗДРАВСТВЕНО ОСИГУРАЊЕ - ФИЛИЈАЛА ЗА РАШКИ ОКРУГ","КРАЉЕВО","840","-","0000000010650","650","-","91","601","02654",4,"95000","06042945",8430,50,0,101288707]
[41800,"АПОТЕКА КРАЉЕВО","КРАЉЕВО","840","-","0000000389661","661","-","92","601","02622",2,"95000","06959881",4773,50,3,100239855]
[41800,"СПЕЦИЈАЛНА БОЛНИЦА ЗА РЕХАБИЛИТАЦИЈУ АГЕНС","МАТАРУШКА БАЊА","840","-","0000000217661","661","-","52","601","02590",2,"95000","07101066",8710,50,3,101250690]
[41800,"ЗАВОД ЗА ЈАВНО ЗДРАВЉЕ КРАЉЕВО","КРАЉЕВО","840","-","0000000258661","661","-","48","601","02376",2,"95000","07191162",8690,50,3,100240226]
[41800,"ДОМ ЗДРАВЉА КРАЉЕВО","КРАЉЕВО","840","-","0000000868661","661","-","50","601","91946",2,"95000","17870041",8621,50,3,108589396]
[41800,"ОПШТА БОЛНИЦА СТУДЕНИЦА","КРАЉЕВО","840","-","0000000870661","661","-","64","601","92207",2,"95000","17870092",8610,50,3,108718956]
[41800,"РЕПУБЛИЧКИ ФОНД ПИО-ФИЛИЈАЛА- КРАЉЕВО","КРАЉЕВО","840","-","0000000031652","652","-","38","601","00106",4,"95200","17715780",8430,50,0,105356542]
[41800,"НАЦИОНАЛНА СЛУЖБА ЗА ЗАПОШЉАВАЊЕ-ФИЛИЈАЛА КРАЉЕВО","КРАЉЕВО","840","-","0000000001654","654","-","16","601","00105",4,"95400","17539957",7810,50,0,103277483]
[41800,"ГРАД КРАЉЕВО-БУЏЕТ","КРАЉЕВО","840","-","0000000017640","640","-","73","050","05391",0,"05391","07193807",8411,50,0,102675366]
[41800,"МЕСНА ЗАЈЕДНИЦА ХИГИЈЕНСКИ ЗАВОД","КРАЉЕВО","840","-","0000002316645","645","-","49","050","05462",2,"05392","06647464",8411,50,1,101594087]
[41800,"МЕСНА ЗАЈЕДНИЦА II ЧИБУКОВАЧКА ЧЕТА","КРАЉЕВО","840","-","0000002330645","645","-","50","050","05460",2,"05392","06647472",8411,50,1,101594417]
[41800,"ИСТОРИЈСКИ АРХИВ КРАЉЕВО","КРАЉЕВО","840","-","0000000061664","664","-","18","050","05469",2,"05392","07101058",9101,50,1,101256373]
[41800,"ПРЕДШКОЛСКА УСТАНОВА ОЛГА ЈОВИЧИЋ-РИТА","КРАЉЕВО","840","-","0000000002661","661","-","02","050","05465",2,"05392","07101074",8891,50,1,101250091]
[41800,"ДОМ КУЛТУРЕ СТУДЕНИЦА УШЋЕ","КРАЉЕВО","840","-","0000000126664","664","-","85","050","05467",2,"05392","07101082",8559,50,1,101247879]
[41800,"ЗАВОД ЗА ЗАШТИТУ СПОМЕНИКА КУЛТУРЕ КРАЉЕВО","КРАЉЕВО","840","-","0000000069664","664","-","74","050","05468",2,"05392","07101104",9103,50,1,100239951]
[41800,"МЕСНА ЗАЈЕДНИЦА ЧУКОЈЕВАЦ","КРАЉЕВО","840","-","0000000888645","645","-","44","050","05457",2,"05392","07101252",8411,50,1,102669339]
[41800,"МЕСНА ЗАЈЕДНИЦА ГОДАЧИЦА","КРАЉЕВО","840","-","0000001890645","645","-","74","050","05408",2,"05392","07101287",8411,50,1,101594046]
[41800,"МЕСНА ЗАЈЕДНИЦА ГЛЕДИЋ","КРАЉЕВО","840","-","0000000299645","645","-","92","050","05407",2,"05392","07101295",8411,50,1,102119771]
[41800,"МЕСНА ЗАЈЕДНИЦА УШЋЕ","КРАЉЕВО","840","-","0000000644645","645","-","82","050","05454",2,"05392","07101309",8411,50,1,101594564]
[41800,"МЕСНА ЗАЈЕДНИЦА ВРДИЛА","КРАЉЕВО","840","-","0000001755645","645","-","02","050","05406",2,"05392","07101317",8411,50,1,102190970]
[41800,"МЕСНА ЗАЈЕДНИЦА ТЕПЕЧИ","КРАЉЕВО","840","-","0000001438645","645","-","14","050","05451",2,"05392","07101325",8411,50,1,101594394]
[41800,"МЕСНА ЗАЈЕДНИЦА ВРБА","КРАЉЕВО","840","-","0000001705645","645","-","40","050","05405",2,"05392","07101333",8411,50,1,101593864]
[41800,"МЕСНА ЗАЈЕДНИЦА ТАВНИК","КРАЉЕВО","840","-","0000000456645","645","-","27","050","05450",2,"05392","07101341",8411,50,1,101594409]
[41800,"МЕСНА ЗАЈЕДНИЦА ВИТКОВАЦ","КРАЉЕВО","840","-","0000001860645","645","-","58","050","05404",2,"05392","07101350",8411,50,1,101593813]
[41800,"МЕСНА ЗАЈЕДНИЦА ТОЛИШНИЦА","КРАЉЕВО","840","-","0000001649645","645","-","36","050","05452",2,"05392","07101368",8411,50,1,101594302]
[41800,"МЕСНА ЗАЈЕДНИЦА ВИТАНОВАЦ","КРАЉЕВО","840","-","0000001538645","645","-","35","050","05403",2,"05392","07101376",8411,50,1,101593901]
[41800,"МЕСНА ЗАЈЕДНИЦА СТУДЕНИЦА","КРАЉЕВО","840","-","0000000863645","645","-","63","050","05449",2,"05392","07101384",8411,50,1,101071080]
[41800,"МЕСНА ЗАЈЕДНИЦА БОГУТОВАЦ","КРАЉЕВО","840","-","0000001722645","645","-","62","050","05400",2,"05392","07101392",8411,50,1,101593856]
[41800,"МЕСНА ЗАЈЕДНИЦА РИБНИЦА","КРАЉЕВО","840","-","0000000326645","645","-","87","050","05441",2,"05392","07101708",8411,50,1,101594100]
[41800,"МЕСНА ЗАЈЕДНИЦА КОВАЧИ","КРАЉЕВО","840","-","0000001926645","645","-","35","050","05417",2,"05392","07101716",8411,50,1,101071098]
[41800,"МЕСНА ЗАЈЕДНИЦА ЖИЧА","КРАЉЕВО","840","-","0000000565645","645","-","14","050","05419",2,"05392","07101724",8411,50,1,101594062]
[41800,"МЕСНА ЗАЈЕДНИЦА ЛАЗАЦ","КРАЉЕВО","840","-","0000000429645","645","-","32","050","05421",2,"05392","07101732",8411,50,1,101593805]
[41800,"МЕСНА ЗАЈЕДНИЦА МЛАНЧА","КРАЉЕВО","840","-","0000001354645","645","-","08","050","05429",2,"05392","07101759",8411,50,1,101593910]
[41800,"МЕСНА ЗАЈЕДНИЦА ОПЛАНИЋИ","КРАЉЕВО","840","-","0000001830645","645","-","42","050","05433",2,"05392","07101767",8411,50,1,101594360]
[41800,"МЕСНА ЗАЈЕДНИЦА ЛАЂЕВЦИ","КРАЉЕВО","840","-","0000000482645","645","-","15","050","05420",2,"05392","07101775",8411,50,1,101593848]
[41800,"МЕСНА ЗАЈЕДНИЦА АДРАНИ","КРАЉЕВО","840","-","0000002075645","645","-","11","050","05459",2,"05392","07101783",8411,50,1,101593889]
[41800,"МЕСНА ЗАЈЕДНИЦА РУДНО","КРАЉЕВО","840","-","0000000815645","645","-","18","050","05443",2,"05392","07101791",8411,50,1,102119780]
[41800,"МЕСНА ЗАЈЕДНИЦА ТРГОВИШТЕ","КРАЉЕВО","840","-","0000001459645","645","-","64","050","05453",2,"05392","07101805",8411,50,1,101071160]
[41800,"МЕСНА ЗАЈЕДНИЦА ГРДИЦА","КРАЉЕВО","840","-","0000001971645","645","-","59","050","05410",2,"05392","07101813",8411,50,1,101594378]
[41800,"МЕСНА ЗАЈЕДНИЦА БРЕСНИК","КРАЉЕВО","840","-","0000000619645","645","-","04","050","05401",2,"05392","07101821",8411,50,1,101593784]
[41800,"МЕСНА ЗАЈЕДНИЦА ДРАГОСИЊЦИ","КРАЉЕВО","840","-","0000001739645","645","-","84","050","05411",2,"05392","07101830",8411,50,1,101594556]
[41800,"МЕСНА ЗАЈЕДНИЦА ПЕЧЕНОГ","КРАЉЕВО","840","-","0000001997645","645","-","47","050","05435",2,"05392","07101848",8411,50,1,101593821]
[41800,"МЕСНА ЗАЈЕДНИЦА ЧУБУКОВАЦ","КРАЉЕВО","840","-","0000000912645","645","-","18","050","05456",2,"05392","07101856",8411,50,1,101071151]
[41800,"МЕСНА ЗАЈЕДНИЦА БАРЕ","КРАЉЕВО","840","-","0000001686645","645","-","04","050","05398",2,"05392","07101864",8411,50,1,101941076]
[41800,"МЕСНА ЗАЈЕДНИЦА ЈАРЧУКАЈ","КРАЉЕВО","840","-","0000001595645","645","-","46","050","05414",2,"05392","07101872",8411,50,1,101594095]
[41800,"МЕСНА ЗАЈЕДНИЦА МРСАЋ","КРАЉЕВО","840","-","0000000378645","645","-","63","050","05430",2,"05392","07101899",8411,50,1,101594327]
[41800,"МЕСНА ЗАЈЕДНИЦА СТУБАЛ","КРАЉЕВО","840","-","0000001801645","645","-","33","050","05448",2,"05392","07101902",8411,50,1,101614109]
[41800,"МЕСНА ЗАЈЕДНИЦА БУКОВИЦА","КРАЉЕВО","840","-","0000000507645","645","-","93","050","05402",2,"05392","07101929",8411,50,1,101594335]
[41800,"МЕСНА ЗАЈЕДНИЦА ГОКЧАНИЦА","КРАЉЕВО","840","-","0000000671645","645","-","77","050","05409",2,"05392","07101937",8411,50,1,101594572]
[41800,"МЕСНА ЗАЈЕДНИЦА СИРЧА","КРАЉЕВО","840","-","0000001983645","645","-","46","050","05446",2,"05392","07101945",8411,50,1,102029091]
[41800,"МЕСНА ЗАЈЕДНИЦА МАТАРУШКА БАЊА","КРАЉЕВО","840","-","0000001668645","645","-","72","050","05424",2,"05392","07101953",8411,50,1,102119763]
[41800,"МЕСНА ЗАЈЕДНИЦА САМАИЛА","КРАЉЕВО","840","-","0000000404645","645","-","51","050","05445",2,"05392","07101961",8411,50,1,101071194]
[41800,"МЕСНА ЗАЈЕДНИЦА САВОВО","КРАЉЕВО","840","-","0000001082645","645","-","44","050","05444",2,"05392","07101970",8411,50,1,101613954]
[41800,"МЕСНА ЗАЈЕДНИЦА МЕТИКОШИ","КРАЉЕВО","840","-","0000001941645","645","-","43","050","05425",2,"05392","07101988",8411,50,1,102119894]
[41800,"МЕСНА ЗАЈЕДНИЦА РАТИНА","КРАЉЕВО","840","-","0000000273645","645","-","07","050","05440",2,"05392","07101996",8411,50,1,101593897]
[41800,"ДРУГА МЕСНА ЗАЈЕДНИЦА ЦЕНТАР","КРАЉЕВО","840","-","0000000743645","645","-","96","050","05396",2,"05392","07102003",8411,50,1,101594343]
[41800,"МЕСНА ЗАЈЕДНИЦА ЗАКУТА","КРАЉЕВО","840","-","0000000719645","645","-","25","050","05413",2,"05392","07102011",8411,50,1,101594079]
[41800,"МЕСНА ЗАЈЕДНИЦА ЛЕШЕВО","КРАЉЕВО","840","-","0000002060645","645","-","03","050","05422",2,"05392","07102020",8411,50,1,101594386]
[41800,"МЕСНА ЗАЈЕДНИЦА РОЋЕВИЋИ","КРАЉЕВО","840","-","0000000769645","645","-","84","050","05442",2,"05392","07102038",8411,50,1,101071119]
[41800,"МЕСНА ЗАЈЕДНИЦА БАПСКО ПОЉЕ","КРАЉЕВО","840","-","0000001914645","645","-","48","050","05397",2,"05392","07102054",8411,50,1,101594351]
[41800,"МЕСНА ЗАЈЕДНИЦА КОНАРЕВО","КРАЉЕВО","840","-","0000001956645","645","-","51","050","05418",2,"05392","07102062",8411,50,1,101071143]
[41800,"МЕСНА ЗАЈЕДНИЦА ПОЛУМИР","КРАЉЕВО","840","-","0000001375645","645","-","58","050","05436",2,"05392","07102089",8411,50,1,102119878]
[41800,"МЕСНА ЗАЈЕДНИЦА КАМЕНИЦА","КРАЉЕВО","840","-","0000000352645","645","-","75","050","05415",2,"05392","07102119",8411,50,1,101071178]
[41800,"МЕСНА ЗАЈЕДНИЦА ШУМАРИЦЕ","КРАЉЕВО","840","-","0000002012645","645","-","55","050","05458",2,"05392","07102127",8411,50,1,101071127]
[41800,"МЕСНА ЗАЈЕДНИЦА РАВАНИЦА","КРАЉЕВО","840","-","0000000536645","645","-","05","050","05439",2,"05392","07102135",8411,50,1,101071186]
[41800,"ПРВА МЕСНА ЗАЈЕДНИЦА ЗЕЛЕНГОРА","КРАЉЕВО","840","-","0000003958645","645","-","97","050","05463",2,"05392","07102143",8411,50,1,101071102]
[41800,"КРАЉЕВАЧКО ПОЗОРИШТЕ","КРАЉЕВО","840","-","0000000710664","664","-","02","050","05471",2,"05392","07190913",9004,50,1,100244418]
[41800,"НАРОДНИ МУЗЕЈ КРАЉЕВО","КРАЉЕВО","840","-","0000000028664","664","-","78","050","05473",2,"05392","07190921",9102,50,1,100241497]
[41800,"ДОМ КУЛТУРЕ РИБНИЦА РИБНИЦА","КРАЉЕВО","840","-","0000000122664","664","-","57","050","05466",2,"05392","07190948",8559,50,1,100240402]
[41800,"НАРОДНА БИБЛИОТЕКА СТЕФАН ПРВОВЕНЧАНИ","КРАЉЕВО","840","-","0000000032664","664","-","09","050","05472",2,"05392","07191014",9101,50,1,100244434]
[41800,"ДЕЧИЈЕ ОДМАРАЛИШТЕ ГОЧ","КРАЉЕВО","840","-","0000000706661","661","-","80","050","05464",2,"05392","07191278",8891,50,1,100242141]
[41800,"ГРАДСКА УПРАВА ГРАДА КРАЉЕВА","КРАЉЕВО","","-","","","-","","050","05392",1,"05392","07193807",8411,50,0,102675366]
[41800,"БУЏЕТСКИ ФОНД ЗА САОБРАЋАЈ","КРАЉЕВО","","-","","","-","","050","66329",2,"05392","07193807",8411,50,1,102675366]
[41800,"БУЏЕТСКИ ФОНД ЗА ЗАШТИТУ ЖИВОТНЕ СРЕДИНЕ","КРАЉЕВО","","-","","","-","","050","66330",2,"05392","07193807",8411,50,1,102675366]
[41800,"МЕСНА ЗАЈЕДНИЦА СТАРА ЧАРШИЈА","КРАЉЕВО","840","-","0000000792645","645","-","51","050","05461",2,"05392","07195427",8411,50,1,101071217]
[41800,"МЕСНА ЗАЈЕДНИЦА БЕРАНОВАЦ","КРАЉЕВО","840","-","0000002160645","645","-","24","050","05399",2,"05392","07313233",8411,50,1,101593768]
[41800,"МЕСНА ЗАЈЕДНИЦА ПОПОВИЋИ","КРАЉЕВО","840","-","0000002101645","645","-","96","050","05437",2,"05392","07313241",8411,50,1,101593776]
[41800,"МЕСНА ЗАЈЕДНИЦА ПЕТРОПОЉЕ","КРАЉЕВО","840","-","0000002204645","645","-","41","050","05434",2,"05392","07313250",8411,50,1,101594319]
[41800,"МЕСНА ЗАЈЕДНИЦА ЦВЕТКЕ","КРАЉЕВО","840","-","0000002130645","645","-","08","050","05455",2,"05392","07313268",8411,50,1,101594054]
[41800,"МЕСНА ЗАЈЕДНИЦА ОБРВА","КРАЉЕВО","840","-","0000002175645","645","-","32","050","05432",2,"05392","07313276",8411,50,1,101594038]
[41800,"МЕСНА ЗАЈЕДНИЦА СИБНИЦА","КРАЉЕВО","840","-","0000002189645","645","-","33","050","05447",2,"05392","07313284",8411,50,1,101593830]
[41800,"МЕСНА ЗАЈЕДНИЦА КОВАНЛУК","КРАЉЕВО","840","-","0000002086645","645","-","88","050","05416",2,"05392","07313292",8411,50,1,101071135]
[41800,"МЕСНА ЗАЈЕДНИЦА МУСИНА РЕКА","КРАЉЕВО","840","-","0000002145645","645","-","16","050","05431",2,"05392","07313306",8411,50,1,101071209]
[41800,"МЕСНА ЗАЈЕДНИЦА МИЛОЧАЈ","КРАЉЕВО","840","-","0000002116645","645","-","07","050","05428",2,"05392","07313314",8411,50,1,101593872]
[41800,"МЕСНА ЗАЈЕДНИЦА МИЛАКОВАЦ","КРАЉЕВО","840","-","0000002219645","645","-","49","050","05427",2,"05392","07313322",8411,50,1,101593792]
[41800,"МЕСНА ЗАЈЕДНИЦА ПРОГОРЕЛИЦА","КРАЉЕВО","840","-","0000002234645","645","-","57","050","05438",2,"05392","07344783",8411,50,1,102119886]
[41800,"МЕСНА ЗАЈЕДНИЦА ДРАКЧИЋИ","КРАЉЕВО","840","-","0000002249645","645","-","65","050","05412",2,"05392","07346441",8411,50,1,101594589]
[41800,"УСТАНОВА СПОРТСКИ ЦЕНТАР ИБАР","КРАЉЕВО","840","-","0000000844664","664","-","67","050","09503",2,"05392","07870973",9311,50,1,101071645]
[41800,"МЕСНА ЗАЈЕДНИЦА ЛОПАТНИЦА","КРАЉЕВО","840","-","0000002342645","645","-","37","050","05423",2,"05392","17129856",8411,50,1,101594280]
[41800,"МЕСНА ЗАЈЕДНИЦА МИЛАВЧИЋИ","КРАЉЕВО","840","-","0000002354645","645","-","24","050","05426",2,"05392","17129864",8411,50,1,101594298]
[41800,"ЈАВНА УСТАНОВА ТУРИСТИЧКА ОРГАНИЗАЦИЈА КРАЉЕВО","КРАЉЕВО","840","-","0000000621664","664","-","58","050","05470",2,"05392","17182625",8413,50,1,100243440]
[41800,"ФОНДАЦИЈА ПЕТАР БОГАВАЦ - АНЂЕЛКО САВИЋ","КРАЉЕВО","840","-","0000000506644","644","-","89","050","09547",2,"05392","17211609",6499,50,1,101071887]
[41800,"СКУПШТИНА ГРАДА КРАЉЕВА","КРАЉЕВО","","-","","","-","","050","80064",1,"80064","07193807",8411,50,0,102675366]
[41800,"ГРАДСКО ЈАВНО ПРАВОБРАНИЛАШТВО КРАЉЕВО","КРАЉЕВО","","-","","","-","","050","80066",1,"80066","07193807",6910,50,0,102675366]
[41800,"ГРАДСКО ВЕЋЕ ГРАДА КРАЉЕВА","КРАЉЕВО","","-","","","-","","050","96241",1,"96241","07193807",8411,50,0,102675366]
[41800,"ГРАДОНАЧЕЛНИК ГРАДА КРАЉЕВА","КРАЉЕВО","","-","","","-","","050","96242",1,"96242","07193807",8411,50,0,102675366]
[41810,"ЦЕНТАР ЗА СОЦИЈАЛНИ РАД ТРСТЕНИК","ТРСТЕНИК","840","-","0000000167661","661","-","90","601","00229",2,"13400","07155093",8899,103,1,101306649]
[41810,"ОСНОВНА ШКОЛА ЖИВАДИН АПОСТОЛОВИЋ","ТРСТЕНИК","840","-","0000000786660","660","-","61","601","00657",2,"13701","07154496",8520,103,1,101305162]
[41810,"ОСНОВНА ШКОЛА ДОБРИЦА ЋОСИЋ","ТРСТЕНИК","840","-","0000000763660","660","-","94","601","00662",2,"13701","07154852",8520,103,1,101306796]
[41810,"ОСНОВНА ШКОЛА РАДЕ ДОДИЋ МИЛУТОВАЦ","ТРСТЕНИК","840","-","0000000776660","660","-","88","601","00663",2,"13701","07154879",8520,103,1,101306681]
[41810,"ОСНОВНА ШКОЛА ЉУБИВОЈЕ БАЈИЋ МЕДВЕЂА","ТРСТЕНИК","840","-","0000000769660","660","-","39","601","00660",2,"13701","07154887",8520,103,1,101305550]
[41810,"ОСНОВНА ШКОЛА КНЕГИЊА МИЛИЦА ДОЊИ РИБНИК","ТРСТЕНИК","840","-","0000000961660","660","-","25","601","00659",2,"13701","07154895",8520,103,1,101304684]
[41810,"ОСНОВНА ШКОЛА ЈОВАН ЈОВАНОВИЋ-ЗМАЈ СТОПАЊА","ТРСТЕНИК","840","-","0000000797660","660","-","41","601","00658",2,"13701","07154909",8520,103,1,101308747]
[41810,"ОСНОВНА ШКОЛА МИОДРАГ ЧАЈЕТИНАЦ-ЧАЈКА","ТРСТЕНИК","840","-","0000000808660","660","-","21","601","00661",2,"13701","07155018",8520,103,1,101304692]
[41810,"ОСНОВНА ШКОЛА СВЕТИ САВА ПОПИНА","ТРСТЕНИК","840","-","0000001104660","660","-","56","601","00664",2,"13701","07574070",8520,103,1,101304772]
[41810,"ОСНОВНА МУЗИЧКА ШКОЛА КОРНЕЛИЈЕ СТАНКОВИЋ","ТРСТЕНИК","840","-","0000001321660","660","-","23","601","01619",2,"13701","17430092",8520,103,1,101305832]
[41810,"ГИМНАЗИЈА ВУК КАРАЏИЋ","ТРСТЕНИК","840","-","0000001088660","660","-","41","601","01702",2,"13702","07352581",8531,103,1,101308642]
[41810,"ТЕХНИЧКА ШКОЛА ТРСТЕНИК","ТРСТЕНИК","840","-","0000001092660","660","-","69","601","01877",2,"13702","07352590",8532,103,1,101306430]
[41810,"ДОМ УЧЕНИКА СРЕДЊИХ ШКОЛА ТРСТЕНИК","ТРСТЕНИК","840","-","0000000296661","661","-","23","601","02155",2,"13703","07352603",5590,103,1,102326748]
[41810,"ВИСОКА ТЕХНИЧКА МАШИНСКА ШКОЛА СТРУКОВНИХ СТУДИЈА У ТРСТЕНИКУ","ТРСТЕНИК","840","-","0000000818660","660","-","91","601","02193",2,"13704","07155034",8542,103,1,101305752]
[41810,"ОСНОВНИ СУД У ТРСТЕНИКУ","ТРСТЕНИК","","-","","","-","","601","91301",2,"30226","17865650",8423,103,5,108341559]
[41810,"МЕСНА ЗАЈЕДНИЦА ОЏАЦИ","ТРСТЕНИК","840","-","0000001293645","645","-","66","103","07614",2,"07593","07154623",8411,103,1,101305929]
[41810,"ОПШТИНСКА УПРАВА ТРСТЕНИК","ТРСТЕНИК","","-","","","-","","103","07593",1,"07593","07175507",8411,103,0,101306665]
[41810,"МЕСНА ЗАЈЕДНИЦА ВЕЛИКА ДРЕНОВА","ТРСТЕНИК","840","-","0000000031645","645","-","59","103","07600",2,"07593","07177658",8411,103,1,101305912]
[41810,"МЕСНА ЗАЈЕДНИЦА РИЉАЦ","ТРСТЕНИК","840","-","0000001874645","645","-","59","103","07619",2,"07593","07177836",8411,103,1,101305259]
[41810,"МЕСНА ЗАЈЕДНИЦА МЕДВЕЂА","ТРСТЕНИК","840","-","0000000009645","645","-","02","103","07611",2,"07593","07177879",8411,103,1,101305961]
[41810,"МЕСНА ЗАЈЕДНИЦА МИЛУТОВАЦ","ТРСТЕНИК","840","-","0000000056645","645","-","40","103","07613",2,"07593","07177895",8411,103,1,101306083]
[41810,"МЕСНА ЗАЈЕДНИЦА ТРСТЕНИК","ТРСТЕНИК","840","-","0000000840645","645","-","96","103","07622",2,"07593","07177992",8411,103,1,101305701]
[41810,"МЕСНА ЗАЈЕДНИЦА БОЖУРЕВАЦ","ТРСТЕНИК","840","-","0000002378645","645","-","95","103","07598",2,"07593","17291556",8411,103,1,101305314]
[41810,"МЕСНА ЗАЈЕДНИЦА ГОРЊИ РИБНИК","ТРСТЕНИК","840","-","0000002423645","645","-","22","103","07602",2,"07593","17294148",8411,103,1,101305945]
[41810,"МЕСНА ЗАЈЕДНИЦА ДОЊИ РИБНИК","ТРСТЕНИК","840","-","0000002466645","645","-","32","103","07606",2,"07593","17359665",8411,103,1,101305873]
[41810,"МЕСНА ЗАЈЕДНИЦА МАЛА ДРЕНОВА","ТРСТЕНИК","840","-","0000003973645","645","-","08","103","07625",2,"07593","17477552",8411,103,1,102763012]
[41810,"МЕСНА ЗАЈЕДНИЦА ГОРЊА ЦРНИШАВА","ТРСТЕНИК","840","-","0000004130645","645","-","40","103","80272",2,"07593","17717669",8411,103,1,105764524]
[41810,"МЕСНА ЗАЈЕДНИЦА ГОРЊИ ДУБИЧ","ТРСТЕНИК","840","-","0000004202645","645","-","59","103","92164",2,"07593","17864777",8411,103,1,108394883]
[41810,"МЕСНА ЗАЈЕДНИЦА СТРАГАРИ","СТРАГАРИ","840","-","0000004224645","645","-","19","103","65106",2,"07593","17902237",8411,103,1,110098170]
[41810,"МЕСНА ЗАЈЕДНИЦА ОКРУГЛИЦА","ТРСТЕНИК","840","-","0000004231645","645","-","68","103","66094",2,"07593","17909347",8411,103,1,110295877]
[41820,"ЦЕНТАР ЗА СОЦИЈАЛНИ РАД ОПШТИНЕ ВРЊАЧКА БАЊА","ВРЊАЧКА БАЊА","840","-","0000000293661","661","-","02","601","00230",2,"13400","07339275",8899,115,1,102168034]
[41820,"ОСНОВНА ШКОЛА БРАНКО РАДИЧЕВИЋ ВРАНЕШИ","ВРЊАЧКА БАЊА","840","-","0000000737660","660","-","09","601","00666",2,"13701","07176368",8520,115,1,102167664]
[41820,"УНИВЕРЗИТЕТ У КРАГУЈЕВЦУ - ФАКУЛТЕТ ЗА ХОТЕЛИЈЕРСТВО И ТУРИЗАМ У ВРЊАЧКОЈ БАЊИ","ВРЊАЧКА БАЊА","840","-","0000002114660","660","-","45","601","80926",2,"13704","17821148",8542,115,1,107134513]
[41820,"ДОМ ЗДРАВЉА ДР НИКОЛА ЏАМИЋ ВРЊАЧКА БАЊА","ВРЊАЧКА БАЊА","840","-","0000000742661","661","-","41","601","80116",2,"95000","17670581",8621,115,3,104782314]
[41820,"МЕСНА ЗАЈЕДНИЦА СТАНИШИНЦИ","ВРЊАЧКА БАЊА","840","-","0000000975645","645","-","71","115","08094",2,"08083","07176511",8411,115,1,102168163]
[41820,"МЕСНА ЗАЈЕДНИЦА ВРАНЕШИ","ВРЊАЧКА БАЊА","840","-","0000000166645","645","-","34","115","08086",2,"08083","07176708",8411,115,1,101077168]
[41820,"КУЛТУРНИ ЦЕНТАР ВРЊАЧКА БАЊА","ВРЊАЧКА БАЊА","840","-","0000000231664","664","-","44","115","08097",2,"08083","07177453",9102,115,1,100919227]
[41820,"МЕСНА ЗАЈЕДНИЦА ШТУЛАЦ","ВРЊАЧКА БАЊА","840","-","0000002278645","645","-","74","115","08095",2,"08083","07406606",8411,115,1,102428723]
[41820,"МЕСНА ЗАЈЕДНИЦА ВУКУШИЦА","ВРЊАЧКА БАЊА","840","-","0000004154645","645","-","14","115","80956",2,"08083","17824813",8411,115,1,107328532]
[41820,"ПРЕДСЕДНИК ОПШТИНЕ ВРЊАЧКА БАЊА","ВРЊАЧКА БАЊА","","-","","","-","","115","91769",1,"91769","07175981",8411,115,0,100917981]
[41900,"ОКРУЖНИ ЗАТВОР У КРУШЕВЦУ","КРУШЕВАЦ","840","-","0000000618621","621","-","69","601","00018",2,"10311","17621548",8423,52,1,103699506]
[41900,"ДОМ ЗА ДЕЦУ И ОМЛАДИНУ ЈЕФИМИЈА КРУШЕВАЦ","КРУШЕВАЦ","840","-","0000000055661","661","-","82","601","00157",2,"13400","07144458",8790,52,1,100320416]
[41900,"ОСНОВНА ШКОЛА БРАНА ПАВЛОВИЋ КОЊУХ","КРУШЕВАЦ","840","-","0000000685660","660","-","33","601","00669",2,"13701","07102801",8520,52,1,100474419]
[41900,"ОСНОВНА ШКОЛА ЈОВАН ПОПОВИЋ","КРУШЕВАЦ","840","-","0000000245660","660","-","57","601","00679",2,"13701","07102852",8520,52,1,100472132]
[41900,"ОСНОВНА ШКОЛА ДРАГОМИР МАРКОВИЋ","КРУШЕВАЦ","840","-","0000000438660","660","-","50","601","00676",2,"13701","07102887",8520,52,1,100480438]
[41900,"ОСНОВНА ШКОЛА ЖАБАРЕ ЖАБАРЕ","КРУШЕВАЦ","840","-","0000000343660","660","-","64","601","00685",2,"13701","07102917",8520,52,1,100322563]
[41900,"ОСНОВНА ШКОЛА СВЕТИ САВА ЧИТЛУК","КРУШЕВАЦ","840","-","0000001115660","660","-","36","601","00683",2,"13701","07607229",8520,52,1,102039763]
[41900,"ЕКОНОМСКО-ТРГОВИНСКА ШКОЛА КРУШЕВАЦ","КРУШЕВАЦ","840","-","0000001072660","660","-","26","601","01879",2,"13702","07352689",8532,52,1,100480614]
[41900,"ПРВА ТЕХНИЧКА ШКОЛА КРУШЕВАЦ","КРУШЕВАЦ","840","-","0000001089660","660","-","48","601","01880",2,"13702","07354533",8532,52,1,100471507]
[41900,"ДОМ УЧЕНИКА СРЕДЊИХ ШКОЛА ПАНЕ ЂУКИЋ-ЛИМАР КРУШЕВАЦ","КРУШЕВАЦ","840","-","0000000033661","661","-","25","601","02156",2,"13703","07144512",5590,52,1,100316653]
[41900,"ВИШЕ ЈАВНО ТУЖИЛАШТВО У КРУШЕВЦУ","КРУШЕВАЦ","","-","","","-","","601","80552",2,"30228","17773836",8423,52,5,106399115]
[41900,"РАСИНСКИ УПРАВНИ ОКРУГ","КРУШЕВАЦ","","-","","","-","","601","41120",1,"41120","17650661",8411,52,0,104199906]
[41900,"АПОТЕКА КРУШЕВАЦ","КРУШЕВАЦ","840","-","0000000380661","661","-","29","601","02623",2,"95000","06957552",4773,52,3,100229548]
[41900,"ОПШТА БОЛНИЦА КРУШЕВАЦ","КРУШЕВАЦ","840","-","0000000857661","661","-","70","601","90816",2,"95000","17862243",8610,52,3,108313054]
[41900,"ИСТОРИЈСКИ АРХИВ КРУШЕВАЦ","КРУШЕВАЦ","840","-","0000000008664","664","-","35","052","05573",2,"05511","07143966",9101,52,1,100229263]
[41900,"МЕСНА ЗАЈЕДНИЦА ЦЕНТАР","КРУШЕВАЦ","840","-","0000002835645","645","-","93","052","05571",2,"05511","07145268",8411,52,1,101592618]
[41900,"МЕСНА ЗАЈЕДНИЦА БЕЛАСИЦA","КРУШЕВАЦ","840","-","0000001208645","645","-","53","052","05519",2,"05511","07145390",8411,52,1,101593057]
[41900,"МЕСНА ЗАЈЕДНИЦА КАОНИК","КРУШЕВАЦ","840","-","0000000932645","645","-","61","052","05535",2,"05511","07145403",8411,52,1,101592851]
[41900,"МЕСНА ЗАЈЕДНИЦА ГАГЛОВО","КРУШЕВАЦ","840","-","0000000327645","645","-","94","052","05525",2,"05511","07145462",8411,52,1,101592755]
[41900,"МЕСНА ЗАЈЕДНИЦА ПАДЕЖ","КРУШЕВАЦ","840","-","0000001802645","645","-","40","052","05551",2,"05511","07146906",8411,52,1,101592415]
[41900,"МЕСНА ЗАЈЕДНИЦА РИБАРЕ","КРУШЕВАЦ","840","-","0000000672645","645","-","84","052","05552",2,"05511","07147007",8411,52,1,101592722]
[41900,"ГРАД КРУШЕВАЦ -ГРАДСКА УПРАВА","КРУШЕВАЦ","","-","","","-","","052","05511",1,"05511","07194005",8411,52,0,100477835]
[41900,"БУЏЕТСКИ ФОНД ЗА ПОДСТИЦАЊЕ РАЗВОЈА МЛАДИХ ТАЛЕНАТА ГРАДА КРУШЕВЦА","КРУШЕВАЦ","","-","","","-","","052","96448",2,"05511","07194005",8413,52,1,100477835]
[41900,"МЕСНА ЗАЈЕДНИЦА ПРВА МЕСНА ЗАЈЕДНИЦА","КРУШЕВАЦ","840","-","0000000032645","645","-","66","052","05564",2,"05511","07194269",8411,52,1,102331113]
[41900,"МЕСНА ЗАЈЕДНИЦА ПЕПЕЉЕВАЦ","КРУШЕВАЦ","840","-","0000000010645","645","-","09","052","05550",2,"05511","07206542",8411,52,1,101593008]
[41900,"МЕСНА ЗАЈЕДНИЦА ТЕКИЈЕ","КРУШЕВАЦ","840","-","0000000138645","645","-","32","052","05554",2,"05511","07206666",8411,52,1,101592763]
[41900,"МЕСНА ЗАЈЕДНИЦА ЛАЗАРИЦА","КРУШЕВАЦ","840","-","0000001998645","645","-","54","052","05566",2,"05511","07260059",8411,52,1,101592659]
[41900,"МЕСНА ЗАЈЕДНИЦА ВЕСЕЛИН НИКОЛИЋ","КРУШЕВАЦ","840","-","0000002061645","645","-","10","052","05561",2,"05511","07263562",8411,52,1,101593627]
[41900,"МЕСНА ЗАЈЕДНИЦА МАЈДЕВО","КРУШЕВАЦ","840","-","0000001816645","645","-","41","052","05542",2,"05511","07267827",8411,52,1,102065709]
[41900,"МЕСНА ЗАЈЕДНИЦА ДЕДИНА","КРУШЕВАЦ","840","-","0000000720645","645","-","32","052","05530",2,"05511","07275897",8411,52,1,102065188]
[41900,"МЕСНА ЗАЈЕДНИЦА БОВАН","КРУШЕВАЦ","840","-","0000001083645","645","-","51","052","05520",2,"05511","07326769",8411,52,1,102119941]
[41900,"МЕСНА ЗАЈЕДНИЦА УЈЕДИЊЕЊЕ НАЦИЈЕ","КРУШЕВАЦ","840","-","0000002844645","645","-","59","052","05569",2,"05511","07654715",8411,52,1,101592950]
[41900,"МЕСНА ЗАЈЕДНИЦА ЛАЗАРЕВАЦ","КРУШЕВАЦ","840","-","0000002990645","645","-","14","052","05541",2,"05511","17049658",8411,52,1,101593400]
[41900,"МЕСНА ЗАЈЕДНИЦА ДЕСПОТ СТЕФАН ЛАЗАРЕВИЋ","КРУШЕВАЦ","840","-","0000000057645","645","-","47","052","05565",2,"05511","17110624",8411,52,1,101592878]
[41900,"ГРАД КРУШЕВАЦ - ГРАДОНАЧЕЛНИК","КРУШЕВАЦ","","-","","","-","","052","10005",1,"10005","07194005",8411,52,0,100477835]
[41900,"ГРАДСКА УПРАВА-ЗАШТИТНИК ГРАЂАНА","КРУШЕВАЦ","","-","","","-","","052","64484",1,"64484","07194005",8411,52,0,100477835]
[41901,"ЦЕНТАР ЗА СОЦИЈАЛНИ РАД ЗА ОПШТИНЕ ВАРВАРИН И ЋИЋЕВАЦ","ЋИЋЕВАЦ","840","-","0000000359661","661","-","76","601","00232",2,"13400","07413335",8899,32,1,101509947]
[41901,"ДОМ ЗДРАВЉА ЋИЋЕВАЦ","ЋИЋЕВАЦ","840","-","0000000735661","661","-","89","601","80100",2,"95000","17669915",8621,32,3,104772542]
[41901,"МЕСНА ЗАЈЕДНИЦА ПОЈАТЕ","ЋИЋЕВАЦ","840","-","0000000998645","645","-","38","032","04755",2,"04746","07217668",8411,32,1,101919735]
[41901,"МЕСНА ЗАЈЕДНИЦА ПЛОЧНИК","ЋИЋЕВАЦ","840","-","0000001040645","645","-","41","032","04754",2,"04746","07305869",8411,32,1,101919698]
[41901,"МЕСНА ЗАЈЕДНИЦА ТРУБАРЕВО","ЋИЋЕВАЦ","840","-","0000001927645","645","-","42","032","04757",2,"04746","07326815",8411,32,1,101510410]
[41901,"МЕСНА ЗАЈЕДНИЦА МОЈСИЊЕ","ЋИЋЕВАЦ","840","-","0000002774645","645","-","54","032","04752",2,"04746","07328249",8411,32,1,104062453]
[41901,"ОПШТИНСКО ВЕЋЕ ЋИЋЕВАЦ","ЋИЋЕВАЦ","","-","","","-","","032","91720",1,"91720","07174977",8411,32,0,101919671]
[41910,"ОСНОВНА ШКОЛА АЦА АЛЕКСИЋ","АЛЕКСАНДРОВАЦ","840","-","0000000486660","660","-","95","601","00689",2,"13701","07100060",8520,1,1,100386684]
[41910,"СРЕДЊА ШКОЛА СВЕТИ ТРИФУН АЛЕКСАНДРОВАЦ","АЛЕКСАНДРОВАЦ","840","-","0000000697660","660","-","20","601","01884",2,"13702","07154178",8532,1,1,100387363]
[41910,"ДОМ КУЛТУРЕ МИЛОСАВ БУЦА МИРКОВИЋ","АЛЕКСАНДРОВАЦ","840","-","0000000205664","664","-","56","001","03855",2,"03796","07100159",8559,1,1,102176490]
[41910,"МЕСНА ЗАЈЕДНИЦА ГОРЊЕ ЗЛЕГИЊЕ","АЛЕКСАНДРОВАЦ","840","-","0000002507645","645","-","28","001","03826",2,"03796","07100361",8411,1,1,100366804]
[41910,"МЕСНА ЗАЈЕДНИЦА ГРЧАК","АЛЕКСАНДРОВАЦ","840","-","0000002161645","645","-","31","001","03817",2,"03796","07100400",8411,1,1,100366812]
[41910,"МЕСНА ЗАЈЕДНИЦА ЈЕЛАКЦИ","АЛЕКСАНДРОВАЦ","840","-","0000002467645","645","-","39","001","03827",2,"03796","07100442",8411,1,1,101486219]
[41910,"МЕСНА ЗАЈЕДНИЦА ДОЊИ СТУПАЊ","АЛЕКСАНДРОВАЦ","840","-","0000002076645","645","-","18","001","03824",2,"03796","07100469",8411,1,1,100365635]
[41910,"МЕСНА ЗАЈЕДНИЦА ЛАТКОВАЦ","АЛЕКСАНДРОВАЦ","840","-","0000002343645","645","-","44","001","03830",2,"03796","07100507",8411,1,1,100365944]
[41910,"МЕСНА ЗАЈЕДНИЦА МРМОШ","АЛЕКСАНДРОВАЦ","840","-","0000002176645","645","-","39","001","03834",2,"03796","07100558",8411,1,1,100365426]
[41910,"МЕСНА ЗАЈЕДНИЦА ПАЊЕВАЦ","АЛЕКСАНДРОВАЦ","840","-","0000002535645","645","-","30","001","03836",2,"03796","07100574",8411,1,1,100367372]
[41910,"МЕСНА ЗАЈЕДНИЦА РАКЉА","АЛЕКСАНДРОВАЦ","840","-","0000002455645","645","-","52","001","03841",2,"03796","07100612",8411,1,1,100365910]
[41910,"МЕСНА ЗАЈЕДНИЦА РОКЦИ","АЛЕКСАНДРОВАЦ","840","-","0000002379645","645","-","05","001","03843",2,"03796","07100671",8411,1,1,100367364]
[41910,"МЕСНА ЗАЈЕДНИЦА СУБОТИЦА","АЛЕКСАНДРОВАЦ","840","-","0000002331645","645","-","57","001","03848",2,"03796","07100710",8411,1,1,100365563]
[41910,"МЕСНА ЗАЈЕДНИЦА ТРЖАЦ","АЛЕКСАНДРОВАЦ","840","-","0000002250645","645","-","72","001","03849",2,"03796","07100752",8411,1,1,100365571]
[41910,"МЕСНА ЗАЈЕДНИЦА БЗЕНИЦЕ","АЛЕКСАНДРОВАЦ","840","-","0000002587645","645","-","06","001","03802",2,"03796","07100779",8411,1,1,100367410]
[41910,"МЕСНА ЗАЈЕДНИЦА ВРБНИЦА","АЛЕКСАНДРОВАЦ","840","-","0000002190645","645","-","40","001","03806",2,"03796","07100825",8411,1,1,100365993]
[41910,"МЕСНА ЗАЈЕДНИЦА БОБОТЕ","АЛЕКСАНДРОВАЦ","840","-","0000002546645","645","-","10","001","03803",2,"03796","07217285",8411,1,1,100365514]
[41910,"ПРЕДШКОЛСКА УСТАНОВА НАША РАДОСТ","АЛЕКСАНДРОВАЦ","840","-","0000000264661","661","-","90","001","03854",2,"03796","07284454",8891,1,1,100364177]
[41910,"ЗАВИЧАЈНИ МУЗЕЈ ЖУПЕ","АЛЕКСАНДРОВАЦ","840","-","0000000286664","664","-","41","001","03856",2,"03796","07947259",9102,1,1,101486243]
[41910,"ТУРИСТИЧКА ОРГАНИЗАЦИЈА АЛЕКСАНДРОВАЦ","АЛЕКСАНДРОВАЦ","840","-","0000001037664","664","-","60","001","80890",2,"03796","17814273",8230,1,1,106928280]
[41910,"ОПШТИНА АЛЕКСАНДРОВАЦ - ПРАВОБРАНИЛАШТВО ОПШТИНЕ АЛЕКСАНДРОВАЦ","АЛЕКСАНДРОВАЦ","","-","","","-","","001","98935",1,"98935","07194838",6910,1,0,100369374]
[41920,"ОСНОВНА ШКОЛА МИРКО ТОМИЋ ОБРЕЖ","ВАРВАРИН","840","-","0000000227660","660","-","28","601","00693",2,"13701","07176724",8520,108,1,101144406]
[41920,"ОПШТИНА ВАРВАРИН- БУЏЕТ","ВАРВАРИН","840","-","0000000098640","640","-","58","108","07778",0,"07778","07193114",8411,108,0,101146858]
[41920,"ОПШТИНСКА УПРАВА ВАРВАРИН","ВАРВАРИН","","-","","","-","","108","07779",1,"07779","07193114",8411,108,0,101146858]
[41920,"МЕСНА ЗАЈЕДНИЦА БОШЊАНЕ","ВАРВАРИН","840","-","0000000405645","645","-","58","108","07784",2,"07779","07237294",8411,108,1,101144676]
[41920,"МЕСНА ЗАЈЕДНИЦА ЗАЛОГОВАЦ","ВАРВАРИН","840","-","0000001104645","645","-","04","108","07790",2,"07779","07276389",8411,108,1,101144756]
[41920,"МЕСНА ЗАЈЕДНИЦА ТОЉЕВАЦ","ВАРВАРИН","840","-","0000001499645","645","-","53","108","07801",2,"07779","07293780",8411,108,1,101144789]
[41920,"МЕСНА ЗАЈЕДНИЦА ИЗБЕНИЦА","ВАРВАРИН","840","-","0000001398645","645","-","25","108","07791",2,"07779","07305745",8411,108,1,101144810]
[41920,"МЕСНА ЗАЈЕДНИЦА ПАРЦАНЕ","ВАРВАРИН","840","-","0000002721645","645","-","71","108","07798",2,"07779","07314639",8411,108,1,101144764]
[41920,"МЕСНА ЗАЈЕДНИЦА ПАЈКОВАЦ","ВАРВАРИН","840","-","0000004133645","645","-","61","108","80353",2,"07779","07326386",8411,108,1,102360310]
[41920,"ОПШТИНСКО ВЕЋЕ","ВАРВАРИН","","-","","","-","","108","65576",1,"65576","07193114",8411,108,0,101146858]
[41920,"ОПШТИНСКО ПРАВОБРАНИЛАШТВО ОПШТИНЕ ВАРВАРИН","ВАРВАРИН","","-","","","-","","108","97964",1,"97964","07193114",6910,108,0,101146858]
[41930,"ОСНОВНА ШКОЛА БРАНКО РАДИЧЕВИЋ РАЗБОЈНА","БРУС","840","-","0000000543660","660","-","09","601","00696",2,"13701","07099703",8520,29,1,101140685]
[41930,"ДОМ ЗДРАВЉА БРУС","БРУС","840","-","0000000419661","661","-","11","601","02431",2,"95000","17254197",8621,29,3,101138818]
[41930,"МЕСНА ЗАЈЕДНИЦА СУДИМЉА","БРУС","840","-","0000002983645","645","-","62","029","04681",2,"04646","06980031",8411,29,1,101142679]
[41930,"МЕСНА ЗАЈЕДНИЦА МАЛА ВРБНИЦА","БРУС","840","-","0000002924645","645","-","37","029","04673",2,"04646","06980066",8411,29,1,101141688]
[41930,"МЕСНА ЗАЈЕДНИЦА БРЂАНИ","БРУС","840","-","0000002853645","645","-","25","029","04653",2,"04646","06980139",8411,29,1,101141629]
[41930,"МЕСНА ЗАЈЕДНИЦА ДОЊИ ЛИПОВАЦ","БРУС","840","-","0000002967645","645","-","47","029","04660",2,"04646","06980171",8411,29,1,101142783]
[41930,"МЕСНА ЗАЈЕДНИЦА ТРШАНОВЦИ","БРУС","840","-","0000004123645","645","-","88","029","80225",2,"04646","06980201",8411,29,1,105385078]
[41930,"МЕСНА ЗАЈЕДНИЦА ДРЕНОВА","БРУС","840","-","0000002890645","645","-","90","029","04661",2,"04646","06980716",8411,29,1,101142496]
[41930,"МЕСНА ЗАЈЕДНИЦА БОТУЊА","БРУС","840","-","0000003843645","645","-","68","029","04652",2,"04646","07099843",8411,29,1,101141516]
[41930,"МЕСНА ЗАЈЕДНИЦА МИЛЕНТИЈА","БРУС","840","-","0000001669645","645","-","79","029","04674",2,"04646","07099916",8411,29,1,101141723]
[41930,"МЕСНА ЗАЈЕДНИЦА ИГРОШ","БРУС","840","-","0000001650645","645","-","43","029","04668",2,"04646","07099932",8411,29,1,101142515]
[41930,"МЕСНА ЗАЈЕДНИЦА ЂЕРЕКАРЕ","БРУС","840","-","0000000696645","645","-","58","029","04682",2,"04646","07195001",8411,29,1,101141707]
[41930,"МЕСНА ЗАЈЕДНИЦА БРУС 1","БРУС","840","-","0000001614645","645","-","82","029","04655",2,"04646","07274866",8411,29,1,101141493]
[41930,"ЦЕНТАР ЗА КУЛТУРУ БРУС","БРУС","840","-","0000001085664","664","-","08","029","91078",2,"04646","17862812",9001,29,1,108330870]
[41930,"МЕСНА ЗАЈЕДНИЦА БРУС 3","БРУС","840","-","0000004187645","645","-","51","029","91882",2,"04646","17862871",8411,29,1,108409329]
[41930,"МЕСНА ЗАЈЕДНИЦА ЛИВАЂЕ","БРУС","840","-","0000004185645","645","-","37","029","91883",2,"04646","17862898",8411,29,1,108415259]
[41930,"ОПШТИНА БРУС - ПРЕДСЕДНИК ОПШТИНЕ","БРУС","","-","","","-","","029","60988",1,"60988","07195133",8411,29,0,101139819]
[42100,"УСТАНОВА ЗА ОДРАСЛЕ И СТАРИЈЕ ЛЕСКОВАЦ","ЛЕСКОВАЦ","840","-","0000000074661","661","-","21","601","00185",2,"13400","07139853",8730,58,1,100412250]
[42100,"ОСНОВНА ШКОЛА ВАСА ПЕЛАГИЋ","ЛЕСКОВАЦ","840","-","0000000411660","660","-","55","601","00704",2,"13701","07137516",8520,58,1,100525274]
[42100,"ОСНОВНА ШКОЛА ПЕТАР ТАСИЋ","ЛЕСКОВАЦ","840","-","0000000420660","660","-","21","601","00716",2,"13701","07137559",8520,58,1,101907717]
[42100,"ОСНОВНА ШКОЛА БОРА СТАНКОВИЋ ВУЧЈЕ","ЛЕСКОВАЦ","840","-","0000000487660","660","-","05","601","00701",2,"13701","07137605",8520,58,1,100327932]
[42100,"ОСНОВНА ШКОЛА ЈОСИФ ПАНЧИЋ ОРАШАЦ","ЛЕСКОВАЦ","840","-","0000000496660","660","-","68","601","00711",2,"13701","07137648",8520,58,1,100412444]
[42100,"ОСНОВНА ШКОЛА БОРА СТАНКОВИЋ ГУБЕРЕВАЦ","ЛЕСКОВАЦ","840","-","0000000549660","660","-","51","601","00702",2,"13701","07137699",8520,58,1,100543532]
[42100,"ОСНОВНА ШКОЛА АЦА СИНАДИНОВИЋ ПРЕДАЈАНЕ","ЛЕСКОВАЦ","840","-","0000000536660","660","-","57","601","00699",2,"13701","07137729",8520,58,1,102134788]
[42100,"ОСНОВНА ШКОЛА ВУК КАРАЏИЋ ВЕЛИКА ГРАБОВНИЦА","ЛЕСКОВАЦ","840","-","0000000556660","660","-","03","601","00708",2,"13701","07180705",8520,58,1,101906714]
[42100,"ХЕМИЈСКО-ТЕХНОЛОШКА ШКОЛА БОЖИДАР ЂОРЂЕВИЋ-КУКАР","ЛЕСКОВАЦ","840","-","0000000564660","660","-","59","601","01895",2,"13702","07137753",8532,58,1,100542601]
[42100,"ПОЉОПРИВРЕДНА ШКОЛА ЛЕСКОВАЦ","ЛЕСКОВАЦ","840","-","0000000060660","660","-","23","601","01892",2,"13702","07137788",8532,58,1,100326237]
[42100,"ЕКОНОМСКА ШКОЛА ЂУКА ДИНИЋ ЛЕСКОВАЦ","ЛЕСКОВАЦ","840","-","0000001224660","660","-","23","601","01889",2,"13702","07207328",8532,58,1,101889123]
[42100,"ВИСОКА ТЕХНОЛОШКО УМЕТНИЧКА СТРУКОВНА ШКОЛА","ЛЕСКОВАЦ","840","-","0000000001660","660","-","95","601","02195",2,"13704","07137761",8542,58,1,100326905]
[42100,"ОСНОВНИ СУД У ЛЕСКОВЦУ","ЛЕСКОВАЦ","","-","","","-","","601","80473",2,"30226","17773186",8423,58,5,106399199]
[42100,"ПРИВРЕДНИ СУД У ЛЕСКОВЦУ","ЛЕСКОВАЦ","","-","","","-","","601","80499",2,"30227","17773399",8423,58,5,106399174]
[42100,"ЈАБЛАНИЧКИ УПРАВНИ ОКРУГ","ЛЕСКОВАЦ","","-","","","-","","601","41124",1,"41124","17650416",8411,58,0,104163881]
[42100,"АПОТЕКА ЛЕСКОВАЦ","ЛЕСКОВАЦ","840","-","0000000483661","661","-","71","601","02624",2,"95000","17215701",4773,58,3,100410848]
[42100,"ГРАДСКА УПРАВА ЗА ФИНАНСИЈЕ","ЛЕСКОВАЦ","","-","","","-","","058","05767",1,"05767","06856535",8411,58,0,100545518]
[42100,"ПРЕДШКОЛСКА УСТАНОВА ВУКИЦА МИТРОВИЋ","ЛЕСКОВАЦ","840","-","0000000093661","661","-","57","058","05904",2,"05767","07137397",8891,58,1,102174736]
[42100,"МЕСНА ЗАЈЕДНИЦА ДРВОДЕЉА","ЛЕСКОВАЦ","840","-","0000004167645","645","-","08","058","85052",2,"05767","17500813",8411,58,1,104084722]
[42100,"ГРАДСКО ПРАВОБРАНИЛАШТВО ГРАДА ЛЕСКОВАЦ","ЛЕСКОВАЦ","840","-","0000000035641","641","-","02","058","05768",1,"05768","07137877",6910,58,2,100330258]
[42100,"ГРАД ЛЕСКОВАЦ - ГРАДСКА УПРАВА","ЛЕСКОВАЦ","","-","","","-","","058","66061",1,"66061","06856535",8411,58,0,100545518]
[42100,"ДОМ КУЛТУРЕ   ГРДЕЛИЦА","ЛЕСКОВАЦ","840","-","0000000412664","664","-","50","058","05908",2,"70189","06874614",8559,58,1,100326680]
[42100,"НАРОДНИ МУЗЕЈ ЛЕСКОВАЦ","ЛЕСКОВАЦ","840","-","0000000012664","664","-","63","058","05913",2,"70189","07139497",9102,58,1,100332047]
[42100,"ЛЕСКОВАЧКИ КУЛТУРНИ ЦЕНТАР","ЛЕСКОВАЦ","840","-","0000000390664","664","-","90","058","05905",2,"70189","07139543",8559,58,1,102174728]
[42100,"МЕСНА ЗАЈЕДНИЦА ДОЊЕ КРАЈИНЦЕ","ЛЕСКОВАЦ","840","-","0000001061645","645","-","91","058","05816",2,"70194","07138547",8411,58,1,100581538]
[42100,"МЕСНА ЗАЈЕДНИЦА ДОЊА ЛОКОШНИЦА","ЛЕСКОВАЦ","840","-","0000000380645","645","-","77","058","05814",2,"70194","07138563",8411,58,1,100328306]
[42100,"МЕСНА ЗАЈЕДНИЦА ГРАДАШНИЦА","ЛЕСКОВАЦ","840","-","0000001188645","645","-","10","058","05805",2,"70194","07138598",8411,58,1,102353562]
[42100,"МЕСНА ЗАЈЕДНИЦА ГОРЊА ЛОКОШНИЦА","ЛЕСКОВАЦ","840","-","0000003917645","645","-","04","058","05799",2,"70194","07139292",8411,58,1,100328283]
[42100,"МЕСНА ЗАЈЕДНИЦА ВЕЛИКА КОПАШНИЦА","ЛЕСКОВАЦ","840","-","0000000914645","645","-","32","058","05789",2,"70194","07139349",8411,58,1,100333540]
[42100,"МЕСНА ЗАЈЕДНИЦА БАБИЧКО","ЛЕСКОВАЦ","840","-","0000001209645","645","-","60","058","05772",2,"70194","07139357",8411,58,1,100328267]
[42100,"МЕСНА ЗАЈЕДНИЦА БАДИНЦЕ","ЛЕСКОВАЦ","840","-","0000003913645","645","-","73","058","05773",2,"70194","07139390",8411,58,1,100581466]
[42100,"МЕСНА ЗАЈЕДНИЦА БУНУШКИ ЧИФЛУК","ЛЕСКОВАЦ","840","-","0000000794645","645","-","65","058","05786",2,"70194","07139420",8411,58,1,100329139]
[42100,"МЕСНА ЗАЈЕДНИЦА МРШТАНЕ","ЛЕСКОВАЦ","840","-","0000003268645","645","-","20","058","05846",2,"70194","07180900",8411,58,1,102983146]
[42100,"МЕСНА ЗАЈЕДНИЦА ОРАОВИЦА","ЛЕСКОВАЦ","840","-","0000000509645","645","-","10","058","05851",2,"70194","07180926",8411,58,1,100333847]
[42100,"МЕСНА ЗАЈЕДНИЦА ПЕТРОВАЦ","ЛЕСКОВАЦ","840","-","0000001105645","645","-","11","058","05855",2,"70194","07180969",8411,58,1,100581257]
[42100,"МЕСНА ЗАЈЕДНИЦА СТРОЈКОВЦЕ","ЛЕСКОВАЦ","840","-","0000000890645","645","-","58","058","05871",2,"70194","07181027",8411,58,1,100329155]
[42100,"МЕСНА ЗАЈЕДНИЦА ШИШИНЦЕ","ЛЕСКОВАЦ","840","-","0000001252645","645","-","70","058","05884",2,"70194","07181060",8411,58,1,100332975]
[42100,"МЕСНА ЗАЈЕДНИЦА ВЕЛИКА ГРАБОВНИЦА","ЛЕСКОВАЦ","840","-","0000000673645","645","-","91","058","05788",2,"70194","07181078",8411,58,1,100333515]
[42100,"МЕСНА ЗАЈЕДНИЦА ВУЧЈЕ","ЛЕСКОВАЦ","840","-","0000000011645","645","-","16","058","05794",2,"70194","07181116",8411,58,1,100329114]
[42100,"МЕСНА ЗАЈЕДНИЦА ТУРЕКОВАЦ","ЛЕСКОВАЦ","840","-","0000000275645","645","-","21","058","05877",2,"70194","07181159",8411,58,1,100328777]
[42100,"МЕСНА ЗАЈЕДНИЦА ВЕТЕРНИЦА","ЛЕСКОВАЦ","840","-","0000003281645","645","-","14","058","05890",2,"70194","07197462",8411,58,1,100546633]
[42100,"МЕСНА ЗАЈЕДНИЦА МОРАВА","ЛЕСКОВАЦ","840","-","0000000431645","645","-","46","058","05838",2,"70194","07197497",8411,58,1,102236084]
[42100,"МЕСНА ЗАЈЕДНИЦА ЦЕНТАР","ЛЕСКОВАЦ","840","-","0000003278645","645","-","90","058","05901",2,"70194","07197535",8411,58,1,100328945]
[42100,"МЕСНА ЗАЈЕДНИЦА ГОРЊИ БУНИБРОД","ЛЕСКОВАЦ","840","-","0000003405645","645","-","09","058","05804",2,"70194","07197586",8411,58,1,101764853]
[42100,"МЕСНА ЗАЈЕДНИЦА ЦРКОВНИЦА","ЛЕСКОВАЦ","840","-","0000001273645","645","-","23","058","05878",2,"70194","07214235",8411,58,1,100581110]
[42100,"МЕСНА ЗАЈЕДНИЦА ГОЛЕМА ЊИВА","ЛЕСКОВАЦ","840","-","0000003934645","645","-","26","058","05795",2,"70194","07214243",8411,58,1,100581144]
[42100,"МЕСНА ЗАЈЕДНИЦА ЈЕЛАШНИЦА","ЛЕСКОВАЦ","840","-","0000000458645","645","-","41","058","05832",2,"70194","07214286",8411,58,1,100581089]
[42100,"МЕСНА ЗАЈЕДНИЦА КОСТА СТАМЕНКОВИЋ","ЛЕСКОВАЦ","840","-","0000003408645","645","-","30","058","05893",2,"70194","07242433",8411,58,1,102354024]
[42100,"МЕСНА ЗАЈЕДНИЦА ЗАЛУЖЊЕ","ЛЕСКОВАЦ","840","-","0000003416645","645","-","86","058","05827",2,"70194","07259760",8411,58,1,101765022]
[42100,"МЕСНА ЗАЈЕДНИЦА КУКУЛОВЦЕ","ЛЕСКОВАЦ","840","-","0000003914645","645","-","80","058","05835",2,"70194","07282141",8411,58,1,100329026]
[42100,"МЕСНА ЗАЈЕДНИЦА БРЕЈАНОВЦЕ","ЛЕСКОВАЦ","840","-","0000003448645","645","-","19","058","05781",2,"70194","07283652",8411,58,1,100580826]
[42100,"МЕСНА ЗАЈЕДНИЦА НАКРИВАЊ","ЛЕСКОВАЦ","840","-","0000000977645","645","-","85","058","05848",2,"70194","07287984",8411,58,1,101764804]
[42100,"МЕСНА ЗАЈЕДНИЦА ОРАОВИЦА ЦРКОВНИЧКА","ЛЕСКОВАЦ","840","-","0000004062645","645","-","49","058","10070",2,"70194","07295782",8411,58,1,100581097]
[42100,"МЕСНА ЗАЈЕДНИЦА АНЧИКИ","ЛЕСКОВАЦ","840","-","0000003482645","645","-","63","058","05888",2,"70194","07302207",8411,58,1,100413349]
[42100,"МЕСНА ЗАЈЕДНИЦА ВЛАСЕ","ЛЕСКОВАЦ","840","-","0000003925645","645","-","60","058","05898",2,"70194","07308175",8411,58,1,100581290]
[42100,"МЕСНА ЗАЈЕДНИЦА ГОРЊА БУНУША","ЛЕСКОВАЦ","840","-","0000003956645","645","-","83","058","05797",2,"70194","07311109",8411,58,1,100546551]
[42100,"МЕСНА ЗАЈЕДНИЦА ДЕДИНА БАРА","ЛЕСКОВАЦ","840","-","0000003919645","645","-","18","058","05886",2,"70194","07325452",8411,58,1,102353423]
[42100,"МЕСНА ЗАЈЕДНИЦА ГРДЕЛИЦА СЕЛО","ЛЕСКОВАЦ","840","-","0000003534645","645","-","39","058","05887",2,"70194","07325487",8411,58,1,102353415]
[42100,"МЕСНА ЗАЈЕДНИЦА БУКОВА ГЛАВА","ЛЕСКОВАЦ","840","-","0000003957645","645","-","90","058","05785",2,"70194","07328346",8411,58,1,101764829]
[42100,"МЕСНА ЗАЈЕДНИЦА ДОЊА КУПИНОВИЦА","ЛЕСКОВАЦ","840","-","0000003928645","645","-","81","058","05902",2,"70194","07344287",8411,58,1,102353579]
[42100,"МЕСНА ЗАЈЕДНИЦА ГРАОВО","ЛЕСКОВАЦ","840","-","0000003565645","645","-","62","058","05807",2,"70194","07391552",8411,58,1,100581193]
[42100,"МЕСНА ЗАЈЕДНИЦА СУШЕВЉЕ","ЛЕСКОВАЦ","840","-","0000003923645","645","-","46","058","05873",2,"70194","07391579",8411,58,1,100581185]
[42100,"МЕСНА ЗАЈЕДНИЦА РАДЕ ЖУНИЋ","ЛЕСКОВАЦ","840","-","0000003576645","645","-","42","058","05897",2,"70194","17313550",8411,58,1,100581048]
[42101,"ОСНОВНА ШКОЛА РАДОЈЕ ДОМАНОВИЋ БОШЊАЦЕ","ЛЕБАНЕ","840","-","0000000803660","660","-","83","601","00723",2,"13701","07186550",8520,57,1,100711531]
[42101,"ГИМНАЗИЈА ЛЕБАНЕ","ЛЕБАНЕ","840","-","0000001324660","660","-","44","601","01707",2,"13702","07355114",8531,57,1,100529036]
[42101,"ОСНОВНИ СУД У ЛЕБАНУ","ЛЕБАНЕ","","-","","","-","","601","91288",2,"30226","17865544",8423,57,5,108341583]
[42101,"МЕСНА ЗАЈЕДНИЦА ШАРЦЕ","ЛЕБАНЕ","840","-","0000004206645","645","-","87","057","92503",2,"05726","17834398",8411,57,1,108364425]
[42101,"ПРЕДШКОЛСКА УСТАНОВА ДЕЧЈА РАДОСТ","ЛЕБАНЕ","840","-","0000000393661","661","-","23","057","05761",2,"70380","07186746",8891,57,1,100529181]
[42101,"МЕСНА ЗАЈЕДНИЦА БУВЦЕ","ЛЕБАНЕ","840","-","0000001688645","645","-","18","057","05733",2,"70381","07226799",8411,57,1,103053318]
[42101,"МЕСНА ЗАЈЕДНИЦА ПЕРТАТЕ","ЛЕБАНЕ","840","-","0000001723645","645","-","69","057","05751",2,"70381","07226837",8411,57,1,102931908]
[42101,"МЕСНА ЗАЈЕДНИЦА ПОПОВЦЕ","ЛЕБАНЕ","840","-","0000001597645","645","-","60","057","05752",2,"70381","07226870",8411,57,1,102931893]
[42101,"МЕСНА ЗАЈЕДНИЦА ПРЕКОПЧЕЛИЦА","ЛЕБАНЕ","840","-","0000001540645","645","-","49","057","05753",2,"70381","07226926",8411,57,1,102930639]
[42101,"МЕСНА ЗАЈЕДНИЦА ЛАЛИНОВАЦ","ЛЕБАНЕ","840","-","0000003422645","645","-","31","057","05745",2,"70381","07260822",8411,57,1,102930622]
[42101,"МЕСНА ЗАЈЕДНИЦА ДОЊЕ ВРАНОВЦЕ","ЛЕБАНЕ","840","-","0000004046645","645","-","34","057","09893",2,"70381","07260857",8411,57,1,103054007]
[42101,"МЕСНА ЗАЈЕДНИЦА ТОГОЧЕВЦЕ","ЛЕБАНЕ","840","-","0000003480645","645","-","49","057","05756",2,"70381","07295677",8411,57,1,102893093]
[42101,"МЕСНА ЗАЈЕДНИЦА ЛИПОВИЦА","ЛЕБАНЕ","840","-","0000003518645","645","-","24","057","05747",2,"70381","07307098",8411,57,1,102931885]
[42101,"МЕСНА ЗАЈЕДНИЦА БАЧЕВИНА","ЛЕБАНЕ","840","-","0000004064645","645","-","63","057","09956",2,"70381","07316780",8411,57,1,104012841]
[42101,"МЕСНА ЗАЈЕДНИЦА СЕКИЦОЛ","ЛЕБАНЕ","840","-","0000004032645","645","-","33","057","09839",2,"70381","07351461",8411,57,1,102956270]
[42101,"МЕСНА ЗАЈЕДНИЦА РАДИНОВАЦ","ЛЕБАНЕ","840","-","0000004069645","645","-","98","057","09957",2,"70381","17622196",8411,57,1,104413035]
[42102,"ОСНОВНА ШКОЛА 8. ОКТОБАР","ВЛАСОТИНЦЕ","840","-","0000001003660","660","-","28","601","00725",2,"13701","07104847",8520,113,1,101607554]
[42102,"ОСНОВНА ШКОЛА ДОСИТЕЈ ОБРАДОВИЋ СВОЂЕ","ВЛАСОТИНЦЕ","840","-","0000000936660","660","-","44","601","00729",2,"13701","07104871",8520,113,1,101937306]
[42102,"ОСНОВНА ШКОЛА БОЖИДАР МИЉКОВИЋ ГОРЊИ ПРИСЈАН","ВЛАСОТИНЦЕ","840","-","0000000996660","660","-","76","601","00727",2,"13701","07104898",8520,113,1,102491699]
[42102,"ТЕХНИЧКА ШКОЛА ВЛАСОТИНЦЕ","ВЛАСОТИНЦЕ","840","-","0000001314660","660","-","71","601","01898",2,"13702","07351712",8532,113,1,101937023]
[42102,"МЕСНА ЗАЈЕДНИЦА РОСУЉА","ВЛАСОТИНЦЕ","840","-","0000001928645","645","-","49","113","08018",2,"07972","07103468",8411,113,1,102678472]
[42102,"МЕСНА ЗАЈЕДНИЦА БАТУЛОВЦЕ","ВЛАСОТИНЦЕ","840","-","0000002046645","645","-","02","113","07976",2,"07972","07103484",8411,113,1,102678341]
[42102,"МЕСНА ЗАЈЕДНИЦА БРЕЗОВИЦА","ВЛАСОТИНЦЕ","840","-","0000002292645","645","-","75","113","07979",2,"07972","07103514",8411,113,1,102410080]
[42102,"МЕСНА ЗАЈЕДНИЦА ГОРЊИ ДЕЈАН","ВЛАСОТИНЦЕ","840","-","0000002014645","645","-","69","113","07983",2,"07972","07103565",8411,113,1,102678448]
[42102,"МЕСНА ЗАЈЕДНИЦА ДАДИНЦЕ","ВЛАСОТИНЦЕ","840","-","0000002251645","645","-","79","113","07987",2,"07972","07103611",8411,113,1,102678384]
[42102,"МЕСНА ЗАЈЕДНИЦА ДОЊА ЛОПУШНА","ВЛАСОТИНЦЕ","840","-","0000001916645","645","-","62","113","07990",2,"07972","07103646",8411,113,1,102409998]
[42102,"МЕСНА ЗАЈЕДНИЦА ДОЊИ ДЕЈАН","ВЛАСОТИНЦЕ","840","-","0000002380645","645","-","12","113","07992",2,"07972","07103662",8411,113,1,102678430]
[42102,"МЕСНА ЗАЈЕДНИЦА КОНОПНИЦА","ВЛАСОТИНЦЕ","840","-","0000001972645","645","-","66","113","07998",2,"07972","07103743",8411,113,1,102409980]
[42102,"МЕСНА ЗАЈЕДНИЦА ОРАШЈЕ","ВЛАСОТИНЦЕ","840","-","0000001985645","645","-","60","113","08004",2,"07972","07103778",8411,113,1,102409971]
[42102,"МЕСНА ЗАЈЕДНИЦА ПРИЛЕПАЦ","ВЛАСОТИНЦЕ","840","-","0000003384645","645","-","56","113","08006",2,"07972","07103794",8411,113,1,102678421]
[42102,"МЕСНА ЗАЈЕДНИЦА СКРАПЕЖ","ВЛАСОТИНЦЕ","840","-","0000002103645","645","-","13","113","08011",2,"07972","07103824",8411,113,1,102410135]
[42102,"МЕСНА ЗАЈЕДНИЦА ЦРНАТОВО","ВЛАСОТИНЦЕ","840","-","0000002280645","645","-","88","113","08016",2,"07972","07103875",8411,113,1,102410143]
[42102,"ФОНД ЗА ЗАШТИТУ ЖИВОТНЕ СРЕДИНЕ","ВЛАСОТИНЦЕ","","-","","","-","","113","80428",2,"07972","07179596",8411,113,1,101936713]
[42102,"МЕСНА ЗАЈЕДНИЦА РАЈИЋЕВО","ВЛАСОТИНЦЕ","840","-","0000003560645","645","-","27","113","08009",2,"07972","07390912",8411,113,1,102678413]
[42102,"МЕСНА ЗАЈЕДНИЦА ЦЕНТАР","ВЛАСОТИНЦЕ","840","-","0000003566645","645","-","69","113","08023",2,"07972","17026160",8411,113,1,102678489]
[42102,"МЕСНА ЗАЈЕДНИЦА СТРАЊЕВО","ВЛАСОТИНЦЕ","840","-","0000003885645","645","-","71","113","08014",2,"07972","17265717",8411,113,1,102678501]
[42102,"СПОРТСКО РЕКРЕАТИВНИ ЦЕНТАР ВЛАСИНА","ВЛАСОТИНЦЕ","840","-","0000000971664","664","-","83","113","80301",2,"07972","17718398",9311,113,1,105773759]
[42102,"ДРУШТВО ЗА ТЕЛЕСНО ВАСПИТАЊЕ И РЕКРЕАЦИЈУ ПАРТИЗАН","ВЛАСОТИНЦЕ","840","-","0000000818664","664","-","79","113","08027",2,"70168","07216351",9319,113,1,100924778]
[42102,"ОПШТИНА ВЛАСОТИНЦЕ - ОПШТИНСКО ВЕЋЕ ВЛАСОТИНЦЕ","ВЛАСОТИНЦЕ","","-","","","-","","113","96408",1,"96408","07179588",8411,113,0,101608258]
[42102,"ТУРИСТИЧКА ОРГАНИЗАЦИЈА ОПШТИНЕ ЦРНА ТРАВА","ЦРНА ТРАВА","840","-","0000001123664","664","-","80","031","91768",2,"04726","17866311",5590,31,1,108457074]
[42102,"МЕСНА ЗАЈЕДНИЦА ДОБРО ПОЉЕ","ЦРНА ТРАВА","840","-","0000002147645","645","-","30","031","04733",2,"70178","07247583",8411,31,1,102707260]
[42102,"МЕСНА ЗАЈЕДНИЦА ДАРКОВЦЕ","ЦРНА ТРАВА","840","-","0000002132645","645","-","22","031","04732",2,"70178","07248741",8411,31,1,102620733]
[42102,"МЕСНА ЗАЈЕДНИЦА ГРАДСКА","ЦРНА ТРАВА","840","-","0000002177645","645","-","46","031","04731",2,"70178","07248768",8411,31,1,102707333]
[42102,"МЕСНА ЗАЈЕДНИЦА КАЛНА","ЦРНА ТРАВА","840","-","0000002191645","645","-","47","031","04736",2,"70178","07325436",8411,31,1,102707368]
[42103,"ОСНОВНА ШКОЛА СТАНИМИР ВЕЉКОВИЋ ЗЕЛЕ","БОЈНИК","840","-","0000000814660","660","-","63","601","00734",2,"13701","07103913",8520,25,1,100978278]
[42103,"СРЕДЊА ТЕХНИЧКА ШКОЛА БОШКО КРСТИЋ","БОЈНИК","840","-","0000001284660","660","-","55","601","01900",2,"13702","07283342",8532,25,1,100371310]
[42103,"ОПШТИНСКА УПРАВА БОЈНИК","БОЈНИК","","-","","","-","","025","04492",1,"04492","07179120",8411,25,0,100371818]
[42103,"УСТАНОВА СПОРТСКА ХАЛА БОЈНИК","БОЈНИК","840","-","0000001224664","664","-","11","025","63897",2,"04492","17902474",9311,25,1,110011608]
[42103,"МЕСНА ЗАЈЕДНИЦА ОРАНЕ","БОЈНИК","840","-","0000003902645","645","-","93","025","04524",2,"70311","07103000",8411,25,1,100371818]
[42103,"МЕСНА ЗАЈЕДНИЦА ЂИНЂУША","БОЈНИК","840","-","0000003283645","645","-","28","025","04509",2,"70311","07103034",8411,25,1,103082161]
[42103,"МЕСНА ЗАЈЕДНИЦА ПРИДВОРИЦА","БОЈНИК","840","-","0000003291645","645","-","84","025","04526",2,"70311","07103069",8411,25,1,103608011]
[42103,"МЕСНА ЗАЈЕДНИЦА САВИНАЦ","БОЈНИК","840","-","0000003904645","645","-","10","025","04528",2,"70311","07103123",8411,25,1,103620325]
[42103,"МЕСНА ЗАЈЕДНИЦА ВУЈАНОВО","БОЈНИК","840","-","0000003323645","645","-","17","025","04499",2,"70311","07103158",8411,25,1,105787699]
[42103,"МЕСНА ЗАЈЕДНИЦА ЛАПОТИНЦЕ","БОЈНИК","840","-","0000003328645","645","-","52","025","04516",2,"70311","07103174",8411,25,1,103849129]
[42103,"МЕСНА ЗАЈЕДНИЦА СТУБЛА","БОЈНИК","840","-","0000003334645","645","-","94","025","04530",2,"70311","07103212",8411,25,1,103636519]
[42103,"МЕСНА ЗАЈЕДНИЦА ГОРЊЕ БРИЈАЊЕ","БОЈНИК","840","-","0000003346645","645","-","81","025","04500",2,"70311","07103271",8411,25,1,103608038]
[42103,"МЕСНА ЗАЈЕДНИЦА МАЈКОВАЦ","БОЈНИК","840","-","0000003355645","645","-","47","025","04519",2,"70311","07103310",8411,25,1,103617055]
[42103,"МЕСНА ЗАЈЕДНИЦА ЋУКОВАЦ","БОЈНИК","840","-","0000003347645","645","-","88","025","04510",2,"70311","07179219",8411,25,1,103641695]
[42103,"НАРОДНА БИБЛИОТЕКА ВУК КАРАЏИЋ","БОЈНИК","840","-","0000000423664","664","-","30","025","04535",2,"70313","17039253",9101,25,1,100107580]
[42104,"ОСНОВНА ШКОЛА СИЈАРИНСКА БАЊА","МЕДВЕЂА","840","-","0000000847660","660","-","03","601","00741",2,"13701","07205082",8520,67,1,101465210]
[42104,"СРЕДЊА ТЕХНИЧКА ШКОЛА НИКОЛА ТЕСЛА","МЕДВЕЂА","840","-","0000000167660","660","-","93","601","01901",2,"13702","07138458",8532,67,1,101464565]
[42104,"ДОМ ЗДРАВЉА МЕДВЕЂА","МЕДВЕЂА","840","-","0000000768661","661","-","29","601","80172",2,"95000","17682547",8621,67,3,104969497]
[42104,"МЕСНА ЗАЈЕДНИЦА СИЈАРИНСКА БАЊА","МЕДВЕЂА","840","-","0000003349645","645","-","05","067","06181",2,"06154","07180195",8411,67,1,101465507]
[42104,"МЕСНА ЗАЈЕДНИЦА ТУПАЛЕ","МЕДВЕЂА","840","-","0000003243645","645","-","39","067","06187",2,"06154","07180241",8411,67,1,101465540]
[42104,"МЕСНА ЗАЈЕДНИЦА БОРОВАЦ","МЕДВЕЂА","840","-","0000003366645","645","-","27","067","06158",2,"06154","07181230",8411,67,1,101465574]
[42104,"МЕСНА ЗАЈЕДНИЦА ГАЗДАРЕ","МЕДВЕЂА","840","-","0000001817645","645","-","48","067","06162",2,"06154","07181264",8411,67,1,101948475]
[42104,"МЕСНА ЗАЈЕДНИЦА ГУБАВЦЕ","МЕДВЕЂА","840","-","0000003390645","645","-","98","067","06165",2,"06154","07181299",8411,67,1,103014823]
[42104,"МЕСНА ЗАЈЕДНИЦА ЛЕЦЕ","МЕДВЕЂА","840","-","0000003374645","645","-","83","067","06169",2,"06154","07181361",8411,67,1,102129678]
[42104,"МЕСНА ЗАЈЕДНИЦА МЕДВЕЂА","МЕДВЕЂА","840","-","0000001399645","645","-","32","067","06156",2,"06154","07181396",8411,67,1,101948434]
[42104,"МЕСНА ЗАЈЕДНИЦА МРКОЊЕ","МЕДВЕЂА","840","-","0000003380645","645","-","28","067","06173",2,"06154","07181418",8411,67,1,102129651]
[42104,"МЕСНА ЗАЈЕДНИЦА ПУСТО ШИЛОВО","МЕДВЕЂА","840","-","0000001770645","645","-","10","067","06176",2,"06154","07181442",8411,67,1,101465404]
[42104,"МЕСНА ЗАЈЕДНИЦА СИЈАРИНА","МЕДВЕЂА","840","-","0000003364645","645","-","13","067","06182",2,"06154","07181507",8411,67,1,101465582]
[42104,"КУЛТУРНИ ЦЕНАР ОПШТИНЕ МЕДВЕЂА","МЕДВЕЂА","840","-","0000001227664","664","-","32","067","64486",2,"06154","17907166",9004,67,1,110115115]
[42104,"ОПШТИНА МЕДВЕЂА - ОПШТИНСКО ПРАВОБРАНИЛАШТВО МЕДВЕЂА","МЕДВЕЂА","","-","","","-","","067","96332",1,"96332","07178476",6910,67,0,102842930]
[42200,"ЦЕНТАР ЗА СОЦИЈАЛНИ РАД ЛОЗНИЦА","ЛОЗНИЦА","840","-","0000000052661","661","-","61","601","00239",2,"13400","07122632",8899,59,1,102275644]
[42200,"ОСНОВНА ШКОЛА СВЕТИ САВА ЛИПНИЧКИ ШОР","ЛОЗНИЦА","840","-","0000000168660","660","-","03","601","00754",2,"13701","07120397",8520,59,1,101192077]
[42200,"ОСНОВНА ШКОЛА 14. ОКТОБАР ДРАГИНАЦ","ЛОЗНИЦА","840","-","0000000213660","660","-","27","601","00742",2,"13701","07121016",8520,59,1,101189682]
[42200,"ОСНОВНА ШКОЛА ВУК КАРАЏИЋ ЛИПНИЦА","ЛОЗНИЦА","840","-","0000000020660","660","-","34","601","00746",2,"13701","07121261",8520,59,1,101192500]
[42200,"ОСНОВНА ШКОЛА СТЕПА СТЕПАНОВИЋ ТЕКЕРИШ","ЛОЗНИЦА","840","-","0000000677660","660","-","74","601","00755",2,"13701","07251645",8520,59,1,101192085]
[42200,"ГИМНАЗИЈА ВУК КАРАЏИЋ","ЛОЗНИЦА","840","-","0000000015660","660","-","96","601","01709",2,"13702","07171447",8531,59,1,101561959]
[42200,"ОСНОВНО ЈАВНО ТУЖИЛАШТВО У ЛОЗНИЦИ","ЛОЗНИЦА","","-","","","-","","601","80524",2,"30229","17773569",8423,59,5,106399238]
[42200,"ДОМ ЗДРАВЉА МИЛЕНКО МАРИН ЛОЗНИЦА","ЛОЗНИЦА","840","-","0000000826661","661","-","47","601","80909",2,"95000","17816357",8621,59,3,106990035]
[42200,"ОПШТА БОЛНИЦА ЛОЗНИЦА","ЛОЗНИЦА","840","-","0000000841661","661","-","55","601","80951",2,"95000","17824465",8610,59,3,107330306]
[42200,"ГРАДСКО ПРАВОБРАНИЛАШТВО ГРАДА ЛОЗНИЦА","ЛОЗНИЦА","","-","","","-","","059","65735",1,"65735","07169981",8411,59,0,101196408]
[42200,"ЦЕНТАР ЗА КУЛТУРУ ВУК КАРАЏИЋ ЛОЗНИЦА","ЛОЗНИЦА","840","-","0000000264664","664","-","81","059","05985",2,"70403","17225634",9102,59,1,101190313]
[42200,"МЕСНА ЗАЈЕДНИЦА ФИЛИПОВИЋИ","ЛОЗНИЦА","840","-","0000002192645","645","-","54","059","05979",2,"70409","06988172",8411,59,1,101563794]
[42200,"МЕСНА ЗАЈЕДНИЦА ГОРЊА БАДАЊА","ЛОЗНИЦА","840","-","0000000329645","645","-","11","059","05933",2,"70409","07117035",8411,59,1,101563868]
[42200,"МЕСНА ЗАЈЕДНИЦА БРАДИЋ","ЛОЗНИЦА","840","-","0000000621645","645","-","18","059","05927",2,"70409","07117094",8411,59,1,101563542]
[42200,"МЕСНА ЗАЈЕДНИЦА ГОРЊИ ДОБРИЋ","ЛОЗНИЦА","840","-","0000000595645","645","-","30","059","05936",2,"70409","07117132",8411,59,1,101563719]
[42200,"МЕСНА ЗАЈЕДНИЦА  ЛЕШНИЦА","ЛОЗНИЦА","840","-","0000000059645","645","-","61","059","05930",2,"70409","07117191",8411,59,1,102146441]
[42200,"МЕСНА ЗАЈЕДНИЦА ВЕЛИКО СЕЛО","ЛОЗНИЦА","840","-","0000000115645","645","-","65","059","05931",2,"70409","07117205",8411,59,1,102146433]
[42200,"МЕСНА ЗАЈЕДНИЦА ТРБОСИЉЕ","ЛОЗНИЦА","840","-","0000001708645","645","-","61","059","05961",2,"70409","07117256",8411,59,1,101563479]
[42200,"МЕСНА ЗАЈЕДНИЦА ЧОКЕШИНА","ЛОЗНИЦА","840","-","0000001274645","645","-","30","059","05965",2,"70409","07117299",8411,59,1,102146409]
[42200,"МЕСНА ЗАЈЕДНИЦА РИБАРИЦЕ","ЛОЗНИЦА","840","-","0000001378645","645","-","79","059","05956",2,"70409","07117370",8411,59,1,102146417]
[42200,"МЕСНА ЗАЈЕДНИЦА ДОЊЕ НЕДЕЉИЦЕ","ЛОЗНИЦА","840","-","0000000697645","645","-","65","059","05939",2,"70409","07117396",8411,59,1,101563518]
[42200,"МЕСНА ЗАЈЕДНИЦА КОЗЈАК","ЛОЗНИЦА","840","-","0000000459645","645","-","48","059","05948",2,"70409","07117426",8411,59,1,101563948]
[42200,"МЕСНА ЗАЈЕДНИЦА ДОЊА БАДАЊА","ЛОЗНИЦА","840","-","0000000169645","645","-","55","059","05938",2,"70409","07117485",8411,59,1,101563850]
[42200,"МЕСНА ЗАЈЕДНИЦА ЦЕНТАР","ЛОЗНИЦА","840","-","0000002047645","645","-","09","059","05980",2,"70409","07261233",8411,59,1,101563671]
[42200,"МЕСНА ЗАЈЕДНИЦА ПЛОЧА   ПЛОЧА","ЛОЗНИЦА","840","-","0000002118645","645","-","21","059","05974",2,"70409","07326114",8411,59,1,101563639]
[42200,"МЕСНА ЗАЈЕДНИЦА СТЕПА СТЕПАНОВИЋ ЛОЗНИЧКО ПОЉЕ","ЛОЗНИЦА","840","-","0000002148645","645","-","37","059","05977",2,"70409","07337086",8411,59,1,101563606]
[42200,"МЕСНА ЗАЈЕДНИЦА КРАЈИШНИЦИ","ЛОЗНИЦА","840","-","0000000539645","645","-","26","059","05950",2,"70409","17213784",8411,59,1,101563495]
[42200,"ГРАДОНАЧЕЛНИК ГРАДА ЛОЗНИЦЕ","ЛОЗНИЦА","","-","","","-","","059","92345",1,"92345","07169981",8411,59,0,101196408]
[42201,"ЦЕНТАР ЗА СОЦИЈАЛНИ РАД МАЛИ ЗВОРНИК","МАЛИ ЗВОРНИК","840","-","0000000184661","661","-","15","601","00240",2,"13400","07378084",8899,65,1,101361609]
[42201,"ОСНОВНА ШКОЛА НИКОЛА ТЕСЛА ВЕЛИКА РЕКА","МАЛИ ЗВОРНИК","840","-","0000001046660","660","-","38","601","00759",2,"13701","17042157",8520,65,1,101362648]
[42201,"ДОМ ЗДРАВЉА МАЛИ ЗВОРНИК","МАЛИ ЗВОРНИК","840","-","0000000814661","661","-","60","601","80871",2,"95000","17813820",8621,65,3,106867296]
[42201,"ПРЕДШКОЛСКА УСТАНОВА ЦРВЕНКАПА","МАЛИ ЗВОРНИК","840","-","0000000145661","661","-","33","065","06123",2,"70136","07312016",8891,65,1,101361730]
[42201,"МЕСНА ЗАЈЕДНИЦА ДОЊЕ НАСЕЉЕ","МАЛИ ЗВОРНИК","840","-","0000001616645","645","-","96","065","06121",2,"70139","07118490",8411,65,1,101364272]
[42201,"МЕСНА ЗАЈЕДНИЦА ВЕЛИКА РЕКА","МАЛИ ЗВОРНИК","840","-","0000001148645","645","-","21","065","06115",2,"70139","07118511",8411,65,1,101364310]
[42201,"МЕСНА ЗАЈЕДНИЦА БУДИШИЋ","МАЛИ ЗВОРНИК","840","-","0000001598645","645","-","67","065","06114",2,"70139","07118562",8411,65,1,101364344]
[42201,"ПРЕДСЕДНИК ОПШТИНЕ МАЛИ ЗВОРНИК","МАЛИ ЗВОРНИК","","-","","","-","","065","92310",1,"92310","07170874",8411,65,0,102143310]
[42210,"ЦЕНТАР ЗА СОЦИЈАЛНИ РАД ЉУБОВИЈА","ЉУБОВИЈА","840","-","0000000120661","661","-","52","601","00241",2,"13400","07209177",8899,62,1,102426784]
[42210,"ДОМ ЗДРАВЉА ЉУБОВИЈА СА СТАЦИОНАРОМ","ЉУБОВИЈА","840","-","0000000314661","661","-","52","601","02435",2,"95000","17255908",8621,62,3,101302277]
[42210,"МЕСНА ЗАЈЕДНИЦА ДРЛАЧЕ","ЉУБОВИЈА","840","-","0000004024645","645","-","74","062","09679",2,"70153","07117493",8411,62,1,103597772]
[42210,"МЕСНА ЗАЈЕДНИЦА ЦАПАРИЋ","ЉУБОВИЈА","840","-","0000004118645","645","-","53","062","09982",2,"70153","07117540",8411,62,1,104890872]
[42210,"МЕСНА ЗАЈЕДНИЦА СЕЛАНАЦ","ЉУБОВИЈА","840","-","0000004080645","645","-","78","062","09978",2,"70153","07117574",8411,62,1,104570765]
[42210,"МЕСНА ЗАЈЕДНИЦА ГОРЊА ТРЕШЊИЦА","ЉУБОВИЈА","","-","","","-","","062","09972",2,"70153","07117604",8411,62,1,103598451]
[42210,"МЕСНА ЗАЈЕДНИЦА САВКОВИЋ","ЉУБОВИЈА","","-","","","-","","062","09979",2,"70153","07117647",8411,62,1,108019769]
[42210,"МЕСНА ЗАЈЕДНИЦА ПОСТЕЊЕ","ЉУБОВИЈА","840","-","0000004169645","645","-","22","062","86368",2,"70153","07285167",8411,62,1,108010034]
[42210,"МЕСНА ЗАЈЕДНИЦА ПОДГАЈ","ЉУБОВИЈА","840","-","0000004188645","645","-","58","062","09984",2,"70153","17669125",8411,62,1,108027226]
[42210,"ТУРИСТИЧКА ОРГАНИЗАЦИЈА ОПШТИНЕ ЉУБОВИЈА","ЉУБОВИЈА","840","-","0000001137664","664","-","81","062","80175",2,"70844","17669591",8413,62,1,104922095]
[42210,"ПРАВОБРАНИЛАШТВО ОПШТИНЕ ЉУБОВИЈА","ЉУБОВИЈА","","-","","","-","","062","94948",1,"94948","07170513",6910,62,0,101302050]
[42220,"ДОМ ЗДРАВЉА КРУПАЊ","КРУПАЊ","840","-","0000000831661","661","-","82","601","80924",2,"95000","17816292",8621,51,3,106983642]
[42220,"ОПШТИНСКО ПРАВОБРАНИЛАШТВО КРУПАЊ","КРУПАЊ","","-","","","-","","051","05477",1,"05477","07170262",6910,51,0,102678938]
[42220,"БИБЛИОТЕКА ПОЛИТИКА","КРУПАЊ","840","-","0000000070664","664","-","81","051","05507",2,"70120","07223358",9101,51,1,101395502]
[42220,"МЕСНА ЗАЈЕДНИЦА БОГОШТИЦА","КРУПАЊ","840","-","0000001420645","645","-","82","051","05484",2,"70124","07118813",8411,51,1,101947048]
[42220,"МЕСНА ЗАЈЕДНИЦА БРШТИЦА","КРУПАЊ","840","-","0000000818645","645","-","39","051","05485",2,"70124","07118899",8411,51,1,101947089]
[42220,"МЕСНА ЗАЈЕДНИЦА ЛИПЕНОВИЋ","КРУПАЊ","840","-","0000000934645","645","-","75","051","05496",2,"70124","07118929",8411,51,1,101947193]
[42220,"МЕСНА ЗАЈЕДНИЦА КРАСАВА","КРУПАЊ","840","-","0000001461645","645","-","78","051","05492",2,"70124","07118953",8411,51,1,101947144]
[42220,"МЕСНА ЗАЈЕДНИЦА ЦЕРОВА","КРУПАЊ","840","-","0000000674645","645","-","98","051","05504",2,"70124","07119011",8411,51,1,101947169]
[42220,"МЕСНА ЗАЈЕДНИЦА ГОРЊЕ БРЕЗОВИЦЕ","КРУПАЊ","840","-","0000001210645","645","-","67","051","05487",2,"70124","17189271",8411,51,1,101947030]
[42220,"СКУПШТИНА ОПШТИНЕ КРУПАЊ","КРУПАЊ","","-","","","-","","051","91894",1,"91894","07170262",8411,51,0,102678938]
[42220,"ОПШТИНСКО ВЕЋЕ КРУПАЊ","КРУПАЊ","","-","","","-","","051","91896",1,"91896","07170262",8411,51,0,102678938]
[42500,"МФ - ПОРЕСКА УПРАВА - РЕГИОНАЛНИ ЦЕНТАР НИШ","НИШ","840","-","0000000733621","621","-","98","601","03214",4,"10522","17862146",8411,128,0,100020943]
[42500,"ЦЕНТАР ЗА СОЦИЈАЛНИ РАД ДОЉЕВАЦ","ДОЉЕВАЦ","840","-","0000000585661","661","-","09","601","00244",2,"13400","07336373",8899,38,1,100491632]
[42500,"ЦЕНТАР ЗА СОЦИЈАЛНИ РАД ГАЏИН ХАН","ГАЏИН ХАН","840","-","0000000660661","661","-","49","601","00245",2,"13400","07396805",8899,39,1,100707283]
[42500,"ОСНОВНА ШКОЛА ВИТКО И СВЕТА","ГАЏИН ХАН","840","-","0000001706660","660","-","02","601","00770",2,"13701","07171625",8520,39,1,100707402]
[42500,"ОСНОВНА ШКОЛА ДОСИТЕЈ ОБРАДОВИЋ","НИШ","840","-","0000001687660","660","-","63","601","00776",2,"13701","07174373",8520,128,1,100619259]
[42500,"ОСНОВНА ШКОЛА ИВО АНДРИЋ","НИШ","840","-","0000001756660","660","-","61","601","00780",2,"13701","07174411",8520,126,1,100619200]
[42500,"ОСНОВНА ШКОЛА КРАЉ ПЕТАР ПРВИ","НИШ","840","-","0000001666660","660","-","13","601","00784",2,"13701","07174446",8520,127,1,100619525]
[42500,"ОСНОВНА ШКОЛА РАТКО ВУКИЋЕВИЋ","НИШ","840","-","0000001658660","660","-","54","601","00789",2,"13701","07174462",8520,128,1,100502210]
[42500,"ОСНОВНА ШКОЛА БРАНКО РАДИЧЕВИЋ ГАБРОВАЦ","НИШ","840","-","0000001668660","660","-","27","601","00768",2,"13701","07174519",8520,127,1,101525415]
[42500,"ОСНОВНА ШКОЛА ВОЈИСЛАВ ИЛИЋ МЛАЂИ ХУМ","НИШ","840","-","0000001672660","660","-","55","601","00772",2,"13701","07174578",8520,126,1,100334085]
[42500,"ОСНОВНА ШКОЛА МИЛАН РАКИЋ МЕДОШЕВАЦ","НИШ","840","-","0000001708660","660","-","16","601","00765",2,"13701","07174594",8520,126,1,100621555]
[42500,"ОСНОВНА ШКОЛА ЛЕЛА ПОПОВИЋ МИЉКОВАЦ","НИШ","840","-","0000001678660","660","-","97","601","00785",2,"13701","07210752",8520,126,1,101860573]
[42500,"ОСНОВНА ШКОЛА ЈАСТРЕБАЧКИ ПАРТИЗАНИ","МЕРОШИНА","840","-","0000000962660","660","-","32","601","00781",2,"13701","07301782",8520,68,1,100758754]
[42500,"ОСНОВНА ШКОЛА ЈОВАН ЈОВАНОВИЋ-ЗМАЈ МАЛЧА","НИШ","840","-","0000002063660","660","-","76","601","09575",2,"13701","17550055",8520,125,1,103284290]
[42500,"УМЕТНИЧКА ШКОЛА НИШ","НИШ","840","-","0000001651660","660","-","05","601","01921",2,"13702","07174632",8532,128,1,101524221]
[42500,"ГИМНАЗИЈА БОРА СТАНКОВИЋ","НИШ","840","-","0000001723660","660","-","24","601","01712",2,"13702","07174667",8531,128,1,101858198]
[42500,"ПРВА ТЕХНИЧКА ШКОЛА МИЛУТИН МИЛАНКОВИЋ НИШ","НИШ","840","-","0000001763660","660","-","13","601","01912",2,"13702","07214600",8532,126,1,100338859]
[42500,"ТЕХНИЧКА ШКОЛА 12. ФЕБРУАР НИШ","НИШ","840","-","0000001761660","660","-","96","601","01918",2,"13702","07226012",8532,126,1,100338842]
[42500,"ЕЛЕКТРОТЕХНИЧКА ШКОЛА НИКОЛА ТЕСЛА","НИШ","840","-","0000001768660","660","-","48","601","01911",2,"13702","07274360",8532,126,1,101859168]
[42500,"ШКОЛА МОДЕ И ЛЕПОТЕ НИШ","НИШ","840","-","0000001772660","660","-","76","601","01917",2,"13702","07288484",8532,128,1,101532504]
[42500,"ЕКОНОМСКИ ФАКУЛТЕТ У НИШУ","НИШ","840","-","0000001683660","660","-","35","601","02282",2,"13704","07174705",8542,128,1,100667088]
[42500,"УНИВЕРЗИТЕТ У НИШУ","НИШ","840","-","0000001707660","660","-","09","601","02315",2,"13704","07185286",8542,126,1,100335096]
[42500,"ВИСОКА ТЕХНИЧКА ШКОЛА СТРУКОВНИХ СТУДИЈА У НИШУ","НИШ","840","-","0000001758660","660","-","75","601","02196",2,"13704","07223323",8542,126,1,100502041]
[42500,"УНИВЕРЗИТЕТСКА БИБЛИОТЕКА НИКОЛА ТЕСЛА","НИШ","840","-","0000000553664","664","-","67","601","03696",2,"13704","07253753",9101,126,1,100232058]
[42500,"УНИВЕРЗИТЕТ У НИШУ - ФАКУЛТЕТ УМЕТНОСТИ У НИШУ","НИШ","840","-","0000002017660","660","-","45","601","02302",2,"13704","17443852",8542,128,1,101756652]
[42500,"ПРИВРЕДНИ СУД У НИШУ","НИШ","","-","","","-","","601","80500",2,"30227","17773402",8423,128,5,106399342]
[42500,"ОСНОВНО ЈАВНО ТУЖИЛАШТВО У НИШУ","НИШ","","-","","","-","","601","80526",2,"30229","17773585",8423,128,5,106399367]
[42500,"НИШАВСКИ УПРАВНИ ОКРУГ","НИШ","","-","","","-","","601","41121",1,"41121","17649396",8411,128,0,104211722]
[42500,"ДОМ ЗДРАВЉА НИШ","НИШ","840","-","0000000586661","661","-","16","601","02437",2,"95000","07173318",8621,128,3,100334358]
[42500,"ИНСТИТУТ ЗА ЈАВНО ЗДРАВЉЕ НИШ","НИШ","840","-","0000000605661","661","-","52","601","02379",2,"95000","07199520",8690,128,3,100668630]
[42500,"ДОМ ЗДРАВЉА ГАЏИН ХАН","ГАЏИН ХАН","840","-","0000000581661","661","-","78","601","02436",2,"95000","07203845",8621,39,3,100990085]
[42500,"АПОТЕКА НИШ","НИШ","840","-","0000000582661","661","-","85","601","02626",2,"95000","07283741",4774,128,3,100334157]
[42500,"КЛИНИКА ЗА СТОМАТОЛОГИЈУ НИШ","НИШ","840","-","0000000591661","661","-","51","601","02610",2,"95000","17215426",8623,128,3,100621196]
[42500,"СКУПШТИНА ГРАДА НИША","НИШ","","-","","","-","","521","09768",1,"09768","17620541",8411,128,0,100232752]
[42500,"ГРАДСКО ВЕЋЕ ГРАДА НИША","НИШ","","-","","","-","","521","09770",1,"09770","17620541",8411,128,0,100232752]
[42500,"УПРАВА ЗА ДЕЧИЈУ, СОЦИЈАЛНУ И ПРИМАРНУ ЗДРАВСТВЕНУ ЗАШТИТУ","НИШ","","-","","","-","","521","09775",1,"09775","17620541",8411,128,0,100232752]
[42500,"НИШКИ СИМФОНИЈСКИ ОРКЕСТАР","НИШ","840","-","0000000535664","664","-","38","521","03693",2,"62010","07174772",9001,128,1,100617237]
[42500,"ПРЕДШКОЛСКА УСТАНОВА ПЧЕЛИЦА","НИШ","840","-","0000000662661","661","-","63","521","03684",2,"62010","07212500",8510,128,1,100665839]
[42500,"ИСТОРИЈСКИ АРХИВ НИШ","НИШ","840","-","0000000538664","664","-","59","521","03688",2,"62010","07215231",9101,126,1,100502978]
[42500,"ТУРИСТИЧКА ОРГАНИЗАЦИЈА НИШ","НИШ","840","-","0000001106664","664","-","58","521","03681",2,"62010","17021117",8413,128,1,101858962]
[42500,"РЕГИОНАЛНИ ЦЕНТАР ЗА ПРОФЕСИОНАЛНИ РАЗВОЈ ЗАПОСЛЕНИХ У ОБРАЗОВАЊУ НИШ","НИШ","840","-","0000000894664","664","-","29","521","09811",2,"62010","17610821",8559,128,1,103895510]
[42500,"СЛУЖБА ЗА ПОСЛОВЕ ГРАДОНАЧЕЛНИКА","НИШ","","-","","","-","","521","80305",1,"80305","17620541",8411,128,0,100232752]
[42500,"СЛУЖБА ЗА ПОСЛОВЕ ГРАДСКОГ ВЕЋА","НИШ","","-","","","-","","521","80307",1,"80307","17620541",8411,128,0,100232752]
[42500,"УПРАВА ЗА ИМОВИНУ И ИНСПЕКЦИЈСКЕ ПОСЛОВЕ НИШ","НИШ","","-","","","-","","521","80310",1,"80310","17620541",8411,128,0,100232752]
[42500,"УПРАВА ЗА СПОРТ И ОМЛАДИНУ НИШ","НИШ","","-","","","-","","521","91516",1,"91516","17620541",8411,128,0,100232752]
[42500,"УПРАВА ГРАДСКЕ ОПШТИНЕ МЕДИЈАНА","НИШ","","-","","","-","","128","09754",1,"09754","17614703",8411,128,0,103618277]
[42500,"СКУПШТИНА ГРАДСКЕ ОПШТИНЕ МЕДИЈАНА","НИШ","","-","","","-","","128","92223",1,"92223","17614703",8411,128,0,103618277]
[42500,"УПРАВА ГРАДСКЕ ОПШТИНЕ ПАЛИЛУЛА","НИШ","","-","","","-","","127","09752",1,"09752","17614738",8411,127,0,103618293]
[42500,"ВЕЋЕ ГРАДСКЕ ОПШТИНЕ ПАЛИЛУЛА","НИШ","","-","","","-","","127","92249",1,"92249","17614738",8411,127,0,103618293]
[42500,"ГРАД НИШ-ГРАДСКА ОПШТИНА ПАНТЕЛЕЈ-БУЏЕТ","НИШ","840","-","0000000225640","640","-","74","125","09747",0,"09747","17614720",8411,125,0,103618308]
[42500,"УПРАВА ГРАДСКЕ ОПШТИНЕ ПАНТЕЛЕЈ-НИШ","НИШ","","-","","","-","","125","09748",1,"09748","17614720",8411,125,0,103618308]
[42500,"МЕСНА ЗАЈЕДНИЦА КАМЕНИЦА","НИШ","840","-","0000004097645","645","-","03","125","80096",2,"09748","17661752",8411,125,1,104623685]
[42500,"МЕСНА ЗАЈЕДНИЦА КНЕЗ СЕЛО","НИШ","840","-","0000004096645","645","-","93","125","80095",2,"09748","17661795",8411,125,1,104623716]
[42500,"МЕСНА ЗАЈЕДНИЦА ЈАСЕНОВИК","НИШ","840","-","0000004092645","645","-","65","125","80090",2,"09748","17661833",8411,125,1,104623724]
[42500,"МЕСНА ЗАЈЕДНИЦА ВРЕЛО","НИШ","840","-","0000004104645","645","-","52","125","80136",2,"09748","17661841",8411,125,1,104623812]
[42500,"МЕСНА ЗАЈЕДНИЦА ВИНИК","НИШ","840","-","0000004140645","645","-","13","125","80680",2,"09748","17775782",8411,125,1,106432232]
[42500,"УПРАВА ГРАДСКЕ ОПШТИНЕ НИШКА БАЊА","НИШКА БАЊА","","-","","","-","","122","08242",1,"08242","17585851",8411,122,0,101466727]
[42500,"ВЕЋЕ ГРАДСКЕ ОПШТИНЕ НИШКА БАЊА","НИШКА БАЊА","","-","","","-","","122","92173",1,"92173","17585851",8411,122,0,101466727]
[42500,"МЕСНА ЗАЈЕДНИЦА БРЕСТ","МЕРОШИНА","840","-","0000001444645","645","-","56","068","06206",2,"06195","07172249",8411,68,1,100875104]
[42500,"МЕСНА ЗАЈЕДНИЦА РОЖИНА","МЕРОШИНА","840","-","0000001088645","645","-","86","068","06223",2,"06195","07203446",8411,68,1,100759072]
[42500,"МЕСНА ЗАЈЕДНИЦА ГРАДИШТЕ","МЕРОШИНА","840","-","0000000961645","645","-","70","068","06210",2,"06195","07266499",8411,68,1,100759281]
[42500,"МЕСНА ЗАЈЕДНИЦА ЈУГБОГДАНОВАЦ","МЕРОШИНА","840","-","0000001024645","645","-","26","068","06216",2,"06195","07266545",8411,68,1,100759659]
[42500,"МЕСНА ЗАЈЕДНИЦА АРБАНАСЦЕ","МЕРОШИНА","840","-","0000001339645","645","-","97","068","06201",2,"06195","07266561",8411,68,1,100759064]
[42500,"МЕСНА ЗАЈЕДНИЦА БАЛИЧЕВАЦ","МЕРОШИНА","840","-","0000001960645","645","-","79","068","06203",2,"06195","07266618",8411,68,1,101877749]
[42500,"МЕСНА ЗАЈЕДНИЦА ПАДИНА","МЕРОШИНА","840","-","0000001673645","645","-","10","068","06222",2,"06195","07266766",8411,68,1,100759304]
[42500,"МЕСНА ЗАЈЕДНИЦА МЕРОШИНА","МЕРОШИНА","840","-","0000001174645","645","-","09","068","06198",2,"06195","07299184",8411,68,1,100759290]
[42500,"МЕСНА ЗАЈЕДНИЦА ЈОВАНОВАЦ","МЕРОШИНА","840","-","0000002927645","645","-","58","068","06215",2,"06195","07300166",8411,68,1,100759089]
[42500,"МЕСНА ЗАЈЕДНИЦА ГУДУРЕ","МРАМОРСКО БРДО","840","-","0000004225645","645","-","26","068","65170",2,"06195","17907638",8411,68,1,110162302]
[42500,"ПРЕДСЕДНИК ОПШТИНЕ МЕРОШИНА","МЕРОШИНА","","-","","","-","","068","91646",1,"91646","07187068",8411,68,0,100758336]
[42500,"МЕСНА ЗАЈЕДНИЦА ЛИЧЈЕ","ГАЏИН ХАН","840","-","0000004072645","645","-","22","039","80030",2,"05031","07171668",8411,39,1,104518815]
[42500,"МЕСНА ЗАЈЕДНИЦА ГАЏИН ХАН","ГАЏИН ХАН","840","-","0000003148645","645","-","53","039","05036",2,"05031","07171676",8411,39,1,103004439]
[42500,"МЕСНА ЗАЈЕДНИЦА МИЉКОВАЦ","ГАЏИН ХАН","840","-","0000003174645","645","-","41","039","05050",2,"05031","07242468",8411,39,1,102591768]
[42500,"МЕСНА ЗАЈЕДНИЦА МАЛИ КРЧИМИР","ГАЏИН ХАН","840","-","0000002826645","645","-","30","039","05048",2,"05031","07278659",8411,39,1,102386544]
[42500,"МЕСНА ЗАЈЕДНИЦА СОПОТНИЦА","ГАЏИН ХАН","840","-","0000002836645","645","-","03","039","05052",2,"05031","07304072",8411,39,1,103101630]
[42500,"МЕСНА ЗАЈЕДНИЦА ОВСИЊИНАЦ","ГАЏИН ХАН","840","-","0000004061645","645","-","42","039","10054",2,"05031","07304129",8411,39,1,102729774]
[42500,"МЕСНА ЗАЈЕДНИЦА ДОЊЕ ДРАГОВЉЕ","ГАЏИН ХАН","840","-","0000002872645","645","-","61","039","05041",2,"05031","07304200",8411,39,1,102729803]
[42500,"МЕСНА ЗАЈЕДНИЦА ГОРЊЕ ВЛАСЕ","ГАЏИН ХАН","840","-","0000003158645","645","-","26","039","05037",2,"05031","07304234",8411,39,1,102589953]
[42500,"МЕСНА ЗАЈЕДНИЦА ЧАГРОВАЦ","ГАЏИН ХАН","840","-","0000003219645","645","-","65","039","05055",2,"05031","07328648",8411,39,1,102653699]
[42500,"ФОНД СОЛИДАРНЕ СТАМБЕНЕ ИЗГРАДЊЕ ОПШТИНЕ","ГАЏИН ХАН","","-","","","-","","039","05033",2,"05031","17287150",6499,39,1,100992525]
[42500,"СКУПШТИНА ОПШТИНЕ ГАЏИН ХАН","ГАЏИН ХАН","","-","","","-","","039","92496",1,"92496","07212330",8411,39,0,100992509]
[42500,"ОПШТИНСКА УПРАВА ДОЉЕВАЦ","ДОЉЕВАЦ","","-","","","-","","038","05006",1,"05006","07171820",8411,38,0,100491448]
[42500,"МЕСНА ЗАЈЕДНИЦА КОЧАНЕ","ДОЉЕВАЦ","840","-","0000003143645","645","-","18","038","05019",2,"05006","07171919",8411,38,1,100870166]
[42500,"МЕСНА ЗАЈЕДНИЦА ПУКОВАЦ","ДОЉЕВАЦ","840","-","0000002193645","645","-","61","038","05017",2,"05006","07235984",8411,38,1,100870300]
[42500,"МЕСНА ЗАЈЕДНИЦА МЕКИШ","ДОЉЕВАЦ","840","-","0000003170645","645","-","13","038","05014",2,"05006","07285957",8411,38,1,102163143]
[42500,"МЕСНА ЗАЈЕДНИЦА ШАРЛИНАЦ","ДОЉЕВАЦ","840","-","0000003166645","645","-","82","038","05024",2,"05006","07285990",8411,38,1,101877652]
[42500,"МЕСНА ЗАЈЕДНИЦА КЛИСУРА","ДОЉЕВАЦ","840","-","0000003214645","645","-","30","038","05011",2,"05006","07288859",8411,38,1,103267818]
[42500,"ЈАВНА БИБЛИОТЕКА ДОЉЕВАЦ","ДОЉЕВАЦ","840","-","0000000602664","664","-","22","038","05027",2,"05006","17035746",9101,38,1,100491472]
[42500,"ОПШТИНСКО ВЕЋЕ ОПШТИНЕ ДОЉЕВАЦ","ДОЉЕВАЦ","","-","","","-","","038","92294",1,"92294","07171820",8411,38,0,100491448]
[42502,"ДОМ ЗДРАВЉА ДР ЉУБИНКО ЂОРЂЕВИЋ","СВРЉИГ","840","-","0000000593661","661","-","65","601","02445",2,"95000","07204604",8621,98,3,101879009]
[42502,"МЕСНА ЗАЈЕДНИЦА ЂУРИНАЦ","СВРЉИГ","840","-","0000003641645","645","-","12","098","07386",2,"07369","06989578",8411,98,1,102135035]
[42502,"МЕСНА ЗАЈЕДНИЦА МЕРЏЕЛАТ","СВРЉИГ","840","-","0000003639645","645","-","95","098","07395",2,"07369","06989594",8411,98,1,102205777]
[42502,"МЕСНА ЗАЈЕДНИЦА ПОПШИЦА","СВРЉИГ","840","-","0000003588645","645","-","29","098","07402",2,"07369","07108753",8411,98,1,102808564]
[42502,"МЕСНА ЗАЈЕДНИЦА ДРАЈИНАЦ","СВРЉИГ","840","-","0000003605645","645","-","51","098","07385",2,"07369","07108800",8411,98,1,102205701]
[42502,"МЕСНА ЗАЈЕДНИЦА КОПАЈКОШАРА","СВРЉИГ","840","-","0000003616645","645","-","31","098","07389",2,"07369","07187467",8411,98,1,101008801]
[42502,"МЕСНА ЗАЈЕДНИЦА ПРЕКОНОГА","СВРЉИГ","840","-","0000003636645","645","-","74","098","07403",2,"07369","07227507",8411,98,1,102134995]
[42502,"МЕСНА ЗАЈЕДНИЦА БУЧУМ","СВРЉИГ","840","-","0000003631645","645","-","39","098","07377",2,"07369","07230150",8411,98,1,102205808]
[42502,"МЕСНА ЗАЈЕДНИЦА ГУШЕВАЦ","СВРЉИГ","840","-","0000003587645","645","-","22","098","07383",2,"07369","07272219",8411,98,1,101008877]
[42502,"МЕСНА ЗАЈЕДНИЦА ЛУКОВО","СВРЉИГ","840","-","0000003618645","645","-","45","098","07393",2,"07369","07276575",8411,98,1,101008789]
[42502,"МЕСНА ЗАЈЕДНИЦА ЦРНОЉЕВИЦА","СВРЉИГ","840","-","0000003593645","645","-","64","098","07410",2,"07369","07303637",8411,98,1,102134987]
[42502,"МЕСНА ЗАЈЕДНИЦА БЕЛОИЊЕ","СВРЉИГ","840","-","0000003595645","645","-","78","098","07375",2,"07369","07325797",8411,98,1,103024021]
[42502,"БУЏЕТСКИ ФОНД ЗА ЗАШТИТУ ЖИВОТНЕ СРЕДИНЕ ОПШТИНЕ СВРЉИГ","СВРЉИГ","","-","","","-","","098","80874",2,"07369","07327340",8411,98,1,102025507]
[42502,"МЕСНА ЗАЈЕДНИЦА ТРОЈИЦА, ЧУКА, ЈОВИНЦИ ИЗВОР","СВРЉИГ","840","-","0000004014645","645","-","04","098","09570",2,"07369","17546732",8411,98,1,103289149]
[42502,"СКУПШТИНА ОПШТИНЕ СВРЉИГ","СВРЉИГ","","-","","","-","","098","91615",1,"91615","07327340",8411,98,0,102025507]
[42503,"ЦЕНТАР ЗА СОЦИЈАЛНИ РАД ОПШТИНЕ РАЖАЊ","РАЖАЊ","840","-","0000000765661","661","-","08","601","80162",2,"13400","17681958",8899,88,1,104943260]
[42503,"МЕСНА ЗАЈЕДНИЦА ПОДГОРАЦ","РАЖАЊ","840","-","0000003777645","645","-","91","088","07037",2,"07013","07132441",8411,88,1,102042515]
[42503,"МЕСНА ЗАЈЕДНИЦА БРАЉИНА","РАЖАЊ","840","-","0000003769645","645","-","35","088","07015",2,"07013","07132549",8411,88,1,102042488]
[42503,"МЕСНА ЗАЈЕДНИЦА ЦЕРОВО","РАЖАЊ","840","-","0000003780645","645","-","15","088","07032",2,"07013","07132565",8411,88,1,102163330]
[42503,"МЕСНА ЗАЈЕДНИЦА ЦРНИ КАО","РАЖАЊ","840","-","0000003755645","645","-","34","088","07033",2,"07013","07187360",8411,88,1,102042531]
[42503,"БУЏЕТСКИ ФОНД ЗА ЗАШТИТУ ЖИВОТНЕ СРЕДИНЕ РАЖАЊ","РАЖАЊ","","-","","","-","","088","80625",2,"07013","07214740",8411,88,1,102688303]
[42503,"МЕСНА ЗАЈЕДНИЦА МАЛЕТИНА","РАЖАЊ","840","-","0000003775645","645","-","77","088","07022",2,"07013","07220103",8411,88,1,102042603]
[42503,"МЕСНА ЗАЈЕДНИЦА МАЂЕРЕ","РАЖАЊ","840","-","0000003758645","645","-","55","088","07020",2,"07013","07220138",8411,88,1,102042599]
[42503,"МЕСНА ЗАЈЕДНИЦА ЧУБУРА","РАЖАЊ","840","-","0000003781645","645","-","22","088","07034",2,"07013","07221835",8411,88,1,102042496]
[42503,"ФОНД ЗА ГРАЂЕВИНСКО ЗЕМЉИШТЕ, ПУТЕВЕ И ИЗГРАДЊУ ОПШТИНЕ РАЖАЊ","РАЖАЊ","840","-","0000000566644","644","-","24","088","80222",2,"07013","17715879",7490,88,1,105392251]
[42503,"ПРЕДСЕДНИК ОПШТИНЕ РАЖАЊ","РАЖАЊ","","-","","","-","","088","92491",1,"92491","07214740",8411,88,0,102688303]
[42530,"ДОМ ЗА СМЕШТАЈ ОДРАСЛИХ ЛИЦА КУЛИНА АЛЕКСИНАЦ","АЛЕКСИНАЦ","840","-","0000000598661","661","-","03","601","00173",2,"13400","07106815",8720,2,1,100313224]
[42530,"ОСНОВНА ШКОЛА ВОЖД КАРАЂОРЂЕ АЛЕКСИНАЦ","АЛЕКСИНАЦ","840","-","0000001803660","660","-","02","601","00805",2,"13701","07106971",8520,2,1,100313520]
[42530,"ОСНОВНА ШКОЛА СВЕТИ САВА СУБОТИНАЦ","АЛЕКСИНАЦ","840","-","0000001795660","660","-","43","601","00811",2,"13701","07187513",8520,2,1,100305021]
[42530,"ОСНОВНА МУЗИЧКА ШКОЛА ВЛАДИМИР ЂОРЂЕВИЋ","АЛЕКСИНАЦ","840","-","0000002087660","660","-","50","601","80073",2,"13701","17663542",8520,2,1,104683934]
[42530,"АЛЕКСИНАЧКА ГИМНАЗИЈА","АЛЕКСИНАЦ","840","-","0000001799660","660","-","71","601","01716",2,"13702","07106947",8531,2,1,100304490]
[42530,"ОСНОВНО ЈАВНО ТУЖИЛАШТВО У АЛЕКСИНЦУ","АЛЕКСИНАЦ","","-","","","-","","601","91333",2,"30229","17865811",8423,2,5,108347936]
[42530,"БУЏЕТСКИ ФОНД ЗА ЗАШТИТУ ЖИВОТНЕ СРЕДИНЕ ОПШТИНЕ АЛЕКСИНАЦ","АЛЕКСИНАЦ","","-","","","-","","002","80646",2,"03860","06867774",8411,2,1,100304264]
[42530,"МЕСНА ЗАЈЕДНИЦА ВУКАШИНОВАЦ","АЛЕКСИНАЦ","","-","","","-","","002","03882",2,"03860","07106696",8411,2,1,102086748]
[42530,"МЕСНА ЗАЈЕДНИЦА ДЕЛИГРАД","АЛЕКСИНАЦ","","-","","","-","","002","03892",2,"03860","07106718",8411,2,1,100313474]
[42530,"УСТАНОВА ЗА ОДМОР И РЕКРЕАЦИЈУ ДЕЦЕ ЛИПОВАЦ","АЛЕКСИНАЦ","840","-","0000000600661","661","-","17","002","03939",2,"03860","07187530",8891,2,1,100304947]
[42530,"МЕСНА ЗАЈЕДНИЦА ДОБРУЈЕВАЦ","АЛЕКСИНАЦ","","-","","","-","","002","03893",2,"03860","07238401",8411,2,1,102130855]
[42530,"МЕСНА ЗАЈЕДНИЦА КОРМАН","АЛЕКСИНАЦ","","-","","","-","","002","03906",2,"03860","07244789",8411,2,1,100983037]
[42530,"МЕСНА ЗАЈЕДНИЦА ГРЕЈАЧ","АЛЕКСИНАЦ","","-","","","-","","002","03890",2,"03860","07246803",8411,2,1,100313482]
[42530,"МЕСНА ЗАЈЕДНИЦА ДОЊИ ЉУБЕШ","АЛЕКСИНАЦ","840","-","0000003679645","645","-","84","002","03898",2,"03860","07253532",8411,2,1,100313249]
[42530,"МЕСНА ЗАЈЕДНИЦА КАМЕНИЦА","АЛЕКСИНАЦ","","-","","","-","","002","03903",2,"03860","07257716",8411,2,1,100313675]
[42530,"МЕСНА ЗАЈЕДНИЦА ДОЊИ КРУПАЦ","АЛЕКСИНАЦ","","-","","","-","","002","03897",2,"03860","07259930",8411,2,1,101777576]
[42530,"МЕСНА ЗАЈЕДНИЦА ДАШНИЦА","АЛЕКСИНАЦ","","-","","","-","","002","03891",2,"03860","07263392",8411,2,1,100400002]
[42530,"МЕСНА ЗАЈЕДНИЦА ДОЊИ АДРОВАЦ","АЛЕКСИНАЦ","","-","","","-","","002","03896",2,"03860","07273177",8411,2,1,101777605]
[42530,"МЕСНА ЗАЈЕДНИЦА АЛЕКСИНАЧКИ РУДНИЦИ","АЛЕКСИНАЦ","","-","","","-","","002","03869",2,"03860","07274165",8411,2,1,100304176]
[42530,"МЕСНА ЗАЈЕДНИЦА БОВАН","АЛЕКСИНАЦ","","-","","","-","","002","03874",2,"03860","07274181",8411,2,1,100304570]
[42530,"МЕСНА ЗАЈЕДНИЦА ТРЊАНЕ","АЛЕКСИНАЦ","","-","","","-","","002","03932",2,"03860","07276567",8411,2,1,100983045]
[42530,"МЕСНА ЗАЈЕДНИЦА ГОРЊИ АДРОВАЦ","АЛЕКСИНАЦ","","-","","","-","","002","03886",2,"03860","07277296",8411,2,1,100305216]
[42530,"МЕСНА ЗАЈЕДНИЦА СТУБЛИНА","АЛЕКСИНАЦ","","-","","","-","","002","03929",2,"03860","07277342",8411,2,1,100313827]
[42530,"МЕСНА ЗАЈЕДНИЦА ДОЊА ПЕШЧАНИЦА","АЛЕКСИНАЦ","","-","","","-","","002","03894",2,"03860","07277385",8411,2,1,100312834]
[42530,"МЕСНА ЗАЈЕДНИЦА ВРЕЛО","АЛЕКСИНАЦ","","-","","","-","","002","03879",2,"03860","07277407",8411,2,1,102130759]
[42530,"МЕСНА ЗАЈЕДНИЦА БЕЛИ БРЕГ","АЛЕКСИНАЦ","","-","","","-","","002","03871",2,"03860","07277466",8411,2,1,100983131]
[42530,"МЕСНА ЗАЈЕДНИЦА МОРАВСКИ БУЈМИР","АЛЕКСИНАЦ","","-","","","-","","002","03918",2,"03860","07277504",8411,2,1,102222180]
[42530,"МЕСНА ЗАЈЕДНИЦА КОПРИВНИЦА","АЛЕКСИНАЦ","","-","","","-","","002","03905",2,"03860","07277814",8411,2,1,102130791]
[42530,"ФОНД ЗА ЗБРИЊАВАЊЕ ПОРОДИЦА ПОГИНУЛИХ РАДНИКА У РУДНИЦИМА МРКОГ УГЉА","АЛЕКСИНАЦ","840","-","0000000436644","644","-","84","002","03863",2,"03860","07615418",6430,2,1,100313169]
[42530,"ГРАДСКО ПОЗОРИШТЕ ТЕАТАР 91","АЛЕКСИНАЦ","","-","","","-","","002","09550",2,"03860","17548735",9001,2,1,103268714]
[42530,"ОПШТИНСКО ВЕЋЕ ОПШТИНЕ АЛЕКСИНАЦ","АЛЕКСИНАЦ","","-","","","-","","002","92488",1,"92488","07173075",8411,2,0,100313169]
[42600,"ОСНОВНА МAТИЧНА ШКОЛА 25. МАЈ ДЕЛИМЕЂЕ","НОВИ ПАЗАР","840","-","0000000263660","660","-","86","601","00813",2,"13701","07175833",8520,75,1,102231787]
[42600,"ОСНОВНА ШКОЛА ДЕСАНКА МАКСИМОВИЋ","НОВИ ПАЗАР","840","-","0000000169660","660","-","10","601","00817",2,"13701","07191910",8520,75,1,101785059]
[42600,"ОСНОВНА ШКОЛА ДОСИТЕЈ ОБРАДОВИЋ ОСАОНИЦА","НОВИ ПАЗАР","840","-","0000000119660","660","-","48","601","00818",2,"13701","07191952",8520,75,1,102091009]
[42600,"ОСНОВНА ШКОЛА РИФАТ БУРЏЕВИЋ-ТРШО","НОВИ ПАЗАР","840","-","0000000033660","660","-","28","601","00822",2,"13701","07192070",8520,75,1,102012682]
[42600,"ОСНОВНА ШКОЛА ЋАМИЛ СИЈАРИЋ","НОВИ ПАЗАР","840","-","0000002124660","660","-","18","601","92133",2,"13701","17869388",8520,75,1,108683568]
[42600,"ОСНОВНА ШКОЛА МЕША СЕЛИМОВИЋ","НОВИ ПАЗАР","840","-","0000002123660","660","-","11","601","92131",2,"13701","17869396",8520,75,1,108683550]
[42600,"ТЕХНИЧКА ШКОЛА НОВИ ПАЗАР","НОВИ ПАЗАР","840","-","0000001058660","660","-","25","601","01927",2,"13702","07356374",8532,75,1,101785114]
[42600,"ДРЖАВНИ УНИВЕРЗИТЕТ У НОВОМ ПАЗАРУ","НОВИ ПАЗАР","840","-","0000002085660","660","-","36","601","80050",2,"13704","17663640",8542,75,1,104682222]
[42600,"ПРЕКРШАЈНИ СУД У НОВОМ ПАЗАРУ","НОВИ ПАЗАР","","-","","","-","","601","80599",2,"30233","17774115",8423,75,5,106399447]
[42600,"ДОМ ЗДРАВЉА НОВИ ПАЗАР","НОВИ ПАЗАР","840","-","0000000845661","661","-","83","601","80990",2,"95000","17828312",8621,75,3,107659125]
[42600,"ЗАВОД ЗА ЈАВНО ЗДРАВЉЕ НОВИ ПАЗАР","НОВИ ПАЗАР","840","-","0000000877661","661","-","16","601","96278",2,"95000","17878697",8690,75,3,109181978]
[42600,"ГРАД НОВИ ПАЗАР-БУЏЕТ","НОВИ ПАЗАР","840","-","0000000003640","640","-","72","075","06379",0,"06379","07192061",8411,75,0,104004496]
[42600,"ПРВА МЕСНА ЗАЈЕДНИЦА ПАРИЦЕ","НОВИ ПАЗАР","","-","","","-","","075","06404",2,"06380","07191464",8411,75,1,102694086]
[42600,"МЕСНА ЗАЈЕДНИЦА КОМИЊЕ","НОВИ ПАЗАР","","-","","","-","","075","06392",2,"06380","07191855",8411,75,1,102694027]
[42600,"ГРАДСКА УПРАВА НОВИ ПАЗАР","НОВИ ПАЗАР","","-","","","-","","075","06380",1,"06380","07192061",8411,75,0,104004496]
[42600,"МЕСНА ЗАЈЕДНИЦА МУР","НОВИ ПАЗАР","","-","","","-","","075","06385",2,"06380","07206771",8411,75,1,102693962]
[42600,"МЕСНА ЗАЈЕДНИЦА ПОЖЕГА","НОВИ ПАЗАР","","-","","","-","","075","06401",2,"06380","07206844",8411,75,1,102693946]
[42600,"МЕСНА ЗАЈЕДНИЦА ОДОЈЕВИЋЕ","НОВИ ПАЗАР","","-","","","-","","075","06394",2,"06380","07206887",8411,75,1,102714414]
[42600,"МЕСНА ЗАЈЕДНИЦА ПОПЕ","НОВИ ПАЗАР","","-","","","-","","075","06395",2,"06380","07206917",8411,75,1,101786221]
[42600,"ПЕТНАЕСТА МЕСНА ЗАЈЕДНИЦА ВРАНОВИНА","НОВИ ПАЗАР","","-","","","-","","075","06403",2,"06380","07248369",8411,75,1,101786221]
[42600,"КУЛТУРНО-ПРОСВЕТНА ЗАЈЕДНИЦА НОВИ ПАЗАР","НОВИ ПАЗАР","840","-","0000000960664","664","-","06","075","80230",2,"06380","17115081",8559,75,1,102169416]
[42600,"СПОРТСКИ САВЕЗ САНЏАК","НОВИ ПАЗАР","840","-","0000000798664","664","-","36","075","09448",2,"06380","17398008",9499,75,1,102013458]
[42600,"ТУРИСТИЧКА ОРГАНИЗАЦИЈА ГРАДА НОВОГ ПАЗАРА","НОВИ ПАЗАР","840","-","0000000959664","664","-","96","075","80226",2,"06380","17663666",8413,75,1,104704194]
[42600,"ЈАВНА УСТАНОВА КАНЦЕЛАРИЈА ЗА МЛАДЕ У НОВОМ ПАЗАРУ","НОВИ ПАЗАР","840","-","0000001079664","664","-","63","075","87448",2,"06380","17834223",8559,75,1,108166681]
[42602,"ДОМ ЗА ЛИЦА ОМЕТЕНА У РАЗВОЈУ ТУТИН","ТУТИН","840","-","0000000028661","661","-","87","601","00213",2,"13400","07175876",8790,104,1,101347283]
[42602,"ОСНОВНА ШКОЛА ДР ИБРАХИМ БАКИЋ ЛЕСКОВА","ТУТИН","840","-","0000000792660","660","-","06","601","00830",2,"13701","07175787",8520,104,1,101345702]
[42602,"ОСНОВНА ШКОЛА МЕША СЕЛИМОВИЋ РИБАРИЋЕ","ТУТИН","840","-","0000000787660","660","-","68","601","00828",2,"13701","07175809",8520,104,1,101347242]
[42602,"ГИМНАЗИЈА ТУТИН","ТУТИН","840","-","0000000640660","660","-","09","601","01718",2,"13702","07175841",8531,104,1,102021431]
[42602,"БУЏЕТСКИ ФОНД ЗА ЗАШТИТУ ЖИВОТНЕ СРЕДИНЕ ОПШТИНЕ ТУТИН","ТУТИН","","-","","","-","","104","80816",2,"07634","07175965",8411,104,1,102021128]
[42602,"МЕСНА ЗАЈЕДНИЦА РИБАРИЋЕ","ТУТИН","840","-","0000000540645","645","-","33","104","07650",2,"07634","07206623",8411,104,1,102724227]
[42602,"МЕСНА ЗАЈЕДНИЦА ЦРКВИНЕ","ТУТИН","840","-","0000001231645","645","-","20","104","07654",2,"07634","07218524",8411,104,1,103387778]
[42602,"МЕСНА ЗАЈЕДНИЦА СУВИ ДО","ТУТИН","840","-","0000001336645","645","-","76","104","07651",2,"07634","07220880",8411,104,1,102950711]
[42602,"МЕСНА ЗАЈЕДНИЦА БИОХАНЕ","ТУТИН","840","-","0000001599645","645","-","74","104","07638",2,"07634","07256850",8411,104,1,103608505]
[42602,"ПРВА МЕСНА ЗАЈЕДНИЦА ТУТИН","ТУТИН","840","-","0000004148645","645","-","69","104","80876",2,"07634","07339852",8411,104,1,106154313]
[42602,"МЕСНА ЗАЈЕДНИЦА БУЈКОВИЋЕ","ТУТИН","840","-","0000004031645","645","-","26","104","09838",2,"07634","07339895",8411,104,1,103710304]
[42602,"УСТАНОВА ЗА СПОРТ ТУТИН","ТУТИН","840","-","0000000770664","664","-","34","104","07661",2,"07634","17120719",9311,104,1,101346342]
[42602,"ЈАВНА УСТАНОВА МУЛТИМЕДИЈАЛНИ ЦЕНТАР ТУТИН","ТУТИН","840","-","0000000948664","664","-","19","104","80167",2,"07634","17684434",9003,104,1,104986286]
[42602,"ТУРИСТИЧКА ОРГАНИЗАЦИЈА ОПШТИНЕ ТУТИН","ТУТИН","840","-","0000001075664","664","-","35","104","85528",2,"07634","17832450",8413,104,1,108036393]
[42602,"ОПШТИНСКО ВЕЋЕ ОПШТИНЕ ТУТИН","ТУТИН","","-","","","-","","104","91758",1,"91758","07175892",8411,104,0,102842044]
[42610,"ОСНОВНА ШКОЛА ЈОШАНИЧКА БАЊА ЈОШАНИЧКА БАЊА","РАШКА","840","-","0000000413660","660","-","69","601","00832",2,"13701","07145047",8520,87,1,101609142]
[42610,"ГИМНАЗИЈА РАШКА","РАШКА","840","-","0000000966660","660","-","60","601","01719",2,"13702","07637063",8531,87,1,101273406]
[42610,"ПРЕКРШАЈНИ СУД У РАШКИ","РАШКА","","-","","","-","","601","80610",2,"30233","17774204",8423,87,5,106400610]
[42610,"ОПШТИНА РАШКА-БУЏЕТ","РАШКА","840","-","0000000089640","640","-","92","087","06984",0,"06984","07175485",8411,87,0,101609280]
[42610,"ВАТРОГАСНИ ФОНД ОПШТИНЕ РАШКА","РАШКА","","-","","","-","","087","06986",2,"06985","17533932",6430,87,1,101274533]
[42610,"МЕСНА ЗАЈЕДНИЦА БАЉЕВАЦ НА ИБРУ","РАШКА","840","-","0000001063645","645","-","08","087","06987",2,"70624","07144563",8411,87,1,102016143]
[42610,"МЕСНА ЗАЈЕДНИЦА БИЉАНОВАЦ","РАШКА","840","-","0000001295645","645","-","80","087","06989",2,"70624","07145063",8411,87,1,102355513]
[42610,"МЕСНА ЗАЈЕДНИЦА БРВЕНИЦА","РАШКА","840","-","0000001462645","645","-","85","087","06991",2,"70624","07145896",8411,87,1,101988424]
[42610,"МЕСНА ЗАЈЕДНИЦА ТРНАВА","РАШКА","840","-","0000001275645","645","-","37","087","07004",2,"70624","07145942",8411,87,1,101988449]
[42610,"МЕСНА ЗАЈЕДНИЦА ГРАДАЦ","РАШКА","840","-","0000001085645","645","-","65","087","06994",2,"70624","07146019",8411,87,1,102016305]
[42610,"МЕСНА ЗАЈЕДНИЦА СУПЊЕ","РАШКА","840","-","0000004146645","645","-","55","087","80837",2,"70624","17810430",8411,87,1,106706473]
[42610,"ПРЕДШКОЛСКА УСТАНОВА ВЕСЕЛО ДЕТИЊСТВО","РАШКА","840","-","0000000137661","661","-","74","087","07005",2,"70625","07233841",8891,87,1,101272420]
[42620,"ОСНОВНА ШКОЛА СВЕТИ САВА БАРЕ","СЈЕНИЦА","840","-","0000000298660","660","-","40","601","00836",2,"13701","07192118",8520,91,1,102404839]
[42620,"ОСНОВНА ШКОЛА ВУК КАРАЏИЋ КЛАДНИЦА","СЈЕНИЦА","840","-","0000000329660","660","-","63","601","00839",2,"13701","07224036",8520,91,1,101561063]
[42620,"ГИМНАЗИЈА ЈЕЗДИМИР ЛОВИЋ","СЈЕНИЦА","840","-","0000000902660","660","-","97","601","01720",2,"13702","07192100",8531,91,1,100947750]
[42620,"ПРЕКРШАЈНИ СУД У СЈЕНИЦИ","СЈЕНИЦА","","-","","","-","","601","80613",2,"30233","17774212",8423,91,5,106400572]
[42620,"МЕСНА ЗАЈЕДНИЦА ВАПА","СЈЕНИЦА","840","-","0000000330645","645","-","18","091","07087",2,"07082","07192584",8411,91,1,103233265]
[42620,"МЕСНА ЗАЈЕДНИЦА ШТАВАЉ","СЈЕНИЦА","840","-","0000000223645","645","-","45","091","07097",2,"07082","07192649",8411,91,1,102794119]
[42620,"МЕСНА ЗАЈЕДНИЦА ЛОПИЖЕ","СЈЕНИЦА","840","-","0000000141645","645","-","53","091","07092",2,"07082","07206470",8411,91,1,103332694]
[42620,"МЕСНА ЗАЈЕДНИЦА ДУГА ПОЉАНА","СЈЕНИЦА","840","-","0000000486645","645","-","43","091","07089",2,"07082","07206496",8411,91,1,102968221]
[42620,"БИБЛИОТЕКА МУХАМЕД АБДАГИЋ","СЈЕНИЦА","840","-","0000000196664","664","-","90","091","07099",2,"07082","17042874",9101,91,1,101560966]
[42620,"ПРЕДСЕДНИК ОПШТИНЕ СЈЕНИЦА","СЈЕНИЦА","","-","","","-","","091","94894",1,"94894","07192177",8411,91,0,102898304]
[42800,"МУП - ПОЛИЦИЈСКА УПРАВА ПИРОТ","ПИРОТ","840","-","0000000417621","621","-","20","601","00052",4,"10600","07008104",8424,79,0,100184116]
[42800,"ОСНОВНА ШКОЛА ВУК КАРАЏИЋ ПИРОТ","ПИРОТ","840","-","0000000034660","660","-","35","601","00844",2,"13701","07172427",8520,79,1,100355980]
[42800,"СРЕДЊА СТРУЧНА ШКОЛА ПИРОТ","ПИРОТ","840","-","0000000805660","660","-","97","601","01931",2,"13702","06944272",8532,79,1,100962466]
[42800,"МЛЕКАРСКА ШКОЛА СА ДОМОМ УЧЕНИКА ДР ОБРЕН  ПЕЈИЋ","ПИРОТ","840","-","0000000090660","660","-","39","601","01933",2,"13702","07172419",8532,79,1,100188336]
[42800,"ОСНОВНИ СУД У ПИРОТУ","ПИРОТ","","-","","","-","","601","80481",2,"30226","17773259",8423,79,5,106399748]
[42800,"ОСНОВНО ЈАВНО ТУЖИЛАШТВО У ПИРОТУ","ПИРОТ","","-","","","-","","601","80531",2,"30229","17773615",8423,79,5,106399756]
[42800,"РЕПУБЛИЧКИ ФОНД ЗА ЗДРАВСТВЕНО ОСИГУРАЊЕ - ФИЛИЈАЛА ЗА ПИРОТСКИ ОКРУГ","ПИРОТ","840","-","0000000011650","650","-","98","601","02658",4,"95000","06042945",8430,79,0,101288707]
[42800,"НАЦИОНАЛНА СЛУЖБА ЗА ЗАПОШЉАВАЊЕ-ФИЛИЈАЛА ПИРОТ","ПИРОТ","840","-","0000000032654","654","-","39","601","09590",4,"95400","17539957",8430,79,0,103277483]
[42800,"ГАЛЕРИЈА ЧЕДОМИР КРСТИЋ","ПИРОТ","840","-","0000000772664","664","-","48","079","06649",2,"06550","06979904",9102,79,1,100353533]
[42800,"ГРАД ПИРОТ - ГРАДСКА УПРАВА","ПИРОТ","","-","","","-","","079","06550",1,"06550","07131674",8411,79,0,100386203]
[42800,"МЕСНА ЗАЈЕДНИЦА ДОЈКИНЦИ","ПИРОТ","840","-","0000000088645","645","-","70","079","06580",2,"06550","07131925",8411,79,1,102617455]
[42800,"МЕСНА ЗАЈЕДНИЦА КОПРИВШТИЦА","ПИРОТ","840","-","0000002712645","645","-","08","079","06587",2,"06550","07131968",8411,79,1,104270511]
[42800,"МЕСНА ЗАЈЕДНИЦА ВОЈНЕГОВАЦ","ПИРОТ","840","-","0000002588645","645","-","13","079","06572",2,"06550","07131992",8411,79,1,102192060]
[42800,"МЕСНА ЗАЈЕДНИЦА ЦЕРОВА","ПИРОТ","840","-","0000002578645","645","-","40","079","06622",2,"06550","07132018",8411,79,1,102516240]
[42800,"МЕСНА ЗАЈЕДНИЦА БЕРОВИЦА","ПИРОТ","840","-","0000002333645","645","-","71","079","06563",2,"06550","07132042",8411,79,1,102647563]
[42800,"МЕСНА ЗАЈЕДНИЦА ПРЧЕВАЦ","ПИРОТ","840","-","0000002320645","645","-","77","079","06639",2,"06550","07132115",8411,79,1,102663741]
[42800,"МЕСНА ЗАЈЕДНИЦА ЈЕЛОВИЦА","ПИРОТ","840","-","0000002926645","645","-","51","079","06585",2,"06550","07172524",8411,79,1,102588617]
[42800,"МЕСНА ЗАЈЕДНИЦА ЧИНИГЛАВЦИ","ПИРОТ","840","-","0000002417645","645","-","77","079","06625",2,"06550","07172567",8411,79,1,104270503]
[42800,"МЕСНА ЗАЈЕДНИЦА ГРАДИШТЕ","ПИРОТ","840","-","0000002619645","645","-","36","079","06578",2,"06550","07187734",8411,79,1,102617463]
[42800,"МЕСНА ЗАЈЕДНИЦА БАРЈЕ ЧИФЛИК","ПИРОТ","840","-","0000002674645","645","-","33","079","06558",2,"06550","07286350",8411,79,1,102516188]
[42800,"МЕСНА ЗАЈЕДНИЦА ТЕМСКА","ПИРОТ","840","-","0000002755645","645","-","18","079","06618",2,"06550","07286384",8411,79,1,102192051]
[42800,"МЕСНА ЗАЈЕДНИЦА ЦРВЕНЧЕВО","ПИРОТ","840","-","0000002943645","645","-","73","079","06623",2,"06550","07286406",8411,79,1,102141533]
[42800,"МЕСНА ЗАЈЕДНИЦА СРЕЋКОВАЦ","ПИРОТ","840","-","0000002640645","645","-","86","079","06615",2,"06550","07286449",8411,79,1,102791281]
[42800,"МЕСНА ЗАЈЕДНИЦА МИРКОВЦИ","ПИРОТ","840","-","0000002547645","645","-","17","079","06593",2,"06550","07286546",8411,79,1,102220406]
[42800,"МЕСНА ЗАЈЕДНИЦА ОРЉА","ПИРОТ","840","-","0000002952645","645","-","39","079","06597",2,"06550","07286562",8411,79,1,102708529]
[42800,"МЕСНА ЗАЈЕДНИЦА ПАСЈАЧ","ПИРОТ","840","-","0000002908645","645","-","22","079","06600",2,"06550","07286619",8411,79,1,104624071]
[42800,"МЕСНА ЗАЈЕДНИЦА ПОКРОВЕНИК","ПИРОТ","840","-","0000002663645","645","-","53","079","06603",2,"06550","07286660",8411,79,1,104270520]
[42800,"МЕСНА ЗАЈЕДНИЦА РАСНИЦА","ПИРОТ","840","-","0000002900645","645","-","63","079","06608",2,"06550","07286708",8411,79,1,102617633]
[42800,"МЕСНА ЗАЈЕДНИЦА РУДИЊЕ","ПИРОТ","840","-","0000002733645","645","-","58","079","06611",2,"06550","07286716",8411,79,1,102659253]
[42800,"МЕСНА ЗАЈЕДНИЦА ИЗВОР","ПИРОТ","840","-","0000002651645","645","-","66","079","06583",2,"06550","07286767",8411,79,1,102220254]
[42800,"МЕСНА ЗАЈЕДНИЦА БЕРИЛОВАЦ","ПИРОТ","840","-","0000002557645","645","-","87","079","06562",2,"06550","07286813",8411,79,1,102141066]
[42800,"МЕСНА ЗАЈЕДНИЦА ВЕЛИКИ ЈОВАНОВАЦ","ПИРОТ","840","-","0000002179645","645","-","60","079","06566",2,"06550","07286848",8411,79,1,102191673]
[42800,"МЕСНА ЗАЈЕДНИЦА ВЕЛИКО СЕЛО","ПИРОТ","840","-","0000002501645","645","-","83","079","06569",2,"06550","07286864",8411,79,1,102663694]
[42800,"МЕСНА ЗАЈЕДНИЦА ГОСТУША","ПИРОТ","840","-","0000002468645","645","-","46","079","06576",2,"06550","07286937",8411,79,1,102659245]
[42800,"МЕСНА ЗАЈЕДНИЦА БЕЛО ПОЉЕ","ПИРОТ","840","-","0000002991645","645","-","21","079","06561",2,"06550","17360302",8411,79,1,102191987]
[42800,"ЈАВНА УСТАНОВА ТУРИСТИЧКА ОРГАНИЗАЦИЈА ПИРОТ","ПИРОТ","840","-","0000001121664","664","-","66","079","80017",2,"06550","17657437",8413,79,1,104440080]
[42800,"СПОРТСКИ ЦЕНТАР ПИРОТ","ПИРОТ","840","-","0000000961664","664","-","13","079","80236",2,"06550","17721569",9311,79,1,105480370]
[42800,"ГРАД ПИРОТ - ГРАДСКО ПРАВОБРАНИЛАШТВО","ПИРОТ","","-","","","-","","079","06551",1,"06551","07131674",6910,79,0,100386203]
[42801,"ЦЕНТАР ЗА СОЦИЈАЛНИ РАД ЗА ОПШТИНУ БАБУШНИЦА","БАБУШНИЦА","840","-","0000000724661","661","-","12","601","80001",2,"13400","17583140",8899,6,1,104353612]
[42801,"ОСНОВНА ШКОЛА ДЕСПОТ СТЕФАН ЛАЗАРЕВИЋ","БАБУШНИЦА","840","-","0000000421660","660","-","28","601","00848",2,"13701","07106335",8520,6,1,100324758]
[42801,"ОСНОВНА ШКОЛА СА ДОМОМ УЧЕНИКА ДОБРИНКА БОГДАНОВИЋ СТРЕЛАЦ","БАБУШНИЦА","840","-","0000000430660","660","-","91","601","00849",2,"13701","07106351",8520,6,1,100979795]
[42801,"ДОМ КУЛТУРЕ БАБУШНИЦА","БАБУШНИЦА","840","-","0000000080664","664","-","54","006","04064",2,"04007","07106432",8559,6,1,100324811]
[42801,"МЕСНА ЗАЈЕДНИЦА ВУЧИ ДЕЛ","БАБУШНИЦА","840","-","0000000487645","645","-","50","006","04022",2,"04007","07109393",8411,6,1,100979891]
[42801,"МЕСНА ЗАЈЕДНИЦА ПРОВАЉЕНИК","БАБУШНИЦА","840","-","0000001380645","645","-","93","006","04049",2,"04007","07109431",8411,6,1,100979867]
[42801,"МЕСНА ЗАЈЕДНИЦА ДОЛ","БАБУШНИЦА","840","-","0000001818645","645","-","55","006","04028",2,"04007","07109440",8411,6,1,100979512]
[42801,"ОПШТИНСКА УПРАВА БАБУШНИЦА","БАБУШНИЦА","","-","","","-","","006","04007",1,"04007","07172788",8411,6,0,102145694]
[42801,"МЕСНА ЗАЈЕДНИЦА РАДОСИН","БАБУШНИЦА","840","-","0000001212645","645","-","81","006","04051",2,"04007","07304714",8411,6,1,100979545]
[42801,"МЕСНА ЗАЈЕДНИЦА РАКОВ ДОЛ","БАБУШНИЦА","840","-","0000000434645","645","-","67","006","04054",2,"04007","07304757",8411,6,1,100979561]
[42801,"МЕСНА ЗАЈЕДНИЦА РЕСНИК","БАБУШНИЦА","840","-","0000001463645","645","-","92","006","04056",2,"04007","07304773",8411,6,1,100979703]
[42801,"МЕСНА ЗАЈЕДНИЦА ЦРВЕНА ЈАБУКА","БАБУШНИЦА","840","-","0000000357645","645","-","13","006","04061",2,"04007","07304820",8411,6,1,100979553]
[42801,"МЕСНА ЗАЈЕДНИЦА БЕРДУЈ","БАБУШНИЦА","840","-","0000001358645","645","-","36","006","04012",2,"04007","07304862",8411,6,1,102145678]
[42801,"МЕСНА ЗАЈЕДНИЦА БРЕСТОВ ДОЛ","БАБУШНИЦА","840","-","0000001863645","645","-","79","006","04016",2,"04007","07304927",8411,6,1,100979504]
[42801,"МЕСНА ЗАЈЕДНИЦА ВАВА","БАБУШНИЦА","840","-","0000001561645","645","-","02","006","04018",2,"04007","07304935",8411,6,1,100979842]
[42801,"МЕСНА ЗАЈЕДНИЦА ДОЊИ СТРИЖЕВАЦ","БАБУШНИЦА","840","-","0000001402645","645","-","53","006","04027",2,"04007","07304978",8411,6,1,100979834]
[42801,"МЕСНА ЗАЈЕДНИЦА ДУЧЕВАЦ","БАБУШНИЦА","840","-","0000001523645","645","-","27","006","04031",2,"04007","07305028",8411,6,1,100979640]
[42801,"МЕСНА ЗАЈЕДНИЦА ЉУБЕРАЂА","БАБУШНИЦА","840","-","0000000304645","645","-","30","006","04041",2,"04007","07305052",8411,6,1,100979449]
[42801,"МЕСНА ЗАЈЕДНИЦА ЛЕСКОВИЦА","БАБУШНИЦА","840","-","0000001600645","645","-","81","006","04039",2,"04007","07305087",8411,6,1,100979529]
[42801,"НАРОДНА БИБЛИОТЕКА БАБУШНИЦА","БАБУШНИЦА","840","-","0000000194664","664","-","76","006","04065",2,"04007","17217925",9101,6,1,100324820]
[42801,"СКУПШТИНА ОПШТИНЕ БАБУШНИЦА","БАБУШНИЦА","","-","","","-","","006","93369",1,"93369","07172788",8411,6,0,102145694]
[42802,"ЦЕНТАР ЗА СОЦИЈАЛНИ РАД ЗА ОПШТИНУ ДИМИТРОВГРАД","ДИМИТРОВГРАД","840","-","0000000723661","661","-","05","601","10087",2,"13400","17652052",8899,37,1,104356852]
[42802,"ОСНОВНА ШКОЛА ХРИСТО БОТЕВ","ДИМИТРОВГРАД","840","-","0000000358660","660","-","72","601","00852",2,"13701","07133049",8520,37,1,100610938]
[42802,"ОПШТИНА ДИМИТРОВГРАД - БУЏЕТ","ДИМИТРОВГРАД","840","-","0000000035640","640","-","05","037","04955",0,"04955","06867804",8411,37,0,101045378]
[42802,"МЕСНА ЗАЈЕДНИЦА ДОЊА НЕВЉА","ДИМИТРОВГРАД","840","-","0000000570645","645","-","49","037","04979",2,"04956","07133286",8411,37,1,102906839]
[42802,"МЕСНА ЗАЈЕДНИЦА РАДЕЈНА","ДИМИТРОВГРАД","840","-","0000000699645","645","-","79","037","04994",2,"04956","07133332",8411,37,1,102663467]
[42802,"МЕСНА ЗАЈЕДНИЦА СЛИВНИЦА","ДИМИТРОВГРАД","840","-","0000000723645","645","-","53","037","04997",2,"04956","07133367",8411,37,1,108602152]
[42802,"МЕСНА ЗАЈЕДНИЦА МОЈИНЦИ","ДИМИТРОВГРАД","840","-","0000000980645","645","-","09","037","04987",2,"04956","07211341",8411,37,1,102733545]
[42802,"МЕСНА ЗАЈЕДНИЦА ВРАПЧА","ДИМИТРОВГРАД","840","-","0000002269645","645","-","11","037","04970",2,"04956","07246820",8411,37,1,102987320]
[42802,"МЕСНА ЗАЈЕДНИЦА ГРАДИЊЕ","ДИМИТРОВГРАД","840","-","0000000893645","645","-","79","037","04975",2,"04956","07289693",8411,37,1,101046401]
[42802,"МЕСНА ЗАЈЕДНИЦА ПРАЧА","ДИМИТРОВГРАД","840","-","0000001917645","645","-","69","037","04992",2,"04956","07289707",8411,37,1,108602185]
[42802,"МЕСНА ЗАЈЕДНИЦА ВИСОЧКИ ОДОРОВЦИ","ДИМИТРОВГРАД","840","-","0000001023645","645","-","19","037","04968",2,"04956","07289740",8411,37,1,102987266]
[42802,"МЕСНА ЗАЈЕДНИЦА БЕЛЕШ","ДИМИТРОВГРАД","840","-","0000002001645","645","-","75","037","05000",2,"04956","07289804",8411,37,1,101046268]
[42802,"МЕСНА ЗАЈЕДНИЦА БРЕБЕВНИЦА","ДИМИТРОВГРАД","840","-","0000001804645","645","-","54","037","04966",2,"04956","07289847",8411,37,1,102906847]
[42802,"МЕСНА ЗАЈЕДНИЦА БИЛО","ДИМИТРОВГРАД","840","-","0000002254645","645","-","03","037","04963",2,"04956","07289863",8411,37,1,109025126]
[42802,"МЕСНА ЗАЈЕДНИЦА ГОРЊИ КРИВОДОЛ","ДИМИТРОВГРАД","840","-","0000002239645","645","-","92","037","04974",2,"04956","07289928",8411,37,1,102987379]
[42802,"НАРОДНА БИБЛИОТЕКАДЕТКО ПЕТРОВ ДИМИТРОВГРАД","ДИМИТРОВГРАД","840","-","0000000185664","664","-","13","037","05003",2,"04956","17044150",9101,37,1,101045386]
[42802,"УСТАНОВА ЗА СПОРТ И ТУРИЗАМ СПОРТСКО ТУРИСТИЧКИ ЦЕНТАР ЦАРИБРОД ДИМИТРОВГРАД","ДИМИТРОВГРАД","840","-","0000001179664","664","-","84","037","60926",2,"04956","17894773",9311,37,1,109733717]
[42802,"ОПШТИНСКО ВЕЋЕ","ДИМИТРОВГРАД","","-","","","-","","037","60485",1,"60485","06867804",8411,37,0,101045378]
[42803,"ОСНОВНА ШКОЛА ЉУПЧЕ ШПАНАЦ","БЕЛА ПАЛАНКА","840","-","0000001777660","660","-","14","601","00799",2,"13701","07106505",8520,9,1,100822086]
[42803,"ОПШТИНА БЕЛА ПАЛАНКА - ОПШТИНСКА УПРАВА","БЕЛА ПАЛАНКА","","-","","","-","","009","04128",1,"04128","07106564",8411,9,0,100822027]
[42803,"МЕСНА ЗАЈЕДНИЦА ГЛОГОВАЦ","БЕЛА ПАЛАНКА","840","-","0000003533645","645","-","32","009","04139",2,"04128","07130775",8411,9,1,103049607]
[42803,"МЕСНА ЗАЈЕДНИЦА ОРЕОВАЦ","БЕЛА ПАЛАНКА","840","-","0000003498645","645","-","78","009","04162",2,"04128","07130805",8411,9,1,103143042]
[42803,"МЕСНА ЗАЈЕДНИЦА ТАМЊАНИЦА","БЕЛА ПАЛАНКА","840","-","0000003478645","645","-","35","009","04165",2,"04128","07263147",8411,9,1,102141988]
[42803,"МЕСНА ЗАЈЕДНИЦА ДИВЉАНЕ","БЕЛА ПАЛАНКА","840","-","0000003442645","645","-","74","009","04143",2,"04128","07263198",8411,9,1,101760333]
[42803,"МЕСНА ЗАЈЕДНИЦА ДОЊА КОРИТНИЦА","БЕЛА ПАЛАНКА","840","-","0000003546645","645","-","26","009","04146",2,"04128","07263236",8411,9,1,101760278]
[42803,"МЕСНА ЗАЈЕДНИЦА ВРАНДОЛ","БЕЛА ПАЛАНКА","840","-","0000003476645","645","-","21","009","04136",2,"04128","07263244",8411,9,1,103085461]
[42803,"МЕСНА ЗАЈЕДНИЦА ТЕЛОВАЦ","БЕЛА ПАЛАНКА","840","-","0000003466645","645","-","48","009","04166",2,"04128","07263317",8411,9,1,102142018]
[42803,"МЕСНА ЗАЈЕДНИЦА КОЗЈА","БЕЛА ПАЛАНКА","840","-","0000003460645","645","-","06","009","04151",2,"04128","07273002",8411,9,1,101760294]
[42803,"МЕСНА ЗАЈЕДНИЦА ВРГУДИНАЦ","БЕЛА ПАЛАНКА","840","-","0000003483645","645","-","70","009","04137",2,"04128","07304609",8411,9,1,102142042]
[42803,"МЕСНА ЗАЈЕДНИЦА НОВО СЕЛО","БЕЛА ПАЛАНКА","840","-","0000003492645","645","-","36","009","04161",2,"04128","07304625",8411,9,1,102386260]
[42803,"ТУРИСТИЧКА ОРГАНИЗАЦИЈА БЕЛЕ ПАЛАНКЕ","БЕЛА ПАЛАНКА","840","-","0000001141664","664","-","12","009","80047",2,"04128","17663771",8413,9,1,104655906]
[42803,"ОПШТИНА БЕЛА ПАЛАНКА - ПРЕДСЕДНИК ОПШТИНЕ","БЕЛА ПАЛАНКА","","-","","","-","","009","94820",1,"94820","07106564",8411,9,0,100822027]
[42900,"МУП - ПОЛИЦИЈСКА УПРАВА ПОЖАРЕВАЦ","ПОЖАРЕВАЦ","840","-","0000000686621","621","-","60","601","00053",4,"10600","07008104",8424,80,0,100184116]
[42900,"ЦЕНТАР ЗА СОЦИЈАЛНИ РАД ПОЖАРЕВАЦ","ПОЖАРЕВАЦ","840","-","0000000039661","661","-","67","601","00256",2,"13400","07160992",8899,80,1,102254953]
[42900,"ОСНОВНА ШКОЛА МОША ПИЈАДЕ","МАЛО ЦРНИЋЕ","840","-","0000000285660","660","-","46","601","00862",2,"13701","07142129",8520,66,1,101337614]
[42900,"ОСНОВНА ШКОЛА СВЕТИ САВА ПОЖАРЕВАЦ","ПОЖАРЕВАЦ","840","-","0000000138660","660","-","84","601","00864",2,"13701","07161271",8520,80,1,101522460]
[42900,"ОСНОВНА И СРЕДЊА МУЗИЧКА ШКОЛА СТЕВАН МОКРАЊАЦ","ПОЖАРЕВАЦ","840","-","0000001222660","660","-","09","601","01624",2,"13701","07336136",8520,80,1,101972985]
[42900,"ОСНОВНА ШКОЛА МИЛОШ САВИЋ ЛУЧИЦА","ПОЖАРЕВАЦ","840","-","0000001341660","660","-","66","601","00861",2,"13701","17005863",8520,80,1,101522120]
[42900,"ПОЛИТЕХНИЧКА ШКОЛА ПОЖАРЕВАЦ","ПОЖАРЕВАЦ","840","-","0000001273660","660","-","75","601","01938",2,"13702","07577656",8532,80,1,101522672]
[42900,"ВИШИ СУД У ПОЖАРЕВЦУ","ПОЖАРЕВАЦ","","-","","","-","","601","80450",2,"30225","17773011",8423,80,5,106399633]
[42900,"ПРИВРЕДНИ СУД У ПОЖАРЕВЦУ","ПОЖАРЕВАЦ","","-","","","-","","601","80503",2,"30227","17773429",8423,80,5,106399625]
[42900,"ПРЕКРШАЈНИ СУД У ПОЖАРЕВЦУ","ПОЖАРЕВАЦ","","-","","","-","","601","80605",2,"30233","17774140",8423,80,5,106399676]
[42900,"АПОТЕКАРСКА УСТАНОВА ПОЖАРЕВАЦ","ПОЖАРЕВАЦ","840","-","0000000450661","661","-","34","601","02628",2,"95000","17029720",4773,80,3,100437081]
[42900,"НАЦИОНАЛНА СЛУЖБА ЗА ЗАПОШЉАВАЊЕ-ФИЛИЈАЛА ПОЖАРЕВАЦ","ПОЖАРЕВАЦ","840","-","0000000011654","654","-","86","601","00114",4,"95400","17539957",7810,80,0,103277483]
[42900,"МЕСНА ЗАЈЕДНИЦА КЛЕНОВНИК","КОСТОЛАЦ","840","-","0000000502645","645","-","58","129","06671",2,"80813","07141050",8411,129,1,100282668]
[42900,"МЕСНА ЗАЈЕДНИЦА ОСТРОВО КОД КОСТОЛЦА","КОСТОЛАЦ","840","-","0000000474645","645","-","56","129","06677",2,"80813","07286295",8411,129,1,100438100]
[42900,"ГРАД ПОЖАРЕВАЦ-БУЏЕТ","ПОЖАРЕВАЦ","840","-","0000000005640","640","-","86","080","06650",0,"06650","07271239",8411,80,0,100438011]
[42900,"НАРОДНА БИБЛИОТЕКА ИЛИЈА М. ПЕТРОВИЋ","ПОЖАРЕВАЦ","840","-","0000000396664","664","-","35","080","06700",2,"06651","06961312",9101,80,1,100442528]
[42900,"МЕСНА ЗАЈЕДНИЦА ПОЉАНА","ПОЖАРЕВАЦ","840","-","0000000881645","645","-","92","080","06679",2,"06651","07140975",8411,80,1,102027633]
[42900,"МЕСНА ЗАЈЕДНИЦА БУБУШИНАЦ","ПОЖАРЕВАЦ","840","-","0000000397645","645","-","02","080","06660",2,"06651","07141009",8411,80,1,100438298]
[42900,"МЕСНА ЗАЈЕДНИЦА БРАЋА ВУЈОВИЋ","ПОЖАРЕВАЦ","","-","","","-","","080","06685",2,"06651","07141041",8411,80,1,100438046]
[42900,"МЕСНА ЗАЈЕДНИЦА ПАРК","ПОЖАРЕВАЦ","","-","","","-","","080","06692",2,"06651","07159170",8411,80,1,100438020]
[42900,"МЕСНА ЗАЈЕДНИЦА КАСИДОЛ","ПОЖАРЕВАЦ","840","-","0000000585645","645","-","57","080","06670",2,"06651","07161174",8411,80,1,100438175]
[42900,"МЕСНА ЗАЈЕДНИЦА ЛУЧИЦА","ПОЖАРЕВАЦ","840","-","0000000762645","645","-","35","080","06673",2,"06651","07161212",8411,80,1,100438126]
[42900,"МЕСНА ЗАЈЕДНИЦА ТРЊАНЕ","ПОЖАРЕВАЦ","840","-","0000000690645","645","-","16","080","06682",2,"06651","07161352",8411,80,1,100438206]
[42900,"МЕСНА ЗАЈЕДНИЦА НАСЕЉЕ ЗАБЕЛА","ПОЖАРЕВАЦ","","-","","","-","","080","06676",2,"06651","07229003",8411,80,1,102027828]
[42900,"МЕСНА ЗАЈЕДНИЦА СОПОТ","ПОЖАРЕВАЦ","","-","","","-","","080","06694",2,"06651","07238266",8411,80,1,100438038]
[42900,"ГРАДСКА УПРАВА ПОЖАРЕВАЦ","ПОЖАРЕВАЦ","","-","","","-","","080","06651",1,"06651","07271239",8411,80,0,100438011]
[42900,"ЦЕНТАР ЗА КУЛТУРУ ПОЖАРЕВАЦ","ПОЖАРЕВАЦ","840","-","0000000444664","664","-","80","080","06703",2,"06651","17314955",9003,80,1,100441200]
[42900,"СКУПШТИНА ГРАДА ПОЖАРЕВАЦ","ПОЖАРЕВАЦ","","-","","","-","","080","09789",1,"09789","07271239",8411,80,0,100438011]
[42900,"МЕСНА ЗАЈЕДНИЦА ВРБНИЦА","МАЛО ЦРНИЋЕ","840","-","0000001472645","645","-","58","066","06133",2,"06126","07142226",8411,66,1,101338262]
[42900,"МЕСНА ЗАЈЕДНИЦА СМОЉИНАЦ","МАЛО ЦРНИЋЕ","840","-","0000000001645","645","-","43","066","06147",2,"06126","07142277",8411,66,1,102468281]
[42900,"МЕСНА ЗАЈЕДНИЦА МАЛО ЦРНИЋЕ","МАЛО ЦРНИЋЕ","840","-","0000000075645","645","-","76","066","06146",2,"06126","07142293",8411,66,1,101338088]
[42900,"МЕСНА ЗАЈЕДНИЦА КАЛИШТЕ","МАЛО ЦРНИЋЕ","840","-","0000000184645","645","-","63","066","06135",2,"06126","07142340",8411,66,1,101338012]
[42900,"МЕСНА ЗАЈЕДНИЦА КРАВЉИ ДО","МАЛО ЦРНИЋЕ","840","-","0000000049645","645","-","88","066","06145",2,"06126","07142382",8411,66,1,101338037]
[42900,"МЕСНА ЗАЈЕДНИЦА БОЖЕВАЦ","МАЛО ЦРНИЋЕ","840","-","0000000211645","645","-","58","066","06131",2,"06126","07142404",8411,66,1,101338326]
[42900,"МЕСНА ЗАЈЕДНИЦА АЉУДОВО","МАЛО ЦРНИЋЕ","840","-","0000002823645","645","-","09","066","06129",2,"06126","07311460",8411,66,1,101337997]
[42900,"ФОНД ЗА РАЗВОЈ ПОЉОПРИВРЕДЕ ОПШТИНЕ МАЛО ЦРНИЋЕ","МАЛО ЦРНИЋЕ","","-","","","-","","066","09887",2,"06126","17619519",6499,66,1,103670369]
[42900,"ОПШТИНСКО ВЕЋЕ МАЛО ЦРНИЋЕ","МАЛО ЦРНИЋЕ","","-","","","-","","066","92305",1,"92305","07345534",8411,66,0,101336839]
[42910,"ЦЕНТАР ЗА СОЦИЈАЛНИ РАД ОПШТИНА ПЕТРОВАЦ НА МЛАВИ И ЖАГУБИЦА","ПЕТРОВАЦ НА МЛАВИ","840","-","0000000365661","661","-","21","601","00257",2,"13400","07287194",8899,78,1,101585418]
[42910,"ОСНОВНА ШКОЛА ЈОВАН ШЕРБАНОВИЋ РАНОВАЦ","ПЕТРОВАЦ НА МЛАВИ","840","-","0000000751660","660","-","10","601","00869",2,"13701","07161751",8520,78,1,101944710]
[42910,"ОСНОВНА ШКОЛА МИРОСЛАВ БУКУМИРОВИЋ-БУКУМ ШЕТОЊЕ","ПЕТРОВАЦ НА МЛАВИ","840","-","0000000780660","660","-","19","601","00870",2,"13701","07161832",8520,78,1,101587887]
[42910,"ОСНОВНО ЈАВНО ТУЖИЛАШТВО У ПЕТРОВЦУ НА МЛАВИ","ПЕТРОВАЦ НА МЛАВИ","","-","","","-","","601","91339",2,"30229","17865846",8423,78,5,108347985]
[42910,"ДОМ ЗДРАВЉА ПЕТРОВАЦ НА МЛАВИ","ПЕТРОВАЦ НА МЛАВИ","840","-","0000000859661","661","-","84","601","91563",2,"95000","17862847",8621,78,3,108349604]
[42910,"МЕСНА ЗАЈЕДНИЦА ЛОПУШНИК","ПЕТРОВАЦ НА МЛАВИ","840","-","0000001764645","645","-","65","078","06525",2,"06503","07161093",8411,78,1,101590657]
[42910,"МЕСНА ЗАЈЕДНИЦА СТАРЧЕВО","ПЕТРОВАЦ НА МЛАВИ","840","-","0000002860645","645","-","74","078","06536",2,"06503","07161905",8411,78,1,101590712]
[42910,"МЕСНА ЗАЈЕДНИЦА ПАНКОВО","ПЕТРОВАЦ НА МЛАВИ","840","-","0000001868645","645","-","17","078","06531",2,"06503","07161964",8411,78,1,101589663]
[42910,"МЕСНА ЗАЈЕДНИЦА ВЕЗИЧЕВО","ПЕТРОВАЦ НА МЛАВИ","840","-","0000001854645","645","-","16","078","06511",2,"06503","07162014",8411,78,1,101591184]
[42910,"МЕСНА ЗАЈЕДНИЦА БУСУР","ПЕТРОВАЦ НА МЛАВИ","840","-","0000001909645","645","-","13","078","06510",2,"06503","07162103",8411,78,1,101589655]
[42910,"МЕСНА ЗАЈЕДНИЦА ТРНОВЧЕ","ПЕТРОВАЦ НА МЛАВИ","840","-","0000002879645","645","-","13","078","06538",2,"06503","07225504",8411,78,1,101590673]
[42910,"МЕСНА ЗАЈЕДНИЦА КНЕЖИЦА","ПЕТРОВАЦ НА МЛАВИ","840","-","0000001780645","645","-","80","078","06523",2,"06503","07228821",8411,78,1,101589680]
[42910,"МЕСНА ЗАЈЕДНИЦА ВЕЛИКИ ПОПОВАЦ","ПЕТРОВАЦ НА МЛАВИ","840","-","0000001732645","645","-","35","078","06512",2,"06503","07228830",8411,78,1,101589972]
[42910,"МЕСНА ЗАЈЕДНИЦА БОШЊАК","ПЕТРОВАЦ НА МЛАВИ","840","-","0000001884645","645","-","32","078","06508",2,"06503","07235046",8411,78,1,101590753]
[42910,"МЕСНА ЗАЈЕДНИЦА КЛАДУРОВО","ПЕТРОВАЦ НА МЛАВИ","840","-","0000002930645","645","-","79","078","06522",2,"06503","07247184",8411,78,1,101591192]
[42910,"МЕСНА ЗАЈЕДНИЦА СТАМНИЧКА РЕКА СТАМНИЦА","ПЕТРОВАЦ НА МЛАВИ","840","-","0000003032645","645","-","17","078","06541",2,"06503","07315716",8411,78,1,101590704]
[42910,"ФОНД СОЛИДАРНЕ СTАМБЕНЕ ИЗГРАДЊЕ","ПЕТРОВАЦ НА МЛАВИ","","-","","","-","","078","06506",2,"06503","17288369",6499,78,1,102890476]
[42910,"АГРАРНИ ФОНД ЗА РАЗВОЈ ПОЉОПРИВРЕДЕ","ПЕТРОВАЦ НА МЛАВИ","","-","","","-","","078","09903",2,"06503","17634348",6499,78,1,104028006]
[42910,"ЈАВНА УСТАНОВА ДИРЕКЦИЈА ЗА ОМЛАДИНУ И СПОРТ ПЕТРОВАЦ НА МЛАВИ","ПЕТРОВАЦ НА МЛАВИ","840","-","0000000989664","664","-","15","078","80359",2,"06503","17774778",9311,78,1,106049757]
[42920,"СРЕДЊА ШКОЛА ВЕЛИКО ГРАДИШТЕ","ВЕЛИКО ГРАДИШТЕ","840","-","0000000937660","660","-","51","601","01726",2,"13702","07159226",8531,110,1,101364834]
[42920,"ОСНОВНИ СУД У ВЕЛИКОМ ГРАДИШТУ","ВЕЛИКО ГРАДИШТЕ","","-","","","-","","601","91279",2,"30226","17865463",8423,110,5,108341340]
[42920,"МЕСНА ЗАЈЕДНИЦА ВЕЛИКО ГРАДИШТЕ","ВЕЛИКО ГРАДИШТЕ","840","-","0000002274645","645","-","46","110","07842",2,"07837","07141360",8411,110,1,101368292]
[42920,"МЕСНА ЗАЈЕДНИЦА КАМИЈЕВО","ВЕЛИКО ГРАДИШТЕ","840","-","0000002502645","645","-","90","110","07848",2,"07837","07141408",8411,110,1,102327103]
[42920,"МЕСНА ЗАЈЕДНИЦА ДОЉАШНИЦА","ВЕЛИКО ГРАДИШТЕ","840","-","0000002530645","645","-","92","110","07845",2,"07837","07141467",8411,110,1,101855261]
[42920,"МЕСНА ЗАЈЕДНИЦА ТОПОЛОВНИК","ВЕЛИКО ГРАДИШТЕ","840","-","0000002449645","645","-","10","110","07862",2,"07837","07141491",8411,110,1,101855173]
[42920,"МЕСНА ЗАЈЕДНИЦА ГАРЕВО","ВЕЛИКО ГРАДИШТЕ","840","-","0000002888645","645","-","76","110","07843",2,"07837","07141513",8411,110,1,102647320]
[42920,"МЕСНА ЗАЈЕДНИЦА КУМАНЕ","ВЕЛИКО ГРАДИШТЕ","840","-","0000002956645","645","-","67","110","07850",2,"07837","07141548",8411,110,1,102341166]
[42920,"МЕСНА ЗАЈЕДНИЦА ЂУРАКОВО","ВЕЛИКО ГРАДИШТЕ","840","-","0000002362645","645","-","80","110","07846",2,"07837","07228562",8411,110,1,102341174]
[42920,"МЕСНА ЗАЈЕДНИЦА КУРЈАЧЕ","ВЕЛИКО ГРАДИШТЕ","840","-","0000002397645","645","-","34","110","07851",2,"07837","07234104",8411,110,1,101855157]
[42920,"ЈАВНА УСТАНОВА КУЛТУРНИ ЦЕНТАР ОПШТИНЕ ВЕЛИКО ГРАДИШТЕ","ВЕЛИКО ГРАДИШТЕ","840","-","0000000430664","664","-","79","110","07867",2,"07837","17223909",9004,110,1,101365458]
[42920,"ОПШТИНСКО ПРАВОБРАНИЛАШТВО ВЕЛИКО ГРАДИШТЕ","ВЕЛИКО ГРАДИШТЕ","","-","","","-","","110","80063",1,"80063","07163029",8411,110,0,101364588]
[42930,"ОСНОВНА ШКОЛА МОША ПИЈАДЕ","ЖАГУБИЦА","840","-","0000000975660","660","-","26","601","00878",2,"13701","07140797",8520,118,1,101378575]
[42930,"ДОМ ЗДРАВЉА ЖАГУБИЦА","ЖАГУБИЦА","840","-","0000000474661","661","-","08","601","02451",2,"95000","17185934",8621,118,3,101579444]
[42930,"МЕСНА ЗАЈЕДНИЦА ВУКОВАЦ ВУКОВАЦ","ЖАГУБИЦА","840","-","0000002636645","645","-","58","118","08203",2,"08192","07140665",8411,118,1,102500991]
[42930,"МЕСНА ЗАЈЕДНИЦА ЈЕДИНСТВО ЛАЗНИЦА","ЖАГУБИЦА","840","-","0000002573645","645","-","05","118","08205",2,"08192","07140746",8411,118,1,101579918]
[42930,"МЕСНА ЗАЈЕДНИЦА ГОРЊАК КРЕПОЉИН","ЖАГУБИЦА","840","-","0000002563645","645","-","32","118","08204",2,"08192","07140878",8411,118,1,102428330]
[42930,"МЕСНА ЗАЈЕДНИЦА МЛАВА РИБАРЕ","ЖАГУБИЦА","840","-","0000002624645","645","-","71","118","08207",2,"08192","07140886",8411,118,1,102939839]
[42930,"МЕСНА ЗАЈЕДНИЦА ПИОНИР ИЗВАРИЦА","ЖАГУБИЦА","840","-","0000002615645","645","-","08","118","08208",2,"08192","07238258",8411,118,1,102939855]
[42930,"ТУРИСТИЧКА ОРГАНИЗАЦИЈА ОПШТИНЕ ЖАГУБИЦА","ЖАГУБИЦА","840","-","0000001172664","664","-","35","118","99642",2,"08192","17891553",8413,118,1,109597257]
[42940,"ЦЕНТАР ЗА СОЦИЈАЛНИ РАД ЗА ОПШТИНУ КУЧЕВО","КУЧЕВО","840","-","0000000371661","661","-","63","601","00259",2,"13400","07291744",8899,53,1,101278129]
[42940,"ОСНОВНА ШКОЛА СЛОБОДАН ЈОВИЋ ВОЛУЈА","КУЧЕВО","840","-","0000001022660","660","-","64","601","00881",2,"13701","07222327",8520,53,1,101278379]
[42940,"ЕКОНОМСКО-ТРГОВИНСКА И МАШИНСКА ШКОЛА","КУЧЕВО","840","-","0000001160660","660","-","60","601","01942",2,"13702","07164050",8532,53,1,101279319]
[42940,"МЕСНА ЗАЈЕДНИЦА РАБРОВО","КУЧЕВО","840","-","0000002691645","645","-","55","053","05608",2,"05581","07141769",8411,53,1,101277667]
[42940,"МЕСНА ЗАЈЕДНИЦА ДУБОКА","КУЧЕВО","840","-","0000002700645","645","-","21","053","05592",2,"05581","07141823",8411,53,1,101279054]
[42940,"МЕСНА ЗАЈЕДНИЦА РАКОВА БАРА","КУЧЕВО","840","-","0000002719645","645","-","57","053","05600",2,"05581","07141831",8411,53,1,101278985]
[42940,"МЕСНА ЗАЈЕДНИЦА КУЧЕВО","КУЧЕВО","840","-","0000002730645","645","-","37","053","05596",2,"05581","07141882",8411,53,1,101278830]
[42940,"МЕСНА ЗАЈЕДНИЦА РАДЕНКА","КУЧЕВО","840","-","0000002791645","645","-","76","053","05599",2,"05581","07246196",8411,53,1,101279062]
[42940,"МЕСНА ЗАЈЕДНИЦА СЕНА","КУЧЕВО","840","-","0000002973645","645","-","89","053","05601",2,"05581","07293984",8411,53,1,101278969]
[42940,"МЕСНА ЗАЈЕДНИЦА ВЕЛИКА БРЕСНИЦА","КУЧЕВО","840","-","0000003058645","645","-","05","053","05589",2,"05581","07646186",8411,53,1,101278993]
[42940,"ФОНД ЗА РАЗВОЈ ПОЉОПРИВРЕДЕ ОПШТИНЕ КУЧЕВО","КУЧЕВО","840","-","0000000398644","644","-","12","053","05584",2,"05581","17189131",6499,53,1,103439081]
[42940,"СКУПШТИНА ОПШТИНЕ КУЧЕВО","КУЧЕВО","","-","","","-","","053","09788",1,"09788","07162995",8411,53,0,101276623]
[42950,"ДОМ ЗДРАВЉА ГОЛУБАЦ","ГОЛУБАЦ","840","-","0000000815661","661","-","67","601","80877",2,"95000","17816080",8621,40,3,106889829]
[42950,"ОПШТИНА ГОЛУБАЦ-БУЏЕТ","ГОЛУБАЦ","840","-","0000000122640","640","-","32","040","05061",0,"05061","07162901",8411,40,0,101483358]
[42950,"МЕСНА ЗАЈЕДНИЦА БРАНИЧЕВО","ГОЛУБАЦ","840","-","0000002171645","645","-","04","040","05069",2,"05062","07141343",8411,40,1,101855315]
[42950,"МЕСНА ЗАЈЕДНИЦА МАЛЕШЕВО","ГОЛУБАЦ","840","-","0000002069645","645","-","66","040","05082",2,"05062","07199996",8411,40,1,102394552]
[42950,"МЕСНА ЗАЈЕДНИЦА ДВОРИШТЕ","ГОЛУБАЦ","840","-","0000002326645","645","-","22","040","05074",2,"05062","07228414",8411,40,1,102394528]
[42950,"МЕСНА ЗАЈЕДНИЦА СНЕГОТИН","ГОЛУБАЦ","840","-","0000002126645","645","-","77","040","05088",2,"05062","07228457",8411,40,1,102590072]
[42950,"МЕСНА ЗАЈЕДНИЦА ДОЊА КРУШЕВИЦА","ГОЛУБАЦ","840","-","0000002244645","645","-","30","040","05076",2,"05062","07228473",8411,40,1,102788124]
[42950,"МЕСНА ЗАЈЕДНИЦА ЖИТКОВИЦА","ГОЛУБАЦ","840","-","0000002156645","645","-","93","040","05078",2,"05062","07228503",8411,40,1,102590064]
[42950,"МЕСНА ЗАЈЕДНИЦА ПОНИКВЕ","ГОЛУБАЦ","840","-","0000003067645","645","-","68","040","05085",2,"05062","17270010",8411,40,1,102790213]
[42950,"СКУПШТИНА ОПШТИНЕ ГОЛУБАЦ","ГОЛУБАЦ","","-","","","-","","040","09729",1,"09729","07162901",8411,40,0,101483358]
[42960,"ЦЕНТАР ЗА СОЦИЈАЛНИ РАД ОПШТИНЕ ЖАБАРИ","ЖАБАРИ","840","-","0000000435661","661","-","26","601","00260",2,"13400","06334946",8899,117,1,101380859]
[42960,"ОПШТИНА ЖАБАРИ-БУЏЕТ","ЖАБАРИ","840","-","0000000065640","640","-","21","117","08167",0,"08167","07162456",8411,117,0,102672556]
[42960,"МЕСНА ЗАЈЕДНИЦА СВИЊАРЕВО","ЖАБАРИ","840","-","0000003044645","645","-","04","117","08181",2,"08168","07141203",8411,117,1,101975381]
[42960,"МЕСНА ЗАЈЕДНИЦА СИБНИЦА","ЖАБАРИ","840","-","0000001182645","645","-","65","117","08182",2,"08168","07141238",8411,117,1,101975390]
[42960,"МЕСНА ЗАЈЕДНИЦА АЛЕКСАНДРОВАЦ","ЖАБАРИ","840","-","0000001370645","645","-","23","117","08174",2,"08168","07141254",8411,117,1,101975332]
[42960,"ОПШТИНСКА УПРАВА ЖАБАРИ","ЖАБАРИ","","-","","","-","","117","08168",1,"08168","07162456",8411,117,0,102672556]
[42960,"ЦЕНТАР ЗА КУЛТУРУ ВОЈИСЛАВ ИЛИЋ МЛАЂИ ЖАБАРИ","ЖАБАРИ","840","-","0000000448664","664","-","11","117","08189",2,"08168","17427920",9003,117,1,101975228]
[42960,"МЕСНА ЗАЈЕДНИЦА ГОРЊА ЛИВАДИЦА ПОРОДИН","ЖАБАРИ","840","-","0000004008645","645","-","59","117","09546",2,"08168","17545981",8411,117,1,103246487]
[42960,"СКУПШТИНА ОПШТИНЕ ЖАБАРИ","ЖАБАРИ","","-","","","-","","117","96355",1,"96355","07162456",8411,117,0,102672556]
[43000,"МУП - ПОЛИЦИЈСКА УПРАВА ПРИЈЕПОЉЕ","ПРИЈЕПОЉЕ","840","-","0000000956621","621","-","10","601","80228",4,"10600","07008104",8424,84,0,100184116]
[43000,"ОСНОВНА ШКОЛА 10. ОКТОБАР ДОЊЕ БАБИНЕ","ПРИЈЕПОЉЕ","840","-","0000000036660","660","-","49","601","00887",2,"13701","07111258",8520,84,1,102114462]
[43000,"ОСНОВНА ШКОЛА МИХАИЛО БАКОВИЋ","ПРИЈЕПОЉЕ","840","-","0000000139660","660","-","91","601","00892",2,"13701","07111312",8520,84,1,100809724]
[43000,"ОСНОВНА МУЗИЧКА ШКОЛА ПРИЈЕПОЉЕ","ПРИЈЕПОЉЕ","840","-","0000000856660","660","-","66","601","01625",2,"13701","17049054",8520,84,1,100808065]
[43000,"ЕКОНОМСКО-ТРГОВИНСКА ШКОЛА ПРИЈЕПОЉЕ","ПРИЈЕПОЉЕ","840","-","0000000761660","660","-","80","601","01943",2,"13702","07575122",8531,84,1,102216097]
[43000,"ОПШТИНА ПРИЈЕПОЉЕ - БУЏЕТ","ПРИЈЕПОЉЕ","840","-","0000000006640","640","-","93","084","06808",0,"06808","06789919",8411,84,0,100809636]
[43000,"ПРЕДШКОЛСКА  УСТАНОВА МИША ЦВИЈОВИЋ","ПРИЈЕПОЉЕ","840","-","0000000008661","661","-","44","084","06844",2,"06809","07110987",8891,84,1,100808539]
[43000,"МЕСНА ЗАЈЕДНИЦА СЕЉАШНИЦА","ПРИЈЕПОЉЕ","840","-","0000000062645","645","-","82","084","06839",2,"06809","07111053",8411,84,1,102438559]
[43000,"МЕСНА ЗАЈЕДНИЦА КАМЕНА ГОРА","ПРИЈЕПОЉЕ","840","-","0000000513645","645","-","38","084","06828",2,"06809","07111096",8411,84,1,102438948]
[43000,"БИБЛИОТЕКА ВУК КАРАЏИЋ","ПРИЈЕПОЉЕ","840","-","0000000024664","664","-","50","084","06846",2,"06809","07188285",9101,84,1,102114366]
[43000,"МЕСНА ЗАЈЕДНИЦА ХИСАРЏИК","ПРИЈЕПОЉЕ","840","-","0000000279645","645","-","49","084","06843",2,"06809","07209894",8411,84,1,102438997]
[43000,"МЕСНА ЗАЈЕДНИЦА СЛАТИНА","ПРИЈЕПОЉЕ","840","-","0000000332645","645","-","32","084","06840",2,"06809","07243626",8411,84,1,101882117]
[43000,"МЕСНА ЗАЈЕДНИЦА МАТАРУГЕ","ПРИЈЕПОЉЕ","840","-","0000001297645","645","-","94","084","06832",2,"06809","07284772",8411,84,1,101882125]
[43000,"МЕСНА ЗАЈЕДНИЦА СТРАЊАНИ","ПРИЈЕПОЉЕ","840","-","0000000624645","645","-","39","084","06841",2,"06809","07292252",8411,84,1,102439004]
[43000,"МЕСНА ЗАЈЕДНИЦА ИВАЊЕ","ПРИЈЕПОЉЕ","840","-","0000000172645","645","-","76","084","06826",2,"06809","07293674",8411,84,1,102438606]
[43000,"МУЗЕЈ У ПРИЈЕПОЉУ","ПРИЈЕПОЉЕ","840","-","0000000154664","664","-","87","084","06847",2,"06809","07347324",9102,84,1,100808741]
[43000,"ОПШТИНА ПРИЈЕПОЉЕ - ОПШТИНСКО ПРАВОБРАНИЛАШТВО","ПРИЈЕПОЉЕ","","-","","","-","","084","62183",1,"62183","06789919",6910,84,0,100809636]
[43010,"ОПШТИНСКИ ЦЕНТАР ЗА СОЦИЈАЛНИ РАД НОВА ВАРОШ","НОВА ВАРОШ","840","-","0000000121661","661","-","59","601","00261",2,"13400","07399871",8899,74,1,101067243]
[43010,"ОСНОВНА ШКОЛА ДОБРИСАВ-ДОБРИЦА РАЈИЋ БИСТРИЦА","НОВА ВАРОШ","840","-","0000000582660","660","-","88","601","00898",2,"13701","07109911",8520,74,1,101067979]
[43010,"ОСНОВНА ШКОЛА МОМИР ПУЦАРЕВИЋ АКМАЧИЋИ","НОВА ВАРОШ","840","-","0000000587660","660","-","26","601","00900",2,"13701","07210400",8520,74,1,100957477]
[43010,"МЕСНА ЗАЈЕДНИЦА БОЖЕТИЋИ","НОВА ВАРОШ","840","-","0000000677645","645","-","22","074","06366",2,"06356","07110049",8411,74,1,101067665]
[43010,"МЕСНА ЗАЈЕДНИЦА БИСТРИЦА","НОВА ВАРОШ","840","-","0000000650645","645","-","27","074","06365",2,"06356","07110065",8411,74,1,101067712]
[43010,"ОПШТИНА НОВА ВАРОШ-ОПШТИНСКА УПРАВА","НОВА ВАРОШ","","-","","","-","","074","06356",1,"06356","07239017",8411,74,0,101067624]
[43010,"МЕСНА ЗАЈЕДНИЦА НОВА ВАРОШ","НОВА ВАРОШ","840","-","0000001130645","645","-","89","074","06361",2,"06356","07239262",8411,74,1,101068779]
[43010,"МЕСНА ЗАЈЕДНИЦА ВРАНЕША","НОВА ВАРОШ","840","-","0000001359645","645","-","43","074","06367",2,"06356","07318251",8411,74,1,101068746]
[43010,"УСТАНОВА ТУРИСТИЧКО-СПОРТСКИ ЦЕНТАР ЗЛАТАР","НОВА ВАРОШ","840","-","0000000953664","664","-","54","074","80184",2,"06356","17710516",8413,74,1,105049444]
[43010,"ОПШТИНА НОВА ВАРОШ-СКУПШТИНА ОПШТИНЕ","НОВА ВАРОШ","","-","","","-","","074","92202",1,"92202","07239017",8411,74,0,101067624]
[43020,"ЦЕНТАР ЗА СОЦИЈАЛНИ РАД ПРИБОЈ","ПРИБОЈ","840","-","0000000061661","661","-","27","601","00262",2,"13400","07111371",8899,83,1,101203907]
[43020,"ОСНОВНА ШКОЛА 9. МАЈ САСТАВЦИ","ПРИБОЈ","840","-","0000000400660","660","-","75","601","00901",2,"13701","07155751",8520,83,1,101206270]
[43020,"ГИМНАЗИЈА ПРИБОЈ","ПРИБОЈ","840","-","0000000739660","660","-","23","601","01729",2,"13702","07111347",8531,83,1,101207756]
[43020,"ОПШТИНА ПРИБОЈ-БУЏЕТ","ПРИБОЈ","840","-","0000000059640","640","-","76","083","06780",0,"06780","07158289",8411,83,0,101207254]
[43020,"МЕСНА ЗАЈЕДНИЦА САСТАВЦИ","ПРИБОЈ","840","-","0000001878645","645","-","87","083","06795",2,"06781","07112173",8411,83,1,101881368]
[43020,"МЕСНА ЗАЈЕДНИЦА РАЧА","ПРИБОЈ","840","-","0000001044645","645","-","69","083","06794",2,"06781","07112211",8411,83,1,101208339]
[43020,"МЕСНА ЗАЈЕДНИЦА КАЛАФАТИ","ПРИБОЈ","840","-","0000001213645","645","-","88","083","06787",2,"06781","07276508",8411,83,1,101208697]
[43020,"МЕСНА ЗАЈЕДНИЦА ЗАБРЊИЦЕ","ПРИБОЈ","840","-","0000001317645","645","-","40","083","06786",2,"06781","07285213",8411,83,1,101946640]
[43020,"УСТАНОВА ЗА ФИЗИЧКУ КУЛТУРУ СПОРТСКИ ЦЕНТАР","ПРИБОЈ","840","-","0000000727664","664","-","24","083","06800",2,"06781","07717261",9319,83,1,101010097]
[43020,"СКУПШТИНА ОПШТИНЕ ПРИБОЈ","ПРИБОЈ","","-","","","-","","083","92186",1,"92186","07158289",8411,83,0,101207254]
[43100,"ОКРУЖНИ ЗАТВОР У ПРОКУПЉУ","ПРОКУПЉЕ","840","-","0000000212621","621","-","40","601","00024",2,"10311","17621556",8423,85,1,103699299]
[43100,"ИСТОРИЈСКИ АРХИВ ГЊИЛАНЕ","ГЊИЛАНЕ","840","-","0000000745664","664","-","53","601","02355",2,"11801","09027882",9101,305,1,102493145]
[43100,"ОСНОВНА ШКОЛА НИКОДИЈЕ СТОЈАНОВИЋ-ТАТКО","ПРОКУПЉЕ","840","-","0000000870660","660","-","67","601","00910",2,"13701","07107412",8520,85,1,102302577]
[43100,"ОСНОВНА ШКОЛА СВЕТИСЛАВ МИРКОВИЋ-НЕНАД МАЛА ПЛАНА","ПРОКУПЉЕ","840","-","0000000883660","660","-","61","601","00912",2,"13701","07303866",8520,85,1,102334187]
[43100,"ОСНОВНА ШКОЛА ЗА ОБРАЗОВАЊЕ ОДРАСЛИХ ПРОКУПЉЕ","ПРОКУПЉЕ","840","-","0000002101660","660","-","51","601","80283",2,"13701","17759582",8559,85,1,105817021]
[43100,"ТЕХНИЧКА ШКОЛА 15. МАЈ","ПРОКУПЉЕ","840","-","0000000806660","660","-","07","601","01950",2,"13702","07271310",8532,85,1,102133314]
[43100,"МЕДИЦИНСКА ШКОЛА ДР АЛЕКСА САВИЋ","ПРОКУПЉЕ","840","-","0000000986660","660","-","06","601","01947",2,"13702","07600739",8532,85,1,100413574]
[43100,"ВИШЕ ЈАВНО ТУЖИЛАШТВО У ПРОКУПЉУ","ПРОКУПЉЕ","","-","","","-","","601","80561",2,"30228","17773917",8423,85,5,106400652]
[43100,"ТОПЛИЧКИ УПРАВНИ ОКРУГ","ПРОКУПЉЕ","","-","","","-","","601","41122",1,"41122","17649400",8411,85,0,104189710]
[43100,"ЗДРАВСТВЕНА УСТАНОВА АПОТЕКА ПРОКУПЉЕ","ПРОКУПЉЕ","840","-","0000000324661","661","-","25","601","02629",2,"95000","17217607",4773,85,3,100258380]
[43100,"НАЦИОНАЛНА СЛУЖБА ЗА ЗАПОШЉАВАЊЕ-ФИЛИЈАЛА ПРОКУПЉЕ","ПРОКУПЉЕ","840","-","0000000028654","654","-","11","601","09586",4,"95400","17539957",7810,85,0,103277483]
[43100,"ПРАВОБРАНИЛАШТВО ОПШТИНЕ ЖИТОРАЂА","ЖИТОРАЂА","","-","","","-","","119","61994",1,"61994","07215479",6910,119,0,100369149]
[43100,"ОПШТИНСКА УПРАВА ОПШТИНЕ ЖИТОРАЂА","ЖИТОРАЂА","","-","","","-","","119","61995",1,"61995","07215479",8411,119,0,100369149]
[43100,"МЕСНА ЗАЈЕДНИЦА ЗЛАДОВАЦ","ЖИТОРАЂА","","-","","","-","","119","09651",2,"61995","07227116",8411,119,1,102645588]
[43100,"МЕСНА ЗАЈЕДНИЦА АСАНОВАЦ","ЖИТОРАЂА","","-","","","-","","119","09652",2,"61995","07300930",8411,119,1,102665233]
[43100,"МЕСНА ЗАЈЕДНИЦА ДУБОВО","ЖИТОРАЂА","840","-","0000001464645","645","-","02","119","09654",2,"61995","07300999",8411,119,1,102645631]
[43100,"МЕСНА ЗАЈЕДНИЦА ГЛАШИНАЦ","ЖИТОРАЂА","840","-","0000001382645","645","-","10","119","09644",2,"61995","07301022",8411,119,1,102645640]
[43100,"МЕСНА ЗАЈЕДНИЦА ЈАСЕНИЦА","ЖИТОРАЂА","840","-","0000000870645","645","-","15","119","08220",2,"61995","07301057",8411,119,1,102645826]
[43100,"МЕСНА ЗАЈЕДНИЦА РЕЧИЦА","ЖИТОРАЂА","840","-","0000001192645","645","-","38","119","08225",2,"61995","07301103",8411,119,1,102645818]
[43100,"МЕСНА ЗАЈЕДНИЦА СТАРО МОМЧИЛОВО","ЖИТОРАЂА","840","-","0000001805645","645","-","61","119","09648",2,"61995","07301146",8411,119,1,102645711]
[43100,"ПРЕДШКОЛСКА УСТАНОВА ПРВА РАДОСТ","ЖИТОРАЂА","840","-","0000000193661","661","-","78","119","08227",2,"70283","07309465",8891,119,1,100762201]
[43100,"НАРОДНА БИБЛИОТЕКА ЖИТОРАЂА","ЖИТОРАЂА","840","-","0000000093664","664","-","48","119","08228",2,"70284","17103091",9101,119,1,100368620]
[43100,"КУЛТУРНО ОБРАЗОВНИ ЦЕНТАР ТОПЛИЦА ПРОКУПЉЕ","ПРОКУПЉЕ","840","-","0000000082664","664","-","68","085","06955",2,"06853","07107480",8559,85,1,100415375]
[43100,"МЕСНА ЗАЈЕДНИЦА АРБАНАШКА","ПРОКУПЉЕ","840","-","0000002480645","645","-","33","085","06858",2,"06853","07187246",8411,85,1,102434346]
[43100,"МЕСНА ЗАЈЕДНИЦА ПОТОЧИЋ","ПРОКУПЉЕ","840","-","0000002195645","645","-","75","085","06927",2,"06853","07187289",8411,85,1,102434145]
[43100,"МЕСНА ЗАЈЕДНИЦА МАЛА ПЛАНА","ПРОКУПЉЕ","840","-","0000001918645","645","-","76","085","06913",2,"06853","07204515",8411,85,1,102434223]
[43100,"МЕСНА ЗАЈЕДНИЦА ЖИВКОВИЋ МИЛОМИР-ПЕТАР ПРЕКАШНИЦА","ПРОКУПЉЕ","840","-","0000002777645","645","-","75","085","06942",2,"06853","07262256",8411,85,1,102434196]
[43100,"МЕСНА ЗАЈЕДНИЦА ДРАГИ ДЕО","ПРОКУПЉЕ","840","-","0000002150645","645","-","51","085","06896",2,"06853","07267088",8411,85,1,102434049]
[43100,"МЕСНА ЗАЈЕДНИЦА РЕЉИНАЦ","ПРОКУПЉЕ","840","-","0000002295645","645","-","96","085","06929",2,"06853","07267878",8411,85,1,102433894]
[43100,"МЕСНА ЗАЈЕДНИЦА ПЛОЧНИК","ПРОКУПЉЕ","840","-","0000000489645","645","-","64","085","06926",2,"06853","07267886",8411,85,1,102433886]
[43100,"МЕСНА ЗАЈЕДНИЦА КОСТЕНИЦА","ПРОКУПЉЕ","840","-","0000002033645","645","-","08","085","06909",2,"06853","07267924",8411,85,1,102434090]
[43100,"МЕСНА ЗАЈЕДНИЦА ДОБРОТИЋ","ПРОКУПЉЕ","840","-","0000002548645","645","-","24","085","06886",2,"06853","07267983",8411,85,1,102434282]
[43100,"МЕСНА ЗАЈЕДНИЦА ГОРЊЕ КОРДИНЦЕ","ПРОКУПЉЕ","840","-","0000002514645","645","-","77","085","06884",2,"06853","07268017",8411,85,1,102433933]
[43100,"МЕСНА ЗАЈЕДНИЦА ГОРЊА БЕЈАШНИЦА","ПРОКУПЉЕ","840","-","0000002537645","645","-","44","085","06879",2,"06853","07268033",8411,85,1,102433984]
[43100,"МЕСНА ЗАЈЕДНИЦА РАТКО ПАВЛОВИЋ-ЋИЋКО","ПРОКУПЉЕ","840","-","0000002828645","645","-","44","085","06946",2,"06853","07268076",8411,85,1,102434104]
[43100,"МЕСНА ЗАЈЕДНИЦА БЕЛИ КАМЕН","ПРОКУПЉЕ","840","-","0000001930645","645","-","63","085","06865",2,"06853","07268327",8411,85,1,102434491]
[43100,"МЕСНА ЗАЈЕДНИЦА БЕЛОГОШ","ПРОКУПЉЕ","840","-","0000002091645","645","-","26","085","06867",2,"06853","07269056",8411,85,1,102433827]
[43100,"МЕСНА ЗАЈЕДНИЦА БРЕСНИЧИЋ","ПРОКУПЉЕ","840","-","0000002569645","645","-","74","085","06870",2,"06853","07271468",8411,85,1,102434395]
[43100,"МЕСНА ЗАЈЕДНИЦА БАБОТИНАЦ","ПРОКУПЉЕ","840","-","0000002270645","645","-","18","085","06860",2,"06853","07279868",8411,85,1,102433802]
[43100,"МЕСНА ЗАЈЕДНИЦА ГЛАСОВИК","ПРОКУПЉЕ","840","-","0000002002645","645","-","82","085","06878",2,"06853","07279914",8411,85,1,102434008]
[43100,"МЕСНА ЗАЈЕДНИЦА ДОЊА ТРНАВА","ПРОКУПЉЕ","840","-","0000000651645","645","-","34","085","06893",2,"06853","07279957",8411,85,1,102434400]
[43100,"МЕСНА ЗАЈЕДНИЦА КОЖИНЦЕ","ПРОКУПЉЕ","840","-","0000002405645","645","-","90","085","06905",2,"06853","07279973",8411,85,1,102434161]
[43100,"МЕСНА ЗАЈЕДНИЦА НОВИ ЂУРЕВАЦ","ПРОКУПЉЕ","840","-","0000002284645","645","-","19","085","06920",2,"06853","07280033",8411,85,1,102434057]
[43100,"МЕСНА ЗАЈЕДНИЦА СТАРО СЕЛО","ПРОКУПЉЕ","840","-","0000003021645","645","-","37","085","06933",2,"06853","07280068",8411,85,1,102434032]
[43100,"МЕСНА ЗАЈЕДНИЦА КРЊИГРАД","ПРОКУПЉЕ","840","-","0000002961645","645","-","05","085","06910",2,"06853","07319959",8411,85,1,102434207]
[43100,"МЕСНА ЗАЈЕДНИЦА ТРНОВИ ЛАЗ","ПРОКУПЉЕ","840","-","0000002969645","645","-","61","085","06935",2,"06853","07321635",8411,85,1,102434483]
[43100,"МЕСНА ЗАЈЕДНИЦА БУМБУРЕК ДОЊА ТРНАВА","ПРОКУПЉЕ","840","-","0000003054645","645","-","74","085","06939",2,"06853","07345151",8411,85,1,102434379]
[43100,"МЕСНА ЗАЈЕДНИЦА ВИДОВАЧКА ЧЕТА ВИДОВАЧА","ПРОКУПЉЕ","840","-","0000003089645","645","-","28","085","06940",2,"06853","07352522",8411,85,1,102434580]
[43100,"НАРОДНА БИБЛИОТЕКА РАДЕ ДРАИНАЦ","ПРОКУПЉЕ","840","-","0000000222664","664","-","78","085","06953",2,"06853","07598157",9101,85,1,100413791]
[43100,"ДОМ КУЛТУРЕ РАДИВОЈ УВАЛИЋ-БАТА","ПРОКУПЉЕ","840","-","0000000223664","664","-","85","085","06952",2,"06853","07598173",8559,85,1,100413783]
[43100,"ИСТОРИЈСКИ АРХИВ ТОПЛИЦА","ПРОКУПЉЕ","840","-","0000000919664","664","-","10","085","80021",2,"06853","17658166",9101,85,1,104494885]
[43100,"ПРЕДСЕДНИК ОПШТИНЕ ПРОКУПЉЕ","ПРОКУПЉЕ","","-","","","-","","085","91728",1,"91728","07107625",8411,85,0,100506227]
[43110,"ДОМ ЗА СМЕШТАЈ ОДРАСЛИХ ЛИЦА БЛАЦЕ-ТРБУЊЕ","БЛАЦЕ","840","-","0000000725661","661","-","19","601","80007",2,"13400","17656848",8720,23,1,104415129]
[43110,"ОСНОВНА ШКОЛА СТОЈАН НОВАКОВИЋ","БЛАЦЕ","840","-","0000000076660","660","-","38","601","00914",2,"13701","07109016",8520,23,1,100984808]
[43110,"ОПШТИНА БЛАЦЕ-БУЏЕТ","БЛАЦЕ","840","-","0000000091640","640","-","09","023","04431",0,"04431","07203608",8411,23,0,100984785]
[43110,"МЕСНА ЗАЈЕДНИЦА БЛАЦЕ","БЛАЦЕ","840","-","0000000090645","645","-","84","023","04438",2,"04432","07109270",8411,23,1,102779033]
[43110,"ОПШТИНА БЛАЦЕ - ОПШТИНСКА УПРАВА БЛАЦЕ","БЛАЦЕ","","-","","","-","","023","04432",1,"04432","07203608",8411,23,0,100984785]
[43110,"МЕСНА ЗАЈЕДНИЦА КРИВАЈА","БЛАЦЕ","840","-","0000002696645","645","-","90","023","04446",2,"04432","07212186",8411,23,1,102779092]
[43110,"МЕСНА ЗАЈЕДНИЦА СУВИ ДО","БЛАЦЕ","840","-","0000000037645","645","-","04","023","04459",2,"04432","07212259",8411,23,1,102789965]
[43110,"МЕСНА ЗАЈЕДНИЦА ГОРЊЕ СВАРЧЕ","БЛАЦЕ","840","-","0000000821645","645","-","60","023","04443",2,"04432","07212283",8411,23,1,102779076]
[43110,"МЕСНА ЗАЈЕДНИЦА ЏЕПНИЦА","БЛАЦЕ","840","-","0000002883645","645","-","41","023","04463",2,"04432","07291175",8411,23,1,102789949]
[43110,"МЕСНА ЗАЈЕДНИЦА ТРБУЊЕ","БЛАЦЕ","840","-","0000000063645","645","-","89","023","04460",2,"04432","07301685",8411,23,1,102779113]
[43110,"МЕСНА ЗАЈЕДНИЦА ПРЕБРЕЗА","БЛАЦЕ","840","-","0000000280645","645","-","56","023","04452",2,"04432","07303556",8411,23,1,102779130]
[43110,"НАРОДНА БИБЛИОТЕКА РАКА ДРАИНАЦ","БЛАЦЕ","840","-","0000000284664","664","-","27","023","04467",2,"04432","17390830",9101,23,1,100984592]
[43110,"ОПШТИНА БЛАЦЕ - СКУПШТИНА ОПШТИНЕ","БЛАЦЕ","","-","","","-","","023","61285",1,"61285","07203608",8411,23,0,100984785]
[43110,"ОПШТИНА БЛАЦЕ - ОПШТИНСКО ВЕЋЕ","БЛАЦЕ","","-","","","-","","023","61287",1,"61287","07203608",8411,23,0,100984785]
[43120,"ЦЕНТАР ЗА СОЦИЈАЛНИ РАД БОРОВЊАК КУРШУМЛИЈА","КУРШУМЛИЈА","840","-","0000000229661","661","-","39","601","00265",2,"13400","07412479",8899,54,1,100622597]
[43120,"ЕКОНОМСКА ШКОЛА КУРШУМЛИЈА","КУРШУМЛИЈА","840","-","0000000995660","660","-","69","601","01952",2,"13702","07620896",8532,54,1,101352323]
[43120,"ОСНОВНО ЈАВНО ТУЖИЛАШТВО У КУРШУМЛИЈИ","КУРШУМЛИЈА","","-","","","-","","601","91340",2,"30229","17865854",8423,54,5,108347993]
[43120,"ДОМ ЗДРАВЉА КУРШУМЛИЈА","КУРШУМЛИЈА","840","-","0000000319661","661","-","87","601","02452",2,"95000","17209795",8621,54,3,100622360]
[43120,"НАРОДНА БИБЛИОТЕКА КУРШУМЛИЈА","КУРШУМЛИЈА","840","-","0000000085664","664","-","89","054","05650",2,"05616","07227604",9101,54,1,101354291]
[43120,"МЕСНА ЗАЈЕДНИЦА РАЧА","КУРШУМЛИЈА","840","-","0000002629645","645","-","09","054","05638",2,"71038","07132956",8411,54,1,101355114]
[43120,"МЕСНА ЗАЈЕДНИЦА ПРОЛОМ","КУРШУМЛИЈА","840","-","0000002734645","645","-","65","054","05637",2,"71038","07238410",8411,54,1,100623485]
[43120,"МЕСНА ЗАЈЕДНИЦА ТМАВА","КУРШУМЛИЈА","840","-","0000003007645","645","-","36","054","05641",2,"71038","07262469",8411,54,1,100623581]
[43120,"МЕСНА ЗАЈЕДНИЦА КУРШУМЛИЈСКА БАЊА","КУРШУМЛИЈА","840","-","0000002901645","645","-","70","054","05631",2,"71038","07293097",8411,54,1,100623508]
[43120,"МЕСНА ЗАЈЕДНИЦА ДЕГРМЕН","КУРШУМЛИЈА","840","-","0000001066645","645","-","29","054","05624",2,"71038","07299346",8411,54,1,101355106]
[43120,"МЕСНА ЗАЈЕДНИЦА БАРЛОВО","КУРШУМЛИЈА","840","-","0000002917645","645","-","85","054","05621",2,"71038","07303602",8411,54,1,100623604]
[43120,"МЕСНА ЗАЈЕДНИЦА КОСАНЧИЋ ИВАН","КУРШУМЛИЈА","840","-","0000003035645","645","-","38","054","05647",2,"71038","07323751",8411,54,1,100623629]
[43120,"МЕСНА ЗАЈЕДНИЦА РАДОШ ЈОВАНОВИЋ-СЕЉА","КУРШУМЛИЈА","840","-","0000003109645","645","-","71","054","05646",2,"71038","07325762",8411,54,1,101355059]
[43120,"МЕСНА ЗАЈЕДНИЦА САГОЊЕВО","КУРШУМЛИЈА","840","-","0000004219645","645","-","81","054","97128",2,"71038","17879804",8411,54,1,109440881]
[43200,"ОКРУЖНИ ЗАТВОР У СМЕДЕРЕВУ","СМЕДЕРЕВО","840","-","0000000348621","621","-","22","601","00025",2,"10311","17621360",8423,92,1,103698950]
[43200,"ЦЕНТАР ЗА СОЦИЈАЛНИ РАД СМЕДЕРЕВО","СМЕДЕРЕВО","840","-","0000000014661","661","-","86","601","00266",2,"13400","07143303",8899,92,1,100972468]
[43200,"ОСНОВНА ШКОЛА БРАНКО РАДИЧЕВИЋ","ЛУГАВЧИНА","840","-","0000000265660","660","-","03","601","00921",2,"13701","07164688",8520,92,1,101607005]
[43200,"ОСНОВНА ШКОЛА ДИМИТРИЈЕ ДАВИДОВИЋ","СМЕДЕРЕВО","840","-","0000000140660","660","-","98","601","00923",2,"13701","07164734",8520,92,1,101606980]
[43200,"ОСНОВНА ШКОЛА ИЛИЈА МИЛОСАВЉЕВИЋ-КОЛАРАЦ","КОЛАРИ","840","-","0000000300660","660","-","54","601","00930",2,"13701","07164785",8520,92,1,101606971]
[43200,"ОСНОВНА ШКОЛА ХЕРОЈ СРБА","ОСИПАОНИЦА","840","-","0000000275660","660","-","73","601","00935",2,"13701","07164793",8520,92,1,101605368]
[43200,"ОСНОВНА ШКОЛА САВА КОВАЧЕВИЋ","МИХАЈЛОВАЦ","840","-","0000000330660","660","-","70","601","00933",2,"13701","07164831",8520,92,1,101605317]
[43200,"ОСНОВНА ШКОЛА  СВЕТИ САВА СМЕДЕРЕВО","СМЕДЕРЕВО","840","-","0000002104660","660","-","72","601","80375",2,"13701","17769421",8520,92,1,106154063]
[43200,"ВИШИ СУД У СМЕДЕРЕВУ","СМЕДЕРЕВО","","-","","","-","","601","80452",2,"30225","17773038",8423,92,5,106399828]
[43200,"ВИШЕ ЈАВНО ТУЖИЛАШТВО У СМЕДЕРЕВУ","СМЕДЕРЕВО","","-","","","-","","601","80562",2,"30228","17773925",8423,92,5,106399836]
[43200,"ПОДУНАВСКИ УПРАВНИ ОКРУГ","СМЕДЕРЕВО","","-","","","-","","601","41111",1,"41111","17651013",8411,92,0,104207611]
[43200,"РЕПУБЛИЧКИ ФОНД ПИО-ФИЛИЈАЛА- СМЕДЕРЕВО","СМЕДЕРЕВО","840","-","0000000007652","652","-","64","601","00117",4,"95200","17715780",8430,92,0,105356542]
[43200,"ТУРИСТИЧКА ОРГАНИЗАЦИЈА ГРАДА СМЕДЕРЕВА - У ЛИКВИДАЦИЈИ","СМЕДЕРЕВО","840","-","0000001155664","664","-","13","092","07105",2,"07104","07199457",8413,92,1,102186073]
[43200,"ГРАД СМЕДЕРЕВО - ГРАДСКА УПРАВА","СМЕДЕРЕВО","","-","","","-","","092","07104",1,"07104","07222262",8411,92,0,102186104]
[43200,"ГРАД СМЕДЕРЕВО - ГРАДОНАЧЕЛНИК","СМЕДЕРЕВО","","-","","","-","","092","09681",1,"09681","07222262",8411,92,0,102186104]
[43200,"МЕСНА ЗАЈЕДНИЦА ПАПАЗОВАЦ","СМЕДЕРЕВО","840","-","0000001850645","645","-","85","092","07128",2,"70236","07142013",8411,92,1,102186434]
[43200,"МЕСНА ЗАЈЕДНИЦА КАРАЂОРЂЕВ ДУД","СМЕДЕРЕВО","840","-","0000002121645","645","-","42","092","07144",2,"70236","07343744",8411,92,1,101825939]
[43200,"МЕСНА ЗАЈЕДНИЦА СВЕТИ САВА","СМЕДЕРЕВО","840","-","0000002181645","645","-","74","092","07140",2,"70236","07344490",8411,92,1,102299474]
[43200,"МЕСНА ЗАЈЕДНИЦА РАЉА","РАЉА","840","-","0000001743645","645","-","15","092","07131",2,"70237","07141912",8411,92,1,102140254]
[43200,"МЕСНА ЗАЈЕДНИЦА ВРБОВАЦ","ВРБОВАЦ","840","-","0000001299645","645","-","11","092","07115",2,"70237","07141971",8411,92,1,102575635]
[43200,"МЕСНА ЗАЈЕДНИЦА ДРУГОВАЦ","ДРУГОВАЦ","840","-","0000001445645","645","-","63","092","07118",2,"70237","07230435",8411,92,1,102841461]
[43200,"МЕСНА ЗАЈЕДНИЦА ВРАНОВО","ВРАНОВО","840","-","0000001655645","645","-","78","092","07114",2,"70237","07235232",8411,92,1,101825859]
[43200,"МЕСНА ЗАЈЕДНИЦА МАЛА КРСНА","МАЛА КРСНА","840","-","0000001235645","645","-","48","092","07125",2,"70237","07260873",8411,92,1,101846654]
[43200,"МЕСНА ЗАЈЕДНИЦА ЛАНДОЛ","ЛАНДОЛ","840","-","0000001319645","645","-","54","092","07121",2,"70237","07328869",8411,92,1,102178258]
[43200,"МЕСНА ЗАЈЕДНИЦА БИНОВАЦ","БИНОВАЦ","840","-","0000001425645","645","-","20","092","07112",2,"70237","07353006",8411,92,1,102692402]
[43200,"ИСТОРИЈСКИ АРХИВ У СМЕДЕРЕВУ","СМЕДЕРЕВО","840","-","0000000215664","664","-","29","092","07151",2,"70242","06120881",9101,92,1,100972888]
[43200,"МУЗЕЈ У СМЕДЕРЕВУ","СМЕДЕРЕВО","840","-","0000000013664","664","-","70","092","07152",2,"70242","07143265",9102,92,1,100970554]
[43230,"ОСНОВНА ШКОЛА РАДОМИР ЛАЗИЋ","АЗАЊА","840","-","0000000172660","660","-","31","601","00944",2,"13701","07160054",8520,93,1,101401710]
[43230,"ОСНОВНА ШКОЛА БРАНА ЈЕВТИЋ","КУСАДАК","840","-","0000000121660","660","-","62","601","00937",2,"13701","07164670",8520,93,1,101401701]
[43230,"ОСНОВНА ШКОЛА ХЕРОЈ РАДМИЛА ШИШКОВИЋ","СМЕДЕРЕВСКА ПАЛАНКА","840","-","0000000016660","660","-","06","601","00936",2,"13701","07198396",8520,93,1,101401697]
[43230,"ОСНОВНА ШКОЛА ЛАЗАР СТАНОЈЕВИЋ","РАТАРИ","840","-","0000001008660","660","-","63","601","00940",2,"13701","17045997",8520,93,1,101820700]
[43230,"СРЕДЊА ШКОЛА ЖИКИЦА ДАМЊАНОВИЋ","СМЕДЕРЕВСКА ПАЛАНКА","840","-","0000000141660","660","-","08","601","01959",2,"13702","07142862",8532,93,1,101930257]
[43230,"ОПШТИНА СМЕДЕРЕВСКА ПАЛАНКА-БУЏЕТ","СМЕДЕРЕВСКА ПАЛАНКА","840","-","0000000008640","640","-","10","093","07157",0,"07157","07199007",8411,93,0,102632285]
[43230,"УСТАНОВА ЦЕНТАР ЗА РАЗВОЈ СПОРТА И АМАТЕРИЗМА У СПОРТУ СМЕДЕРЕВСКА ПАЛАНКА","СМЕДЕРЕВСКА ПАЛАНКА","840","-","0000000906664","664","-","16","093","09923",2,"70584","06960600",9319,93,1,101931491]
[43230,"АРХИВ ВЕРОСЛАВА ВЕЉАШЕВИЋ","СМЕДЕРЕВСКА ПАЛАНКА","840","-","0000000211664","664","-","98","093","07185",2,"70585","06331459",9101,93,1,101385316]
[43230,"МЕСНА ЗАЈЕДНИЦА ЦЕРОВАЦ","ЦЕРОВАЦ","840","-","0000000463645","645","-","76","093","07179",2,"70591","07141564",8411,93,1,101930466]
[43230,"МЕСНА ЗАЈЕДНИЦА БАШИН","БАШИН","840","-","0000000227645","645","-","73","093","07166",2,"70591","07141629",8411,93,1,101930370]
[43230,"МЕСНА ЗАЈЕДНИЦА СТОЈАЧАК","СТОЈАЧАК","840","-","0000000253645","645","-","61","093","07178",2,"70591","07141637",8411,93,1,101930503]
[43230,"МЕСНА ЗАЈЕДНИЦА БАЧИНАЦ","БАЧИНАЦ","840","-","0000000412645","645","-","10","093","07165",2,"70591","07141670",8411,93,1,101930440]
[43230,"МЕСНА ЗАЈЕДНИЦА ПРИДВОРИЦЕ","ПРИДВОРИЦЕ","840","-","0000000038645","645","-","11","093","07175",2,"70591","07141718",8411,93,1,101930407]
[43230,"МЕСНА ЗАЈЕДНИЦА ЦЕНТАР","СМЕДЕРЕВСКА ПАЛАНКА","840","-","0000000871645","645","-","22","093","07183",2,"70591","07288298",8411,93,1,101930538]
[43230,"ОПШТИНСКА ТУРИСТИЧКА ОРГАНИЗАЦИЈА","СМЕДЕРЕВСКА ПАЛАНКА","840","-","0000000652641","641","-","53","093","09922",2,"70842","17497731",8413,93,1,102840178]
[43230,"ПРЕДСЕДНИК ОПШТИНЕ СМЕДЕРЕВСКА ПАЛАНКА","СМЕДЕРЕВСКА ПАЛАНКА","","-","","","-","","093","96311",1,"96311","07199007",8411,93,0,102632285]
[43240,"ОСНОВНА ШКОЛА АКАДЕМИК РАДОМИР ЛУКИЋ","МИЛОШЕВАЦ","840","-","0000000489660","660","-","19","601","00947",2,"13701","07158700",8520,109,1,101175151]
[43240,"ОСНОВНА ШКОЛА РАДИЦА РАНКОВИЋ","ЛОЗОВИК","840","-","0000000476660","660","-","25","601","00952",2,"13701","07158904",8520,109,1,101177751]
[43240,"ОСНОВНА ШКОЛА НАДЕЖДА ПЕТРОВИЋ","ВЕЛИКА ПЛАНА","840","-","0000000884660","660","-","68","601","00951",2,"13701","07580487",8520,109,1,102258725]
[43240,"ОСНОВНИ СУД У ВЕЛИКОЈ ПЛАНИ","ВЕЛИКА ПЛАНА","","-","","","-","","601","91278",2,"30226","17865455",8423,109,5,108341323]
[43240,"ОПШТИНА ВЕЛИКА ПЛАНА-БУЏЕТ","ВЕЛИКА ПЛАНА","840","-","0000000039640","640","-","33","109","07806",0,"07806","06139264",8411,109,0,101178949]
[43240,"МЕСНА ЗАЈЕДНИЦА ДОЊА ЛИВАДИЦА","ДОЊА ЛИВАДИЦА","840","-","0000000751645","645","-","55","109","07815",2,"07807","07142056",8411,109,1,102257909]
[43240,"МЕСНА ЗАЈЕДНИЦА НОВО СЕЛО","НОВО СЕЛО","840","-","0000000573645","645","-","70","109","07822",2,"07807","07143389",8411,109,1,101178527]
[43240,"МЕСНА ЗАЈЕДНИЦА КРЊЕВО","КРЊЕВО","840","-","0000000799645","645","-","03","109","07816",2,"07807","07159951",8411,109,1,101175707]
[43240,"МЕСНА ЗАЈЕДНИЦА ЛОЗОВИК","ЛОЗОВИК","840","-","0000000652645","645","-","41","109","07818",2,"07807","07198949",8411,109,1,101178463]
[43240,"МЕСНА ЗАЈЕДНИЦА САВАНОВАЦ КРЊЕВО","КРЊЕВО","840","-","0000001025645","645","-","33","109","07828",2,"07807","07619812",8411,109,1,101179890]
[43240,"ЈАВНА УСТАНОВА ТУРИСТИЧКО-СПОРТСКИ ЦЕНТАР ВЕЛИКА ПЛАНА","ВЕЛИКА ПЛАНА","840","-","0000000872664","664","-","69","109","09666",2,"07807","17025783",9311,109,1,101825818]
[43240,"ФОНД ЗА РАЗВОЈ ПОЉОПРИВРЕДЕ ОПШТИНЕ ВЕЛИКА ПЛАНА","ВЕЛИКА ПЛАНА","840","-","0000000261644","644","-","23","109","07814",2,"70549","17437038",6499,109,1,102749226]
[43500,"МУП - ПОЛИЦИЈСКА УПРАВА ЈАГОДИНА","ЈАГОДИНА","840","-","0000000663621","621","-","93","601","00056",4,"10600","07008104",8424,96,0,100184116]
[43500,"ОСНОВНА ШКОЛА РАДА МИЉКОВИЋ","ЈАГОДИНА","840","-","0000000025660","660","-","69","601","00962",2,"13701","07125313",8520,96,1,102118762]
[43500,"ОСНОВНА ШКОЛА БРАНКО РАДИЧЕВИЋ БУНАР","ЈАГОДИНА","840","-","0000000122660","660","-","69","601","00956",2,"13701","07125402",8520,96,1,102131751]
[43500,"ОСНОВНА ШКОЛА ВУК КАРАЏИЋ ГЛОГОВАЦ","ЈАГОДИНА","840","-","0000000142660","660","-","15","601","00957",2,"13701","07127090",8520,96,1,102136458]
[43500,"ОШ РАДИСЛАВ НИКЧЕВИЋ МАЈУР","ЈАГОДИНА","840","-","0000000109660","660","-","75","601","00963",2,"13701","07127138",8520,96,1,102217856]
[43500,"ЕЛЕКТРОТЕХНИЧКА И ГРАЂЕВИНСКА ШКОЛА НИКОЛА ТЕСЛА","ЈАГОДИНА","840","-","0000001149660","660","-","80","601","01964",2,"13702","07350490",8532,96,1,101730870]
[43500,"ДОМ УЧЕНИКА СРЕДЊИХ ШКОЛА ЈАГОДИНА","ЈАГОДИНА","840","-","0000000048661","661","-","33","601","02161",2,"13703","07127308",5590,96,1,101323168]
[43500,"ВИШЕ ЈАВНО ТУЖИЛАШТВО У ЈАГОДИНИ","ЈАГОДИНА","","-","","","-","","601","80548",2,"30228","17773798",8423,96,5,106398841]
[43500,"РЕПУБЛИЧКИ ФОНД ЗА ЗДРАВСТВЕНО ОСИГУРАЊЕ - ФИЛИЈАЛА ЗА ПОМОРАВСКИ ОКРУГ","ЈАГОДИНА","840","-","0000000022650","650","-","78","601","02662",4,"95000","06042945",8430,96,0,101288707]
[43500,"ГРАД ЈАГОДИНА - БУЏЕТ","ЈАГОДИНА","840","-","0000000009640","640","-","17","096","07259",0,"07259","07115008",8411,96,0,102904062]
[43500,"МЕСНА ЗАЈЕДНИЦА КОНЧАРЕВО","ЈАГОДИНА","840","-","0000000680645","645","-","43","096","07291",2,"07260","07125461",8411,96,1,102131809]
[43500,"ЗАВИЧАЈНИ МУЗЕЈ ЈАГОДИНА","ЈАГОДИНА","840","-","0000000037664","664","-","44","096","07326",2,"07260","07127219",9102,96,1,101156265]
[43500,"МЕСНА ЗАЈЕДНИЦА СТАРО СЕЛО","ЈАГОДИНА","840","-","0000002884645","645","-","48","096","07310",2,"07260","07246706",8411,96,1,102218167]
[43500,"МЕСНА ЗАЈЕДНИЦА СИОКОВАЦ","ЈАГОДИНА","840","-","0000002848645","645","-","87","096","07307",2,"07260","07248083",8411,96,1,101939060]
[43500,"МЕСНА ЗАЈЕДНИЦА БУНАР","ЈАГОДИНА","840","-","0000000092645","645","-","98","096","07269",2,"07260","07248091",8411,96,1,102136968]
[43500,"МЕСНА ЗАЈЕДНИЦА II НОВО НАСЕЉЕ ТРНАВА","ЈАГОДИНА","840","-","0000000983645","645","-","30","096","07323",2,"07260","07248130",8411,96,1,102495372]
[43500,"МЕСНА ЗАЈЕДНИЦА ГОРЊИ РАЧНИК","ЈАГОДИНА","840","-","0000000574645","645","-","77","096","07277",2,"07260","07248938",8411,96,1,102062067]
[43500,"МЕСНА ЗАЈЕДНИЦА ЈОШАНИЧКИ ПРЊАВОР","ЈАГОДИНА","840","-","0000000516645","645","-","59","096","07287",2,"07260","07249551",8411,96,1,103884978]
[43500,"МЕСНА ЗАЈЕДНИЦА ДОБРА ВОДА","ЈАГОДИНА","840","-","0000000872645","645","-","29","096","07279",2,"07260","07249586",8411,96,1,102131760]
[43500,"МЕСНА ЗАЈЕДНИЦА ТРНАВА СЕЛО","ЈАГОДИНА","840","-","0000000939645","645","-","13","096","07322",2,"07260","07249608",8411,96,1,102136152]
[43500,"МЕСНА ЗАЈЕДНИЦА ДЕОНИЦА","ЈАГОДИНА","840","-","0000000282645","645","-","70","096","07278",2,"07260","07250550",8411,96,1,102118720]
[43500,"МЕСНА ЗАЈЕДНИЦА ШУЉКОВАЦ","ЈАГОДИНА","","-","","","-","","096","07314",2,"07260","07250592",8411,96,1,102769732]
[43500,"МЕСНА ЗАЈЕДНИЦА МИЛОШЕВО","ЈАГОДИНА","840","-","0000000175645","645","-","97","096","07300",2,"07260","07251181",8411,96,1,101158298]
[43500,"МЕСНА ЗАЈЕДНИЦА ВАШАРИШТЕ","ЈАГОДИНА","840","-","0000002978645","645","-","27","096","07315",2,"07260","07262841",8411,96,1,101939094]
[43500,"МЕСНА ЗАЈЕДНИЦА ДРАГОШЕВАЦ","ЈАГОДИНА","840","-","0000002902645","645","-","77","096","07283",2,"07260","07323468",8411,96,1,101815494]
[43500,"МЕСНА ЗАЈЕДНИЦА КОЧИНО СЕЛО","ЈАГОДИНА","840","-","0000000387645","645","-","29","096","07292",2,"07260","07343159",8411,96,1,101938987]
[43500,"МЕСНА ЗАЈЕДНИЦА ВРБА","ЈАГОДИНА","840","-","0000002936645","645","-","24","096","07273",2,"07260","07343299",8411,96,1,101939352]
[43500,"МЕСНА ЗАЈЕДНИЦА ГОРЊЕ ШТИПЉЕ","ЈАГОДИНА","840","-","0000002865645","645","-","12","096","07276",2,"07260","07344414",8411,96,1,101939310]
[43500,"ФОНД СОЛИДАРНЕ СТАМБЕНЕ ИЗГРАДЊЕ ГРАДА ЈАГОДИНЕ","ЈАГОДИНА","840","-","0000000151644","644","-","29","096","07264",2,"07260","17280350",6499,96,1,101322000]
[43500,"ТУРИСТИЧКА ОРГАНИЗАЦИЈА ГРАДА ЈАГОДИНА","ЈАГОДИНА","840","-","0000000888664","664","-","84","096","09834",2,"07260","17622811",8413,96,1,103733489]
[43500,"ГРАДСКО ВЕЋЕ ГРАДА ЈАГОДИНА","ЈАГОДИНА","","-","","","-","","096","09697",1,"09697","07115008",8411,96,0,102904062]
[43500,"ГРАДСКА УПРАВА ЗА ИНСПЕКЦИЈСКЕ ПОСЛОВЕ","ЈАГОДИНА","","-","","","-","","096","91456",1,"91456","07115008",8411,96,0,102904062]
[43501,"ЦЕНТАР ЗА СОЦИЈАЛНИ РАД СВИЛАЈНАЦ","СВИЛАЈНАЦ","840","-","0000000317661","661","-","73","601","00270",2,"13400","07322348",8899,97,1,101473759]
[43501,"ОСНОВНА ШКОЛА БРАНКО РАДИЧЕВИЋ СЕДЛАРЕ","СВИЛАЈНАЦ","840","-","0000002044660","660","-","40","601","00964",2,"13701","17479601",8520,97,1,102767013]
[43501,"ПОЉОПРИВРЕДНО-ВЕТЕРИНАРСКА ШКОЛА СА ДОМОМ УЧЕНИКА СВИЛАЈНАЦ","СВИЛАЈНАЦ","840","-","0000001143660","660","-","38","601","01966",2,"13702","07349939",8532,97,1,101475246]
[43501,"МЕСНА ЗАЈЕДНИЦА МАЧЕВАЦ","СВИЛАЈНАЦ","840","-","0000001675645","645","-","24","097","07353",2,"07336","07183739",8411,97,1,101473767]
[43501,"ОПШТИНСКА УПРАВА СВИЛАЈНАЦ","СВИЛАЈНАЦ","","-","","","-","","097","07336",1,"07336","07186207",8411,97,0,102888297]
[43501,"МЕСНА ЗАЈЕДНИЦА БОБОВО","СВИЛАЈНАЦ","840","-","0000001693645","645","-","53","097","07341",2,"07336","07201478",8411,97,1,101474044]
[43501,"МЕСНА ЗАЈЕДНИЦА БРЕСЈЕ","СВИЛАЈНАЦ","840","-","0000002829645","645","-","51","097","07342",2,"07336","07201508",8411,97,1,101474124]
[43501,"МЕСНА ЗАЈЕДНИЦА РОАНДА","СВИЛАЈНАЦ","840","-","0000001603645","645","-","05","097","07356",2,"07336","07201575",8411,97,1,101473994]
[43501,"МЕСНА ЗАЈЕДНИЦА ЦРКВЕНАЦ","СВИЛАЈНАЦ","840","-","0000001506645","645","-","05","097","07361",2,"07336","07202415",8411,97,1,101474052]
[43501,"ПРЕДШКОЛСКА УСТАНОВА ДЕЧЈА РАДОСТ","СВИЛАЈНАЦ","840","-","0000000307661","661","-","03","097","07363",2,"07336","07284306",8891,97,1,101474237]
[43501,"ЦЕНТАР ЗА КУЛТУРУ СВИЛАЈНАЦ","СВИЛАЈНАЦ","840","-","0000000403664","664","-","84","097","07365",2,"07336","17112597",5914,97,1,101472135]
[43502,"ЦЕНТАР ЗА СОЦИЈАЛНИ РАД ДЕСПОТОВАЦ","ДЕСПОТОВАЦ","840","-","0000000325661","661","-","32","601","00341",2,"13400","07332912",8899,36,1,100885022]
[43502,"ОСНОВНА ШКОЛА ЂУРА ЈАКШИЋ ПЛАЖАНЕ","ДЕСПОТОВАЦ","840","-","0000000646660","660","-","51","601","00970",2,"13701","07126719",8520,36,1,100885186]
[43502,"ОСНОВНА ШКОЛА СТЕФАН НЕМАЊА СТЕЊЕВАЦ","ДЕСПОТОВАЦ","840","-","0000000650660","660","-","79","601","00972",2,"13701","07183704",8520,36,1,100883081]
[43502,"ОСНОВНО ЈАВНО ТУЖИЛАШТВО У ДЕСПОТОВЦУ","ДЕСПОТОВАЦ","","-","","","-","","601","91337",2,"30229","17865820",8423,36,5,108347969]
[43502,"МЕСНА ЗАЈЕДНИЦА РАВНА РЕКА","ДЕСПОТОВАЦ","840","-","0000001893645","645","-","95","036","04938",2,"04912","07114664",8411,36,1,100882984]
[43502,"МЕСНА ЗАЈЕДНИЦА БРЕСТОВО","ДЕСПОТОВАЦ","840","-","0000002018645","645","-","97","036","04920",2,"04912","07167105",8411,36,1,100882835]
[43502,"МЕСНА ЗАЈЕДНИЦА СТЕЊЕВАЦ","ДЕСПОТОВАЦ","840","-","0000002167645","645","-","73","036","04941",2,"04912","07183682",8411,36,1,100882976]
[43502,"МЕСНА ЗАЈЕДНИЦА МИЛИВА","ДЕСПОТОВАЦ","840","-","0000002093645","645","-","40","036","04934",2,"04912","07184042",8411,36,1,100883346]
[43502,"МЕСНА ЗАЈЕДНИЦА БУКОВАЦ","ДЕСПОТОВАЦ","840","-","0000002122645","645","-","49","036","04921",2,"04912","07184301",8411,36,1,100883129]
[43502,"МЕСНА ЗАЈЕДНИЦА ВОЈНИК","ДЕСПОТОВАЦ","840","-","0000001834645","645","-","70","036","04924",2,"04912","07184484",8411,36,1,100883274]
[43502,"МЕСНА ЗАЈЕДНИЦА ГРАБОВИЦА","ДЕСПОТОВАЦ","840","-","0000001961645","645","-","86","036","04925",2,"04912","07201648",8411,36,1,100883112]
[43502,"МЕСНА ЗАЈЕДНИЦА БЕЉАЈКА","ДЕСПОТОВАЦ","840","-","0000002003645","645","-","89","036","04918",2,"04912","07212771",8411,36,1,100883299]
[43502,"МЕСНА ЗАЈЕДНИЦА ПОПОВЊАК","ДЕСПОТОВАЦ","840","-","0000002196645","645","-","82","036","04937",2,"04912","07248814",8411,36,1,101360526]
[43502,"ТУРИСТИЧКО-СПОРТСКА ОРГАНИЗАЦИЈА ДЕСПОТОВАЦ","ДЕСПОТОВАЦ","840","-","0000001054664","664","-","82","036","80968",2,"04912","17824112",9311,36,1,107431337]
[43502,"ОПШТИНА ДЕСПОТОВАЦ - ПРАВОБРАНИЛАЦ ОПШТИНЕ ДЕСПОТОВАЦ","ДЕСПОТОВАЦ","","-","","","-","","036","80216",1,"80216","07186169",6910,36,0,101360116]
[43503,"КАЗНЕНО-ПОПРАВНИ ЗАВОД У ЋУПРИЈИ","ЋУПРИЈА","840","-","0000000679621","621","-","11","601","00026",2,"10311","17621432",8423,33,1,103699207]
[43503,"ОСНОВНА ШКОЛА ВУК КАРАЏИЋ ЋУПРИЈА","ЋУПРИЈА","840","-","0000000710660","660","-","14","601","00974",2,"13701","07166826",8520,33,1,101527159]
[43503,"ТЕХНИЧКА ШКОЛА У ЋУПРИЈИ","ЋУПРИЈА","840","-","0000000726660","660","-","29","601","01969",2,"13702","07166907",8532,33,1,101369453]
[43503,"ДОМ УЧЕНИКА СРЕДЊИХ ШКОЛА СРЕЋНО - ЋУПРИЈА","ЋУПРИЈА","840","-","0000000800661","661","-","59","601","80381",2,"13703","17769367",5590,33,1,106159430]
[43503,"ДОМ ЗДРАВЉА ЋУПРИЈА","ЋУПРИЈА","840","-","0000000781661","661","-","23","601","80215",2,"95000","17688421",8621,33,3,105362284]
[43503,"НАРОДНА БИБЛИОТЕКА ДУШАН МАТИЋ","ЋУПРИЈА","840","-","0000000164664","664","-","60","033","04788",2,"04764","07166443",9101,33,1,101370890]
[43503,"ДРУГА МЕСНА ЗАЈЕДНИЦА ЦЕРНИЦА","ЋУПРИЈА","840","-","0000003128645","645","-","10","033","04768",2,"04764","07246757",8411,33,1,101372416]
[43503,"МЕСНА ЗАЈЕДНИЦА БИГРЕНИЦА","ЋУПРИЈА","840","-","0000002383645","645","-","33","033","04770",2,"04764","07249039",8411,33,1,103072424]
[43503,"МЕСНА ЗАЈЕДНИЦА ВЛАШКА","ЋУПРИЈА","840","-","0000002406645","645","-","97","033","04772",2,"04764","07249047",8411,33,1,101370857]
[43503,"ПРЕДШКОЛСКА УСТАНОВА ДЕЧЈА РАДОСТ","ЋУПРИЈА","840","-","0000000297661","661","-","30","033","04786",2,"04764","07257384",8891,33,1,101529365]
[43503,"МЕСНА ЗАЈЕДНИЦА ИСАКОВО","ЋУПРИЈА","840","-","0000002372645","645","-","53","033","04773",2,"04764","07289286",8411,33,1,102806224]
[43503,"МЕСНА ЗАЈЕДНИЦА СТАРО СЕЛО","ЋУПРИЈА","840","-","0000003124645","645","-","79","033","04784",2,"04764","17109804",8411,33,1,103141801]
[43503,"ТУРИСТИЧКА ОРГАНИЗАЦИЈА ОПШТИНЕ ЋУПРИЈА","ЋУПРИЈА","840","-","0000000986664","664","-","91","033","80354",2,"04764","17764926",8413,33,1,102482114]
[43503,"ОПШТИНСКО ПРАВОБРАНИЛАШТВО ЋУПРИЈА","ЋУПРИЈА","","-","","","-","","033","91603",1,"91603","07183968",8423,33,0,101375417]
[43504,"ОСНОВНА ШКОЛА ЂУРА ЈАКШИЋ","ПАРАЋИН","840","-","0000000828660","660","-","64","601","00980",2,"13701","07115962",8520,77,1,100877410]
[43504,"ОСНОВНА ШКОЛА МОМЧИЛО ПОПОВИЋ-ОЗРЕН","ПАРАЋИН","840","-","0000000978660","660","-","47","601","00981",2,"13701","07116012",8520,77,1,100939426]
[43504,"ОСНОВНА МУЗИЧКА ШКОЛА МИЛЕНКО ЖИВКОВИЋ ПАРАЋИН","ПАРАЋИН","840","-","0000001031660","660","-","30","601","01631",2,"13701","07116144",8520,77,1,100876394]
[43504,"ТЕХНОЛОШКА ШКОЛА ПАРАЋИН","ПАРАЋИН","840","-","0000001154660","660","-","18","601","01973",2,"13702","07352468",8532,77,1,100875555]
[43504,"АПОТЕКА ПАРАЋИН","ПАРАЋИН","840","-","0000000847661","661","-","97","601","81336",2,"95000","17828274",4773,77,3,107770086]
[43504,"ОПШТА БОЛНИЦА ПАРАЋИН","ПАРАЋИН","840","-","0000000850661","661","-","21","601","82987",2,"95000","17828959",8610,77,3,107854410]
[43504,"ПРЕДШКОЛСКА УСТАНОВА БАМБИ ПАРАЋИН","ПАРАЋИН","840","-","0000000213661","661","-","24","077","06492",2,"06446","07116080",8891,77,1,101095215]
[43504,"МЕСНА ЗАЈЕДНИЦА СИЊИ ВИР","ПАРАЋИН","840","-","0000002609645","645","-","63","077","06477",2,"06446","07236590",8411,77,1,101098960]
[43504,"МЕСНА ЗАЈЕДНИЦА ШАВАЦ","ПАРАЋИН","840","-","0000002725645","645","-","02","077","06483",2,"06446","07236638",8411,77,1,100879366]
[43504,"МЕСНА ЗАЈЕДНИЦА ПОТОЧАЦ","ПАРАЋИН","840","-","0000002590645","645","-","27","077","06471",2,"06446","07236689",8411,77,1,101098986]
[43504,"МЕСНА ЗАЈЕДНИЦА БУЉАНЕ","ПАРАЋИН","840","-","0000002697645","645","-","97","077","06452",2,"06446","07236697",8411,77,1,100879403]
[43504,"МЕСНА ЗАЈЕДНИЦА ИЗВОР","ПАРАЋИН","840","-","0000002538645","645","-","51","077","06463",2,"06446","07236778",8411,77,1,100876484]
[43504,"МЕСНА ЗАЈЕДНИЦА СТРИЖА","ПАРАЋИН","840","-","0000002797645","645","-","21","077","06478",2,"06446","07236824",8411,77,1,100876441]
[43504,"МЕСНА ЗАЈЕДНИЦА БОШЊАНЕ","ПАРАЋИН","840","-","0000002778645","645","-","82","077","06451",2,"06446","07236867",8411,77,1,100877241]
[43504,"МЕСНА ЗАЈЕДНИЦА ГЛАВИЦА","ПАРАЋИН","840","-","0000002767645","645","-","05","077","06454",2,"06446","07236883",8411,77,1,102204334]
[43504,"МЕСНА ЗАЈЕДНИЦА ПЛАНА","ПАРАЋИН","840","-","0000002746645","645","-","52","077","06469",2,"06446","07236930",8411,77,1,100877225]
[43504,"МЕСНА ЗАЈЕДНИЦА ЦЕНТАР","ПАРАЋИН","840","-","0000003022645","645","-","44","077","06491",2,"06446","07263040",8411,77,1,100875442]
[43504,"МЕСНА ЗАЈЕДНИЦА 7. ЈУЛИ","ПАРАЋИН","840","-","0000003062645","645","-","33","077","06485",2,"06446","07267592",8411,77,1,100879542]
[43504,"МЕСНА ЗАЈЕДНИЦА 4. ЈУЛИ","ПАРАЋИН","840","-","0000003029645","645","-","93","077","06484",2,"06446","07267606",8411,77,1,100876450]
[43504,"КУЛТУРНИ ЦЕНТАР ПАРАЋИН","ПАРАЋИН","","-","","","-","","077","09628",2,"06446","17582062",9003,77,1,103504698]
[43504,"ПОЗОРИШТЕ ПАРАЋИН","ПАРАЋИН","","-","","","-","","077","65263",2,"06446","17902130",9001,77,1,110025523]
[43504,"ОПШТИНСКО ВЕЋЕ ОПШТИНЕ ПАРАЋИН","ПАРАЋИН","","-","","","-","","077","61455",1,"61455","07184654",8411,77,0,100876853]
[43504,"БУЏЕТСКИ ФОНД ЗА ЗАШТИТУ ЖИВОТНЕ СРЕДИНЕ ОПШТИНЕ ПАРАЋИН","ПАРАЋИН","","-","","","-","","077","80864",2,"61672","07184654",8411,77,1,100876853]
[43505,"ПОЉОПРИВРЕДНО-ВЕТЕРИНАРСКА ШКОЛА РЕКОВАЦ","РЕКОВАЦ","840","-","0000001099660","660","-","21","601","01974",2,"13702","07291795",8532,89,1,101284746]
[43505,"МЕСНА ЗАЈЕДНИЦА БЕЛУШИЋ","РЕКОВАЦ","840","-","0000001026645","645","-","40","089","07046",2,"07042","07115083",8411,89,1,101284086]
[43505,"МЕСНА ЗАЈЕДНИЦА ВЕЛИКА КРУШЕВИЦА","РЕКОВАЦ","840","-","0000001132645","645","-","06","089","07050",2,"07042","07115121",8411,89,1,101284043]
[43505,"МЕСНА ЗАЈЕДНИЦА ВУКМАНОВАЦ","РЕКОВАЦ","840","-","0000001320645","645","-","61","089","07051",2,"07042","07115130",8411,89,1,101284176]
[43505,"МЕСНА ЗАЈЕДНИЦА КАЛЕНИЋКИ ПРЊАВОР","РЕКОВАЦ","840","-","0000003121645","645","-","58","089","07055",2,"07042","07115199",8411,89,1,101284060]
[43505,"МЕСНА ЗАЈЕДНИЦА ЛОЋИКА","РЕКОВАЦ","840","-","0000001259645","645","-","22","089","07060",2,"07042","07115253",8411,89,1,102825895]
[43505,"МЕСНА ЗАЈЕДНИЦА НАДРЉЕ","РЕКОВАЦ","840","-","0000003095645","645","-","70","089","07063",2,"07042","07115288",8411,89,1,102825900]
[43505,"МЕСНА ЗАЈЕДНИЦА ПРЕВЕШТ","РЕКОВАЦ","840","-","0000002928645","645","-","65","089","07065",2,"07042","07115300",8411,89,1,101284272]
[43505,"МЕСНА ЗАЈЕДНИЦА СИЉЕВИЦА","РЕКОВАЦ","840","-","0000003069645","645","-","82","089","07071",2,"07042","07115369",8411,89,1,102825926]
[43505,"МЕСНА ЗАЈЕДНИЦА ШЉИВИЦА","РЕКОВАЦ","840","-","0000003116645","645","-","23","089","07075",2,"07042","07115407",8411,89,1,102031804]
[43505,"ОПШТИНСКА УПРАВА РЕКОВАЦ","РЕКОВАЦ","","-","","","-","","089","07042",1,"07042","07360738",8411,89,0,101283903]
[43505,"БУЏЕТСКИ ФОНД ЗА ЗАШТИТУ ЖИВОТНЕ СРЕДИНЕ","РЕКОВАЦ","","-","","","-","","089","80678",2,"07042","07360738",8411,89,1,101283903]
[43505,"СТАЛНА КАНЦЕЛАРИЈА ЗА ЕКОНОМСКИ РАЗВОЈ ОПШТИНЕ РЕКОВАЦ","РЕКОВАЦ","840","-","0000000711641","641","-","78","089","80261",2,"07042","17713876",8413,89,1,105394659]
[43505,"ОПШТИНА РЕКОВАЦ - ПРЕДСЕДНИК ОПШТИНЕ","РЕКОВАЦ","","-","","","-","","089","61456",1,"61456","07360738",8411,89,0,101283903]
[43600,"МУП - ПОЛИЦИЈСКА УПРАВА ШАБАЦ","ШАБАЦ","840","-","0000000434621","621","-","42","601","00057",4,"10600","07008104",8424,99,0,100184116]
[43600,"ЦЕНТАР ЗА СОЦИЈАЛНИ РАД ШАБАЦ","ШАБАЦ","840","-","0000000112661","661","-","93","601","00272",2,"13400","07170602",8899,99,1,100084065]
[43600,"ОСНОВНА ШКОЛА ЛАЗА К. ЛАЗАРЕВИЋ","ШАБАЦ","840","-","0000000078660","660","-","52","601","00992",2,"13701","07120494",8520,99,1,100084660]
[43600,"ОСНОВНА ШКОЛА КРАЉ АЛЕКСАНДАР КАРАЂОРЂЕВИЋ ПРЊАВОР","ШАБАЦ","840","-","0000000248660","660","-","78","601","00995",2,"13701","07169701",8520,99,1,100186857]
[43600,"ОСНОВНА ШКОЛА СВЕТИ САВА ШАБАЦ","ШАБАЦ","840","-","0000000741660","660","-","37","601","01587",2,"13701","07171277",8520,99,1,102357076]
[43600,"ШКОЛА ПРИМЕЊЕНИХ УМЕТНОСТИ ШАБАЦ","ШАБАЦ","840","-","0000001187660","660","-","55","601","01980",2,"13702","06943799",8532,99,1,100111988]
[43600,"ТЕХНИЧКА ШКОЛА ШАБАЦ","ШАБАЦ","840","-","0000000110660","660","-","82","601","01979",2,"13702","07121334",8532,99,1,100082800]
[43600,"ВИСОКА ПОЉОПРИВРЕДНА ШКОЛА СТРУКОВНИХ СТУДИЈА У ШАБЦУ","ШАБАЦ","840","-","0000000231660","660","-","56","601","02209",2,"13704","07120222",8542,99,1,100086217]
[43600,"ОСНОВНО ЈАВНО ТУЖИЛАШТВО У ШАПЦУ","ШАБАЦ","","-","","","-","","601","80542",2,"30229","17773704",8423,99,5,106399916]
[43600,"МАЧВАНСКИ УПРАВНИ ОКРУГ","ШАБАЦ","","-","","","-","","601","41109",1,"41109","17649922",8411,99,0,104182659]
[43600,"ЗАВОД ЗА  ЈАВНО ЗДРАВЉЕ ШАБАЦ","ШАБАЦ","840","-","0000000194661","661","-","85","601","02383",2,"95000","07289502",8690,99,3,100082545]
[43600,"ГРАД ШАБАЦ-БУЏЕТ","ШАБАЦ","840","-","0000000010640","640","-","24","099","07414",0,"07414","07170122",8411,99,0,100084619]
[43600,"КАНЦЕЛАРИЈА ЗА МЛАДЕ ГРАДА ШАПЦА","ШАБАЦ","840","-","0000001077664","664","-","49","099","87234",2,"07416","17834983",8411,99,1,108141152]
[43600,"ГРАДСКО ЈАВНО ПРАВОБРАНИЛАШТВО ШАБАЦ","ШАБАЦ","","-","","","-","","099","07417",1,"07417","07121881",8423,99,0,100084627]
[43600,"ГРАД ШАБАЦ-БУЏЕТСКИ ФОНД ЗА ЗАПОШЉАВАЊЕ ГРАДА ШАПЦА","ШАБАЦ","","-","","","-","","099","65591",1,"65591","07170122",8411,99,0,100084619]
[43600,"ГРАД ШАБАЦ-БУЏЕТСКИ ФОНД ЗА ЛЕЧЕЊЕ ДЕЦЕ ОД ТЕШКИХ И РЕТКИХ БОЛЕСТИ","ШАБАЦ","","-","","","-","","099","65594",1,"65594","07170122",8411,99,0,100084619]
[43600,"ДОМ КУЛТУРЕ ПРЊАВОР","ШАБАЦ","840","-","0000000850664","664","-","12","099","07488",2,"70351","17301802",9004,99,1,100090640]
[43600,"МЕСНА ЗАЈЕДНИЦА БОГОСАВАЦ","ШАБАЦ","840","-","0000000665645","645","-","35","099","07421",2,"70423","07116403",8411,99,1,101229635]
[43600,"МЕСНА ЗАЈЕДНИЦА БУКОР","ШАБАЦ","840","-","0000000949645","645","-","83","099","07423",2,"70423","07116497",8411,99,1,101229901]
[43600,"МЕСНА ЗАЈЕДНИЦА ДЕСИЋ","ШАБАЦ","840","-","0000000586645","645","-","64","099","07428",2,"70423","07116551",8411,99,1,101230009]
[43600,"МЕСНА ЗАЈЕДНИЦА ДОБРИЋ","ШАБАЦ","840","-","0000000786645","645","-","09","099","07429",2,"70423","07116594",8411,99,1,101229522]
[43600,"МЕСНА ЗАЈЕДНИЦА ЗАБЛАЋЕ","ШАБАЦ","840","-","0000001076645","645","-","02","099","07432",2,"70423","07116608",8411,99,1,101229910]
[43600,"МЕСНА ЗАЈЕДНИЦА ЗМИЊАК","ШАБАЦ","840","-","0000001119645","645","-","12","099","07433",2,"70423","07116659",8411,99,1,101229856]
[43600,"МЕСНА ЗАЈЕДНИЦА МАЧВАНСКИ ПРИЧИНОВИЋ","ШАБАЦ","840","-","0000000691645","645","-","23","099","07442",2,"70423","07116683",8411,99,1,101229547]
[43600,"МЕСНА ЗАЈЕДНИЦА МАЈУР","ШАБАЦ","840","-","0000000970645","645","-","36","099","07439",2,"70423","07116748",8411,99,1,101229678]
[43600,"МЕСНА ЗАЈЕДНИЦА МРЂЕНОВАЦ","ШАБАЦ","840","-","0000001454645","645","-","29","099","07447",2,"70423","07116764",8411,99,1,101229598]
[43600,"МЕСНА ЗАЈЕДНИЦА МИЛОШЕВАЦ","ШАБАЦ","840","-","0000001552645","645","-","36","099","07444",2,"70423","07116802",8411,99,1,101229952]
[43600,"МЕСНА ЗАЈЕДНИЦА СИНОШЕВИЋ","ШАБАЦ","840","-","0000000558645","645","-","62","099","07455",2,"70423","07116861",8411,99,1,101229985]
[43600,"МЕСНА ЗАЈЕДНИЦА ЦЕРОВАЦ","ШАБАЦ","840","-","0000001268645","645","-","85","099","07459",2,"70423","07116900",8411,99,1,101229750]
[43600,"МЕСНА ЗАЈЕДНИЦА ПОЦЕРСКИ ПРИЧИНОВИЋ","ШАБАЦ","840","-","0000000834645","645","-","54","099","07452",2,"70423","07116918",8411,99,1,101229539]
[43600,"МЕСНА ЗАЈЕДНИЦА ПРЕДВОРИЦА","ШАБАЦ","840","-","0000003871645","645","-","70","099","07480",2,"70423","07116969",8411,99,1,101229602]
[43600,"МЕСНА ЗАЈЕДНИЦА ШТИТАР","ШАБАЦ","840","-","0000001034645","645","-","96","099","07462",2,"70423","07117019",8411,99,1,101229651]
[43600,"МЕСНА ЗАЈЕДНИЦА КАМЕЊАК","ШАБАЦ","840","-","0000001224645","645","-","68","099","07469",2,"70423","07118635",8411,99,1,101229725]
[43600,"МЕСНА ЗАЈЕДНИЦА ЖИКА ПОПОВИЋ","ШАБАЦ","840","-","0000000292645","645","-","43","099","07467",2,"70423","07118686",8411,99,1,101765313]
[43600,"МЕСНА ЗАЈЕДНИЦА ЛЕТЊИКОВАЦ","ШАБАЦ","840","-","0000001825645","645","-","07","099","07471",2,"70423","07284292",8411,99,1,101765330]
[43601,"ОСНОВНА ШКОЛА МИКА МИТРОВИЋ БОГАТИЋ","БОГАТИЋ","840","-","0000000950660","660","-","45","601","01002",2,"13701","07116381",8520,24,1,101442435]
[43601,"МАЧВАНСКА СРЕДЊА ШКОЛА","БОГАТИЋ","840","-","0000000880660","660","-","40","601","01981",2,"13702","07264828",8532,24,1,101438821]
[43601,"ДОМ ЗДРАВЉА БОГАТИЋ","БОГАТИЋ","840","-","0000000405661","661","-","10","601","02462",2,"95000","17187449",8621,24,3,101442832]
[43601,"МЕСНА ЗАЈЕДНИЦА МАЧВАНСКИ МЕТКОВИЋ","БОГАТИЋ","840","-","0000001644645","645","-","98","024","04482",2,"04471","07117698",8411,24,1,101441519]
[43601,"МЕСНА ЗАЈЕДНИЦА ЦРНА БАРА","БОГАТИЋ","840","-","0000000185645","645","-","70","024","04487",2,"04471","07117736",8411,24,1,101441551]
[43601,"МЕСНА ЗАЈЕДНИЦА КЛЕЊЕ","БОГАТИЋ","840","-","0000000639645","645","-","47","024","04481",2,"04471","07117809",8411,24,1,101441502]
[43601,"МЕСНА ЗАЈЕДНИЦА СОВЉАК","БОГАТИЋ","840","-","0000001532645","645","-","90","024","04485",2,"04471","07118716",8411,24,1,101441527]
[43601,"КУЛТУРНО - ОБРАЗОВНИ ЦЕНТАР БОГАТИЋ","БОГАТИЋ","840","-","0000000118664","664","-","29","024","04489",2,"04471","07171269",8559,24,1,101439693]
[43602,"ЦЕНТАР ЗА СОЦИЈАЛНИ РАД ОПШТИНЕ ВЛАДИМИРЦИ","ВЛАДИМИРЦИ","840","-","0000000241661","661","-","26","601","00274",2,"13400","07396244",8899,112,1,101403939]
[43602,"ДОМ ЗДРАВЉА ВЛАДИМИРЦИ","ВЛАДИМИРЦИ","840","-","0000000764661","661","-","98","601","80156",2,"95000","17681664",8621,112,3,104920056]
[43602,"ОПШТИНА ВЛАДИМИРЦИ - БУЏЕТ","ВЛАДИМИРЦИ","840","-","0000000068640","640","-","42","112","07935",0,"07935","07355831",8411,112,0,101625765]
[43602,"МЕСНА ЗАЈЕДНИЦА МРОВСКА","ВЛАДИМИРЦИ","840","-","0000004026645","645","-","88","112","07967",2,"07936","07117833",8411,112,1,103597166]
[43602,"МЕСНА ЗАЈЕДНИЦА СУВО СЕЛО","ВЛАДИМИРЦИ","840","-","0000004019645","645","-","39","112","07969",2,"07936","07117876",8411,112,1,102323127]
[43602,"МЕСНА ЗАЈЕДНИЦА ЗВЕЗД","ВЛАДИМИРЦИ","840","-","0000002024645","645","-","42","112","07944",2,"07936","07117922",8411,112,1,102323135]
[43602,"МЕСНА ЗАЈЕДНИЦА ПРОВО","ВЛАДИМИРЦИ","840","-","0000002039645","645","-","50","112","07948",2,"07936","07117957",8411,112,1,101895121]
[43602,"МЕСНА ЗАЈЕДНИЦА ВУКОШИЋ","ВЛАДИМИРЦИ","840","-","0000002008645","645","-","27","112","07941",2,"07936","07117981",8411,112,1,102440955]
[43602,"МЕСНА ЗАЈЕДНИЦА БЕЛОТИЋ","ВЛАДИМИРЦИ","840","-","0000004021645","645","-","53","112","07963",2,"07936","07118031",8411,112,1,102440859]
[43602,"МЕСНА ЗАЈЕДНИЦА КАОНА","ВЛАДИМИРЦИ","840","-","0000003969645","645","-","77","112","07952",2,"07936","07118082",8411,112,1,102440826]
[43602,"МЕСНА ЗАЈЕДНИЦА БОБОВИК","ВЛАДИМИРЦИ","840","-","0000002055645","645","-","65","112","07938",2,"07936","07118112",8411,112,1,102998507]
[43602,"УСТАНОВА ЗА ПРЕДШКОЛСКО ОБРАЗОВАЊЕ СУНЦОКРЕТИ","ВЛАДИМИРЦИ","840","-","0000000200661","661","-","30","112","07960",2,"07936","07292201",8891,112,1,101625597]
[43602,"СПОРТСКИ САВЕЗ ОПШТИНЕ ВЛАДИМИРЦИ","ВЛАДИМИРЦИ","840","-","0000000907664","664","-","23","112","09961",2,"70724","07295944",9319,112,1,103421433]
[43603,"ОПШТИНА КОЦЕЉЕВА-БУЏЕТ","КОЦЕЉЕВА","840","-","0000000093640","640","-","23","046","05346",0,"05346","07353561",8411,46,0,101399396]
[43603,"ОПШТИНСКО ЈАВНО ПРАВОБРАНИЛАШТВО КОЦЕЉЕВА","КОЦЕЉЕВА","","-","","","-","","046","05348",1,"05348","07353561",8423,46,0,101399396]
[43603,"СКУПШТИНА ОПШТИНЕ КОЦЕЉЕВА","КОЦЕЉЕВА","","-","","","-","","046","09964",1,"09964","07353561",8411,46,0,101399396]
[43603,"МЕСНА ЗАЈЕДНИЦА ДРАГИЊЕ","КОЦЕЉЕВА","840","-","0000000133645","645","-","94","046","05357",2,"70433","07118759",8411,46,1,102828140]
[43603,"МЕСНА ЗАЈЕДНИЦА БРЕСНИЦА","КОЦЕЉЕВА","840","-","0000002111645","645","-","69","046","05352",2,"70433","07321384",8411,46,1,102808134]
[43603,"МЕСНА ЗАЈЕДНИЦА ГАЛОВИЋ","КОЦЕЉЕВА","840","-","0000002096645","645","-","61","046","05353",2,"70433","07321392",8411,46,1,102790465]
[43603,"МЕСНА ЗАЈЕДНИЦА ЉУТИЦЕ","КОЦЕЉЕВА","840","-","0000001932645","645","-","77","046","05363",2,"70433","07321449",8411,46,1,102790457]
[43603,"ПРЕДШКОЛСКA УСТАНОВА ПОЛЕТАРАЦ","КОЦЕЉЕВА","840","-","0000000214661","661","-","31","046","05367",2,"70442","07312296",8891,46,1,101398504]
[43700,"ОСНОВНА ШКОЛА НАДА МАТИЋ","УЖИЦЕ","840","-","0000000557660","660","-","10","601","01014",2,"13701","07155972",8520,100,1,101503975]
[43700,"ОСНОВНА ШКОЛА ДУШАН ЈЕРКОВИЋ","УЖИЦЕ","840","-","0000000546660","660","-","30","601","01011",2,"13701","07156642",8520,100,1,101777857]
[43700,"ОСНОВНА ШКОЛА ЗА ОБРАЗОВАЊЕ УЧЕНИКА СА СМЕТЊАМА У РАЗВОЈУ МИОДРАГ В. МАТИЋ","УЖИЦЕ","840","-","0000000748660","660","-","86","601","01588",2,"13701","07157550",8520,100,1,101783885]
[43700,"ОСНОВНА ШКОЛА МИОДРАГ МИЛОВАНОВИЋ-ЛУНЕ КАРАН","УЖИЦЕ","840","-","0000001388660","660","-","07","601","01013",2,"13701","17016032",8520,100,1,101946481]
[43700,"ЕКОНОМСКА ШКОЛА УЖИЦЕ","УЖИЦЕ","840","-","0000000678660","660","-","81","601","01984",2,"13702","07279345",8532,100,1,101945421]
[43700,"МЕДИЦИНСКА ШКОЛА УЖИЦЕ","УЖИЦЕ","840","-","0000001258660","660","-","67","601","01985",2,"13702","07579403",8532,100,1,100600957]
[43700,"УЧИТЕЉСКИ ФАКУЛТЕТ","УЖИЦЕ","840","-","0000001378660","660","-","34","601","02286",2,"13704","06942016",8542,100,1,101779818]
[43700,"ОСНОВНИ СУД У УЖИЦУ","УЖИЦЕ","","-","","","-","","601","80490",2,"30226","17773313",8423,100,5,106400378]
[43700,"ЗЛАТИБОРСКИ УПРАВНИ ОКРУГ","УЖИЦЕ","","-","","","-","","601","41117",1,"41117","17650335",8411,100,0,104166021]
[43700,"ЗДРАВСТВЕНИ ЦЕНТАР СА П.О. УЖИЦЕ","УЖИЦЕ","840","-","0000000404661","661","-","03","601","02463",2,"95000","07414455",8621,100,3,101624872]
[43700,"РЕПУБЛИЧКИ ФОНД ПИО-ФИЛИЈАЛА- УЖИЦЕ","УЖИЦЕ","840","-","0000000023652","652","-","79","601","00122",4,"95200","17715780",8430,100,0,105356542]
[43700,"ВЕЋЕ ГРАДСКЕ ОПШТИНЕ СЕВОЈНО","СЕВОЈНО","","-","","","-","","131","92061",1,"92061","17868934",8411,131,0,108635771]
[43700,"МЕСНА ЗАЈЕДНИЦА РИБАШЕВИНА","УЖИЦЕ","840","-","0000002004645","645","-","96","100","07523",2,"07500","07156103",8411,100,1,101945737]
[43700,"МЕСНА ЗАЈЕДНИЦА КРЧАГОВО","УЖИЦЕ","840","-","0000001712645","645","-","89","100","07515",2,"07500","07156120",8411,100,1,101624717]
[43700,"МЕСНА ЗАЈЕДНИЦА КРЕМНА","УЖИЦЕ","840","-","0000001729645","645","-","14","100","07517",2,"07500","07156189",8411,100,1,102517907]
[43700,"МЕСНА ЗАЈЕДНИЦА ЦЕНТАР","УЖИЦЕ","840","-","0000001761645","645","-","44","100","07531",2,"07500","07156235",8411,100,1,101503250]
[43700,"МЕСНА ЗАЈЕДНИЦА ЉУБАЊЕ","УЖИЦЕ","840","-","0000001777645","645","-","59","100","07519",2,"07500","07220545",8411,100,1,101945704]
[43700,"МЕСНА ЗАЈЕДНИЦА ГОСТИНИЦА","УЖИЦЕ","840","-","0000002227645","645","-","08","100","07510",2,"07500","07251742",8411,100,1,101945729]
[43700,"МЕСНА ЗАЈЕДНИЦА БИОСКА","УЖИЦЕ","840","-","0000002272645","645","-","32","100","07505",2,"07500","07280564",8411,100,1,102111386]
[43700,"МЕСНА ЗАЈЕДНИЦА НИКОЈЕВИЋИ","УЖИЦЕ","840","-","0000002458645","645","-","73","100","07521",2,"07500","07330219",8411,100,1,101945745]
[43700,"МЕСНА ЗАЈЕДНИЦА СКРЖУТИ","УЖИЦЕ","840","-","0000002885645","645","-","55","100","07525",2,"07500","17128108",8411,100,1,101503590]
[43700,"ТУРИСТИЧКА ОРГАНИЗАЦИЈА УЖИЦЕ","УЖИЦЕ","840","-","0000000749664","664","-","81","100","07541",2,"07500","17477293",7311,100,1,102747591]
[43700,"ГРАДСКО ПРАВОБРАНИЛАШТВО ГРАДА УЖИЦА","УЖИЦЕ","840","-","0000000279641","641","-","61","100","07501",1,"07501","07156081",8423,100,2,101946094]
[43700,"ГРАДСКА УПРАВА ЗА ИНФРАСТРУКТУРУ И РАЗВОЈ","УЖИЦЕ","","-","","","-","","100","61686",1,"61686","07157983",8411,100,0,101503055]
[43700,"ИСТОРИЈСКИ АРХИВ УЖИЦЕ","УЖИЦЕ","840","-","0000000159664","664","-","25","100","07537",2,"70209","07156812",9101,100,1,101502263]
[43700,"ГРАДСКИ КУЛТУРНИ ЦЕНТАР","УЖИЦЕ","840","-","0000001027664","664","-","87","100","80846",2,"70209","17811002",9001,100,1,106731587]
[43700,"ГРАДСКА УПРАВА ЗА ИНСПЕКЦИЈСКЕ ПОСЛОВЕ И КОМУНАЛНУ ПОЛИЦИЈУ","УЖИЦЕ","","-","","","-","","100","80954",1,"80954","07157983",8411,100,0,101503055]
[43701,"ОСНОВНА ШКОЛА ЈЕЗДИМИР ТРИПКОВИЋ ЛАТВИЦА","АРИЉЕ","840","-","0000000232660","660","-","63","601","01016",2,"13701","07110880",8520,4,1,100787524]
[43701,"МЕСНА ЗАЈЕДНИЦА ПОГЛЕД","АРИЉЕ","840","-","0000002212645","645","-","97","004","03997",2,"03977","07110693",8411,4,1,100787661]
[43701,"МЕСНА ЗАЈЕДНИЦА ГРДОВИЋИ","АРИЉЕ","840","-","0000002689645","645","-","41","004","03990",2,"03977","07110707",8411,4,1,101486464]
[43701,"МЕСНА ЗАЈЕДНИЦА ДОБРАЧЕ","АРИЉЕ","840","-","0000002706645","645","-","63","004","03992",2,"03977","07155573",8411,4,1,101486456]
[43701,"МЕСНА ЗАЈЕДНИЦА МИРОСАЉЦИ","АРИЉЕ","840","-","0000000040645","645","-","25","004","03996",2,"03977","07230702",8411,4,1,102158246]
[43701,"МЕСНА ЗАЈЕДНИЦА БЈЕЛУША","АРИЉЕ","840","-","0000002768645","645","-","12","004","03983",2,"03977","07324685",8411,4,1,102315039]
[43701,"МЕСНА ЗАЈЕДНИЦА ВИРОВО","АРИЉЕ","840","-","0000002736645","645","-","79","004","03987",2,"03977","07324707",8411,4,1,101486421]
[43701,"МЕСНА ЗАЈЕДНИЦА РАДОБУЂА","АРИЉЕ","840","-","0000002622645","645","-","57","004","03998",2,"03977","07324766",8411,4,1,102314845]
[43701,"МЕСНА ЗАЈЕДНИЦА СЕВЕРОВО","АРИЉЕ","840","-","0000002610645","645","-","70","004","04000",2,"03977","07326475",8411,4,1,101959390]
[43701,"ОПШТИНСКО ЈАВНО ПРАВОБРАНИЛАШТВО АРИЉЕ","АРИЉЕ","","-","","","-","","004","03978",1,"03978","17180584",8423,4,0,100493747]
[43701,"ОПШТИНА АРИЉЕ- ОПШТИНСКО ВЕЋЕ","АРИЉЕ","","-","","","-","","004","65739",1,"65739","07254628",8411,4,0,100493722]
[43702,"МУЗЕЈ НА ОТВОРЕНОМ СТАРО СЕЛО СИРОГОЈНО","ЧАЈЕТИНА","840","-","0000000391664","664","-","97","601","04908",2,"11801","06097553",9102,35,1,101074359]
[43702,"ОСНОВНА ШКОЛА МИЛИВОЈЕ БОРОВИЋ МАЧКАТ","ЧАЈЕТИНА","840","-","0000000371660","660","-","66","601","01021",2,"13701","07216971",8520,35,1,101072902]
[43702,"СПЕЦИЈАЛНА БОЛНИЦА ЗА БОЛЕСТИ ШТИТАСТЕ ЖЛЕЗДЕ И БОЛЕСТИ МЕТАБОЛИЗМА ЗЛАТИБОР","ЧАЈЕТИНА","840","-","0000000174661","661","-","42","601","02599",2,"95000","07221452",8710,35,3,101072092]
[43702,"МЕСНА ЗАЈЕДНИЦА СЕМЕГЊЕВО","ЧАЈЕТИНА","840","-","0000002019645","645","-","07","035","04898",2,"04881","07111550",8411,35,1,101074844]
[43702,"МЕСНА ЗАЈЕДНИЦА ЧАЈЕТИНА","ЧАЈЕТИНА","840","-","0000001989645","645","-","88","035","04903",2,"04881","07111622",8411,35,1,101074869]
[43702,"МЕСНА ЗАЈЕДНИЦА ЉУБИШ","ЧАЈЕТИНА","840","-","0000002539645","645","-","58","035","04892",2,"04881","07238908",8411,35,1,101881737]
[43702,"МЕСНА ЗАЈЕДНИЦА МУШВЕТЕ","ЧАЈЕТИНА","840","-","0000002348645","645","-","79","035","04894",2,"04881","07266952",8411,35,1,101075259]
[43702,"ПРЕДШКОЛСКА УСТАНОВА РАДОСТ","ЧАЈЕТИНА","840","-","0000000382661","661","-","43","035","04905",2,"04881","07319614",8891,35,1,101074088]
[43702,"МЕСНА ЗАЈЕДНИЦА ТРИПКОВА","ЧАЈЕТИНА","840","-","0000002550645","645","-","38","035","04901",2,"04881","07324863",8411,35,1,101881729]
[43702,"МЕСНА ЗАЈЕДНИЦА ТРНАВА","ЧАЈЕТИНА","840","-","0000003980645","645","-","57","035","04902",2,"04881","17509896",8411,35,1,103030122]
[43702,"ОПШТИНСКО ПРАВОБРАНИЛАШТВО","ЧАЈЕТИНА","","-","","","-","","035","10053",1,"10053","07353553",8423,35,0,101072148]
[43702,"ПРЕДСЕДНИК ОПШТИНЕ ЧАЈЕТИНА","ЧАЈЕТИНА","","-","","","-","","035","92511",1,"92511","07353553",8411,35,0,101072148]
[43710,"ОСНОВНА ШКОЛА СВЕТИ САВА БАЈИНА БАШТА","БАЈИНА БАШТА","840","-","0000001232660","660","-","79","601","01025",2,"13701","07365063",8520,7,1,101960015]
[43710,"ВОЈНА УСТАНОВА ТАРА","БАЈИНА БАШТА","840","-","0000001180664","664","-","91","601","03565",6,"61040","17864963",5510,7,1,108341411]
[43710,"МЕСНА ЗАЈЕДНИЦА ПАШИНА РАВАН","БАЈИНА БАШТА","840","-","0000002849645","645","-","94","007","04091",2,"04068","06993567",8411,7,1,102327568]
[43710,"МЕСНА ЗАЈЕДНИЦА ЗАГЛАВАК","БАЈИНА БАШТА","840","-","0000000283645","645","-","77","007","04078",2,"04068","07155395",8411,7,1,102327656]
[43710,"МЕСНА ЗАЈЕДНИЦА СИЈЕРАЧ","БАЈИНА БАШТА","840","-","0000002373645","645","-","60","007","04097",2,"04068","07155441",8411,7,1,102327550]
[43710,"МЕСНА ЗАЈЕДНИЦА ПИЛИЦА","БАЈИНА БАШТА","840","-","0000000229645","645","-","87","007","04093",2,"04068","07232365",8411,7,1,102327427]
[43710,"МЕСНА ЗАЈЕДНИЦА ЗАРОЖЈЕ","БАЈИНА БАШТА","840","-","0000002286645","645","-","33","007","04080",2,"04068","07283091",8411,7,1,102327525]
[43710,"МЕСНА ЗАЈЕДНИЦА ОБАЈГОРА","БАЈИНА БАШТА","840","-","0000002310645","645","-","07","007","04088",2,"04068","07285515",8411,7,1,102327689]
[43710,"МЕСНА ЗАЈЕДНИЦА КОСТОЈЕВИЋИ","БАЈИНА БАШТА","840","-","0000000255645","645","-","75","007","04085",2,"04068","07296720",8411,7,1,102327435]
[43710,"МЕСНА ЗАЈЕДНИЦА РАСТИШТЕ","БАЈИНА БАШТА","840","-","0000002109645","645","-","55","007","04094",2,"04068","07298200",8411,7,1,102327517]
[43710,"МЕСНА ЗАЈЕДНИЦА ДОБРОТИН","БАЈИНА БАШТА","840","-","0000001881645","645","-","11","007","04077",2,"04068","07324804",8411,7,1,102327701]
[43710,"МЕСНА ЗАЈЕДНИЦА ДУБ","БАЈИНА БАШТА","840","-","0000002857645","645","-","53","007","04100",2,"04068","17122118",8411,7,1,102327576]
[43710,"СКУПШТИНА ОПШТИНЕ","БАЈИНА БАШТА","","-","","","-","","007","96938",1,"96938","07355866",8411,7,0,101960656]
[43720,"ОСНОВНА ШКОЛА МИЛИНКО КУШИЋ","ИВАЊИЦА","840","-","0000000392660","660","-","19","601","01031",2,"13701","07111991",8520,42,1,101064438]
[43720,"ОСНОВНА ШКОЛА МИЋО МАТОВИЋ КАТИЋИ","ИВАЊИЦА","840","-","0000000441660","660","-","71","601","01032",2,"13701","07190395",8520,42,1,100931900]
[43720,"ОСНОВНА ШКОЛА ПРОФЕСОР ДР НЕДЕЉКО КОШАНИН ДЕВИЋИ","ИВАЊИЦА","840","-","0000000402660","660","-","89","601","01033",2,"13701","07190417",8520,42,1,101064358]
[43720,"ДОМ УЧЕНИКА СРЕДЊИХ ШКОЛА ИВАЊИЦА","ИВАЊИЦА","840","-","0000000308661","661","-","10","601","02163",2,"13703","07111738",5590,42,1,100930974]
[43720,"ДОМ ЗДРАВЉА ИВАЊИЦА","ИВАЊИЦА","840","-","0000000867661","661","-","43","601","91972",2,"95000","17870033",8621,42,3,108576841]
[43720,"БУЏЕТСКИ ФОНД ЗА ЗАШТИТУ ЖИВОТНЕ СРЕДИНЕ","ИВАЊИЦА","","-","","","-","","042","80681",2,"05158","06981984",8411,42,1,101063437]
[43720,"МЕСНА ЗАЈЕДНИЦА ПРИДВОРИЦА","ИВАЊИЦА","840","-","0000000704645","645","-","17","042","05178",2,"05158","07155581",8411,42,1,100933972]
[43720,"МЕСНА ЗАЈЕДНИЦА ОСТАТИЈА","ИВАЊИЦА","840","-","0000000628645","645","-","67","042","05177",2,"05158","07210361",8411,42,1,101064479]
[43720,"МЕСНА ЗАЈЕДНИЦА СРЕДЊА РЕКА","ИВАЊИЦА","840","-","0000000728645","645","-","88","042","05180",2,"05158","07230869",8411,42,1,100933948]
[43720,"МЕСНА ЗАЈЕДНИЦА ОПАЉЕНИК","ИВАЊИЦА","840","-","0000000575645","645","-","84","042","05175",2,"05158","07311974",8411,42,1,100934527]
[43720,"МЕСНА ЗАЈЕДНИЦА ЕРЧЕГЕ","ИВАЊИЦА","840","-","0000000439645","645","-","05","042","05167",2,"05158","07313560",8411,42,1,100933964]
[43720,"БИБЛИОТЕКА СВЕТИСЛАВ ВУЛОВИЋ","ИВАЊИЦА","840","-","0000000454664","664","-","53","042","05182",2,"05158","17385097",9101,42,1,101063839]
[43720,"СКУПШТИНА ОПШТИНЕ ИВАЊИЦА","ИВАЊИЦА","","-","","","-","","042","09715",1,"09715","07221142",8411,42,0,101886934]
[43720,"ОПШТИНА ИВАЊИЦА - ОПШТИНСКО ВЕЋЕ","ИВАЊИЦА","","-","","","-","","042","61100",1,"61100","07221142",8411,42,0,101886934]
[43730,"ОСНОВНА ШКОЛА ЈОРДАН ЂУКАНОВИЋ ВАРДА","КОСЈЕРИЋ","840","-","0000000499660","660","-","89","601","01036",2,"13701","07110146",8520,48,1,101088118]
[43730,"МЕСНА ЗАЈЕДНИЦА КОСЈЕРИЋ","КОСЈЕРИЋ","840","-","0000000801645","645","-","17","048","05381",2,"05371","07110456",8411,48,1,100962675]
[43730,"МЕСНА ЗАЈЕДНИЦА ГОДЕЧЕВО","КОСЈЕРИЋ","840","-","0000000940645","645","-","20","048","05377",2,"05371","07110553",8411,48,1,101091576]
[43730,"МЕСНА ЗАЈЕДНИЦА РАДАНОВЦИ","КОСЈЕРИЋ","840","-","0000000919645","645","-","67","048","05384",2,"05371","07256515",8411,48,1,100962667]
[43730,"НАРОДНА БИБЛИОТЕКА СРЕТЕН МАРИЋ","КОСЈЕРИЋ","840","-","0000000291664","664","-","76","048","05390",2,"05371","07280670",9101,48,1,101088167]
[43730,"МЕСНА ЗАЈЕДНИЦА МУШИЋИ","КОСЈЕРИЋ","840","-","0000000778645","645","-","50","048","05383",2,"05371","07309937",8411,48,1,100962642]
[43730,"ФОНД ЗА РАЗВОЈ ПОЉОПРИВРЕДЕ ОПШТИНЕ КОСЈЕРИЋ","КОСЈЕРИЋ","840","-","0000000587644","644","-","74","048","80407",2,"05371","17782479",6499,48,1,106306116]
[43730,"ОПШТИНСКО ЈАВНО ПРАВОБРАНИЛАШТВО КОСЈЕРИЋ","КОСЈЕРИЋ","","-","","","-","","048","91695",1,"91695","07357826",8411,48,0,101090852]
[43740,"ЦЕНТАР ЗА СОЦИЈАЛНИ РАД ПОЖЕГА","ПОЖЕГА","840","-","0000000219661","661","-","66","601","00282",2,"13400","07112475",8899,81,1,101004425]
[43740,"ГИМНАЗИЈА СВЕТИ САВА","ПОЖЕГА","840","-","0000001252660","660","-","25","601","01742",2,"13702","07572913",8531,81,1,100863808]
[43740,"ОПШТИНА ПОЖЕГА-БУЏЕТ","ПОЖЕГА","840","-","0000000124640","640","-","46","081","06705",0,"06705","07158122",8411,81,0,100860638]
[43740,"МЕСНА ЗАЈЕДНИЦА ГОДОВИК","ПОЖЕГА","840","-","0000001047645","645","-","90","081","06714",2,"06706","07112670",8411,81,1,101006582]
[43740,"МЕСНА ЗАЈЕДНИЦА ГОРОБИЉЕ","ПОЖЕГА","840","-","0000001385645","645","-","31","081","06716",2,"06706","07112688",8411,81,1,101006373]
[43740,"МЕСНА ЗАЈЕДНИЦА ПОЖЕГА","ПОЖЕГА","840","-","0000001068645","645","-","43","081","06732",2,"06706","07112726",8411,81,1,101006381]
[43740,"МЕСНА ЗАЈЕДНИЦА ВЕЛИКА ЈЕЖЕВИЦА","ПОЖЕГА","840","-","0000001321645","645","-","68","081","06722",2,"06706","07219512",8411,81,1,101006453]
[43740,"МЕСНА ЗАЈЕДНИЦА ПРИЛИПАЦ","ПОЖЕГА","840","-","0000001427645","645","-","34","081","06734",2,"06706","07230915",8411,81,1,101006558]
[43740,"МЕСНА ЗАЈЕДНИЦА ВИСИБАБА","ПОЖЕГА","840","-","0000001090645","645","-","03","081","06711",2,"06706","07239319",8411,81,1,100863689]
[43740,"МЕСНА ЗАЈЕДНИЦА ЗДРАВЧИЋИ","ПОЖЕГА","840","-","0000001301645","645","-","25","081","06721",2,"06706","07294557",8411,81,1,100863697]
[43740,"МЕСНА ЗАЈЕДНИЦА ПИЛАТОВИЋИ","ПОЖЕГА","840","-","0000001547645","645","-","98","081","06731",2,"06706","07296843",8411,81,1,100863443]
[43740,"МЕСНА ЗАЈЕДНИЦА ОТАЊ","ПОЖЕГА","840","-","0000002420645","645","-","98","081","06729",2,"06706","07315783",8411,81,1,101006540]
[43740,"МЕСНА ЗАЈЕДНИЦА РУПЕЉЕВО","ПОЖЕГА","840","-","0000002384645","645","-","40","081","06739",2,"06706","07315791",8411,81,1,101006461]
[43740,"МЕСНА ЗАЈЕДНИЦА ГОРЊА ДОБРИЊА","ПОЖЕГА","840","-","0000001281645","645","-","79","081","06715",2,"06706","07318707",8411,81,1,100863785]
[43740,"ТУРИСТИЧКА ОРГАНИЗАЦИЈА  ПОЖЕГА","ПОЖЕГА","840","-","0000000620664","664","-","51","081","06750",2,"06706","17187112",7911,81,1,100860646]
[43740,"МЕСНА ЗАЈЕДНИЦА ДРАЖИНОВИЋИ","ПОЖЕГА","840","-","0000004159645","645","-","49","081","80967",2,"06706","17822080",8411,81,1,107392562]
[43740,"ОПШТИНСКО ПРАВОБРАНИЛАШТВО ОПШТИНЕ ПОЖЕГА","ПОЖЕГА","","-","","","-","","081","06707",1,"06707","07266901",8423,81,0,100862877]
[43900,"МУП - ПОЛИЦИЈСКА УПРАВА ВАЉЕВО","ВАЉЕВО","840","-","0000000098621","621","-","18","601","00059",4,"10600","07008104",8424,107,0,100184116]
[43900,"ОСНОВНА ШКОЛА МИЛОШ МАРКОВИЋ ДОЊЕ ЛЕСКОВИЦЕ","ВАЉЕВО","840","-","0000000216660","660","-","48","601","01049",2,"13701","07096666",8520,107,1,102017695]
[43900,"ОСНОВНА ШКОЛА МИЛОВАН ГЛИШИЋ ВАЉЕВСКА КАМЕНИЦА","ВАЉЕВО","840","-","0000000250660","660","-","92","601","01047",2,"13701","07096712",8520,107,1,101492692]
[43900,"ОСНОВНА ШКОЛА ДРАГОЉУБ ИЛИЋ ДРАЧИЋ","ВАЉЕВО","840","-","0000000191660","660","-","67","601","01042",2,"13701","07096747",8520,107,1,101490285]
[43900,"ОСНОВНА ШКОЛА АНДРА САВЧИЋ","ВАЉЕВО","840","-","0000000095660","660","-","74","601","01040",2,"13701","07096984",8520,107,1,101902045]
[43900,"ЕКОНОМСКА ШКОЛА ВАЉЕВО","ВАЉЕВО","840","-","0000000332660","660","-","84","601","01996",2,"13702","07096887",8532,107,1,101898865]
[43900,"ТЕХНИЧКА ШКОЛА ВАЉЕВО","ВАЉЕВО","840","-","0000000348660","660","-","02","601","02000",2,"13702","07097000",8532,107,1,100075878]
[43900,"ВИСОКА ПОСЛОВНА ШКОЛА СТРУКОВНИХ СТУДИЈА ВАЉЕВО","ВАЉЕВО","840","-","0000000963660","660","-","39","601","02180",2,"13704","07243782",8542,107,1,101899163]
[43900,"ОСНОВНО ЈАВНО ТУЖИЛАШТВО У ВАЉЕВУ","ВАЉЕВО","","-","","","-","","601","80512",2,"30229","17773461",8423,107,5,106400302]
[43900,"ЗДРАВСТВЕНА УСТАНОВА АПОТЕКА ВАЉЕВО","ВАЉЕВО","840","-","0000000361661","661","-","90","601","02635",2,"95000","06873901",4773,107,3,100075208]
[43900,"РЕПУБЛИЧКИ ФОНД ПИО-ФИЛИЈАЛА- ВАЉЕВО","ВАЉЕВО","840","-","0000000026652","652","-","03","601","00124",4,"95200","17715780",8430,107,0,105356542]
[43900,"НАЦИОНАЛНА СЛУЖБА ЗА ЗАПОШЉАВАЊЕ-ФИЛИЈАЛА ВАЉЕВО","ВАЉЕВО","840","-","0000000016654","654","-","24","601","00123",4,"95400","17539957",7810,107,0,103277483]
[43900,"МЕЂУОПШТИНСКИ ИСТОРИЈСКИ АРХИВ ВАЉЕВО","ВАЉЕВО","840","-","0000000058664","664","-","94","107","07762",2,"07706","07096968",9101,107,1,101492334]
[43900,"МЕСНА ЗАЈЕДНИЦА ВАЉЕВСКА КАМЕНИЦА","ВАЉЕВО","840","-","0000000123645","645","-","24","107","07712",2,"07706","07097379",8411,107,1,102017390]
[43900,"МЕСНА ЗАЈЕДНИЦА БАЧЕВЦИ","ВАЉЕВО","840","-","0000000729645","645","-","95","107","07709",2,"07706","07097395",8411,107,1,102017365]
[43900,"МЕСНА ЗАЈЕДНИЦА ДОЊА БУКОВИЦА","ВАЉЕВО","840","-","0000000825645","645","-","88","107","07721",2,"07706","07097425",8411,107,1,102017236]
[43900,"МЕСНА ЗАЈЕДНИЦА КОТЕШИЦА","ВАЉЕВО","840","-","0000000518645","645","-","73","107","07727",2,"07706","07097492",8411,107,1,102017277]
[43900,"МЕСНА ЗАЈЕДНИЦА ПОЋУТА","ВАЉЕВО","840","-","0000000415645","645","-","31","107","07737",2,"07706","07097557",8411,107,1,102017558]
[43900,"МЕСНА ЗАЈЕДНИЦА НАДА ПУРИЋ","ВАЉЕВО","840","-","0000000682645","645","-","57","107","07749",2,"07706","07097603",8411,107,1,102017515]
[43900,"МЕСНА ЗАЈЕДНИЦА ЛУКАВАЦ","ВАЉЕВО","840","-","0000000705645","645","-","24","107","07731",2,"07706","07121784",8411,107,1,102017566]
[43900,"МЕСНА ЗАЈЕДНИЦА ЛЕЛИЋ","ВАЉЕВО","840","-","0000000779645","645","-","57","107","07728",2,"07706","07135815",8411,107,1,102352184]
[43900,"ГРАД ВАЉЕВО - ГРАДСКА УПРАВА ЗА ДРУШТВЕНЕ ДЕЛАТНОСТИ, ФИНАНСИЈЕ, ИМОВИНСКЕ И ИНСПЕКЦИЈСКЕ ПОСЛОВЕ","ВАЉЕВО","","-","","","-","","107","07706",1,"07706","07137010",8411,107,0,102483248]
[43900,"МЕСНА ЗАЈЕДНИЦА ГОРЊА ГРАБОВИЦА","ВАЉЕВО","840","-","0000000754645","645","-","76","107","07717",2,"07706","07199945",8411,107,1,102017228]
[43900,"МЕСНА ЗАЈЕДНИЦА ОГЛАЂЕНОВАЦ","ВАЉЕВО","840","-","0000000148645","645","-","05","107","07734",2,"07706","07209797",8411,107,1,102017470]
[43900,"МЕСНА ЗАЈЕДНИЦА АНДРА САВЧИЋ","ВАЉЕВО","840","-","0000003023645","645","-","51","107","07742",2,"07706","07266308",8411,107,1,102017332]
[43900,"МЕСНА ЗАЈЕДНИЦА ГОРЊИ ЛУКАВАЦ","ВАЉЕВО","840","-","0000003215645","645","-","37","107","07732",2,"07706","07600763",8411,107,1,102017285]
[43900,"МЕСНА ЗАЈЕДНИЦА ПЕТНИЦА","ВАЉЕВО","840","-","0000000547645","645","-","82","107","07736",2,"07706","17313860",8411,107,1,102017540]
[43900,"МЕСНА ЗАЈЕДНИЦА КЛАНИЦА","ВАЉЕВО","840","-","0000003974645","645","-","15","107","07755",2,"07706","17500627",8411,107,1,102975550]
[43900,"ГРАД ВАЉЕВО-МЕСНА ЗАЈЕДНИЦА ПРИЈЕЗДИЋ","ВАЉЕВО","840","-","0000004165645","645","-","91","107","83839",2,"07706","17828916",8411,107,1,107846934]
[43900,"ГРАД ВАЉЕВО-ГРАДСКА УПРАВА ГРАДА ВАЉЕВА","ВАЉЕВО","","-","","","-","","107","66340",1,"66340","07137010",8411,107,0,102483248]
[43900,"ГРАД ВАЉЕВО - ГРАДСКО ВЕЋЕ","ВАЉЕВО","","-","","","-","","107","96459",1,"96459","07137010",8411,107,0,102483248]
[43901,"ОСНОВНА ШКОЛА БРАЋА НЕДИЋ","ОСЕЧИНА","840","-","0000000742660","660","-","44","601","01055",2,"13701","07134991",8520,76,1,101596986]
[43901,"ОПШТИНА ОСЕЧИНА-БУЏЕТ","ОСЕЧИНА","840","-","0000000078640","640","-","15","076","06419",0,"06419","07256230",8411,76,0,101598037]
[43901,"МЕСНА ЗАЈЕДНИЦА ГОРЊЕ ЦРНИЉЕВО","ОСЕЧИНА","840","-","0000002655645","645","-","94","076","06423",2,"06420","07135254",8411,76,1,102537893]
[43901,"МЕСНА ЗАЈЕДНИЦА ОСТРУЖАЊ","ОСЕЧИНА","840","-","0000002727645","645","-","16","076","06429",2,"06420","07135319",8411,76,1,102537852]
[43901,"МЕСНА ЗАЈЕДНИЦА ПЛУЖАЦ","ОСЕЧИНА","840","-","0000002748645","645","-","66","076","06431",2,"06420","07135343",8411,76,1,102537797]
[43901,"МЕСНА ЗАЈЕДНИЦА ДРАГОДОЛ","ОСЕЧИНА","840","-","0000002831645","645","-","65","076","06425",2,"06420","07189354",8411,76,1,102537885]
[43901,"МЕСНА ЗАЈЕДНИЦА БРАТАЧИЋ","ОСЕЧИНА","840","-","0000002769645","645","-","19","076","06422",2,"06420","07232802",8411,76,1,102537869]
[43901,"СПОРТСКИ ЦЕНТАР ОСЕЧИНА","ОСЕЧИНА","840","-","0000000827664","664","-","45","076","06444",2,"06420","07708432",9311,76,1,101598004]
[43901,"МЕСНА ЗАЈЕДНИЦА ОСЕЧИНА-2 ВАРОШИЦА","ОСЕЧИНА","840","-","0000004038645","645","-","75","076","09875",2,"06420","17629867",8411,76,1,103911100]
[43901,"ТУРИСТИЧКА ОРГАНИЗАЦИЈА ПОДГОРИНА","ОСЕЧИНА","840","-","0000000897664","664","-","50","076","09892",2,"06420","17634364",7911,76,1,104030322]
[43902,"ОСНОВНА ШКОЛА МИЛЕ ДУБЉЕВИЋ","ЛАЈКОВАЦ","840","-","0000000820660","660","-","08","601","01058",2,"13701","07134231",8520,55,1,101343135]
[43902,"МЕСНА ЗАЈЕДНИЦА МАЛИ БОРАК","ЛАЈКОВАЦ","840","-","0000002858645","645","-","60","055","05662",2,"05653","07134363",8411,55,1,101344863]
[43902,"МЕСНА ЗАЈЕДНИЦА СКОБАЉ","ЛАЈКОВАЦ","840","-","0000003009645","645","-","50","055","05669",2,"05653","07134371",8411,55,1,101344927]
[43902,"МЕСНА ЗАЈЕДНИЦА БОГОВАЂА","ЛАЈКОВАЦ","840","-","0000002894645","645","-","21","055","05657",2,"05653","07134410",8411,55,1,101344902]
[43902,"МЕСНА ЗАЈЕДНИЦА СТРМОВО","ЛАЈКОВАЦ","840","-","0000002946645","645","-","94","055","05672",2,"05653","07134452",8411,55,1,101345190]
[43902,"МЕСНА ЗАЈЕДНИЦА РАТКОВАЦ","ЛАЈКОВАЦ","840","-","0000002963645","645","-","19","055","05667",2,"05653","07246528",8411,55,1,101344919]
[43902,"МЕСНА ЗАЈЕДНИЦА СЛОВАЦ","ЛАЈКОВАЦ","840","-","0000002911645","645","-","43","055","05670",2,"05653","07246854",8411,55,1,101345001]
[43902,"ОПШТИНА ЛАЈКОВАЦ - ОПШТИНСКА УПРАВА","ЛАЈКОВАЦ","","-","","","-","","055","05653",1,"05653","07353154",8411,55,0,101343119]
[43902,"ОПШТИНА ЛАЈКОВАЦ - ПРЕДСЕДНИК ОПШТИНЕ","ЛАЈКОВАЦ","","-","","","-","","055","09817",1,"09817","07353154",8411,55,0,101343119]
[43903,"ОСНОВНА ШКОЛА МИЛАН РАКИЋ","МИОНИЦА","840","-","0000000908660","660","-","42","601","01060",2,"13701","07134754",8520,69,1,101392039]
[43903,"СРЕДЊА ШКОЛА МИОНИЦА МИОНИЦА","МИОНИЦА","840","-","0000002110660","660","-","17","601","80398",2,"13702","17779575",8531,69,1,106270405]
[43903,"ОПШТИНА МИОНИЦА-БУЏЕТ","МИОНИЦА","840","-","0000000050640","640","-","13","069","06228",0,"06228","07188781",8411,69,0,101391896]
[43903,"ОПШТИНА МИОНИЦА - ОПШТИНСКА УПРАВА","МИОНИЦА","","-","","","-","","069","06229",1,"06229","07188781",8411,69,0,101391896]
[43903,"ТУРИСТИЧКА ОРГАНИЗАЦИЈА МИОНИЦА","МИОНИЦА","840","-","0000001171664","664","-","28","069","98075",2,"06229","17863924",8413,69,1,109489055]
[43903,"ОПШТИНА МИОНИЦА - СКУПШТИНА ОПШТИНЕ","МИОНИЦА","","-","","","-","","069","91806",1,"91806","07188781",8411,69,0,101391896]
[43910,"ЦЕНТАР ЗА СОЦИЈАЛНИ РАД УБ","УБ","840","-","0000000240661","661","-","19","601","00285",2,"13400","07327994",8899,105,1,101351017]
[43910,"ШКОЛА ЗА ОСНОВНО МУЗИЧКО ОБРАЗОВАЊЕ ПЕТАР СТОЈАНОВИЋ","УБ","840","-","0000000920660","660","-","29","601","01634",2,"13701","07253834",8520,105,1,101350983]
[43910,"ОСНОВНО ЈАВНО ТУЖИЛАШТВО У УБУ","УБ","","-","","","-","","601","91326",2,"30229","17865749",8423,105,5,108347813]
[43910,"ДОМ ЗДРАВЉА УБ","УБ","840","-","0000000407661","661","-","24","601","02467",2,"95000","17211692",8621,105,3,101349256]
[43910,"ГРАДСКА БИБЛИОТЕКА БОЖИДАР КНЕЖЕВИЋ","УБ","840","-","0000000320664","664","-","85","105","07701",2,"07663","17027999",9101,105,1,102028226]
[43910,"ОПШТИНА УБ - ПРЕДСЕДНИК ОПШТИНЕ УБ","УБ","","-","","","-","","105","91690",1,"91690","07188927",8411,105,0,105884538]
[43930,"СРЕДЊА ТЕХНИЧКА ШКОЛА 1300 КАПЛАРА","ЉИГ","840","-","0000000679660","660","-","88","601","02003",2,"13702","07099355",8532,61,1,101287183]
[43930,"ОПШТИНА ЉИГ-БУЏЕТ","ЉИГ","840","-","0000000116640","640","-","87","061","06035",0,"06035","07099665",8411,61,0,101286153]
[43930,"ГРАДСКА БИБЛИОТЕКА ЉИГ","ЉИГ","840","-","0000000146664","664","-","31","061","06065",2,"06036","17039377",9101,61,1,101955992]
[44100,"ОКРУЖНИ ЗАТВОР У ВРАЊУ","ВРАЊЕ","840","-","0000000349621","621","-","29","601","00030",2,"10311","17621513",8423,114,1,103699081]
[44100,"ОСНОВНА ШКОЛА ВУК КАРАЏИЋ ВРАЊЕ","ВРАЊЕ","840","-","0000000080660","660","-","66","601","01072",2,"13701","07137940",8520,114,1,100553990]
[44100,"ОСНОВНА ШКОЛА ДОСИТЕЈ ОБРАДОВИЋ","ВРАЊЕ","840","-","0000000068660","660","-","79","601","01073",2,"13701","07138806",8520,114,1,100405574]
[44100,"ОСНОВНА ШКОЛА 1. МАЈ ГОРЊИ ВРТОГОШ","ВРАЊЕ","840","-","0000000432660","660","-","08","601","01068",2,"13701","07138881",8520,114,1,100405902]
[44100,"ШКОЛА ЗА ОСНОВНО И СРЕДЊЕ ОБРАЗОВАЊЕ ВУЛЕ АНТИЋ","ВРАЊЕ","840","-","0000000567660","660","-","80","601","01589",2,"13701","07138962",8520,114,1,100550469]
[44100,"ГИМНАЗИЈА БОРА СТАНКОВИЋ","ВРАЊЕ","840","-","0000000529660","660","-","08","601","01745",2,"13702","07138946",8531,114,1,100403298]
[44100,"ЕКОНОМСКО-ТРГОВИНСКА ШКОЛА ВРАЊЕ","ВРАЊЕ","840","-","0000000514660","660","-","97","601","02004",2,"13702","07205856",8532,114,1,100553262]
[44100,"РЕГИОНАЛНИ ЦЕНТАР ЗА ТАЛЕНТЕ ВРАЊЕ","ВРАЊЕ","840","-","0000001983660","660","-","98","601","02141",2,"13702","17213628",8559,114,1,100405076]
[44100,"ВИШИ СУД У ВРАЊУ","ВРАЊЕ","","-","","","-","","601","80435",2,"30225","17772872",8423,114,5,106400175]
[44100,"ПРЕКРШАЈНИ СУД У ВРАЊУ","ВРАЊЕ","","-","","","-","","601","80582",2,"30233","17773984",8423,114,5,106400214]
[44100,"ПЧИЊСКИ УПРАВНИ ОКРУГ","ВРАЊЕ","","-","","","-","","601","41125",1,"41125","17649949",8411,114,0,102623814]
[44100,"СПЕЦИЈАЛНА БОЛНИЦА ЗА  РЕХАБИЛИТАЦИЈУ ВРАЊСКА БАЊА","ВРАЊСКА БАЊА","840","-","0000000143661","661","-","19","601","02601",2,"95000","07214383",8710,130,3,100553836]
[44100,"НАЦИОНАЛНА СЛУЖБА ЗА ЗАПОШЉАВАЊЕ-ФИЛИЈАЛА ГЊИЛАНЕ","ГЊИЛАНЕ","840","-","0000000039654","654","-","88","601","80976",4,"95400","17539957",7810,305,0,103277483]
[44100,"МЕСНА ЗАЈЕДНИЦА ВРАЊСКА БАЊА I","ВРАЊСКА БАЊА","840","-","0000004197645","645","-","24","130","92046",2,"08033","17863401",8411,114,1,108299086]
[44100,"МЕСНА ЗАЈЕДНИЦА ВРАЊСКА БАЊА III","ВРАЊСКА БАЊА","840","-","0000004199645","645","-","38","130","92048",2,"08033","17863428",8411,114,1,108299109]
[44100,"ГРАД ВРАЊЕ-ГРАДСКА ОПШТИНА ВРАЊСКА БАЊА-БУЏЕТ","ВРАЊСКА БАЊА","840","-","0000000229640","640","-","05","130","84263",0,"84263","17815997",8411,130,0,107038450]
[44100,"МЕСНА ЗАЈЕДНИЦА ДОЊЕ ТРЕБЕШЊЕ","ВРАЊЕ","840","-","0000000390645","645","-","50","114","08043",2,"08033","07104561",8411,114,1,102783511]
[44100,"МЕСНА ЗАЈЕДНИЦА ДРЕНОВАЦ","ВРАЊЕ","840","-","0000000494645","645","-","02","114","08046",2,"08033","07104618",8411,114,1,102783458]
[44100,"МЕСНА ЗАЈЕДНИЦА ЛЕПЧИЊЦЕ","ВРАЊЕ","840","-","0000000519645","645","-","80","114","08050",2,"08033","07104642",8411,114,1,102783466]
[44100,"МЕСНА ЗАЈЕДНИЦА ПАВЛОВАЦ","ВРАЊЕ","840","-","0000000311645","645","-","79","114","08052",2,"08033","07104707",8411,114,1,102783482]
[44100,"МЕСНА ЗАЈЕДНИЦА СОДЕРЦЕ","ВРАЊЕ","840","-","0000000986645","645","-","51","114","08056",2,"08033","07104758",8411,114,1,102783520]
[44100,"ПРЕДШКОЛСКА УСТАНОВА НАШЕ ДЕТЕ","ВРАЊЕ","840","-","0000000880661","661","-","37","114","08068",2,"08033","07139047",8891,114,1,100553668]
[44100,"ИСТОРИЈСКИ АРХИВ 31. ЈАНУАР","ВРАЊЕ","840","-","0000000104664","664","-","28","114","08069",2,"08033","07196776",9101,114,1,100547402]
[44100,"ЈАВНА СЛУЖБА ТУРИСТИЧКА ОРГАНИЗАЦИЈА ГРАДА ВРАЊЕ","ВРАЊЕ","840","-","0000000675664","664","-","48","114","08076",2,"08033","17043030",8413,114,1,100553107]
[44100,"ЈАВНА УСТАНОВА ШКОЛА АНИМИРАНОГ ФИЛМА","ВРАЊЕ","840","-","0000001053664","664","-","75","114","80964",2,"08033","17823248",9003,114,1,107380220]
[44100,"МЕСНА ЗАЈЕДНИЦА ШАПРАНЦЕ ВРАЊЕ","ВРАЊЕ","840","-","0000004173645","645","-","50","114","90642",2,"08033","17863193",8411,114,1,108258992]
[44100,"МЕСНА ЗАЈЕДНИЦА БУНУШЕВАЦ ВРАЊЕ","ВРАЊЕ","840","-","0000004172645","645","-","43","114","90641",2,"08033","17863207",8411,114,1,108258984]
[44100,"МЕСНА ЗАЈЕДНИЦА ЦЕНТАР ВРАЊЕ","ВРАЊЕ","840","-","0000004184645","645","-","30","114","91873",2,"08033","17863240",8411,114,1,108299060]
[44100,"МЕСНА ЗАЈЕДНИЦА РУДИНА","ВРАЊЕ","840","-","0000004190645","645","-","72","114","91983",2,"08033","17863282",8411,114,1,108259057]
[44100,"МЕСНА ЗАЈЕДНИЦА ДАВИДОВАЦ","ВРАЊЕ","840","-","0000004177645","645","-","78","114","90715",2,"08033","17863363",8411,114,1,108259073]
[44100,"МЕСНА ЗАЈЕДНИЦА СУВИ ДОЛ","ВРАЊЕ","840","-","0000004176645","645","-","71","114","90714",2,"08033","17863380",8411,114,1,108298874]
[44100,"ГРАД ВРАЊЕ - ГРАДСКО ПРАВОБРАНИЛАШТВО","ВРАЊЕ","","-","","","-","","114","65939",1,"65939","07179715",6910,114,0,100548456]
[44101,"ЗУ ЗА СПЕЦИЈАЛИЗОВАНУ РЕХАБИЛИТАЦИЈУ Д.О.О. ХОЛДИНГ ВРЕЛО-ЗАВОД БУЈАНОВАЧКА БАЊА - У СТЕЧАЈУ","БУЈАНОВАЦ","","-","","","-","","601","02602",2,"11900","17119010",8710,30,1,102150067]
[44101,"ОСНОВНА ШКОЛА МУХАРЕМ КАДРИЈУ ВЕЛИКИ ТРНОВАЦ","БУЈАНОВАЦ","840","-","0000000251660","660","-","02","601","01098",2,"13701","07104294",8520,30,1,102485928]
[44101,"ОСНОВНА ШКОЛА МИЂЕНИ МУХОВАЦ","БУЈАНОВАЦ","840","-","0000000290660","660","-","81","601","01079",2,"13701","07104308",8520,30,1,102485821]
[44101,"ОСНОВНА ШКОЛА СКЕНДЕРБЕГ","БУЈАНОВАЦ","","-","","","-","","601","01104",2,"13701","07197276",8520,30,1,102171308]
[44101,"ОСНОВНА ШКОЛА АЛИ БЕКТАШИ НЕСАЛЦЕ","БУЈАНОВАЦ","840","-","0000001394660","660","-","49","601","01082",2,"13701","17437291",8520,30,1,102561315]
[44101,"ДОМ ЗДРАВЉА БУЈАНОВАЦ","БУЈАНОВАЦ","840","-","0000000737661","661","-","06","601","80107",2,"95000","17666797",8621,30,3,104785110]
[44101,"СПЕЦИЈАЛНА БОЛНИЦА ЗА РЕХАБИЛИТАЦИЈУ БУЈАНОВАЦ","БУЈАНОВАЦ","840","-","0000000774661","661","-","71","601","80193",2,"95000","17686542",8690,30,3,105170884]
[44101,"МЕСНА ЗАЈЕДНИЦА БУЈАНОВАЦ","БУЈАНОВАЦ","840","-","0000000656645","645","-","69","030","04696",2,"04689","07103395",8411,30,1,103611103]
[44101,"МЕСНА ЗАЈЕДНИЦА НЕСАЛЦЕ","БУЈАНОВАЦ","840","-","0000000875645","645","-","50","030","04712",2,"04689","07103441",8411,30,1,102993176]
[44101,"ПРЕДШКОЛСКА УСТАНОВА НАША РАДОСТ","БУЈАНОВАЦ","840","-","0000000278661","661","-","91","030","04719",2,"04689","07251785",8891,30,1,100976070]
[44101,"МЕСНА ЗАЈЕДНИЦА ЖБЕВАЦ","БУЈАНОВАЦ","840","-","0000000803645","645","-","31","030","04699",2,"04689","07282877",8411,30,1,102993184]
[44101,"МЕСНА ЗАЈЕДНИЦА КЛИНОВАЦ","БУЈАНОВАЦ","840","-","0000003137645","645","-","73","030","04705",2,"04689","07318014",8411,30,1,102729645]
[44101,"МЕСНА ЗАЈЕДНИЦА САМОЉИЦА","БУЈАНОВАЦ","840","-","0000003102645","645","-","22","030","04713",2,"04689","07318073",8411,30,1,102220650]
[44101,"МЕСНА ЗАЈЕДНИЦА ЛУЧАНЕ","БУЈАНОВАЦ","840","-","0000003082645","645","-","76","030","04715",2,"04689","07318103",8411,30,1,102892902]
[44101,"МЕСНА ЗАЈЕДНИЦА КОНЧУЉ","БУЈАНОВАЦ","840","-","0000003180645","645","-","83","030","04706",2,"04689","07318120",8411,30,1,102993192]
[44101,"БИБЛИОТЕКА 14. НОВЕМБАР","БУЈАНОВАЦ","840","-","0000000364664","664","-","05","030","04720",2,"04689","17047485",9101,30,1,100367983]
[44101,"МЕСНА ЗАЈЕДНИЦА ТУРИЈА","БУЈАНОВАЦ","840","-","0000004152645","645","-","97","030","80943",2,"04689","17818112",8411,30,1,107064566]
[44101,"ОПШТИНА БУЈАНОВАЦ - ОПШТИНСКО ВЕЋЕ","БУЈАНОВАЦ","","-","","","-","","030","65904",1,"65904","07337604",8411,30,0,100975591]
[44102,"ЦЕНТАР ЗА СОЦИЈАЛНИ РАД СУРДУЛИЦА","СУРДУЛИЦА","840","-","0000000299661","661","-","44","601","00289",2,"13400","07285302",8899,95,1,100949292]
[44102,"ОСНОВНА ШКОЛА ИВО ЛОЛА РИБАР КЛИСУРА","СУРДУЛИЦА","840","-","0000000903660","660","-","07","601","01109",2,"13701","07180543",8520,95,1,100950262]
[44102,"ПОЉОПРИВРЕДНО - ШУМАРСКА ШКОЛА ЈОСИФ ПАНЧИЋ","СУРДУЛИЦА","840","-","0000000877660","660","-","19","601","02017",2,"13702","07180594",8532,95,1,100951291]
[44102,"ДОМ УЧЕНИКА СРЕДЊИХ ШКОЛА СУРДУЛИЦА","СУРДУЛИЦА","840","-","0000000170661","661","-","14","601","02165",2,"13703","07179944",5590,95,1,100950211]
[44102,"ЗДРАВСТВЕНИ ЦЕНТАР СУРДУЛИЦА","СУРДУЛИЦА","840","-","0000000432661","661","-","05","601","02469",2,"95000","17191918",8610,95,3,100948335]
[44102,"СУРДУЛИЧКИ КУЛТУРНИ ЦЕНТАР","СУРДУЛИЦА","840","-","0000000209664","664","-","84","095","07257",2,"07224","07208090",9003,95,1,100948601]
[44102,"ЈП РАДИО СУРДУЛИЦА","СУРДУЛИЦА","840","-","0000000824664","664","-","24","095","09470",2,"07224","17530496",6020,95,1,103162619]
[44102,"МЕСНА ЗАЈЕДНИЦА СУРДУЛИЦА","СУРДУЛИЦА","","-","","","-","","095","07253",2,"70715","07180276",8411,95,1,100948319]
[44102,"МЕСНА ЗАЈЕДНИЦА БОЖИЦА","СУРДУЛИЦА","840","-","0000002184645","645","-","95","095","07235",2,"70715","07180306",8411,95,1,100950981]
[44102,"МЕСНА ЗАЈЕДНИЦА ДИКАВА","СУРДУЛИЦА","840","-","0000002169645","645","-","87","095","07241",2,"70715","07180357",8411,95,1,100950609]
[44102,"МЕСНА ЗАЈЕДНИЦА КЛИСУРА","СУРДУЛИЦА","840","-","0000002258645","645","-","31","095","07247",2,"70715","07180403",8411,95,1,100950965]
[44102,"МЕСНА ЗАЈЕДНИЦА МАЧКАТИЦА","СУРДУЛИЦА","840","-","0000002273645","645","-","39","095","07250",2,"70715","07180438",8411,95,1,100951023]
[44102,"МЕСНА ЗАЈЕДНИЦА ГОРЊИ ТОПЛИ ДОЛ","СУРДУЛИЦА","840","-","0000003002645","645","-","98","095","07254",2,"70715","07180454",8411,95,1,100951007]
[44102,"МЕСНА ЗАЈЕДНИЦА СТАЈКОВЦЕ","СУРДУЛИЦА","840","-","0000003998645","645","-","86","095","09469",2,"70715","17529587",8411,95,1,103159502]
[44102,"МЕСНА ЗАЈЕДНИЦА СУРДУЛИЦА 2","СУРДУЛИЦА","840","-","0000004208645","645","-","04","095","94757",2,"70715","17832719",8411,95,1,108047597]
[44102,"СКУПШТИНА ОПШТИНЕ СУРДУЛИЦА","СУРДУЛИЦА","","-","","","-","","095","96384",1,"96384","07178590",8411,95,0,100949758]
[44102,"ОПШТИНСКО ПРАВОБРАНИЛАШТВО СУРДУЛИЦА","СУРДУЛИЦА","","-","","","-","","095","96387",1,"96387","07178590",6910,95,0,100949758]
[44103,"ОСНОВНА ШКОЛА СВЕТИ САВА ВЛАДИЧИН ХАН","ВЛАДИЧИН ХАН","840","-","0000001279660","660","-","20","601","01116",2,"13701","17038109",8520,111,1,100926187]
[44103,"ДОМ ЗДРАВЉА ВЛАДИЧИН ХАН","ВЛАДИЧИН ХАН","840","-","0000000719661","661","-","74","601","10043",2,"95000","17652109",8621,111,3,104190056]
[44103,"МЕСНА ЗАЈЕДНИЦА БАЛИНОВЦЕ","ВЛАДИЧИН ХАН","840","-","0000002082645","645","-","60","111","07875",2,"07871","07222769",8411,111,1,102440631]
[44103,"МЕСНА ЗАЈЕДНИЦА БЕЛАНОВЦЕ","ВЛАДИЧИН ХАН","840","-","0000001921645","645","-","97","111","07877",2,"07871","07222785",8411,111,1,102170983]
[44103,"МЕСНА ЗАЈЕДНИЦА ГАРИЊЕ","ВЛАДИЧИН ХАН","840","-","0000001509645","645","-","26","111","07883",2,"07871","07222840",8411,111,1,102170934]
[44103,"МЕСНА ЗАЈЕДНИЦА ДЕКУТИНЦЕ","ВЛАДИЧИН ХАН","840","-","0000001529645","645","-","69","111","07886",2,"07871","07222874",8411,111,1,102170854]
[44103,"МЕСНА ЗАЈЕДНИЦА ДУПЉАНЕ","ВЛАДИЧИН ХАН","840","-","0000002110645","645","-","62","111","07888",2,"07871","07222904",8411,111,1,102170991]
[44103,"МЕСНА ЗАЈЕДНИЦА ЈАСТРЕБАЦ","ВЛАДИЧИН ХАН","840","-","0000001763645","645","-","58","111","07892",2,"07871","07222947",8411,111,1,102170696]
[44103,"МЕСНА ЗАЈЕДНИЦА КОЗНИЦА","ВЛАДИЧИН ХАН","840","-","0000001977645","645","-","04","111","07896",2,"07871","07222998",8411,111,1,102170723]
[44103,"МЕСНА ЗАЈЕДНИЦА КУКАВИЦА","ВЛАДИЧИН ХАН","840","-","0000002800645","645","-","42","111","07900",2,"07871","07223030",8411,111,1,106743429]
[44103,"МЕСНА ЗАЈЕДНИЦА ЛЕПЕНИЦА","ВЛАДИЧИН ХАН","840","-","0000001747645","645","-","43","111","07903",2,"07871","07223064",8411,111,1,102170846]
[44103,"МЕСНА ЗАЈЕДНИЦА ЉУТЕЖ","ВЛАДИЧИН ХАН","840","-","0000001567645","645","-","44","111","07905",2,"07871","07223099",8411,111,1,102688872]
[44103,"МЕСНА ЗАЈЕДНИЦА ПОЛОМ","ВЛАДИЧИН ХАН","840","-","0000002780645","645","-","96","111","07911",2,"07871","07223161",8411,111,1,102170774]
[44103,"МЕСНА ЗАЈЕДНИЦА РАВНА РЕКА","ВЛАДИЧИН ХАН","840","-","0000001714645","645","-","06","111","07914",2,"07871","07223196",8411,111,1,103463170]
[44103,"МЕСНА ЗАЈЕДНИЦА РЕПИНЦЕ","ВЛАДИЧИН ХАН","840","-","0000001949645","645","-","02","111","07916",2,"07871","07223218",8411,111,1,102170799]
[44103,"МЕСНА ЗАЈЕДНИЦА СРНЕЋИ ДОЛ","ВЛАДИЧИН ХАН","840","-","0000001490645","645","-","87","111","07920",2,"07871","07223242",8411,111,1,102170838]
[44103,"МЕСНА ЗАЈЕДНИЦА ЏЕП","ВЛАДИЧИН ХАН","840","-","0000001731645","645","-","28","111","07925",2,"07871","07223307",8411,111,1,102688897]
[44103,"СПОРТСКИ САВЕЗ ОПШТИНЕ ВЛАДИЧИН ХАН","ВЛАДИЧИН ХАН","840","-","0000000783664","664","-","28","111","07934",2,"07871","17426800",9319,111,1,102440512]
[44103,"СКУПШТИНА ОПШТИНЕ ВЛАДИЧИН ХАН","ВЛАДИЧИН ХАН","","-","","","-","","111","91182",1,"91182","07222483",8411,111,0,100924833]
[44103,"ОПШТИНСКО ВЕЋЕ ОПШТИНE ВЛАДИЧИН ХАН","ВЛАДИЧИН ХАН","","-","","","-","","111","91184",1,"91184","07222483",8411,111,0,100924833]
[44104,"ОСНОВНА ШКОЛА ЗЕЈМЕЛИ ХАЈДИМИ РАИНЦЕ","ПРЕШЕВО","840","-","0000000361660","660","-","93","601","01121",2,"13701","07205104",8520,82,1,100952796]
[44104,"ОСНОВНА ШКОЛА  ДИТУРИА ЦРНОТИНЦЕ","ПРЕШЕВО","840","-","0000001151660","660","-","94","601","01124",2,"13701","07335911",8520,82,1,100953109]
[44104,"ГИМНАЗИЈА СКЕНДЕРБЕУ","ПРЕШЕВО","840","-","0000001196660","660","-","21","601","01750",2,"13702","07179324",8531,82,1,100953002]
[44104,"ДОМ ЗДРАВЉА ПРЕШЕВО","ПРЕШЕВО","840","-","0000000771661","661","-","50","601","80183",2,"95000","17710192",8621,82,3,105044059]
[44104,"МЕСНА ЗАЈЕДНИЦА ЖУЈИНЦЕ","ПРЕШЕВО","840","-","0000001178645","645","-","37","082","06761",2,"06754","07104375",8411,82,1,102751985]
[44104,"МЕСНА ЗАЈЕДНИЦА СТРЕЗОВЦЕ","ПРЕШЕВО","840","-","0000001135645","645","-","27","082","06770",2,"06754","07104413",8411,82,1,102776694]
[44104,"МЕСНА ЗАЈЕДНИЦА ТРНАВА","ПРЕШЕВО","840","-","0000000965645","645","-","98","082","06771",2,"06754","07104448",8411,82,1,102752011]
[44104,"МЕСНА ЗАЈЕДНИЦА БУШТРАЊЕ","ПРЕШЕВО","840","-","0000002972645","645","-","82","082","06759",2,"06754","07104464",8411,82,1,102752020]
[44104,"МЕСНА ЗАЈЕДНИЦА МАЂЕРЕ","ПРЕШЕВО","840","-","0000002938645","645","-","38","082","06762",2,"06754","07275692",8411,82,1,109108296]
[44104,"МЕСНА ЗАЈЕДНИЦА ЧУКАРКА","ПРЕШЕВО","840","-","0000002887645","645","-","69","082","06775",2,"06754","07275722",8411,82,1,102751969]
[44104,"МЕСНА ЗАЈЕДНИЦА ЦАКАНОВАЦ","ПРЕШЕВО","840","-","0000002878645","645","-","06","082","06772",2,"06754","07275757",8411,82,1,102751952]
[44104,"МЕСНА ЗАЈЕДНИЦА АСАНЕ","ПРЕШЕВО","840","-","0000003971645","645","-","91","082","06777",2,"06754","17500481",8411,82,1,102905276]
[44104,"МЕСНА ЗАЈЕДНИЦА ТРНАВСКА РЕКА","ПРЕШЕВО","840","-","0000004212645","645","-","32","082","96205",2,"06754","17870807",8411,82,1,109108288]
[44104,"ОПШТИНА ПРЕШЕВО  - СКУПШТИНА ОПШТИНЕ","ПРЕШЕВО","","-","","","-","","082","65942",1,"65942","07178387",8411,82,0,102426522]
[44105,"ОСНОВНА ШКОЛА БОРА СТАНКОВИЋ НОВО СЕЛО","ТРГОВИШТЕ","840","-","0000000217660","660","-","55","601","01125",2,"13701","07205341",8520,102,1,100757405]
[44105,"ОСНОВНА ШКОЛА ЖАРКО ЗРЕЊАНИН-УЧА РАДОВНИЦА","ТРГОВИШТЕ","840","-","0000000403660","660","-","96","601","01128",2,"13701","07205350",8520,102,1,101465960]
[44105,"МЕСНА ЗАЈЕДНИЦА НОВО СЕЛО","ТРГОВИШТЕ","840","-","0000000095645","645","-","22","102","07584",2,"07580","07204680",8411,102,1,100757260]
[44105,"МЕСНА ЗАЈЕДНИЦА РАДОВНИЦА","ТРГОВИШТЕ","840","-","0000000124645","645","-","31","102","07585",2,"07580","07227027",8411,102,1,100757368]
[44105,"НАРОДНА БИБЛИОТЕКА АНТОНИЈЕ ПОПОВИЋ","ТРГОВИШТЕ","840","-","0000000378664","664","-","06","102","07589",2,"07580","17190636",9101,102,1,100757489]
[44105,"ПРЕДСЕДНИК ОПШТИНЕ ТРГОВИШТЕ","ТРГОВИШТЕ","","-","","","-","","102","62031",1,"62031","07214324",8411,102,0,102756578]
[44130,"ОСНОВНА ШКОЛА ГЕОРГИ ДИМИТРОВ","БОСИЛЕГРАД","840","-","0000000964660","660","-","46","601","01129",2,"13701","07104090",8520,28,1,100981558]
[44130,"ОПШТИНА БОСИЛЕГРАД-БУЏЕТ","БОСИЛЕГРАД","840","-","0000000134640","640","-","19","028","04600",0,"04600","07197144",8411,28,0,100981381]
[44130,"МЕСНА ЗАЈЕДНИЦА ГРУИНЦИ","БОСИЛЕГРАД","840","-","0000002561645","645","-","18","028","04619",2,"04602","07103344",8411,28,1,100981687]
[44130,"МЕСНА ЗАЈЕДНИЦА ДОЊА ЉУБАТА","БОСИЛЕГРАД","840","-","0000002447645","645","-","93","028","04622",2,"04602","07103352",8411,28,1,103654623]
[44130,"МЕСНА ЗАЈЕДНИЦА БАРЈЕ","БОСИЛЕГРАД","840","-","0000002690645","645","-","48","028","04608",2,"04602","07196938",8411,28,1,104978051]
[44130,"МЕСНА ЗАЈЕДНИЦА ЈАРЕШНИК","БОСИЛЕГРАД","840","-","0000002770645","645","-","26","028","04628",2,"04602","07196962",8411,28,1,103875758]
[44130,"МЕСНА ЗАЈЕДНИЦА ГОРЊЕ ТЛАМИНО","БОСИЛЕГРАД","840","-","0000002633645","645","-","37","028","04618",2,"04602","07196997",8411,28,1,103654658]
[44130,"МЕСНА ЗАЈЕДНИЦА ПАРAЛОВО","БОСИЛЕГРАД","840","-","0000002582645","645","-","68","028","04634",2,"04602","07197039",8411,28,1,100981679]
[44130,"МЕСНА ЗАЈЕДНИЦА БЕЛУТ","БОСИЛЕГРАД","840","-","0000002749645","645","-","73","028","04606",2,"04602","07208014",8411,28,1,103875731]
[44130,"МЕСНА ЗАЈЕДНИЦА БРАНКОВЦИ","БОСИЛЕГРАД","840","-","0000003146645","645","-","39","028","04611",2,"04602","07217935",8411,28,1,103176283]
[44130,"МЕСНА ЗАЈЕДНИЦА ДОЊА ЛИСИНА","БОСИЛЕГРАД","840","-","0000002717645","645","-","43","028","04621",2,"04602","07217978",8411,28,1,103717832]
[44130,"МЕСНА ЗАЈЕДНИЦА ДУКАТ","БОСИЛЕГРАД","840","-","0000002421645","645","-","08","028","04625",2,"04602","07217986",8411,28,1,103218338]
[44130,"МЕСНА ЗАЈЕДНИЦА РИБАРЦИ","БОСИЛЕГРАД","840","-","0000002868645","645","-","33","028","04638",2,"04602","07218044",8411,28,1,107777107]
[44130,"НАРОДНА БИБЛИОТЕКА ХРИСТО БОТЕВ","БОСИЛЕГРАД","840","-","0000000376664","664","-","89","028","04642",2,"04602","17191071",9101,28,1,100610202]
[44130,"ОПШТИНА БОСИЛЕГРАД - ПРЕДСЕДНИК ОПШТИНЕ","БОСИЛЕГРАД","","-","","","-","","028","65943",1,"65943","07197144",8411,28,0,100981381]
[44200,"МУП - ПОЛИЦИЈСКА УПРАВА ЗАЈЕЧАР","ЗАЈЕЧАР","840","-","0000000876621","621","-","32","601","00061",4,"10600","07008104",8424,116,0,100184116]
[44200,"ОСНОВНА ШКОЛА ЈОВАН ЈОВАНОВИЋ-ЗМАЈ САЛАШ","ЗАЈЕЧАР","840","-","0000000899660","660","-","76","601","01138",2,"13701","07147716",8520,116,1,101329296]
[44200,"ОСНОВНА ШКОЛА ВУК КАРАЏИЋ ВЕЛИКИ ИЗВОР","ЗАЈЕЧАР","840","-","0000000822660","660","-","22","601","01132",2,"13701","07147775",8520,116,1,101757604]
[44200,"ШКОЛА ЗА ОСНОВНО И СРЕДЊЕ ОБРАЗОВАЊЕ ЈЕЛЕНА МАЈСТОРОВИЋ","ЗАЈЕЧАР","840","-","0000000982660","660","-","75","601","01590",2,"13701","07148208",8520,116,1,101328871]
[44200,"ОСНОВНА ШКОЛА ХАЈДУК ВЕЉКО","ЗАЈЕЧАР","840","-","0000001067660","660","-","88","601","01134",2,"13701","07334028",8520,116,1,101329794]
[44200,"ВИШИ СУД У ЗАЈЕЧАРУ","ЗАЈЕЧАР","","-","","","-","","601","80436",2,"30225","17772899",8423,116,5,106400100]
[44200,"ВИШЕ ЈАВНО ТУЖИЛАШТВО У ЗАЈЕЧАРУ","ЗАЈЕЧАР","","-","","","-","","601","80546",2,"30228","17773780",8423,116,5,106400118]
[44200,"ПРЕКРШАЈНИ СУД У ЗАЈЕЧАРУ","ЗАЈЕЧАР","","-","","","-","","601","80585",2,"30233","17774000",8423,116,5,106400142]
[44200,"АПОТЕКА ЗАЈЕЧАР","ЗАЈЕЧАР","840","-","0000000338661","661","-","26","601","02637",2,"95000","06824781",4773,116,3,101327549]
[44200,"НАЦИОНАЛНА СЛУЖБА ЗА ЗАПОШЉАВАЊЕ-ФИЛИЈАЛА ЗАЈЕЧАР","ЗАЈЕЧАР","840","-","0000000033654","654","-","46","601","09605",4,"95400","17539957",7810,116,0,103277483]
[44200,"ПРЕДШКОЛСКА УСТАНОВА ЂУЛИЋИ","ЗАЈЕЧАР","840","-","0000000248661","661","-","75","116","08154",2,"08105","07147953",8891,116,1,101333969]
[44200,"МЕСНА ЗАЈЕДНИЦА КОТЛУЈЕВАЦ","ЗАЈЕЧАР","840","-","0000002519645","645","-","15","116","08149",2,"08105","07189435",8411,116,1,100587295]
[44200,"МЕСНА ЗАЈЕДНИЦА ТИМОК","ЗАЈЕЧАР","840","-","0000002436645","645","-","16","116","08152",2,"08105","07189443",8411,116,1,101757846]
[44200,"МЕСНА ЗАЈЕДНИЦА КАРАЂОРЂЕВ ВЕНАЦ","ЗАЈЕЧАР","840","-","0000002025645","645","-","49","116","08148",2,"08105","07215550",8411,116,1,100587764]
[44200,"МЕСНА ЗАЈЕДНИЦА ГРЉАН","ЗАЈЕЧАР","840","-","0000002230645","645","-","29","116","08122",2,"08105","07220766",8411,116,1,101332659]
[44200,"МЕСНА ЗАЈЕДНИЦА ТАБАКОВАЦ","ЗАЈЕЧАР","840","-","0000002172645","645","-","11","116","08142",2,"08105","07228023",8411,116,1,102587727]
[44200,"МЕСНА ЗАЈЕДНИЦА МЕТРИШ","ЗАЈЕЧАР","840","-","0000002509645","645","-","42","116","08135",2,"08105","07228040",8411,116,1,102102207]
[44200,"МЕСНА ЗАЈЕДНИЦА КЛЕНОВАЦ","ЗАЈЕЧАР","840","-","0000002201645","645","-","20","116","08126",2,"08105","07228074",8411,116,1,100587932]
[44200,"МЕСНА ЗАЈЕДНИЦА ВРБИЦА","ЗАЈЕЧАР","840","-","0000001937645","645","-","15","116","08114",2,"08105","07228139",8411,116,1,101335194]
[44200,"МЕСНА ЗАЈЕДНИЦА ВЕЛИКА ЈАСИКОВА","ЗАЈЕЧАР","840","-","0000002425645","645","-","36","116","08110",2,"08105","07229518",8411,116,1,101335887]
[44200,"МЕСНА ЗАЈЕДНИЦА КОПРИВНИЦА","ЗАЈЕЧАР","840","-","0000002071645","645","-","80","116","08127",2,"08105","07231474",8411,116,1,101335268]
[44200,"МЕСНА ЗАЈЕДНИЦА ШИПИКОВО","ЗАЈЕЧАР","840","-","0000002215645","645","-","21","116","08146",2,"08105","07231504",8411,116,1,102708875]
[44200,"МЕСНА ЗАЈЕДНИЦА ДУБОЧАНЕ","ЗАЈЕЧАР","840","-","0000002142645","645","-","92","116","08123",2,"08105","07233272",8411,116,1,101334732]
[44200,"МЕСНА ЗАЈЕДНИЦА ГОРЊА БЕЛА РЕКА","ЗАЈЕЧАР","840","-","0000002327645","645","-","29","116","08119",2,"08105","07240538",8411,116,1,101332056]
[44200,"МЕСНА ЗАЈЕДНИЦА ШЉИВАР","ЗАЈЕЧАР","840","-","0000002313645","645","-","28","116","08147",2,"08105","07240694",8411,116,1,101335637]
[44200,"МЕСНА ЗАЈЕДНИЦА ВЕЛИКИ ЈАСЕНОВАЦ","ЗАЈЕЧАР","840","-","0000002056645","645","-","72","116","08112",2,"08105","07244908",8411,116,1,102102354]
[44200,"ПОЗОРИШТЕ ТИМОЧКЕ КРАЈИНЕ,,ЗОРАН РАДМИЛОВИЋУ ЛИКВИДАЦИЈИ","ЗАЈЕЧАР","840","-","0000000967664","664","-","55","116","80281",2,"08105","17719335",9001,116,1,105814701]
[44200,"ГРАД ЗАЈЕЧАР - ГРАДСКО ПРАВОБРАНИЛАШТВО","ЗАЈЕЧАР","840","-","0000000216641","641","-","08","116","08106",1,"08106","07189923",8423,116,2,101757838]
[44200,"ГРАД ЗАЈЕЧАР - СКУПШТИНА ГРАДА","ЗАЈЕЧАР","","-","","","-","","116","90274",1,"90274","07189923",8411,116,0,101757838]
[44210,"ОСНОВНА ШКОЛА 9. СРПСКА БРИГАДА","БОЉЕВАЦ","840","-","0000001329660","660","-","79","601","01141",2,"13701","07127413",8520,26,1,100705735]
[44210,"СРЕДЊА ШКОЛА НИКОЛА ТЕСЛА","БОЉЕВАЦ","840","-","0000001336660","660","-","31","601","02142",2,"13702","07127448",8532,26,1,100704611]
[44210,"ПРЕДШКОЛСКА УСТАНОВА НАША РАДОСТ","БОЉЕВАЦ","840","-","0000000448661","661","-","20","026","04562",2,"70656","07257171",8891,26,1,100704156]
[44210,"МЕСНА ЗАЈЕДНИЦА ДОБРУЈЕВАЦ","БОЉЕВАЦ","","-","","","-","","026","04546",2,"70659","07227817",8411,26,1,102130994]
[44210,"МЕСНА ЗАЈЕДНИЦА МАЛИ ИЗВОР","БОЉЕВАЦ","","-","","","-","","026","04551",2,"70659","07227841",8411,26,1,102026526]
[44210,"МЕСНА ЗАЈЕДНИЦА МИРОВО","БОЉЕВАЦ","","-","","","-","","026","04552",2,"70659","07227892",8411,26,1,102026567]
[44210,"МЕСНА ЗАЈЕДНИЦА СУМРАКОВАЦ","БОЉЕВАЦ","","-","","","-","","026","04560",2,"70659","07227949",8411,26,1,102026559]
[44210,"МЕСНА ЗАЈЕДНИЦА ПОДГОРАЦ","БОЉЕВАЦ","","-","","","-","","026","04555",2,"70659","07227973",8411,26,1,102026438]
[44210,"МЕСНА ЗАЈЕДНИЦА ЛУКОВО","БОЉЕВАЦ","","-","","","-","","026","04550",2,"70659","07227990",8411,26,1,102026454]
[44210,"МЕСНА ЗАЈЕДНИЦА ТИМОК ОСНИЋ","БОЉЕВАЦ","","-","","","-","","026","04561",2,"70659","17360566",8411,26,1,102709257]
[44210,"ТУРИСТИЧКА ОРГАНИЗАЦИЈА ОПШТИНЕ","БОЉЕВАЦ","840","-","0000000930664","664","-","87","026","80048",2,"70867","17663755",7311,26,1,104655939]
[44210,"ОПШТИНА БОЉЕВАЦ ПРЕДСЕДНИК ОПШТИНЕ","БОЉЕВАЦ","","-","","","-","","026","91186",1,"91186","07223692",8411,26,0,102026307]
[44220,"ГЕРОНТОЛОШКИ ЦЕНТАР КЊАЖЕВАЦ","КЊАЖЕВАЦ","840","-","0000000502661","661","-","10","601","00194",2,"13400","06491669",8730,45,1,100633924]
[44220,"ОСНОВНА ШКОЛА ВУК КАРАЏИЋ КЊАЖЕВАЦ","КЊАЖЕВАЦ","840","-","0000001435660","660","-","45","601","01147",2,"13701","07127766",8520,45,1,100407836]
[44220,"ТЕХНИЧКА ШКОЛА КЊАЖЕВАЦ","КЊАЖЕВАЦ","840","-","0000001423660","660","-","58","601","02025",2,"13702","07127804",8532,45,1,100635171]
[44220,"ЗДРАВСТВЕНИ ЦЕНТАР КЊАЖЕВАЦ","КЊАЖЕВАЦ","840","-","0000000504661","661","-","24","601","02471",2,"95000","17219766",8621,45,3,100633123]
[44220,"НАРОДНА БИБЛИОТЕКА ЊЕГОШ","КЊАЖЕВАЦ","840","-","0000000459664","664","-","88","045","05326",2,"05261","07127847",9101,45,1,100630740]
[44220,"МЕСНА ЗАЈЕДНИЦА ВАСИЉ","КЊАЖЕВАЦ","840","-","0000003489645","645","-","15","045","05269",2,"05261","07189605",8411,45,1,100634912]
[44220,"МЕСНА ЗАЈЕДНИЦА ЗУБЕТИНАЦ","КЊАЖЕВАЦ","840","-","0000003978645","645","-","43","045","05309",2,"05261","07189699",8411,45,1,102106997]
[44220,"МЕСНА ЗАЈЕДНИЦА ЗОРУНОВАЦ","КЊАЖЕВАЦ","840","-","0000004083645","645","-","02","045","05337",2,"05261","07189737",8411,45,1,103786304]
[44220,"МЕСНА ЗАЈЕДНИЦА ПОДВИС","КЊАЖЕВАЦ","840","-","0000003499645","645","-","85","045","05291",2,"05261","07213581",8411,45,1,102813939]
[44220,"МЕСНА ЗАЈЕДНИЦА КРЕНТА","КЊАЖЕВАЦ","840","-","0000003515645","645","-","03","045","05284",2,"05261","07213638",8411,45,1,100634970]
[44220,"МЕСНА ЗАЈЕДНИЦА ЖУКОВАЦ","КЊАЖЕВАЦ","840","-","0000003987645","645","-","09","045","05308",2,"05261","07215584",8411,45,1,103052876]
[44220,"МЕСНА ЗАЈЕДНИЦА КАЛНА","КЊАЖЕВАЦ","840","-","0000003484645","645","-","77","045","05283",2,"05261","07215614",8411,45,1,100634953]
[44220,"МЕСНА ЗАЈЕДНИЦА БЕРЧИНОВАЦ","КЊАЖЕВАЦ","840","-","0000003508645","645","-","51","045","05268",2,"05261","07215657",8411,45,1,100635114]
[44220,"МЕСНА ЗАЈЕДНИЦА МУЧИБАБА","КЊАЖЕВАЦ","840","-","0000004010645","645","-","73","045","05339",2,"05261","07215690",8411,45,1,103156524]
[44220,"МЕСНА ЗАЈЕДНИЦА ЦРВЕЊЕ","КЊАЖЕВАЦ","840","-","0000003470645","645","-","76","045","05297",2,"05261","07215886",8411,45,1,100634656]
[44220,"МЕСНА ЗАЈЕДНИЦА СВРЉИШКА ТОПЛА","КЊАЖЕВАЦ","840","-","0000003948645","645","-","27","045","05318",2,"05261","07217196",8411,45,1,102106614]
[44220,"МЕСНА ЗАЈЕДНИЦА БАЛАНОВАЦ","КЊАЖЕВАЦ","840","-","0000003520645","645","-","38","045","05266",2,"05261","07218893",8411,45,1,100635018]
[44220,"МЕСНА ЗАЈЕДНИЦА ОШЉАНЕ","КЊАЖЕВАЦ","840","-","0000003477645","645","-","28","045","05289",2,"05261","07241143",8411,45,1,100635106]
[44220,"МЕСНА ЗАЈЕДНИЦА ВИТКОВАЦ","КЊАЖЕВАЦ","840","-","0000003427645","645","-","66","045","05271",2,"05261","07241186",8411,45,1,101880347]
[44220,"МЕСНА ЗАЈЕДНИЦА СЛАТИНА","КЊАЖЕВАЦ","840","-","0000003941645","645","-","75","045","05319",2,"05261","07261098",8411,45,1,100634865]
[44220,"МЕСНА ЗАЈЕДНИЦА КАЛИЧИНА","КЊАЖЕВАЦ","840","-","0000003982645","645","-","71","045","05311",2,"05261","07263490",8411,45,1,103052868]
[44220,"МЕСНА ЗАЈЕДНИЦА ОРЕШАЦ","КЊАЖЕВАЦ","840","-","0000003574645","645","-","28","045","05288",2,"05261","07269358",8411,45,1,100635083]
[44220,"МЕСНА ЗАЈЕДНИЦА ЋУШТИЦА","КЊАЖЕВАЦ","840","-","0000004040645","645","-","89","045","05343",2,"05261","07276664",8411,45,1,103903685]
[44220,"МЕСНА ЗАЈЕДНИЦА ЈАЊА","КЊАЖЕВАЦ","840","-","0000003945645","645","-","06","045","05310",2,"05261","07279388",8411,45,1,101757983]
[44220,"ДОМ КУЛТУРЕ КЊАЖЕВАЦ","КЊАЖЕВАЦ","840","-","0000000472664","664","-","82","045","05324",2,"05261","07311192",8559,45,1,100630766]
[44220,"МЕСНА ЗАЈЕДНИЦА ЛОКВА","КЊАЖЕВАЦ","840","-","0000003966645","645","-","56","045","05313",2,"05261","17187821",8411,45,1,102107053]
[44220,"ОПШТИНА КЊАЖЕВАЦ СКУПШТИНА ОПШТИНЕ","КЊАЖЕВАЦ","","-","","","-","","045","91747",1,"91747","07212674",8411,45,0,102106760]
[44220,"ОПШТИНА КЊАЖЕВАЦ ОПШТИНСКО ВЕЋЕ","КЊАЖЕВАЦ","","-","","","-","","045","91748",1,"91748","07212674",8411,45,0,102106760]
[44230,"ОСНОВНА ШКОЛА СТАНОЈЕ МИЉКОВИЋ БРЕСТОВАЦ","БОР","840","-","0000001487660","660","-","21","601","01155",2,"13701","07130066",8520,27,1,100567589]
[44230,"ОСНОВНА ШКОЛА ЂУРА ЈАКШИЋ КРИВЕЉ","БОР","840","-","0000001477660","660","-","48","601","01152",2,"13701","07130104",8520,27,1,100567907]
[44230,"ОСНОВНА ШКОЛА ДУШАН РАДОВИЋ","БОР","840","-","0000001502660","660","-","29","601","01149",2,"13701","07308906",8520,27,1,100627605]
[44230,"МАШИНСКО-ЕЛЕКТРОТЕХНИЧКА ШКОЛА","БОР","840","-","0000001505660","660","-","50","601","02027",2,"13702","07264259",8532,27,1,100628729]
[44230,"РЕГИОНАЛНИ ЦЕНТАР ЗА ТАЛЕНТЕ БОР","БОР","840","-","0000001964660","660","-","62","601","02143",2,"13702","17272349",8559,27,1,100629473]
[44230,"БОРСКИ УПРАВНИ ОКРУГ","БОР","","-","","","-","","601","41115",1,"41115","17649957",8411,27,0,104190208]
[44230,"ДОМ ЗДРАВЉА БОР","БОР","840","-","0000000872661","661","-","78","601","92504",2,"95000","17870165",8621,27,3,108836097]
[44230,"РЕПУБЛИЧКИ ФОНД ПИО-ФИЛИЈАЛА БОР","БОР","840","-","0000000036652","652","-","73","601","00129",4,"95200","17715780",8430,27,0,105356542]
[44230,"НАРОДНА БИБЛИОТЕКА БОР","БОР","840","-","0000000477664","664","-","20","027","04597",2,"04565","07130309",9101,27,1,100567378]
[44230,"МЕСНА ЗАЈЕДНИЦА БАКАР","БОР","840","-","0000003617645","645","-","38","027","04581",2,"04565","07130481",8411,27,1,101827741]
[44230,"ОПШТИНСКА УПРАВА БОР","БОР","","-","","","-","","027","04565",1,"04565","07208529",8411,27,0,100568330]
[44230,"ФОНД ЗА ФИНАНСИРАЊЕ АКТИВНЕ ПОЛИТИКЕ ЗАПОШЉАВАЊА","БОР","","-","","","-","","027","80893",2,"04565","07208529",8411,27,1,100568330]
[44230,"МЕСНА ЗАЈЕДНИЦА КРИВЕЉ","БОР","840","-","0000003590645","645","-","43","027","04574",2,"04565","07231440",8411,27,1,101827709]
[44230,"МЕСНА ЗАЈЕДНИЦА МЕТОВНИЦА","БОР","840","-","0000003594645","645","-","71","027","04576",2,"04565","07242255",8411,27,1,101827627]
[44230,"МЕСНА ЗАЈЕДНИЦА НОВО СЕЛИШТЕ","БОР","840","-","0000003612645","645","-","03","027","04588",2,"04565","07261861",8411,27,1,101827813]
[44230,"МЕСНА ЗАЈЕДНИЦА СЛОГА","БОР","840","-","0000003623645","645","-","80","027","04591",2,"04565","07262566",8411,27,1,101827651]
[44230,"МЕСНА ЗАЈЕДНИЦА БРЕСТОВАЧКА БАЊА","БОР","840","-","0000003625645","645","-","94","027","04583",2,"04565","07391587",8411,27,1,101827619]
[44230,"МЕСНА ЗАЈЕДНИЦА НАПРЕДАК","БОР","840","-","0000003627645","645","-","11","027","04586",2,"04565","07391625",8411,27,1,101827792]
[44230,"УСТАНОВА ЦЕНТАР ЗА КУЛТУРУ ОПШТИНЕ","БОР","840","-","0000001005664","664","-","30","027","80419",2,"04565","17782134",9004,27,1,106370160]
[44230,"ОПШТИНА БОР СКУПШТИНА ОПШТИНЕ","БОР","","-","","","-","","027","91493",1,"91493","07208529",8411,27,0,100568330]
[44240,"ОКРУЖНИ ЗАТВОР У НЕГОТИНУ","НЕГОТИН","840","-","0000000829621","621","-","91","601","00032",2,"10311","17621807",8423,72,1,103698851]
[44240,"ОСНОВНА ШКОЛА ХАЈДУК ВЕЉКО ШТУБИК","НЕГОТИН","840","-","0000001543660","660","-","25","601","01166",2,"13701","07129106",8520,72,1,100773865]
[44240,"ОСНОВНА ШКОЛА ПАВЛЕ ИЛИЋ-ВЕЉКО ПРАХОВО","НЕГОТИН","840","-","0000001558660","660","-","33","601","01164",2,"13701","07129157",8520,72,1,100565337]
[44240,"ОСНОВНА ШКОЛА МОМЧИЛО РАНКОВИЋ РАЈАЦ","НЕГОТИН","840","-","0000001555660","660","-","12","601","01162",2,"13701","07129165",8520,72,1,100774278]
[44240,"ТЕХНИЧКА ШКОЛА НЕГОТИН","НЕГОТИН","840","-","0000001565660","660","-","82","601","02031",2,"13702","07129173",8532,72,1,100776925]
[44240,"УМЕТНИЧКА ШКОЛА СТЕВАН МОКРАЊАЦ","НЕГОТИН","840","-","0000001575660","660","-","55","601","02029",2,"13702","07938683",8532,72,1,100773605]
[44240,"ЗДРАВСТВЕНИ ЦЕНТАР НЕГОТИН","НЕГОТИН","840","-","0000000535661","661","-","47","601","02559",2,"95000","17261487",8610,72,3,100775615]
[44240,"ОПШТИНСКА УПРАВА НЕГОТИН","НЕГОТИН","","-","","","-","","072","06295",1,"06295","07233345",8411,72,0,100566475]
[44240,"МЕСНА ЗАЈЕДНИЦА БРАЋЕВАЦ","НЕГОТИН","840","-","0000003654645","645","-","06","072","06300",2,"70474","07213719",8411,72,1,100774067]
[44240,"МЕСНА ЗАЈЕДНИЦА КАРБУЛОВО","НЕГОТИН","840","-","0000003699645","645","-","30","072","06311",2,"70474","07213760",8411,72,1,100774034]
[44240,"МЕСНА ЗАЈЕДНИЦА ЈАСЕНИЦА","НЕГОТИН","840","-","0000003697645","645","-","16","072","06310",2,"70474","07213808",8411,72,1,100773808]
[44240,"МЕСНА ЗАЈЕДНИЦА ЧУБРА","НЕГОТИН","840","-","0000003656645","645","-","20","072","06334",2,"70474","07213816",8411,72,1,102183317]
[44240,"МЕСНА ЗАЈЕДНИЦА РОГЉЕВО","НЕГОТИН","840","-","0000003666645","645","-","90","072","06324",2,"70474","07213905",8411,72,1,100777016]
[44240,"МЕСНА ЗАЈЕДНИЦА МИЛОШЕВО","НЕГОТИН","840","-","0000003689645","645","-","57","072","06316",2,"70474","07213930",8411,72,1,100773736]
[44240,"МЕСНА ЗАЈЕДНИЦА АЛЕКСАНДРОВАЦ","НЕГОТИН","840","-","0000003668645","645","-","07","072","06308",2,"70474","07227728",8411,72,1,100773744]
[44240,"МЕСНА ЗАЈЕДНИЦА МИХАЈЛОВАЦ","НЕГОТИН","840","-","0000003644645","645","-","33","072","06317",2,"70474","07227744",8411,72,1,100777081]
[44240,"МЕСНА ЗАЈЕДНИЦА МАЛА КАМЕНИЦА","НЕГОТИН","840","-","0000003674645","645","-","49","072","06314",2,"70474","07241194",8411,72,1,100777024]
[44240,"МЕСНА ЗАЈЕДНИЦА ТРЊАНЕ","НЕГОТИН","840","-","0000003693645","645","-","85","072","06331",2,"70474","07242298",8411,72,1,100774042]
[44240,"МЕСНА ЗАЈЕДНИЦА МАЛАЈНИЦА","НЕГОТИН","840","-","0000003678645","645","-","77","072","06315",2,"70474","07253397",8411,72,1,100774059]
[44240,"МЕСНА ЗАЈЕДНИЦА БАДЊЕВО","НЕГОТИН","840","-","0000004078645","645","-","64","072","80036",2,"70474","17661272",8411,72,1,104565957]
[44240,"МЕСНА ЗАЈЕДНИЦА МИЛОШЕВСКИ ПУТ","НЕГОТИН","840","-","0000004086645","645","-","23","072","80057",2,"70474","17663585",8411,72,1,104701562]
[44240,"НАРОДНА БИБЛИОТЕКА ДОСИТЕЈ НОВАКОВИЋ","НЕГОТИН","840","-","0000000484664","664","-","69","072","06342",2,"70477","07129262",9101,72,1,100566944]
[44240,"ТУРИСТИЧКА ОРГАНИЗАЦИЈА ОПШТИНЕ","НЕГОТИН","840","-","0000000934664","664","-","18","072","80060",2,"70837","17665383",8413,72,1,104709911]
[44240,"ОПШТИНА НЕГОТИН-ПРЕДСЕДНИК ОПШТИНЕ","НЕГОТИН","","-","","","-","","072","91545",1,"91545","07233345",8411,72,0,100566475]
[44260,"ОСНОВНА ШКОЛА ХАЈДУК ВЕЉКО КОРБОВО","КЛАДОВО","840","-","0000001622660","660","-","93","601","01171",2,"13701","07129718",8520,43,1,100697889]
[44260,"ТЕХНИЧКА ШКОЛА КЛАДОВО","КЛАДОВО","840","-","0000001625660","660","-","17","601","02032",2,"13702","07344732",8532,43,1,100694384]
[44260,"ОПШТИНА КЛАДОВО-БУЏЕТ","КЛАДОВО","840","-","0000000169640","640","-","70","043","05185",0,"05185","07213182",8411,43,0,100697090]
[44260,"ОПШТИНСКА УПРАВА КЛАДОВО","КЛАДОВО","","-","","","-","","043","05187",1,"05187","07213182",8411,43,0,100697090]
[44260,"ТУРИСТИЧКА ОРГАНИЗАЦИЈА ОПШТИНЕ","КЛАДОВО","840","-","0000001158664","664","-","34","043","05188",2,"70672","17029215",8413,43,1,100694421]
[44260,"МЕСНА ЗАЈЕДНИЦА КУПУЗИШТЕ","КЛАДОВО","840","-","0000003814645","645","-","59","043","05203",2,"70673","07233183",8411,43,1,101689015]
[44260,"МЕСНА ЗАЈЕДНИЦА НОВИ СИП","КЛАДОВО","840","-","0000003818645","645","-","87","043","05208",2,"70673","07237430",8411,43,1,102182832]
[44260,"МЕСНА ЗАЈЕДНИЦА ДАВИДОВАЦ","КЛАДОВО","840","-","0000003819645","645","-","94","043","05198",2,"70673","07237464",8411,43,1,100697467]
[44260,"МЕСНА ЗАЈЕДНИЦА РЕЧИЦА","КЛАДОВО","840","-","0000004007645","645","-","52","043","05217",2,"70673","07242301",8411,43,1,102182736]
[44260,"МЕСНА ЗАЈЕДНИЦА ПЕТРОВО СЕЛО","КЛАДОВО","840","-","0000003820645","645","-","04","043","05209",2,"70673","07328117",8411,43,1,100698038]
[44260,"МЕСНА ЗАЈЕДНИЦА КОРБОВО","КЛАДОВО","840","-","0000003807645","645","-","10","043","05201",2,"70673","07351542",8411,43,1,102182904]
[44260,"ОПШТИНА КЛАДОВО СКУПШТИНА ОПШТИНЕ","КЛАДОВО","","-","","","-","","043","91209",1,"91209","07213182",8411,43,0,100697090]
[44270,"ЦЕНТАР ЗА СОЦИЈАЛНИ РАД МАЈДАНПЕК","МАЈДАНПЕК","840","-","0000000560661","661","-","28","601","00299",2,"13400","07213697",8899,63,1,100623854]
[44270,"ОСНОВНА ШКОЛА МИЛАДИН БУЦАНОВИЋ ВЛАОЛЕ","МАЈДАНПЕК","840","-","0000001679660","660","-","07","601","01175",2,"13701","07300255",8520,63,1,100987659]
[44270,"ОСНОВНИ СУД У МАЈДАНПЕКУ","МАЈДАНПЕК","","-","","","-","","601","91289",2,"30226","17865552",8423,63,5,108341606]
[44270,"ОПШТА БОЛНИЦА МАЈДАНПЕК","МАЈДАНПЕК","840","-","0000000748661","661","-","83","601","80140",2,"95000","17668447",8621,63,3,104891974]
[44270,"МЕСНА ЗАЈЕДНИЦА БОЖА СТОЈАНОВИЋ","МАЈДАНПЕК","840","-","0000003821645","645","-","11","063","06094",2,"70501","07128282",8411,63,1,100624252]
[44270,"МЕСНА ЗАЈЕДНИЦА ЦРНАЈКА","МАЈДАНПЕК","840","-","0000003828645","645","-","60","063","06093",2,"70501","07231792",8411,63,1,101949773]
[44270,"МЕСНА ЗАЈЕДНИЦА ЛЕСКОВО","МАЈДАНПЕК","840","-","0000003829645","645","-","67","063","06089",2,"70501","07265859",8411,63,1,100988049]
[44270,"ОПШТИНА МАЈДАНПЕК - ОПШТИНСКО ВЕЋЕ","МАЈДАНПЕК","","-","","","-","","063","90768",1,"90768","07212577",8411,63,0,100987089]
[44280,"СРЕДЊА ШКОЛА БРАНИСЛАВ НУШИЋ","СОКОБАЊА","840","-","0000001586660","660","-","35","601","02034",2,"13702","07128525",8532,94,1,100691534]
[44280,"ОПШТИНСКА УПРАВА СОКОБАЊА","СОКОБАЊА","","-","","","-","","094","07191",1,"07191","07355815",8411,94,0,100880059]
[44280,"НАРОДНА БИБЛИОТЕКА СТЕВАН СРЕМАЦ","СОКОБАЊА","840","-","0000000501664","664","-","91","094","07221",2,"70510","07189761",9101,94,1,100692359]
[44280,"ПРЕДШКОЛСКА УСТАНОВА БУЦКО","СОКОБАЊА","840","-","0000000539661","661","-","75","094","07220",2,"70512","07128550",8891,94,1,100880616]
[44280,"МЕСНА ЗАЈЕДНИЦА ВРМЏА","СОКОБАЊА","840","-","0000003776645","645","-","84","094","07199",2,"70515","07235437",8411,94,1,100693904]
[44280,"МЕСНА ЗАЈЕДНИЦА РЕСНИК","СОКОБАЊА","840","-","0000003770645","645","-","42","094","07210",2,"70515","07235470",8411,94,1,100693857]
[44280,"МЕСНА ЗАЈЕДНИЦА НИКОЛИНАЦ","СОКОБАЊА","840","-","0000003766645","645","-","14","094","07206",2,"70515","07235496",8411,94,1,100693890]
[44280,"МЕСНА ЗАЈЕДНИЦА ШАРБАНОВАЦ","СОКОБАЊА","840","-","0000003785645","645","-","50","094","07217",2,"70515","07235526",8411,94,1,100693988]
[44280,"МЕСНА ЗАЈЕДНИЦА ПОРУЖНИЦА","СОКОБАЊА","840","-","0000003790645","645","-","85","094","07208",2,"70515","07241356",8411,94,1,100693849]
[44280,"МЕСНА ЗАЈЕДНИЦА РАДЕНКОВАЦ","СОКОБАЊА","840","-","0000003793645","645","-","09","094","07209",2,"70515","07261497",8411,94,1,100693816]
[44280,"ОПШТИНА СОКОБАЊА - ПРЕДСЕДНИК ОПШТИНЕ","СОКОБАЊА","","-","","","-","","094","90246",1,"90246","07355815",8411,94,0,100880059]
[44280,"ОПШТИНА СОКОБАЊА - СКУПШТИНА ОПШТИНЕ","СОКОБАЊА","","-","","","-","","094","90248",1,"90248","07355815",8411,94,0,100880059]
[44290,"МЕСНА ЗАЈЕДНИЦА БОЉЕТИН","ДОЊИ МИЛАНОВАЦ","840","-","0000003830645","645","-","74","063","06084",2,"70501","07234872",8411,63,1,100625420]
[44290,"МЕСНА ЗАЈЕДНИЦА КЛОКОЧЕВАЦ","ДОЊИ МИЛАНОВАЦ","840","-","0000003832645","645","-","88","063","06088",2,"70501","07261101",8411,63,1,100988145]
[45500,"МУП - ПОЛИЦИЈСКА УПРАВА КИКИНДА","КИКИНДА","840","-","0000000146621","621","-","63","601","00063",4,"10600","07008104",8424,215,0,100184116]
[45500,"ОСНОВНА ШКОЛА ЂУРА ЈАКШИЋ","КИКИНДА","840","-","0000000040660","660","-","77","601","01183",2,"13701","08020795",8520,215,1,101081913]
[45500,"ОСНОВНА ШКОЛА ЈОВАН ПОПОВИЋ","КИКИНДА","840","-","0000000098660","660","-","95","601","01186",2,"13701","08020833",8520,215,1,101079936]
[45500,"ОСНОВНА ШКОЛА ИВО ЛОЛА РИБАР НОВИ КОЗАРЦИ","КИКИНДА","840","-","0000000194660","660","-","88","601","01185",2,"13701","08020884",8520,215,1,101082705]
[45500,"ОСНОВНА ШКОЛА БРАТСТВО-ЈЕДИНСТВО БАНАТСКА ТОПОЛА","КИКИНДА","840","-","0000000236660","660","-","91","601","01179",2,"13701","08020914",8520,215,1,101081575]
[45500,"ОСНОВНА ШКОЛА 6. ОКТОБАР","КИКИНДА","840","-","0000000433660","660","-","15","601","01592",2,"13701","08020949",8520,215,1,101082852]
[45500,"ТЕХНИЧКА ШКОЛА КИКИНДА","КИКИНДА","840","-","0000000774660","660","-","74","601","02036",2,"13702","08114617",8532,215,1,100507914]
[45500,"ВИСОКА ШКОЛА СТРУКОВНИХ СТУДИЈА ЗА ОБРАЗОВАЊЕ ВАСПИТАЧА У КИКИНДИ","КИКИНДА","840","-","0000000657660","660","-","31","601","02217",2,"13704","08167796",8542,215,1,100579852]
[45500,"ОСНОВНО ЈАВНО ТУЖИЛАШТВО У КИКИНДИ","КИКИНДА","","-","","","-","","601","80518",2,"30229","08895945",8423,215,5,106398892]
[45500,"РЕПУБЛИЧКИ ФОНД ЗА ЗДРАВСТВЕНО ОСИГУРАЊЕ - ФИЛИЈАЛА ЗА СЕВЕРНО-БАНАТСКИ ОКРУГ","КИКИНДА","840","-","0000000005650","650","-","56","601","02669",4,"95000","06042945",8430,215,0,101288707]
[45500,"РЕПУБЛИЧКИ ФОНД ПИО-ФИЛИЈАЛА- КИКИНДА","КИКИНДА","840","-","0000000009652","652","-","78","601","00131",4,"95200","17715780",8430,215,0,105356542]
[45500,"МЕСНА ЗАЈЕДНИЦА РУСКО СЕЛО","РУСКО СЕЛО","840","-","0000000151645","645","-","26","215","08511",2,"08496","08036551",8411,215,1,100511567]
[45500,"МЕСНА ЗАЈЕДНИЦА ИЂОШ","ИЂОШ","840","-","0000000042645","645","-","39","215","08508",2,"08496","08036624",8411,215,1,100709133]
[45500,"МЕСНА ЗАЈЕДНИЦА НАКОВО","НАКОВО","840","-","0000000096645","645","-","29","215","08509",2,"08496","08036659",8411,215,1,100709117]
[45500,"ГРАДСКА УПРАВА КИКИНДА","КИКИНДА","","-","","","-","","215","08496",1,"08496","08176396",8411,215,0,100511495]
[45500,"НАРОДНИ МУЗЕЈ КИКИНДА","КИКИНДА","840","-","0000000190664","664","-","48","215","08520",2,"08496","08218269",9102,215,1,100708899]
[45500,"НАРОДНО ПОЗОРИШТЕ КИКИНДА","КИКИНДА","840","-","0000000219664","664","-","57","215","08521",2,"08496","08560331",9004,215,1,100509299]
[45500,"ЈАВНА АГЕНЦИЈА ЗА ПОЉОПРИВРЕДУ И МАЛУ ПРИВРЕДУ ОПШТИНЕ КИКИНДА","КИКИНДА","","-","","","-","","215","80431",2,"08496","08844542",7022,215,1,103879478]
[45500,"СКУПШТИНА ГРАДА","КИКИНДА","","-","","","-","","215","94900",1,"94900","08176396",8411,215,0,100511495]
[45510,"ОСНОВНА ШКОЛА ЈОВАН ЈОВАНОВИЋ-ЗМАЈ","НОВИ КНЕЖЕВАЦ","840","-","0000000666660","660","-","94","601","01194",2,"13701","08019495",8520,222,1,101460205]
[45510,"ГИМНАЗИЈА НОВИ КНЕЖЕВАЦ","НОВИ КНЕЖЕВАЦ","840","-","0000001032660","660","-","37","601","01759",2,"13702","08727511",8531,222,1,101460393]
[45510,"СПЕЦИЈАЛНА БОЛНИЦА ЗА ПСИХИЈАТРИЈСКЕ БОЛЕСТИ СВЕТИ ВРАЧЕВИ НОВИ КНЕЖЕВАЦ","НОВИ КНЕЖЕВАЦ","840","-","0000000180661","661","-","84","601","02563",2,"95000","08408289",8610,222,3,101460481]
[45510,"МЕСНА ЗАЈЕДНИЦА НОВИ КНЕЖЕВАЦ","НОВИ КНЕЖЕВАЦ","840","-","0000000550645","645","-","06","222","08638",2,"08634","08019789",8411,222,1,101460449]
[45510,"ПРЕДШКОЛСКА УСТАНОВА СРЕЋНО ДЕТЕ","НОВИ КНЕЖЕВАЦ","840","-","0000000221661","661","-","80","222","08641",2,"08634","08428557",8891,222,1,101460141]
[45510,"СКУПШТИНА ОПШТИНЕ НОВИ КНЕЖЕВАЦ","НОВИ КНЕЖЕВАЦ","","-","","","-","","222","83594",1,"83594","08385327",8411,222,0,101460424]
[45510,"ОПШТИНСКО ВЕЋЕ ОПШТИНЕ НОВИ КНЕЖЕВАЦ","НОВИ КНЕЖЕВАЦ","","-","","","-","","222","96033",1,"96033","08385327",8411,222,0,101460424]
[45700,"ГАЛЕРИЈА МАТИЦЕ СРПСКЕ","НОВИ САД","840","-","0000000158664","664","-","18","601","02345",2,"11801","08038678",9102,223,1,100235941]
[45700,"УСТАНОВА СОЦИЈАЛНЕ ЗАШТИТЕ ГЕРОНТОЛОШКИ ЦЕНТАР НОВИ САД","НОВИ САД","840","-","0000000127661","661","-","04","601","00196",2,"13400","08066191",8710,223,1,102187298]
[45700,"ОСНОВНА ШКОЛА 23. ОКТОБАР СРЕМСКИ КАРЛОВЦИ","СРЕМСКИ КАРЛОВЦИ","840","-","0000000524660","660","-","70","601","01196",2,"13701","08023522",8520,250,1,101423723]
[45700,"ОСНОВНА ШКОЛА ЈОВАН ГРЧИЋ-МИЛЕНКО","БЕОЧИН","840","-","0000001081660","660","-","89","601","01213",2,"13701","08028206",8520,210,1,101235230]
[45700,"ОСНОВНА ШКОЛА ИВО АНДРИЋ БУДИСАВА","НОВИ САД","840","-","0000001608660","660","-","92","601","01211",2,"13701","08066574",8520,223,1,101706217]
[45700,"ОСНОВНА ШКОЛА ЂОРЂЕ НАТОШЕВИЋ","НОВИ САД","840","-","0000000017660","660","-","13","601","01206",2,"13701","08066612",8520,223,1,101709174]
[45700,"ОСНОВНА ШКОЛА СОЊА МАРИНКОВИЋ","НОВИ САД","840","-","0000000209660","660","-","96","601","01230",2,"13701","08066647",8520,223,1,100237417]
[45700,"ОСНОВНА ШКОЛА ПЕТЕФИ ШАНДОР","НОВИ САД","840","-","0000000114660","660","-","13","601","01226",2,"13701","08066671",8520,223,1,100236387]
[45700,"ОСНОВНА ШКОЛА КОСТА ТРИФКОВИЋ","НОВИ САД","840","-","0000001602660","660","-","50","601","01219",2,"13701","08066728",8520,223,1,100713916]
[45700,"ОСНОВНА ШКОЛА БРАНКО РАДИЧЕВИЋ","НОВИ САД","840","-","0000000053660","660","-","71","601","01198",2,"13701","08066779",8520,223,1,101647171]
[45700,"ОСНОВНА ШКОЛА ВЕЉКО ПЕТРОВИЋ БЕГЕЧ","НОВИ САД","840","-","0000000304660","660","-","82","601","01201",2,"13701","08066809",8520,223,1,100719095]
[45700,"ОСНОВНА ШКОЛА ЛАЗА КОСТИЋ КОВИЉ","НОВИ САД","840","-","0000001607660","660","-","85","601","01220",2,"13701","08066825",8520,223,1,100737700]
[45700,"ОСНОВНА ШКОЛА ПРВА ВОЈВОЂАНСКА БРИГАДА","НОВИ САД","840","-","0000001582660","660","-","07","601","01227",2,"13701","08138141",8520,223,1,100453848]
[45700,"ОСНОВНА  ШКОЛА МАРИЈА ТРАНДАФИЛ ВЕТЕРНИК","НОВИ САД","840","-","0000002109660","660","-","10","601","80400",2,"13701","08907498",8520,223,1,106251124]
[45700,"ЕЛЕКТРОТЕХНИЧКА ШКОЛА МИХАЈЛО ПУПИН","НОВИ САД","840","-","0000001594660","660","-","91","601","02041",2,"13702","08043361",8532,223,1,101708719]
[45700,"ГИМНАЗИЈА ЈОВАН ЈОВАНОВИЋ-ЗМАЈ","НОВИ САД","840","-","0000000379660","660","-","25","601","01763",2,"13702","08066892",8531,223,1,100236049]
[45700,"ШКОЛА ЗА ДИЗАЈН БОГДАН ШУПУТ","НОВИ САД","840","-","0000000416660","660","-","90","601","02050",2,"13702","08066957",8532,223,1,100715122]
[45700,"САОБРАЋАЈНА ШКОЛА ПИНКИ","НОВИ САД","840","-","0000001590660","660","-","63","601","02046",2,"13702","08158142",8532,223,1,101652308]
[45700,"ГИМНАЗИЈА ЛАЗА КОСТИЋ","НОВИ САД","840","-","0000001771660","660","-","69","601","01761",2,"13702","08685240",8531,223,1,100237409]
[45700,"ДОМ УЧЕНИКА СРЕДЊИХ ШКОЛА БРАНКОВО КОЛО НОВИ САД","НОВИ САД","840","-","0000000125661","661","-","87","601","02170",2,"13703","08066213",5590,223,1,100277842]
[45700,"УНИВЕРЗИТЕТ У НОВОМ САДУ","НОВИ САД","840","-","0000000631660","660","-","43","601","02316",2,"13704","08067066",8542,223,1,101636534]
[45700,"ВИСОКА ТЕХНИЧКА ШКОЛА СТРУКОВНИХ СТУДИЈА У НОВОМ САДУ","НОВИ САД","840","-","0000000727660","660","-","36","601","02201",2,"13704","08081000",8542,223,1,100452579]
[45700,"ВИСОКА ПОСЛОВНА ШКОЛА СТРУКОВНИХ СТУДИЈА","НОВИ САД","840","-","0000001752660","660","-","33","601","02226",2,"13704","08640343",8542,223,1,101693811]
[45700,"УСТАНОВА СТУДЕНТСКОГ СТАНДАРДА - СТУДЕНТСКИ ЦЕНТАР У НОВОМ САДУ","НОВИ САД","840","-","0000000547661","661","-","34","601","02327",2,"13705","08054843",5590,223,1,102028873]
[45700,"ОСНОВНИ СУД У НОВОМ САДУ","НОВИ САД","","-","","","-","","601","80478",2,"30226","08864365",8423,223,5,106399502]
[45700,"ПРЕКРШАЈНИ СУД У НОВОМ САДУ","НОВИ САД","","-","","","-","","601","80600",2,"30233","08896160",8423,223,5,106399543]
[45700,"РЕПУБЛИЧКИ ФОНД ЗА ЗДРАВСТВЕНО ОСИГУРАЊЕ - ПОКРАЈИНСКИ ФОНД ЗА ЗДРАВСТВЕНО ОСИГУРАЊЕ","НОВИ САД","840","-","0000000031650","650","-","44","601","02671",4,"95000","06042945",8430,223,0,101288707]
[45700,"ЗАВОД ЗА ЗДРАВСТВЕНУ ЗАШТИТУ СТУДЕНАТА НОВИ САД","НОВИ САД","840","-","0000000155661","661","-","06","601","02480",2,"95000","08042446",8621,223,3,100237351]
[45700,"АПОТЕКА НОВИ САД","НОВИ САД","840","-","0000000164661","661","-","69","601","02640",2,"95000","08042560",4773,223,3,101698657]
[45700,"СПЕЦИЈАЛНА БОЛНИЦА ЗА РЕУМАТСКЕ БОЛЕСТИ НОВИ САД","НОВИ САД","840","-","0000000689661","661","-","58","601","02564",2,"95000","08066396",8610,223,3,101696908]
[45700,"ЗАВОД ЗА ТРАНСФУЗИЈУ КРВИ ВОЈВОДИНЕ","НОВИ САД","840","-","0000000568661","661","-","84","601","02614",2,"95000","08584702",8690,223,3,100237062]
[45700,"КЛИНИЧКИ ЦЕНТАР ВОЈВОДИНЕ","НОВИ САД","840","-","0000000577661","661","-","50","601","02568",2,"95000","08664161",8610,223,3,101696893]
[45700,"ПОКРАЈИНСКА СЛУЖБА ЗА ЗАПОШЉАВАЊЕ","НОВИ САД","840","-","0000000025654","654","-","87","601","00132",4,"95400","17539957",7810,223,0,103277483]
[45700,"СКУПШТИНА АП ВОЈВОДИНЕ","НОВИ САД","","-","","","-","","581","09411",1,"09411","08649987",8411,223,0,102187302]
[45700,"ПОКРАЈИНСКИ ЗАВОД ЗА ЗАШТИТУ ПРИРОДЕ","НОВИ САД","840","-","0000001021664","664","-","45","581","80822",2,"09415","08916918",9104,223,1,106611566]
[45700,"ПОКРАЈИНСКИ СЕКРЕТАРИЈАТ ЗА ПОЉОПРИВРЕДУ ВОДОПРИВРЕДУ И ШУМАРСТВО","НОВИ САД","","-","","","-","","581","09419",1,"09419","08034656",8411,223,0,100716301]
[45700,"БУЏЕТСКИ ФОНД ЗА ВОДЕ АУТОНОМНЕ ПОКРАЈИНЕ ВОЈВОДИНЕ","НОВИ САД","","-","","","-","","581","80869",2,"09419","08034656",8411,223,1,100716301]
[45700,"ПОКРАЈИНСКИ СЕКРЕТАРИЈАТ ЗА СПОРТ И ОМЛАДИНУ","НОВИ САД","","-","","","-","","581","09424",1,"09424","08752893",8411,223,0,102085420]
[45700,"ДИРЕКЦИЈА ЗА РОБНЕ РЕЗЕРВЕ АП ВОЈВОДИНЕ","НОВИ САД","","-","","","-","","581","09431",1,"09431","08784922",8411,223,0,103547671]
[45700,"СЛУЖБА ЗА РЕАЛИЗАЦИЈУ ПРОГРАМА РАЗВОЈА АУТОНОМНЕ ПОКРАЈИНЕ ВОЈВОДИНЕ","НОВИ САД","","-","","","-","","581","09703",1,"09703","08841322",8411,223,0,103806910]
[45700,"СЛУЖБА ЗА БУЏЕТСКУ ИНСПЕКЦИЈУ АУТОНОМНЕ ПОКРАЈИНЕ ВОЈВОДИНЕ","НОВИ САД","","-","","","-","","581","64509",1,"64509","08968624",8411,223,0,110121241]
[45700,"СПОМЕН-ЗБИРКА ПАВЛА БЕЉАНСКОГ","НОВИ САД","840","-","0000000136664","664","-","58","581","03586",2,"80252","08042284",9102,223,1,100238975]
[45700,"ПОЗОРИШНИ МУЗЕЈ ВОЈВОДИНЕ","НОВИ САД","840","-","0000000505664","664","-","22","581","03583",2,"80252","08151342",9102,223,1,101700945]
[45700,"ИЗДАВАЧКИ ЗАВОД ФОРУМ ЗА ИЗДАВАЊЕ КЊИГА И ЧАСОПИСА НОВИ САД","НОВИ САД","840","-","0000000963664","664","-","27","581","80250",2,"80252","08890854",5811,223,1,105687772]
[45700,"ВОЈВОЂАНСКИ СИМФОНИЈСКИ ОРКЕСТАР, НОВИ САД","НОВИ САД","840","-","0000001038664","664","-","67","581","80905",2,"80252","08925470",9001,223,1,106981911]
[45700,"ПОКРАЈИНСКИ СЕКРЕТАРИЈАТ ЗА РЕГИОНАЛНИ РАЗВОЈ, МЕЂУРЕГИОНАЛНУ САРАДЊУ И ЛОКАЛНУ САМОУПРАВУ","НОВИ САД","","-","","","-","","581","80254",1,"80254","08891559",8411,223,0,105702405]
[45700,"ПОКРАЈИНСКИ СЕКРЕТАРИЈАТ ЗА СОЦИЈАЛНУ ПОЛИТИКУ ДЕМОГРАФИЈУ И РАВНОПРАВНОСТ ПОЛОВА","НОВИ САД","","-","","","-","","581","99361",1,"99361","08961441",8411,223,0,109600842]
[45700,"ПРАВОБРАНИЛАШТВО ГРАДА НОВОГ САДА","НОВИ САД","","-","","","-","","511","03656",1,"03656","08008400",8423,223,0,100735845]
[45700,"ГРАДОНАЧЕЛНИК ГРАДА НОВОГ САДА","НОВИ САД","","-","","","-","","511","09704",1,"09704","08828547",8411,223,0,103625006]
[45700,"ГРАДСКА УПРАВА ЗА УРБАНИЗАМ И ГРАЂЕВИНСКЕ ПОСЛОВЕ ГРАДА НОВОГ САДА","НОВИ САД","","-","","","-","","511","09842",1,"09842","08839832",8411,223,0,103767911]
[45700,"БУЏЕТСКИ ФОНД ЗА УНАПРЕЂЕЊЕ ПОЉОПРИВРЕДЕ ГРАДА НОВОГ САДА","НОВИ САД","","-","","","-","","511","80862",2,"09844","08839867",8411,223,1,103767938]
[45700,"ПРЕДШКОЛСКА УСТАНОВА РАДОСНО ДЕТИЊСТВО","НОВИ САД","840","-","0000000549661","661","-","48","511","08688",2,"09846","08038384",8891,223,1,101584396]
[45700,"НОВОСАДСКО ПОЗОРИШТЕ UJVIDEKI SZINHAZ","НОВИ САД","840","-","0000000463664","664","-","19","511","08693",2,"09847","08023506",9003,223,1,100236104]
[45700,"СТЕРИЈИНО ПОЗОРЈЕ НОВИ САД","НОВИ САД","840","-","0000000150664","664","-","59","511","09475",2,"09847","08066442",9004,223,1,101696012]
[45700,"КУЛТУРНИ ЦЕНТАР НОВОГ САДА","НОВИ САД","840","-","0000000514664","664","-","85","511","08690",2,"09847","08162778",9004,223,1,101655568]
[45700,"ГРАДСКА УПРАВА ЗА КУЛТУРУ ГРАДА НОВОГ САДА","НОВИ САД","","-","","","-","","511","09847",1,"09847","08839891",8411,223,0,103767962]
[45700,"ГРАДСКА УПРАВА ЗА ЗДРАВСТВО ГРАДА НОВОГ САДА","НОВИ САД","","-","","","-","","511","09849",1,"09849","08839913",8411,223,0,103768051]
[45700,"МЕСНА ЗАЈЕДНИЦА ЈУГОВИЋЕВО","НОВИ САД","840","-","0000001935645","645","-","98","511","08668",2,"09852","08033749",8411,223,1,101642565]
[45700,"МЕСНА ЗАЈЕДНИЦА ДЕТЕЛИНАРА","НОВИ САД","840","-","0000001950645","645","-","09","511","08664",2,"09852","08034877",8411,223,1,101643113]
[45700,"МЕСНА ЗАЈЕДНИЦА САЛАЈКА","НОВИ САД","840","-","0000000238645","645","-","53","511","08681",2,"09852","08034907",8411,223,1,101643092]
[45700,"МЕСНА ЗАЈЕДНИЦА КЛИСА","НОВИ САД","840","-","0000000048645","645","-","81","511","08670",2,"09852","08034940",8411,223,1,101642573]
[45700,"МЕСНА ЗАЈЕДНИЦА КИСАЧ","НОВИ САД","840","-","0000000500645","645","-","44","511","08650",2,"09852","08035032",8411,223,1,102058572]
[45700,"МЕСНА ЗАЈЕДНИЦА СЛАНА БАРА","НОВИ САД","840","-","0000002053645","645","-","51","511","08682",2,"09852","08110786",8411,223,1,101642452]
[45700,"МЕСНА ЗАЈЕДНИЦА ПЕЈИЋЕВИ САЛАШИ НЕМАНОВЦИ","НОВИ САД","840","-","0000003847645","645","-","96","511","08686",2,"09852","08134588",8411,223,1,102058589]
[45700,"МЕСНА ЗАЈЕДНИЦА ПЕТРОВАРАДИН","ПЕТРОВАРАДИН","840","-","0000002243645","645","-","23","511","09266",2,"09852","08145741",8411,247,1,100805815]
[45700,"МЕСНА ЗАЈЕДНИЦА ЛИМАН","НОВИ САД","840","-","0000002634645","645","-","44","511","08672",2,"09852","08146799",8411,223,1,101643068]
[45700,"МЕСНА ЗАЈЕДНИЦА БРАТСТВО-ТЕЛЕП","НОВИ САД","840","-","0000002484645","645","-","61","511","08660",2,"09852","08148619",8411,223,1,101642485]
[45700,"МЕСНА ЗАЈЕДНИЦА ПОДБАРА","НОВИ САД","840","-","0000002541645","645","-","72","511","08677",2,"09852","08150176",8411,223,1,101642508]
[45700,"II МЕСНА ЗАЈЕДНИЦА СТАРИ ГРАД","НОВИ САД","840","-","0000002718645","645","-","50","511","08684",2,"09852","08150427",8411,223,1,101643041]
[45700,"ХII МЕСНА ЗАЈЕДНИЦА ЈУЖНИ ТЕЛЕП","НОВИ САД","840","-","0000002750645","645","-","80","511","08669",2,"09852","08152748",8411,223,1,101643105]
[45700,"БИРО ЗА ПРУЖАЊЕ ПРАВНЕ ПОМОЋИ ГРАДА НОВОГ САДА","НОВИ САД","","-","","","-","","511","09854",1,"09854","08839972",8411,223,0,103768027]
[45700,"ГРАДСКА УПРАВА ЗА ГРАЂЕВИНСКО ЗЕМЉИШТЕ И ИНВЕСТИЦИЈЕ","НОВИ САД","","-","","","-","","511","61553",1,"61553","08964904",8411,223,0,109804482]
[45700,"ГРАД НОВИ САД ЗАШТИТНИК ГРАЂАНА, НОВИ САД","НОВИ САД","","-","","","-","","511","80838",1,"80838","08918830",8411,223,0,106712363]
[45700,"СКУПШТИНА ОПШТИНЕ СРЕМСКИ КАРЛОВЦИ","СРЕМСКИ КАРЛОВЦИ","","-","","","-","","250","96362",1,"96362","08139199",8411,250,0,102828498]
[45700,"ЦЕНТАР ЗА КУЛТУРУ, СПОРТ И ТУРИЗАМ ОПШТИНЕ БЕОЧИН, БЕОЧИН","БЕОЧИН","840","-","0000000348664","664","-","87","210","08428",2,"08413","08023603",8559,210,1,101235133]
[45700,"МЕСНА ЗАЈЕДНИЦА СВИЛОШ","БЕОЧИН","840","-","0000001031645","645","-","75","210","08421",2,"08413","08028125",8411,210,1,101621042]
[45700,"МЕСНА ЗАЈЕДНИЦА БАНОШТОР","БЕОЧИН","840","-","0000000989645","645","-","72","210","08417",2,"08413","08028141",8411,210,1,101621059]
[45700,"МЕСНА ЗАЈЕДНИЦА БЕОЧИН","БЕОЧИН","840","-","0000000968645","645","-","22","210","08426",2,"08413","08101906",8411,210,1,101620970]
[45700,"СКУПШТИНА ОПШТИНЕ БЕОЧИН","БЕОЧИН","","-","","","-","","210","92401",1,"92401","08439940",8411,210,0,101619734]
[45700,"ОПШТИНСКО ВЕЋЕ БЕОЧИН","БЕОЧИН","","-","","","-","","210","92403",1,"92403","08439940",8411,210,0,101619734]
[45701,"ОСНОВНА ШКОЛА ЈАН ЧАЈАК","БАЧКИ ПЕТРОВАЦ","840","-","0000001059660","660","-","32","601","01233",2,"13701","08054118",8520,207,1,101874094]
[45701,"ЗДРАВСТВЕНА УСТАНОВА ДОМ ЗДРАВЉА БАЧКИ ПЕТРОВАЦ","БАЧКИ ПЕТРОВАЦ","840","-","0000000347661","661","-","89","601","02481",2,"95000","08054185",8621,207,3,101871684]
[45701,"МЕСНА ЗАЈЕДНИЦА МАГЛИЋ","МАГЛИЋ","840","-","0000000831645","645","-","33","207","08364",2,"08359","08054452",8411,207,1,101271488]
[45701,"МЕСНА ЗАЈЕДНИЦА КУЛПИН","БАЧКИ ПЕТРОВАЦ","840","-","0000000879645","645","-","78","207","08366",2,"08359","08054495",8411,207,1,101269906]
[45701,"БИБЛИОТЕКА ШТЕФАН ХОМОЛА","БАЧКИ ПЕТРОВАЦ","840","-","0000000547664","664","-","25","207","08368",2,"08359","08639213",9101,207,1,101269939]
[45701,"МУЗЕЈ ВОЈВОЂАНСКИХ СЛОВАКА","БАЧКИ ПЕТРОВАЦ","840","-","0000001056664","664","-","96","207","80979",2,"08359","08932972",9102,207,1,107478935]
[45702,"ЦЕНТАР ЗА СОЦИЈАЛНИ РАД ОПШТИНЕ ТЕМЕРИН","ТЕМЕРИН","840","-","0000000551661","661","-","62","601","00303",2,"13400","08233527",8899,238,1,100817183]
[45702,"ОСНОВНА ШКОЛА МИЛОШ ЦРЊАНСКИ ЖАБАЉ","ЖАБАЉ","840","-","0000001343660","660","-","80","601","01242",2,"13701","08062668",8520,243,1,100648330]
[45702,"ОСНОВНА ШКОЛА ЂУРА ЈАКШИЋ ЧУРУГ","ЖАБАЉ","840","-","0000001353660","660","-","53","601","01236",2,"13701","08063613",8520,243,1,100646651]
[45702,"СРЕДЊА ШКОЛА ЛУКИЈАН МУШИЦКИ","ТЕМЕРИН","840","-","0000001098660","660","-","14","601","02051",2,"13702","08071870",8532,238,1,100817548]
[45702,"ОПШТИНА ЖАБАЉ-БУЏЕТ","ЖАБАЉ","840","-","0000000141640","640","-","68","243","09232",0,"09232","08157111",8411,243,0,100227755]
[45702,"МЕСНА ЗАЈЕДНИЦА 21. МАЈ ГОСПОЂИНЦИ","ЖАБАЉ","840","-","0000001410645","645","-","12","243","09236",2,"09233","08076731",8411,243,1,100648039]
[45702,"ПРЕДШКОЛСКА УСТАНОВА ДЕТИЊСТВО","ЖАБАЉ","840","-","0000000530661","661","-","12","243","09240",2,"09233","08146047",8510,243,1,100646506]
[45702,"ТУРИСТИЧКА ОРГАНИЗАЦИЈА ОПШТИНЕ ЖАБАЉ","ЖАБАЉ","840","-","0000000955664","664","-","68","243","80195",2,"09233","08879206",7311,243,1,105209565]
[45702,"ПРЕДШКОЛСКА УСТАНОВА ВЕЉКО ВЛАХОВИЋ","ТЕМЕРИН","840","-","0000000302661","661","-","65","238","09106",2,"09099","08071861",8891,238,1,101454539]
[45702,"ПРВА МЕСНА ЗАЈЕДНИЦА","ТЕМЕРИН","840","-","0000000807645","645","-","59","238","09105",2,"09099","08076685",8411,238,1,101689347]
[45702,"ЈАВНА БИБЛИОТЕКА СИРМАИ КАРОЉ","ТЕМЕРИН","840","-","0000000528664","664","-","86","238","09107",2,"09099","08248893",9101,238,1,101455175]
[45702,"КУЛТУРНИ ЦЕНТАР ОПШТИНЕ ТЕМЕРИН","ТЕМЕРИН","840","-","0000001091664","664","-","50","238","92506",2,"09099","08951012",9004,238,1,108841857]
[45702,"ОПШТИНА ТЕМЕРИН - ОПШТИНСКО ПРАВОБРАНИЛАШТВО","ТЕМЕРИН","","-","","","-","","238","61999",1,"61999","08330514",6910,238,0,101869888]
[45704,"ОСНОВНА ШКОЛА СВЕТОЗАР МИЛЕТИЋ","ТИТЕЛ","840","-","0000001101660","660","-","35","601","01244",2,"13701","08050481",8520,239,1,101456803]
[45704,"ДОМ ЗДРАВЉА ТИТЕЛ","ТИТЕЛ","840","-","0000000351661","661","-","20","601","02484",2,"95000","08050503",8621,239,3,101455669]
[45704,"МЕСНА ЗАЈЕДНИЦА ГАРДИНОВЦИ","ТИТЕЛ","840","-","0000001070645","645","-","57","239","09113",2,"09110","08050767",8411,239,1,101457390]
[45704,"МЕСНА ЗАЈЕДНИЦА ЛОК","ТИТЕЛ","840","-","0000001179645","645","-","44","239","09114",2,"09110","08084882",8411,239,1,101457148]
[45704,"УСТАНОВА  ЗА ЗАШТИТУ ПРИРОДЕ И КУЛТУРНИХ ДОБАРА ТИТЕЛСКИ БРЕГ ТИТЕЛ","ТИТЕЛ","840","-","0000001203664","664","-","58","239","62026",2,"09110","08965471",9103,239,1,109844352]
[45704,"ОПШТИНСКО ВЕЋЕ ТИТЕЛ","ТИТЕЛ","","-","","","-","","239","09824",1,"09824","08050724",8411,239,0,101457453]
[45710,"ОСНОВНА ШКОЛА 15. ОКТОБАР ПИВНИЦЕ","БАЧКА ПАЛАНКА","840","-","0000000145660","660","-","36","601","01245",2,"13701","08062064",8520,205,1,100753767]
[45710,"ОСНОВНА ШКОЛА ХЕРОЈ ПИНКИ","БАЧКА ПАЛАНКА","840","-","0000000454660","660","-","65","601","01594",2,"13701","08062340",8520,205,1,100753025]
[45710,"ОСНОВНА ШКОЛА ЖАРКО ЗРЕЊАНИН ОБРОВАЦ","БАЧКА ПАЛАНКА","840","-","0000000175660","660","-","52","601","01251",2,"13701","08062404",8520,205,1,100497156]
[45710,"ОСНОВНА ШКОЛА ВУК КАРАЏИЋ БАЧКА ПАЛАНКА","БАЧКА ПАЛАНКА","840","-","0000000781660","660","-","26","601","01249",2,"13701","08625158",8520,205,1,100497105]
[45710,"ТЕХНИЧКА ШКОЛА 9. МАЈ","БАЧКА ПАЛАНКА","840","-","0000000500660","660","-","96","601","02055",2,"13702","08062366",8532,205,1,100752782]
[45710,"ОПШТИНА БАЧКА ПАЛАНКА-БУЏЕТ","БАЧКА ПАЛАНКА","840","-","0000000080640","640","-","29","205","08304",0,"08304","08070687",8411,205,0,102102032]
[45710,"ОПШТИНСКА УПРАВА БАЧКА ПАЛАНКА","БАЧКА ПАЛАНКА","","-","","","-","","205","08305",1,"08305","08070687",8411,205,0,102102032]
[45710,"МЕСНА ЗАЈЕДНИЦА ВИЗИЋ","БАЧКА ПАЛАНКА","840","-","0000000577645","645","-","98","205","08310",2,"08305","08076430",8411,205,1,100497390]
[45710,"МЕСНА ЗАЈЕДНИЦА СТАРИ ГРАД","БАЧКА ПАЛАНКА","840","-","0000000077645","645","-","90","205","08325",2,"08305","08076499",8411,205,1,100752854]
[45710,"МЕСНА ЗАЈЕДНИЦА ПИВНИЦЕ","БАЧКА ПАЛАНКА","840","-","0000000159645","645","-","82","205","08319",2,"08305","08076553",8411,205,1,100752364]
[45710,"МЕСНА ЗАЈЕДНИЦА ПАРАГЕ","БАЧКА ПАЛАНКА","840","-","0000000391645","645","-","57","205","08318",2,"08305","08076561",8411,205,1,101755387]
[45710,"МЕСНА ЗАЈЕДНИЦА КАРАЂОРЂЕВО","БАЧКА ПАЛАНКА","840","-","0000000605645","645","-","03","205","08313",2,"08305","08103917",8411,205,1,101355384]
[45710,"СКУПШТИНА ОПШТИНЕ БАЧКА ПАЛАНКА","БАЧКА ПАЛАНКА","","-","","","-","","205","08307",1,"08307","08070687",8411,205,0,102102032]
[45710,"ПРАВОБРАНИЛАШТВО ОПШТИНЕ БАЧКА ПАЛАНКА","БАЧКА ПАЛАНКА","","-","","","-","","205","93059",1,"93059","08070687",6910,205,0,102102032]
[45711,"ОСНОВНА ШКОЛА ВУК КАРАЏИЋ БАЧ","БАЧ","840","-","0000000235660","660","-","84","601","01256",2,"13701","08012857",8520,204,1,101451018]
[45711,"ПОЉОПРИВРЕДНА ШКОЛА БАЧ","БАЧ","840","-","0000000773660","660","-","67","601","02056",2,"13702","08610711",8532,204,1,101451000]
[45711,"ОПШТИНСКА УПРАВА БАЧ","БАЧ","","-","","","-","","204","08292",1,"08292","08012814",8411,204,0,101759575]
[45711,"МЕСНА ЗАЈЕДНИЦА ВАЈСКА","БАЧ","840","-","0000000416645","645","-","38","204","08299",2,"08292","08027234",8411,204,1,101758880]
[45711,"МЕСНА ЗАЈЕДНИЦА БОЂАНИ","БАЧ","840","-","0000000468645","645","-","14","204","08298",2,"08292","08051496",8411,204,1,101452289]
[45711,"УСТАНОВА ЗА СПОРТ И РЕКРЕАЦИЈУ БАЧКА ТВРЂАВА БАЧ","БАЧ","840","-","0000001170664","664","-","21","204","98008",2,"08292","08960054",9311,204,1,109481680]
[46000,"ОКРУЖНИ ЗАТВОР У ПАНЧЕВУ","ПАНЧЕВО","840","-","0000000552621","621","-","92","601","00034",2,"10311","08120528",8423,226,1,103695347]
[46000,"ДОМ ЗА ЛИЦА СА ОШТЕЋЕНИМ ВИДОМ ЗБРИЊАВАЊЕ ПАНЧЕВО","ПАНЧЕВО","840","-","0000000026661","661","-","73","601","00215",2,"13400","08006601",8790,226,1,101053708]
[46000,"ЦЕНТАР ЗА СОЦИЈАЛНИ РАД КОВАЧИЦА","КОВАЧИЦА","840","-","0000000342661","661","-","54","601","00307",2,"13400","08190852",8899,216,1,100873027]
[46000,"ОСНОВНА ШКОЛА АКСЕНТИЈЕ МАКСИМОВИЋ ДОЛОВО","ПАНЧЕВО","840","-","0000000501660","660","-","06","601","01261",2,"13701","08006288",8520,226,1,101980137]
[46000,"ОСНОВНА ШКОЛА ЖАРКО ЗРЕЊАНИН КАЧАРЕВО","ПАНЧЕВО","840","-","0000000593660","660","-","68","601","01272",2,"13701","08006318",8520,226,1,101049869]
[46000,"ОСНОВНА ШКОЛА ЈОВАН ЈОВАНОВИЋ-ЗМАЈ","ПАНЧЕВО","840","-","0000000350660","660","-","16","601","01274",2,"13701","08006369",8520,226,1,101829268]
[46000,"ОСНОВНА ШКОЛА СТЕВИЦА ЈОВАНОВИЋ","ПАНЧЕВО","840","-","0000000689660","660","-","61","601","01286",2,"13701","08006377",8520,226,1,101820445]
[46000,"ОСНОВНА ШКОЛА САВА ЖЕБЕЉАН ЦРЕПАЈА","КОВАЧИЦА","840","-","0000000589660","660","-","40","601","01284",2,"13701","08029164",8520,216,1,100873682]
[46000,"ОСНОВНА ШКОЛА ЛУКРЕЦИЈА АНКУЦИЋ САМОШ","КОВАЧИЦА","840","-","0000000578660","660","-","60","601","01275",2,"13701","08029237",8520,216,1,100873779]
[46000,"ОСНОВНА ШКОЛА БОРИСАВ ПЕТРОВ-БРАЦА","ПАНЧЕВО","840","-","0000000538660","660","-","71","601","01262",2,"13701","08057184",8520,226,1,101047470]
[46000,"ОСНОВНА ШКОЛА ИСИДОРА СЕКУЛИЋ ПАНЧЕВО","ПАНЧЕВО","840","-","0000001126660","660","-","16","601","01273",2,"13701","08132046",8520,226,1,101054233]
[46000,"ЕЛЕКТРОТЕХНИЧКА ШКОЛА НИКОЛА ТЕСЛА","ПАНЧЕВО","840","-","0000000516660","660","-","14","601","02058",2,"13702","08006415",8532,226,1,100592740]
[46000,"ЕКОНОМСКО-ТРГОВИНСКА ШКОЛА ПАЈА МАРГАНОВИЋ","ПАНЧЕВО","840","-","0000001152660","660","-","04","601","02057",2,"13702","08028567",8532,226,1,101864728]
[46000,"ПОЉОПРИВРЕДНА ШКОЛА ЈОСИФ ПАНЧИЋ","ПАНЧЕВО","840","-","0000000643660","660","-","30","601","02062",2,"13702","08054088",8532,226,1,100592127]
[46000,"МАШИНСКА ШКОЛА ПАНЧЕВО","ПАНЧЕВО","840","-","0000000255660","660","-","30","601","02059",2,"13702","08158789",8532,226,1,101865608]
[46000,"ПРИВРЕДНИ СУД У ПАНЧЕВУ","ПАНЧЕВО","","-","","","-","","601","80502",2,"30227","08864438",8423,226,5,106399578]
[46000,"РЕПУБЛИЧКИ ФОНД ЗА ЗДРАВСТВЕНО ОСИГУРАЊЕ - ФИЛИЈАЛА ЗА ЈУЖНО-БАНАТСКИ ОКРУГ","ПАНЧЕВО","840","-","0000000017650","650","-","43","601","02672",4,"95000","06042945",8430,226,0,101288707]
[46000,"ДОМ ЗДРАВЉА КОВАЧИЦА","КОВАЧИЦА","840","-","0000000262661","661","-","76","601","02487",2,"95000","08072388",8621,216,3,100873043]
[46000,"ДОМ ЗДРАВЉА ПАНЧЕВО","ПАНЧЕВО","840","-","0000000808661","661","-","18","601","80697",2,"95000","08913889",8621,226,3,106481499]
[46000,"ФОНД ЗА ЗАШТИТУ ЖИВОТНЕ СРЕДИНЕ","ПАНЧЕВО","","-","","","-","","226","80424",2,"08725","08331537",8411,226,1,101049012]
[46000,"СКУПШТИНА ГРАДА ПАНЧЕВО","ПАНЧЕВО","","-","","","-","","226","09661",1,"09661","08331537",8411,226,0,101049012]
[46000,"ИСТОРИЈСКИ АРХИВ У ПАНЧЕВУ","ПАНЧЕВО","840","-","0000000034664","664","-","23","226","08759",2,"70103","08006504",9101,226,1,101830932]
[46000,"ГРАДСКА БИБЛИОТЕКА ПАНЧЕВО","ПАНЧЕВО","840","-","0000000030664","664","-","92","226","08746",2,"70103","08006539",9101,226,1,101049844]
[46000,"ДОМ КУЛТУРЕ 3. ОКТОБАР БАНАТСКО НОВО СЕЛО","ПАНЧЕВО","840","-","0000000148664","664","-","45","226","08749",2,"70103","08043957",8559,226,1,101864769]
[46000,"ДОМ КУЛТУРЕ 25. МАЈ   ДОЛОВО","ПАНЧЕВО","840","-","0000000119664","664","-","36","226","08747",2,"70103","08073759",9003,226,1,101863012]
[46000,"ЗАВОД ЗА ЗАШТИТУ СПОМЕНИКА КУЛТУРЕ У ПАНЧЕВУ","ПАНЧЕВО","840","-","0000000365664","664","-","12","226","08758",2,"70103","08538794",9103,226,1,101051048]
[46000,"МЕСНА ЗАЈЕДНИЦА ЦЕНТАР","ПАНЧЕВО","840","-","0000000607645","645","-","17","226","08744",2,"70109","08006792",8411,226,1,100522501]
[46000,"МЕСНА ЗАЈЕДНИЦА БАНАТСКИ БРЕСТОВАЦ","ПАНЧЕВО","840","-","0000000180645","645","-","35","226","08729",2,"70109","08076596",8411,226,1,100591425]
[46000,"МЕСНА ЗАЈЕДНИЦА КАЧАРЕВО","ПАНЧЕВО","840","-","0000000152645","645","-","33","226","08734",2,"70109","08076626",8411,226,1,102230962]
[46000,"МЕСНА ЗАЈЕДНИЦА СТРЕЛИШТЕ","ПАНЧЕВО","840","-","0000001197645","645","-","73","226","08742",2,"70109","08149291",8411,226,1,101828484]
[46000,"МЕСНА ЗАЈЕДНИЦА СТАРИ ТАМИШ","ПАНЧЕВО","840","-","0000001241645","645","-","90","226","08741",2,"70109","08593043",8411,226,1,101829723]
[46000,"ЗАШТИТНИК ГРАЂАНА ГРАДА ПАНЧЕВО","ПАНЧЕВО","","-","","","-","","226","80917",1,"80917","08927766",6910,226,0,107073916]
[46000,"МЕСНА ЗАЈЕДНИЦА САКУЛЕ","САКУЛЕ","840","-","0000000579645","645","-","15","225","08720",2,"08715","08028966",8411,225,1,101559388]
[46000,"ОПШТИНСКА НАРОДНА БИБЛИОТЕКА ОПОВО","ОПОВО","840","-","0000000398664","664","-","49","225","08723",2,"08715","08644217",9101,225,1,101558596]
[46000,"ОПШТИНСКО ВЕЋЕ ОПОВО","ОПОВО","","-","","","-","","225","96431",1,"96431","08028842",8411,225,0,102697271]
[46000,"ДОМ КУЛТУРЕ ВЛАДИМИР М. ФИЈАТ САМОШ","КОВАЧИЦА","840","-","0000000667664","664","-","89","216","08542",2,"08529","08029296",9004,216,1,100873955]
[46000,"МЕСНА ЗАЈЕДНИЦА САМОШ","КОВАЧИЦА","840","-","0000000314645","645","-","03","216","08537",2,"08529","08029415",8411,216,1,100988418]
[46000,"ДОМ КУЛТУРЕ ЈОЖЕФ АТИЛА ДЕБЕЉАЧА","КОВАЧИЦА","840","-","0000000137664","664","-","65","216","08544",2,"08529","08044678",9004,216,1,100873109]
[46000,"МЕСНА ЗАЈЕДНИЦА ПАДИНА","КОВАЧИЦА","840","-","0000000259645","645","-","06","216","08536",2,"08529","08059373",8411,216,1,100989417]
[46000,"РАДИО-ТЕЛЕВИЗИЈА ОПШТИНЕ КОВАЧИЦА","КОВАЧИЦА","840","-","0000000279664","664","-","89","216","08549",2,"08529","08165076",6020,216,1,101009154]
[46000,"ОПШТИНА КОВАЧИЦА - СКУПШТИНА ОПШТИНЕ КОВАЧИЦА","КОВАЧИЦА","","-","","","-","","216","09683",1,"09683","08154295",8411,216,0,100988231]
[46000,"ОПШТИНА КОВАЧИЦА - ОПШТИНСКО ПРАВОБРАНИЛАШТВО","КОВАЧИЦА","","-","","","-","","216","61175",1,"61175","08154295",6910,216,0,100988231]
[46001,"ОСНОВНА ШКОЛА САВА ВЕЉКОВИЋ ДОБРИЦА","АЛИБУНАР","840","-","0000000426660","660","-","63","601","01293",2,"13701","08031886",8520,202,1,101084874]
[46001,"ОСНОВНА ШКОЛА БРАТСТВО-ЈЕДИНСТВО АЛИБУНАР","АЛИБУНАР","840","-","0000000417660","660","-","97","601","01290",2,"13701","08031975",8520,202,1,101084899]
[46001,"ДОМ ЗДРАВЉА АЛИБУНАР","АЛИБУНАР","840","-","0000000259661","661","-","55","601","02489",2,"95000","08072361",8621,202,3,102129784]
[46001,"МЕСНА ЗАЈЕДНИЦА БАНАТСКИ КАРЛОВАЦ","АЛИБУНАР","840","-","0000000496645","645","-","16","202","08262",2,"08256","08031711",8411,202,1,101087627]
[46001,"МЕСНА ЗАЈЕДНИЦА ЛОКВЕ","АЛИБУНАР","840","-","0000000707645","645","-","38","202","08267",2,"08256","08031827",8411,202,1,101085947]
[46001,"МЕСНА ЗАЈЕДНИЦА НИКОЛИНЦИ","АЛИБУНАР","840","-","0000000443645","645","-","33","202","08268",2,"08256","08031991",8411,202,1,101087506]
[46001,"ДОМ КУЛТУРЕ ВЛАДИМИРОВАЦ  ВЛАДИМИРОВАЦ","АЛИБУНАР","840","-","0000000344664","664","-","59","202","08272",2,"08256","08274274",9003,202,1,102315348]
[46001,"ДОМ КУЛТУРЕ МЛАДОСТ","АЛИБУНАР","840","-","0000000399664","664","-","56","202","08275",2,"08256","08648450",8559,202,1,101086030]
[46001,"ДОМ КУЛТУРЕ СЕЛЕУШ СЕЛЕУШ","АЛИБУНАР","840","-","0000000422664","664","-","23","202","08274",2,"08256","08749272",9004,202,1,102019535]
[46010,"ОСНОВНА ШКОЛА БОРА РАДИЋ БАВАНИШТЕ","КОВИН","840","-","0000000947660","660","-","24","601","01295",2,"13701","08012148",8520,217,1,101406239]
[46010,"ОСНОВНА ШКОЛА ЖАРКО ЗРЕЊАНИН СКОРЕНОВАЦ","КОВИН","840","-","0000000956660","660","-","87","601","01299",2,"13701","08012172",8520,217,1,101408638]
[46010,"ОСНОВНА ШКОЛА ПРЕДРАГ КОЗИЋ ДУБОВАЦ","КОВИН","840","-","0000000953660","660","-","66","601","01303",2,"13701","08012482",8520,217,1,101407565]
[46010,"ОСНОВНА ШКОЛА САВА МАКСИМОВИЋ МРАМОРАК","КОВИН","840","-","0000000951660","660","-","52","601","01304",2,"13701","08012539",8520,217,1,101408429]
[46010,"ДОМ ЗДРАВЉА КОВИН","КОВИН","840","-","0000000239661","661","-","12","601","02490",2,"95000","08012261",8621,217,3,101984462]
[46010,"МЕСНА ЗАЈЕДНИЦА ДУБОВАЦ","КОВИН","840","-","0000000756645","645","-","90","217","08562",2,"08553","08012369",8411,217,1,101408381]
[46010,"МЕСНА ЗАЈЕДНИЦА ГАЈ","КОВИН","840","-","0000000684645","645","-","71","217","08560",2,"08553","08012393",8411,217,1,101408373]
[46010,"МЕСНА ЗАЈЕДНИЦА МРАМОРАК","КОВИН","840","-","0000000731645","645","-","12","217","08564",2,"08553","08063265",8411,217,1,101407723]
[46010,"ФОНД ЗА ЗАПОШЉАВАЊЕ ОПШТИНЕ КОВИН","КОВИН","","-","","","-","","217","96344",2,"08553","08135002",8411,217,1,101406134]
[46010,"БИБЛИОТЕКА ВУК КАРАЏИЋ","КОВИН","840","-","0000000388664","664","-","76","217","08569",2,"08553","08611203",9101,217,1,101406011]
[46010,"ТУРИСТИЧКА ОРГАНИЗАЦИЈА ОПШТИНЕ КОВИН","КОВИН","840","-","0000001150664","664","-","75","217","80180",2,"08553","08873968",8413,217,1,105054798]
[46010,"ПРЕДСЕДНИК ОПШТИНЕ КОВИН","КОВИН","","-","","","-","","217","61590",1,"61590","08135002",8411,217,0,101406134]
[46300,"МУП - ПОЛИЦИЈСКА УПРАВА СОМБОР","СОМБОР","840","-","0000000100621","621","-","32","601","00066",4,"10600","07008104",8424,232,0,100184116]
[46300,"ОСНОВНА ШКОЛА БРАТСТВО-ЈЕДИНСТВО","СОМБОР","840","-","0000000389660","660","-","95","601","01310",2,"13701","08013004",8520,232,1,100016235]
[46300,"ОСНОВНА ШКОЛА ПЕТАР КОЧИЋ РИЂИЦА","РИЂИЦА","840","-","0000000506660","660","-","41","601","01323",2,"13701","08013055",8520,232,1,101842894]
[46300,"ОСНОВНА ШКОЛА БРАНКО РАДИЧЕВИЋ СТАПАР","СТАПАР","840","-","0000000469660","660","-","73","601","01309",2,"13701","08013071",8520,232,1,100607900]
[46300,"ОСНОВНА ШКОЛА ОГЊЕН ПРИЦА КОЛУТ","КОЛУТ","840","-","0000000418660","660","-","07","601","01322",2,"13701","08047065",8520,232,1,101836812]
[46300,"МУЗИЧКА ШКОЛА ПЕТАР КОЊОВИЋ","СОМБОР","840","-","0000000364660","660","-","17","601","01647",2,"13701","08047090",8520,232,1,100273331]
[46300,"ОСНОВНА ШКОЛА БРАТСТВО-ЈЕДИНСТВО БЕЗДАН","БЕЗДАН","840","-","0000000594660","660","-","75","601","01311",2,"13701","08062722",8520,232,1,100608515]
[46300,"ОСНОВНА ШКОЛА АЛЕКСА ШАНТИЋ АЛЕКСА ШАНТИЋ","АЛЕКСА ШАНТИЋ","840","-","0000000481660","660","-","60","601","01308",2,"13701","08062765",8520,232,1,101837469]
[46300,"СРЕДЊА ТЕХНИЧКА ШКОЛА СОМБОР","СОМБОР","840","-","0000001125660","660","-","09","601","02069",2,"13702","08027277",8532,232,1,100016489]
[46300,"ДОМ УЧЕНИКА СРЕДЊИХ ШКОЛА У СОМБОРУ","СОМБОР","840","-","0000000318661","661","-","80","601","02171",2,"13703","08130205",5590,232,1,100122819]
[46300,"ОСНОВНИ СУД У СОМБОРУ","СОМБОР","","-","","","-","","601","80487",2,"30226","08864381",8423,232,5,106400548]
[46300,"ВИШЕ ЈАВНО ТУЖИЛАШТВО У СОМБОРУ","СОМБОР","","-","","","-","","601","80563",2,"30228","08896054",8423,232,5,106400530]
[46300,"АПОТЕКА СОМБОР","СОМБОР","840","-","0000000009661","661","-","51","601","02642",2,"95000","08578184",4773,232,3,100272105]
[46300,"РЕПУБЛИЧКИ ФОНД ПИО-ФИЛИЈАЛА- СОМБОР","СОМБОР","840","-","0000000013652","652","-","09","601","00142",4,"95200","17715780",8430,232,0,105356542]
[46300,"ГРАД СОМБОР-БУЏЕТ","СОМБОР","840","-","0000000025640","640","-","32","232","08872",0,"08872","08337152",8411,232,0,100123258]
[46300,"ГРАДСКА БИБЛИОТЕКА КАРЛО БИЈЕЛИЦКИ","СОМБОР","840","-","0000000131664","664","-","23","232","08902",2,"08873","08047049",9101,232,1,100122587]
[46300,"МЕСНА ЗАЈЕДНИЦА РИЂИЦА","РИЂИЦА","840","-","0000000051645","645","-","05","232","08887",2,"08873","08047235",8411,232,1,101840018]
[46300,"МЕСНА ЗАЈЕДНИЦА СЕЛЕНЧА","СОМБОР","840","-","0000000004645","645","-","64","232","08897",2,"08873","08064776",8411,232,1,101840536]
[46300,"МЕСНА ЗАЈЕДНИЦА СТАНИШИЋ","СТАНИШИЋ","840","-","0000000186645","645","-","77","232","08889",2,"08873","08064822",8411,232,1,100274957]
[46300,"МЕСНА ЗАЈЕДНИЦА БЕЗДАН","БЕЗДАН","840","-","0000000399645","645","-","16","232","08881",2,"08873","08064865",8411,232,1,101837401]
[46300,"МЕСНА ЗАЈЕДНИЦА КЉАЈИЋЕВО","КЉАЈИЋЕВО","840","-","0000000523645","645","-","11","232","08884",2,"08873","08068178",8411,232,1,101844271]
[46300,"МЕСНА ЗАЈЕДНИЦА НОВА СЕЛЕНЧА","СОМБОР","840","-","0000000907645","645","-","80","232","08896",2,"08873","08167800",8411,232,1,101837225]
[46300,"СПОРТСКИ ЦЕНТАР СОКО","СОМБОР","840","-","0000000341664","664","-","38","232","08908",2,"08873","08600856",9311,232,1,100017393]
[46300,"КУЛТУРНИ ЦЕНТАР ЛАЗА КОСТИЋ","СОМБОР","840","-","0000000345664","664","-","66","232","08905",2,"08873","08621594",9329,232,1,100607225]
[46300,"СКУПШТИНА ГРАДА","СОМБОР","","-","","","-","","232","96012",1,"96012","08337152",8411,232,0,100123258]
[46310,"ДОМ ЗА СТАРЕ И ПЕНЗИОНЕРЕ АПАТИН","АПАТИН","840","-","0000000030661","661","-","04","601","00200",2,"13400","08063559",8730,203,1,100964974]
[46310,"ОСНОВНА ШКОЛА ЖАРКО ЗРЕЊАНИН","АПАТИН","840","-","0000000795660","660","-","27","601","01325",2,"13701","08063028",8520,203,1,101129122]
[46310,"СРЕДЊА ГРАЂЕВИНСКА И ДРВОПРЕРАЂИВАЧКА СТРУЧНА ШКОЛА АПАТИН","АПАТИН","840","-","0000000766660","660","-","18","601","02071",2,"13702","08062986",8532,203,1,100963057]
[46310,"ГИМНАЗИЈА НИКОЛА ТЕСЛА","АПАТИН","840","-","0000001173660","660","-","54","601","01770",2,"13702","08198250",8531,203,1,100963049]
[46310,"ОПШТИНА АПАТИН-БУЏЕТ","АПАТИН","840","-","0000000054640","640","-","41","203","08278",0,"08278","08350957",8411,203,0,101269416]
[46310,"МЕСНА ЗАЈЕДНИЦА АПАТИН","АПАТИН","840","-","0000000640645","645","-","54","203","08281",2,"08279","08063532",8411,203,1,100962886]
[46310,"УСТАНОВА ЗА СТРУЧНО ОСПОСОБЉАВАЊЕ ОДРАСЛИХ","АПАТИН","840","-","0000000163664","664","-","53","203","08289",2,"08279","08063575",8559,203,1,100963694]
[46310,"ТУРИСТИЧКА ОРГАНИЗАЦИЈА АПАТИН","АПАТИН","840","-","0000001177664","664","-","70","203","60690",2,"08279","08788332",8413,203,1,102896501]
[46310,"ПРАВОБРАНИЛАШТВО  ОПШТИНЕ АПАТИН","АПАТИН","","-","","","-","","203","92517",1,"92517","08350957",6910,203,0,101269416]
[46320,"ОСНОВНА ШКОЛА КОСТА СТАМЕНКОВИЋ СРПСКИ МИЛЕТИЋ","СРПСКИ МИЛЕТИЋ","840","-","0000001060660","660","-","39","601","01334",2,"13701","08007497",8520,224,1,101566770]
[46320,"ОСНОВНА ШКОЛА МАРКО ОРЕШКОВИЋ БАЧКИ ГРАЧАЦ","БАЧКИ ГРАЧАЦ","840","-","0000001064660","660","-","67","601","01335",2,"13701","08007535",8520,224,1,101565648]
[46320,"ОСНОВНА ШКОЛА ЈОЖЕФ АТИЛА БОГОЈЕВО","БОГОЈЕВО","840","-","0000001087660","660","-","34","601","01333",2,"13701","08007551",8520,224,1,101569792]
[46320,"ГИМНАЗИЈА И ЕКОНОМСКА ШКОЛА ЈОВАН ЈОВАНОВИЋ-ЗМАЈ ОЏАЦИ","ОЏАЦИ","840","-","0000001168660","660","-","19","601","01771",2,"13702","08199957",8531,224,1,101564877]
[46320,"МЕСНА ЗАЈЕДНИЦА ДЕРОЊЕ","ДЕРОЊЕ","840","-","0000000739645","645","-","68","224","08706",2,"08697","08008078",8411,224,1,101565427]
[46320,"МЕСНА ЗАЈЕДНИЦА КАРАВУКОВО","КАРАВУКОВО","840","-","0000000764645","645","-","49","224","08707",2,"08697","08008086",8411,224,1,101430006]
[46320,"МЕСНА ЗАЈЕДНИЦА СРПСКИ МИЛЕТИЋ","СРПСКИ МИЛЕТИЋ","840","-","0000000715645","645","-","94","224","08711",2,"08697","08008124",8411,224,1,101566788]
[46320,"БУЏЕТСКИ ФОНД ЗА ПОПУЛАЦИОНУ ПОЛИТИКУ ОПШТИНЕ ОЏАЦИ","ОЏАЦИ","","-","","","-","","224","62116",2,"08697","08327700",8411,224,1,101429168]
[46320,"УСТАНОВА ЗА ФИЗИЧКУ КУЛТУРУ СПОРТСКО ПОСЛОВНИ ЦЕНТАР ОЏАЦИ","ОЏАЦИ","840","-","0000000956664","664","-","75","224","80201",2,"08697","08581797",9311,224,1,101428899]
[46320,"ПРЕДСЕДНИК ОПШТИНЕ ОЏАЦИ","ОЏАЦИ","","-","","","-","","224","94801",1,"94801","08327700",8411,224,0,101429168]
[46320,"ОПШТИНСКО ПРАВОБРАНИЛАШТВО ОЏАЦИ","ОЏАЦИ","","-","","","-","","224","96020",1,"96020","08327700",6910,224,0,101429168]
[46400,"ЦЕНТАР ЗА СОЦИЈАЛНИ РАД САВА СРЕМСКА МИТРОВИЦА","СРЕМСКА МИТРОВИЦА","840","-","0000000275661","661","-","70","601","00314",2,"13400","08016046",8899,234,1,100588363]
[46400,"ОСНОВНА ШКОЛА СЛОБОДАН БАЈИЋ-ПАЈА","СРЕМСКА МИТРОВИЦА","840","-","0000000071660","660","-","03","601","01347",2,"13701","08015678",8520,234,1,100517522]
[46400,"ОСНОВНА ШКОЛА ТРИВА ВИТАСОВИЋ-ЛЕБАРНИК ЛАЋАРАК","СРЕМСКА МИТРОВИЦА","840","-","0000000147660","660","-","50","601","01348",2,"13701","08015724",8520,234,1,100800321]
[46400,"ОСНОВНА ШКОЛА СВЕТИ САВА СРЕМСКА МИТРОВИЦА","СРЕМСКА МИТРОВИЦА","840","-","0000000256660","660","-","37","601","01346",2,"13701","08558302",8520,234,1,100588398]
[46400,"МИТРОВАЧКА ГИМНАЗИЈА","СРЕМСКА МИТРОВИЦА","840","-","0000001215660","660","-","57","601","01772",2,"13702","08195242",8531,234,1,100517170]
[46400,"ОСНОВНИ СУД У СРЕМСКОЈ МИТРОВИЦИ","СРЕМСКА МИТРОВИЦА","","-","","","-","","601","80488",2,"30226","08864390",8423,234,5,106400484]
[46400,"ОСНОВНО ЈАВНО ТУЖИЛАШТВО У СРЕМСКОЈ МИТРОВИЦИ","СРЕМСКА МИТРОВИЦА","","-","","","-","","601","80538",2,"30229","08895988",8423,234,5,106400505]
[46400,"СРЕМСКИ УПРАВНИ ОКРУГ","СРЕМСКА МИТРОВИЦА","","-","","","-","","601","41108",1,"41108","08852499",8411,234,0,104171200]
[46400,"АПОТЕКА СРЕМСКА МИТРОВИЦА","СРЕМСКА МИТРОВИЦА","840","-","0000000469661","661","-","70","601","02643",2,"95000","08682895",4773,234,3,100800160]
[46400,"ГРАДСКО ПРАВОБРАНИЛАШТВО ГРАДА СРЕМСКА МИТРОВИЦА","СРЕМСКА МИТРОВИЦА","","-","","","-","","234","08929",1,"08929","08898774",6910,234,0,105935357]
[46400,"ГРАДОНАЧЕЛНИК ГРАДА СРЕМСКА МИТРОВИЦА","СРЕМСКА МИТРОВИЦА","","-","","","-","","234","09794",1,"09794","08898774",8411,234,0,105935357]
[46400,"МЕСНА ЗАЈЕДНИЦА ЧАЛМА","СРЕМСКА МИТРОВИЦА","840","-","0000000268645","645","-","69","234","08950",2,"09796","08016143",8411,234,1,100517161]
[46400,"МЕСНА ЗАЈЕДНИЦА СУТЈЕСКА","СРЕМСКА МИТРОВИЦА","840","-","0000000079645","645","-","07","234","08961",2,"09796","08016186",8411,234,1,101963110]
[46400,"МЕСНА ЗАЈЕДНИЦА 29. НОВЕМБАР","СРЕМСКА МИТРОВИЦА","840","-","0000000135645","645","-","11","234","08955",2,"09796","08016232",8411,234,1,100794206]
[46400,"МЕСНА ЗАЈЕДНИЦА МАНЂЕЛОС","СРЕМСКА МИТРОВИЦА","840","-","0000000531645","645","-","67","234","08941",2,"09796","08016275",8411,234,1,100799541]
[46400,"МЕСНА ЗАЈЕДНИЦА РАВЊЕ","СРЕМСКА МИТРОВИЦА","840","-","0000001782645","645","-","94","234","08945",2,"09796","08016291",8411,234,1,101424390]
[46400,"МЕСНА ЗАЈЕДНИЦА СТАРА БИНГУЛА","СРЕМСКА МИТРОВИЦА","840","-","0000000452645","645","-","96","234","08949",2,"09796","08016321",8411,234,1,102677929]
[46400,"МЕСНА ЗАЈЕДНИЦА НОЋАЈ","СРЕМСКА МИТРОВИЦА","840","-","0000000615645","645","-","73","234","08944",2,"09796","08077258",8411,234,1,100588873]
[46400,"МЕСНА ЗАЈЕДНИЦА ШАШИНЦИ","СРЕМСКА МИТРОВИЦА","840","-","0000000348645","645","-","47","234","08951",2,"09796","08105855",8411,234,1,100797825]
[46400,"МЕСНА ЗАЈЕДНИЦА САВА","СРЕМСКА МИТРОВИЦА","840","-","0000001968645","645","-","38","234","08959",2,"09796","08140812",8411,234,1,101964872]
[46400,"ГРАДСКА УПРАВА ЗА БУЏЕТ И ЛОКАЛНИ ЕКОНОМСКИ РАЗВОЈ","СРЕМСКА МИТРОВИЦА","","-","","","-","","234","09796",1,"09796","08898774",8411,234,0,105935357]
[46400,"МУЗЕЈ СРЕМА","СРЕМСКА МИТРОВИЦА","840","-","0000000108664","664","-","56","234","08970",2,"09800","08015872",9102,234,1,100519305]
[46400,"БИБЛИОТЕКА ГЛИГОРИЈЕ ВОЗАРОВИЋ","СРЕМСКА МИТРОВИЦА","840","-","0000000105664","664","-","35","234","08966",2,"09800","08015937",9101,234,1,100795160]
[46400,"ПОЗОРИШТЕ ДОБРИЦА МИЛУТИНОВИЋ","СРЕМСКА МИТРОВИЦА","840","-","0000000274664","664","-","54","234","08971",2,"09800","08016089",9004,234,1,100796775]
[46400,"ТУРИСТИЧКА ОРГАНИЗАЦИЈА ГРАДА СРЕМСКА МИТРОВИЦА","СРЕМСКА МИТРОВИЦА","840","-","0000001163664","664","-","69","234","80296",2,"09800","08896518",8413,234,1,105863680]
[46400,"СКУПШТИНА ГРАДА СРЕМСКА МИТРОВИЦА","СРЕМСКА МИТРОВИЦА","","-","","","-","","234","80432",1,"80432","08898774",8411,234,0,105935357]
[46400,"ГРАДСКА УПРАВА ЗА ОБРАЗОВАЊЕ","СРЕМСКА МИТРОВИЦА","","-","","","-","","234","80992",1,"80992","08898774",8411,234,0,105935357]
[46401,"ОСНОВНА ШКОЛА СЛОБОДАН БАЈИЋ-ПАЈА","ПЕЋИНЦИ","840","-","0000000754660","660","-","31","601","01351",2,"13701","08072043",8520,227,1,100399812]
[46401,"ДОМ ЗДРАВЉА ДР ДРАГАН ФУНДУК","ПЕЋИНЦИ","840","-","0000000151661","661","-","75","601","02495",2,"95000","08073210",8621,227,3,101510879]
[46401,"ОПШТИНСКО ПРАВОБРАНИЛАШТВО ОПШТИНЕ ПЕЋИНЦИ","ПЕЋИНЦИ","","-","","","-","","227","94808",1,"94808","08070628",6910,227,0,100399239]
[46401,"МЕСНА ЗАЈЕДНИЦА ОБРЕЖ","ПЕЋИНЦИ","840","-","0000000951645","645","-","97","227","08773",2,"96168","08076642",8411,227,1,101427988]
[46401,"МЕСНА ЗАЈЕДНИЦА ПЕЋИНЦИ","ПЕЋИНЦИ","840","-","0000001056645","645","-","56","227","08775",2,"96168","08078009",8411,227,1,101427494]
[46401,"МЕСНА ЗАЈЕДНИЦА СУБОТИШТЕ","ПЕЋИНЦИ","840","-","0000001663645","645","-","37","227","08780",2,"96168","08078041",8411,227,1,101426391]
[46401,"МЕСНА ЗАЈЕДНИЦА БРЕСТАЧ","ПЕЋИНЦИ","840","-","0000001248645","645","-","42","227","08768",2,"96168","08078190",8411,227,1,101510942]
[46401,"МЕСНА ЗАЈЕДНИЦА ПРХОВО","ПЕЋИНЦИ","840","-","0000001627645","645","-","76","227","08777",2,"96168","08078238",8411,227,1,101426158]
[46401,"КУЛТУРНИ ЦЕНТАР ПЕЋИНЦИ","ПЕЋИНЦИ","840","-","0000000304664","664","-","70","227","08783",2,"96168","08147256",8559,227,1,101426406]
[46410,"ЦЕНТАР ЗА СОЦИЈАЛНИ РАД ШИД","ШИД","840","-","0000000370661","661","-","56","601","00316",2,"13400","08133581",8899,237,1,100929273]
[46410,"ОСНОВНА ШКОЛА ЈОВАН ЈОВАНОВИЋ-ЗМАЈ","ШИД","840","-","0000001145660","660","-","52","601","01598",2,"13701","08117136",8520,237,1,101453747]
[46410,"ТЕХНИЧКА ШКОЛА НИКОЛА ТЕСЛА","ШИД","840","-","0000001203660","660","-","70","601","02079",2,"13702","08017263",8532,237,1,101417190]
[46410,"ОСНОВНИ СУД У ШИДУ","ШИД","","-","","","-","","601","91303",2,"30226","08945551",8423,237,5,108341495]
[46410,"ОПШТИНА ШИД-БУЏЕТ","ШИД","840","-","0000000055640","640","-","48","237","09058",0,"09058","08060983",8411,237,0,101233945]
[46410,"УСТАНОВА ЗА ФИЗИЧКУ КУЛТУРУ И СПОРТСКУ РЕКРЕАЦИЈИУ ПАРТИЗАН","ШИД","840","-","0000001097664","664","-","92","237","94913",2,"09059","08204535",9319,237,1,101417340]
[46410,"МУЗЕЈ НАИВНЕ УМЕТНОСТИ ИЛИЈАНУМ","ШИД","840","-","0000000428664","664","-","65","237","09092",2,"09059","08766100",9102,237,1,102096432]
[46410,"МЕСНА ЗАЈЕДНИЦА БАТРОВЦИ","ШИД","840","-","0000002057645","645","-","79","237","09071",2,"09059","08838992",8411,237,1,103794072]
[46410,"МЕСНА ЗАЈЕДНИЦА ВИШЊИЋЕВО","ШИД","840","-","0000001796645","645","-","95","237","09077",2,"09059","08839034",8411,237,1,103794110]
[46410,"МЕСНА ЗАЈЕДНИЦА ЕРДЕВИК","ШИД","840","-","0000000477645","645","-","77","237","09079",2,"09059","08839093",8411,237,1,103794144]
[46410,"МЕСНА ЗАЈЕДНИЦА БЕРКАСОВО","ШИД","840","-","0000001811645","645","-","06","237","09073",2,"09059","08839123",8411,237,1,103794097]
[46410,"МЕСНА ЗАЈЕДНИЦА БИНГУЛА","ШИД","840","-","0000001911645","645","-","27","237","09075",2,"09059","08839140",8411,237,1,103794089]
[46410,"ТУРИСТИЧКА ОРГАНИЗАЦИЈА ШИД","ШИД","840","-","0000001136664","664","-","74","237","80335",2,"09059","08898111",8413,237,1,105920154]
[46420,"ГЕРОНТОЛОШКИ ЦЕНТАР СРЕМ РУМА","РУМА","840","-","0000000311661","661","-","31","601","00201",2,"13400","08026548",8730,229,1,101338721]
[46420,"ЦЕНТАР ЗА СОЦИЈАЛНИ РАД ОПШТИНЕ ИРИГ","ИРИГ","840","-","0000000813661","661","-","53","601","80852",2,"13400","08919569",8899,213,1,106742209]
[46420,"ОСНОВНА ШКОЛА ВЕЉКО ДУГОШЕВИЋ","РУМА","840","-","0000000658660","660","-","38","601","01360",2,"13701","08026297",8520,229,1,100778530]
[46420,"ОСНОВНА ШКОЛА VI УДАРНА ВОЈВОЂАНСКА БРИГАДА ГРАБОВЦИ","РУМА","840","-","0000000775660","660","-","81","601","01358",2,"13701","08026351",8520,229,1,101340600]
[46420,"ОСНОВНА МУЗИЧКА ШКОЛА ТЕОДОР-ТОША АНДРЕЈЕВИЋ","РУМА","840","-","0000000976660","660","-","33","601","01651",2,"13701","08026475",8520,229,1,101339648]
[46420,"СРЕДЊА ТЕХНИЧКА ШКОЛА МИЛЕНКО БРЗАК-УЧА","РУМА","840","-","0000001010660","660","-","77","601","02082",2,"13702","08026416",8532,229,1,100782413]
[46420,"ГИМНАЗИЈА СТЕВАН ПУЗИЋ","РУМА","840","-","0000001253660","660","-","32","601","01774",2,"13702","08196109",8531,229,1,101341475]
[46420,"ОСНОВНИ СУД У РУМИ","РУМА","","-","","","-","","601","91296",2,"30226","08945527",8423,229,5,108341760]
[46420,"ОПШТИНА РУМА-БУЏЕТ","РУМА","840","-","0000000085640","640","-","64","229","08803",0,"08803","08026106",8411,229,0,101913980]
[46420,"ПРЕДШКОЛСКА УСТАНОВА ПОЛЕТАРАЦ","РУМА","840","-","0000000100661","661","-","09","229","08828",2,"08805","08026530",8891,229,1,101338617]
[46420,"ДРУГА МЕСНА ЗАЈЕДНИЦА БРЕГ","РУМА","840","-","0000001290645","645","-","45","229","08808",2,"08805","08026718",8411,229,1,101916597]
[46420,"МЕСНА ЗАЈЕДНИЦА СТЕЈАНОВЦИ","РУМА","840","-","0000000928645","645","-","33","229","08823",2,"08805","08026777",8411,229,1,101917348]
[46420,"МЕСНА ЗАЈЕДНИЦА КРАЉЕВЦИ","РУМА","840","-","0000001185645","645","-","86","229","08817",2,"08805","08026947",8411,229,1,100780182]
[46420,"МЕСНА ЗАЈЕДНИЦА НИКИНЦИ","РУМА","840","-","0000000859645","645","-","35","229","08819",2,"08805","08026955",8411,229,1,101917321]
[46420,"МЕСНА ЗАЈЕДНИЦА ДОЊИ ПЕТРОВЦИ","РУМА","840","-","0000001372645","645","-","37","229","08814",2,"08805","08026998",8411,229,1,101339744]
[46420,"ЗАВИЧАЈНИ МУЗЕЈ РУМА","РУМА","840","-","0000000359664","664","-","67","229","08830",2,"08805","08229694",9102,229,1,100783570]
[46420,"ГРАДСКА БИБЛИОТЕКА АТАНАСИЈЕ СТОЈКОВИЋ","РУМА","840","-","0000000363664","664","-","95","229","08829",2,"08805","08390860",9101,229,1,101341196]
[46420,"СКУПШТИНА ОПШТИНЕ РУМА","РУМА","","-","","","-","","229","92159",1,"92159","08026106",8411,229,0,101913980]
[46420,"СРПСКА ЧИТАОНИЦА У ИРИГУ","ИРИГ","840","-","0000000175664","664","-","40","213","08478",2,"08464","08032041",9101,213,1,101380980]
[46420,"МЕСНА ЗАЈЕДНИЦА ЈАЗАК","ИРИГ","840","-","0000000884645","645","-","16","213","08470",2,"08464","08032521",8411,213,1,101383652]
[46420,"МЕСНА ЗАЈЕДНИЦА ИРИГ","ИРИГ","840","-","0000000788645","645","-","23","213","08469",2,"08464","08032564",8411,213,1,101384014]
[46420,"МЕСНА ЗАЈЕДНИЦА КРУШЕДОЛСКИ ПРЊАВОР","ИРИГ","840","-","0000001329645","645","-","27","213","08472",2,"08464","08032572",8411,213,1,102125988]
[46420,"ТУРИСТИЧКА ОРГАНИЗАЦИЈА ОПШТИНЕ ИРИГ","ИРИГ","840","-","0000001185664","664","-","29","213","61741",2,"08464","08654913",8413,213,1,101384119]
[46600,"ОКРУЖНИ ЗАТВОР У СУБОТИЦИ","СУБОТИЦА","840","-","0000000402621","621","-","12","601","00037",2,"10311","08855951",8423,236,1,103698976]
[46600,"ДОМ ЗА ДЕЦУ ОМЕТЕНУ У РАЗВОЈУ КОЛЕВКА СУБОТИЦА","СУБОТИЦА","840","-","0000000109661","661","-","72","601","00168",2,"13400","08009317",8790,236,1,100958662]
[46600,"ОСНОВНА ШКОЛА ВУК КАРАЏИЋ БАЈМОК","СУБОТИЦА","840","-","0000000382660","660","-","46","601","01374",2,"13701","08008973",8520,236,1,101811292]
[46600,"ОСНОВНА ШКОЛА 10. ОКТОБАР","СУБОТИЦА","840","-","0000000326660","660","-","42","601","01370",2,"13701","08009023",8520,236,1,100846007]
[46600,"ОСНОВНА ШКОЛА ПЕТЕФИ ШАНДОР ХАЈДУКОВО","СУБОТИЦА","840","-","0000000395660","660","-","40","601","01386",2,"13701","08009066",8520,236,1,100849511]
[46600,"ОСНОВНА И СРЕДЊА ШКОЛА ЖАРКО ЗРЕЊАНИН","СУБОТИЦА","840","-","0000000177660","660","-","66","601","01599",2,"13701","08009112",8520,236,1,100850812]
[46600,"ОСНОВНА ШКОЛА ВЛАДИМИР НАЗОР ЂУРЂИН","СУБОТИЦА","840","-","0000000374660","660","-","87","601","01373",2,"13701","08009139",8520,236,1,100839673]
[46600,"ОСНОВНА ШКОЛА БОСА МИЛИЋЕВИЋ НОВИ ЖЕДНИК","СУБОТИЦА","840","-","0000000294660","660","-","12","601","01372",2,"13701","08065489",8520,236,1,100851629]
[46600,"ЕКОНОМСКА СРЕДЊА ШКОЛА БОСА МИЛИЋЕВИЋ","СУБОТИЦА","840","-","0000000493660","660","-","47","601","02083",2,"13702","08009155",8532,236,1,100838402]
[46600,"СРЕДЊА МЕДИЦИНСКА ШКОЛА","СУБОТИЦА","840","-","0000000436660","660","-","36","601","02084",2,"13702","08027323",8532,236,1,100446974]
[46600,"ХЕМИЈСКО-ТЕХНОЛОШКА  ШКОЛА СУБОТИЦА","СУБОТИЦА","840","-","0000001174660","660","-","61","601","02088",2,"13702","08122237",8532,236,1,100960681]
[46600,"ВИСОКА ШКОЛА СТРУКОВНИХ СТУДИЈА ЗА ОБРАЗОВАЊЕ ВАСПИТАЧА И ТРЕНЕРА - FELSOF.SZAKIR.OVOKEPZO ES EDZO SZA","СУБОТИЦА","840","-","0000000446660","660","-","09","601","02220",2,"13704","08058482",8542,236,1,100847552]
[46600,"СТУДЕНТСКО ОПОРАВИЛИШТЕ БЕОГРАД-ПАЛИЋ","СУБОТИЦА","","-","","","-","","601","02329",2,"13705","07028610",5590,236,1,101743613]
[46600,"ПРИВРЕДНИ СУД У СУБОТИЦИ","СУБОТИЦА","","-","","","-","","601","80506",2,"30227","08895902",8423,236,5,106400394]
[46600,"ВИШЕ ЈАВНО ТУЖИЛАШТВО У СУБОТИЦИ","СУБОТИЦА","","-","","","-","","601","80565",2,"30228","08896089",8423,236,5,106400417]
[46600,"РЕПУБЛИЧКИ ФОНД ЗА ЗДРАВСТВЕНО ОСИГУРАЊЕ - ФИЛИЈАЛА ЗА СЕВЕРНОБАЧКИ ОКРУГ","СУБОТИЦА","840","-","0000000015650","650","-","29","601","02675",4,"95000","06042945",8430,236,0,101288707]
[46600,"РЕПУБЛИЧКИ ФОНД ПИО-ФИЛИЈАЛА- СУБОТИЦА","СУБОТИЦА","840","-","0000000015652","652","-","23","601","00146",4,"95200","17715780",8430,236,0,105356542]
[46600,"ГРАД СУБОТИЦА-БУЏЕТ","СУБОТИЦА","840","-","0000000027640","640","-","46","236","08994",0,"08994","08070695",8411,236,0,100444843]
[46600,"ГРАДСКИ МУЗЕЈ СУБОТИЦА - SZABADKAI VAROSI MUZEUM","СУБОТИЦА","840","-","0000000102664","664","-","14","236","09051",2,"09693","08009244",9102,236,1,101753297]
[46600,"МЕСНА  ЗАЈЕДНИЦА ГАТ","СУБОТИЦА","840","-","0000000367645","645","-","83","236","09012",2,"09693","08009589",8411,236,1,101807979]
[46600,"МЕСНА ЗАЈЕДНИЦА ЖЕЛЕЗНИЧКО НАСЕЉЕ","СУБОТИЦА","840","-","0000000446645","645","-","54","236","09024",2,"09693","08009635",8411,236,1,100841046]
[46600,"МЕСНА ЗАЈЕДНИЦА РАДАНОВАЦ","СУБОТИЦА","840","-","0000000686645","645","-","85","236","09033",2,"09693","08009678",8411,236,1,101806111]
[46600,"МЕСНА ЗАЈЕДНИЦА ПАЛИЋ","СУБОТИЦА","840","-","0000000342645","645","-","05","236","09043",2,"09693","08009686",8411,236,1,100556377]
[46600,"МЕСНА ЗАЈЕДНИЦА КЕР","СУБОТИЦА","840","-","0000000419645","645","-","59","236","09026",2,"09693","08009724",8411,236,1,100444894]
[46600,"МЕСНА ЗАЈЕДНИЦА БАЧКИ ВИНОГРАДИ","СУБОТИЦА","840","-","0000000634645","645","-","12","236","09037",2,"09693","08009783",8411,236,1,100444755]
[46600,"ГРАДСКА УПРАВА СУБОТИЦА","СУБОТИЦА","","-","","","-","","236","09693",1,"09693","08070695",8411,236,0,100444843]
[46600,"БУЏЕТСКИ ФОНД ЗА СТИПЕНДИРАЊЕ СТУДЕНАТА СА ТЕРИТОРИЈЕ ГРАДА СУБОТИЦА","СУБОТИЦА","","-","","","-","","236","61413",2,"09693","08070695",8411,236,1,100444843]
[46600,"МЕСНА ЗАЈЕДНИЦА КЕРТВАРОШ","СУБОТИЦА","840","-","0000000021645","645","-","86","236","09027",2,"09693","08076286",8411,236,1,101623232]
[46600,"МЕСНА ЗАЈЕДНИЦА КЕЛЕБИЈА","СУБОТИЦА","840","-","0000000609645","645","-","31","236","09041",2,"09693","08076324",8411,236,1,100446564]
[46600,"МЕСНА ЗАЈЕДНИЦА СТАРИ ЖЕДНИК","СУБОТИЦА","840","-","0000000524645","645","-","18","236","09016",2,"09693","08104573",8411,236,1,101998407]
[46600,"МЕЂУОПШТИНСКИ ЗАВОД ЗА ЗАШТИТУ СПОМЕНИКА КУЛТУРЕ СУБОТИЦА","СУБОТИЦА","840","-","0000000302664","664","-","56","236","09056",2,"09693","08137455",9103,236,1,100838736]
[46600,"ЗООЛОШКИ ВРТ - ALATKERT ПАЛИЋ","СУБОТИЦА","840","-","0000000329664","664","-","51","236","09053",2,"09693","08170088",9104,236,1,100838970]
[46600,"МЕСНА ЗАЈЕДНИЦА ВИШЊЕВАЦ","СУБОТИЦА","840","-","0000003963645","645","-","35","236","09021",2,"09693","08777535",8411,236,1,102706154]
[46600,"ТУРИСТИЧКА ОРГАНИЗАЦИЈА ГРАДА СУБОТИЦЕ, TURIZMUS FEJLESTESI SZERVEZET SZABADKA","СУБОТИЦА","840","-","0000001111664","664","-","93","236","80809",2,"09693","08915733",8413,236,1,106571652]
[46600,"ГРАД СУБОТИЦА-СЛУЖБА ЗА ИНТЕРНУ РЕВИЗИЈУ ГРАДА СУБОТИЦЕ","СУБОТИЦА","","-","","","-","","236","63831",1,"63831","08070695",8411,236,0,100444843]
[46600,"КАНЦЕЛАРИЈА ЗА МЛАДЕ","СУБОТИЦА","","-","","","-","","236","85964",1,"85964","08070695",8411,236,0,100444843]
[46610,"ОСНОВНА ШКОЛА КАРОЛИНА КАРАС","КАЊИЖА","840","-","0000000800660","660","-","62","601","01391",2,"13701","08025398",8520,214,1,100789044]
[46610,"ПОЉОПРИВРЕДНО-ТЕХНИЧКИ СРЕДЊОШКОЛСКИ ЦЕНТАР БЕСЕДЕШ ЈОЖЕФ","КАЊИЖА","840","-","0000001179660","660","-","96","601","02089",2,"13702","08123934",8532,214,1,100871824]
[46610,"ДОМ ЗДРАВЉА  КАЊИЖА","КАЊИЖА","840","-","0000000396661","661","-","44","601","02499",2,"95000","08025266",8621,214,3,100870692]
[46610,"МЕСНА ЗАЈЕДНИЦА КАЊИЖА","КАЊИЖА","840","-","0000000804645","645","-","38","214","08486",2,"08480","08025690",8411,214,1,100788638]
[46610,"МЕСНА ЗАЈЕДНИЦА АДОРЈАН","КАЊИЖА","840","-","0000000851645","645","-","76","214","08484",2,"08480","08025746",8411,214,1,101106643]
[46610,"ОБРАЗОВНО-КУЛТУРНА УСТАНОВА ЦНЕСА","КАЊИЖА","840","-","0000001181660","660","-","13","214","01670",2,"08480","08126801",8559,214,1,100953289]
[46610,"МЕСНА ЗАЈЕДНИЦА ТОТОВО СЕЛО","КАЊИЖА","840","-","0000001411645","645","-","19","214","08490",2,"08480","08583412",8411,214,1,101106651]
[46610,"ОПШТИНСКО ПРАВОБРАНИЛАШТВО","КАЊИЖА","","-","","","-","","214","61094",1,"61094","08141231",6910,214,0,100871672]
[46610,"ОПШТИНСКО ВЕЋЕ","КАЊИЖА","","-","","","-","","214","61097",1,"61097","08141231",8411,214,0,100871672]
[46620,"ОСНОВНА ШКОЛА МОША ПИЈАДЕ ПАЧИР","БАЧКА ТОПОЛА","840","-","0000000921660","660","-","36","601","01401",2,"13701","08032912",8520,206,1,101444408]
[46620,"ОСНОВНА ШКОЛА ДОЖА ЂЕРЂ ГУНАРОШ","БАЧКА ТОПОЛА","840","-","0000000930660","660","-","02","601","01400",2,"13701","08032939",8520,206,1,101444133]
[46620,"ОСНОВНА ШКОЛА ВУК КАРАЏИЋ ЛОВЋЕНАЦ","МАЛИ ИЂОШ","840","-","0000000895660","660","-","48","601","01399",2,"13701","08055661",8520,219,1,101435026]
[46620,"ОСНОВНА ШКОЛА ВУК КАРАЏИЋ КРИВАЈА","БАЧКА ТОПОЛА","840","-","0000000934660","660","-","30","601","01398",2,"13701","08061815",8520,206,1,101443920]
[46620,"ГИМНАЗИЈА И ЕКОНОМСКА ШКОЛА ДОСИТЕЈ ОБРАДОВИЋ БАЧКА ТОПОЛА","БАЧКА ТОПОЛА","840","-","0000001068660","660","-","95","601","01777",2,"13702","08207895",8531,206,1,101445257]
[46620,"ДОМ ЗДРАВЉА ДР МАРТОН ШАНДОР","МАЛИ ИЂОШ","840","-","0000000245661","661","-","54","601","02500",2,"95000","08051224",8621,219,3,101435552]
[46620,"МЕСНА ЗАЈЕДНИЦА ФЕКЕТИЋ","МАЛИ ИЂОШ","840","-","0000000993645","645","-","03","219","08602",2,"08597","08051305",8411,219,1,101435286]
[46620,"БУЏЕТСКИ ФОНД ЗА ЗАШТИТУ ЖИВОТНЕ СРЕДИНЕ ОПШТИНЕ МАЛИ ИЂОШ","МАЛИ ИЂОШ","","-","","","-","","219","80821",2,"08597","08695059",8411,219,1,101434697]
[46620,"ОПШТИНА МАЛИ ИЂОШ - ОПШТИНСКО ПРАВОБРАНИЛАШТВО","МАЛИ ИЂОШ","","-","","","-","","219","62091",1,"62091","08695059",6910,219,0,101434697]
[46620,"ОПШТИНА МАЛИ ИЂОШ-ФОНД ЗА ЗАШТИТУ ЖИВОТНЕ СРЕДИНЕ","МАЛИ ИЂОШ","","-","","","-","","219","65930",1,"65930","08695059",8411,219,0,101434697]
[46620,"МЕСНА ЗАЈЕДНИЦА БАЈША","БАЧКА ТОПОЛА","840","-","0000001163645","645","-","29","206","08339",2,"08332","08033137",8411,206,1,101580877]
[46620,"ПРЕДШКОЛСКА УСТАНОВА ЗА ДЕЦУ БАМБИ","БАЧКА ТОПОЛА","840","-","0000000253661","661","-","13","206","08354",2,"08332","08061823",8891,206,1,101443770]
[46620,"МЕСНА ЗАЈЕДНИЦА ПАЧИР","БАЧКА ТОПОЛА","840","-","0000000950645","645","-","90","206","08350",2,"08332","08076774",8411,206,1,102124797]
[46620,"МЕСНА ЗАЈЕДНИЦА БАЧКИ СОКОЛАЦ","БАЧКА ТОПОЛА","840","-","0000001077645","645","-","09","206","08341",2,"08332","08076804",8411,206,1,101445562]
[46620,"БИБЛИОТЕКА ЕРЖЕБЕТ ЈУХАС- ЈУХАСЗ ЕРЗСЕБЕТ КОНYВТАР","БАЧКА ТОПОЛА","840","-","0000000258664","664","-","39","206","08355",2,"08332","08214271",9101,206,1,101443899]
[46620,"ТУРИСТИЧКА ОРГАНИЗАЦИЈА ОПШТИНЕ БАЧКА ТОПОЛА","БАЧКА ТОПОЛА","840","-","0000001114664","664","-","17","206","09890",2,"08332","08848289",7911,206,1,104018024]
[46620,"ОПШТИНСКО ВЕЋЕ","БАЧКА ТОПОЛА","","-","","","-","","206","94435",1,"94435","08070555",8411,206,0,101582899]
[46620,"ОПШТИНСКО ПРАВОБРАНИЛАШТВО","БАЧКА ТОПОЛА","","-","","","-","","206","96251",1,"96251","08070555",6910,206,0,101582899]
[46630,"ЦЕНТАР ЗА СОЦИЈАЛНИ РАД ЗА ОПШТИНУ ЧОКА","ЧОКА","840","-","0000000707661","661","-","87","601","00343",2,"13400","08787905",8899,211,1,102915296]
[46630,"ШКОЛА ЗА ОСНОВНО МУЗИЧКО ОБРАЗОВАЊЕ И ВАСПИТАЊЕ БАРТОК БЕЛА","АДА","840","-","0000000505660","660","-","34","601","01654",2,"13701","08018472",8520,201,1,101482293]
[46630,"ОСНОВНА МУЗИЧКА ШКОЛА СТЕВАН МОКРАЊАЦ","СЕНТА","840","-","0000000807660","660","-","14","601","01655",2,"13701","08594457",8520,231,1,101104424]
[46630,"ХЕМИЈСКО-ПРЕХРАМБЕНА СРЕДЊА ШКОЛА ЧОКА","ЧОКА","840","-","0000000700660","660","-","41","601","02095",2,"13702","08204055",8532,211,1,101417487]
[46630,"ОСНОВНО ЈАВНО ТУЖИЛАШТВО У СЕНТИ","СЕНТА","","-","","","-","","601","91344",2,"30229","08945616",8423,231,5,108348038]
[46630,"ДОМ ЗДРАВЉА ЧОКА","ЧОКА","840","-","0000000095661","661","-","71","601","02502",2,"95000","08150648",8621,211,3,101417964]
[46630,"РЕПУБЛИЧКИ ФОНД ПИО-ФИЛИЈАЛА- СЕНТА","СЕНТА","840","-","0000000012652","652","-","02","601","00147",4,"95200","17715780",8430,231,0,105356542]
[46630,"ОПШТИНА СЕНТА-БУЏЕТ","СЕНТА","840","-","0000000024640","640","-","25","231","08857",0,"08857","08038490",8411,231,0,102692306]
[46630,"КУЛТУРНО ОБРАЗОВНИ ЦЕНТАР THURZO LAJOS СЕНТА","СЕНТА","840","-","0000000099664","664","-","90","231","08871",2,"08858","08114064",8559,231,1,101104328]
[46630,"МЕСНА ЗАЈЕДНИЦА ТОРЊОШ ТОРЊОШ","СЕНТА","840","-","0000000757645","645","-","97","231","08867",2,"08858","08737223",8411,231,1,101103384]
[46630,"ЗАВИЧАЈНА ФОНДАЦИЈА СТЕВАН СРЕМАЦ","СЕНТА","840","-","0000000562644","644","-","93","231","10017",2,"08858","08852456",6499,231,1,104193707]
[46630,"СЕНЋАНСКО МАЂАРСКО КАМЕРНО ПОЗОРИШТЕ - ZENTAI MAGYAR KAMARASZINHAZ","СЕНТА","840","-","0000001030664","664","-","11","231","80850",2,"08858","08903441",9003,231,1,106078613]
[46630,"СЛУЖБА ЗА БУЏЕТСКУ ИНСПЕКЦИЈУ ОПШТИНЕ СЕНТА","СЕНТА","","-","","","-","","231","96002",1,"96002","08038490",8411,231,0,102692306]
[46630,"ПРЕДШКОЛСКА УСТАНОВА РАДОСТ","ЧОКА","840","-","0000000082661","661","-","77","211","08442",2,"08431","08017859",8891,211,1,101418684]
[46630,"МЕСНА ЗАЈЕДНИЦА ЈАЗОВО","ЧОКА","840","-","0000000522645","645","-","04","211","08437",2,"08431","08018197",8411,211,1,101761875]
[46630,"МЕСНА ЗАЈЕДНИЦА ЦРНА БАРА","ЧОКА","840","-","0000000444645","645","-","40","211","08441",2,"08431","08018235",8411,211,1,101762232]
[46630,"СКУПШТИНА ОПШТИНЕ ЧОКА","ЧОКА","","-","","","-","","211","84478",1,"84478","08381984",8411,211,0,101417479]
[46630,"БИБЛИОТЕКА САРВАШ ГАБОР","АДА","840","-","0000000094664","664","-","55","201","08253",2,"08245","08018529",9101,201,1,100985920]
[46630,"МЕСНА ЗАЈЕДНИЦА УТРИНЕ","АДА","840","-","0000000181645","645","-","42","201","08249",2,"08245","08018642",8411,201,1,100982583]
[46630,"ЦЕНТАР ЗА СПОРТ И ФИЗИЧКУ КУЛТУРУ ОПШТИНЕ АДА-АДА КОЗСЕГ СПОРТ ЕС ТЕСТНЕВЕЛЕСИ КОЗПОНТЈА-У ЛИКВИДАЦИЈИ","АДА","840","-","0000000763664","664","-","82","201","08254",2,"08245","08082707",9319,201,1,100982647]
[46630,"СКУПШТИНА ОПШТИНЕ АДА","АДА","","-","","","-","","201","96320",1,"96320","08070636",8411,201,0,100985430]
[46700,"ЦЕНТАР ЗА СОЦИЈАЛНИ РАД СРБОБРАН","СРБОБРАН","840","-","0000000694661","661","-","93","601","00325",2,"13400","08839638",8899,233,1,101813964]
[46700,"ОСНОВНА ШКОЛА СВЕТОЗАР МИЛЕТИЋ","ВРБАС","840","-","0000000128660","660","-","14","601","01424",2,"13701","08006989",8520,240,1,101419785]
[46700,"ОСНОВНА ШКОЛА БРАТСТВО-ЈЕДИНСТВО","ВРБАС","840","-","0000000148660","660","-","57","601","01415",2,"13701","08006997",8520,240,1,100641916]
[46700,"ОСНОВНА ШКОЛА 20. ОКТОБАР","ВРБАС","840","-","0000000258660","660","-","51","601","01412",2,"13701","08007047",8520,240,1,100640778]
[46700,"ОСНОВНА ШКОЛА ЖАРКО ЗРЕЊАНИН-УЧА НАДАЉ","СРБОБРАН","840","-","0000001415660","660","-","02","601","01419",2,"13701","08013268",8520,233,1,101867337]
[46700,"ОСНОВНИ СУД У ВРБАСУ","ВРБАС","","-","","","-","","601","91280",2,"30226","08945519",8423,240,5,108341366]
[46700,"ДОМ ЗДРАВЉА ДР ЂОРЂЕ БАСТИЋ","СРБОБРАН","840","-","0000000532661","661","-","26","601","02504",2,"95000","08160252",8621,233,3,101424461]
[46700,"ДОМ ЗДРАВЉА ВЕЉКО ВЛАХОВИЋ ВРБАС","ВРБАС","840","-","0000000788661","661","-","72","601","80243",2,"95000","08888779",8621,240,3,105592297]
[46700,"МЕСНА ЗАЈЕДНИЦА РАВНО СЕЛО","ВРБАС","840","-","0000000080645","645","-","14","240","09130",2,"09122","08007268",8411,240,1,100635858]
[46700,"МЕСНА ЗАЈЕДНИЦА САВИНО СЕЛО","ВРБАС","840","-","0000000053645","645","-","19","240","09131",2,"09122","08073309",8411,240,1,100637520]
[46700,"МЕСНА ЗАЈЕДНИЦА ЗМАЈЕВО","ВРБАС","840","-","0000000006645","645","-","78","240","09128",2,"09122","08073317",8411,240,1,100640108]
[46700,"ПРВА МЕСНА ЗАЈЕДНИЦА","ВРБАС","840","-","0000000532645","645","-","74","240","09132",2,"09122","08621411",8411,240,1,100636078]
[46700,"СКУПШТИНА ОПШТИНЕ ВРБАС","ВРБАС","","-","","","-","","240","92375",1,"92375","08285071",8411,240,0,100636230]
[46700,"ОПШТИНСКА УПРАВА СРБОБРАН","СРБОБРАН","","-","","","-","","233","08910",1,"08910","08013438",8411,233,0,108490328]
[46700,"УСТАНОВА ЗА ПРЕДШКОЛСКО ВАСПИТАЊЕ И ОБРАЗОВАЊЕ РАДОСТ","СРБОБРАН","840","-","0000000484661","661","-","78","233","08920",2,"08910","08067554",8891,233,1,101867579]
[46700,"МЕСНА ЗАЈЕДНИЦА СРБОБРАН","СРБОБРАН","840","-","0000001883645","645","-","25","233","08917",2,"08910","08198420",8411,233,1,101813972]
[46700,"ПРЕДСЕДНИК ОПШТИНЕ СРБОБРАН","СРБОБРАН","","-","","","-","","233","91814",1,"91814","08013438",8411,233,0,108490328]
[46710,"ДОМ ЗА СТАРЕ И ПЕНЗИОНЕРЕ КУЛА","КУЛА","840","-","0000000156661","661","-","13","601","00205",2,"13400","08171556",8730,218,1,100262942]
[46710,"ОСНОВНА ШКОЛА ИСА БАЈИЋ","КУЛА","840","-","0000000340660","660","-","43","601","01428",2,"13701","08005133",8520,218,1,100661706]
[46710,"ОСНОВНА ШКОЛА НИКОЛА ТЕСЛА ЛИПАР","КУЛА","840","-","0000000375660","660","-","94","601","01429",2,"13701","08005192",8520,218,1,100263130]
[46710,"СРЕДЊА СТРУЧНА ШКОЛА ЦРВЕНКА","КУЛА","840","-","0000000702660","660","-","55","601","02097",2,"13702","08005206",8532,218,1,100590768]
[46710,"КУЛТУРНИ ЦЕНТАР КУЛА","КУЛА","840","-","0000000092664","664","-","41","218","08594",2,"08576","08004510",9004,218,1,100263197]
[46710,"ПРЕДШКОЛСКА УСТАНОВА БАМБИ","КУЛА","840","-","0000000049661","661","-","40","218","08590",2,"08576","08004935",8891,218,1,100261597]
[46710,"МЕСНА ЗАЈЕДНИЦА ЦРВЕНКА","КУЛА","840","-","0000000188645","645","-","91","218","08588",2,"08576","08005508",8411,218,1,100584071]
[46710,"МЕСНА ЗАЈЕДНИЦА НОВА ЦРВЕНКА","КУЛА","840","-","0000000295645","645","-","64","218","08585",2,"08576","08005575",8411,218,1,100585445]
[46710,"МЕСНА ЗАЈЕДНИЦА ГОРЊИ ГРАД","КУЛА","840","-","0000000425645","645","-","04","218","08582",2,"08576","08583161",8411,218,1,100261247]
[46710,"СПОРТСКИ ЦЕНТАР ЦРВЕНКА","КУЛА","840","-","0000000916664","664","-","86","218","80011",2,"08576","08859159",9311,218,1,104425063]
[46710,"БУЏЕТСКИ ФОНД ЗА ЗАШТИТУ ЖИВОТНЕ СРЕДИНЕ ОПШТИНЕ КУЛА","КУЛА","","-","","","-","","218","65832",1,"65832","08368660",8411,218,0,100260889]
[46720,"ГЕРОНТОЛОШКИ ЦЕНТАР БЕЧЕЈ","БЕЧЕЈ","840","-","0000000439661","661","-","54","601","00206",2,"13400","08083657",8730,208,1,101981118]
[46720,"ШКОЛА ЗА ОСНОВНО И СРЕДЊЕ ОБРАЗОВАЊЕ БРАТСТВО","БЕЧЕЈ","840","-","0000001334660","660","-","17","601","01601",2,"13701","08069786",8520,208,1,100737783]
[46720,"ОСНОВНА ШКОЛА ШАМУ МИХАЉ БАЧКО ПЕТРОВО СЕЛО","БЕЧЕЈ","840","-","0000001550660","660","-","74","601","01437",2,"13701","08069867",8520,208,1,100741618]
[46720,"ТЕХНИЧКА ШКОЛА БЕЧЕЈ","БЕЧЕЈ","840","-","0000001574660","660","-","48","601","02101",2,"13702","08069760",8532,208,1,100434831]
[46720,"ПРЕКРШАЈНИ СУД У БЕЧЕЈУ","БЕЧЕЈ","","-","","","-","","601","80580",2,"30233","08896119",8423,208,5,106398794]
[46720,"МЕСНА ЗАЈЕДНИЦА РАДИЧЕВИЋ","БЕЧЕЈ","840","-","0000001345645","645","-","42","208","08377",2,"08372","08052034",8411,208,1,100742694]
[46720,"МЕСНА ЗАЈЕДНИЦА ТОДОР ДУКИН","БЕЧЕЈ","840","-","0000001240645","645","-","83","208","08382",2,"08372","08062846",8411,208,1,100742643]
[46720,"МЕСНА ЗАЈЕДНИЦА 8. ОКТОБАР БАЧКО ПЕТРОВО СЕЛО","БЕЧЕЈ","840","-","0000001284645","645","-","03","208","08378",2,"08372","08076871",8411,208,1,100742426]
[46720,"УСТАНОВА ЗА СПОРТСКУ И КУЛТУРНУ АКТИВНОСТ ОМЛАДИНЕ БЕЧЕЈ ЂОРЂЕ ПРЕДИН-БАЏА","БЕЧЕЈ","840","-","0000000492664","664","-","28","208","08387",2,"08372","08162115",9311,208,1,100737871]
[46720,"ТУРИСТИЧКА ОРГАНИЗАЦИЈА ОПШТИНЕ БЕЧЕЈ","БЕЧЕЈ","840","-","0000000910664","664","-","44","208","10056",2,"08372","08851247",6311,208,1,104141100]
[46720,"СКУПШТИНА ОПШТИНЕ БЕЧЕЈ","БЕЧЕЈ","","-","","","-","","208","96341",1,"96341","08359466",8411,208,0,100742635]
[46720,"ОПШТИНСКО ВЕЋЕ ОПШТИНЕ БЕЧЕЈ","БЕЧЕЈ","","-","","","-","","208","96343",1,"96343","08359466",8411,208,0,100742635]
[46800,"ОСНОВНА ШКОЛА ЂУРА ЈАКШИЋ ПАВЛИШ","ВРШАЦ","840","-","0000000197660","660","-","12","601","01442",2,"13701","08010595",8520,241,1,102084105]
[46800,"ОСНОВНА ШКОЛА БРАНКО РАДИЧЕВИЋ ВЕЛИКО СРЕДИШТЕ","ВРШАЦ","840","-","0000000241660","660","-","29","601","01438",2,"13701","08010641",8520,241,1,102084197]
[46800,"ОСНОВНА ШКОЛА МОША ПИЈАДЕ ГУДУРИЦА","ВРШАЦ","840","-","0000000179660","660","-","80","601","01449",2,"13701","08010650",8520,241,1,100914119]
[46800,"ОСНОВНА ШКОЛА ВУК КАРАЏИЋ ВРШАЦ","ВРШАЦ","840","-","0000000056660","660","-","92","601","01440",2,"13701","08010692",8520,241,1,100515623]
[46800,"ОСНОВНА ШКОЛА ЈОВАН ЈОВАНОВИЋ-ЗМАЈ ХАЈДУЧИЦА","ПЛАНДИШТЕ","840","-","0000000989660","660","-","27","601","01444",2,"13701","08617635",8520,228,1,101237952]
[46800,"ШКОЛСКИ ЦЕНТАР НИКОЛА ТЕСЛА","ВРШАЦ","840","-","0000000813660","660","-","56","601","02103",2,"13702","08114803",8532,241,1,102084742]
[46800,"ВИСОКА ШКОЛА СТРУКОВНИХ СТУДИЈА ЗА ВАСПИТАЧЕ ВРШАЦ","ВРШАЦ","840","-","0000000028660","660","-","90","601","02221",2,"13704","08038830",8542,241,1,100913781]
[46800,"ОСНОВНО ЈАВНО ТУЖИЛАШТВО У ВРШЦУ","ВРШАЦ","","-","","","-","","601","80514",2,"30229","08895929",8423,241,5,106400159]
[46800,"ДОМ ЗДРАВЉА 1. ОКТОБАР","ПЛАНДИШТЕ","840","-","0000000157661","661","-","20","601","02508",2,"95000","08044899",8621,228,3,101238896]
[46800,"ГРАД ВРШАЦ","ВРШАЦ","840","-","0000000014640","640","-","52","241","09138",0,"09138","08267944",8411,241,0,100912619]
[46800,"НАРОДНО ПОЗОРИШТЕ СТЕРИЈА","ВРШАЦ","840","-","0000000047664","664","-","17","241","09176",2,"09139","08010226",9004,241,1,102083723]
[46800,"МЕСНА ЗАЈЕДНИЦА ОРЕШАЦ","ВРШАЦ","840","-","0000000635645","645","-","19","241","09156",2,"09139","08010374",8411,241,1,102084646]
[46800,"МЕСНА ЗАЈЕДНИЦА КУШТИЉ","ВРШАЦ","840","-","0000000343645","645","-","12","241","09151",2,"09139","08010439",8411,241,1,102083887]
[46800,"МЕСНА ЗАЈЕДНИЦА УЉМА","ВРШАЦ","840","-","0000000236645","645","-","39","241","09163",2,"09139","08010480",8411,241,1,102083900]
[46800,"МЕСНА ЗАЈЕДНИЦА ПАРТА","ВРШАЦ","840","-","0000000923645","645","-","95","241","09158",2,"09139","08044945",8411,241,1,100514761]
[46800,"МЕСНА ЗАЈЕДНИЦА ВАТИН","ВРШАЦ","840","-","0000000447645","645","-","61","241","09142",2,"09139","08044961",8411,241,1,100593919]
[46800,"МЕСНА ЗАЈЕДНИЦА ВОЈВОДИНЦИ","ВРШАЦ","840","-","0000000368645","645","-","90","241","09145",2,"09139","08044996",8411,241,1,100915662]
[46800,"МЕСНА ЗАЈЕДНИЦА ЖАРКО ЗРЕЊАНИН","ВРШАЦ","840","-","0000001285645","645","-","10","241","09168",2,"09139","08119449",8411,241,1,100593880]
[46800,"МЕСНА ЗАЈЕДНИЦА ПАЈА ЈОВАНОВИЋ","ВРШАЦ","840","-","0000001265645","645","-","64","241","09170",2,"09139","08119457",8411,241,1,100593898]
[46800,"ГРАД ВРШАЦ - ГРАДСКА УПРАВА","ВРШАЦ","","-","","","-","","241","09139",1,"09139","08267944",8411,241,0,100912619]
[46800,"ТУРИСТИЧКА ОРГАНИЗАЦИЈА ВРШАЦ","ВРШАЦ","840","-","0000000893664","664","-","22","241","09870",2,"09139","08845263",5520,241,1,103887435]
[46800,"МЕСНА ЗАЈЕДНИЦА ПЛАНДИШТЕ","ПЛАНДИШТЕ","840","-","0000000022645","645","-","93","228","08797",2,"08785","08030090",8411,228,1,101238142]
[46800,"МЕСНА ЗАЈЕДНИЦА КУПИНИК","ПЛАНДИШТЕ","840","-","0000000129645","645","-","66","228","08793",2,"08785","08030391",8411,228,1,101239389]
[46800,"МЕСНА ЗАЈЕДНИЦА ЈЕРМЕНОВЦИ","ПЛАНДИШТЕ","840","-","0000000183645","645","-","56","228","08792",2,"08785","08030413",8411,228,1,101239071]
[46800,"МЕСНА ЗАЈЕДНИЦА БАРИЦЕ","ПЛАНДИШТЕ","840","-","0000000208645","645","-","37","228","08788",2,"08785","08030448",8411,228,1,101239469]
[46800,"ОПШТИНА ПЛАНДИШТЕ - СКУПШТИНА ОПШТИНЕ","ПЛАНДИШТЕ","","-","","","-","","228","66317",1,"66317","08057567",8411,228,0,102002904]
[46800,"ОПШТИНА ПЛАНДИШТЕ-ПРЕДСЕДНИК ОПШТИНЕ","ПЛАНДИШТЕ","","-","","","-","","228","66318",1,"66318","08057567",8411,228,0,102002904]
[46810,"ОСНОВНА ШКОЛА ЂОРЂЕ МАЛЕТИЋ ЈАСЕНОВО","БЕЛА ЦРКВА","840","-","0000000652660","660","-","93","601","01454",2,"13701","08031231",8520,209,1,100867897]
[46810,"ОСНОВНА ШКОЛА МИХАИЛ САДОВАНУ ГРЕБЕНАЦ","БЕЛА ЦРКВА","840","-","0000000647660","660","-","58","601","01457",2,"13701","08031339",8520,209,1,100865352]
[46810,"ДОМ ЗДРАВЉА БЕЛА ЦРКВА","БЕЛА ЦРКВА","840","-","0000000103661","661","-","30","601","02509",2,"95000","08031428",8621,209,3,100864392]
[46810,"МЕСНА ЗАЈЕДНИЦА ДОБРИЧЕВО","БЕЛА ЦРКВА","840","-","0000001158645","645","-","91","209","08398",2,"08390","08031193",8411,209,1,102912255]
[46810,"МЕСНА ЗАЈЕДНИЦА ВРАЧЕВ ГАЈ","БЕЛА ЦРКВА","840","-","0000001115645","645","-","81","209","08396",2,"08390","08031215",8411,209,1,100865512]
[46810,"МЕСНА ЗАЈЕДНИЦА КРУШЧИЦА","БЕЛА ЦРКВА","840","-","0000001094645","645","-","31","209","08403",2,"08390","08031541",8411,209,1,100868011]
[46810,"МЕСНА ЗАЈЕДНИЦА ЧЕШКО СЕЛО","БЕЛА ЦРКВА","840","-","0000004075645","645","-","43","209","80034",2,"08390","08031614",8411,209,1,104538731]
[46810,"МЕСНА ЗАЈЕДНИЦА ДУПЉАЈА","БЕЛА ЦРКВА","840","-","0000001220645","645","-","40","209","08399",2,"08390","08049700",8411,209,1,100868183]
[46810,"ОПШТИНСКА УПРАВА БЕЛА ЦРКВА","БЕЛА ЦРКВА","","-","","","-","","209","08390",1,"08390","08108005",8411,209,0,100868214]
[46810,"ТУРИСТИЧКА ОРГАНИЗАЦИЈА ОПШТИНЕ БЕЛА ЦРКВА","БЕЛА ЦРКВА","840","-","0000001232664","664","-","67","209","66075",2,"08390","08794278",8413,209,1,103013873]
[46900,"МУП - ПОЛИЦИЈСКА УПРАВА ЗРЕЊАНИН","ЗРЕЊАНИН","840","-","0000000206621","621","-","95","601","00069",4,"10600","07008104",8424,242,0,100184116]
[46900,"ОСНОВНА ШКОЛА ДР БОШКО ВРЕБАЛОВ МЕЛЕНЦИ","ЗРЕЊАНИН","840","-","0000000259660","660","-","58","601","01468",2,"13701","08001146",8520,242,1,101763733]
[46900,"ОСНОВНА ШКОЛА ПЕТАР ПЕТРОВИЋ ЊЕГОШ","ЗРЕЊАНИН","840","-","0000001025660","660","-","85","601","01478",2,"13701","08002088",8520,242,1,100903361]
[46900,"ОСНОВНА ШКОЛА СЕРВО МИХАЉ","ЗРЕЊАНИН","840","-","0000000327660","660","-","49","601","01481",2,"13701","08002134",8520,242,1,100903290]
[46900,"ОСНОВНА И СРЕДЊА ШКОЛА 9. МАЈ","ЗРЕЊАНИН","840","-","0000000957660","660","-","94","601","01603",2,"13701","08069123",8520,242,1,100903595]
[46900,"ОСНОВНА ШКОЛА ДР АЛЕКСАНДАР САБОВЉЕВ ЕЧКА","ЗРЕЊАНИН","840","-","0000001197660","660","-","28","601","01467",2,"13701","08116598",8520,242,1,101763678]
[46900,"ОСНОВНА ШКОЛА 2. ОКТОБАР","ЗРЕЊАНИН","840","-","0000001193660","660","-","97","601","01470",2,"13701","08116687",8520,242,1,100654555]
[46900,"ОСНОВНА ШКОЛА СТЕВАН КНИЋАНИН КНИЋАНИН","ЗРЕЊАНИН","840","-","0000001302660","660","-","84","601","01484",2,"13701","08220662",8520,242,1,101763901]
[46900,"ОСНОВНА ШКОЛА БРАНКО ЋОПИЋ ЛУКИЋЕВО","ЗРЕЊАНИН","840","-","0000001373660","660","-","96","601","01461",2,"13701","08617350",8520,242,1,100903642]
[46900,"ОСНОВНА ШКОЛА МЛАДОСТ ТОМАШЕВАЦ","ЗРЕЊАНИН","840","-","0000001375660","660","-","13","601","01476",2,"13701","08619824",8520,242,1,101763725]
[46900,"СРЕДЊА ПОЉОПРИВРЕДНА ШКОЛА ЗРЕЊАНИН","ЗРЕЊАНИН","840","-","0000000959660","660","-","11","601","02110",2,"13702","08069204",8532,242,1,100654563]
[46900,"ТЕХНИЧКА ШКОЛА ЗРЕЊАНИН","ЗРЕЊАНИН","840","-","0000001265660","660","-","19","601","02112",2,"13702","08069212",8532,242,1,101161322]
[46900,"МЕДИЦИНСКА ШКОЛА ЗРЕЊАНИН","ЗРЕЊАНИН","840","-","0000000383660","660","-","53","601","02108",2,"13702","08097194",8532,242,1,101162464]
[46900,"ХЕМИЈСКО-ПРЕХРАМБЕНА И ТЕКСТИЛНА ШКОЛА УРОШ ПРЕДИЋ","ЗРЕЊАНИН","840","-","0000001261660","660","-","88","601","02111",2,"13702","08113670",8532,242,1,101162294]
[46900,"ЕКОНОМСКО ТРГОВИНСКА ШКОЛА ЈОВАН ТРАЈКОВИЋ","ЗРЕЊАНИН","840","-","0000001259660","660","-","74","601","02107",2,"13702","08114277",8532,242,1,101165258]
[46900,"ЕЛЕКТРОТЕХНИЧКА И ГРАЂЕВИНСКА ШКОЛА НИКОЛА ТЕСЛА","ЗРЕЊАНИН","840","-","0000001257660","660","-","60","601","02106",2,"13702","08158177",8532,242,1,100651874]
[46900,"ДОМ УЧЕНИКА СРЕДЊИХ ШКОЛА АНГЕЛИНА КОЈИЋ-ГИНА ЗРЕЊАНИН","ЗРЕЊАНИН","840","-","0000000010661","661","-","58","601","00170",2,"13703","08002339",5590,242,1,101163826]
[46900,"ТЕХНИЧКИ ФАКУЛТЕТ МИХАЈЛО ПУПИН","ЗРЕЊАНИН","840","-","0000001271660","660","-","61","601","02258",2,"13704","08166161",8542,242,1,101161200]
[46900,"ВИСОКА ТЕХНИЧКА ШКОЛА СТРУКОВНИХ СТУДИЈА У ЗРЕЊАНИНУ","ЗРЕЊАНИН","840","-","0000001275660","660","-","89","601","02203",2,"13704","08220611",8542,242,1,101162083]
[46900,"ВИШИ СУД У ЗРЕЊАНИНУ","ЗРЕЊАНИН","","-","","","-","","601","80437",2,"30225","08864268",8423,242,5,106400020]
[46900,"ОСНОВНИ СУД У ЗРЕЊАНИНУ","ЗРЕЊАНИН","","-","","","-","","601","80466",2,"30226","08864349",8423,242,5,106400046]
[46900,"ПРИВРЕДНИ СУД У ЗРЕЊАНИНУ","ЗРЕЊАНИН","","-","","","-","","601","80496",2,"30227","08864411",8423,242,5,106400011]
[46900,"ВИШЕ ЈАВНО ТУЖИЛАШТВО У ЗРЕЊАНИНУ","ЗРЕЊАНИН","","-","","","-","","601","80547",2,"30228","08896020",8423,242,5,106400038]
[46900,"ОСНОВНО ЈАВНО ТУЖИЛАШТВО У ЗРЕЊАНИНУ","ЗРЕЊАНИН","","-","","","-","","601","80516",2,"30229","08895937",8423,242,5,106400054]
[46900,"ПРЕКРШАЈНИ СУД У ЗРЕЊАНИНУ","ЗРЕЊАНИН","","-","","","-","","601","80586",2,"30233","08896135",8423,242,5,106400062]
[46900,"СРЕДЊОБАНАТСКИ УПРАВНИ ОКРУГ","ЗРЕЊАНИН","","-","","","-","","601","41103",1,"41103","08852243",8411,242,0,104182714]
[46900,"РЕПУБЛИЧКИ ФОНД ЗА ЗДРАВСТВЕНО ОСИГУРАЊЕ - ФИЛИЈАЛА ЗА СРЕДЊЕБАНАТСКИ ОКРУГ","ЗРЕЊАНИН","840","-","0000000007650","650","-","70","601","02676",4,"95000","06042945",8430,242,0,101288707]
[46900,"СПЕЦИЈАЛНА БОЛНИЦА ЗА РЕХАБИЛИТАЦИЈУ РУСАНДА","МЕЛЕНЦИ","840","-","0000000178661","661","-","70","601","02608",2,"95000","08062650",8610,242,3,101161576]
[46900,"ЗАВОД ЗА ЈАВНО ЗДРАВЉЕ ЗРЕЊАНИН","ЗРЕЊАНИН","840","-","0000000358661","661","-","69","601","02393",2,"95000","08169454",8690,242,3,100655222]
[46900,"АПОТЕКА ЗРЕЊАНИН","ЗРЕЊАНИН","840","-","0000000470661","661","-","77","601","02645",2,"95000","08671621",4773,242,3,100906055]
[46900,"СПЕЦИЈАЛНА БОЛНИЦА ЗА ПЛУЋНЕ БОЛЕСТИ ДР ВАСА САВИЋ","ЗРЕЊАНИН","840","-","0000000471661","661","-","84","601","02580",2,"95000","08671923",8610,242,3,101161066]
[46900,"ДОМ ЗДРАВЉА БОШКО ВРЕБАЛОВ","ЗРЕЊАНИН","840","-","0000000019661","661","-","24","601","02577",2,"95000","08877556",8621,242,3,105110134]
[46900,"ОПШТА БОЛНИЦА ЂОРЂЕ ЈОАНОВИЋ","ЗРЕЊАНИН","840","-","0000000017661","661","-","10","601","02579",2,"95000","08887535",8610,242,3,105539565]
[46900,"РЕПУБЛИЧКИ ФОНД ПИО-ФИЛИЈАЛА- ЗРЕЊАНИН","ЗРЕЊАНИН","840","-","0000000018652","652","-","44","601","00151",4,"95200","17715780",8430,242,0,105356542]
[46900,"НАЦИОНАЛНА СЛУЖБА ЗА ЗАПОШЉАВАЊЕ-ФИЛИЈАЛА ЗРЕЊАНИН","ЗРЕЊАНИН","840","-","0000000014654","654","-","10","601","00150",4,"95400","17539957",7810,242,0,103277483]
[46900,"ГРАД ЗРЕЊАНИН-БУЏЕТ","ЗРЕЊАНИН","840","-","0000000028640","640","-","53","242","09177",0,"09177","08002266",8411,242,0,102506213]
[46900,"МЕСНА ЗАЈЕДНИЦА АРАДАЦ","ЗРЕЊАНИН","840","-","0000001160645","645","-","08","242","09189",2,"09178","08001685",8411,242,1,100652221]
[46900,"МЕСНА ЗАЈЕДНИЦА БАНАТСКИ ДЕСПОТОВАЦ","ЗРЕЊАНИН","840","-","0000000290645","645","-","29","242","09190",2,"09178","08001693",8411,242,1,101983515]
[46900,"МЕСНА ЗАЈЕДНИЦА БЕЛО БЛАТО","ЗРЕЊАНИН","840","-","0000000808645","645","-","66","242","09191",2,"09178","08001707",8411,242,1,101170665]
[46900,"МЕСНА ЗАЈЕДНИЦА БОТОШ","ЗРЕЊАНИН","840","-","0000000832645","645","-","40","242","09192",2,"09178","08001715",8411,242,1,100905271]
[46900,"МЕСНА ЗАЈЕДНИЦА ЕЛЕМИР ЕЛЕМИР","ЗРЕЊАНИН","840","-","0000000448645","645","-","68","242","09214",2,"09178","08001723",8411,242,1,101170286]
[46900,"МЕСНА ЗАЈЕДНИЦА ЕЧКА","ЗРЕЊАНИН","840","-","0000000637645","645","-","33","242","09193",2,"09178","08001731",8411,242,1,101174271]
[46900,"МЕСНА ЗАЈЕДНИЦА КЛЕК","ЗРЕЊАНИН","840","-","0000000713645","645","-","80","242","09195",2,"09178","08001740",8411,242,1,102535404]
[46900,"МЕСНА ЗАЈЕДНИЦА КНИЋАНИН","ЗРЕЊАНИН","840","-","0000000584645","645","-","50","242","09196",2,"09178","08001758",8411,242,1,102006555]
[46900,"МЕСНА ЗАЈЕДНИЦА ЛАЗАРЕВО","ЗРЕЊАНИН","840","-","0000000689645","645","-","09","242","09197",2,"09178","08001766",8411,242,1,100653177]
[46900,"МЕСНА ЗАЈЕДНИЦА ЗЛАТИЦА ЗЛАТИЦА","ЗРЕЊАНИН","840","-","0000001568645","645","-","51","242","09216",2,"09178","08001774",8411,242,1,100903634]
[46900,"МЕСНА ЗАЈЕДНИЦА МЕЛЕНЦИ","ЗРЕЊАНИН","840","-","0000000556645","645","-","48","242","09200",2,"09178","08001782",8411,242,1,101164458]
[46900,"МЕСНА ЗАЈЕДНИЦА МИХАЈЛОВО","ЗРЕЊАНИН","840","-","0000001369645","645","-","16","242","09201",2,"09178","08001804",8411,242,1,102369106]
[46900,"МЕСНА ЗАЈЕДНИЦА ОРЛОВАТ","ЗРЕЊАНИН","840","-","0000000663645","645","-","21","242","09202",2,"09178","08001812",8411,242,1,100905280]
[46900,"МЕСНА ЗАЈЕДНИЦА ПЕРЛЕЗ","ЗРЕЊАНИН","840","-","0000000421645","645","-","73","242","09203",2,"09178","08001839",8411,242,1,101983566]
[46900,"МЕСНА ЗАЈЕДНИЦА СТАЈИЋЕВО","ЗРЕЊАНИН","840","-","0000000473645","645","-","49","242","09204",2,"09178","08001847",8411,242,1,102290660]
[46900,"МЕСНА ЗАЈЕДНИЦА ТАРАШ","ЗРЕЊАНИН","840","-","0000001266645","645","-","71","242","09205",2,"09178","08001855",8411,242,1,100652408]
[46900,"МЕСНА ЗАЈЕДНИЦА ТОМАШЕВАЦ","ЗРЕЊАНИН","840","-","0000001452645","645","-","15","242","09206",2,"09178","08001863",8411,242,1,100655079]
[46900,"МЕСНА ЗАЈЕДНИЦА ФАРКАЖДИН","ЗРЕЊАНИН","840","-","0000000501645","645","-","51","242","09207",2,"09178","08001871",8411,242,1,102312021]
[46900,"МЕСНА ЗАЈЕДНИЦА ЧЕНТА","ЗРЕЊАНИН","840","-","0000000611645","645","-","45","242","09208",2,"09178","08001880",8411,242,1,102311906]
[46900,"ГРАДСКА УПРАВА ЗРЕЊАНИН","ЗРЕЊАНИН","","-","","","-","","242","09178",1,"09178","08002266",8411,242,0,102506213]
[46900,"БУЏЕТСКИ ФОНД ЗА ЗАШТИТУ ЖИВОТНЕ СРЕДИНЕ","ЗРЕЊАНИН","","-","","","-","","242","80429",2,"09178","08002266",8411,242,1,102506213]
[46900,"МЕСНА ЗАЈЕДНИЦА ШУМИЦА","ЗРЕЊАНИН","840","-","0000001679645","645","-","52","242","09223",2,"09178","08003068",8411,242,1,102291191]
[46900,"МЕСНА ЗАЈЕДНИЦА ГРАДНУЛИЦА","ЗРЕЊАНИН","840","-","0000000210645","645","-","51","242","09211",2,"09178","08003084",8411,242,1,101763580]
[46900,"МЕСНА ЗАЈЕДНИЦА НИКОЛА ТЕСЛА","ЗРЕЊАНИН","840","-","0000001697645","645","-","81","242","09219",2,"09178","08003092",8411,242,1,100654910]
[46900,"МЕСНА ЗАЈЕДНИЦА ЖАРКО ЗРЕЊАНИН","ЗРЕЊАНИН","840","-","0000000156645","645","-","61","242","09215",2,"09178","08003106",8411,242,1,100651882]
[46900,"МЕСНА ЗАЈЕДНИЦА ДОЉА ЦРНИ ШОР","ЗРЕЊАНИН","840","-","0000000074645","645","-","69","242","09212",2,"09178","08003165",8411,242,1,101164281]
[46900,"МЕСНА ЗАЈЕДНИЦА ЗЕЛЕНО ПОЉЕ","ЗРЕЊАНИН","840","-","0000001550645","645","-","22","242","09210",2,"09178","08003173",8411,242,1,102368929]
[46900,"МЕСНА ЗАЈЕДНИЦА ЈАНКОВ МОСТ","ЗРЕЊАНИН","840","-","0000001412645","645","-","26","242","09194",2,"09178","08003181",8411,242,1,102312337]
[46900,"МЕСНА ЗАЈЕДНИЦА ЛУКИЋЕВО","ЗРЕЊАНИН","840","-","0000000784645","645","-","92","242","09199",2,"09178","08003190",8411,242,1,102618996]
[46900,"МЕСНА ЗАЈЕДНИЦА МУЖЉА МУЖЉА","ЗРЕЊАНИН","840","-","0000000527645","645","-","39","242","09218",2,"09178","08003203",8411,242,1,102612821]
[46900,"МЕСНА ЗАЈЕДНИЦА ЛУКИНО СЕЛО","ЗРЕЊАНИН","840","-","0000001222645","645","-","54","242","09198",2,"09178","08070202",8411,242,1,101162000]
[46900,"МЕСНА ЗАЈЕДНИЦА САВА КОВАЧЕВИЋ","ЗРЕЊАНИН","840","-","0000001432645","645","-","69","242","09220",2,"09178","08078106",8411,242,1,101174351]
[46900,"МЕСНА ЗАЈЕДНИЦА БЕРБЕРСКО-БОЛНИЦА","ЗРЕЊАНИН","840","-","0000001660645","645","-","16","242","09188",2,"09178","08126968",8411,242,1,102312013]
[46900,"МЕСНА ЗАЈЕДНИЦА ВЕЉКО ВЛАХОВИЋ","ЗРЕЊАНИН","840","-","0000001587645","645","-","87","242","09209",2,"09178","08126976",8411,242,1,101169876]
[46900,"МЕСНА ЗАЈЕДНИЦА ДОСИТЕЈ ОБРАДОВИЋ","ЗРЕЊАНИН","840","-","0000000318645","645","-","31","242","09213",2,"09178","08517584",8411,242,1,101763635]
[46900,"МЕСНА ЗАЈЕДНИЦА ЦЕНТАР","ЗРЕЊАНИН","840","-","0000000102645","645","-","71","242","09222",2,"09178","08539316",8411,242,1,101170421]
[46900,"МЕСНА ЗАЈЕДНИЦА МАЛА АМЕРИКА","ЗРЕЊАНИН","840","-","0000001715645","645","-","13","242","09217",2,"09178","08658129",8411,242,1,101162235]
[46900,"МЕСНА ЗАЈЕДНИЦА СОЊА МАРИНКОВИЋ","ЗРЕЊАНИН","840","-","0000003845645","645","-","82","242","09221",2,"09178","08775591",8411,242,1,101169884]
[46900,"ЈАВНА УСТАНОВА СПОРТСКИ ОБЈЕКТИ ЗРЕЊАНИН","ЗРЕЊАНИН","840","-","0000001035664","664","-","46","242","80887",2,"09178","08924082",9311,242,1,106924376]
[46900,"ТУРИСТИЧКА ОРГАНИЗАЦИЈА ГРАДА ЗРЕЊАНИНА","ЗРЕЊАНИН","840","-","0000001205664","664","-","72","242","62051",2,"09178","08965633",8413,242,1,109846434]
[46900,"УСТАНОВА РЕЗЕРВАТИ ПРИРОДЕ ЗРЕЊАНИН","ЗРЕЊАНИН","840","-","0000001197664","664","-","16","242","61976",2,"09178","08965749",9104,242,1,109846467]
[46900,"ПРАВОБРАНИЛАШТВО ГРАДА ЗРЕЊАНИНА","ЗРЕЊАНИН","840","-","0000000134641","641","-","16","242","09179",1,"09179","08003050",8423,242,2,100903353]
[46900,"СКУПШТИНА ГРАДА ЗРЕЊАНИН","ЗРЕЊАНИН","","-","","","-","","242","09726",1,"09726","08002266",8411,242,0,102506213]
[46900,"ГРАДОНАЧЕЛНИК ГРАДА ЗРЕЊАНИНА","ЗРЕЊАНИН","","-","","","-","","242","09727",1,"09727","08002266",8411,242,0,102506213]
[46900,"ПРАВОБРАНИЛАШТВО ГРАДА ЗРЕЊАНИНА","ЗРЕЊАНИН","","-","","","-","","242","62406",1,"62406","08002266",6910,242,0,102506213]
[46900,"ЗАШТИТНИК ГРАЂАНА ГРАДА ЗРЕЊАНИНА","ЗРЕЊАНИН","","-","","","-","","242","62407",1,"62407","08002266",6910,242,0,102506213]
[46900,"ИСТОРИЈСКИ АРХИВ ЗРЕЊАНИН","ЗРЕЊАНИН","840","-","0000000052664","664","-","52","242","09226",2,"70200","08002207",9101,242,1,101164860]
[46900,"НАРОДНО ПОЗОРИШТЕ ТОША ЈОВАНОВИЋ","ЗРЕЊАНИН","840","-","0000000009664","664","-","42","242","09229",2,"70200","08002240",9003,242,1,100903216]
[46900,"НАРОДНИ МУЗЕЈ ЗРЕЊАНИН","ЗРЕЊАНИН","840","-","0000000050664","664","-","38","242","09228",2,"70200","08057818",9102,242,1,101161234]
[46900,"САВРЕМЕНА ГАЛЕРИЈА УМЕТНИЧКЕ КОЛОНИЈЕ ЕЧКА","ЗРЕЊАНИН","840","-","0000000072664","664","-","95","242","09230",2,"70200","08069131",9102,242,1,101163867]
[46900,"ГРАДСКА НАРОДНА БИБЛИОТЕКА ЖАРКО ЗРЕЊАНИН","ЗРЕЊАНИН","840","-","0000000074664","664","-","12","242","09225",2,"70200","08069301",9101,242,1,101163779]
[46900,"КУЛТУРНИ ЦЕНТАР ЗРЕЊАНИНА","ЗРЕЊАНИН","840","-","0000000317664","664","-","64","242","09227",2,"70200","08120099",8559,242,1,101165627]
[46900,"ЗАВОД ЗА ЗАШТИТУ СПОМЕНИКА КУЛТУРЕ ЗРЕЊАНИН","ЗРЕЊАНИН","840","-","0000000857664","664","-","61","242","09559",2,"70200","08804516",9103,242,1,103255037]
[46900,"ПРЕДШКОЛСКА УСТАНОВА ЗРЕЊАНИН","ЗРЕЊАНИН","840","-","0000000403661","661","-","93","242","09224",2,"70202","08002304",8891,242,1,101164933]
[46900,"ЗАШТИТНИК ГРАЂАНА ГРАДА ЗРЕЊАНИН","ЗРЕЊАНИН","840","-","0000000742641","641","-","04","242","80632",1,"80632","08834989",8411,242,2,106146217]
[46900,"ГРАДСКО ВЕЋЕ ГРАДА ЗРЕЊАНИНА","ЗРЕЊАНИН","","-","","","-","","242","94813",1,"94813","08002266",8411,242,0,102506213]
[46901,"ДОМ ЗА СМЕШТАЈ ДУШЕВНО ОБОЛЕЛИХ ЛИЦА СВЕТИ ВАСИЛИЈЕ ОСТРОШКИ ЧУДОТВОРАЦ НОВИ БЕЧЕЈ","НОВИ БЕЧЕЈ","840","-","0000000062661","661","-","34","601","00209",2,"13400","08020353",8730,221,1,101430991]
[46901,"ЦЕНТАР ЗА СОЦИЈАЛНИ РАД НОВИ БЕЧЕЈ","НОВИ БЕЧЕЈ","840","-","0000000416661","661","-","87","601","00331",2,"13400","08220638",8899,221,1,101431285]
[46901,"ОСНОВНА ШКОЛА ДОСИТЕЈ ОБРАДОВИЋ БОЧАР","НОВИ БЕЧЕЈ","840","-","0000000575660","660","-","39","601","01486",2,"13701","08020221",8520,221,1,101845549]
[46901,"ОСНОВНА ШКОЛА МИЛАН СТАНЧИЋ-УЧА КУМАНЕ","КУМАНЕ","840","-","0000000579660","660","-","67","601","01490",2,"13701","08020230",8520,221,1,101430934]
[46901,"ОСНОВНА ШКОЛА ДР ЂОРЂЕ ЈОАНОВИЋ НОВО МИЛОШЕВО","НОВИ БЕЧЕЈ","840","-","0000001061660","660","-","46","601","01489",2,"13701","08020248",8520,221,1,101433367]
[46901,"ОСНОВНА ШКОЛА МИЛОЈЕ ЧИПЛИЋ","НОВИ БЕЧЕЈ","840","-","0000000569660","660","-","94","601","01488",2,"13701","08020256",8520,221,1,102109585]
[46901,"ОСНОВНА ШКОЛА ЈОСИФ МАРИНКОВИЋ","НОВИ БЕЧЕЈ","840","-","0000000584660","660","-","05","601","01487",2,"13701","08020264",8520,221,1,102109753]
[46901,"СРЕДЊА ШКОЛА НОВИ БЕЧЕЈ","НОВИ БЕЧЕЈ","840","-","0000001267660","660","-","33","601","02113",2,"13702","08057907",8532,221,1,101431092]
[46901,"ДОМ ЗДРАВЉА НОВИ БЕЧЕЈ","НОВИ БЕЧЕЈ","840","-","0000000181661","661","-","91","601","02510",2,"95000","08020337",8621,221,3,101431068]
[46901,"ОПШТИНА НОВИ БЕЧЕЈ-БУЏЕТ","НОВИ БЕЧЕЈ","840","-","0000000121640","640","-","25","221","08619",0,"08619","08108293",8411,221,0,101431164]
[46901,"ОПШТИНА НОВИ БЕЧЕЈ - ОПШТИНСКА УПРАВА","НОВИ БЕЧЕЈ","","-","","","-","","221","08620",1,"08620","08108293",8411,221,0,101431164]
[46901,"БУЏЕТСКИ ФОНД ЗА ЗАШТИТУ ЖИВОТНЕ СРЕДИНЕ","НОВИ БЕЧЕЈ","","-","","","-","","221","80895",2,"08620","08108293",8411,221,1,101431164]
[46901,"БУЏЕТСКИ ФОНД ЗА УНАПРЕЂЕЊЕ БЕЗБЕДНОСТИ САОБРАЋАЈА ОПШТИНЕ НОВИ БЕЧЕЈ","НОВИ БЕЧЕЈ","","-","","","-","","221","80898",2,"08620","08108293",8411,221,1,101431164]
[46901,"ТУРИСТИЧКА ОРГАНИЗАЦИЈА ОПШТИНЕ НОВИ БЕЧЕЈ","НОВИ БЕЧЕЈ","840","-","0000001070664","664","-","97","221","84946",2,"08620","08942021",8230,221,1,107989490]
[46901,"ЈАВНА УСТАНОВА СПОРТСКО РЕКРЕАТИВНИ ЦЕНТАР ЈЕДИНСТВО  НОВИ БЕЧЕЈ","НОВИ БЕЧЕЈ","840","-","0000001071664","664","-","07","221","84963",2,"08620","08942030",9311,221,1,107983135]
[46901,"ПРЕДШКОЛСКА УСТАНОВА ПАВА СУДАРСКИ","НОВИ БЕЧЕЈ","840","-","0000000067661","661","-","69","221","08629",2,"70216","08020345",8891,221,1,101430895]
[46901,"НАРОДНА БИБЛИОТЕКА НОВИ БЕЧЕЈ","НОВИ БЕЧЕЈ","840","-","0000000283664","664","-","20","221","08631",2,"70217","08112673",9101,221,1,101431308]
[46901,"ДОМ КУЛТУРЕ ОПШТИНЕ НОВИ БЕЧЕЈ","НОВИ БЕЧЕЈ","840","-","0000000859664","664","-","75","221","09569",2,"70217","08810117",9003,221,1,103292503]
[46901,"МЕСНА ЗАЈЕДНИЦА БОЧАР","НОВИ БЕЧЕЈ","840","-","0000001491645","645","-","94","221","08625",2,"70220","08020655",8411,221,1,101434179]
[46901,"МЕСНА ЗАЈЕДНИЦА НОВО МИЛОШЕВО","НОВИ БЕЧЕЈ","840","-","0000001471645","645","-","51","221","08628",2,"70220","08020680",8411,221,1,101845401]
[46901,"МЕСНА ЗАЈЕДНИЦА КУМАНЕ","НОВИ БЕЧЕЈ","840","-","0000001511645","645","-","40","221","08626",2,"70220","08063397",8411,221,1,101431017]
[46901,"МЕСНА ЗАЈЕДНИЦА НОВИ БЕЧЕЈ","НОВИ БЕЧЕЈ","840","-","0000001530645","645","-","76","221","08627",2,"70220","08063419",8411,221,1,101431662]
[46902,"ЦЕНТАР ЗА СОЦИЈАЛНИ РАД СЕЧАЊ","СЕЧАЊ","840","-","0000000422661","661","-","32","601","00332",2,"13400","08203989",8899,230,1,101358483]
[46902,"ОСНОВНА ШКОЛА СТЕВАН АЛЕКСИЋ ЈАША ТОМИЋ","СЕЧАЊ","840","-","0000001239660","660","-","31","601","01498",2,"13701","08122610",8520,230,1,102003368]
[46902,"ОСНОВНА ШКОЛА ЖАРКО ЗРЕЊАНИН БОКА","СЕЧАЊ","840","-","0000001225660","660","-","30","601","01495",2,"13701","08122628",8520,230,1,101356043]
[46902,"ОСНОВНА ШКОЛА ВУК КАРАЏИЋ КОНАК","СЕЧАЊ","840","-","0000001242660","660","-","52","601","01494",2,"13701","08122636",8520,230,1,101356051]
[46902,"ОСНОВНА ШКОЛА БРАЋА СТЕФАНОВИЋ НЕУЗИНА","СЕЧАЊ","840","-","0000001228660","660","-","51","601","01492",2,"13701","08122644",8520,230,1,101356060]
[46902,"ОСНОВНА ШКОЛА ВЕЉКО ЂУРИЧИН ЈАРКОВАЦ","СЕЧАЊ","840","-","0000001234660","660","-","93","601","01493",2,"13701","08122652",8520,230,1,101356035]
[46902,"ОСНОВНА ШКОЛА АЛЕКСА ШАНТИЋ СЕЧАЊ","СЕЧАЊ","840","-","0000001230660","660","-","65","601","01491",2,"13701","08122679",8520,230,1,101356027]
[46902,"ОСНОВНА ШКОЛА ИВО ЛОЛА РИБАР СУТЈЕСКА","СЕЧАЊ","840","-","0000001229660","660","-","58","601","01496",2,"13701","08122687",8520,230,1,101356078]
[46902,"ОСНОВНА ШКОЛА СЛАВКО РОДИЋ КРАЈИШНИК","СЕЧАЊ","840","-","0000001236660","660","-","10","601","01497",2,"13701","08122695",8520,230,1,102254486]
[46902,"СРЕДЊА ШКОЛА ВУК КАРАЏИЋ","СЕЧАЊ","840","-","0000002031660","660","-","46","601","02114",2,"13702","08018936",8531,230,1,101356800]
[46902,"ДОМ ЗДРАВЉА СЕЧАЊ","СЕЧАЊ","840","-","0000000189661","661","-","50","601","02511",2,"95000","08018863",8621,230,3,101356125]
[46902,"ОПШТИНА СЕЧАЊ-БУЏЕТ","СЕЧАЊ","840","-","0000000106640","640","-","17","230","08835",0,"08835","08019215",8411,230,0,101358240]
[46902,"МЕСНА ЗАЈЕДНИЦА БАНАТСКА ДУБИЦА","СЕЧАЊ","840","-","0000000990645","645","-","79","230","08844",2,"08836","08019126",8411,230,1,102404461]
[46902,"МЕСНА ЗАЈЕДНИЦА БОКА","СЕЧАЊ","840","-","0000001181645","645","-","58","230","08845",2,"08836","08019134",8411,230,1,101356545]
[46902,"МЕСНА ЗАЈЕДНИЦА ЈАША ТОМИЋ","СЕЧАЊ","840","-","0000000264645","645","-","41","230","08847",2,"08836","08019142",8411,230,1,101356640]
[46902,"МЕСНА ЗАЈЕДНИЦА КОНАК","СЕЧАЊ","840","-","0000001327645","645","-","13","230","08848",2,"08836","08019169",8411,230,1,101356658]
[46902,"МЕСНА ЗАЈЕДНИЦА КРАЈИШНИК","СЕЧАЊ","840","-","0000001390645","645","-","66","230","08849",2,"08836","08019177",8411,230,1,101356607]
[46902,"МЕСНА ЗАЈЕДНИЦА НЕУЗИНА","СЕЧАЊ","840","-","0000001010645","645","-","25","230","08850",2,"08836","08019185",8411,230,1,101356980]
[46902,"МЕСНА ЗАЈЕДНИЦА СЕЧАЊ","СЕЧАЊ","840","-","0000000371645","645","-","14","230","08851",2,"08836","08019193",8411,230,1,101356248]
[46902,"МЕСНА ЗАЈЕДНИЦА КОТАРОВ РАКИЛА-ВУКА ШУРЈАН","СЕЧАЊ","840","-","0000000396645","645","-","92","230","08853",2,"08836","08019207",8411,230,1,101356666]
[46902,"ОПШТИНА СЕЧАЊ - ОПШТИНСКА УПРАВА","СЕЧАЊ","","-","","","-","","230","08836",1,"08836","08019215",8411,230,0,101358240]
[46902,"МЕСНА ЗАЈЕДНИЦА СУТЈЕСКА","СЕЧАЊ","840","-","0000000131645","645","-","80","230","08852",2,"08836","08070199",8411,230,1,102003350]
[46902,"МЕСНА ЗАЈЕДНИЦА ЈАРКОВАЦ","СЕЧАЊ","840","-","0000000736645","645","-","47","230","08846",2,"08836","08073589",8411,230,1,101358231]
[46902,"ФОНД СОЛИДАРНОСТИ ОПШТИНЕ СЕЧАЊ","СЕЧАЊ","","-","","","-","","230","08843",2,"08836","08574316",6499,230,1,101358299]
[46902,"ПРЕДШКОЛСКА УСТАНОВА ПОЛЕТАРАЦ","СЕЧАЊ","840","-","0000000459661","661","-","97","230","08854",2,"08836","08589143",8891,230,1,101356205]
[46902,"ОБРАЗОВНО КУЛТУРНИ ЦЕНТАР СЕЧАЊ","СЕЧАЊ","840","-","0000000406664","664","-","08","230","08856",2,"08836","08608865",8559,230,1,101356176]
[46902,"БИБЛИОТЕКА ЈОВАН ДУЧИЋ","СЕЧАЊ","840","-","0000000427664","664","-","58","230","08855",2,"08836","08743738",9101,230,1,101356168]
[46902,"ФОНД СОЛИДАРНЕ СТАМБЕНЕ ИЗГРАДЊЕ ОПШТИНЕ СЕЧАЊ","СЕЧАЊ","840","-","0000000294644","644","-","60","230","08842",2,"08836","08804788",6499,230,1,103220077]
[46902,"ТУРИСТИЧКА ОРГАНИЗАЦИЈЕ ОПШТИНЕ СЕЧАЊ","СЕЧАЊ","840","-","0000001047664","664","-","33","230","80941",2,"08836","08929831",8413,230,1,107225010]
[46903,"ЦЕНТАР ЗА СОЦИЈАЛНИ РАД НОВА ЦРЊА","НОВА ЦРЊА","840","-","0000000727661","661","-","33","601","80027",2,"13400","08860998",8899,220,1,104527458]
[46903,"ОСНОВНА ШКОЛА СТАНКО КРСТИН РАДОЈЕВО","НОВА ЦРЊА","840","-","0000001223660","660","-","16","601","01503",2,"13701","08120684",8520,220,1,101595372]
[46903,"ОСНОВНА ШКОЛА ЂУРА ЈАКШИЋ СРПСКА ЦРЊА","НОВА ЦРЊА","840","-","0000001216660","660","-","64","601","01501",2,"13701","08120692",8520,220,1,101596172]
[46903,"ОСНОВНА ШКОЛА 4. ОКТОБАР ВОЈВОДА СТЕПА","НОВА ЦРЊА","840","-","0000001218660","660","-","78","601","01499",2,"13701","08120706",8520,220,1,101595895]
[46903,"ОСНОВНА ШКОЛА ПЕТЕФИ ШАНДОР","НОВА ЦРЊА","840","-","0000001213660","660","-","43","601","01502",2,"13701","08120714",8520,220,1,101596507]
[46903,"ОСНОВНА ШКОЛА БРАНКО РАДИЧЕВИЋ АЛЕКСАНДРОВО","НОВА ЦРЊА","840","-","0000001220660","660","-","92","601","01500",2,"13701","08120722",8520,220,1,101595715]
[46903,"СРЕДЊА ШКОЛА ЂУРА ЈАКШИЋ СРПСКА ЦРЊА","НОВА ЦРЊА","840","-","0000000861660","660","-","04","601","02115",2,"13702","08013535",8531,220,1,101596197]
[46903,"ДОМ ЗДРАВЉА СРПСКА ЦРЊА","НОВА ЦРЊА","840","-","0000000188661","661","-","43","601","02512",2,"95000","08061939",8621,220,3,101596437]
[46903,"ОПШТИНА НОВА ЦРЊА-БУЏЕТ","НОВА ЦРЊА","840","-","0000000086640","640","-","71","220","08606",0,"08606","08013705",8411,220,0,101595975]
[46903,"ОПШТИНСКА УПРАВА НОВА ЦРЊА","НОВА ЦРЊА","","-","","","-","","220","08607",1,"08607","08013705",8411,220,0,101595975]
[46903,"МЕСНА ЗАЈЕДНИЦА ВОЈВОДА СТЕПА","НОВА ЦРЊА","840","-","0000001348645","645","-","63","220","08612",2,"08607","08013721",8411,220,1,101596620]
[46903,"МЕСНА ЗАЈЕДНИЦА РАДОЈЕВО","НОВА ЦРЊА","840","-","0000001138645","645","-","48","220","08614",2,"08607","08013730",8411,220,1,101596654]
[46903,"МЕСНА ЗАЈЕДНИЦА СРПСКА ЦРЊА","НОВА ЦРЊА","840","-","0000001306645","645","-","60","220","08615",2,"08607","08013748",8411,220,1,101984382]
[46903,"МЕСНА ЗАЈЕДНИЦА ТОБА","НОВА ЦРЊА","840","-","0000000969645","645","-","29","220","08616",2,"08607","08013756",8411,220,1,101596332]
[46903,"МЕСНА ЗАЈЕДНИЦА НОВА ЦРЊА","НОВА ЦРЊА","840","-","0000000925645","645","-","12","220","08613",2,"08607","08076758",8411,220,1,101595653]
[46903,"МЕСНА ЗАЈЕДНИЦА АЛЕКСАНДРОВО","НОВА ЦРЊА","840","-","0000001286645","645","-","17","220","08617",2,"08607","08076766",8411,220,1,101596009]
[46903,"НАРОДНА БИБЛИОТЕКА ЂУРА ЈАКШИЋ СРПСКА ЦРЊА","НОВА ЦРЊА","840","-","0000000292664","664","-","83","220","08618",2,"08607","08115591",9101,220,1,101595918]
[46903,"БУЏЕТСКИ ФОНД ЗА ЗАШТИТУ ЖИВОТНЕ СРЕДИНЕ","НОВА ЦРЊА","","-","","","-","","220","80819",2,"08607","08498547",8411,220,1,101595967]
[46903,"ФОНД СОЛИДАРНЕ СТАМБЕНЕ ИЗГРАДЊЕ","НОВА ЦРЊА","","-","","","-","","220","08610",2,"08607","08704686",6499,220,1,101595991]
[46903,"СПОРТСКО КУЛТУРНО-ТУРИСТИЧКИ ЦЕНТАР ЂУРА ЈАКШИЋ СРПСКА ЦРЊА","НОВА ЦРЊА","840","-","0000000993664","664","-","43","220","80370",2,"08607","08904332",9102,220,1,106120991]
[46903,"КАНЦЕЛАРИЈА ЗА ЛОКАЛНИ ЕКОНОМСКИ РАЗВОЈ ОПШТИНЕ НОВА ЦРЊА","НОВА ЦРЊА","840","-","0000001082664","664","-","84","220","89852",2,"08607","08943818",7022,220,1,108189245]
[46904,"ЦЕНТАР ЗА СОЦИЈАЛНИ РАД ЖИТИШТЕ","ЖИТИШТЕ","840","-","0000000726661","661","-","26","601","80026",2,"13400","08860980",8899,244,1,104517283]
[46904,"ОСНОВНА ШКОЛА МИЛОШ ЦРЊАНСКИ СРПСКИ ИТЕБЕЈ","ЖИТИШТЕ","840","-","0000001354660","660","-","60","601","01504",2,"13701","08574731",8520,244,1,101375812]
[46904,"ОСНОВНА ШКОЛА СВЕТИ САВА ЖИТИШТЕ","ЖИТИШТЕ","840","-","0000001356660","660","-","74","601","01506",2,"13701","08574740",8520,244,1,101375861]
[46904,"ОСНОВНА ШКОЛА НИКОЛА ТЕСЛА БАНАТСКО КАРАЂОРЂЕВО","ЖИТИШТЕ","840","-","0000001360660","660","-","05","601","01505",2,"13701","08574758",8520,244,1,101377566]
[46904,"ДОМ ЗДРАВЉА ЖИТИШТЕ","ЖИТИШТЕ","840","-","0000000192661","661","-","71","601","02513",2,"95000","08030553",8621,244,3,101376444]
[46904,"ОПШТИНА ЖИТИШТЕ- БУЏЕТ","ЖИТИШТЕ","840","-","0000000057640","640","-","62","244","09243",0,"09243","08030715",8411,244,0,102159550]
[46904,"МЕСНА ЗАЈЕДНИЦА БАНАТСКО ВИШЊИЋЕВО","ЖИТИШТЕ","840","-","0000000761645","645","-","28","244","09250",2,"09244","08010358",8411,244,1,101608602]
[46904,"ОПШТИНА ЖИТИШТЕ - ОПШТИНСКА УПРАВА","ЖИТИШТЕ","","-","","","-","","244","09244",1,"09244","08030715",8411,244,0,102159550]
[46904,"МЕСНА ЗАЈЕДНИЦА БАНАТСКИ ДВОР","ЖИТИШТЕ","840","-","0000001200645","645","-","94","244","09251",2,"09244","08030731",8411,244,1,101608547]
[46904,"МЕСНА ЗАЈЕДНИЦА БАНАТСКО КАРАЂОРЂЕВО","ЖИТИШТЕ","840","-","0000000905645","645","-","66","244","09249",2,"09244","08030740",8411,244,1,101377679]
[46904,"МЕСНА ЗАЈЕДНИЦА ЖИТИШТЕ","ЖИТИШТЕ","840","-","0000000947645","645","-","69","244","09252",2,"09244","08030758",8411,244,1,101378487]
[46904,"МЕСНА ЗАЈЕДНИЦА МЕЂА","ЖИТИШТЕ","840","-","0000001244645","645","-","14","244","09253",2,"09244","08030766",8411,244,1,101377927]
[46904,"МЕСНА ЗАЈЕДНИЦА НОВИ ИТЕБЕЈ","ЖИТИШТЕ","840","-","0000001032645","645","-","82","244","09254",2,"09244","08030774",8411,244,1,101608643]
[46904,"МЕСНА ЗАЈЕДНИЦА СРПСКИ ИТЕБЕЈ","ЖИТИШТЕ","840","-","0000001096645","645","-","45","244","09256",2,"09244","08030782",8411,244,1,101608555]
[46904,"МЕСНА ЗАЈЕДНИЦА ТОРДА","ЖИТИШТЕ","840","-","0000001074645","645","-","85","244","09258",2,"09244","08030804",8411,244,1,101377611]
[46904,"МЕСНА ЗАЈЕДНИЦА ХЕТИН","ЖИТИШТЕ","840","-","0000001117645","645","-","95","244","09259",2,"09244","08030812",8411,244,1,101608387]
[46904,"МЕСНА ЗАЈЕДНИЦА РАВНИ ТОПОЛОВАЦ","ЖИТИШТЕ","840","-","0000000854645","645","-","97","244","09255",2,"09244","08063168",8411,244,1,101377662]
[46904,"МЕСНА ЗАЈЕДНИЦА ЧЕСТЕРЕГ","ЖИТИШТЕ","840","-","0000001052645","645","-","28","244","09260",2,"09244","08063176",8411,244,1,101377429]
[46904,"МЕСНА ЗАЈЕДНИЦА ТОРАК","ЖИТИШТЕ","840","-","0000000880645","645","-","85","244","09257",2,"09244","08063222",8411,244,1,101377148]
[46904,"БИБЛИОТЕКА БРАНКО РАДИЧЕВИЋ","ЖИТИШТЕ","840","-","0000000408664","664","-","22","244","09262",2,"09244","08610282",9101,244,1,101608483]
[46904,"КУЛТУРНО ПРОСВЕТНА ЗАЈЕДНИЦА ЖИТИШТЕ","ЖИТИШТЕ","840","-","0000000407664","664","-","15","244","09263",2,"09244","08610304",8559,244,1,101375829]
[46904,"ПРЕДШКОЛСКА УСТАНОВА ДЕСАНКА МАКСИМОВИЋ","ЖИТИШТЕ","840","-","0000000457661","661","-","83","244","09261",2,"09244","08610312",8510,244,1,101376127]
[46904,"ТУРИСТИЧКА ОРГАНИЗАЦИЈА ОПШТИНЕ ЖИТИШТЕ","ЖИТИШТЕ","840","-","0000001064664","664","-","55","244","82989",2,"09244","08853720",8413,244,1,104213685]
[48200,"МЕЂУОПШТИСКИ  ИСТОРИЈСКИ АРХИВ ПРИЗРЕН","КОСОВСКА МИТРОВИЦА","840","-","0000000739664","664","-","11","601","02357",2,"11801","09006494",9101,310,1,102493137]
[48200,"АРХИВ ГРАДА ПРИШТИНЕ","КОСОВСКА МИТРОВИЦА","840","-","0000000740664","664","-","18","601","02352",2,"11801","09018760",9101,310,1,102493112]
[48200,"ПОКРАЈИНСКИ КУЛТУРНИ ЦЕНТАР","КОСОВСКА МИТРОВИЦА","840","-","0000000743664","664","-","39","601","02361",2,"11801","09018808",8559,310,1,102607316]
[48200,"НАРОДНО ПОЗОРИШТЕ ПРИШТИНА","КОСОВСКА МИТРОВИЦА","840","-","0000000741664","664","-","25","601","02367",2,"11801","09018832",9001,310,1,102458213]
[48200,"ИСТОРИЈСКИ АРХИВ КОСОВСКА МИТРОВИЦА","КОСОВСКА МИТРОВИЦА","840","-","0000000059664","664","-","04","601","02354",2,"11801","09023844",9101,310,1,101940225]
[48200,"МЕЂУОПШТИНСКИ ЦЕНТАР ЗА СОЦИЈАЛНИ РАД КОСОВСКА МИТРОВИЦА","КОСОВСКА МИТРОВИЦА","840","-","0000000141661","661","-","05","601","00334",2,"13400","09024093",8899,310,1,101261936]
[48200,"ЦЕНТАР ЗА СОЦИЈАЛНИ РАД ВУЧИТРН","КОСОВСКА МИТРОВИЦА","840","-","0000000306661","661","-","93","601","00335",2,"13400","09044388",8899,322,1,101263160]
[48200,"ЦЕНТАР ЗА СОЦИЈАЛНИ РАД СРБИЦА","КОСОВСКА МИТРОВИЦА","840","-","0000000310661","661","-","24","601","00336",2,"13400","09044515",8899,318,1,101985279]
[48200,"ОСНОВНА ШКОЛА РАДОШ ТОШИЋ ОСОЈАНЕ","КОСОВСКА МИТРОВИЦА","840","-","0000001488660","660","-","28","601","01525",2,"13701","09007903",8520,310,1,102235803]
[48200,"ОСНОВНА ШКОЛА ЈАНКО ЈОВИЋЕВИЋ ГОРАЖДЕВАЦ ПЕЋ","КОСОВСКА МИТРОВИЦА","840","-","0000002076660","660","-","70","601","09856",2,"13701","09009736",8520,314,1,103675201]
[48200,"ОСНОВНА ШКОЛА ДОСИТЕЈ ОБРАДОВИЋ ОРАХОВАЦ","КОСОВСКА МИТРОВИЦА","840","-","0000001975660","660","-","42","601","01517",2,"13701","09011455",8520,310,1,102076269]
[48200,"ОСНОВНА ШКОЛА ВУК КАРАЏИЋ ОРАХОВАЦ","КОСОВСКА МИТРОВИЦА","840","-","0000002078660","660","-","84","601","09897",2,"13701","09011579",8520,310,1,104053357]
[48200,"ОСНОВНА ШКОЛА МИЛАДИН ПОПОВИЋ СРБИЦА","КОСОВСКА МИТРОВИЦА","840","-","0000000149660","660","-","64","601","01520",2,"13701","09020667",8520,318,1,102475393]
[48200,"ОСНОВНА ШКОЛА МИЛУН ЈАКШИЋ РУДНИК","КОСОВСКА МИТРОВИЦА","840","-","0000000648660","660","-","65","601","01521",2,"13701","09020764",8520,318,1,102475385]
[48200,"ОСНОВНА ШКОЛА 21. НОВЕМБАР ВУЧИТРН","КОСОВСКА МИТРОВИЦА","840","-","0000000755660","660","-","38","601","01507",2,"13701","09021973",8520,322,1,100018089]
[48200,"ОСНОВНА ШКОЛА ЗАРИЈЕ ЈОВАНОВИЋ НЕВОЉАНЕ","КОСОВСКА МИТРОВИЦА","840","-","0000000599660","660","-","13","601","01518",2,"13701","09022015",8520,322,1,100018136]
[48200,"ОСНОВНА ШКОЛА ВУК КАРАЏИЋ ПРИЛУЖЈЕ","КОСОВСКА МИТРОВИЦА","840","-","0000000611660","660","-","97","601","01514",2,"13701","09022023",8520,322,1,101263143]
[48200,"ОСНОВНА ШКОЛА ИВО ЛОЛА РИБАР НОВО СЕЛО","КОСОВСКА МИТРОВИЦА","840","-","0000000585660","660","-","12","601","01519",2,"13701","09022058",8520,322,1,100018048]
[48200,"ОСНОВНА ШКОЛА БАНОВИЋ СТРАХИЊА БАЊСКА","КОСОВСКА МИТРОВИЦА","840","-","0000000768660","660","-","32","601","01509",2,"13701","09023470",8520,330,1,100017883]
[48200,"ОСНОВНА ШКОЛА РАДЕ МИЛИЋЕВИЋ ПРВИ ТУНЕЛ","КОСОВСКА МИТРОВИЦА","840","-","0000000540660","660","-","85","601","01524",2,"13701","09023488",8520,310,1,101261928]
[48200,"ОСНОВНА ШКОЛА ДОСИТЕЈ ОБРАДОВИЋ","КОСОВСКА МИТРОВИЦА","840","-","0000000508660","660","-","55","601","01516",2,"13701","09023496",8520,310,1,100018659]
[48200,"ОСНОВНА ШКОЛА СВЕТИ САВА КОСОВСКА МИТРОВИЦА","КОСОВСКА МИТРОВИЦА","840","-","0000000180660","660","-","87","601","01526",2,"13701","09023500",8520,310,1,100018968]
[48200,"ОСНОВНА ШКОЛА БРАНКО РАДИЧЕВИЋ","КОСОВСКА МИТРОВИЦА","840","-","0000000522660","660","-","56","601","01510",2,"13701","09023518",8520,310,1,100018925]
[48200,"ОСНОВНА ШКОЛА ВЛАДО ЋЕТКОВИЋ КОСОВСКА МИТРОВИЦА","КОСОВСКА МИТРОВИЦА","840","-","0000000483660","660","-","74","601","01512",2,"13701","09023534",8520,310,1,100018747]
[48200,"ОСНОВНА ШКОЛА ПРЕДРАГ И МИОДРАГ МИХАЈЛОВИЋ","КОСОВСКА МИТРОВИЦА","840","-","0000000715660","660","-","49","601","01523",2,"13701","09023542",8520,310,1,100018618]
[48200,"ОСНОВНА ШКОЛА ДЕСАНКА МАКСИМОВИЋ","КОСОВСКА МИТРОВИЦА","840","-","0000000029660","660","-","97","601","01515",2,"13701","09023569",8520,310,1,101261741]
[48200,"ОСНОВНА ШКОЛА ВЕЉКО БАНАШЕВИЋ","КОСОВСКА МИТРОВИЦА","840","-","0000000683660","660","-","19","601","01511",2,"13701","09023577",8520,310,1,101261768]
[48200,"ОСНОВНА ШКОЛА ВУК КАРАЏИЋ КОСОВСКА МИТРОВИЦА","КОСОВСКА МИТРОВИЦА","840","-","0000000576660","660","-","46","601","01513",2,"13701","09023585",8520,330,1,100017891]
[48200,"ОСНОВНА МУЗИЧКА ШКОЛА МИОДРАГ ВАСИЉЕВИЋ","КОСОВСКА МИТРОВИЦА","840","-","0000000660660","660","-","52","601","01660",2,"13701","09023666",8532,310,1,101261709]
[48200,"ОСНОВНА ШКОЛА СВЕТИ САВА ЖЕРОВНИЦА","КОСОВСКА МИТРОВИЦА","840","-","0000001026660","660","-","92","601","01528",2,"13701","09039040",8520,330,1,101262888]
[48200,"ОСНОВНА ШКОЛА СВЕТОЗАР МАРКОВИЋ ВЕЛИКА ХОЧА","КОСОВСКА МИТРОВИЦА","840","-","0000002064660","660","-","83","601","09591",2,"13701","09040773",8520,313,1,103376999]
[48200,"ШКОЛА ЗА ОСНОВНО И СРЕДЊЕ ОБРАЗОВАЊЕ КОСОВСКИ БОЖУР","КОСОВСКА МИТРОВИЦА","840","-","0000001108660","660","-","84","601","01604",2,"13701","09046020",8520,310,1,102235549]
[48200,"ОСНОВНА ШКОЛА СВЕТИ САВА ГРАЦЕ","КОСОВСКА МИТРОВИЦА","840","-","0000001176660","660","-","75","601","01527",2,"13701","09117792",8520,322,1,100018144]
[48200,"ТЕХНИЧКА ШКОЛА СРБИЦА","КОСОВСКА МИТРОВИЦА","840","-","0000000864660","660","-","25","601","02118",2,"13702","09020772",8532,318,1,102475377]
[48200,"МЕДИЦИНСКА ШКОЛА СА ДОМОМ УЧЕНИКА","КОСОВСКА МИТРОВИЦА","840","-","0000001121660","660","-","78","601","02117",2,"13702","09023674",8532,310,1,101465654]
[48200,"ЕКОНОМСКО-ТРГОВИНСКА ШКОЛА КОСОВСКА МИТРОВИЦА","КОСОВСКА МИТРОВИЦА","840","-","0000001118660","660","-","57","601","02116",2,"13702","09023704",8532,310,1,102537406]
[48200,"ТЕХНИЧКА ШКОЛА МИХАИЛО ПЕТРОВИЋ-АЛАС","КОСОВСКА МИТРОВИЦА","840","-","0000001095660","660","-","90","601","02120",2,"13702","09023712",8532,310,1,101981812]
[48200,"ГИМНАЗИЈА КОСОВСКА МИТРОВИЦА","КОСОВСКА МИТРОВИЦА","840","-","0000001114660","660","-","29","601","01787",2,"13702","09028919",8531,310,1,101261686]
[48200,"ГИМНАЗИЈА ОРАХОВАЦ","КОСОВСКА МИТРОВИЦА","840","-","0000001499660","660","-","08","601","01788",2,"13702","09030204",8531,310,1,101940268]
[48200,"ГИМНАЗИЈА СВЕТИ САВА ГОРАЖДЕВАЦ ПЕЋ","КОСОВСКА МИТРОВИЦА","840","-","0000001440660","660","-","80","601","01697",2,"13702","09047891",8531,310,1,101942069]
[48200,"СРЕДЊА ШКОЛА У  ЗВЕЧАНУ","КОСОВСКА МИТРОВИЦА","840","-","0000001138660","660","-","03","601","02119",2,"13702","09052780",8532,330,1,100018013]
[48200,"ГИМНАЗИЈА ВУЧИТРН","КОСОВСКА МИТРОВИЦА","840","-","0000000972660","660","-","05","601","01786",2,"13702","09230408",8531,322,1,101263225]
[48200,"УНИВЕРЗИТЕТ У ПРИШТИНИ","КОСОВСКА МИТРОВИЦА","840","-","0000001489660","660","-","35","601","02293",2,"13704","09018417",8542,310,1,102076316]
[48200,"УНИВЕРЗИТЕТ У ПРИШТИНИ - ПРАВНИ ФАКУЛТЕТ","КОСОВСКА МИТРОВИЦА","840","-","0000001491660","660","-","49","601","02292",2,"13704","09018425",8542,310,1,102076105]
[48200,"УНИВЕРЗИТЕТ У ПРИШТИНИ - ПРИРОДНО-МАТЕМАТИЧКИ ФАКУЛТЕТ","КОСОВСКА МИТРОВИЦА","840","-","0000001972660","660","-","21","601","02236",2,"13704","09018433",8542,310,1,101940276]
[48200,"УНИВЕРЗИТЕТ У ПРИШТИНИ - ЕКОНОМСКИ ФАКУЛТЕТ","КОСОВСКА МИТРОВИЦА","840","-","0000001971660","660","-","14","601","02296",2,"13704","09018468",8542,310,1,102259409]
[48200,"УНИВЕРЗИТЕТ У ПРИШТИНИ - ФАКУЛТЕТ УМЕТНОСТИ ЗВЕЧАН","КОСОВСКА МИТРОВИЦА","840","-","0000001495660","660","-","77","601","02304",2,"13704","09018476",8542,330,1,102130293]
[48200,"УНИВЕРЗИТЕТ У ПРИШТИНИ - МЕДИЦИНСКИ ФАКУЛТЕТ","КОСОВСКА МИТРОВИЦА","840","-","0000001496660","660","-","84","601","02266",2,"13704","09018492",8542,310,1,100018642]
[48200,"ВИСОКА ТЕХНИЧКА ШКОЛА СТРУКОВНИХ СТУДИЈА ЗВЕЧАН","КОСОВСКА МИТРОВИЦА","840","-","0000000704660","660","-","69","601","02204",2,"13704","09023798",8542,330,1,101262982]
[48200,"ВИСОКА ТЕХНИЧКА ШКОЛА СТРУКОВНИХ СТУДИЈА УРОШЕВАЦ СА ПРИВРЕМЕНИМ СЕДИШТЕМ У ЗВЕЧАНУ","КОСОВСКА МИТРОВИЦА","840","-","0000001247660","660","-","87","601","02205",2,"13704","09027173",8542,326,1,101262966]
[48200,"УНИВЕРЗИТЕТ У ПРИШТИНИ - ФАКУЛТЕТ ТЕХНИЧКИХ НАУКА","КОСОВСКА МИТРОВИЦА","840","-","0000001493660","660","-","63","601","02259",2,"13704","09339116",8542,310,1,101981837]
[48200,"УНИВЕРЗИТЕТ У ПРИШТИНИ - ФИЛОЗОФСКИ ФАКУЛТЕТ","КОСОВСКА МИТРОВИЦА","840","-","0000001498660","660","-","98","601","02294",2,"13704","09339477",8542,310,1,102076437]
[48200,"СТУДЕНТСКИ ЦЕНТАР ПРИШТИНА СА СЕДИШТОМ У КОСОВСКОЈ МИТРОВИЦИ","КОСОВСКА МИТРОВИЦА","840","-","0000000512661","661","-","80","601","02330",2,"13705","09019103",5590,310,1,101465620]
[48200,"ВИШИ СУД У КОСОВСКОЈ МИТРОВИЦИ","ЗВЕЧАН","","-","","","-","","601","80439",2,"30225","17772929",8423,330,5,106399990]
[48200,"ОСНОВНИ СУД У КОСОВСКОЈ МИТРОВИЦИ","КОСОВСКА МИТРОВИЦА","","-","","","-","","601","80469",2,"30226","17773143",8423,310,5,106398913]
[48200,"ВИШЕ ЈАВНО ТУЖИЛАШТВО У КОСОВСКОЈ МИТРОВИЦИ","ЗВЕЧАН","","-","","","-","","601","80549",2,"30228","17773801",8423,330,5,106400003]
[48200,"ОСНОВНО ЈАВНО ТУЖИЛАШТВО У КОСОВСКОЈ МИТРОВИЦИ","КОСОВСКА МИТРОВИЦА","","-","","","-","","601","80519",2,"30229","17773500",8423,310,5,106398921]
[48200,"ПРЕКРШАЈНИ СУД У КОСОВСКОЈ МИТРОВИЦИ","КОСОВСКА МИТРОВИЦА","","-","","","-","","601","80589",2,"30233","17774026",8423,310,5,106398930]
[48200,"КОСОВСКО-МИТРОВАЧКИ УПРАВНИ ОКРУГ","КОСОВСКА МИТРОВИЦА","","-","","","-","","601","41129",1,"41129","17652150",8411,310,0,104206926]
[48200,"РЕПУБЛИЧКИ ФОНД ЗА ЗДРАВСТВЕНО ОСИГУРАЊЕ - ФИЛИЈАЛА КОСОВСКА МИТРОВИЦА","КОСОВСКА МИТРОВИЦА","840","-","0000000028650","650","-","23","601","02677",4,"95000","06042945",8430,310,0,101288707]
[48200,"ЗДРАВСТВЕНИ ЦЕНТАР КОСОВСКА МИТРОВИЦА","КОСОВСКА МИТРОВИЦА","840","-","0000000368661","661","-","42","601","02581",2,"95000","09023933",8610,310,3,100018714]
[48200,"ДОМ ЗДРАВЉА ЗВЕЧАН","КОСОВСКА МИТРОВИЦА","840","-","0000000333661","661","-","88","601","02514",2,"95000","09023992",8621,330,3,101263006]
[48200,"АПОТЕКА КОСОВСКА МИТРОВИЦА","КОСОВСКА МИТРОВИЦА","840","-","0000000397661","661","-","51","601","02646",2,"95000","09273212",4773,310,3,102235696]
[48200,"ДОМ ЗДРАВЉА ОБИЛИЋ ПРИЛУЖЈЕ ВУЧИТРН","КОСОВСКА МИТРОВИЦА","840","-","0000000511661","661","-","73","601","02515",2,"95000","09338349",8621,322,3,102076050]
[48200,"ЗАВОД ЗА ЈАВНО ЗДРАВЉЕ КОСОВСКА МИТРОВИЦА","КОСОВСКА МИТРОВИЦА","840","-","0000000509661","661","-","59","601","02394",2,"95000","17667343",8690,310,3,101261848]
[48200,"РЕПУБЛИЧКИ ФОНД ПИО-ФИЛИЈАЛА КОСОВСКА МИТРОВИЦА","КОСОВСКА МИТРОВИЦА","","-","","","-","","601","80210",4,"95200","17715780",8430,16,0,105356542]
[48200,"НАЦИОНАЛНА СЛУЖБА ЗА ЗАПОШЉАВАЊЕ-ФИЛИЈАЛА КОСОВСКА МИТРОВИЦА","КОСОВСКА МИТРОВИЦА","840","-","0000000024654","654","-","80","601","00152",4,"95400","17539957",7810,310,0,103277483]
[48200,"ПОКРАЈИНСКА СЛУЖБА ЗА ЗАПОШЉАВАЊЕ","КОСОВСКА МИТРОВИЦА","840","-","0000000034654","654","-","53","601","09869",4,"95400","17539957",7810,310,0,103277483]
[48200,"ОПШТИНА ГОРА-БУЏЕТ","КОСОВСКА МИТРОВИЦА","840","-","0000000220640","640","-","39","331","09392",0,"09392","09004661",8411,331,0,102547995]
[48200,"ОПШТИНА ЗВЕЧАН-БУЏЕТ","ЗВЕЧАН","840","-","0000000125640","640","-","53","330","09385",0,"09385","09259473",8411,330,0,100018021]
[48200,"МЕСНА ЗАЈЕДНИЦА ЗЕРОВНИЦА","ЗВЕЧАН","840","-","0000003964645","645","-","42","330","09389",2,"09386","09024298",8411,330,1,103008423]
[48200,"МЕСНА ЗАЈЕДНИЦА ГРАБОВАЦ","ЗВЕЧАН","840","-","0000000636645","645","-","26","330","09388",2,"09386","09024379",8411,330,1,103852029]
[48200,"ИЗВРШНИ ОДБОР СКУПШТИНЕ ОПШТИНЕ ЗВЕЧАН","ЗВЕЧАН","","-","","","-","","330","09386",1,"09386","09104534",8411,330,0,100018021]
[48200,"ЈАВНО КОМУНАЛНО СТАМБЕНО ПРЕДУЗЕЋЕ ЗВЕЧАН","ЗВЕЧАН","840","-","0000000623641","641","-","44","330","09820",2,"09386","09145001",3811,330,1,100017826]
[48200,"ПРЕДШКОЛСКА УСТАНОВА ЛАНЕ","ЗВЕЧАН","840","-","0000000375661","661","-","91","330","09391",2,"09386","09252304",8891,330,1,101262896]
[48200,"МЕСНА ЗАЈЕДНИЦА СРБОВАЦ","ЗВЕЧАН","840","-","0000001510645","645","-","33","330","09390",2,"09386","09255842",8411,330,1,103460577]
[48200,"ОПШТИНА ВУЧИТРН-БУЏЕТ","КОСОВСКА МИТРОВИЦА","840","-","0000000096640","640","-","44","322","09352",0,"09352","09022147",8411,322,0,101263217]
[48200,"ОПШТИНСКА УПРАВА ВУЧИТРН","КОСОВСКА МИТРОВИЦА","","-","","","-","","322","09353",1,"09353","09022325",8411,322,0,101263194]
[48200,"ПРЕДШКОЛСКА УСТАНОВА ЦАР КОНСТАНТИН И ЦАРИЦА ЈЕЛЕНА ВУЧИТРН","КОСОВСКА МИТРОВИЦА","840","-","0000000819661","661","-","95","322","80888",2,"09353","17816098",8510,322,1,106875964]
[48200,"ОПШТИНА СУВА РЕКА-БУЏЕТ","КОСОВСКА МИТРОВИЦА","840","-","0000000216640","640","-","11","319","09348",0,"09348","09029508",8411,319,0,102481066]
[48200,"ОПШТИНА СРБИЦА-БУЏЕТ","КОСОВСКА МИТРОВИЦА","840","-","0000000073640","640","-","77","318","09338",0,"09338","09020802",8411,318,0,101985262]
[48200,"СКУПШТИНА ОПШТИНЕ СРБИЦА","КОСОВСКА МИТРОВИЦА","840","-","0000000010641","641","-","21","318","09339",1,"09339","09020802",8411,318,2,101985262]
[48200,"ПРЕДШКОЛСКА УСТАНОВА МАЈА СРБИЦА","КОСОВСКА МИТРОВИЦА","840","-","0000000287661","661","-","57","318","09347",2,"09339","09041036",8891,318,1,101985254]
[48200,"ОПШТИНА ПРИЗРЕН-БУЏЕТ","КОСОВСКА МИТРОВИЦА","840","-","0000000211640","640","-","73","317","09337",0,"09337","09007024",8411,317,0,102475416]
[48200,"ОПШТИНА ПЕЋ-БУЏЕТ","КОСОВСКА МИТРОВИЦА","840","-","0000000207640","640","-","45","314","09326",0,"09326","09010114",8411,314,0,102459538]
[48200,"ОПШТИНА ОРАХОВАЦ-БУЏЕТ","КОСОВСКА МИТРОВИЦА","840","-","0000000218640","640","-","25","313","09325",0,"09325","09011757",8411,313,0,102458424]
[48200,"ПРЕДШКОЛСКА УСТАНОВА НАША РАДОСТ - ОРАХОВАЦ","ОРАХОВАЦ","840","-","0000000840661","661","-","48","313","80945",2,"09373","17821440",8510,313,1,107238196]
[48200,"ОПШТИНА КОСОВСКА МИТРОВИЦА-БУЏЕТ","КОСОВСКА МИТРОВИЦА","840","-","0000000015640","640","-","59","310","09292",0,"09292","09024115",8411,310,0,102485274]
[48200,"ЈАВНО КОМУНАЛНО ПРЕДУЗЕЋЕ СТАНДАРД","КОСОВСКА МИТРОВИЦА","840","-","0000000610641","641","-","50","310","09616",2,"09293","09023330",3811,310,1,100018941]
[48200,"ЈАВНО КОМУНАЛНО ПРЕДУЗЕЋЕ ВОДОВОД ИБАР КОСОВСКА МИТРОВИЦА","КОСОВСКА МИТРОВИЦА","840","-","0000000612641","641","-","64","310","09618",2,"09293","09023399",3600,310,1,100019008]
[48200,"ДП ЗА УРБАНИЗАМ, ПРОЈЕКТОВАЊЕ И ИНЖИЊЕРИНГ УРБАНИЗАМ КОСОВСКА МИТРОВИЦА","КОСОВСКА МИТРОВИЦА","840","-","0000000611641","641","-","57","310","09617",2,"09293","09023429",7112,310,1,101981829]
[48200,"ГРАДСКИ МУЗЕЈ КОСОВСКА МИТРОВИЦА","КОСОВСКА МИТРОВИЦА","840","-","0000000145664","664","-","24","310","09304",2,"09293","09023828",9102,310,1,101940241]
[48200,"ГРАДСКА БИБЛИОТЕКА ВУК КАРАЏИЋ","КОСОВСКА МИТРОВИЦА","840","-","0000000019664","664","-","15","310","09303",2,"09293","09023836",9101,310,1,101981804]
[48200,"ПРЕДШКОЛСКА УСТАНОВА ДАНИЦА ЈАРАМАЗ","КОСОВСКА МИТРОВИЦА","840","-","0000000065661","661","-","55","310","09302",2,"09293","09024042",8891,310,1,101261733]
[48200,"ОПШТИНСКА УПРАВА КОСОВСКА МИТРОВИЦА","КОСОВСКА МИТРОВИЦА","","-","","","-","","310","09293",1,"09293","09024107",8411,310,0,102485311]
[48200,"МЕСНА ЗАЈЕДНИЦА ВИНАРЦЕ","КОСОВСКА МИТРОВИЦА","840","-","0000000688645","645","-","02","310","09301",2,"09293","09024344",8411,310,1,103058491]
[48200,"КУЛТУРНИ ЦЕНТАР ДРАГИЦА ЖАРКОВИЋ","КОСОВСКА МИТРОВИЦА","840","-","0000000240664","664","-","10","310","09305",2,"09293","09039295",9002,310,1,101920632]
[48200,"МЕСНА ЗАЈЕДНИЦА ПАРТИЗАНСКО БРДО","КОСОВСКА МИТРОВИЦА","840","-","0000001243645","645","-","07","310","09300",2,"09293","09039899",8411,310,1,103631065]
[48200,"МЕСНА ЗАЈЕДНИЦА ВЕЛИКО СВИЊАРЕ","КОСОВСКА МИТРОВИЦА","840","-","0000001347645","645","-","56","310","09298",2,"09293","09039970",8411,310,1,104389254]
[48200,"ЈАВНО ПРЕДУЗЕЋЕ ДИРЕКЦИЈА ЗА СТАМБЕНИ И ПОСЛОВНИ ПРОСТОР КОСОВСКА МИТРОВИЦА","КОСОВСКА МИТРОВИЦА","840","-","0000000732641","641","-","31","310","80382",2,"09293","09145478",6832,310,1,100018894]
[48200,"ЈАВНО ПРЕДУЗЕЋЕ ДИРЕКЦИЈА ЗА ГРАЂЕВИНСКО ЗЕМЉИШТЕ  И ПУТЕВЕ КОСОВСКА МИТРОВИЦА","КОСОВСКА МИТРОВИЦА","840","-","0000000613641","641","-","71","310","09621",2,"09293","09266569",4110,310,1,100019024]
[48200,"УСТАНОВА ЗА СПОРТ ОМЛАДИНУ И СПЕЦИЈАЛИЗОВАНЕ УСЛУГЕ","КОСОВСКА МИТРОВИЦА","840","-","0000001058664","664","-","13","310","80984",2,"09293","17827430",9319,310,1,107547459]
[48200,"СПОРТСКИ ЦЕНТАР КОСОВСКА МИТРОВИЦА","КОСОВСКА МИТРОВИЦА","840","-","0000000992664","664","-","36","310","80369",2,"09293","20500417",9311,310,1,105978172]
[48200,"ДОМ КУЛТУРЕ СВЕТИ САВА ИСТОК","КОСОВСКА МИТРОВИЦА","840","-","0000000339664","664","-","24","310","09321",2,"09308","09042172",9003,310,1,101262271]
[48200,"ДОМ КУЛТУРЕ РАДОМИР ПОПОВИЋ КОСОВСКА КАМЕНИЦА","ГЊИЛАНЕ","840","-","0000001087664","664","-","22","309","91789",2,"09290","09029664",9004,309,1,105962810]
[48200,"ОПШТИНА КЛИНА-БУЏЕТ","КОСОВСКА МИТРОВИЦА","840","-","0000000210640","640","-","66","308","09288",0,"09288","09008608",8411,308,0,102494940]
[48200,"ОПШТИНА ИСТОК-БУЏЕТ","КОСОВСКА МИТРОВИЦА","840","-","0000000206640","640","-","38","306","09286",0,"09286","09008055",8411,306,0,102433546]
[48200,"ЈАВНО КОМУНАЛНО ПРЕДУЗЕЋЕ ГЊИЛАНЕ - ШИЛОВО","ШИЛОВО","840","-","0000001220664","664","-","80","305","63124",2,"09278","09003215",8130,305,1,109966665]
[48200,"ЈАВНО КОМУНАЛНО ПРЕДУЗЕЋЕ ГРАДСКИ ВОДОВОД ХИДРОТЕХНИКА ГЊИЛАНЕ- ШИЛОВО","ШИЛОВО","840","-","0000001221664","664","-","87","305","63125",2,"09278","09035265",3600,305,1,109966979]
[48200,"ОПШТИНА ЂАКОВИЦА-БУЏЕТ","КОСОВСКА МИТРОВИЦА","840","-","0000000219640","640","-","32","303","09275",0,"09275","09013393",8411,303,0,102458205]
[48200,"ОПШТИНА ДЕЧАНИ-БУЏЕТ","КОСОВСКА МИТРОВИЦА","840","-","0000000217640","640","-","18","301","09274",0,"09274","09011005",8411,301,0,102583864]
[48202,"ПОКРАЈИНСКИ ЗАВОД ЗА ЗАШТИТУ СПОМЕНИКА КУЛТУРЕ","ЛЕПОСАВИЋ","840","-","0000000475664","664","-","06","601","02359",2,"11801","09018786",9103,311,1,101815099]
[48202,"ЦЕНТАР ЗА СОЦИЈАЛНИ РАД ЛЕПОСАВИЋ","ЛЕПОСАВИЋ","840","-","0000000344661","661","-","68","601","00337",2,"13400","09085483",8899,311,1,101262505]
[48202,"ОСНОВНА ШКОЛА НЕБОЈША ЈЕРКОВИЋ ДРАГАШ ГОРА","ЛЕПОСАВИЋ","840","-","0000002093660","660","-","92","601","80131",2,"13701","09004491",8520,331,1,103111607]
[48202,"ОСНОВНА ШКОЛА 9. МАЈ РАПЧА ГОРА","ЛЕПОСАВИЋ","840","-","0000002092660","660","-","85","601","80130",2,"13701","09004505",8520,331,1,104740965]
[48202,"ОСНОВНА ШКОЛА 22. ДЕЦЕМБАР РЕСТЕЛИЦА ГОРА","ЛЕПОСАВИЋ","840","-","0000002094660","660","-","02","601","80132",2,"13701","09004513",8520,331,1,104740973]
[48202,"ОСНОВНА ШКОЛА 5. ОКТОБАР КРУШЕВО ГОРА","ЛЕПОСАВИЋ","840","-","0000002096660","660","-","16","601","80161",2,"13701","09004556",8520,331,1,104745311]
[48202,"ОСНОВНА ШКОЛА ЗЕНУНИ БРОД ГОРА","ЛЕПОСАВИЋ","840","-","0000002095660","660","-","09","601","80133",2,"13701","09004572",8520,331,1,104740949]
[48202,"ОСНОВНА ШКОЛА ЛЕПОСАВИЋ","ЛЕПОСАВИЋ","840","-","0000000626660","660","-","08","601","01531",2,"13701","09021337",8520,311,1,101262126]
[48202,"ОСНОВНА ШКОЛА СТАНА БАЧАНИН ЛЕШАК","ЛЕПОСАВИЋ","840","-","0000000620660","660","-","63","601","01529",2,"13701","09021345",8520,311,1,101815218]
[48202,"ОСНОВНА ШКОЛА ВУК КАРАЏИЋ СОЧАНИЦА","ЛЕПОСАВИЋ","840","-","0000000633660","660","-","57","601","01530",2,"13701","09021370",8520,311,1,101262484]
[48202,"ПОЉОПРИВРЕДНА ШКОЛА ЛЕШАК","ЛЕПОСАВИЋ","840","-","0000001486660","660","-","14","601","02121",2,"13702","09018379",8532,311,1,101814893]
[48202,"ТЕХНИЧКА ШКОЛА НИКОЛА ТЕСЛА","ЛЕПОСАВИЋ","840","-","0000000721660","660","-","91","601","02122",2,"13702","09021388",8532,311,1,101262351]
[48202,"ВИСОКА ЕКОНОМСКА ШКОЛА СТРУКОВНИХ СТУДИЈА ПЕЋ СА ПРИВРЕМЕНИМ СЕДИШТЕМ У ЛЕПОСАВИЋУ","ЛЕПОСАВИЋ","840","-","0000001973660","660","-","28","601","02181",2,"13704","09009833",8542,311,1,102075918]
[48202,"УНИВЕРЗИТЕТ У ПРИШТИНИ - ПОЉОПРИВРЕДНИ ФАКУЛТЕТ","ЛЕПОСАВИЋ","840","-","0000001494660","660","-","70","601","02272",2,"13704","09018484",8542,311,1,102235862]
[48202,"УНИВЕРЗИТЕТ У ПРИШТИНИ - ФАКУЛТЕТ ЗА ФИЗИЧКУ КУЛТУРУ","ЛЕПОСАВИЋ","840","-","0000001235660","660","-","03","601","02308",2,"13704","09034285",8542,311,1,100017631]
[48202,"УНИВЕРЗИТЕТ У ПРИШТИНИ - УЧИТЕЉСКИ ФАКУЛТЕТ У ПРИЗРЕНУ","ЛЕПОСАВИЋ","840","-","0000001243660","660","-","59","601","02295",2,"13704","09231951",8542,311,1,101262118]
[48202,"ПЕЋКИ УПРАВНИ ОКРУГ","ПЕЋ","","-","","","-","","601","41127",1,"41127","17653750",8411,311,0,104236624]
[48202,"ОПШТИНА ЛЕПОСАВИЋ-БУЏЕТ","ЛЕПОСАВИЋ","840","-","0000000045640","640","-","75","311","09306",0,"09306","09021418",8411,311,0,102075707]
[48202,"СКУПШТИНА ОПШТИНЕ ЛЕПОСАВИЋ","ЛЕПОСАВИЋ","","-","","","-","","311","09307",1,"09307","09021418",8411,311,0,102140721]
[48202,"МЕСНА ЗАЈЕДНИЦА ЛЕШАК","ЛЕПОСАВИЋ","840","-","0000000237645","645","-","46","311","09317",2,"09308","09021442",8411,311,1,102953343]
[48202,"МЕСНА ЗАЈЕДНИЦА ЛЕПОСАВИЋ","ЛЕПОСАВИЋ","840","-","0000000317645","645","-","24","311","09316",2,"09308","09021469",8411,311,1,102953351]
[48202,"МЕСНА ЗАЈЕДНИЦА СОЧАНИЦА","ЛЕПОСАВИЋ","840","-","0000000369645","645","-","97","311","09318",2,"09308","09021477",8411,311,1,102951554]
[48202,"МЕСНА ЗАЈЕДНИЦА ВРАЧЕВО","ЛЕПОСАВИЋ","840","-","0000000101645","645","-","64","311","09315",2,"09308","09021485",8411,311,1,102953335]
[48202,"МЕСНА ЗАЈЕДНИЦА СРПСКА БИСТРИЦА","ЛЕПОСАВИЋ","840","-","0000000130645","645","-","73","311","09319",2,"09308","09021493",8411,311,1,102953319]
[48202,"МЕСНА ЗАЈЕДНИЦА БЕЛО БРДО","ЛЕПОСАВИЋ","840","-","0000001073645","645","-","78","311","09314",2,"09308","09021507",8411,311,1,102953327]
[48202,"ОДЕЛЕЊЕ ЗА ФИНАНСИРАЊЕ ДРУШТВЕНИХ ДЕЛАТНОСТИ","ЛЕПОСАВИЋ","","-","","","-","","311","09308",1,"09308","09021523",8411,311,0,102075688]
[48202,"ЈАВНО КОМУНАЛНО ПРЕДУЗЕЋЕ 24. НОВЕМБАР СА ПО","ЛЕПОСАВИЋ","840","-","0000000579641","641","-","27","311","09474",2,"09308","09031944",3600,311,1,100017615]
[48202,"ПРЕДШКОЛСКА УСТАНОВА НАША РАДОСТ","ЛЕПОСАВИЋ","840","-","0000000282661","661","-","22","311","09320",2,"09308","09040536",8891,311,1,101262239]
[48202,"ЦЕНТАР ЗА КУЛТУРУ САВА ДЕЧАНАЦ ЛЕПОСАВИЋ","ЛЕПОСАВИЋ","840","-","0000000290664","664","-","69","311","09323",2,"09308","09087753",8559,311,1,100017588]
[48202,"ЈП ДИРЕКЦИЈА ЗА ГРАЂЕВИНСКО ЗЕМЉИШТЕ И ПУТЕВЕ ОПШТИНЕ ЛЕПОСАВИЋ","ЛЕПОСАВИЋ","840","-","0000000578641","641","-","20","311","09473",2,"09308","09267581",4311,311,1,102075782]
[48202,"НАРОДНА БИБЛИОТЕКА СВЕТИ САВА","ЛЕПОСАВИЋ","840","-","0000000330664","664","-","58","311","09322",2,"09308","09272151",9101,311,1,101262298]
[48202,"УСТАНОВА ЗА ПРЕДШКОЛСКО ОБРАЗОВАЊЕ И ВАСПИТАЊЕ ВЕСЕЛО ДЕТИЊСТВО ЛЕСАК","ЛЕПОСАВИЋ","840","-","0000000713661","661","-","32","311","09585",2,"09308","09341820",8891,311,1,103382691]
[48202,"ПРЕДШКОЛСКА УСТАНОВА БАМБИ","ЛЕПОСАВИЋ","840","-","0000000795661","661","-","24","311","80279",2,"09308","17761234",8891,311,1,105813633]
[48202,"СПОРТСКО-ТУРИСТИЧКА ОРГАНИЗАЦИЈА ЛЕПОСАВИЋ","ЛЕПОСАВИЋ","840","-","0000001046664","664","-","26","311","80935",2,"09308","17820478",9311,311,1,107200633]
[48204,"ЦЕНТАР ЗА СОЦИЈАЛНИ РАД ЗУБИН ПОТОК","ЗУБИН ПОТОК","840","-","0000000360661","661","-","83","601","00338",2,"13400","09132287",8899,324,1,102105679]
[48204,"ОСНОВНА ШКОЛА ЈЕДИНСТВО ОСОЈАНЕ РАКОШ ЦРКОЛЕЗ","ЗУБИН ПОТОК","840","-","0000001479660","660","-","62","601","01533",2,"13701","09007954",8520,324,1,102105646]
[48204,"ОСНОВНА ШКОЛА ЈОВАН ЦВИЈИЋ","ЗУБИН ПОТОК","840","-","0000001165660","660","-","95","601","01534",2,"13701","09023526",8520,324,1,101526387]
[48204,"ОСНОВНА ШКОЛА БЛАГОЈЕ РАДИЋ ЗУПЧЕ","ЗУБИН ПОТОК","840","-","0000001483660","660","-","90","601","01532",2,"13701","09338071",8520,324,1,101526418]
[48204,"ОСНОВНА ШКОЛА ПЕТАР КОЧИЋ БРЊАК","ЗУБИН ПОТОК","840","-","0000001484660","660","-","97","601","01535",2,"13701","09338080",8520,324,1,101526215]
[48204,"ТЕХНИЧКА ШКОЛА ГЛИГОРИЈЕ БОЖОВИЋ","ЗУБИН ПОТОК","840","-","0000001112660","660","-","15","601","02123",2,"13702","09047689",8532,324,1,101526563]
[48204,"ОПШТИНА ЗУБИН ПОТОК-БУЏЕТ","ЗУБИН ПОТОК","840","-","0000000112640","640","-","59","324","09362",0,"09362","09047301",8411,324,0,101920489]
[48204,"МЕСНА ЗАЈЕДНИЦА РЕЗАЛА","ЗУБИН ПОТОК","","-","","","-","","324","10045",2,"09363","09024166",8411,324,1,104027749]
[48204,"МЕСНА ЗАЈЕДНИЦА БРЊАК","ЗУБИН ПОТОК","","-","","","-","","324","10030",2,"09363","09024182",8411,324,1,104030200]
[48204,"МЕСНА ЗАЈЕДНИЦА ЦРЕПУЉА","ЗУБИН ПОТОК","840","-","0000004036645","645","-","61","324","09868",2,"09363","09024204",8411,324,1,103826567]
[48204,"МЕСНА ЗАЈЕДНИЦА ЗУПЧЕ","ЗУБИН ПОТОК","","-","","","-","","324","09367",2,"09363","09024255",8411,324,1,104027757]
[48204,"МЕСНА ЗАЈЕДНИЦА ЗУБИН ПОТОК","ЗУБИН ПОТОК","","-","","","-","","324","09368",2,"09363","09024263",8411,324,1,104185292]
[48204,"МЕСНА ЗАЈЕДНИЦА ЛУЧКА РЕКА","ЗУБИН ПОТОК","840","-","0000004049645","645","-","55","324","09950",2,"09363","09024352",8411,324,1,104027781]
[48204,"МЕСНА ЗАЈЕДНИЦА БАЊЕ","ЗУБИН ПОТОК","","-","","","-","","324","10049",2,"09363","09032452",8411,324,1,104030218]
[48204,"МЕСНА ЗАЈЕДНИЦА БУБЕ","ЗУБИН ПОТОК","840","-","0000003880645","645","-","36","324","09366",2,"09363","09039996",8411,324,1,104027765]
[48204,"ОПШТИНСКА УПРАВА ЗУБИН ПОТОК","ЗУБИН ПОТОК","","-","","","-","","324","09363",1,"09363","09047514",8411,324,0,101920497]
[48204,"ЈАВНО ПРЕДУЗЕЋЕ КОМУНАЛНИХ ДЕЛАТНОСТИ ИБАР ЗУБИН ПОТОК","ЗУБИН ПОТОК","840","-","0000000705641","641","-","36","324","80232",2,"09363","09048707",3811,324,1,101526153]
[48204,"ПРЕДШКОЛСКА УСТАНОВА НАШЕ ДЕТЕ","ЗУБИН ПОТОК","840","-","0000000328661","661","-","53","324","09369",2,"09363","09048855",8891,324,1,101526207]
[48204,"УСТАНОВА ЗА КУЛТУРУ ДОМ КУЛТУРЕ СТАРИ КОЛАШИН ЗУБИН ПОТОК","ЗУБИН ПОТОК","840","-","0000000671664","664","-","20","324","09370",2,"09363","09247050",5819,324,1,101526522]
[48204,"ЈАВНО ПРЕДУЗЕЋЕ ДИРЕКЦИЈА ЗА ГРАЂЕВИНСКО ЗЕМЉИШТЕ, ПУТЕВЕ И РАЗВОЈ ВЕЉИ БРЕГ","ЗУБИН ПОТОК","840","-","0000000655641","641","-","74","324","10044",2,"09363","09267859",7112,324,1,101526395]
[48204,"СПОРТСКО РЕКРЕАТИВНИ ЦЕНТАР МОКРА ГОРА","ЗУБИН ПОТОК","840","-","0000001008664","664","-","51","324","80647",2,"09363","17771221",9311,324,1,106418896]
[48220,"ЦЕНТАР ЗА СОЦИЈАЛНИ РАД КОСОВСКА КАМЕНИЦА","ГЊИЛАНЕ","840","-","0000000679661","661","-","85","601","00339",2,"13400","09041397",8899,305,1,101920286]
[48220,"ОСНОВНА ШКОЛА МЛАДЕН МАРКОВИЋ ВИТИНА","ГЊИЛАНЕ","840","-","0000001350660","660","-","32","601","01097",2,"13701","09001646",8520,305,1,101920350]
[48220,"ОСНОВНА ШКОЛА БОРА СТАНКОВИЋ ПОЗАРАЊЕ","ГЊИЛАНЕ","","-","","","-","","601","01537",2,"13701","09001719",8520,305,1,101261985]
[48220,"ОСНОВНА ШКОЛА МАРКО РАЈКОВИЋ ВРБОВАЦ ВИТИНА","ГЊИЛАНЕ","840","-","0000001355660","660","-","67","601","01096",2,"13701","09001727",8520,305,1,101920341]
[48220,"ОСНОВНА ШКОЛА МИЛАДИН ПОПОВИЋ ЛЕТНИЦА ВИТИНА","ГЊИЛАНЕ","","-","","","-","","601","01541",2,"13701","09001735",8520,305,1,101261985]
[48220,"ОСНОВНА ШКОЛА ДЕСАНКА МАКСИМОВИЋ КОСОВСКА КАМЕНИЦА","ГЊИЛАНЕ","840","-","0000001328660","660","-","72","601","01091",2,"13701","09002359",8520,305,1,100018353]
[48220,"ОСНОВНА ШКОЛА БРАТСТВО СТРЕЗОВЦЕ","ГЊИЛАНЕ","840","-","0000001335660","660","-","24","601","01086",2,"13701","09002383",8520,305,1,100018265]
[48220,"ОСНОВНА ШКОЛА ВЕЉКО ДУГОШЕВИЋ РАНИЛУГ","ГЊИЛАНЕ","840","-","0000001332660","660","-","03","601","01087",2,"13701","09002391",8520,305,1,100018304]
[48220,"ОСНОВНА ШКОЛА 9. МАЈ КОЛОЛЕЧ","ГЊИЛАНЕ","840","-","0000001337660","660","-","38","601","01081",2,"13701","09002413",8520,305,1,101920421]
[48220,"ОСНОВНА ШКОЛА ТРАЈКО ПЕРИЋ ВЕЛИКО РОПОТОВО КОСОВСКА КАМЕНИЦА","ГЊИЛАНЕ","840","-","0000001330660","660","-","86","601","01105",2,"13701","09002421",8520,305,1,100018290]
[48220,"ОСНОВНА ШКОЛА ВУК КАРАЏИЋ ГЊИЛАНЕ","ГЊИЛАНЕ","840","-","0000001340660","660","-","59","601","01088",2,"13701","09003282",8520,305,1,102130412]
[48220,"ОСНОВНА ШКОЛА МИЛАДИН ПОПОВИЋ ПАСЈАНИ","ГЊИЛАНЕ","840","-","0000001938660","660","-","74","601","01543",2,"13701","09003312",8520,305,1,100055237]
[48220,"ОСНОВНА ШКОЛА ПЕТАР ПЕТРОВИЋ ЊЕГОШ ГОРЊЕ КУСЦЕ","ГЊИЛАНЕ","840","-","0000001339660","660","-","52","601","01100",2,"13701","09003347",8520,305,1,100055315]
[48220,"ОСНОВНА ШКОЛА ЈОВАН ЈОВАНОВИЋ-ЗМАЈ ЖЕГРА","ГЊИЛАНЕ","","-","","","-","","601","01095",2,"13701","09003355",8520,305,1,102316033]
[48220,"ОСНОВНА ШКОЛА ДОСИТЕЈ ОБРАДОВИЋ ПАРТЕШ","ГЊИЛАНЕ","840","-","0000001342660","660","-","73","601","01092",2,"13701","09003371",8520,305,1,100055212]
[48220,"ОСНОВНА ШКОЛА СВЕТИ САВА ЈАСЕНОВИК","ГЊИЛАНЕ","840","-","0000001365660","660","-","40","601","01101",2,"13701","09018093",8520,305,1,100055190]
[48220,"ОСНОВНА ШКОЛА ДОСИТЕЈ ОБРАДОВИЋ ПРЕКОВЦЕ","ГЊИЛАНЕ","840","-","0000001364660","660","-","33","601","01093",2,"13701","09018174",8520,305,1,100055132]
[48220,"ОСНОВНА ШКОЛА МИЛАДИН ПОПОВИЋ БОСТАНЕ","ГЊИЛАНЕ","840","-","0000001367660","660","-","54","601","01540",2,"13701","09018247",8520,305,1,100055085]
[48220,"МУЗИЧКА ШКОЛА СТЕВАН ХРИСТИЋ","ГЊИЛАНЕ","840","-","0000002111660","660","-","24","601","80693",2,"13701","09034340",8520,305,1,106432249]
[48220,"ОСНОВНА ШКОЛА ИВО АНДРИЋ ТРПЕЗА","ГЊИЛАНЕ","","-","","","-","","601","01539",2,"13701","09039325",8520,305,1,101261985]
[48220,"ОСНОВНА ШКОЛА БРАНКО РАДИЧЕВИЋ ЦЕРНИЦА","ГЊИЛАНЕ","840","-","0000001346660","660","-","04","601","01085",2,"13701","09045031",8520,305,1,100055270]
[48220,"ОСНОВНА ШКОЛА СВЕТИ САВА КЛОКОТ ВИТИНА","ГЊИЛАНЕ","840","-","0000001352660","660","-","46","601","01102",2,"13701","09095942",8520,305,1,101920430]
[48220,"ОСНОВНА ШКОЛА БОРА СТАНКОВИЋ КОРЕТИШТЕ","ГЊИЛАНЕ","840","-","0000001936660","660","-","60","601","01536",2,"13701","09130861",8520,305,1,100055261]
[48220,"ОСНОВНА ШКОЛА СВЕТИ САВА ПАРАЛОВО","ГЊИЛАНЕ","840","-","0000001348660","660","-","18","601","01103",2,"13701","09134905",8520,305,1,100055124]
[48220,"ТЕХНИЧКА ШКОЛА КОСОВСКА ВИТИНА СТАРИ ВРБОВАШ","ГЊИЛАНЕ","840","-","0000001325660","660","-","51","601","02016",2,"13702","09001743",8532,305,1,101920333]
[48220,"ГИМНАЗИЈА ГЊИЛАНЕ У ГОРЊЕМ КУСКУ","ГЊИЛАНЕ","840","-","0000001319660","660","-","09","601","01746",2,"13702","09003436",8531,305,1,100055366]
[48220,"ГИМНАЗИЈА ГЊИЛАНЕ","ГЊИЛАНЕ","","-","","","-","","601","01789",2,"13702","09003436",8531,305,1,100055366]
[48220,"ТЕХНИЧКА ШКОЛА ДРАГИ ПОПОВИЋ СТАРИ ПАРТЕЦ","ГЊИЛАНЕ","840","-","0000001323660","660","-","37","601","02014",2,"13702","09003444",8532,305,1,100055358]
[48220,"ЕКОНОМСКА ШКОЛА ГЊИЛАНЕ РАНИЛУГ","ГЊИЛАНЕ","840","-","0000001320660","660","-","16","601","02010",2,"13702","09028617",8532,305,1,100018177]
[48220,"ГИМНАЗИЈА У КОСОВСКОЈ КАМЕНИЦИ ВЕЛИКО РОПОТОВО","ГЊИЛАНЕ","840","-","0000001317660","660","-","92","601","01747",2,"13702","09233881",8531,305,1,100018361]
[48220,"ТЕХНИЧКА ШКОЛА КОСОВСКА КАМЕНИЦА  ВЕЛИКО РОПОТОВО","ГЊИЛАНЕ","840","-","0000001318660","660","-","02","601","02015",2,"13702","09233890",8532,305,1,100018224]
[48220,"МЕДИЦИНСКА ШКОЛА КОСОВСКА КАМЕНИЦА ВЕЛИКО РОПОТОВО","ГЊИЛАНЕ","840","-","0000001327660","660","-","65","601","02012",2,"13702","17684841",8532,305,1,105010176]
[48220,"КОСОВСКО-ПОМОРАВСКИ УПРАВНИ ОКРУГ","ГЊИЛАНЕ","","-","","","-","","601","41130",1,"41130","17582836",8411,305,0,104250877]
[48220,"РЕПУБЛИЧКИ ФОНД ЗА ЗДРАВСТВЕНО ОСИГУРАЊЕ - ФИЛИЈАЛА ГЊИЛАЊЕ","ГЊИЛАНЕ","840","-","0000000030650","650","-","37","601","02678",4,"95000","06042945",8430,305,0,101288707]
[48220,"ЗДРАВСТВЕНИ ЦЕНТАР ГЊИЛАНЕ","ГЊИЛАНЕ","840","-","0000000682661","661","-","09","601","02583",2,"95000","09003657",8610,305,3,101920376]
[48220,"АПОТЕКА ГЊИЛАНЕ У ГЊИЛАНУ","ГЊИЛАНЕ","840","-","0000000681661","661","-","02","601","02647",2,"95000","09271368",4773,305,3,101262062]
[48220,"ОПШТИНА ВИТИНА-БУЏЕТ","ГЊИЛАНЕ","840","-","0000000174640","640","-","08","321","09350",0,"09350","09001891",8411,321,0,102130507]
[48220,"ОПШТИНСКА УПРАВА ВИТИНА","ГЊИЛАНЕ","","-","","","-","","321","09351",1,"09351","09002014",8411,321,0,102130507]
[48220,"ПРИВРЕМЕНИ ОРГАН ОПШТИНЕ КОСОВСКА КАМЕНИЦА","ГЊИЛАНЕ","840","-","0000000176640","640","-","22","309","09289",0,"09289","09002545",8411,309,0,100018193]
[48220,"ОПШТИНСКА УПРАВА - КОСОВСКА КАМЕНИЦА","ГЊИЛАНЕ","","-","","","-","","309","09290",1,"09290","09002715",8411,309,0,100018193]
[48220,"ПРЕДШКОЛСКА УСТАНОВА ПЧЕЛИЦА МАЈА КОСОВСКА КАМЕНИЦА","ГЊИЛАНЕ","840","-","0000000678661","661","-","78","309","09291",2,"09290","09036458",8891,309,1,100018415]
[48220,"ОПШТИНА ГЊИЛАНЕ-БУЏЕТ","ГЊИЛАНЕ","840","-","0000000173640","640","-","98","305","09277",0,"09277","09003738",8411,305,0,100055036]
[48220,"МЕСНА ЗАЈЕДНИЦА ПАРАЛОВО","ГЊИЛАНЕ","840","-","0000003839645","645","-","40","305","09281",2,"09278","09003827",8411,305,1,102316041]
[48220,"МЕСНА ЗАЈЕДНИЦА ГОРЊЕ КУСЦЕ","ГЊИЛАНЕ","840","-","0000003837645","645","-","26","305","09284",2,"09278","09003851",8411,305,1,105905251]
[48220,"ОПШТИНСКА УПРАВА ГЊИЛАНЕ","ГЊИЛАНЕ","","-","","","-","","305","09278",1,"09278","09003983",8411,305,0,100055036]
[48220,"НАРОДНА БИБЛИОТЕКА ЈАНКО ВЕСЕЛИНОВИЋ","ГЊИЛАНЕ","840","-","0000000641664","664","-","04","305","09285",2,"09278","09042806",9101,305,1,102316189]
[48220,"МЕСНА ЗАЈЕДНИЦА СТАНИШОР","ГЊИЛАНЕ","840","-","0000003838645","645","-","33","305","09283",2,"09278","09268243",8411,305,1,102130437]
[48220,"ЈП ДИРЕКЦИЈА ЗА ГРАЂЕВИНСКО ЗЕМЉИШТЕ, ПУТЕВЕ И ИЗГРАДЊУ ГЊИЛАНЕ - ШИЛОВО","ШИЛОВО","840","-","0000001219664","664","-","73","305","63119",2,"09278","09269762",7111,305,1,109949608]
[48220,"ПРЕДШКОЛСКА УСТАНОВА КОЛИБРИ КОРЕТИШТЕ","ГЊИЛАНЕ","840","-","0000000823661","661","-","26","305","80903",2,"09278","17815385",8510,305,1,106973899]
[48220,"ПРЕДШКОЛСКА УСТАНОВА ЂУРЂЕВАК ВИТИНА","ГЊИЛАНЕ","840","-","0000000827661","661","-","54","305","80911",2,"09278","17816039",8510,305,1,107022783]
[48220,"КУЛТУРНО ПРОСВЕТНИ ЦЕНТАР БОЖИДАР МИТРОВИЋ - ШАНДОР","ГЊИЛАНЕ","840","-","0000001043664","664","-","05","305","80925",2,"09278","17817248",9003,305,1,107043019]
[48230,"КУЛТУРНО ПРОСВЕТНА ЗАЈЕДНИЦА КОСОВА И МЕТОХИЈЕ ГРАЧАНИЦА","ПРИШТИНА","840","-","0000000735664","664","-","80","601","02362",2,"11801","09018824",8559,316,1,102494095]
[48230,"АНСАМБЛ НАРОДНИХ ИГАРА И ПЕСАМА КОСОВА И МЕТОХИЈЕ ВЕНАЦ ЧАГЛАВИЦА","ПРИШТИНА","840","-","0000000562664","664","-","33","601","02366",2,"11801","09018859",9004,316,1,102631063]
[48230,"ЦЕНТАР ЗА СОЦИЈАЛНИ РАД ПРИШТИНА, ОБИЛИЋ И КОСОВО ПОЉЕ","ПРИШТИНА","840","-","0000000714661","661","-","39","601","09608",2,"13400","09019154",8899,316,1,103435162]
[48230,"ОСНОВНА ШКОЛА ЈЕДИНСТВО БАБЉАК","ПРИШТИНА","","-","","","-","","601","09667",2,"13701","09000445",8520,316,1,103565413]
[48230,"ОСНОВНА ШКОЛА БРАЋА  АКСИЋ ЛИПЉАН","ПРИШТИНА","840","-","0000001949660","660","-","54","601","01545",2,"13701","09014977",8520,316,1,102004344]
[48230,"ОСНОВНА ШКОЛА КНЕЗ ЛАЗАР ДОЊА ГУШТЕРИЦА","ПРИШТИНА","840","-","0000001950660","660","-","61","601","01551",2,"13701","09015019",8520,316,1,100055518]
[48230,"ОСНОВНА ШКОЛА ВЛАДИМИР НАЗОР ЈАЊЕВО","ПРИШТИНА","840","-","0000001948660","660","-","47","601","01546",2,"13701","09015043",8520,316,1,102140684]
[48230,"ОСНОВНА ШКОЛА ВУК КАРАЂИЋ ЛЕПИНА","ПРИШТИНА","840","-","0000001946660","660","-","33","601","01547",2,"13701","09015051",8520,316,1,102140893]
[48230,"ОСНОВНА ШКОЛА АЦА МАРОВИЋ КОСОВО ПОЉЕ","ПРИШТИНА","840","-","0000001957660","660","-","13","601","01555",2,"13701","09017917",8520,316,1,100055479]
[48230,"ОСНОВНА ШКОЛА ДОСИТЕЈ ОБРАДОВИЋ ЦРКВЕНЕ ВОДИЦЕ ОБИЛИЋ","ПРИШТИНА","840","-","0000001945660","660","-","26","601","01550",2,"13701","09017984",8520,316,1,101262521]
[48230,"ОСНОВНА ШКОЛА ДЕСАНКА МАКСИМОВИЋ ЛАБЉАНЕ СО НОВО БРДО","ПРИШТИНА","840","-","0000001368660","660","-","61","601","01538",2,"13701","09017992",8520,316,1,100055085]
[48230,"ОСНОВНА ШКОЛА БРАНКО РАДИЧЕВИЋ ОБИЛИЋ","ПРИШТИНА","840","-","0000001952660","660","-","75","601","01544",2,"13701","09018123",8520,316,1,101262589]
[48230,"ОСНОВНА ШКОЛА КРАЉ МИЛУТИН","ПРИШТИНА","840","-","0000001941660","660","-","95","601","01552",2,"13701","09018166",8520,316,1,100055542]
[48230,"ОСНОВНА ШКОЛА ДИМИТРИЈЕ ПРИЦА","ПРИШТИНА","840","-","0000001953660","660","-","82","601","01549",2,"13701","09018212",8520,316,1,102004377]
[48230,"ОСНОВНА ШКОЛА МИЛАДИН МИТИЋ","ПРИШТИНА","840","-","0000001937660","660","-","67","601","01553",2,"13701","09018255",8520,316,1,100055399]
[48230,"ОСНОВНА МУЗИЧКА ШКОЛА СТЕВАН МОКРАЊАЦ","ПРИШТИНА","840","-","0000001931660","660","-","25","601","01661",2,"13701","09018298",8532,316,1,101262652]
[48230,"ОСНОВНА ШКОЛА ВУК КАРАЏИЋ КОСОВО ПОЉЕ","ПРИШТИНА","840","-","0000001959660","660","-","27","601","01548",2,"13701","09048308",8520,316,1,102001756]
[48230,"ОСНОВНА ШКОЛА МИЛАН РАКИЋ БАБИН МОСТ - ОБИЛИЋ","ПРИШТИНА","840","-","0000001956660","660","-","06","601","01554",2,"13701","09097716",8520,316,1,101262644]
[48230,"ОСНОВНА ШКОЛА УГЉАРЕ УГЉАРЕ","ПРИШТИНА","840","-","0000001944660","660","-","19","601","01558",2,"13701","09269550",8520,316,1,102003995]
[48230,"ОСНОВНА ШКОЛА СВЕТИ САВА СУШИЦА","ПРИШТИНА","840","-","0000001934660","660","-","46","601","01557",2,"13701","09272887",8520,316,1,100055534]
[48230,"ОСНОВНА ШКОЛА СВЕТИ САВА ОБИЛИЋ","ПРИШТИНА","840","-","0000001958660","660","-","20","601","01556",2,"13701","09341137",8520,316,1,101262628]
[48230,"ГРАЂЕВИНСКО-САОБРАЋАЈНА ШКОЛА ПРИШТИНА","ПРИШТИНА","840","-","0000001955660","660","-","96","601","02124",2,"13702","09018301",8532,316,1,101464055]
[48230,"МЕДИЦИНСКА ШКОЛА ПРИШТИНА","ПРИШТИНА","840","-","0000001963660","660","-","55","601","02128",2,"13702","09018310",8532,316,1,100055850]
[48230,"ГИМНАЗИЈА ИВО ЛОЛА РИБАР ПРИШТИНА","ПРИШТИНА","840","-","0000001935660","660","-","53","601","01790",2,"13702","09018328",8531,316,1,100055446]
[48230,"ТЕХНИЧКА ШКОЛА НИКОЛА ТЕСЛА ПРИШТИНА","ПРИШТИНА","840","-","0000001960660","660","-","34","601","02130",2,"13702","09018344",8532,316,1,101262530]
[48230,"ЕКОНОМСКО-ТРГОВИНСКА ШКОЛА  ПРИШТИНА","ПРИШТИНА","840","-","0000001939660","660","-","81","601","02125",2,"13702","09018387",8532,316,1,101262757]
[48230,"МАШИНСКА ШКОЛА СУШИЦА - ГРАЧАНИЦА","ПРИШТИНА","840","-","0000001951660","660","-","68","601","02127",2,"13702","09029141",8532,316,1,100055727]
[48230,"ЕЛЕКТРОТЕХНИЧКА ШКОЛА МИЛАДИН ПОПОВИЋ ПРИШТИНА","ПРИШТИНА","840","-","0000001947660","660","-","40","601","02126",2,"13702","09034692",8532,316,1,100055817]
[48230,"ПОЉОПРИВРЕДНА ШКОЛА ПРИШТИНА","ПРИШТИНА","840","-","0000001954660","660","-","89","601","02129",2,"13702","09210903",8532,316,1,101262749]
[48230,"КОСОВСКИ УПРАВНИ ОКРУГ","ПРИШТИНА","","-","","","-","","601","41126",1,"41126","09340025",8411,316,0,101464098]
[48230,"РЕПУБЛИЧКИ ФОНД ЗА ЗДРАВСТВЕНО ОСИГУРАЊЕ ФИЛИЈАЛА ГРАЧАНИЦА","ГРАЧАНИЦА","840","-","0000000029650","650","-","30","601","02679",4,"95000","06042945",8430,316,0,101288707]
[48230,"ЗДРАВСТВЕНИ ЦЕНТАР ПРИЗРЕН","ПРИЗРЕН","840","-","0000000754661","661","-","28","601","80146",2,"95000","09006907",8610,316,3,104871593]
[48230,"ЗДРАВСТВЕНИ ЦЕНТАР РАДОВАН БУЛАТОВИЋ ПЕЋ","ПЕЋ","840","-","0000000758661","661","-","56","601","80150",2,"95000","09010025",8610,316,3,104871608]
[48230,"СПЕЦИЈАЛНА БОЛНИЦА ЗА ПЛУЋНЕ БОЛЕСТИ ПЕЋ","ПЕЋ","840","-","0000000759661","661","-","63","601","80151",2,"95000","09010068",8690,316,3,104871536]
[48230,"ДОМ ЗДРАВЉА ПРИШТИНА","ПРИШТИНА","840","-","0000000763661","661","-","91","601","80155",2,"95000","09019014",8621,316,3,104871510]
[48230,"ЗАВОД ЗА СПЕЦИЈАЛИЗОВАНУ  РЕХАБИЛИТАЦИЈУ ИСТОК","ИСТОК","840","-","0000000762661","661","-","84","601","80154",2,"95000","09030344",8690,316,3,104871528]
[48230,"КЛИНИЧКО БОЛНИЧКИ ЦЕНТАР ПРИШТИНА","ПРИШТИНА","840","-","0000000695661","661","-","03","601","02582",2,"95000","09181814",8610,316,3,102493090]
[48230,"ДОМ ЗДРАВЉА ДРАГАШ","ГОРА","840","-","0000000755661","661","-","35","601","80147",2,"95000","09271082",8621,316,3,104871577]
[48230,"ЗДРАВСТВЕНИ ЦЕНТАР ЂАКОВИЦА","ЂАКОВИЦА","840","-","0000000760661","661","-","70","601","80152",2,"95000","09271694",8610,316,3,104871552]
[48230,"ДОМ ЗДРАВЉА ИСТОК","ИСТОК","840","-","0000000757661","661","-","49","601","80149",2,"95000","09271988",8621,316,3,104871585]
[48230,"АПОТЕКАРСКА УСТАНОВА ПРИШТИНА","ПРИШТИНА","840","-","0000000753661","661","-","21","601","80145",2,"95000","09271996",4773,316,3,104872842]
[48230,"АПОТЕКАРСКА УСТАНОВА ПРИЗРЕН","ПРИЗРЕН","840","-","0000000756661","661","-","42","601","80148",2,"95000","09272526",4773,316,3,104871544]
[48230,"ДОМ ЗДРАВЉА КОСОВО ПОЉЕ","ПРИШТИНА","840","-","0000000685661","661","-","30","601","02518",2,"95000","09338268",8621,316,3,102140844]
[48230,"ДОМ ЗДРАВЉА ГРАЧАНИЦА","ПРИШТИНА","840","-","0000000684661","661","-","23","601","02516",2,"95000","09338276",8621,316,3,102537439]
[48230,"ДОМ ЗДРАВЉА ДОЊА ГУШТЕРИЦА","ПРИШТИНА","840","-","0000000686661","661","-","37","601","02517",2,"95000","09338462",8621,316,3,102004221]
[48230,"АПОТЕКАРСКА УСТАНОВА ПЕЋ","ПЕЋ","840","-","0000000761661","661","-","77","601","80153",2,"95000","09342281",4773,316,3,104871569]
[48230,"ОПШТИНА НОВО БРДО-БУЏЕТ","ПРИШТИНА","840","-","0000000175640","640","-","15","329","09383",0,"09383","09052852",8411,329,0,100055340]
[48230,"ДОМ КУЛТУРЕ КОСОВО ПОЉЕ","ПРИШТИНА","840","-","0000001040664","664","-","81","328","80918",2,"09330","09018905",5914,328,1,106291445]
[48230,"ПРЕДШКОЛСКА УСТАНОВА НАША РАДОСТ КОСОВО ПОЉЕ","ПРИШТИНА","840","-","0000000687661","661","-","44","328","09335",2,"09330","09125418",8891,328,1,102140764]
[48230,"ЈАВНО КОМУНАЛНО ПРЕДУЗЕЋЕ ЕКОЛОГ КОСОВО ПОЉЕ","ПРИШТИНА","840","-","0000000745641","641","-","25","328","80659",2,"09330","09257438",3811,328,1,104918037]
[48230,"ОПШТИНА КОСОВО ПОЉЕ-БУЏЕТ","ПРИШТИНА","840","-","0000000177640","640","-","29","328","09381",0,"09381","09052020",8411,328,0,102140748]
[48230,"ПРИВРЕМЕНИ ОРГАН ОПШТИНЕ КОСОВО ПОЉЕ - ОПШТИНСКА УПРАВА","УГЉАРЕ","","-","","","-","","328","62309",1,"62309","09052020",8411,328,0,102140748]
[48230,"ОПШТИНСКА НАРОДНА БИБЛИОТЕКА КОСОВО ПОЉЕ","УГЉАРЕ","840","-","0000001214664","664","-","38","328","62323",2,"62309","17889648",9101,328,1,109604590]
[48230,"ЈАВНО КОМУНАЛНО ПРЕДУЗЕЋЕ ОБИЛИЋ","ОБИЛИЋ","840","-","0000000608641","641","-","36","327","09584",2,"09330","09067353",3811,327,1,103373971]
[48230,"ДИРЕКЦИЈА ЗА ИЗГРАДЊУ ОБИЛИЋА","ОБИЛИЋ","","-","","","-","","327","09567",2,"09330","09261648",3811,327,1,103297964]
[48230,"КУЛТУРНО-ИНФОРМАТИВНО-СПОРТСКИ ЦЕНТАР ОБИЛИЋ, ПЛЕМЕТИНА, ОБИЛИЋ","ОБИЛИЋ","840","-","0000000958664","664","-","89","327","80224",2,"09330","17688375",9004,327,1,105346178]
[48230,"ПРИВРЕМЕНИ ОРГАН ОПШТИНЕ ОБИЛИЋ","ОБИЛИЋ","840","-","0000000187640","640","-","02","327","09379",0,"09379","09051759",8411,327,0,102494923]
[48230,"ГРАД ПРИШТИНА-БУЏЕТ","ПРИШТИНА","840","-","0000000172640","640","-","91","316","09329",0,"09329","09019251",8411,316,0,100055622]
[48230,"ЈАВНО ГРАДСКО САОБРАЋАЈНО ПРЕДУЗЕЋЕ ПРИШТИНА","ПРИШТИНА","840","-","0000000721641","641","-","51","316","80326",2,"09330","09017429",4931,316,1,103755611]
[48230,"ЈАВНО КОМУНАЛНО ПРЕДУЗЕЋЕ РЕГИОНАЛНИ ВОДОВОД И КАНАЛИЗАЦИЈА ПРИШТИНА","ПРИШТИНА","840","-","0000000663641","641","-","33","316","10059",2,"09330","09017712",3600,316,1,104110253]
[48230,"НАРОДНА БИБЛИОТЕКА ГРАЧАНИЦА","ПРИШТИНА","840","-","0000000642664","664","-","11","316","03794",2,"09330","09018735",9101,316,1,100055663]
[48230,"ЗАВОД ЗА ЗАШТИТУ СПОМЕНИКА КУЛТУРЕ ГРАДА ПРИШТИНЕ","ПРИШТИНА","840","-","0000000988664","664","-","08","316","80361",2,"09330","09018778",9103,316,1,105991090]
[48230,"ПРЕДШКОЛСКА УСТАНОВА ЂУРЂЕВАК ПРИШТИНА","ПРИШТИНА","840","-","0000000688661","661","-","51","316","09334",2,"09330","09019090",8891,316,1,102140965]
[48230,"ОПШТИНСКА УПРАВА ПРИШТИНА","ПРИШТИНА","","-","","","-","","316","09330",1,"09330","09019855",8411,316,0,100055614]
[48230,"ЈАВНО СТАМБЕНО ПРЕДУЗЕЋЕ ПРИШТИНА","ПРИШТИНА","840","-","0000000687641","641","-","07","316","80072",2,"09330","09020101",4391,316,1,102597904]
[48230,"КУЛТУРНО ПРОСВЕТНИ ЦЕНТАР ГРАДА ПРИШТИНЕ","ПРИШТИНА","840","-","0000001012664","664","-","79","316","80668",2,"09330","09026444",9003,316,1,106282433]
[48230,"ЈАВНО КОМУНАЛНО ПРЕДУЗЕЋЕ ЗА ТОПЛИФИКАЦИЈУ ТЕРМОКОС","ПРИШТИНА","840","-","0000000662641","641","-","26","316","10058",2,"09330","09031421",3530,316,1,104110261]
[48230,"ПОЗОРИШТЕ МЛАДИХ СА ДЕЧИЈОМ И ЛУТКАРСКОМ СЦЕНОМ","ПРИШТИНА","840","-","0000001055664","664","-","89","316","80969",2,"09330","09046518",9001,316,1,107398262]
[48230,"ДОМ КУЛТУРЕ ГРАЧАНИЦА","ПРИШТИНА","840","-","0000000640664","664","-","94","316","09336",2,"09330","09056688",8559,316,1,100055606]
[48230,"ЈАВНА УСТАНОВА МАРКЕТИНГ СПОРТ","ПРИШТИНА","840","-","0000001052664","664","-","68","316","80950",2,"09330","09126538",9311,316,1,103109270]
[48230,"ЈАВНО КОМУНАЛНО ПРЕДУЗЕЋЕ КОМУНАЛАЦ ПРИШТИНА","ПРИШТИНА","840","-","0000000692641","641","-","42","316","80104",2,"09330","09232141",3811,316,1,104653283]
[48230,"ГРАДСКА СТАМБЕНА АГЕНЦИЈА ПРИШТИНА","ПРИШТИНА","840","-","0000000449644","644","-","78","316","09332",2,"09330","09267158",6499,316,1,101262601]
[48230,"УСТАНОВА ЗА ПРЕДШКОЛСКО ОБРАЗОВАЊЕ КОСОВСКИ БОЖУР ПЛЕМЕТИНА-ОБИЛИЋ","ПРИШТИНА","840","-","0000000744661","661","-","55","316","80120",2,"09330","17667459",8891,316,1,104815818]
[48230,"ЈАВНО ПРЕДУЗЕЋЕ ГРАДСКА СТАМБЕНА АГЕНЦИЈА ПРИШТИНА","ПРИШТИНА","840","-","0000000792641","641","-","63","316","91969",2,"09330","20969610",4120,316,1,108289881]
[48230,"ЈАВНО ПРЕДУЗЕЋЕ ЗА ПРИКАЗИВАЊЕ ФИЛМОВА И ОРГАНИЗОВАЊЕ МАНИФЕСТАЦУЈА ОД ЗНАЧАЈА ЗА ГРАД ПРИШТИНУ","ПРИШТИНА","840","-","0000000766641","641","-","75","316","80970",2,"09331","09018913",5914,316,1,107414310]
[48230,"ОПШТИНА ПОДУЈЕВО-БУЏЕТ","ПРИШТИНА","840","-","0000000209640","640","-","59","315","09327",0,"09327","09032762",8411,315,0,102475424]
[48230,"ДОМ КУЛТУРЕ ЛИПЉАН","ПРИШТИНА","840","-","0000000866664","664","-","27","312","09625",2,"09324","09015086",9003,312,1,103488776]
[48230,"ОПШТИНСКА УПРАВА ЛИПЉАН","ПРИШТИНА","","-","","","-","","312","09324",1,"09324","09015116",8411,312,0,102004109]
[48230,"ЈАВНО КОМУНАЛНО ПРЕДУЗЕЋЕ БРАТСТВО СА ПО ЛИПЉАН","ПРИШТИНА","","-","","","-","","312","80899",2,"09324","09029478",3811,312,1,106120557]
[48230,"ЈАВНО ПРЕДУЗЕЋЕ ДИРЕКЦИЈА ЗА ГРАЂЕВИНСКО ЗЕМЉИШТЕ И ИЗГРАДЊУ","ЛИПЉАН","840","-","0000000799641","641","-","15","312","93782",2,"09324","09267077",4312,312,1,103060077]
[48230,"ОПШТИНА ЛИПЉАН-БУЏЕТ","ПРИШТИНА","840","-","0000000178640","640","-","36","312","09328",0,"09328","09015108",8411,312,0,102004109]
[48230,"ПРЕДШКОЛСКА УСТАНОВА СУНЦЕ ЛИПЉАН","ПРИШТИНА","840","-","0000000704661","661","-","66","312","09333",2,"09330","09027220",8891,312,1,102537471]
[48230,"ОПШТИНА ГЛОГОВАЦ-БУЏЕТ","ПРИШТИНА","840","-","0000000208640","640","-","52","304","09276",0,"09276","09014284",8411,304,0,100623493]
[48270,"ЦЕНТАР ЗА СОЦИЈАЛНИ РАД ШТРПЦЕ","ШТРПЦЕ","840","-","0000000680661","661","-","92","601","00340",2,"13400","09090738",8899,326,1,100056199]
[48270,"ОСНОВНА ШКОЛА СТАЈА МАРКОВИЋ","ШТРПЦЕ","840","-","0000001930660","660","-","18","601","01560",2,"13701","09000399",8520,326,1,100055956]
[48270,"ОСНОВНА ШКОЛА ШАРСКИ ОДРЕД","ШТРПЦЕ","840","-","0000001932660","660","-","32","601","01561",2,"13701","09000437",8520,326,1,100056439]
[48270,"ОСНОВНА ШКОЛА 25. МАЈ ВРАНИШТЕ ГОРА","ШТРПЦЕ","840","-","0000002091660","660","-","78","601","80125",2,"13701","09004564",8520,326,1,104740957]
[48270,"ШКОЛА ЗА ОСНОВНО ОБРАЗОВАЊЕ ОДРАСЛИХ РАДНИЧКИ УНИВЕРЗИТЕТ ПРИШТИНА-СЕДИШТЕ У ШТРПЦУ","ШТРПЦЕ","840","-","0000001985660","660","-","15","601","01671",2,"13701","09018794",8559,326,1,100056061]
[48270,"ОСНОВНА ШКОЛА 29. НОВЕМБАР ШТИМЉЕ","ШТРПЦЕ","","-","","","-","","601","01508",2,"13701","09023623",8520,326,1,102199748]
[48270,"ОСНОВНА ШКОЛА РАЈКО УРОШЕВИЋ","ШТРПЦЕ","840","-","0000001933660","660","-","39","601","01559",2,"13701","09084452",8520,326,1,100056115]
[48270,"ЕКОНОМСКО-ТУРИСТИЧКА ШКОЛА ДРАГАШ ГОРА","ШТРПЦЕ","840","-","0000002090660","660","-","71","601","80124",2,"13702","09004599",8532,331,1,104757876]
[48270,"ЕКОНОМСКО-ТРГОВИНСКА ШКОЛА ЈОВАН ЦВИЈИЋ","ШТРПЦЕ","840","-","0000001943660","660","-","12","601","02131",2,"13702","09073728",8532,326,1,100056012]
[48270,"ПРИЗРЕНСКИ УПРАВНИ ОКРУГ","ШТРПЦЕ","","-","","","-","","601","41128",1,"41128","09340033",8411,326,0,104213206]
[48270,"ДОМ ЗДРАВЉА ШТРПЦЕ","ШТРПЦЕ","840","-","0000000683661","661","-","16","601","02519",2,"95000","09338454",8621,326,3,100056140]
[48270,"ОПШТИНА ШТРПЦЕ-БУЏЕТ","ШТРПЦЕ","840","-","0000000171640","640","-","84","326","09372",0,"09372","09048901",8411,326,0,100056029]
[48270,"ОПШТИНСКА УПРАВА ШТРПЦЕ","ШТРПЦЕ","","-","","","-","","326","09373",1,"09373","09048901",8411,326,0,100056029]
[48270,"ДОМ КУЛТУРЕ СВЕТИ САВА  ШТРПЦЕ","ШТРПЦЕ","840","-","0000000643664","664","-","18","326","09377",2,"09373","09049339",8559,326,1,100055972]
[48270,"НОВО ЈАВНО КОМУНАЛНО ПРЕДУЗЕЋЕ ШТРПЦЕ","ШТРПЦЕ","840","-","0000000755641","641","-","95","326","80839",2,"09373","09085211",3811,326,1,100056262]
[48270,"МЕСНА ЗАЈЕДНИЦА БРЕЗОВИЦА","ШТРПЦЕ","840","-","0000003836645","645","-","19","326","09376",2,"09373","09103406",8411,326,1,103054486]
[48270,"ЈАВНО ПРЕДУЗЕЋЕ ШАР ПЛАНИНА ШТРПЦЕ","ШТРПЦЕ","","-","","","-","","326","80340",2,"09373","09214941",210,326,1,100056131]
[48270,"ЈАВНО ПРЕДУЗЕЋЕ ЗА ГРАЂЕВИНСКО ЗЕМЉИШТЕ И ПУТЕВЕ ШТРПЦЕ","ШТРПЦЕ","840","-","0000000754641","641","-","88","326","80835",2,"09373","09270078",4311,326,1,100055997]
[48270,"ДЕЧИЈИ ВРТИЋ ШАРСКО ЛАНЕ","ШТРПЦЕ","840","-","0000000776661","661","-","85","326","80196",2,"09373","17713809",8510,326,1,105207129]
[48270,"ОПШТИНА ШТИМЉЕ-БУЏЕТ","ШТРПЦЕ","840","-","0000000214640","640","-","94","325","09371",0,"09371","09048693",8411,325,0,102474903]
[48270,"ОПШТИНА УРОШЕВАЦ-БУЏЕТ","ШТРПЦЕ","840","-","0000000212640","640","-","80","320","09349",0,"09349","09000755",8411,320,0,102536085]
[48270,"ОПШТИНА КАЧАНИК-БУЏЕТ","ШТРПЦЕ","840","-","0000000213640","640","-","87","307","09287",0,"09287","09001379",8411,307,0,102474899]
[null,null,null,null,null,null,null,null,null,null,"xxx",null,null,"xxx"]